Workbook

Sheet Tabelle1
A1: ----> Num | C1: Dz | D1: Col | F1: DZ W/L | G1: COL W/L | I1: W/L | K1: Total
B2: 1 | C2: =IF(B2="","",VLOOKUP(B2,Tabelle2!$A$2:$B$38,2,0)) -> 1 | D2: =IF(B2="","",VLOOKUP(B2,Tabelle2!$D$2:$E$38,2,0)) -> 1 | M2: Max | N2: =IF(B2="","",MAX(K3:K600)) -> 11
B3: 2 | C3: =IF(B3="","",VLOOKUP(B3,Tabelle2!$A$2:$B$38,2,0)) -> 1 | D3: =IF(B3="","",VLOOKUP(B3,Tabelle2!$D$2:$E$38,2,0)) -> 2 | F3: =IF(B3="","",IF(B2=0,0,IF(C3=C2,2,-1))) -> 2 | G3: =IF(B3="","",IF(B2=0,0,IF(D3=D2,2,-1))) -> -1 | I3: =IF(B3="","",F3+G3) -> 1 | K3: =IF(B3="","",K2+I3) -> 1 | M3: Min | N3: =IF(B2="","",MIN(K2:K600)) -> 1
B4: 3 | C4: =IF(B4="","",VLOOKUP(B4,Tabelle2!$A$2:$B$38,2,0)) -> 1 | D4: =IF(B4="","",VLOOKUP(B4,Tabelle2!$D$2:$E$38,2,0)) -> 3 | F4: =IF(B4="","",IF(B3=0,0,IF(C4=C3,2,-1))) -> 2 | G4: =IF(B4="","",IF(B3=0,0,IF(D4=D3,2,-1))) -> -1 | I4: =IF(B4="","",F4+G4) -> 1 | K4: =IF(B4="","",K3+I4) -> 2
B5: 6 | C5: =IF(B5="","",VLOOKUP(B5,Tabelle2!$A$2:$B$38,2,0)) -> 1 | D5: =IF(B5="","",VLOOKUP(B5,Tabelle2!$D$2:$E$38,2,0)) -> 3 | F5: =IF(B5="","",IF(B4=0,0,IF(C5=C4,2,-1))) -> 2 | G5: =IF(B5="","",IF(B4=0,0,IF(D5=D4,2,-1))) -> 2 | I5: =IF(B5="","",F5+G5) -> 4 | K5: =IF(B5="","",K4+I5) -> 6
B6: 11 | C6: =IF(B6="","",VLOOKUP(B6,Tabelle2!$A$2:$B$38,2,0)) -> 1 | D6: =IF(B6="","",VLOOKUP(B6,Tabelle2!$D$2:$E$38,2,0)) -> 2 | F6: =IF(B6="","",IF(B5=0,0,IF(C6=C5,2,-1))) -> 2 | G6: =IF(B6="","",IF(B5=0,0,IF(D6=D5,2,-1))) -> -1 | I6: =IF(B6="","",F6+G6) -> 1 | K6: =IF(B6="","",K5+I6) -> 7
B7: 23 | C7: =IF(B7="","",VLOOKUP(B7,Tabelle2!$A$2:$B$38,2,0)) -> 2 | D7: =IF(B7="","",VLOOKUP(B7,Tabelle2!$D$2:$E$38,2,0)) -> 2 | F7: =IF(B7="","",IF(B6=0,0,IF(C7=C6,2,-1))) -> -1 | G7: =IF(B7="","",IF(B6=0,0,IF(D7=D6,2,-1))) -> 2 | I7: =IF(B7="","",F7+G7) -> 1 | K7: =IF(B7="","",K6+I7) -> 8
B8: 1 | C8: =IF(B8="","",VLOOKUP(B8,Tabelle2!$A$2:$B$38,2,0)) -> 1 | D8: =IF(B8="","",VLOOKUP(B8,Tabelle2!$D$2:$E$38,2,0)) -> 1 | F8: =IF(B8="","",IF(B7=0,0,IF(C8=C7,2,-1))) -> -1 | G8: =IF(B8="","",IF(B7=0,0,IF(D8=D7,2,-1))) -> -1 | I8: =IF(B8="","",F8+G8) -> -2 | K8: =IF(B8="","",K7+I8) -> 6 | M8: Just add your number in the green line B2:B600
B9: 2 | C9: =IF(B9="","",VLOOKUP(B9,Tabelle2!$A$2:$B$38,2,0)) -> 1 | D9: =IF(B9="","",VLOOKUP(B9,Tabelle2!$D$2:$E$38,2,0)) -> 2 | F9: =IF(B9="","",IF(B8=0,0,IF(C9=C8,2,-1))) -> 2 | G9: =IF(B9="","",IF(B8=0,0,IF(D9=D8,2,-1))) -> -1 | I9: =IF(B9="","",F9+G9) -> 1 | K9: =IF(B9="","",K8+I9) -> 7
B10: 5 | C10: =IF(B10="","",VLOOKUP(B10,Tabelle2!$A$2:$B$38,2,0)) -> 1 | D10: =IF(B10="","",VLOOKUP(B10,Tabelle2!$D$2:$E$38,2,0)) -> 2 | F10: =IF(B10="","",IF(B9=0,0,IF(C10=C9,2,-1))) -> 2 | G10: =IF(B10="","",IF(B9=0,0,IF(D10=D9,2,-1))) -> 2 | I10: =IF(B10="","",F10+G10) -> 4 | K10: =IF(B10="","",K9+I10) -> 11
B11: 13 | C11: =IF(B11="","",VLOOKUP(B11,Tabelle2!$A$2:$B$38,2,0)) -> 2 | D11: =IF(B11="","",VLOOKUP(B11,Tabelle2!$D$2:$E$38,2,0)) -> 1 | F11: =IF(B11="","",IF(B10=0,0,IF(C11=C10,2,-1))) -> -1 | G11: =IF(B11="","",IF(B10=0,0,IF(D11=D10,2,-1))) -> -1 | I11: =IF(B11="","",F11+G11) -> -2 | K11: =IF(B11="","",K10+I11) -> 9
C12: =IF(B12="","",VLOOKUP(B12,Tabelle2!$A$2:$B$38,2,0)) | D12: =IF(B12="","",VLOOKUP(B12,Tabelle2!$D$2:$E$38,2,0)) | F12: =IF(B12="","",IF(B11=0,0,IF(C12=C11,2,-1))) | G12: =IF(B12="","",IF(B11=0,0,IF(D12=D11,2,-1))) | I12: =IF(B12="","",F12+G12) | K12: =IF(B12="","",K11+I12)
C13: =IF(B13="","",VLOOKUP(B13,Tabelle2!$A$2:$B$38,2,0)) | D13: =IF(B13="","",VLOOKUP(B13,Tabelle2!$D$2:$E$38,2,0)) | F13: =IF(B13="","",IF(B12=0,0,IF(C13=C12,2,-1))) | G13: =IF(B13="","",IF(B12=0,0,IF(D13=D12,2,-1))) | I13: =IF(B13="","",F13+G13) | K13: =IF(B13="","",K12+I13)
C14: =IF(B14="","",VLOOKUP(B14,Tabelle2!$A$2:$B$38,2,0)) | D14: =IF(B14="","",VLOOKUP(B14,Tabelle2!$D$2:$E$38,2,0)) | F14: =IF(B14="","",IF(B13=0,0,IF(C14=C13,2,-1))) | G14: =IF(B14="","",IF(B13=0,0,IF(D14=D13,2,-1))) | I14: =IF(B14="","",F14+G14) | K14: =IF(B14="","",K13+I14)
C15: =IF(B15="","",VLOOKUP(B15,Tabelle2!$A$2:$B$38,2,0)) | D15: =IF(B15="","",VLOOKUP(B15,Tabelle2!$D$2:$E$38,2,0)) | F15: =IF(B15="","",IF(B14=0,0,IF(C15=C14,2,-1))) | G15: =IF(B15="","",IF(B14=0,0,IF(D15=D14,2,-1))) | I15: =IF(B15="","",F15+G15) | K15: =IF(B15="","",K14+I15)
C16: =IF(B16="","",VLOOKUP(B16,Tabelle2!$A$2:$B$38,2,0)) | D16: =IF(B16="","",VLOOKUP(B16,Tabelle2!$D$2:$E$38,2,0)) | F16: =IF(B16="","",IF(B15=0,0,IF(C16=C15,2,-1))) | G16: =IF(B16="","",IF(B15=0,0,IF(D16=D15,2,-1))) | I16: =IF(B16="","",F16+G16) | K16: =IF(B16="","",K15+I16)
C17: =IF(B17="","",VLOOKUP(B17,Tabelle2!$A$2:$B$38,2,0)) | D17: =IF(B17="","",VLOOKUP(B17,Tabelle2!$D$2:$E$38,2,0)) | F17: =IF(B17="","",IF(B16=0,0,IF(C17=C16,2,-1))) | G17: =IF(B17="","",IF(B16=0,0,IF(D17=D16,2,-1))) | I17: =IF(B17="","",F17+G17) | K17: =IF(B17="","",K16+I17)
C18: =IF(B18="","",VLOOKUP(B18,Tabelle2!$A$2:$B$38,2,0)) | D18: =IF(B18="","",VLOOKUP(B18,Tabelle2!$D$2:$E$38,2,0)) | F18: =IF(B18="","",IF(B17=0,0,IF(C18=C17,2,-1))) | G18: =IF(B18="","",IF(B17=0,0,IF(D18=D17,2,-1))) | I18: =IF(B18="","",F18+G18) | K18: =IF(B18="","",K17+I18)
C19: =IF(B19="","",VLOOKUP(B19,Tabelle2!$A$2:$B$38,2,0)) | D19: =IF(B19="","",VLOOKUP(B19,Tabelle2!$D$2:$E$38,2,0)) | F19: =IF(B19="","",IF(B18=0,0,IF(C19=C18,2,-1))) | G19: =IF(B19="","",IF(B18=0,0,IF(D19=D18,2,-1))) | I19: =IF(B19="","",F19+G19) | K19: =IF(B19="","",K18+I19)
C20: =IF(B20="","",VLOOKUP(B20,Tabelle2!$A$2:$B$38,2,0)) | D20: =IF(B20="","",VLOOKUP(B20,Tabelle2!$D$2:$E$38,2,0)) | F20: =IF(B20="","",IF(B19=0,0,IF(C20=C19,2,-1))) | G20: =IF(B20="","",IF(B19=0,0,IF(D20=D19,2,-1))) | I20: =IF(B20="","",F20+G20) | K20: =IF(B20="","",K19+I20)
C21: =IF(B21="","",VLOOKUP(B21,Tabelle2!$A$2:$B$38,2,0)) | D21: =IF(B21="","",VLOOKUP(B21,Tabelle2!$D$2:$E$38,2,0)) | F21: =IF(B21="","",IF(B20=0,0,IF(C21=C20,2,-1))) | G21: =IF(B21="","",IF(B20=0,0,IF(D21=D20,2,-1))) | I21: =IF(B21="","",F21+G21) | K21: =IF(B21="","",K20+I21)
C22: =IF(B22="","",VLOOKUP(B22,Tabelle2!$A$2:$B$38,2,0)) | D22: =IF(B22="","",VLOOKUP(B22,Tabelle2!$D$2:$E$38,2,0)) | F22: =IF(B22="","",IF(B21=0,0,IF(C22=C21,2,-1))) | G22: =IF(B22="","",IF(B21=0,0,IF(D22=D21,2,-1))) | I22: =IF(B22="","",F22+G22) | K22: =IF(B22="","",K21+I22)
C23: =IF(B23="","",VLOOKUP(B23,Tabelle2!$A$2:$B$38,2,0)) | D23: =IF(B23="","",VLOOKUP(B23,Tabelle2!$D$2:$E$38,2,0)) | F23: =IF(B23="","",IF(B22=0,0,IF(C23=C22,2,-1))) | G23: =IF(B23="","",IF(B22=0,0,IF(D23=D22,2,-1))) | I23: =IF(B23="","",F23+G23) | K23: =IF(B23="","",K22+I23)
... C600: =IF(B600="","",VLOOKUP(B600,Tabelle2!$A$2:$B$38,2,0)) | D600: =IF(B600="","",VLOOKUP(B600,Tabelle2!$D$2:$E$38,2,0)) | F600: =IF(B600="","",IF(B599=0,0,IF(C600=C599,2,-1))) | G600: =IF(B600="","",IF(B599=0,0,IF(D600=D599,2,-1))) | I600: =IF(B600="","",F600+G600) | K600: =IF(B600="","",K599+I600)

Sheet Tabelle2
A1: num | B1: DZ | D1: Num | E1: Col
A2: 0 | B2: 0 | D2: 0 | E2: 0
A3: 1 | B3: 1 | D3: 1 | E3: 1
A4: 2 | B4: 1 | D4: 2 | E4: 2
A5: 3 | B5: 1 | D5: 3 | E5: 3
A6: 4 | B6: 1 | D6: 4 | E6: 1
A7: 5 | B7: 1 | D7: 5 | E7: 2
A8: 6 | B8: 1 | D8: 6 | E8: 3
A9: 7 | B9: 1 | D9: 7 | E9: 1
A10: 8 | B10: 1 | D10: 8 | E10: 2
A11: 9 | B11: 1 | D11: 9 | E11: 3
A12: 10 | B12: 1 | D12: 10 | E12: 1
A13: 11 | B13: 1 | D13: 11 | E13: 2
... A38: 36 | B38: 3 | D38: 36 | E38: 3

Sheet Tabelle3
