Workbook

Sheet Tabelle1
A1: -> Num | H1: BET | K1: W/L | L1: Total | W1: Check EC Hit = 1 No-Hit=0 | Z1: Hit Count | AA1: Determine Bet Selection | AE1: Check W/L | AI1: Calculate W/L Units
D2: =IF(B2="","",VLOOKUP(B2,Tabelle2!$A$2:$B$38,2,0)) | E2: =IF(B2="","",VLOOKUP(B2,Tabelle2!$D$2:$E$38,2,0)) | F2: =IF(B2="","",VLOOKUP(B2,Tabelle2!$G$2:$H$38,2,0)) | H2: =IF(B2="","",IF(Z2=0,"",IF(Z2=1,"",IF(Z2=3,"",IF(Z2=2,IF(AA2="",AB2,AA2)))))) | I2: =IF(B2="","",IF(Z2=0,"",IF(Z2=1,"",IF(Z2=3,"",IF(Z2=2,IF(AC2="",AB2,AC2)))))) | K2: =IF(B2="","",IF(Z1=2,SUM(AI2:AK2),"")) | L2: =IF(B2="","",IF(K2="","",SUM($K$2:K2))) | N2: 2 out of 3 by "BuffaloWizzard" | W2: H/L | X2: O/E | Y2: R/B | AA2: H/L | AB2: O/E | AC2: R/B | AE2: =IF(B2="","",VLOOKUP(B2,Tabelle2!$A$2:$B$38,2,0)) | AF2: =IF(B2="","",VLOOKUP(B2,Tabelle2!$D$2:$E$38,2,0)) | AG2: =IF(B2="","",VLOOKUP(B2,Tabelle2!$G$2:$H$38,2,0)) | AI2: H/L | AJ2: O/E | AK2: R/B
D3: =IF(B3="","",VLOOKUP(B3,Tabelle2!$A$2:$B$38,2,0)) | E3: =IF(B3="","",VLOOKUP(B3,Tabelle2!$D$2:$E$38,2,0)) | F3: =IF(B3="","",VLOOKUP(B3,Tabelle2!$G$2:$H$38,2,0)) | H3: =IF(B3="","",IF(Z3=0,"",IF(Z3=1,"",IF(Z3=3,"",IF(Z3=2,IF(AA3="",AB3,AA3)))))) | I3: =IF(B3="","",IF(Z3=0,"",IF(Z3=1,"",IF(Z3=3,"",IF(Z3=2,IF(AC3="",AB3,AC3)))))) | K3: =IF(B3="","",IF(Z2=2,SUM(AI3:AK3),"")) | L3: =IF(B3="","",IF(K3="","",SUM($K$2:K3))) | W3: =IF(B3="","",IF(D2=D3,1,0)) | X3: =IF(B3="","",IF(E2=E3,1,0)) | Y3: =IF(B3="","",IF(F2=F3,1,0)) | AA3: =IF(B3="","",IF(Z3=0,"",IF(Z3=1,"",IF(Z3=3,"",IF(Z3=2,IF(W3=0,"",IF(W3=1,IF(D3="L","H","L")))))))) | AB3: =IF(B3="","",IF(Z3=0,"",IF(Z3=1,"",IF(Z3=3,"",IF(Z3=2,IF(X3=0,"",IF(X3=1,IF(E3="O","E","O")))))))) | AC3: =IF(B3="","",IF(Z3=0,"",IF(Z3=1,"",IF(Z3=3,"",IF(Z3=2,IF(Y3=0,"",IF(Y3=1,IF(F3="R","B","R")))))))) | AE3: =IF(B3="","",VLOOKUP(B3,Tabelle2!$A$2:$B$38,2,0)) | AF3: =IF(B3="","",VLOOKUP(B3,Tabelle2!$D$2:$E$38,2,0)) | AG3: =IF(B3="","",VLOOKUP(B3,Tabelle2!$G$2:$H$38,2,0)) | AI3: =IF(Z3="","",IF(Z2=0,"",IF(Z2=1,"",IF(Z2=3,"",IF(Z2=2,IF(AA2="","",IF(AE3=AA2,1,-1))))))) | AJ3: =IF(Z3="","",IF(Z2=0,"",IF(Z2=1,"",IF(Z2=3,"",IF(Z2=2,IF(AB2="","",IF(AF3=AB2,1,-1))))))) | AK3: =IF(Z3="","",IF(Z2=0,"",IF(Z2=1,"",IF(Z2=3,"",IF(Z2=2,IF(AC2="","",IF(AG3=AC2,1,-1)))))))
D4: =IF(B4="","",VLOOKUP(B4,Tabelle2!$A$2:$B$38,2,0)) | E4: =IF(B4="","",VLOOKUP(B4,Tabelle2!$D$2:$E$38,2,0)) | F4: =IF(B4="","",VLOOKUP(B4,Tabelle2!$G$2:$H$38,2,0)) | H4: =IF(B4="","",IF(Z4=0,"",IF(Z4=1,"",IF(Z4=3,"",IF(Z4=2,IF(AA4="",AB4,AA4)))))) | I4: =IF(B4="","",IF(Z4=0,"",IF(Z4=1,"",IF(Z4=3,"",IF(Z4=2,IF(AC4="",AB4,AC4)))))) | K4: =IF(B4="","",IF(Z3=2,SUM(AI4:AK4),"")) | L4: =IF(B4="","",IF(K4="","",SUM($K$2:K4))) | W4: =IF(B4="","",IF(D3=D4,1,0)) | X4: =IF(B4="","",IF(E3=E4,1,0)) | Y4: =IF(B4="","",IF(F3=F4,1,0)) | AA4: =IF(B4="","",IF(Z4=0,"",IF(Z4=1,"",IF(Z4=3,"",IF(Z4=2,IF(W4=0,"",IF(W4=1,IF(D4="L","H","L")))))))) | AB4: =IF(B4="","",IF(Z4=0,"",IF(Z4=1,"",IF(Z4=3,"",IF(Z4=2,IF(X4=0,"",IF(X4=1,IF(E4="O","E","O")))))))) | AC4: =IF(B4="","",IF(Z4=0,"",IF(Z4=1,"",IF(Z4=3,"",IF(Z4=2,IF(Y4=0,"",IF(Y4=1,IF(F4="R","B","R")))))))) | AE4: =IF(B4="","",VLOOKUP(B4,Tabelle2!$A$2:$B$38,2,0)) | AF4: =IF(B4="","",VLOOKUP(B4,Tabelle2!$D$2:$E$38,2,0)) | AG4: =IF(B4="","",VLOOKUP(B4,Tabelle2!$G$2:$H$38,2,0)) | AI4: =IF(Z4="","",IF(Z3=0,"",IF(Z3=1,"",IF(Z3=3,"",IF(Z3=2,IF(AA3="","",IF(AE4=AA3,1,-1))))))) | AJ4: =IF(Z4="","",IF(Z3=0,"",IF(Z3=1,"",IF(Z3=3,"",IF(Z3=2,IF(AB3="","",IF(AF4=AB3,1,-1))))))) | AK4: =IF(Z4="","",IF(Z3=0,"",IF(Z3=1,"",IF(Z3=3,"",IF(Z3=2,IF(AC3="","",IF(AG4=AC3,1,-1)))))))
D5: =IF(B5="","",VLOOKUP(B5,Tabelle2!$A$2:$B$38,2,0)) | E5: =IF(B5="","",VLOOKUP(B5,Tabelle2!$D$2:$E$38,2,0)) | F5: =IF(B5="","",VLOOKUP(B5,Tabelle2!$G$2:$H$38,2,0)) | H5: =IF(B5="","",IF(Z5=0,"",IF(Z5=1,"",IF(Z5=3,"",IF(Z5=2,IF(AA5="",AB5,AA5)))))) | I5: =IF(B5="","",IF(Z5=0,"",IF(Z5=1,"",IF(Z5=3,"",IF(Z5=2,IF(AC5="",AB5,AC5)))))) | K5: =IF(B5="","",IF(Z4=2,SUM(AI5:AK5),"")) | L5: =IF(B5="","",IF(K5="","",SUM($K$2:K5))) | W5: =IF(B5="","",IF(D4=D5,1,0)) | X5: =IF(B5="","",IF(E4=E5,1,0)) | Y5: =IF(B5="","",IF(F4=F5,1,0)) | Z5: =IF(B5="","",SUM(W5:Y5)) | AA5: =IF(B5="","",IF(Z5=0,"",IF(Z5=1,"",IF(Z5=3,"",IF(Z5=2,IF(W5=0,"",IF(W5=1,IF(D5="L","H","L")))))))) | AB5: =IF(B5="","",IF(Z5=0,"",IF(Z5=1,"",IF(Z5=3,"",IF(Z5=2,IF(X5=0,"",IF(X5=1,IF(E5="O","E","O")))))))) | AC5: =IF(B5="","",IF(Z5=0,"",IF(Z5=1,"",IF(Z5=3,"",IF(Z5=2,IF(Y5=0,"",IF(Y5=1,IF(F5="R","B","R")))))))) | AE5: =IF(B5="","",VLOOKUP(B5,Tabelle2!$A$2:$B$38,2,0)) | AF5: =IF(B5="","",VLOOKUP(B5,Tabelle2!$D$2:$E$38,2,0)) | AG5: =IF(B5="","",VLOOKUP(B5,Tabelle2!$G$2:$H$38,2,0)) | AI5: =IF(Z5="","",IF(Z4=0,"",IF(Z4=1,"",IF(Z4=3,"",IF(Z4=2,IF(AA4="","",IF(AE5=AA4,1,-1))))))) | AJ5: =IF(Z5="","",IF(Z4=0,"",IF(Z4=1,"",IF(Z4=3,"",IF(Z4=2,IF(AB4="","",IF(AF5=AB4,1,-1))))))) | AK5: =IF(Z5="","",IF(Z4=0,"",IF(Z4=1,"",IF(Z4=3,"",IF(Z4=2,IF(AC4="","",IF(AG5=AC4,1,-1)))))))
D6: =IF(B6="","",VLOOKUP(B6,Tabelle2!$A$2:$B$38,2,0)) | E6: =IF(B6="","",VLOOKUP(B6,Tabelle2!$D$2:$E$38,2,0)) | F6: =IF(B6="","",VLOOKUP(B6,Tabelle2!$G$2:$H$38,2,0)) | H6: =IF(B6="","",IF(Z6=0,"",IF(Z6=1,"",IF(Z6=3,"",IF(Z6=2,IF(AA6="",AB6,AA6)))))) | I6: =IF(B6="","",IF(Z6=0,"",IF(Z6=1,"",IF(Z6=3,"",IF(Z6=2,IF(AC6="",AB6,AC6)))))) | K6: =IF(B6="","",IF(Z5=2,SUM(AI6:AK6),"")) | L6: =IF(B6="","",IF(K6="","",SUM($K$2:K6))) | W6: =IF(B6="","",IF(D5=D6,1,0)) | X6: =IF(B6="","",IF(E5=E6,1,0)) | Y6: =IF(B6="","",IF(F5=F6,1,0)) | Z6: =IF(B6="","",SUM(W6:Y6)) | AA6: =IF(B6="","",IF(Z6=0,"",IF(Z6=1,"",IF(Z6=3,"",IF(Z6=2,IF(W6=0,"",IF(W6=1,IF(D6="L","H","L")))))))) | AB6: =IF(B6="","",IF(Z6=0,"",IF(Z6=1,"",IF(Z6=3,"",IF(Z6=2,IF(X6=0,"",IF(X6=1,IF(E6="O","E","O")))))))) | AC6: =IF(B6="","",IF(Z6=0,"",IF(Z6=1,"",IF(Z6=3,"",IF(Z6=2,IF(Y6=0,"",IF(Y6=1,IF(F6="R","B","R")))))))) | AE6: =IF(B6="","",VLOOKUP(B6,Tabelle2!$A$2:$B$38,2,0)) | AF6: =IF(B6="","",VLOOKUP(B6,Tabelle2!$D$2:$E$38,2,0)) | AG6: =IF(B6="","",VLOOKUP(B6,Tabelle2!$G$2:$H$38,2,0)) | AI6: =IF(Z6="","",IF(Z5=0,"",IF(Z5=1,"",IF(Z5=3,"",IF(Z5=2,IF(AA5="","",IF(AE6=AA5,1,-1))))))) | AJ6: =IF(Z6="","",IF(Z5=0,"",IF(Z5=1,"",IF(Z5=3,"",IF(Z5=2,IF(AB5="","",IF(AF6=AB5,1,-1))))))) | AK6: =IF(Z6="","",IF(Z5=0,"",IF(Z5=1,"",IF(Z5=3,"",IF(Z5=2,IF(AC5="","",IF(AG6=AC5,1,-1)))))))
D7: =IF(B7="","",VLOOKUP(B7,Tabelle2!$A$2:$B$38,2,0)) | E7: =IF(B7="","",VLOOKUP(B7,Tabelle2!$D$2:$E$38,2,0)) | F7: =IF(B7="","",VLOOKUP(B7,Tabelle2!$G$2:$H$38,2,0)) | H7: =IF(B7="","",IF(Z7=0,"",IF(Z7=1,"",IF(Z7=3,"",IF(Z7=2,IF(AA7="",AB7,AA7)))))) | I7: =IF(B7="","",IF(Z7=0,"",IF(Z7=1,"",IF(Z7=3,"",IF(Z7=2,IF(AC7="",AB7,AC7)))))) | K7: =IF(B7="","",IF(Z6=2,SUM(AI7:AK7),"")) | L7: =IF(B7="","",IF(K7="","",SUM($K$2:K7))) | N7: Total | O7: =SUM(K2:K600) -> 0 | W7: =IF(B7="","",IF(D6=D7,1,0)) | X7: =IF(B7="","",IF(E6=E7,1,0)) | Y7: =IF(B7="","",IF(F6=F7,1,0)) | Z7: =IF(B7="","",SUM(W7:Y7)) | AA7: =IF(B7="","",IF(Z7=0,"",IF(Z7=1,"",IF(Z7=3,"",IF(Z7=2,IF(W7=0,"",IF(W7=1,IF(D7="L","H","L")))))))) | AB7: =IF(B7="","",IF(Z7=0,"",IF(Z7=1,"",IF(Z7=3,"",IF(Z7=2,IF(X7=0,"",IF(X7=1,IF(E7="O","E","O")))))))) | AC7: =IF(B7="","",IF(Z7=0,"",IF(Z7=1,"",IF(Z7=3,"",IF(Z7=2,IF(Y7=0,"",IF(Y7=1,IF(F7="R","B","R")))))))) | AE7: =IF(B7="","",VLOOKUP(B7,Tabelle2!$A$2:$B$38,2,0)) | AF7: =IF(B7="","",VLOOKUP(B7,Tabelle2!$D$2:$E$38,2,0)) | AG7: =IF(B7="","",VLOOKUP(B7,Tabelle2!$G$2:$H$38,2,0)) | AI7: =IF(Z7="","",IF(Z6=0,"",IF(Z6=1,"",IF(Z6=3,"",IF(Z6=2,IF(AA6="","",IF(AE7=AA6,1,-1))))))) | AJ7: =IF(Z7="","",IF(Z6=0,"",IF(Z6=1,"",IF(Z6=3,"",IF(Z6=2,IF(AB6="","",IF(AF7=AB6,1,-1))))))) | AK7: =IF(Z7="","",IF(Z6=0,"",IF(Z6=1,"",IF(Z6=3,"",IF(Z6=2,IF(AC6="","",IF(AG7=AC6,1,-1)))))))
D8: =IF(B8="","",VLOOKUP(B8,Tabelle2!$A$2:$B$38,2,0)) | E8: =IF(B8="","",VLOOKUP(B8,Tabelle2!$D$2:$E$38,2,0)) | F8: =IF(B8="","",VLOOKUP(B8,Tabelle2!$G$2:$H$38,2,0)) | H8: =IF(B8="","",IF(Z8=0,"",IF(Z8=1,"",IF(Z8=3,"",IF(Z8=2,IF(AA8="",AB8,AA8)))))) | I8: =IF(B8="","",IF(Z8=0,"",IF(Z8=1,"",IF(Z8=3,"",IF(Z8=2,IF(AC8="",AB8,AC8)))))) | K8: =IF(B8="","",IF(Z7=2,SUM(AI8:AK8),"")) | L8: =IF(B8="","",IF(K8="","",SUM($K$2:K8))) | N8: Max | O8: =MAX(L2:L600) -> 0 | W8: =IF(B8="","",IF(D7=D8,1,0)) | X8: =IF(B8="","",IF(E7=E8,1,0)) | Y8: =IF(B8="","",IF(F7=F8,1,0)) | Z8: =IF(B8="","",SUM(W8:Y8)) | AA8: =IF(B8="","",IF(Z8=0,"",IF(Z8=1,"",IF(Z8=3,"",IF(Z8=2,IF(W8=0,"",IF(W8=1,IF(D8="L","H","L")))))))) | AB8: =IF(B8="","",IF(Z8=0,"",IF(Z8=1,"",IF(Z8=3,"",IF(Z8=2,IF(X8=0,"",IF(X8=1,IF(E8="O","E","O")))))))) | AC8: =IF(B8="","",IF(Z8=0,"",IF(Z8=1,"",IF(Z8=3,"",IF(Z8=2,IF(Y8=0,"",IF(Y8=1,IF(F8="R","B","R")))))))) | AE8: =IF(B8="","",VLOOKUP(B8,Tabelle2!$A$2:$B$38,2,0)) | AF8: =IF(B8="","",VLOOKUP(B8,Tabelle2!$D$2:$E$38,2,0)) | AG8: =IF(B8="","",VLOOKUP(B8,Tabelle2!$G$2:$H$38,2,0)) | AI8: =IF(Z8="","",IF(Z7=0,"",IF(Z7=1,"",IF(Z7=3,"",IF(Z7=2,IF(AA7="","",IF(AE8=AA7,1,-1))))))) | AJ8: =IF(Z8="","",IF(Z7=0,"",IF(Z7=1,"",IF(Z7=3,"",IF(Z7=2,IF(AB7="","",IF(AF8=AB7,1,-1))))))) | AK8: =IF(Z8="","",IF(Z7=0,"",IF(Z7=1,"",IF(Z7=3,"",IF(Z7=2,IF(AC7="","",IF(AG8=AC7,1,-1)))))))
D9: =IF(B9="","",VLOOKUP(B9,Tabelle2!$A$2:$B$38,2,0)) | E9: =IF(B9="","",VLOOKUP(B9,Tabelle2!$D$2:$E$38,2,0)) | F9: =IF(B9="","",VLOOKUP(B9,Tabelle2!$G$2:$H$38,2,0)) | H9: =IF(B9="","",IF(Z9=0,"",IF(Z9=1,"",IF(Z9=3,"",IF(Z9=2,IF(AA9="",AB9,AA9)))))) | I9: =IF(B9="","",IF(Z9=0,"",IF(Z9=1,"",IF(Z9=3,"",IF(Z9=2,IF(AC9="",AB9,AC9)))))) | K9: =IF(B9="","",IF(Z8=2,SUM(AI9:AK9),"")) | L9: =IF(B9="","",IF(K9="","",SUM($K$2:K9))) | N9: Min | O9: =MIN(L2:L600) -> 0 | W9: =IF(B9="","",IF(D8=D9,1,0)) | X9: =IF(B9="","",IF(E8=E9,1,0)) | Y9: =IF(B9="","",IF(F8=F9,1,0)) | Z9: =IF(B9="","",SUM(W9:Y9)) | AA9: =IF(B9="","",IF(Z9=0,"",IF(Z9=1,"",IF(Z9=3,"",IF(Z9=2,IF(W9=0,"",IF(W9=1,IF(D9="L","H","L")))))))) | AB9: =IF(B9="","",IF(Z9=0,"",IF(Z9=1,"",IF(Z9=3,"",IF(Z9=2,IF(X9=0,"",IF(X9=1,IF(E9="O","E","O")))))))) | AC9: =IF(B9="","",IF(Z9=0,"",IF(Z9=1,"",IF(Z9=3,"",IF(Z9=2,IF(Y9=0,"",IF(Y9=1,IF(F9="R","B","R")))))))) | AE9: =IF(B9="","",VLOOKUP(B9,Tabelle2!$A$2:$B$38,2,0)) | AF9: =IF(B9="","",VLOOKUP(B9,Tabelle2!$D$2:$E$38,2,0)) | AG9: =IF(B9="","",VLOOKUP(B9,Tabelle2!$G$2:$H$38,2,0)) | AI9: =IF(Z9="","",IF(Z8=0,"",IF(Z8=1,"",IF(Z8=3,"",IF(Z8=2,IF(AA8="","",IF(AE9=AA8,1,-1))))))) | AJ9: =IF(Z9="","",IF(Z8=0,"",IF(Z8=1,"",IF(Z8=3,"",IF(Z8=2,IF(AB8="","",IF(AF9=AB8,1,-1))))))) | AK9: =IF(Z9="","",IF(Z8=0,"",IF(Z8=1,"",IF(Z8=3,"",IF(Z8=2,IF(AC8="","",IF(AG9=AC8,1,-1)))))))
D10: =IF(B10="","",VLOOKUP(B10,Tabelle2!$A$2:$B$38,2,0)) | E10: =IF(B10="","",VLOOKUP(B10,Tabelle2!$D$2:$E$38,2,0)) | F10: =IF(B10="","",VLOOKUP(B10,Tabelle2!$G$2:$H$38,2,0)) | H10: =IF(B10="","",IF(Z10=0,"",IF(Z10=1,"",IF(Z10=3,"",IF(Z10=2,IF(AA10="",AB10,AA10)))))) | I10: =IF(B10="","",IF(Z10=0,"",IF(Z10=1,"",IF(Z10=3,"",IF(Z10=2,IF(AC10="",AB10,AC10)))))) | K10: =IF(B10="","",IF(Z9=2,SUM(AI10:AK10),"")) | L10: =IF(B10="","",IF(K10="","",SUM($K$2:K10))) | W10: =IF(B10="","",IF(D9=D10,1,0)) | X10: =IF(B10="","",IF(E9=E10,1,0)) | Y10: =IF(B10="","",IF(F9=F10,1,0)) | Z10: =IF(B10="","",SUM(W10:Y10)) | AA10: =IF(B10="","",IF(Z10=0,"",IF(Z10=1,"",IF(Z10=3,"",IF(Z10=2,IF(W10=0,"",IF(W10=1,IF(D10="L","H","L")))))))) | AB10: =IF(B10="","",IF(Z10=0,"",IF(Z10=1,"",IF(Z10=3,"",IF(Z10=2,IF(X10=0,"",IF(X10=1,IF(E10="O","E","O")))))))) | AC10: =IF(B10="","",IF(Z10=0,"",IF(Z10=1,"",IF(Z10=3,"",IF(Z10=2,IF(Y10=0,"",IF(Y10=1,IF(F10="R","B","R")))))))) | AE10: =IF(B10="","",VLOOKUP(B10,Tabelle2!$A$2:$B$38,2,0)) | AF10: =IF(B10="","",VLOOKUP(B10,Tabelle2!$D$2:$E$38,2,0)) | AG10: =IF(B10="","",VLOOKUP(B10,Tabelle2!$G$2:$H$38,2,0)) | AI10: =IF(Z10="","",IF(Z9=0,"",IF(Z9=1,"",IF(Z9=3,"",IF(Z9=2,IF(AA9="","",IF(AE10=AA9,1,-1))))))) | AJ10: =IF(Z10="","",IF(Z9=0,"",IF(Z9=1,"",IF(Z9=3,"",IF(Z9=2,IF(AB9="","",IF(AF10=AB9,1,-1))))))) | AK10: =IF(Z10="","",IF(Z9=0,"",IF(Z9=1,"",IF(Z9=3,"",IF(Z9=2,IF(AC9="","",IF(AG10=AC9,1,-1)))))))
D11: =IF(B11="","",VLOOKUP(B11,Tabelle2!$A$2:$B$38,2,0)) | E11: =IF(B11="","",VLOOKUP(B11,Tabelle2!$D$2:$E$38,2,0)) | F11: =IF(B11="","",VLOOKUP(B11,Tabelle2!$G$2:$H$38,2,0)) | H11: =IF(B11="","",IF(Z11=0,"",IF(Z11=1,"",IF(Z11=3,"",IF(Z11=2,IF(AA11="",AB11,AA11)))))) | I11: =IF(B11="","",IF(Z11=0,"",IF(Z11=1,"",IF(Z11=3,"",IF(Z11=2,IF(AC11="",AB11,AC11)))))) | K11: =IF(B11="","",IF(Z10=2,SUM(AI11:AK11),"")) | L11: =IF(B11="","",IF(K11="","",SUM($K$2:K11))) | W11: =IF(B11="","",IF(D10=D11,1,0)) | X11: =IF(B11="","",IF(E10=E11,1,0)) | Y11: =IF(B11="","",IF(F10=F11,1,0)) | Z11: =IF(B11="","",SUM(W11:Y11)) | AA11: =IF(B11="","",IF(Z11=0,"",IF(Z11=1,"",IF(Z11=3,"",IF(Z11=2,IF(W11=0,"",IF(W11=1,IF(D11="L","H","L")))))))) | AB11: =IF(B11="","",IF(Z11=0,"",IF(Z11=1,"",IF(Z11=3,"",IF(Z11=2,IF(X11=0,"",IF(X11=1,IF(E11="O","E","O")))))))) | AC11: =IF(B11="","",IF(Z11=0,"",IF(Z11=1,"",IF(Z11=3,"",IF(Z11=2,IF(Y11=0,"",IF(Y11=1,IF(F11="R","B","R")))))))) | AE11: =IF(B11="","",VLOOKUP(B11,Tabelle2!$A$2:$B$38,2,0)) | AF11: =IF(B11="","",VLOOKUP(B11,Tabelle2!$D$2:$E$38,2,0)) | AG11: =IF(B11="","",VLOOKUP(B11,Tabelle2!$G$2:$H$38,2,0)) | AI11: =IF(Z11="","",IF(Z10=0,"",IF(Z10=1,"",IF(Z10=3,"",IF(Z10=2,IF(AA10="","",IF(AE11=AA10,1,-1))))))) | AJ11: =IF(Z11="","",IF(Z10=0,"",IF(Z10=1,"",IF(Z10=3,"",IF(Z10=2,IF(AB10="","",IF(AF11=AB10,1,-1))))))) | AK11: =IF(Z11="","",IF(Z10=0,"",IF(Z10=1,"",IF(Z10=3,"",IF(Z10=2,IF(AC10="","",IF(AG11=AC10,1,-1)))))))
D12: =IF(B12="","",VLOOKUP(B12,Tabelle2!$A$2:$B$38,2,0)) | E12: =IF(B12="","",VLOOKUP(B12,Tabelle2!$D$2:$E$38,2,0)) | F12: =IF(B12="","",VLOOKUP(B12,Tabelle2!$G$2:$H$38,2,0)) | H12: =IF(B12="","",IF(Z12=0,"",IF(Z12=1,"",IF(Z12=3,"",IF(Z12=2,IF(AA12="",AB12,AA12)))))) | I12: =IF(B12="","",IF(Z12=0,"",IF(Z12=1,"",IF(Z12=3,"",IF(Z12=2,IF(AC12="",AB12,AC12)))))) | K12: =IF(B12="","",IF(Z11=2,SUM(AI12:AK12),"")) | L12: =IF(B12="","",IF(K12="","",SUM($K$2:K12))) | N12: High/Low = H/L | W12: =IF(B12="","",IF(D11=D12,1,0)) | X12: =IF(B12="","",IF(E11=E12,1,0)) | Y12: =IF(B12="","",IF(F11=F12,1,0)) | Z12: =IF(B12="","",SUM(W12:Y12)) | AA12: =IF(B12="","",IF(Z12=0,"",IF(Z12=1,"",IF(Z12=3,"",IF(Z12=2,IF(W12=0,"",IF(W12=1,IF(D12="L","H","L")))))))) | AB12: =IF(B12="","",IF(Z12=0,"",IF(Z12=1,"",IF(Z12=3,"",IF(Z12=2,IF(X12=0,"",IF(X12=1,IF(E12="O","E","O")))))))) | AC12: =IF(B12="","",IF(Z12=0,"",IF(Z12=1,"",IF(Z12=3,"",IF(Z12=2,IF(Y12=0,"",IF(Y12=1,IF(F12="R","B","R")))))))) | AE12: =IF(B12="","",VLOOKUP(B12,Tabelle2!$A$2:$B$38,2,0)) | AF12: =IF(B12="","",VLOOKUP(B12,Tabelle2!$D$2:$E$38,2,0)) | AG12: =IF(B12="","",VLOOKUP(B12,Tabelle2!$G$2:$H$38,2,0)) | AI12: =IF(Z12="","",IF(Z11=0,"",IF(Z11=1,"",IF(Z11=3,"",IF(Z11=2,IF(AA11="","",IF(AE12=AA11,1,-1))))))) | AJ12: =IF(Z12="","",IF(Z11=0,"",IF(Z11=1,"",IF(Z11=3,"",IF(Z11=2,IF(AB11="","",IF(AF12=AB11,1,-1))))))) | AK12: =IF(Z12="","",IF(Z11=0,"",IF(Z11=1,"",IF(Z11=3,"",IF(Z11=2,IF(AC11="","",IF(AG12=AC11,1,-1)))))))
D13: =IF(B13="","",VLOOKUP(B13,Tabelle2!$A$2:$B$38,2,0)) | E13: =IF(B13="","",VLOOKUP(B13,Tabelle2!$D$2:$E$38,2,0)) | F13: =IF(B13="","",VLOOKUP(B13,Tabelle2!$G$2:$H$38,2,0)) | H13: =IF(B13="","",IF(Z13=0,"",IF(Z13=1,"",IF(Z13=3,"",IF(Z13=2,IF(AA13="",AB13,AA13)))))) | I13: =IF(B13="","",IF(Z13=0,"",IF(Z13=1,"",IF(Z13=3,"",IF(Z13=2,IF(AC13="",AB13,AC13)))))) | K13: =IF(B13="","",IF(Z12=2,SUM(AI13:AK13),"")) | L13: =IF(B13="","",IF(K13="","",SUM($K$2:K13))) | N13: Odd/Even = O/E | W13: =IF(B13="","",IF(D12=D13,1,0)) | X13: =IF(B13="","",IF(E12=E13,1,0)) | Y13: =IF(B13="","",IF(F12=F13,1,0)) | Z13: =IF(B13="","",SUM(W13:Y13)) | AA13: =IF(B13="","",IF(Z13=0,"",IF(Z13=1,"",IF(Z13=3,"",IF(Z13=2,IF(W13=0,"",IF(W13=1,IF(D13="L","H","L")))))))) | AB13: =IF(B13="","",IF(Z13=0,"",IF(Z13=1,"",IF(Z13=3,"",IF(Z13=2,IF(X13=0,"",IF(X13=1,IF(E13="O","E","O")))))))) | AC13: =IF(B13="","",IF(Z13=0,"",IF(Z13=1,"",IF(Z13=3,"",IF(Z13=2,IF(Y13=0,"",IF(Y13=1,IF(F13="R","B","R")))))))) | AE13: =IF(B13="","",VLOOKUP(B13,Tabelle2!$A$2:$B$38,2,0)) | AF13: =IF(B13="","",VLOOKUP(B13,Tabelle2!$D$2:$E$38,2,0)) | AG13: =IF(B13="","",VLOOKUP(B13,Tabelle2!$G$2:$H$38,2,0)) | AI13: =IF(Z13="","",IF(Z12=0,"",IF(Z12=1,"",IF(Z12=3,"",IF(Z12=2,IF(AA12="","",IF(AE13=AA12,1,-1))))))) | AJ13: =IF(Z13="","",IF(Z12=0,"",IF(Z12=1,"",IF(Z12=3,"",IF(Z12=2,IF(AB12="","",IF(AF13=AB12,1,-1))))))) | AK13: =IF(Z13="","",IF(Z12=0,"",IF(Z12=1,"",IF(Z12=3,"",IF(Z12=2,IF(AC12="","",IF(AG13=AC12,1,-1)))))))
D14: =IF(B14="","",VLOOKUP(B14,Tabelle2!$A$2:$B$38,2,0)) | E14: =IF(B14="","",VLOOKUP(B14,Tabelle2!$D$2:$E$38,2,0)) | F14: =IF(B14="","",VLOOKUP(B14,Tabelle2!$G$2:$H$38,2,0)) | H14: =IF(B14="","",IF(Z14=0,"",IF(Z14=1,"",IF(Z14=3,"",IF(Z14=2,IF(AA14="",AB14,AA14)))))) | I14: =IF(B14="","",IF(Z14=0,"",IF(Z14=1,"",IF(Z14=3,"",IF(Z14=2,IF(AC14="",AB14,AC14)))))) | K14: =IF(B14="","",IF(Z13=2,SUM(AI14:AK14),"")) | L14: =IF(B14="","",IF(K14="","",SUM($K$2:K14))) | N14: Black/Red = B/R | W14: =IF(B14="","",IF(D13=D14,1,0)) | X14: =IF(B14="","",IF(E13=E14,1,0)) | Y14: =IF(B14="","",IF(F13=F14,1,0)) | Z14: =IF(B14="","",SUM(W14:Y14)) | AA14: =IF(B14="","",IF(Z14=0,"",IF(Z14=1,"",IF(Z14=3,"",IF(Z14=2,IF(W14=0,"",IF(W14=1,IF(D14="L","H","L")))))))) | AB14: =IF(B14="","",IF(Z14=0,"",IF(Z14=1,"",IF(Z14=3,"",IF(Z14=2,IF(X14=0,"",IF(X14=1,IF(E14="O","E","O")))))))) | AC14: =IF(B14="","",IF(Z14=0,"",IF(Z14=1,"",IF(Z14=3,"",IF(Z14=2,IF(Y14=0,"",IF(Y14=1,IF(F14="R","B","R")))))))) | AE14: =IF(B14="","",VLOOKUP(B14,Tabelle2!$A$2:$B$38,2,0)) | AF14: =IF(B14="","",VLOOKUP(B14,Tabelle2!$D$2:$E$38,2,0)) | AG14: =IF(B14="","",VLOOKUP(B14,Tabelle2!$G$2:$H$38,2,0)) | AI14: =IF(Z14="","",IF(Z13=0,"",IF(Z13=1,"",IF(Z13=3,"",IF(Z13=2,IF(AA13="","",IF(AE14=AA13,1,-1))))))) | AJ14: =IF(Z14="","",IF(Z13=0,"",IF(Z13=1,"",IF(Z13=3,"",IF(Z13=2,IF(AB13="","",IF(AF14=AB13,1,-1))))))) | AK14: =IF(Z14="","",IF(Z13=0,"",IF(Z13=1,"",IF(Z13=3,"",IF(Z13=2,IF(AC13="","",IF(AG14=AC13,1,-1)))))))
D15: =IF(B15="","",VLOOKUP(B15,Tabelle2!$A$2:$B$38,2,0)) | E15: =IF(B15="","",VLOOKUP(B15,Tabelle2!$D$2:$E$38,2,0)) | F15: =IF(B15="","",VLOOKUP(B15,Tabelle2!$G$2:$H$38,2,0)) | H15: =IF(B15="","",IF(Z15=0,"",IF(Z15=1,"",IF(Z15=3,"",IF(Z15=2,IF(AA15="",AB15,AA15)))))) | I15: =IF(B15="","",IF(Z15=0,"",IF(Z15=1,"",IF(Z15=3,"",IF(Z15=2,IF(AC15="",AB15,AC15)))))) | K15: =IF(B15="","",IF(Z14=2,SUM(AI15:AK15),"")) | L15: =IF(B15="","",IF(K15="","",SUM($K$2:K15))) | W15: =IF(B15="","",IF(D14=D15,1,0)) | X15: =IF(B15="","",IF(E14=E15,1,0)) | Y15: =IF(B15="","",IF(F14=F15,1,0)) | Z15: =IF(B15="","",SUM(W15:Y15)) | AA15: =IF(B15="","",IF(Z15=0,"",IF(Z15=1,"",IF(Z15=3,"",IF(Z15=2,IF(W15=0,"",IF(W15=1,IF(D15="L","H","L")))))))) | AB15: =IF(B15="","",IF(Z15=0,"",IF(Z15=1,"",IF(Z15=3,"",IF(Z15=2,IF(X15=0,"",IF(X15=1,IF(E15="O","E","O")))))))) | AC15: =IF(B15="","",IF(Z15=0,"",IF(Z15=1,"",IF(Z15=3,"",IF(Z15=2,IF(Y15=0,"",IF(Y15=1,IF(F15="R","B","R")))))))) | AE15: =IF(B15="","",VLOOKUP(B15,Tabelle2!$A$2:$B$38,2,0)) | AF15: =IF(B15="","",VLOOKUP(B15,Tabelle2!$D$2:$E$38,2,0)) | AG15: =IF(B15="","",VLOOKUP(B15,Tabelle2!$G$2:$H$38,2,0)) | AI15: =IF(Z15="","",IF(Z14=0,"",IF(Z14=1,"",IF(Z14=3,"",IF(Z14=2,IF(AA14="","",IF(AE15=AA14,1,-1))))))) | AJ15: =IF(Z15="","",IF(Z14=0,"",IF(Z14=1,"",IF(Z14=3,"",IF(Z14=2,IF(AB14="","",IF(AF15=AB14,1,-1))))))) | AK15: =IF(Z15="","",IF(Z14=0,"",IF(Z14=1,"",IF(Z14=3,"",IF(Z14=2,IF(AC14="","",IF(AG15=AC14,1,-1)))))))
D16: =IF(B16="","",VLOOKUP(B16,Tabelle2!$A$2:$B$38,2,0)) | E16: =IF(B16="","",VLOOKUP(B16,Tabelle2!$D$2:$E$38,2,0)) | F16: =IF(B16="","",VLOOKUP(B16,Tabelle2!$G$2:$H$38,2,0)) | H16: =IF(B16="","",IF(Z16=0,"",IF(Z16=1,"",IF(Z16=3,"",IF(Z16=2,IF(AA16="",AB16,AA16)))))) | I16: =IF(B16="","",IF(Z16=0,"",IF(Z16=1,"",IF(Z16=3,"",IF(Z16=2,IF(AC16="",AB16,AC16)))))) | K16: =IF(B16="","",IF(Z15=2,SUM(AI16:AK16),"")) | L16: =IF(B16="","",IF(K16="","",SUM($K$2:K16))) | N16: Add/Paste spins in the GREEN line only | W16: =IF(B16="","",IF(D15=D16,1,0)) | X16: =IF(B16="","",IF(E15=E16,1,0)) | Y16: =IF(B16="","",IF(F15=F16,1,0)) | Z16: =IF(B16="","",SUM(W16:Y16)) | AA16: =IF(B16="","",IF(Z16=0,"",IF(Z16=1,"",IF(Z16=3,"",IF(Z16=2,IF(W16=0,"",IF(W16=1,IF(D16="L","H","L")))))))) | AB16: =IF(B16="","",IF(Z16=0,"",IF(Z16=1,"",IF(Z16=3,"",IF(Z16=2,IF(X16=0,"",IF(X16=1,IF(E16="O","E","O")))))))) | AC16: =IF(B16="","",IF(Z16=0,"",IF(Z16=1,"",IF(Z16=3,"",IF(Z16=2,IF(Y16=0,"",IF(Y16=1,IF(F16="R","B","R")))))))) | AE16: =IF(B16="","",VLOOKUP(B16,Tabelle2!$A$2:$B$38,2,0)) | AF16: =IF(B16="","",VLOOKUP(B16,Tabelle2!$D$2:$E$38,2,0)) | AG16: =IF(B16="","",VLOOKUP(B16,Tabelle2!$G$2:$H$38,2,0)) | AI16: =IF(Z16="","",IF(Z15=0,"",IF(Z15=1,"",IF(Z15=3,"",IF(Z15=2,IF(AA15="","",IF(AE16=AA15,1,-1))))))) | AJ16: =IF(Z16="","",IF(Z15=0,"",IF(Z15=1,"",IF(Z15=3,"",IF(Z15=2,IF(AB15="","",IF(AF16=AB15,1,-1))))))) | AK16: =IF(Z16="","",IF(Z15=0,"",IF(Z15=1,"",IF(Z15=3,"",IF(Z15=2,IF(AC15="","",IF(AG16=AC15,1,-1)))))))
D17: =IF(B17="","",VLOOKUP(B17,Tabelle2!$A$2:$B$38,2,0)) | E17: =IF(B17="","",VLOOKUP(B17,Tabelle2!$D$2:$E$38,2,0)) | F17: =IF(B17="","",VLOOKUP(B17,Tabelle2!$G$2:$H$38,2,0)) | H17: =IF(B17="","",IF(Z17=0,"",IF(Z17=1,"",IF(Z17=3,"",IF(Z17=2,IF(AA17="",AB17,AA17)))))) | I17: =IF(B17="","",IF(Z17=0,"",IF(Z17=1,"",IF(Z17=3,"",IF(Z17=2,IF(AC17="",AB17,AC17)))))) | K17: =IF(B17="","",IF(Z16=2,SUM(AI17:AK17),"")) | L17: =IF(B17="","",IF(K17="","",SUM($K$2:K17))) | W17: =IF(B17="","",IF(D16=D17,1,0)) | X17: =IF(B17="","",IF(E16=E17,1,0)) | Y17: =IF(B17="","",IF(F16=F17,1,0)) | Z17: =IF(B17="","",SUM(W17:Y17)) | AA17: =IF(B17="","",IF(Z17=0,"",IF(Z17=1,"",IF(Z17=3,"",IF(Z17=2,IF(W17=0,"",IF(W17=1,IF(D17="L","H","L")))))))) | AB17: =IF(B17="","",IF(Z17=0,"",IF(Z17=1,"",IF(Z17=3,"",IF(Z17=2,IF(X17=0,"",IF(X17=1,IF(E17="O","E","O")))))))) | AC17: =IF(B17="","",IF(Z17=0,"",IF(Z17=1,"",IF(Z17=3,"",IF(Z17=2,IF(Y17=0,"",IF(Y17=1,IF(F17="R","B","R")))))))) | AE17: =IF(B17="","",VLOOKUP(B17,Tabelle2!$A$2:$B$38,2,0)) | AF17: =IF(B17="","",VLOOKUP(B17,Tabelle2!$D$2:$E$38,2,0)) | AG17: =IF(B17="","",VLOOKUP(B17,Tabelle2!$G$2:$H$38,2,0)) | AI17: =IF(Z17="","",IF(Z16=0,"",IF(Z16=1,"",IF(Z16=3,"",IF(Z16=2,IF(AA16="","",IF(AE17=AA16,1,-1))))))) | AJ17: =IF(Z17="","",IF(Z16=0,"",IF(Z16=1,"",IF(Z16=3,"",IF(Z16=2,IF(AB16="","",IF(AF17=AB16,1,-1))))))) | AK17: =IF(Z17="","",IF(Z16=0,"",IF(Z16=1,"",IF(Z16=3,"",IF(Z16=2,IF(AC16="","",IF(AG17=AC16,1,-1)))))))
D18: =IF(B18="","",VLOOKUP(B18,Tabelle2!$A$2:$B$38,2,0)) | E18: =IF(B18="","",VLOOKUP(B18,Tabelle2!$D$2:$E$38,2,0)) | F18: =IF(B18="","",VLOOKUP(B18,Tabelle2!$G$2:$H$38,2,0)) | H18: =IF(B18="","",IF(Z18=0,"",IF(Z18=1,"",IF(Z18=3,"",IF(Z18=2,IF(AA18="",AB18,AA18)))))) | I18: =IF(B18="","",IF(Z18=0,"",IF(Z18=1,"",IF(Z18=3,"",IF(Z18=2,IF(AC18="",AB18,AC18)))))) | K18: =IF(B18="","",IF(Z17=2,SUM(AI18:AK18),"")) | L18: =IF(B18="","",IF(K18="","",SUM($K$2:K18))) | W18: =IF(B18="","",IF(D17=D18,1,0)) | X18: =IF(B18="","",IF(E17=E18,1,0)) | Y18: =IF(B18="","",IF(F17=F18,1,0)) | Z18: =IF(B18="","",SUM(W18:Y18)) | AA18: =IF(B18="","",IF(Z18=0,"",IF(Z18=1,"",IF(Z18=3,"",IF(Z18=2,IF(W18=0,"",IF(W18=1,IF(D18="L","H","L")))))))) | AB18: =IF(B18="","",IF(Z18=0,"",IF(Z18=1,"",IF(Z18=3,"",IF(Z18=2,IF(X18=0,"",IF(X18=1,IF(E18="O","E","O")))))))) | AC18: =IF(B18="","",IF(Z18=0,"",IF(Z18=1,"",IF(Z18=3,"",IF(Z18=2,IF(Y18=0,"",IF(Y18=1,IF(F18="R","B","R")))))))) | AE18: =IF(B18="","",VLOOKUP(B18,Tabelle2!$A$2:$B$38,2,0)) | AF18: =IF(B18="","",VLOOKUP(B18,Tabelle2!$D$2:$E$38,2,0)) | AG18: =IF(B18="","",VLOOKUP(B18,Tabelle2!$G$2:$H$38,2,0)) | AI18: =IF(Z18="","",IF(Z17=0,"",IF(Z17=1,"",IF(Z17=3,"",IF(Z17=2,IF(AA17="","",IF(AE18=AA17,1,-1))))))) | AJ18: =IF(Z18="","",IF(Z17=0,"",IF(Z17=1,"",IF(Z17=3,"",IF(Z17=2,IF(AB17="","",IF(AF18=AB17,1,-1))))))) | AK18: =IF(Z18="","",IF(Z17=0,"",IF(Z17=1,"",IF(Z17=3,"",IF(Z17=2,IF(AC17="","",IF(AG18=AC17,1,-1)))))))
D19: =IF(B19="","",VLOOKUP(B19,Tabelle2!$A$2:$B$38,2,0)) | E19: =IF(B19="","",VLOOKUP(B19,Tabelle2!$D$2:$E$38,2,0)) | F19: =IF(B19="","",VLOOKUP(B19,Tabelle2!$G$2:$H$38,2,0)) | H19: =IF(B19="","",IF(Z19=0,"",IF(Z19=1,"",IF(Z19=3,"",IF(Z19=2,IF(AA19="",AB19,AA19)))))) | I19: =IF(B19="","",IF(Z19=0,"",IF(Z19=1,"",IF(Z19=3,"",IF(Z19=2,IF(AC19="",AB19,AC19)))))) | K19: =IF(B19="","",IF(Z18=2,SUM(AI19:AK19),"")) | L19: =IF(B19="","",IF(K19="","",SUM($K$2:K19))) | W19: =IF(B19="","",IF(D18=D19,1,0)) | X19: =IF(B19="","",IF(E18=E19,1,0)) | Y19: =IF(B19="","",IF(F18=F19,1,0)) | Z19: =IF(B19="","",SUM(W19:Y19)) | AA19: =IF(B19="","",IF(Z19=0,"",IF(Z19=1,"",IF(Z19=3,"",IF(Z19=2,IF(W19=0,"",IF(W19=1,IF(D19="L","H","L")))))))) | AB19: =IF(B19="","",IF(Z19=0,"",IF(Z19=1,"",IF(Z19=3,"",IF(Z19=2,IF(X19=0,"",IF(X19=1,IF(E19="O","E","O")))))))) | AC19: =IF(B19="","",IF(Z19=0,"",IF(Z19=1,"",IF(Z19=3,"",IF(Z19=2,IF(Y19=0,"",IF(Y19=1,IF(F19="R","B","R")))))))) | AE19: =IF(B19="","",VLOOKUP(B19,Tabelle2!$A$2:$B$38,2,0)) | AF19: =IF(B19="","",VLOOKUP(B19,Tabelle2!$D$2:$E$38,2,0)) | AG19: =IF(B19="","",VLOOKUP(B19,Tabelle2!$G$2:$H$38,2,0)) | AI19: =IF(Z19="","",IF(Z18=0,"",IF(Z18=1,"",IF(Z18=3,"",IF(Z18=2,IF(AA18="","",IF(AE19=AA18,1,-1))))))) | AJ19: =IF(Z19="","",IF(Z18=0,"",IF(Z18=1,"",IF(Z18=3,"",IF(Z18=2,IF(AB18="","",IF(AF19=AB18,1,-1))))))) | AK19: =IF(Z19="","",IF(Z18=0,"",IF(Z18=1,"",IF(Z18=3,"",IF(Z18=2,IF(AC18="","",IF(AG19=AC18,1,-1)))))))
D20: =IF(B20="","",VLOOKUP(B20,Tabelle2!$A$2:$B$38,2,0)) | E20: =IF(B20="","",VLOOKUP(B20,Tabelle2!$D$2:$E$38,2,0)) | F20: =IF(B20="","",VLOOKUP(B20,Tabelle2!$G$2:$H$38,2,0)) | H20: =IF(B20="","",IF(Z20=0,"",IF(Z20=1,"",IF(Z20=3,"",IF(Z20=2,IF(AA20="",AB20,AA20)))))) | I20: =IF(B20="","",IF(Z20=0,"",IF(Z20=1,"",IF(Z20=3,"",IF(Z20=2,IF(AC20="",AB20,AC20)))))) | K20: =IF(B20="","",IF(Z19=2,SUM(AI20:AK20),"")) | L20: =IF(B20="","",IF(K20="","",SUM($K$2:K20))) | W20: =IF(B20="","",IF(D19=D20,1,0)) | X20: =IF(B20="","",IF(E19=E20,1,0)) | Y20: =IF(B20="","",IF(F19=F20,1,0)) | Z20: =IF(B20="","",SUM(W20:Y20)) | AA20: =IF(B20="","",IF(Z20=0,"",IF(Z20=1,"",IF(Z20=3,"",IF(Z20=2,IF(W20=0,"",IF(W20=1,IF(D20="L","H","L")))))))) | AB20: =IF(B20="","",IF(Z20=0,"",IF(Z20=1,"",IF(Z20=3,"",IF(Z20=2,IF(X20=0,"",IF(X20=1,IF(E20="O","E","O")))))))) | AC20: =IF(B20="","",IF(Z20=0,"",IF(Z20=1,"",IF(Z20=3,"",IF(Z20=2,IF(Y20=0,"",IF(Y20=1,IF(F20="R","B","R")))))))) | AE20: =IF(B20="","",VLOOKUP(B20,Tabelle2!$A$2:$B$38,2,0)) | AF20: =IF(B20="","",VLOOKUP(B20,Tabelle2!$D$2:$E$38,2,0)) | AG20: =IF(B20="","",VLOOKUP(B20,Tabelle2!$G$2:$H$38,2,0)) | AI20: =IF(Z20="","",IF(Z19=0,"",IF(Z19=1,"",IF(Z19=3,"",IF(Z19=2,IF(AA19="","",IF(AE20=AA19,1,-1))))))) | AJ20: =IF(Z20="","",IF(Z19=0,"",IF(Z19=1,"",IF(Z19=3,"",IF(Z19=2,IF(AB19="","",IF(AF20=AB19,1,-1))))))) | AK20: =IF(Z20="","",IF(Z19=0,"",IF(Z19=1,"",IF(Z19=3,"",IF(Z19=2,IF(AC19="","",IF(AG20=AC19,1,-1)))))))
D21: =IF(B21="","",VLOOKUP(B21,Tabelle2!$A$2:$B$38,2,0)) | E21: =IF(B21="","",VLOOKUP(B21,Tabelle2!$D$2:$E$38,2,0)) | F21: =IF(B21="","",VLOOKUP(B21,Tabelle2!$G$2:$H$38,2,0)) | H21: =IF(B21="","",IF(Z21=0,"",IF(Z21=1,"",IF(Z21=3,"",IF(Z21=2,IF(AA21="",AB21,AA21)))))) | I21: =IF(B21="","",IF(Z21=0,"",IF(Z21=1,"",IF(Z21=3,"",IF(Z21=2,IF(AC21="",AB21,AC21)))))) | K21: =IF(B21="","",IF(Z20=2,SUM(AI21:AK21),"")) | L21: =IF(B21="","",IF(K21="","",SUM($K$2:K21))) | W21: =IF(B21="","",IF(D20=D21,1,0)) | X21: =IF(B21="","",IF(E20=E21,1,0)) | Y21: =IF(B21="","",IF(F20=F21,1,0)) | Z21: =IF(B21="","",SUM(W21:Y21)) | AA21: =IF(B21="","",IF(Z21=0,"",IF(Z21=1,"",IF(Z21=3,"",IF(Z21=2,IF(W21=0,"",IF(W21=1,IF(D21="L","H","L")))))))) | AB21: =IF(B21="","",IF(Z21=0,"",IF(Z21=1,"",IF(Z21=3,"",IF(Z21=2,IF(X21=0,"",IF(X21=1,IF(E21="O","E","O")))))))) | AC21: =IF(B21="","",IF(Z21=0,"",IF(Z21=1,"",IF(Z21=3,"",IF(Z21=2,IF(Y21=0,"",IF(Y21=1,IF(F21="R","B","R")))))))) | AE21: =IF(B21="","",VLOOKUP(B21,Tabelle2!$A$2:$B$38,2,0)) | AF21: =IF(B21="","",VLOOKUP(B21,Tabelle2!$D$2:$E$38,2,0)) | AG21: =IF(B21="","",VLOOKUP(B21,Tabelle2!$G$2:$H$38,2,0)) | AI21: =IF(Z21="","",IF(Z20=0,"",IF(Z20=1,"",IF(Z20=3,"",IF(Z20=2,IF(AA20="","",IF(AE21=AA20,1,-1))))))) | AJ21: =IF(Z21="","",IF(Z20=0,"",IF(Z20=1,"",IF(Z20=3,"",IF(Z20=2,IF(AB20="","",IF(AF21=AB20,1,-1))))))) | AK21: =IF(Z21="","",IF(Z20=0,"",IF(Z20=1,"",IF(Z20=3,"",IF(Z20=2,IF(AC20="","",IF(AG21=AC20,1,-1)))))))
D22: =IF(B22="","",VLOOKUP(B22,Tabelle2!$A$2:$B$38,2,0)) | E22: =IF(B22="","",VLOOKUP(B22,Tabelle2!$D$2:$E$38,2,0)) | F22: =IF(B22="","",VLOOKUP(B22,Tabelle2!$G$2:$H$38,2,0)) | H22: =IF(B22="","",IF(Z22=0,"",IF(Z22=1,"",IF(Z22=3,"",IF(Z22=2,IF(AA22="",AB22,AA22)))))) | I22: =IF(B22="","",IF(Z22=0,"",IF(Z22=1,"",IF(Z22=3,"",IF(Z22=2,IF(AC22="",AB22,AC22)))))) | K22: =IF(B22="","",IF(Z21=2,SUM(AI22:AK22),"")) | L22: =IF(B22="","",IF(K22="","",SUM($K$2:K22))) | W22: =IF(B22="","",IF(D21=D22,1,0)) | X22: =IF(B22="","",IF(E21=E22,1,0)) | Y22: =IF(B22="","",IF(F21=F22,1,0)) | Z22: =IF(B22="","",SUM(W22:Y22)) | AA22: =IF(B22="","",IF(Z22=0,"",IF(Z22=1,"",IF(Z22=3,"",IF(Z22=2,IF(W22=0,"",IF(W22=1,IF(D22="L","H","L")))))))) | AB22: =IF(B22="","",IF(Z22=0,"",IF(Z22=1,"",IF(Z22=3,"",IF(Z22=2,IF(X22=0,"",IF(X22=1,IF(E22="O","E","O")))))))) | AC22: =IF(B22="","",IF(Z22=0,"",IF(Z22=1,"",IF(Z22=3,"",IF(Z22=2,IF(Y22=0,"",IF(Y22=1,IF(F22="R","B","R")))))))) | AE22: =IF(B22="","",VLOOKUP(B22,Tabelle2!$A$2:$B$38,2,0)) | AF22: =IF(B22="","",VLOOKUP(B22,Tabelle2!$D$2:$E$38,2,0)) | AG22: =IF(B22="","",VLOOKUP(B22,Tabelle2!$G$2:$H$38,2,0)) | AI22: =IF(Z22="","",IF(Z21=0,"",IF(Z21=1,"",IF(Z21=3,"",IF(Z21=2,IF(AA21="","",IF(AE22=AA21,1,-1))))))) | AJ22: =IF(Z22="","",IF(Z21=0,"",IF(Z21=1,"",IF(Z21=3,"",IF(Z21=2,IF(AB21="","",IF(AF22=AB21,1,-1))))))) | AK22: =IF(Z22="","",IF(Z21=0,"",IF(Z21=1,"",IF(Z21=3,"",IF(Z21=2,IF(AC21="","",IF(AG22=AC21,1,-1)))))))
D23: =IF(B23="","",VLOOKUP(B23,Tabelle2!$A$2:$B$38,2,0)) | E23: =IF(B23="","",VLOOKUP(B23,Tabelle2!$D$2:$E$38,2,0)) | F23: =IF(B23="","",VLOOKUP(B23,Tabelle2!$G$2:$H$38,2,0)) | H23: =IF(B23="","",IF(Z23=0,"",IF(Z23=1,"",IF(Z23=3,"",IF(Z23=2,IF(AA23="",AB23,AA23)))))) | I23: =IF(B23="","",IF(Z23=0,"",IF(Z23=1,"",IF(Z23=3,"",IF(Z23=2,IF(AC23="",AB23,AC23)))))) | K23: =IF(B23="","",IF(Z22=2,SUM(AI23:AK23),"")) | L23: =IF(B23="","",IF(K23="","",SUM($K$2:K23))) | W23: =IF(B23="","",IF(D22=D23,1,0)) | X23: =IF(B23="","",IF(E22=E23,1,0)) | Y23: =IF(B23="","",IF(F22=F23,1,0)) | Z23: =IF(B23="","",SUM(W23:Y23)) | AA23: =IF(B23="","",IF(Z23=0,"",IF(Z23=1,"",IF(Z23=3,"",IF(Z23=2,IF(W23=0,"",IF(W23=1,IF(D23="L","H","L")))))))) | AB23: =IF(B23="","",IF(Z23=0,"",IF(Z23=1,"",IF(Z23=3,"",IF(Z23=2,IF(X23=0,"",IF(X23=1,IF(E23="O","E","O")))))))) | AC23: =IF(B23="","",IF(Z23=0,"",IF(Z23=1,"",IF(Z23=3,"",IF(Z23=2,IF(Y23=0,"",IF(Y23=1,IF(F23="R","B","R")))))))) | AE23: =IF(B23="","",VLOOKUP(B23,Tabelle2!$A$2:$B$38,2,0)) | AF23: =IF(B23="","",VLOOKUP(B23,Tabelle2!$D$2:$E$38,2,0)) | AG23: =IF(B23="","",VLOOKUP(B23,Tabelle2!$G$2:$H$38,2,0)) | AI23: =IF(Z23="","",IF(Z22=0,"",IF(Z22=1,"",IF(Z22=3,"",IF(Z22=2,IF(AA22="","",IF(AE23=AA22,1,-1))))))) | AJ23: =IF(Z23="","",IF(Z22=0,"",IF(Z22=1,"",IF(Z22=3,"",IF(Z22=2,IF(AB22="","",IF(AF23=AB22,1,-1))))))) | AK23: =IF(Z23="","",IF(Z22=0,"",IF(Z22=1,"",IF(Z22=3,"",IF(Z22=2,IF(AC22="","",IF(AG23=AC22,1,-1)))))))
D24: =IF(B24="","",VLOOKUP(B24,Tabelle2!$A$2:$B$38,2,0)) | E24: =IF(B24="","",VLOOKUP(B24,Tabelle2!$D$2:$E$38,2,0)) | F24: =IF(B24="","",VLOOKUP(B24,Tabelle2!$G$2:$H$38,2,0)) | H24: =IF(B24="","",IF(Z24=0,"",IF(Z24=1,"",IF(Z24=3,"",IF(Z24=2,IF(AA24="",AB24,AA24)))))) | I24: =IF(B24="","",IF(Z24=0,"",IF(Z24=1,"",IF(Z24=3,"",IF(Z24=2,IF(AC24="",AB24,AC24)))))) | K24: =IF(B24="","",IF(Z23=2,SUM(AI24:AK24),"")) | L24: =IF(B24="","",IF(K24="","",SUM($K$2:K24))) | W24: =IF(B24="","",IF(D23=D24,1,0)) | X24: =IF(B24="","",IF(E23=E24,1,0)) | Y24: =IF(B24="","",IF(F23=F24,1,0)) | Z24: =IF(B24="","",SUM(W24:Y24)) | AA24: =IF(B24="","",IF(Z24=0,"",IF(Z24=1,"",IF(Z24=3,"",IF(Z24=2,IF(W24=0,"",IF(W24=1,IF(D24="L","H","L")))))))) | AB24: =IF(B24="","",IF(Z24=0,"",IF(Z24=1,"",IF(Z24=3,"",IF(Z24=2,IF(X24=0,"",IF(X24=1,IF(E24="O","E","O")))))))) | AC24: =IF(B24="","",IF(Z24=0,"",IF(Z24=1,"",IF(Z24=3,"",IF(Z24=2,IF(Y24=0,"",IF(Y24=1,IF(F24="R","B","R")))))))) | AE24: =IF(B24="","",VLOOKUP(B24,Tabelle2!$A$2:$B$38,2,0)) | AF24: =IF(B24="","",VLOOKUP(B24,Tabelle2!$D$2:$E$38,2,0)) | AG24: =IF(B24="","",VLOOKUP(B24,Tabelle2!$G$2:$H$38,2,0)) | AI24: =IF(Z24="","",IF(Z23=0,"",IF(Z23=1,"",IF(Z23=3,"",IF(Z23=2,IF(AA23="","",IF(AE24=AA23,1,-1))))))) | AJ24: =IF(Z24="","",IF(Z23=0,"",IF(Z23=1,"",IF(Z23=3,"",IF(Z23=2,IF(AB23="","",IF(AF24=AB23,1,-1))))))) | AK24: =IF(Z24="","",IF(Z23=0,"",IF(Z23=1,"",IF(Z23=3,"",IF(Z23=2,IF(AC23="","",IF(AG24=AC23,1,-1)))))))
D25: =IF(B25="","",VLOOKUP(B25,Tabelle2!$A$2:$B$38,2,0)) | E25: =IF(B25="","",VLOOKUP(B25,Tabelle2!$D$2:$E$38,2,0)) | F25: =IF(B25="","",VLOOKUP(B25,Tabelle2!$G$2:$H$38,2,0)) | H25: =IF(B25="","",IF(Z25=0,"",IF(Z25=1,"",IF(Z25=3,"",IF(Z25=2,IF(AA25="",AB25,AA25)))))) | I25: =IF(B25="","",IF(Z25=0,"",IF(Z25=1,"",IF(Z25=3,"",IF(Z25=2,IF(AC25="",AB25,AC25)))))) | K25: =IF(B25="","",IF(Z24=2,SUM(AI25:AK25),"")) | L25: =IF(B25="","",IF(K25="","",SUM($K$2:K25))) | W25: =IF(B25="","",IF(D24=D25,1,0)) | X25: =IF(B25="","",IF(E24=E25,1,0)) | Y25: =IF(B25="","",IF(F24=F25,1,0)) | Z25: =IF(B25="","",SUM(W25:Y25)) | AA25: =IF(B25="","",IF(Z25=0,"",IF(Z25=1,"",IF(Z25=3,"",IF(Z25=2,IF(W25=0,"",IF(W25=1,IF(D25="L","H","L")))))))) | AB25: =IF(B25="","",IF(Z25=0,"",IF(Z25=1,"",IF(Z25=3,"",IF(Z25=2,IF(X25=0,"",IF(X25=1,IF(E25="O","E","O")))))))) | AC25: =IF(B25="","",IF(Z25=0,"",IF(Z25=1,"",IF(Z25=3,"",IF(Z25=2,IF(Y25=0,"",IF(Y25=1,IF(F25="R","B","R")))))))) | AE25: =IF(B25="","",VLOOKUP(B25,Tabelle2!$A$2:$B$38,2,0)) | AF25: =IF(B25="","",VLOOKUP(B25,Tabelle2!$D$2:$E$38,2,0)) | AG25: =IF(B25="","",VLOOKUP(B25,Tabelle2!$G$2:$H$38,2,0)) | AI25: =IF(Z25="","",IF(Z24=0,"",IF(Z24=1,"",IF(Z24=3,"",IF(Z24=2,IF(AA24="","",IF(AE25=AA24,1,-1))))))) | AJ25: =IF(Z25="","",IF(Z24=0,"",IF(Z24=1,"",IF(Z24=3,"",IF(Z24=2,IF(AB24="","",IF(AF25=AB24,1,-1))))))) | AK25: =IF(Z25="","",IF(Z24=0,"",IF(Z24=1,"",IF(Z24=3,"",IF(Z24=2,IF(AC24="","",IF(AG25=AC24,1,-1)))))))
D26: =IF(B26="","",VLOOKUP(B26,Tabelle2!$A$2:$B$38,2,0)) | E26: =IF(B26="","",VLOOKUP(B26,Tabelle2!$D$2:$E$38,2,0)) | F26: =IF(B26="","",VLOOKUP(B26,Tabelle2!$G$2:$H$38,2,0)) | H26: =IF(B26="","",IF(Z26=0,"",IF(Z26=1,"",IF(Z26=3,"",IF(Z26=2,IF(AA26="",AB26,AA26)))))) | I26: =IF(B26="","",IF(Z26=0,"",IF(Z26=1,"",IF(Z26=3,"",IF(Z26=2,IF(AC26="",AB26,AC26)))))) | K26: =IF(B26="","",IF(Z25=2,SUM(AI26:AK26),"")) | L26: =IF(B26="","",IF(K26="","",SUM($K$2:K26))) | W26: =IF(B26="","",IF(D25=D26,1,0)) | X26: =IF(B26="","",IF(E25=E26,1,0)) | Y26: =IF(B26="","",IF(F25=F26,1,0)) | Z26: =IF(B26="","",SUM(W26:Y26)) | AA26: =IF(B26="","",IF(Z26=0,"",IF(Z26=1,"",IF(Z26=3,"",IF(Z26=2,IF(W26=0,"",IF(W26=1,IF(D26="L","H","L")))))))) | AB26: =IF(B26="","",IF(Z26=0,"",IF(Z26=1,"",IF(Z26=3,"",IF(Z26=2,IF(X26=0,"",IF(X26=1,IF(E26="O","E","O")))))))) | AC26: =IF(B26="","",IF(Z26=0,"",IF(Z26=1,"",IF(Z26=3,"",IF(Z26=2,IF(Y26=0,"",IF(Y26=1,IF(F26="R","B","R")))))))) | AE26: =IF(B26="","",VLOOKUP(B26,Tabelle2!$A$2:$B$38,2,0)) | AF26: =IF(B26="","",VLOOKUP(B26,Tabelle2!$D$2:$E$38,2,0)) | AG26: =IF(B26="","",VLOOKUP(B26,Tabelle2!$G$2:$H$38,2,0)) | AI26: =IF(Z26="","",IF(Z25=0,"",IF(Z25=1,"",IF(Z25=3,"",IF(Z25=2,IF(AA25="","",IF(AE26=AA25,1,-1))))))) | AJ26: =IF(Z26="","",IF(Z25=0,"",IF(Z25=1,"",IF(Z25=3,"",IF(Z25=2,IF(AB25="","",IF(AF26=AB25,1,-1))))))) | AK26: =IF(Z26="","",IF(Z25=0,"",IF(Z25=1,"",IF(Z25=3,"",IF(Z25=2,IF(AC25="","",IF(AG26=AC25,1,-1)))))))
D27: =IF(B27="","",VLOOKUP(B27,Tabelle2!$A$2:$B$38,2,0)) | E27: =IF(B27="","",VLOOKUP(B27,Tabelle2!$D$2:$E$38,2,0)) | F27: =IF(B27="","",VLOOKUP(B27,Tabelle2!$G$2:$H$38,2,0)) | H27: =IF(B27="","",IF(Z27=0,"",IF(Z27=1,"",IF(Z27=3,"",IF(Z27=2,IF(AA27="",AB27,AA27)))))) | I27: =IF(B27="","",IF(Z27=0,"",IF(Z27=1,"",IF(Z27=3,"",IF(Z27=2,IF(AC27="",AB27,AC27)))))) | K27: =IF(B27="","",IF(Z26=2,SUM(AI27:AK27),"")) | L27: =IF(B27="","",IF(K27="","",SUM($K$2:K27))) | W27: =IF(B27="","",IF(D26=D27,1,0)) | X27: =IF(B27="","",IF(E26=E27,1,0)) | Y27: =IF(B27="","",IF(F26=F27,1,0)) | Z27: =IF(B27="","",SUM(W27:Y27)) | AA27: =IF(B27="","",IF(Z27=0,"",IF(Z27=1,"",IF(Z27=3,"",IF(Z27=2,IF(W27=0,"",IF(W27=1,IF(D27="L","H","L")))))))) | AB27: =IF(B27="","",IF(Z27=0,"",IF(Z27=1,"",IF(Z27=3,"",IF(Z27=2,IF(X27=0,"",IF(X27=1,IF(E27="O","E","O")))))))) | AC27: =IF(B27="","",IF(Z27=0,"",IF(Z27=1,"",IF(Z27=3,"",IF(Z27=2,IF(Y27=0,"",IF(Y27=1,IF(F27="R","B","R")))))))) | AE27: =IF(B27="","",VLOOKUP(B27,Tabelle2!$A$2:$B$38,2,0)) | AF27: =IF(B27="","",VLOOKUP(B27,Tabelle2!$D$2:$E$38,2,0)) | AG27: =IF(B27="","",VLOOKUP(B27,Tabelle2!$G$2:$H$38,2,0)) | AI27: =IF(Z27="","",IF(Z26=0,"",IF(Z26=1,"",IF(Z26=3,"",IF(Z26=2,IF(AA26="","",IF(AE27=AA26,1,-1))))))) | AJ27: =IF(Z27="","",IF(Z26=0,"",IF(Z26=1,"",IF(Z26=3,"",IF(Z26=2,IF(AB26="","",IF(AF27=AB26,1,-1))))))) | AK27: =IF(Z27="","",IF(Z26=0,"",IF(Z26=1,"",IF(Z26=3,"",IF(Z26=2,IF(AC26="","",IF(AG27=AC26,1,-1)))))))
D28: =IF(B28="","",VLOOKUP(B28,Tabelle2!$A$2:$B$38,2,0)) | E28: =IF(B28="","",VLOOKUP(B28,Tabelle2!$D$2:$E$38,2,0)) | F28: =IF(B28="","",VLOOKUP(B28,Tabelle2!$G$2:$H$38,2,0)) | H28: =IF(B28="","",IF(Z28=0,"",IF(Z28=1,"",IF(Z28=3,"",IF(Z28=2,IF(AA28="",AB28,AA28)))))) | I28: =IF(B28="","",IF(Z28=0,"",IF(Z28=1,"",IF(Z28=3,"",IF(Z28=2,IF(AC28="",AB28,AC28)))))) | K28: =IF(B28="","",IF(Z27=2,SUM(AI28:AK28),"")) | L28: =IF(B28="","",IF(K28="","",SUM($K$2:K28))) | W28: =IF(B28="","",IF(D27=D28,1,0)) | X28: =IF(B28="","",IF(E27=E28,1,0)) | Y28: =IF(B28="","",IF(F27=F28,1,0)) | Z28: =IF(B28="","",SUM(W28:Y28)) | AA28: =IF(B28="","",IF(Z28=0,"",IF(Z28=1,"",IF(Z28=3,"",IF(Z28=2,IF(W28=0,"",IF(W28=1,IF(D28="L","H","L")))))))) | AB28: =IF(B28="","",IF(Z28=0,"",IF(Z28=1,"",IF(Z28=3,"",IF(Z28=2,IF(X28=0,"",IF(X28=1,IF(E28="O","E","O")))))))) | AC28: =IF(B28="","",IF(Z28=0,"",IF(Z28=1,"",IF(Z28=3,"",IF(Z28=2,IF(Y28=0,"",IF(Y28=1,IF(F28="R","B","R")))))))) | AE28: =IF(B28="","",VLOOKUP(B28,Tabelle2!$A$2:$B$38,2,0)) | AF28: =IF(B28="","",VLOOKUP(B28,Tabelle2!$D$2:$E$38,2,0)) | AG28: =IF(B28="","",VLOOKUP(B28,Tabelle2!$G$2:$H$38,2,0)) | AI28: =IF(Z28="","",IF(Z27=0,"",IF(Z27=1,"",IF(Z27=3,"",IF(Z27=2,IF(AA27="","",IF(AE28=AA27,1,-1))))))) | AJ28: =IF(Z28="","",IF(Z27=0,"",IF(Z27=1,"",IF(Z27=3,"",IF(Z27=2,IF(AB27="","",IF(AF28=AB27,1,-1))))))) | AK28: =IF(Z28="","",IF(Z27=0,"",IF(Z27=1,"",IF(Z27=3,"",IF(Z27=2,IF(AC27="","",IF(AG28=AC27,1,-1)))))))
... D600: =IF(B600="","",VLOOKUP(B600,Tabelle2!$A$2:$B$38,2,0)) | E600: =IF(B600="","",VLOOKUP(B600,Tabelle2!$D$2:$E$38,2,0)) | F600: =IF(B600="","",VLOOKUP(B600,Tabelle2!$G$2:$H$38,2,0)) | H600: =IF(B600="","",IF(Z600=0,"",IF(Z600=1,"",IF(Z600=3,"",IF(Z600=2,IF(AA600="",AB600,AA600)))))) | I600: =IF(B600="","",IF(Z600=0,"",IF(Z600=1,"",IF(Z600=3,"",IF(Z600=2,IF(AC600="",AB600,AC600)))))) | K600: =IF(B600="","",IF(Z599=2,SUM(AI600:AK600),"")) | L600: =IF(B600="","",IF(K600="","",SUM($K$2:K600))) | W600: =IF(B600="","",IF(D599=D600,1,0)) | X600: =IF(B600="","",IF(E599=E600,1,0)) | Y600: =IF(B600="","",IF(F599=F600,1,0)) | Z600: =IF(B600="","",SUM(W600:Y600)) | AA600: =IF(B600="","",IF(Z600=0,"",IF(Z600=1,"",IF(Z600=3,"",IF(Z600=2,IF(W600=0,"",IF(W600=1,IF(D600="L","H","L")))))))) | AB600: =IF(B600="","",IF(Z600=0,"",IF(Z600=1,"",IF(Z600=3,"",IF(Z600=2,IF(X600=0,"",IF(X600=1,IF(E600="O","E","O")))))))) | AC600: =IF(B600="","",IF(Z600=0,"",IF(Z600=1,"",IF(Z600=3,"",IF(Z600=2,IF(Y600=0,"",IF(Y600=1,IF(F600="R","B","R")))))))) | AE600: =IF(B600="","",VLOOKUP(B600,Tabelle2!$A$2:$B$38,2,0)) | AF600: =IF(B600="","",VLOOKUP(B600,Tabelle2!$D$2:$E$38,2,0)) | AG600: =IF(B600="","",VLOOKUP(B600,Tabelle2!$G$2:$H$38,2,0)) | AI600: =IF(Z600="","",IF(Z599=0,"",IF(Z599=1,"",IF(Z599=3,"",IF(Z599=2,IF(AA599="","",IF(AE600=AA599,1,-1))))))) | AJ600: =IF(Z600="","",IF(Z599=0,"",IF(Z599=1,"",IF(Z599=3,"",IF(Z599=2,IF(AB599="","",IF(AF600=AB599,1,-1))))))) | AK600: =IF(Z600="","",IF(Z599=0,"",IF(Z599=1,"",IF(Z599=3,"",IF(Z599=2,IF(AC599="","",IF(AG600=AC599,1,-1)))))))

Sheet Tabelle2
A1: Num | B1: H/L | D1: Num | E1: O/E | G1: Num | H1: R/B | J1: Num | K1: Col
A2: 0 | B2: Z | D2: 0 | E2: Z | G2: 0 | H2: Z | J2: 0 | K2: 0
A3: 1 | B3: L | D3: 1 | E3: O | G3: 1 | H3: R | J3: 1 | K3: 1
A4: 2 | B4: L | D4: 2 | E4: E | G4: 2 | H4: B | J4: 2 | K4: 2
A5: 3 | B5: L | D5: 3 | E5: O | G5: 3 | H5: R | J5: 3 | K5: 3
A6: 4 | B6: L | D6: 4 | E6: E | G6: 4 | H6: B | J6: 4 | K6: 1 | O6: 5 | P6: =VLOOKUP(O6,D1:E38,2,0) -> O | Q6: =VLOOKUP(O6,G2:H38,2,0) -> R
A7: 5 | B7: L | D7: 5 | E7: O | G7: 5 | H7: R | J7: 5 | K7: 2
A8: 6 | B8: L | D8: 6 | E8: E | G8: 6 | H8: B | J8: 6 | K8: 3
A9: 7 | B9: L | D9: 7 | E9: O | G9: 7 | H9: R | J9: 7 | K9: 1
A10: 8 | B10: L | D10: 8 | E10: E | G10: 8 | H10: B | J10: 8 | K10: 2
A11: 9 | B11: L | D11: 9 | E11: O | G11: 9 | H11: R | J11: 9 | K11: 3
A12: 10 | B12: L | D12: 10 | E12: E | G12: 10 | H12: B | J12: 10 | K12: 1
A13: 11 | B13: L | D13: 11 | E13: O | G13: 11 | H13: B | J13: 11 | K13: 2
A14: 12 | B14: L | D14: 12 | E14: E | G14: 12 | H14: R | J14: 12 | K14: 3
A15: 13 | B15: L | D15: 13 | E15: O | G15: 13 | H15: B | J15: 13 | K15: 1
A16: 14 | B16: L | D16: 14 | E16: E | G16: 14 | H16: R | J16: 14 | K16: 2
A17: 15 | B17: L | D17: 15 | E17: O | G17: 15 | H17: B | J17: 15 | K17: 3
A18: 16 | B18: L | D18: 16 | E18: E | G18: 16 | H18: R | J18: 16 | K18: 1
... A38: 36 | B38: H | D38: 36 | E38: E | G38: 36 | H38: R | J38: 36 | K38: 3

Sheet Tabelle3
