Workbook
Name CodeStart: #REF!
Name GBP_Curncy: #REF!
Name SILV: #REF!
Name silver: #REF!
Name Week: #REF!

Sheet DATA
A1: Number | B1: Split
A2: 1 | B2: 1
A3: 2 | B3: 2
A4: 3 | B4: 3
A5: 4 | B5: 1
A6: 5 | B6: 2
A7: 6 | B7: 3
A8: 7 | B8: 4
A9: 8 | B9: 5
A10: 9 | B10: 6
A11: 10 | B11: 4
A12: 11 | B12: 5
A13: 12 | B13: 6
... A37: 36 | B37: 18
A38: 0 | B38: G

Sheet T 2,3,4,7
A1: Spielbank Wiesbaden Permanenzen
A3: Eine VerÃ¶ffentlichung oder Ver-
A4: vielfÃ¤ltigung ohne schriftliche
A5: Genehmigung dieser Daten ist
A6: nicht gestattet.
A8: Tisch: T2,3,4,& 7
A9: Datum: 2013-01-20
A11: **************************** DATA ******************************* | S11: **************************** PLAY *******************************
S12: Table | T12: Time | U12: Spin | V12: # | W12: Street | Y12: Next Bet | Z12: Result | AB12: Units | AC12: P/L | AD12: Total | AE12: Max | AF12: DD
A13: T2 | E13: T3 | I13: T4 | M13: T7
A14: See Below | E14: 5 | G14: 0.61815972 | I14: See Below | M14: See Below | S14: T3 | T14: =G14 -> 0.61815972 | U14: 1 | V14: =E14 -> 5 | W14: =VLOOKUP(V14,DATA!A:B,2,FALSE) -> 2 | AD14: =AC14 -> 0 | AE14: =AD14 -> 0 | AF14: =AE14-AD14 -> 0
E15: 10 | G15: 0.61939815 | S15: T3 | T15: =G15 -> 0.61939815 | U15: 2 | V15: =E15 -> 10 | W15: =VLOOKUP(V15,DATA!A:B,2,FALSE) -> 4 | AD15: =AC15+AD14 -> 0 | AE15: =MAX(AD15,AE14) -> 0 | AF15: =AE15-AD15 -> 0
E16: 20 | G16: 0.62023148 | S16: T3 | T16: =G16 -> 0.62023148 | U16: 3 | V16: =E16 -> 20 | W16: =VLOOKUP(V16,DATA!A:B,2,FALSE) -> 11 | AD16: =AC16+AD15 -> 0 | AE16: =MAX(AD16,AE15) -> 0 | AF16: =AE16-AD16 -> 0
E17: 8 | G17: 0.62105324 | S17: T3 | T17: =G17 -> 0.62105324 | U17: 4 | V17: =E17 -> 8 | W17: =VLOOKUP(V17,DATA!A:B,2,FALSE) -> 5 | AD17: =AC17+AD16 -> 0 | AE17: =MAX(AD17,AE16) -> 0 | AF17: =AE17-AD17 -> 0
E18: 16 | G18: 0.62196759 | S18: T3 | T18: =G18 -> 0.62196759 | U18: 5 | V18: =E18 -> 16 | W18: =VLOOKUP(V18,DATA!A:B,2,FALSE) -> 7 | AD18: =AC18+AD17 -> 0 | AE18: =MAX(AD18,AE17) -> 0 | AF18: =AE18-AD18 -> 0
E19: 17 | G19: 0.62261574 | S19: T3 | T19: =G19 -> 0.62261574 | U19: 6 | V19: =E19 -> 17 | W19: =VLOOKUP(V19,DATA!A:B,2,FALSE) -> 8 | AD19: =AC19+AD18 -> 0 | AE19: =MAX(AD19,AE18) -> 0 | AF19: =AE19-AD19 -> 0
E20: 20 | G20: 0.6243287 | S20: T3 | T20: =G20 -> 0.6243287 | U20: 7 | V20: =E20 -> 20 | W20: =VLOOKUP(V20,DATA!A:B,2,FALSE) -> 11 | AD20: =AC20+AD19 -> 0 | AE20: =MAX(AD20,AE19) -> 0 | AF20: =AE20-AD20 -> 0
E21: 24 | G21: 0.62509259 | S21: T3 | T21: =G21 -> 0.62509259 | U21: 8 | V21: =E21 -> 24 | W21: =VLOOKUP(V21,DATA!A:B,2,FALSE) -> 12 | AD21: =AC21+AD20 -> 0 | AE21: =MAX(AD21,AE20) -> 0 | AF21: =AE21-AD21 -> 0
E22: 32 | G22: 0.62712963 | S22: T3 | T22: =G22 -> 0.62712963 | U22: 9 | V22: =E22 -> 32 | W22: =VLOOKUP(V22,DATA!A:B,2,FALSE) -> 17 | Y22: LAST | AD22: =AC22+AD21 -> 0 | AE22: =MAX(AD22,AE21) -> 0 | AF22: =AE22-AD22 -> 0
E23: 8 | G23: 0.62784722 | S23: T3 | T23: =G23 -> 0.62784722 | U23: 10 | V23: =E23 -> 8 | W23: =VLOOKUP(V23,DATA!A:B,2,FALSE) -> 5 | Z23: W | AC23: 9 | AD23: =AC23+AD22 -> 9 | AE23: =MAX(AD23,AE22) -> 9 | AF23: =AE23-AD23 -> 0
E24: 23 | G24: 0.62898148 | S24: T3 | T24: =G24 -> 0.62898148 | U24: 11 | V24: =E24 -> 23 | W24: =VLOOKUP(V24,DATA!A:B,2,FALSE) -> 11 | Z24: W | AC24: 9 | AD24: =AC24+AD23 -> 18 | AE24: =MAX(AD24,AE23) -> 18 | AF24: =AE24-AD24 -> 0
E25: 2 | G25: 0.62967593 | S25: T3 | T25: =G25 -> 0.62967593 | U25: 12 | V25: =E25 -> 2 | W25: =VLOOKUP(V25,DATA!A:B,2,FALSE) -> 2 | Z25: W | AC25: 9 | AD25: =AC25+AD24 -> 27 | AE25: =MAX(AD25,AE24) -> 27 | AF25: =AE25-AD25 -> 0
E26: 23 | G26: 0.63071759 | S26: T3 | T26: =G26 -> 0.63071759 | U26: 13 | V26: =E26 -> 23 | W26: =VLOOKUP(V26,DATA!A:B,2,FALSE) -> 11 | Z26: W | AC26: 9 | AD26: =AC26+AD25 -> 36 | AE26: =MAX(AD26,AE25) -> 36 | AF26: =AE26-AD26 -> 0
E27: 2 | G27: 0.63158565 | S27: T3 | T27: =G27 -> 0.63158565 | U27: 14 | V27: =E27 -> 2 | W27: =VLOOKUP(V27,DATA!A:B,2,FALSE) -> 2 | Z27: W | AC27: 9 | AD27: =AC27+AD26 -> 45 | AE27: =MAX(AD27,AE26) -> 45 | AF27: =AE27-AD27 -> 0
E28: 36 | G28: 0.63299769 | S28: T3 | T28: =G28 -> 0.63299769 | U28: 15 | V28: =E28 -> 36 | W28: =VLOOKUP(V28,DATA!A:B,2,FALSE) -> 18 | Y28: FURTHEREST | Z28: L | AC28: -9 | AD28: =AC28+AD27 -> 36 | AE28: =MAX(AD28,AE27) -> 45 | AF28: =AE28-AD28 -> 9
E29: 14 | G29: 0.63396991 | S29: T3 | T29: =G29 -> 0.63396991 | U29: 16 | V29: =E29 -> 14 | W29: =VLOOKUP(V29,DATA!A:B,2,FALSE) -> 8 | Y29: LAST | Z29: L | AC29: -9 | AD29: =AC29+AD28 -> 27 | AE29: =MAX(AD29,AE28) -> 45 | AF29: =AE29-AD29 -> 18
E30: 32 | G30: 0.63508102 | S30: T3 | T30: =G30 -> 0.63508102 | U30: 17 | V30: =E30 -> 32 | W30: =VLOOKUP(V30,DATA!A:B,2,FALSE) -> 17 | Z30: W | AC30: 9 | AD30: =AC30+AD29 -> 36 | AE30: =MAX(AD30,AE29) -> 45 | AF30: =AE30-AD30 -> 9
E31: 13 | G31: 0.63665509 | S31: T3 | T31: =G31 -> 0.63665509 | U31: 18 | V31: =E31 -> 13 | W31: =VLOOKUP(V31,DATA!A:B,2,FALSE) -> 7 | Z31: W | AC31: 9 | AD31: =AC31+AD30 -> 45 | AE31: =MAX(AD31,AE30) -> 45 | AF31: =AE31-AD31 -> 0
E32: 10 | G32: 0.63795139 | AD32: =AC32+AD31 -> 45 | AE32: =MAX(AD32,AE31) -> 45 | AF32: =AE32-AD32 -> 0
E33: 29 | G33: 0.63893519 | AD33: =AC33+AD32 -> 45 | AE33: =MAX(AD33,AE32) -> 45 | AF33: =AE33-AD33 -> 0
E34: 3 | G34: 0.64013889 | AD34: =AC34+AD33 -> 45 | AE34: =MAX(AD34,AE33) -> 45 | AF34: =AE34-AD34 -> 0
E35: 17 | G35: 0.64097222 | AD35: =AC35+AD34 -> 45 | AE35: =MAX(AD35,AE34) -> 45 | AF35: =AE35-AD35 -> 0
E36: 19 | G36: 0.64190972 | AD36: =AC36+AD35 -> 45 | AE36: =MAX(AD36,AE35) -> 45 | AF36: =AE36-AD36 -> 0
E37: 33 | G37: 0.64309028 | AD37: =AC37+AD36 -> 45 | AE37: =MAX(AD37,AE36) -> 45 | AF37: =AE37-AD37 -> 0
E38: 30 | G38: 0.64405093 | AD38: =AC38+AD37 -> 45 | AE38: =MAX(AD38,AE37) -> 45 | AF38: =AE38-AD38 -> 0
E39: 18 | G39: 0.64527778 | AD39: =AC39+AD38 -> 45 | AE39: =MAX(AD39,AE38) -> 45 | AF39: =AE39-AD39 -> 0
E40: 24 | G40: 0.64638889 | AD40: =AC40+AD39 -> 45 | AE40: =MAX(AD40,AE39) -> 45 | AF40: =AE40-AD40 -> 0
E41: -- | G41: 0.64678241 | AD41: =AC41+AD40 -> 45 | AE41: =MAX(AD41,AE40) -> 45 | AF41: =AE41-AD41 -> 0
E42: 17 | G42: 0.64765046 | I42: T4 | AD42: =AC42+AD41 -> 45 | AE42: =MAX(AD42,AE41) -> 45 | AF42: =AE42-AD42 -> 0
E43: 20 | G43: 0.64859954 | I43: 19 | K43: 0.64815972 | S43: T4 | T43: =K43 -> 0.64815972 | U43: 19 | V43: =I43 -> 19 | W43: =VLOOKUP(V43,DATA!A:B,2,FALSE) -> 10 | Y43: FURTHEREST | Z43: L | AC43: -9 | AD43: =AC43+AD42 -> 36 | AE43: =MAX(AD43,AE42) -> 45 | AF43: =AE43-AD43 -> 9
...
