Workbook
Name CodeStart: #REF!
Name GBP_Curncy: #REF!
Name SILV: #REF!
Name silver: #REF!
Name Week: #REF!

Sheet DATA
A1: Number | B1: Split
A2: 1 | B2: 1
A3: 2 | B3: 2
A4: 3 | B4: 3
A5: 4 | B5: 1
A6: 5 | B6: 2
A7: 6 | B7: 3
A8: 7 | B8: 4
A9: 8 | B9: 5
A10: 9 | B10: 6
A11: 10 | B11: 4
A12: 11 | B12: 5
A13: 12 | B13: 6
... A37: 36 | B37: 18
A38: 0 | B38: G

Sheet T 2,3,4,7
A1: Spielbank Wiesbaden Permanenzen
A3: Eine VerÃ¶ffentlichung oder Ver-
A4: vielfÃ¤ltigung ohne schriftliche
A5: Genehmigung dieser Daten ist
A6: nicht gestattet.
A8: Tisch: T2,3,4,& 7
A9: Datum: 2013-01-20
A11: **************************** DATA ******************************* | S11: **************************** PLAY *******************************
S12: Table | T12: Time | U12: Spin | V12: # | W12: Street | Y12: Next Bet | Z12: Result | AB12: Units | AC12: P/L | AD12: Total | AE12: Max | AF12: DD
A13: T2 | E13: T3 | I13: T4 | M13: T7
A14: See Below | E14: 5 | G14: 0.61815972 | I14: See Below | M14: See Below | S14: T3 | T14: =G14 -> 0.61815972 | U14: 1 | V14: =E14 -> 5 | W14: =VLOOKUP(V14,DATA!A:B,2,FALSE) -> 2 | AD14: =AC14 -> 0 | AE14: =AD14 -> 0 | AF14: =AE14-AD14 -> 0
E15: 10 | G15: 0.61939815 | S15: T3 | T15: =G15 -> 0.61939815 | U15: 2 | V15: =E15 -> 10 | W15: =VLOOKUP(V15,DATA!A:B,2,FALSE) -> 4 | AD15: =AC15+AD14 -> 0 | AE15: =MAX(AD15,AE14) -> 0 | AF15: =AE15-AD15 -> 0
E16: 20 | G16: 0.62023148 | S16: T3 | T16: =G16 -> 0.62023148 | U16: 3 | V16: =E16 -> 20 | W16: =VLOOKUP(V16,DATA!A:B,2,FALSE) -> 11 | AD16: =AC16+AD15 -> 0 | AE16: =MAX(AD16,AE15) -> 0 | AF16: =AE16-AD16 -> 0
E17: 8 | G17: 0.62105324 | S17: T3 | T17: =G17 -> 0.62105324 | U17: 4 | V17: =E17 -> 8 | W17: =VLOOKUP(V17,DATA!A:B,2,FALSE) -> 5 | AD17: =AC17+AD16 -> 0 | AE17: =MAX(AD17,AE16) -> 0 | AF17: =AE17-AD17 -> 0
E18: 16 | G18: 0.62196759 | S18: T3 | T18: =G18 -> 0.62196759 | U18: 5 | V18: =E18 -> 16 | W18: =VLOOKUP(V18,DATA!A:B,2,FALSE) -> 7 | AD18: =AC18+AD17 -> 0 | AE18: =MAX(AD18,AE17) -> 0 | AF18: =AE18-AD18 -> 0
E19: 17 | G19: 0.62261574 | S19: T3 | T19: =G19 -> 0.62261574 | U19: 6 | V19: =E19 -> 17 | W19: =VLOOKUP(V19,DATA!A:B,2,FALSE) -> 8 | AD19: =AC19+AD18 -> 0 | AE19: =MAX(AD19,AE18) -> 0 | AF19: =AE19-AD19 -> 0
E20: 20 | G20: 0.6243287 | S20: T3 | T20: =G20 -> 0.6243287 | U20: 7 | V20: =E20 -> 20 | W20: =VLOOKUP(V20,DATA!A:B,2,FALSE) -> 11 | AD20: =AC20+AD19 -> 0 | AE20: =MAX(AD20,AE19) -> 0 | AF20: =AE20-AD20 -> 0
E21: 24 | G21: 0.62509259 | S21: T3 | T21: =G21 -> 0.62509259 | U21: 8 | V21: =E21 -> 24 | W21: =VLOOKUP(V21,DATA!A:B,2,FALSE) -> 12 | AD21: =AC21+AD20 -> 0 | AE21: =MAX(AD21,AE20) -> 0 | AF21: =AE21-AD21 -> 0
E22: 32 | G22: 0.62712963 | S22: T3 | T22: =G22 -> 0.62712963 | U22: 9 | V22: =E22 -> 32 | W22: =VLOOKUP(V22,DATA!A:B,2,FALSE) -> 17 | Y22: LAST | AD22: =AC22+AD21 -> 0 | AE22: =MAX(AD22,AE21) -> 0 | AF22: =AE22-AD22 -> 0
E23: 8 | G23: 0.62784722 | S23: T3 | T23: =G23 -> 0.62784722 | U23: 10 | V23: =E23 -> 8 | W23: =VLOOKUP(V23,DATA!A:B,2,FALSE) -> 5 | Z23: W | AC23: 9 | AD23: =AC23+AD22 -> 9 | AE23: =MAX(AD23,AE22) -> 9 | AF23: =AE23-AD23 -> 0
E24: 23 | G24: 0.62898148 | S24: T3 | T24: =G24 -> 0.62898148 | U24: 11 | V24: =E24 -> 23 | W24: =VLOOKUP(V24,DATA!A:B,2,FALSE) -> 11 | Z24: W | AC24: 9 | AD24: =AC24+AD23 -> 18 | AE24: =MAX(AD24,AE23) -> 18 | AF24: =AE24-AD24 -> 0
E25: 2 | G25: 0.62967593 | S25: T3 | T25: =G25 -> 0.62967593 | U25: 12 | V25: =E25 -> 2 | W25: =VLOOKUP(V25,DATA!A:B,2,FALSE) -> 2 | Z25: W | AC25: 9 | AD25: =AC25+AD24 -> 27 | AE25: =MAX(AD25,AE24) -> 27 | AF25: =AE25-AD25 -> 0
E26: 23 | G26: 0.63071759 | S26: T3 | T26: =G26 -> 0.63071759 | U26: 13 | V26: =E26 -> 23 | W26: =VLOOKUP(V26,DATA!A:B,2,FALSE) -> 11 | Z26: W | AC26: 9 | AD26: =AC26+AD25 -> 36 | AE26: =MAX(AD26,AE25) -> 36 | AF26: =AE26-AD26 -> 0
E27: 2 | G27: 0.63158565 | S27: T3 | T27: =G27 -> 0.63158565 | U27: 14 | V27: =E27 -> 2 | W27: =VLOOKUP(V27,DATA!A:B,2,FALSE) -> 2 | Z27: W | AC27: 9 | AD27: =AC27+AD26 -> 45 | AE27: =MAX(AD27,AE26) -> 45 | AF27: =AE27-AD27 -> 0
E28: 36 | G28: 0.63299769 | S28: T3 | T28: =G28 -> 0.63299769 | U28: 15 | V28: =E28 -> 36 | W28: =VLOOKUP(V28,DATA!A:B,2,FALSE) -> 18 | Y28: FURTHEREST | Z28: L | AC28: -9 | AD28: =AC28+AD27 -> 36 | AE28: =MAX(AD28,AE27) -> 45 | AF28: =AE28-AD28 -> 9
E29: 14 | G29: 0.63396991 | S29: T3 | T29: =G29 -> 0.63396991 | U29: 16 | V29: =E29 -> 14 | W29: =VLOOKUP(V29,DATA!A:B,2,FALSE) -> 8 | Y29: LAST | Z29: L | AC29: -9 | AD29: =AC29+AD28 -> 27 | AE29: =MAX(AD29,AE28) -> 45 | AF29: =AE29-AD29 -> 18
E30: 32 | G30: 0.63508102 | S30: T3 | T30: =G30 -> 0.63508102 | U30: 17 | V30: =E30 -> 32 | W30: =VLOOKUP(V30,DATA!A:B,2,FALSE) -> 17 | Z30: W | AC30: 9 | AD30: =AC30+AD29 -> 36 | AE30: =MAX(AD30,AE29) -> 45 | AF30: =AE30-AD30 -> 9
E31: 13 | G31: 0.63665509 | S31: T3 | T31: =G31 -> 0.63665509 | U31: 18 | V31: =E31 -> 13 | W31: =VLOOKUP(V31,DATA!A:B,2,FALSE) -> 7 | Z31: W | AC31: 9 | AD31: =AC31+AD30 -> 45 | AE31: =MAX(AD31,AE30) -> 45 | AF31: =AE31-AD31 -> 0
E32: 10 | G32: 0.63795139 | AD32: =AC32+AD31 -> 45 | AE32: =MAX(AD32,AE31) -> 45 | AF32: =AE32-AD32 -> 0
E33: 29 | G33: 0.63893519 | AD33: =AC33+AD32 -> 45 | AE33: =MAX(AD33,AE32) -> 45 | AF33: =AE33-AD33 -> 0
E34: 3 | G34: 0.64013889 | AD34: =AC34+AD33 -> 45 | AE34: =MAX(AD34,AE33) -> 45 | AF34: =AE34-AD34 -> 0
E35: 17 | G35: 0.64097222 | AD35: =AC35+AD34 -> 45 | AE35: =MAX(AD35,AE34) -> 45 | AF35: =AE35-AD35 -> 0
E36: 19 | G36: 0.64190972 | AD36: =AC36+AD35 -> 45 | AE36: =MAX(AD36,AE35) -> 45 | AF36: =AE36-AD36 -> 0
E37: 33 | G37: 0.64309028 | AD37: =AC37+AD36 -> 45 | AE37: =MAX(AD37,AE36) -> 45 | AF37: =AE37-AD37 -> 0
E38: 30 | G38: 0.64405093 | AD38: =AC38+AD37 -> 45 | AE38: =MAX(AD38,AE37) -> 45 | AF38: =AE38-AD38 -> 0
E39: 18 | G39: 0.64527778 | AD39: =AC39+AD38 -> 45 | AE39: =MAX(AD39,AE38) -> 45 | AF39: =AE39-AD39 -> 0
E40: 24 | G40: 0.64638889 | AD40: =AC40+AD39 -> 45 | AE40: =MAX(AD40,AE39) -> 45 | AF40: =AE40-AD40 -> 0
E41: -- | G41: 0.64678241 | AD41: =AC41+AD40 -> 45 | AE41: =MAX(AD41,AE40) -> 45 | AF41: =AE41-AD41 -> 0
E42: 17 | G42: 0.64765046 | I42: T4 | AD42: =AC42+AD41 -> 45 | AE42: =MAX(AD42,AE41) -> 45 | AF42: =AE42-AD42 -> 0
E43: 20 | G43: 0.64859954 | I43: 19 | K43: 0.64815972 | S43: T4 | T43: =K43 -> 0.64815972 | U43: 19 | V43: =I43 -> 19 | W43: =VLOOKUP(V43,DATA!A:B,2,FALSE) -> 10 | Y43: FURTHEREST | Z43: L | AC43: -9 | AD43: =AC43+AD42 -> 36 | AE43: =MAX(AD43,AE42) -> 45 | AF43: =AE43-AD43 -> 9
E44: 30 | G44: 0.64965278 | I44: 11 | K44: 0.64894676 | S44: T4 | T44: =K44 -> 0.64894676 | U44: 20 | V44: =I44 -> 11 | W44: =VLOOKUP(V44,DATA!A:B,2,FALSE) -> 5 | Y44: LAST | Z44: L | AC44: -9 | AD44: =AC44+AD43 -> 27 | AE44: =MAX(AD44,AE43) -> 45 | AF44: =AE44-AD44 -> 18
E45: 18 | G45: 0.65046296 | I45: 0 | K45: 0.64952546 | S45: T4 | T45: =K45 -> 0.64952546 | U45: 21 | V45: =I45 -> 0 | W45: =VLOOKUP(V45,DATA!A:B,2,FALSE) -> G | Z45: L | AC45: -9 | AD45: =AC45+AD44 -> 18 | AE45: =MAX(AD45,AE44) -> 45 | AF45: =AE45-AD45 -> 27
E46: 12 | G46: 0.65138889 | I46: 14 | K46: 0.65020833 | S46: T4 | T46: =K46 -> 0.65020833 | U46: 22 | V46: =I46 -> 14 | W46: =VLOOKUP(V46,DATA!A:B,2,FALSE) -> 8 | Z46: W | AC46: 9 | AD46: =AC46+AD45 -> 27 | AE46: =MAX(AD46,AE45) -> 45 | AF46: =AE46-AD46 -> 18
E47: 4 | G47: 0.65240741 | I47: 15 | K47: 0.6512963 | S47: T4 | T47: =K47 -> 0.6512963 | U47: 23 | V47: =I47 -> 15 | W47: =VLOOKUP(V47,DATA!A:B,2,FALSE) -> 9 | Y47: FURTHEREST | Z47: L | AC47: -9 | AD47: =AC47+AD46 -> 18 | AE47: =MAX(AD47,AE46) -> 45 | AF47: =AE47-AD47 -> 27
E48: 11 | G48: 0.65325231 | I48: 31 | K48: 0.65199074 | S48: T4 | T48: =K48 -> 0.65199074 | U48: 24 | V48: =I48 -> 31 | W48: =VLOOKUP(V48,DATA!A:B,2,FALSE) -> 16 | Z48: W | AC48: 9 | AD48: =AC48+AD47 -> 27 | AE48: =MAX(AD48,AE47) -> 45 | AF48: =AE48-AD48 -> 18
E49: 16 | G49: 0.65390046 | I49: 1 | K49: 0.6527662 | S49: T4 | T49: =K49 -> 0.6527662 | U49: 25 | V49: =I49 -> 1 | W49: =VLOOKUP(V49,DATA!A:B,2,FALSE) -> 1 | Z49: W | AC49: 9 | AD49: =AC49+AD48 -> 36 | AE49: =MAX(AD49,AE48) -> 45 | AF49: =AE49-AD49 -> 9
E50: 6 | G50: 0.65459491 | I50: 21 | K50: 0.6534375 | S50: T4 | T50: =K50 -> 0.6534375 | U50: 26 | V50: =I50 -> 21 | W50: =VLOOKUP(V50,DATA!A:B,2,FALSE) -> 12 | Z50: W | AC50: 9 | AD50: =AC50+AD49 -> 45 | AE50: =MAX(AD50,AE49) -> 45 | AF50: =AE50-AD50 -> 0
E51: 25 | G51: 0.65546296 | I51: 36 | K51: 0.65418981 | S51: T4 | T51: =K51 -> 0.65418981 | U51: 27 | V51: =I51 -> 36 | W51: =VLOOKUP(V51,DATA!A:B,2,FALSE) -> 18 | Z51: W | AC51: 9 | AD51: =AC51+AD50 -> 54 | AE51: =MAX(AD51,AE50) -> 54 | AF51: =AE51-AD51 -> 0
E52: 22 | G52: 0.65618056 | I52: 17 | K52: 0.65582176 | AD52: =AC52+AD51 -> 54 | AE52: =MAX(AD52,AE51) -> 54 | AF52: =AE52-AD52 -> 0
E53: 35 | G53: 0.6569213 | I53: 6 | K53: 0.65725694 | S53: T3 | T53: =G53 -> 0.6569213 | U53: 29 | V53: =E53 -> 35 | W53: =VLOOKUP(V53,DATA!A:B,2,FALSE) -> 17 | Z53: W | AC53: 9 | AD53: =AC53+AD52 -> 63 | AE53: =MAX(AD53,AE52) -> 63 | AF53: =AE53-AD53 -> 0
E54: 31 | G54: 0.65790509 | I54: 5 | K54: 0.65868056 | S54: T3 | T54: =G54 -> 0.65790509 | U54: 30 | V54: =E54 -> 31 | W54: =VLOOKUP(V54,DATA!A:B,2,FALSE) -> 16 | Y54: LAST | Z54: L | AC54: -9 | AD54: =AC54+AD53 -> 54 | AE54: =MAX(AD54,AE53) -> 63 | AF54: =AE54-AD54 -> 9
E55: 19 | G55: 0.65886574 | I55: 26 | K55: 0.65994213 | S55: T3 | T55: =G55 -> 0.65886574 | U55: 31 | V55: =E55 -> 19 | W55: =VLOOKUP(V55,DATA!A:B,2,FALSE) -> 10 | Y55: FURTHEREST | Z55: L | AC55: -9 | AD55: =AC55+AD54 -> 45 | AE55: =MAX(AD55,AE54) -> 63 | AF55: =AE55-AD55 -> 18
E56: 22 | G56: 0.65971065 | I56: 12 | K56: 0.66122685 | S56: T3 | T56: =G56 -> 0.65971065 | U56: 32 | V56: =E56 -> 22 | W56: =VLOOKUP(V56,DATA!A:B,2,FALSE) -> 10 | Y56: LAST | Z56: L | AC56: -9 | AD56: =AC56+AD55 -> 36 | AE56: =MAX(AD56,AE55) -> 63 | AF56: =AE56-AD56 -> 27
E57: 26 | G57: 0.6608912 | I57: 36 | K57: 0.66221065 | S57: T3 | T57: =G57 -> 0.6608912 | U57: 33 | V57: =E57 -> 26 | W57: =VLOOKUP(V57,DATA!A:B,2,FALSE) -> 14 | Y57: FURTHEREST | Z57: L | AC57: -9 | AD57: =AC57+AD56 -> 27 | AE57: =MAX(AD57,AE56) -> 63 | AF57: =AE57-AD57 -> 36
E58: 15 | G58: 0.66128472 | I58: 34 | K58: 0.66306713 | S58: T3 | T58: =G58 -> 0.66128472 | U58: 34 | V58: =E58 -> 15 | W58: =VLOOKUP(V58,DATA!A:B,2,FALSE) -> 9 | Z58: W | AC58: 9 | AD58: =AC58+AD57 -> 36 | AE58: =MAX(AD58,AE57) -> 63 | AF58: =AE58-AD58 -> 27
E59: 31 | G59: 0.66184028 | I59: 10 | K59: 0.66408565 | S59: T3 | T59: =G59 -> 0.66184028 | U59: 35 | V59: =E59 -> 31 | W59: =VLOOKUP(V59,DATA!A:B,2,FALSE) -> 16 | Z59: W | AC59: 9 | AD59: =AC59+AD58 -> 45 | AE59: =MAX(AD59,AE58) -> 63 | AF59: =AE59-AD59 -> 18
E60: 29 | G60: 0.66261574 | I60: 10 | K60: 0.6652662 | S60: T3 | T60: =G60 -> 0.66261574 | U60: 36 | V60: =E60 -> 29 | W60: =VLOOKUP(V60,DATA!A:B,2,FALSE) -> 14 | Y60: LAST | Z60: L | AC60: -9 | AD60: =AC60+AD59 -> 36 | AE60: =MAX(AD60,AE59) -> 63 | AF60: =AE60-AD60 -> 27
E61: 19 | G61: 0.66332176 | I61: 8 | K61: 0.66662037 | S61: T3 | T61: =G61 -> 0.66332176 | U61: 37 | V61: =E61 -> 19 | W61: =VLOOKUP(V61,DATA!A:B,2,FALSE) -> 10 | Z61: W | AC61: 9 | AD61: =AC61+AD60 -> 45 | AE61: =MAX(AD61,AE60) -> 63 | AF61: =AE61-AD61 -> 18
E62: 13 | G62: 0.66422454 | I62: -- | K62: 0.66716435 | AD62: =AC62+AD61 -> 45 | AE62: =MAX(AD62,AE61) -> 63 | AF62: =AE62-AD62 -> 18
E63: 12 | G63: 0.66517361 | I63: 34 | K63: 0.66787037 | S63: T4 | T63: =K61 -> 0.66662037 | U63: 38 | V63: =I61 -> 8 | W63: =VLOOKUP(V63,DATA!A:B,2,FALSE) -> 5 | Y63: FURTHEREST | Z63: L | AC63: -9 | AD63: =AC63+AD62 -> 36 | AE63: =MAX(AD63,AE62) -> 63 | AF63: =AE63-AD63 -> 27
E64: 3 | G64: 0.66592593 | I64: 19 | K64: 0.66893519 | S64: T4 | T64: =K62 -> 0.66716435 | U64: 39 | V64: =I62 -> -- | W64: =VLOOKUP(V64,DATA!A:B,2,FALSE) -> #N/A | AD64: =AC64+AD63 -> 36 | AE64: =MAX(AD64,AE63) -> 63 | AF64: =AE64-AD64 -> 27
E65: 6 | G65: 0.6665625 | I65: 15 | K65: 0.66994213 | S65: T4 | T65: =K63 -> 0.66787037 | U65: 40 | V65: =I63 -> 34 | W65: =VLOOKUP(V65,DATA!A:B,2,FALSE) -> 16 | Y65: LAST | Z65: L | AC65: -9 | AD65: =AC65+AD64 -> 27 | AE65: =MAX(AD65,AE64) -> 63 | AF65: =AE65-AD65 -> 36
E66: 7 | G66: 0.66732639 | I66: 6 | K66: 0.67090278 | S66: T4 | T66: =K64 -> 0.66893519 | U66: 41 | V66: =I64 -> 19 | W66: =VLOOKUP(V66,DATA!A:B,2,FALSE) -> 10 | Z66: W | AC66: 9 | AD66: =AC66+AD65 -> 36 | AE66: =MAX(AD66,AE65) -> 63 | AF66: =AE66-AD66 -> 27
E67: -- | G67: 0.66737269 | I67: 13 | K67: 0.67209491 | S67: T4 | T67: =K65 -> 0.66994213 | U67: 42 | V67: =I65 -> 15 | W67: =VLOOKUP(V67,DATA!A:B,2,FALSE) -> 9 | Z67: W | AC67: 9 | AD67: =AC67+AD66 -> 45 | AE67: =MAX(AD67,AE66) -> 63 | AF67: =AE67-AD67 -> 18
E68: 20 | G68: 0.66819444 | I68: 4 | K68: 0.67288194 | S68: T4 | T68: =K66 -> 0.67090278 | U68: 43 | V68: =I66 -> 6 | W68: =VLOOKUP(V68,DATA!A:B,2,FALSE) -> 3 | Y68: FURTHEREST | Z68: L | AC68: -9 | AD68: =AC68+AD67 -> 36 | AE68: =MAX(AD68,AE67) -> 63 | AF68: =AE68-AD68 -> 27
E69: 4 | G69: 0.66866898 | I69: 36 | K69: 0.67447917 | S69: T4 | T69: =K67 -> 0.67209491 | U69: 44 | V69: =I67 -> 13 | W69: =VLOOKUP(V69,DATA!A:B,2,FALSE) -> 7 | Z69: W | AC69: 9 | AD69: =AC69+AD68 -> 45 | AE69: =MAX(AD69,AE68) -> 63 | AF69: =AE69-AD69 -> 18
E70: 19 | G70: 0.66969907 | I70: 30 | K70: 0.67597222 | S70: T4 | T70: =K68 -> 0.67288194 | U70: 45 | V70: =I68 -> 4 | W70: =VLOOKUP(V70,DATA!A:B,2,FALSE) -> 1 | Z70: W | AC70: 9 | AD70: =AC70+AD69 -> 54 | AE70: =MAX(AD70,AE69) -> 63 | AF70: =AE70-AD70 -> 9
E71: 16 | G71: 0.67025463 | I71: 3 | K71: 0.67684028 | S71: T4 | T71: =K69 -> 0.67447917 | U71: 46 | V71: =I69 -> 36 | W71: =VLOOKUP(V71,DATA!A:B,2,FALSE) -> 18 | Z71: W | AC71: 9 | AD71: =AC71+AD70 -> 63 | AE71: =MAX(AD71,AE70) -> 63 | AF71: =AE71-AD71 -> 0
E72: 33 | G72: 0.67099537 | I72: 33 | K72: 0.67822917 | S72: T4 | T72: =K70 -> 0.67597222 | U72: 47 | V72: =I70 -> 30 | W72: =VLOOKUP(V72,DATA!A:B,2,FALSE) -> 15 | Z72: W | AC72: 9 | AD72: =AC72+AD71 -> 72 | AE72: =MAX(AD72,AE71) -> 72 | AF72: =AE72-AD72 -> 0
E73: 24 | G73: 0.67203704 | I73: 27 | K73: 0.67962963 | AD73: =AC73+AD72 -> 72 | AE73: =MAX(AD73,AE72) -> 72 | AF73: =AE73-AD73 -> 0
E74: 33 | G74: 0.67303241 | I74: 11 | K74: 0.68082176 | AD74: =AC74+AD73 -> 72 | AE74: =MAX(AD74,AE73) -> 72 | AF74: =AE74-AD74 -> 0
E75: 3 | G75: 0.67416667 | I75: 9 | K75: 0.6824537 | AD75: =AC75+AD74 -> 72 | AE75: =MAX(AD75,AE74) -> 72 | AF75: =AE75-AD75 -> 0
E76: 7 | G76: 0.67466435 | I76: 25 | K76: 0.68341435 | AD76: =AC76+AD75 -> 72 | AE76: =MAX(AD76,AE75) -> 72 | AF76: =AE76-AD76 -> 0
E77: 19 | G77: 0.6753125 | I77: 18 | K77: 0.68450231 | AD77: =AC77+AD76 -> 72 | AE77: =MAX(AD77,AE76) -> 72 | AF77: =AE77-AD77 -> 0
E78: 32 | G78: 0.67592593 | I78: 10 | K78: 0.68577546 | AD78: =AC78+AD77 -> 72 | AE78: =MAX(AD78,AE77) -> 72 | AF78: =AE78-AD78 -> 0
E79: 10 | G79: 0.67655093 | I79: 1 | K79: 0.68715278 | M79: T7 | AD79: =AC79+AD78 -> 72 | AE79: =MAX(AD79,AE78) -> 72 | AF79: =AE79-AD79 -> 0
E80: 30 | G80: 0.6771875 | I80: 28 | K80: 0.68800926 | M80: 24 | O80: 0.67936343 | S80: T7 | T80: =O80 -> 0.67936343 | U80: 48 | V80: =M80 -> 24 | W80: =VLOOKUP(V80,DATA!A:B,2,FALSE) -> 12 | Z80: W | AC80: 9 | AD80: =AC80+AD79 -> 81 | AE80: =MAX(AD80,AE79) -> 81 | AF80: =AE80-AD80 -> 0
E81: 21 | G81: 0.67836806 | I81: -- | K81: 0.68806713 | M81: 20 | O81: 0.68010417 | S81: T7 | T81: =O81 -> 0.68010417 | U81: 49 | V81: =M81 -> 20 | W81: =VLOOKUP(V81,DATA!A:B,2,FALSE) -> 11 | Z81: W | AC81: 9 | AD81: =AC81+AD80 -> 90 | AE81: =MAX(AD81,AE80) -> 90 | AF81: =AE81-AD81 -> 0
E82: 17 | G82: 0.67916667 | I82: 31 | K82: 0.68940972 | M82: 15 | O82: 0.68116898 | S82: T7 | T82: =O82 -> 0.68116898 | U82: 50 | V82: =M82 -> 15 | W82: =VLOOKUP(V82,DATA!A:B,2,FALSE) -> 9 | Y82: LAST | Z82: L | AC82: -9 | AD82: =AC82+AD81 -> 81 | AE82: =MAX(AD82,AE81) -> 90 | AF82: =AE82-AD82 -> 9
E83: 7 | G83: 0.68003472 | I83: 7 | K83: 0.69048611 | M83: 1 | O83: 0.68168981 | S83: T7 | T83: =O83 -> 0.68168981 | U83: 51 | V83: =M83 -> 1 | W83: =VLOOKUP(V83,DATA!A:B,2,FALSE) -> 1 | Z83: W | AC83: 9 | AD83: =AC83+AD82 -> 90 | AE83: =MAX(AD83,AE82) -> 90 | AF83: =AE83-AD83 -> 0
E84: 15 | G84: 0.68104167 | I84: 31 | K84: 0.69153935 | M84: 9 | O84: 0.68210648 | S84: T7 | T84: =O84 -> 0.68210648 | U84: 52 | V84: =M84 -> 9 | W84: =VLOOKUP(V84,DATA!A:B,2,FALSE) -> 6 | Y84: FURTHEREST | Z84: L | AC84: -9 | AD84: =AC84+AD83 -> 81 | AE84: =MAX(AD84,AE83) -> 90 | AF84: =AE84-AD84 -> 9
E85: 2 | G85: 0.68178241 | I85: 27 | K85: 0.69251157 | M85: 29 | O85: 0.68253472 | S85: T7 | T85: =O85 -> 0.68253472 | U85: 53 | V85: =M85 -> 29 | W85: =VLOOKUP(V85,DATA!A:B,2,FALSE) -> 14 | Z85: W | AC85: 9 | AD85: =AC85+AD84 -> 90 | AE85: =MAX(AD85,AE84) -> 90 | AF85: =AE85-AD85 -> 0
E86: 32 | G86: 0.68303241 | I86: 0 | K86: 0.6934838 | M86: 18 | O86: 0.68315972 | S86: T7 | T86: =O86 -> 0.68315972 | U86: 54 | V86: =M86 -> 18 | W86: =VLOOKUP(V86,DATA!A:B,2,FALSE) -> 9 | Y86: LAST | Z86: L | AC86: -9 | AD86: =AC86+AD85 -> 81 | AE86: =MAX(AD86,AE85) -> 90 | AF86: =AE86-AD86 -> 9
E87: 17 | G87: 0.68454861 | I87: 20 | K87: 0.69420139 | M87: 5 | O87: 0.68376157 | S87: T7 | T87: =O87 -> 0.68376157 | U87: 55 | V87: =M87 -> 5 | W87: =VLOOKUP(V87,DATA!A:B,2,FALSE) -> 2 | Y87: FURTHEREST | Z87: L | AC87: -9 | AD87: =AC87+AD86 -> 72 | AE87: =MAX(AD87,AE86) -> 90 | AF87: =AE87-AD87 -> 18
E88: 23 | G88: 0.68512731 | I88: 14 | K88: 0.69513889 | M88: 27 | O88: 0.68425926 | S88: T7 | T88: =O88 -> 0.68425926 | U88: 56 | V88: =M88 -> 27 | W88: =VLOOKUP(V88,DATA!A:B,2,FALSE) -> 15 | Y88: LAST | Z88: L | AC88: -9 | AD88: =AC88+AD87 -> 63 | AE88: =MAX(AD88,AE87) -> 90 | AF88: =AE88-AD88 -> 27
E89: 3 | G89: 0.68636574 | I89: 29 | K89: 0.69633102 | M89: 33 | O89: 0.68481481 | AD89: =AC89+AD88 -> 63 | AE89: =MAX(AD89,AE88) -> 90 | AF89: =AE89-AD89 -> 27
E90: 8 | G90: 0.68690972 | I90: 25 | K90: 0.69737269 | M90: 2 | O90: 0.68547454 | S90: T3 | T90: =G90 -> 0.68690972 | U90: 57 | V90: =E90 -> 8 | W90: =VLOOKUP(V90,DATA!A:B,2,FALSE) -> 5 | Y90: FURTHEREST | Z90: L | AC90: -9 | AD90: =AC90+AD89 -> 54 | AE90: =MAX(AD90,AE89) -> 90 | AF90: =AE90-AD90 -> 36
E91: 27 | G91: 0.68770833 | I91: 10 | K91: 0.698125 | M91: 6 | O91: 0.68611111 | S91: T3 | T91: =G91 -> 0.68770833 | U91: 58 | V91: =E91 -> 27 | W91: =VLOOKUP(V91,DATA!A:B,2,FALSE) -> 15 | Y91: LAST | Z91: L | AC91: -9 | AD91: =AC91+AD90 -> 45 | AE91: =MAX(AD91,AE90) -> 90 | AF91: =AE91-AD91 -> 45
E92: 10 | G92: 0.68857639 | I92: 31 | K92: 0.69912037 | M92: 14 | O92: 0.68650463 | S92: T3 | T92: =G92 -> 0.68857639 | U92: 59 | V92: =E92 -> 10 | W92: =VLOOKUP(V92,DATA!A:B,2,FALSE) -> 4 | Y92: FURTHEREST | Z92: L | AC92: -9 | AD92: =AC92+AD91 -> 36 | AE92: =MAX(AD92,AE91) -> 90 | AF92: =AE92-AD92 -> 54
E93: -- | G93: 0.68865741 | I93: 12 | K93: 0.70016204 | M93: 34 | O93: 0.68697917 | S93: T3 | T93: =G93 -> 0.68865741 | U93: 60 | V93: =E93 -> -- | W93: =VLOOKUP(V93,DATA!A:B,2,FALSE) -> #N/A | AD93: =AC93+AD92 -> 36 | AE93: =MAX(AD93,AE92) -> 90 | AF93: =AE93-AD93 -> 54
E94: 10 | G94: 0.68943287 | I94: 24 | K94: 0.70111111 | M94: 11 | O94: 0.68748843 | S94: T3 | T94: =G94 -> 0.68943287 | U94: 61 | V94: =E94 -> 10 | W94: =VLOOKUP(V94,DATA!A:B,2,FALSE) -> 4 | Y94: LAST | Z94: L | AC94: -9 | AD94: =AC94+AD93 -> 27 | AE94: =MAX(AD94,AE93) -> 90 | AF94: =AE94-AD94 -> 63
E95: 2 | G95: 0.6903125 | I95: 3 | K95: 0.70189815 | M95: 10 | O95: 0.68790509 | S95: T3 | T95: =G95 -> 0.6903125 | U95: 62 | V95: =E95 -> 2 | W95: =VLOOKUP(V95,DATA!A:B,2,FALSE) -> 2 | Z95: W | AC95: 9 | AD95: =AC95+AD94 -> 36 | AE95: =MAX(AD95,AE94) -> 90 | AF95: =AE95-AD95 -> 54
E96: 26 | G96: 0.69133102 | I96: 15 | K96: 0.70283565 | M96: 12 | O96: 0.68868056 | S96: T3 | T96: =G96 -> 0.69133102 | U96: 63 | V96: =E96 -> 26 | W96: =VLOOKUP(V96,DATA!A:B,2,FALSE) -> 14 | Z96: W | AC96: 9 | AD96: =AC96+AD95 -> 45 | AE96: =MAX(AD96,AE95) -> 90 | AF96: =AE96-AD96 -> 45
E97: 22 | G97: 0.691875 | I97: 4 | K97: 0.70393519 | M97: 5 | O97: 0.68939815 | S97: T3 | T97: =G97 -> 0.691875 | U97: 64 | V97: =E97 -> 22 | W97: =VLOOKUP(V97,DATA!A:B,2,FALSE) -> 10 | Y97: FURTHEREST | Z97: L | AC97: -9 | AD97: =AC97+AD96 -> 36 | AE97: =MAX(AD97,AE96) -> 90 | AF97: =AE97-AD97 -> 54
E98: 34 | G98: 0.69268519 | I98: 32 | K98: 0.70517361 | M98: 14 | O98: 0.68998843 | S98: T3 | T98: =G98 -> 0.69268519 | U98: 65 | V98: =E98 -> 34 | W98: =VLOOKUP(V98,DATA!A:B,2,FALSE) -> 16 | Z98: W | AC98: 9 | AD98: =AC98+AD97 -> 45 | AE98: =MAX(AD98,AE97) -> 90 | AF98: =AE98-AD98 -> 45
E99: 24 | G99: 0.69395833 | I99: 31 | K99: 0.70609954 | M99: 22 | O99: 0.69059028 | S99: T3 | T99: =G99 -> 0.69395833 | U99: 66 | V99: =E99 -> 24 | W99: =VLOOKUP(V99,DATA!A:B,2,FALSE) -> 12 | Z99: W | AC99: 9 | AD99: =AC99+AD98 -> 54 | AE99: =MAX(AD99,AE98) -> 90 | AF99: =AE99-AD99 -> 36
E100: 18 | G100: 0.69483796 | I100: 32 | K100: 0.70710648 | M100: 31 | O100: 0.69155093 | AD100: =AC100+AD99 -> 54 | AE100: =MAX(AD100,AE99) -> 90 | AF100: =AE100-AD100 -> 36
E101: 7 | G101: 0.69587963 | I101: 8 | K101: 0.70805556 | M101: 21 | O101: 0.69319444 | S101: T4 | T101: =K89 -> 0.69633102 | U101: 67 | V101: =I89 -> 29 | W101: =VLOOKUP(V101,DATA!A:B,2,FALSE) -> 14 | Y101: LAST | Z101: L | AC101: -9 | AD101: =AC101+AD100 -> 45 | AE101: =MAX(AD101,AE100) -> 90 | AF101: =AE101-AD101 -> 45
E102: 32 | G102: 0.69659722 | I102: 6 | K102: 0.70883102 | M102: 15 | O102: 0.69400463 | S102: T4 | T102: =K90 -> 0.69737269 | U102: 68 | V102: =I90 -> 25 | W102: =VLOOKUP(V102,DATA!A:B,2,FALSE) -> 13 | Y102: FURTHEREST | Z102: L | AC102: -9 | AD102: =AC102+AD101 -> 36 | AE102: =MAX(AD102,AE101) -> 90 | AF102: =AE102-AD102 -> 54
E103: 3 | G103: 0.69719907 | I103: -- | K103: 0.70888889 | M103: 13 | O103: 0.69490741 | S103: T4 | T103: =K91 -> 0.698125 | U103: 69 | V103: =I91 -> 10 | W103: =VLOOKUP(V103,DATA!A:B,2,FALSE) -> 4 | Y103: LAST | Z103: L | AC103: -9 | AD103: =AC103+AD102 -> 27 | AE103: =MAX(AD103,AE102) -> 90 | AF103: =AE103-AD103 -> 63
...
