Workbook
Name CodeStart: #REF!
Name GBP_Curncy: #REF!
Name SILV: #REF!
Name silver: #REF!
Name Week: #REF!

Sheet DATA
A1: Number | B1: Split
A2: 1 | B2: 1
A3: 2 | B3: 2
A4: 3 | B4: 3
A5: 4 | B5: 1
A6: 5 | B6: 2
A7: 6 | B7: 3
A8: 7 | B8: 4
A9: 8 | B9: 5
A10: 9 | B10: 6
A11: 10 | B11: 4
A12: 11 | B12: 5
A13: 12 | B13: 6
... A37: 36 | B37: 18
A38: 0 | B38: G

Sheet T2, T3, T4, T7
A1: Spielbank Wiesbaden Permanenzen
A3: Eine VerÃ¶ffentlichung oder Ver-
A4: vielfÃ¤ltigung ohne schriftliche
A5: Genehmigung dieser Daten ist
A6: nicht gestattet.
A8: Tisch: T2, T3, T4 & T7
A9: Datum: 2013-01-21
A11: **************************** DATA ******************************* | S11: **************************** PLAY ***************************
S12: Table | T12: Time | U12: Spin | V12: # | W12: Street | Y12: Next Bet | Z12: Result | AB12: P/L | AC12: Total | AD12: Max | AE12: DD
A13: T2 | E13: T3 | I13: T4 | M13: T7
A14: See Below | E14: 24 | G14: 0.6190625 | I14: See Below | M14: See Below | S14: T3 | T14: =G14 -> 0.6190625 | U14: 1 | V14: =E14 -> 24 | W14: =VLOOKUP(V14,DATA!A:B,2,FALSE) -> 12 | AC14: =AB14 -> 0 | AD14: =AC14 -> 0 | AE14: =AD14-AC14 -> 0
E15: 28 | G15: 0.62107639 | S15: T3 | T15: =G15 -> 0.62107639 | U15: 2 | V15: =E15 -> 28 | W15: =VLOOKUP(V15,DATA!A:B,2,FALSE) -> 13 | AC15: =AB15+AC14 -> 0 | AD15: =MAX(AC15,AD14) -> 0 | AE15: =AD15-AC15 -> 0
E16: 29 | G16: 0.62327546 | S16: T3 | T16: =G16 -> 0.62327546 | U16: 3 | V16: =E16 -> 29 | W16: =VLOOKUP(V16,DATA!A:B,2,FALSE) -> 14 | AC16: =AB16+AC15 -> 0 | AD16: =MAX(AC16,AD15) -> 0 | AE16: =AD16-AC16 -> 0
E17: 5 | G17: 0.62553241 | S17: T3 | T17: =G17 -> 0.62553241 | U17: 4 | V17: =E17 -> 5 | W17: =VLOOKUP(V17,DATA!A:B,2,FALSE) -> 2 | AC17: =AB17+AC16 -> 0 | AD17: =MAX(AC17,AD16) -> 0 | AE17: =AD17-AC17 -> 0
E18: 12 | G18: 0.62702546 | S18: T3 | T18: =G18 -> 0.62702546 | U18: 5 | V18: =E18 -> 12 | W18: =VLOOKUP(V18,DATA!A:B,2,FALSE) -> 6 | AC18: =AB18+AC17 -> 0 | AD18: =MAX(AC18,AD17) -> 0 | AE18: =AD18-AC18 -> 0
E19: 23 | G19: 0.62858796 | S19: T3 | T19: =G19 -> 0.62858796 | U19: 6 | V19: =E19 -> 23 | W19: =VLOOKUP(V19,DATA!A:B,2,FALSE) -> 11 | AC19: =AB19+AC18 -> 0 | AD19: =MAX(AC19,AD18) -> 0 | AE19: =AD19-AC19 -> 0
E20: 3 | G20: 0.63049769 | S20: T3 | T20: =G20 -> 0.63049769 | U20: 7 | V20: =E20 -> 3 | W20: =VLOOKUP(V20,DATA!A:B,2,FALSE) -> 3 | AC20: =AB20+AC19 -> 0 | AD20: =MAX(AC20,AD19) -> 0 | AE20: =AD20-AC20 -> 0
E21: 25 | G21: 0.63267361 | S21: T3 | T21: =G21 -> 0.63267361 | U21: 8 | V21: =E21 -> 25 | W21: =VLOOKUP(V21,DATA!A:B,2,FALSE) -> 13 | AC21: =AB21+AC20 -> 0 | AD21: =MAX(AC21,AD20) -> 0 | AE21: =AD21-AC21 -> 0
E22: 29 | G22: 0.63425926 | S22: T3 | T22: =G22 -> 0.63425926 | U22: 9 | V22: =E22 -> 29 | W22: =VLOOKUP(V22,DATA!A:B,2,FALSE) -> 14 | AC22: =AB22+AC21 -> 0 | AD22: =MAX(AC22,AD21) -> 0 | AE22: =AD22-AC22 -> 0
E23: 10 | G23: 0.63655093 | S23: T3 | T23: =G23 -> 0.63655093 | U23: 10 | V23: =E23 -> 10 | W23: =VLOOKUP(V23,DATA!A:B,2,FALSE) -> 4 | AC23: =AB23+AC22 -> 0 | AD23: =MAX(AC23,AD22) -> 0 | AE23: =AD23-AC23 -> 0
E24: 16 | G24: 0.63890046 | S24: T3 | T24: =G24 -> 0.63890046 | U24: 11 | V24: =E24 -> 16 | W24: =VLOOKUP(V24,DATA!A:B,2,FALSE) -> 7 | Y24: LAST | AC24: =AB24+AC23 -> 0 | AD24: =MAX(AC24,AD23) -> 0 | AE24: =AD24-AC24 -> 0
E25: 19 | G25: 0.64063657 | S25: T3 | T25: =G25 -> 0.64063657 | U25: 12 | V25: =E25 -> 19 | W25: =VLOOKUP(V25,DATA!A:B,2,FALSE) -> 10 | Y25: FURTHEREST | Z25: L | AB25: -9 | AC25: =AB25+AC24 -> -9 | AD25: =MAX(AC25,AD24) -> 0 | AE25: =AD25-AC25 -> 9
E26: 3 | G26: 0.64303241 | S26: T3 | T26: =G26 -> 0.64303241 | U26: 13 | V26: =E26 -> 3 | W26: =VLOOKUP(V26,DATA!A:B,2,FALSE) -> 3 | Y26: LAST | Z26: L | AB26: -9 | AC26: =AB26+AC25 -> -18 | AD26: =MAX(AC26,AD25) -> 0 | AE26: =AD26-AC26 -> 18
E27: 23 | G27: 0.64618056 | K27: T4 | S27: T3 | T27: =G27 -> 0.64618056 | U27: 14 | V27: =E27 -> 23 | W27: =VLOOKUP(V27,DATA!A:B,2,FALSE) -> 11 | Z27: W | AB27: 9 | AC27: =AB27+AC26 -> -9 | AD27: =MAX(AC27,AD26) -> 0 | AE27: =AD27-AC27 -> 9
E28: -- | G28: 0.64627315 | I28: 30 | K28: 0.6484838 | S28: T3 | T28: =G28 -> 0.64627315 | U28: 15 | V28: =E28 -> -- | W28: =VLOOKUP(V28,DATA!A:B,2,FALSE) -> #N/A | AC28: =AB28+AC27 -> -9 | AD28: =MAX(AC28,AD27) -> 0 | AE28: =AD28-AC28 -> 9
E29: 5 | G29: 0.64924769 | I29: 11 | K29: 0.64934028 | S29: T3 | T29: =G29 -> 0.64924769 | U29: 16 | V29: =E29 -> 5 | W29: =VLOOKUP(V29,DATA!A:B,2,FALSE) -> 2 | Z29: W | AB29: 9 | AC29: =AB29+AC28 -> 0 | AD29: =MAX(AC29,AD28) -> 0 | AE29: =AD29-AC29 -> 0
E30: 24 | G30: 0.65256944 | I30: 6 | K30: 0.65019676 | S30: T3 | T30: =G30 -> 0.65256944 | U30: 17 | V30: =E30 -> 24 | W30: =VLOOKUP(V30,DATA!A:B,2,FALSE) -> 12 | Y30: FURTHEREST | Z30: L | AB30: -9 | AC30: =AB30+AC29 -> -9 | AD30: =MAX(AC30,AD29) -> 0 | AE30: =AD30-AC30 -> 9
E31: 24 | G31: 0.65590278 | I31: 13 | K31: 0.65108796 | S31: T3 | T31: =G31 -> 0.65590278 | U31: 18 | V31: =E31 -> 24 | W31: =VLOOKUP(V31,DATA!A:B,2,FALSE) -> 12 | Y31: LAST | Z31: L | AB31: -9 | AC31: =AB31+AC30 -> -18 | AD31: =MAX(AC31,AD30) -> 0 | AE31: =AD31-AC31 -> 18
E32: 1 | G32: 0.65944444 | I32: 13 | K32: 0.65209491 | S32: T3 | T32: =G32 -> 0.65944444 | U32: 19 | V32: =E32 -> 1 | W32: =VLOOKUP(V32,DATA!A:B,2,FALSE) -> 1 | Y32: FURTHEREST | Z32: L | AB32: -9 | AC32: =AB32+AC31 -> -27 | AD32: =MAX(AC32,AD31) -> 0 | AE32: =AD32-AC32 -> 27
E33: 28 | G33: 0.66202546 | I33: 27 | K33: 0.65375 | S33: T3 | T33: =G33 -> 0.66202546 | U33: 20 | V33: =E33 -> 28 | W33: =VLOOKUP(V33,DATA!A:B,2,FALSE) -> 13 | Z33: W | AB33: 9 | AC33: =AB33+AC32 -> -18 | AD33: =MAX(AC33,AD32) -> 0 | AE33: =AD33-AC33 -> 18
E34: 34 | G34: 0.66461806 | I34: 2 | K34: 0.65555556 | S34: T3 | T34: =G34 -> 0.66461806 | U34: 21 | V34: =E34 -> 34 | W34: =VLOOKUP(V34,DATA!A:B,2,FALSE) -> 16 | Z34: W | AB34: 9 | AC34: =AB34+AC33 -> -9 | AD34: =MAX(AC34,AD33) -> 0 | AE34: =AD34-AC34 -> 9
E35: 19 | G35: 0.66686343 | I35: 15 | K35: 0.65693287 | AC35: =AB35+AC34 -> -9 | AD35: =MAX(AC35,AD34) -> 0 | AE35: =AD35-AC35 -> 9
E36: -- | G36: 0.66722222 | I36: 9 | K36: 0.65855324 | S36: T4 | T36: =K41 -> 0.66739583 | U36: 22 | V36: =I41 -> 4 | W36: =VLOOKUP(V36,DATA!A:B,2,FALSE) -> 1 | Y36: LAST | Z36: L | AB36: -9 | AC36: =AB36+AC35 -> -18 | AD36: =MAX(AC36,AD35) -> 0 | AE36: =AD36-AC36 -> 18
E37: 6 | G37: 0.67016204 | I37: 16 | K37: 0.66048611 | S37: T4 | T37: =K42 -> 0.6675 | U37: 23 | V37: =I42 -> -- | W37: =VLOOKUP(V37,DATA!A:B,2,FALSE) -> #N/A | AC37: =AB37+AC36 -> -18 | AD37: =MAX(AC37,AD36) -> 0 | AE37: =AD37-AC37 -> 18
E38: 25 | G38: 0.67311343 | I38: 14 | K38: 0.66178241 | S38: T4 | T38: =K43 -> 0.66982639 | U38: 24 | V38: =I43 -> 32 | W38: =VLOOKUP(V38,DATA!A:B,2,FALSE) -> 17 | Y38: FURTHEREST | Z38: L | AB38: -9 | AC38: =AB38+AC37 -> -27 | AD38: =MAX(AC38,AD37) -> 0 | AE38: =AD38-AC38 -> 27
E39: 12 | G39: 0.67578704 | I39: 29 | K39: 0.66321759 | S39: T4 | T39: =K44 -> 0.67164352 | U39: 25 | V39: =I44 -> 16 | W39: =VLOOKUP(V39,DATA!A:B,2,FALSE) -> 7 | Z39: W | AB39: 9 | AC39: =AB39+AC38 -> -18 | AD39: =MAX(AC39,AD38) -> 0 | AE39: =AD39-AC39 -> 18
E40: 10 | G40: 0.6790162 | I40: 25 | K40: 0.66501157 | S40: T4 | T40: =K45 -> 0.67327546 | U40: 26 | V40: =I45 -> 13 | W40: =VLOOKUP(V40,DATA!A:B,2,FALSE) -> 7 | Y40: LAST | Z40: L | AB40: -9 | AC40: =AB40+AC39 -> -27 | AD40: =MAX(AC40,AD39) -> 0 | AE40: =AD40-AC40 -> 27
E41: 5 | G41: 0.68107639 | I41: 4 | K41: 0.66739583 | S41: T4 | T41: =K46 -> 0.67457176 | U41: 27 | V41: =I46 -> 26 | W41: =VLOOKUP(V41,DATA!A:B,2,FALSE) -> 14 | Y41: FURTHEREST | Z41: L | AB41: -9 | AC41: =AB41+AC40 -> -36 | AD41: =MAX(AC41,AD40) -> 0 | AE41: =AD41-AC41 -> 36
E42: 26 | G42: 0.68363426 | I42: -- | K42: 0.6675 | S42: T4 | T42: =K47 -> 0.67608796 | U42: 28 | V42: =I47 -> 7 | W42: =VLOOKUP(V42,DATA!A:B,2,FALSE) -> 4 | Y42: LAST | Z42: L | AB42: -9 | AC42: =AB42+AC41 -> -45 | AD42: =MAX(AC42,AD41) -> 0 | AE42: =AD42-AC42 -> 45
E43: 34 | G43: 0.68700231 | I43: 32 | K43: 0.66982639 | S43: T4 | T43: =K48 -> 0.67802083 | U43: 29 | V43: =I48 -> 0 | W43: =VLOOKUP(V43,DATA!A:B,2,FALSE) -> G | Z43: L | AB43: -9 | AC43: =AB43+AC42 -> -54 | AD43: =MAX(AC43,AD42) -> 0 | AE43: =AD43-AC43 -> 54
E44: -- | G44: 0.68871528 | I44: 16 | K44: 0.67164352 | S44: T4 | T44: =K49 -> 0.68033565 | U44: 30 | V44: =I49 -> 8 | W44: =VLOOKUP(V44,DATA!A:B,2,FALSE) -> 5 | Y44: FURTHEREST | Z44: L | AB44: -9 | AC44: =AB44+AC43 -> -63 | AD44: =MAX(AC44,AD43) -> 0 | AE44: =AD44-AC44 -> 63
E45: 33 | G45: 0.69017361 | I45: 13 | K45: 0.67327546 | S45: T4 | T45: =K50 -> 0.68246528 | U45: 31 | V45: =I50 -> 16 | W45: =VLOOKUP(V45,DATA!A:B,2,FALSE) -> 7 | Y45: LAST | Z45: L | AB45: -9 | AC45: =AB45+AC44 -> -72 | AD45: =MAX(AC45,AD44) -> 0 | AE45: =AD45-AC45 -> 72
E46: 18 | G46: 0.69292824 | I46: 26 | K46: 0.67457176 | AC46: =AB46+AC45 -> -72 | AD46: =MAX(AC46,AD45) -> 0 | AE46: =AD46-AC46 -> 72
E47: 15 | G47: 0.69569444 | I47: 7 | K47: 0.67608796 | S47: T7 | T47: =O54 -> 0.68412037 | U47: 32 | V47: =M54 -> 28 | W47: =VLOOKUP(V47,DATA!A:B,2,FALSE) -> 13 | Z47: W | AB47: 9 | AC47: =AB47+AC46 -> -63 | AD47: =MAX(AC47,AD46) -> 0 | AE47: =AD47-AC47 -> 63
E48: 34 | G48: 0.69858796 | I48: 0 | K48: 0.67802083 | S48: T7 | T48: =O55 -> 0.68519676 | U48: 33 | V48: =M55 -> 30 | W48: =VLOOKUP(V48,DATA!A:B,2,FALSE) -> 15 | Y48: FURTHEREST | Z48: L | AB48: -9 | AC48: =AB48+AC47 -> -72 | AD48: =MAX(AC48,AD47) -> 0 | AE48: =AD48-AC48 -> 72
E49: 29 | G49: 0.70070602 | I49: 8 | K49: 0.68033565 | O49: T7 | S49: T7 | T49: =O56 -> 0.68592593 | U49: 34 | V49: =M56 -> 20 | W49: =VLOOKUP(V49,DATA!A:B,2,FALSE) -> 11 | Z49: W | AB49: 9 | AC49: =AB49+AC48 -> -63 | AD49: =MAX(AC49,AD48) -> 0 | AE49: =AD49-AC49 -> 63
E50: 26 | G50: 0.70328704 | I50: 16 | K50: 0.68246528 | M50: 9 | O50: 0.68069444 | S50: T7 | T50: =O57 -> 0.68695602 | U50: 35 | V50: =M57 -> 11 | W50: =VLOOKUP(V50,DATA!A:B,2,FALSE) -> 5 | Y50: LAST | Z50: L | AB50: -9 | AC50: =AB50+AC49 -> -72 | AD50: =MAX(AC50,AD49) -> 0 | AE50: =AD50-AC50 -> 72
E51: 26 | G51: 0.70701389 | I51: 13 | K51: 0.68386574 | M51: 6 | O51: 0.68158565 | S51: T7 | T51: =O58 -> 0.68783565 | U51: 36 | V51: =M58 -> 10 | W51: =VLOOKUP(V51,DATA!A:B,2,FALSE) -> 4 | Z51: W | AB51: 9 | AC51: =AB51+AC50 -> -63 | AD51: =MAX(AC51,AD50) -> 0 | AE51: =AD51-AC51 -> 63
E52: -- | G52: 0.70707176 | I52: 21 | K52: 0.68590278 | M52: 12 | O52: 0.68215278 | S52: T7 | T52: =O59 -> 0.68851852 | U52: 37 | V52: =M59 -> 6 | W52: =VLOOKUP(V52,DATA!A:B,2,FALSE) -> 3 | Y52: FURTHEREST | Z52: L | AB52: -9 | AC52: =AB52+AC51 -> -72 | AD52: =MAX(AC52,AD51) -> 0 | AE52: =AD52-AC52 -> 72
E53: 13 | G53: 0.7108912 | I53: 29 | K53: 0.68722222 | M53: 5 | O53: 0.68313657 | S53: T7 | T53: =O60 -> 0.68947917 | U53: 38 | V53: =M60 -> 32 | W53: =VLOOKUP(V53,DATA!A:B,2,FALSE) -> 17 | Y53: LAST | Z53: L | AB53: -9 | AC53: =AB53+AC52 -> -81 | AD53: =MAX(AC53,AD52) -> 0 | AE53: =AD53-AC53 -> 81
E54: 15 | G54: 0.71282407 | I54: -- | K54: 0.6875463 | M54: 28 | O54: 0.68412037 | S54: T7 | T54: =O61 -> 0.69030093 | U54: 39 | V54: =M61 -> 24 | W54: =VLOOKUP(V54,DATA!A:B,2,FALSE) -> 12 | Y54: FURTHEREST | Z54: L | AB54: -9 | AC54: =AB54+AC53 -> -90 | AD54: =MAX(AC54,AD53) -> 0 | AE54: =AD54-AC54 -> 90
E55: 26 | G55: 0.71599537 | I55: 29 | K55: 0.68885417 | M55: 30 | O55: 0.68519676 | S55: T7 | T55: =O62 -> 0.69116898 | U55: 40 | V55: =M62 -> 29 | W55: =VLOOKUP(V55,DATA!A:B,2,FALSE) -> 14 | Z55: W | AB55: 9 | AC55: =AB55+AC54 -> -81 | AD55: =MAX(AC55,AD54) -> 0 | AE55: =AD55-AC55 -> 81
E56: 24 | G56: 0.71952546 | I56: 10 | K56: 0.69012731 | M56: 20 | O56: 0.68592593 | AC56: =AB56+AC55 -> -81 | AD56: =MAX(AC56,AD55) -> 0 | AE56: =AD56-AC56 -> 81
E57: 36 | G57: 0.72157407 | I57: 26 | K57: 0.69224537 | M57: 11 | O57: 0.68695602 | S57: T3 | T57: =G47 -> 0.69569444 | U57: 41 | V57: =E47 -> 15 | W57: =VLOOKUP(V57,DATA!A:B,2,FALSE) -> 9 | Z57: W | AB57: 9 | AC57: =AB57+AC56 -> -72 | AD57: =MAX(AC57,AD56) -> 0 | AE57: =AD57-AC57 -> 72
E58: 5 | G58: 0.72356481 | I58: 22 | K58: 0.69383102 | M58: 10 | O58: 0.68783565 | S58: T3 | T58: =G48 -> 0.69858796 | U58: 42 | V58: =E48 -> 34 | W58: =VLOOKUP(V58,DATA!A:B,2,FALSE) -> 16 | Z58: W | AB58: 9 | AC58: =AB58+AC57 -> -63 | AD58: =MAX(AC58,AD57) -> 0 | AE58: =AD58-AC58 -> 63
E59: 1 | G59: 0.72513889 | I59: 11 | K59: 0.69540509 | M59: 6 | O59: 0.68851852 | S59: T3 | T59: =G49 -> 0.70070602 | U59: 43 | V59: =E49 -> 29 | W59: =VLOOKUP(V59,DATA!A:B,2,FALSE) -> 14 | Y59: LAST | Z59: L | AB59: -9 | AC59: =AB59+AC58 -> -72 | AD59: =MAX(AC59,AD58) -> 0 | AE59: =AD59-AC59 -> 72
E60: 35 | G60: 0.72655093 | I60: 25 | K60: 0.69710648 | M60: 32 | O60: 0.68947917 | S60: T3 | T60: =G50 -> 0.70328704 | U60: 44 | V60: =E50 -> 26 | W60: =VLOOKUP(V60,DATA!A:B,2,FALSE) -> 14 | Z60: W | AB60: 9 | AC60: =AB60+AC59 -> -63 | AD60: =MAX(AC60,AD59) -> 0 | AE60: =AD60-AC60 -> 63
E61: 19 | G61: 0.72784722 | I61: 20 | K61: 0.69827546 | M61: 24 | O61: 0.69030093 | S61: T3 | T61: =G51 -> 0.70701389 | U61: 45 | V61: =E51 -> 26 | W61: =VLOOKUP(V61,DATA!A:B,2,FALSE) -> 14 | Z61: W | AB61: 9 | AC61: =AB61+AC60 -> -54 | AD61: =MAX(AC61,AD60) -> 0 | AE61: =AD61-AC61 -> 54
E62: 35 | G62: 0.7297338 | I62: 29 | K62: 0.69960648 | M62: 29 | O62: 0.69116898 | S62: T3 | T62: =G52 -> 0.70707176 | U62: 46 | V62: =E52 -> -- | W62: =VLOOKUP(V62,DATA!A:B,2,FALSE) -> #N/A | AC62: =AB62+AC61 -> -54 | AD62: =MAX(AC62,AD61) -> 0 | AE62: =AD62-AC62 -> 54
E63: -- | G63: 0.7300463 | I63: 10 | K63: 0.70081019 | M63: 23 | O63: 0.69293981 | S63: T3 | T63: =G53 -> 0.7108912 | U63: 47 | V63: =E53 -> 13 | W63: =VLOOKUP(V63,DATA!A:B,2,FALSE) -> 7 | Y63: FURTHEREST | Z63: L | AB63: -9 | AC63: =AB63+AC62 -> -63 | AD63: =MAX(AC63,AD62) -> 0 | AE63: =AD63-AC63 -> 63
E64: 24 | G64: 0.7315625 | I64: 6 | K64: 0.70219907 | M64: 11 | O64: 0.69472222 | S64: T3 | T64: =G54 -> 0.71282407 | U64: 48 | V64: =E54 -> 15 | W64: =VLOOKUP(V64,DATA!A:B,2,FALSE) -> 9 | Y64: LAST | Z64: L | AB64: -9 | AC64: =AB64+AC63 -> -72 | AD64: =MAX(AC64,AD63) -> 0 | AE64: =AD64-AC64 -> 72
E65: 6 | G65: 0.73288194 | I65: 8 | K65: 0.7034375 | M65: 16 | O65: 0.69574074 | S65: T3 | T65: =G55 -> 0.71599537 | U65: 49 | V65: =E55 -> 26 | W65: =VLOOKUP(V65,DATA!A:B,2,FALSE) -> 14 | Z65: W | AB65: 9 | AC65: =AB65+AC64 -> -63 | AD65: =MAX(AC65,AD64) -> 0 | AE65: =AD65-AC65 -> 63
E66: 12 | G66: 0.73452546 | I66: 2 | K66: 0.70469907 | M66: 10 | O66: 0.69689815 | S66: T3 | T66: =G56 -> 0.71952546 | U66: 50 | V66: =E56 -> 24 | W66: =VLOOKUP(V66,DATA!A:B,2,FALSE) -> 12 | Z66: W | AB66: 9 | AC66: =AB66+AC65 -> -54 | AD66: =MAX(AC66,AD65) -> 0 | AE66: =AD66-AC66 -> 54
E67: 28 | G67: 0.73619213 | I67: 36 | K67: 0.70583333 | M67: 12 | O67: 0.69796296 | AC67: =AB67+AC66 -> -54 | AD67: =MAX(AC67,AD66) -> 0 | AE67: =AD67-AC67 -> 54
E68: 31 | G68: 0.73818287 | I68: 3 | K68: 0.7074537 | M68: 1 | O68: 0.69890046 | S68: T4 | T68: =K81 -> 0.72189815 | U68: 51 | V68: =I81 -> 8 | W68: =VLOOKUP(V68,DATA!A:B,2,FALSE) -> 5 | Z68: W | AB68: 9 | AC68: =AB68+AC67 -> -45 | AD68: =MAX(AC68,AD67) -> 0 | AE68: =AD68-AC68 -> 45
E69: 11 | G69: 0.73975694 | I69: 7 | K69: 0.70920139 | M69: -- | O69: 0.69898148 | S69: T4 | T69: =K82 -> 0.7230787 | U69: 52 | V69: =I82 -> 25 | W69: =VLOOKUP(V69,DATA!A:B,2,FALSE) -> 13 | Y69: FURTHEREST | Z69: L | AB69: -9 | AC69: =AB69+AC68 -> -54 | AD69: =MAX(AC69,AD68) -> 0 | AE69: =AD69-AC69 -> 54
E70: 3 | G70: 0.74134259 | I70: -- | K70: 0.70927083 | M70: 16 | O70: 0.69982639 | S70: T4 | T70: =K83 -> 0.72384259 | U70: 53 | V70: =I83 -> 23 | W70: =VLOOKUP(V70,DATA!A:B,2,FALSE) -> 11 | Z70: W | AB70: 9 | AC70: =AB70+AC69 -> -45 | AD70: =MAX(AC70,AD69) -> 0 | AE70: =AD70-AC70 -> 45
E71: 4 | G71: 0.74267361 | I71: 13 | K71: 0.71133102 | M71: 4 | O71: 0.70074074 | S71: T4 | T71: =K84 -> 0.7246875 | U71: 54 | V71: =I84 -> 35 | W71: =VLOOKUP(V71,DATA!A:B,2,FALSE) -> 17 | Y71: LAST | Z71: L | AB71: -9 | AC71: =AB71+AC70 -> -54 | AD71: =MAX(AC71,AD70) -> 0 | AE71: =AD71-AC71 -> 54
E72: 30 | G72: 0.74391204 | I72: 9 | K72: 0.71247685 | M72: 36 | O72: 0.70164352 | S72: T4 | T72: =K85 -> 0.72596065 | U72: 55 | V72: =I85 -> 26 | W72: =VLOOKUP(V72,DATA!A:B,2,FALSE) -> 14 | Z72: W | AB72: 9 | AC72: =AB72+AC71 -> -45 | AD72: =MAX(AC72,AD71) -> 0 | AE72: =AD72-AC72 -> 45
E73: 34 | G73: 0.74482639 | I73: 24 | K73: 0.71373843 | M73: 14 | O73: 0.70262731 | S73: T4 | T73: =K86 -> 0.72758102 | U73: 56 | V73: =I86 -> 15 | W73: =VLOOKUP(V73,DATA!A:B,2,FALSE) -> 9 | Z73: W | AB73: 9 | AC73: =AB73+AC72 -> -36 | AD73: =MAX(AC73,AD72) -> 0 | AE73: =AD73-AC73 -> 36
E74: 16 | G74: 0.74586806 | I74: 31 | K74: 0.71461806 | M74: 13 | O74: 0.70336806 | S74: T4 | T74: =K87 -> 0.72875 | U74: 57 | V74: =I87 -> 27 | W74: =VLOOKUP(V74,DATA!A:B,2,FALSE) -> 15 | Y74: FURTHEREST | Z74: L | AB74: -9 | AC74: =AB74+AC73 -> -45 | AD74: =MAX(AC74,AD73) -> 0 | AE74: =AD74-AC74 -> 45
E75: 3 | G75: 0.74693287 | I75: 23 | K75: 0.71556713 | M75: 21 | O75: 0.7044213 | S75: T4 | T75: =K88 -> 0.7300463 | U75: 58 | V75: =I88 -> 28 | W75: =VLOOKUP(V75,DATA!A:B,2,FALSE) -> 13 | Y75: LAST | Z75: L | AB75: -9 | AC75: =AB75+AC74 -> -54 | AD75: =MAX(AC75,AD74) -> 0 | AE75: =AD75-AC75 -> 54
E76: 36 | G76: 0.74822917 | I76: 18 | K76: 0.71641204 | M76: 17 | O76: 0.70537037 | S76: T4 | T76: =K89 -> 0.73009259 | U76: 59 | V76: =I89 -> -- | W76: =VLOOKUP(V76,DATA!A:B,2,FALSE) -> #N/A | AC76: =AB76+AC75 -> -54 | AD76: =MAX(AC76,AD75) -> 0 | AE76: =AD76-AC76 -> 54
E77: 31 | G77: 0.74928241 | I77: 28 | K77: 0.71729167 | M77: 9 | O77: 0.70619213 | S77: T4 | T77: =K90 -> 0.73144676 | U77: 60 | V77: =I90 -> 9 | W77: =VLOOKUP(V77,DATA!A:B,2,FALSE) -> 6 | Y77: FURTHEREST | Z77: L | AB77: -9 | AC77: =AB77+AC76 -> -63 | AD77: =MAX(AC77,AD76) -> 0 | AE77: =AD77-AC77 -> 63
E78: 29 | G78: 0.75038194 | I78: 28 | K78: 0.718125 | M78: 11 | O78: 0.70728009 | AC78: =AB78+AC77 -> -63 | AD78: =MAX(AC78,AD77) -> 0 | AE78: =AD78-AC78 -> 63
E79: 8 | G79: 0.75138889 | I79: 21 | K79: 0.7203125 | M79: 12 | O79: 0.7080787 | S79: T7 | T79: =O106 -> 0.73344907 | U79: 61 | V79: =M106 -> 29 | W79: =VLOOKUP(V79,DATA!A:B,2,FALSE) -> 14 | Y79: LAST | Z79: L | AB79: -9 | AC79: =AB79+AC78 -> -72 | AD79: =MAX(AC79,AD78) -> 0 | AE79: =AD79-AC79 -> 72
E80: 26 | G80: 0.75278935 | I80: 25 | K80: 0.7212037 | M80: 2 | O80: 0.70912037 | S80: T7 | T80: =O107 -> 0.73452546 | U80: 62 | V80: =M107 -> 7 | W80: =VLOOKUP(V80,DATA!A:B,2,FALSE) -> 4 | Y80: FURTHEREST | Z80: L | AB80: -9 | AC80: =AB80+AC79 -> -81 | AD80: =MAX(AC80,AD79) -> 0 | AE80: =AD80-AC80 -> 81
E81: 2 | G81: 0.75369213 | I81: 8 | K81: 0.72189815 | M81: -- | O81: 0.70946759 | S81: T7 | T81: =O108 -> 0.73519676 | U81: 63 | V81: =M108 -> 22 | W81: =VLOOKUP(V81,DATA!A:B,2,FALSE) -> 10 | Z81: W | AB81: 9 | AC81: =AB81+AC80 -> -72 | AD81: =MAX(AC81,AD80) -> 0 | AE81: =AD81-AC81 -> 72
E82: 0 | G82: 0.7547338 | I82: 25 | K82: 0.7230787 | M82: 30 | O82: 0.71045139 | S82: T7 | T82: =O109 -> 0.73585648 | U82: 64 | V82: =M109 -> 33 | W82: =VLOOKUP(V82,DATA!A:B,2,FALSE) -> 18 | Z82: W | AB82: 9 | AC82: =AB82+AC81 -> -63 | AD82: =MAX(AC82,AD81) -> 0 | AE82: =AD82-AC82 -> 63
E83: 26 | G83: 0.75537037 | I83: 23 | K83: 0.72384259 | M83: 35 | O83: 0.71127315 | S83: T7 | T83: =O110 -> 0.73667824 | U83: 65 | V83: =M110 -> 12 | W83: =VLOOKUP(V83,DATA!A:B,2,FALSE) -> 6 | Y83: LAST | Z83: L | AB83: -9 | AC83: =AB83+AC82 -> -72 | AD83: =MAX(AC83,AD82) -> 0 | AE83: =AD83-AC83 -> 72
E84: 8 | G84: 0.7566088 | I84: 35 | K84: 0.7246875 | M84: 7 | O84: 0.71211806 | S84: T7 | T84: =O111 -> 0.73746528 | U84: 66 | V84: =M111 -> 23 | W84: =VLOOKUP(V84,DATA!A:B,2,FALSE) -> 11 | Y84: FURTHEREST | Z84: L | AB84: -9 | AC84: =AB84+AC83 -> -81 | AD84: =MAX(AC84,AD83) -> 0 | AE84: =AD84-AC84 -> 81
E85: 33 | G85: 0.75771991 | I85: 26 | K85: 0.72596065 | M85: 34 | O85: 0.71268519 | S85: T7 | T85: =O112 -> 0.7384375 | U85: 67 | V85: =M112 -> 5 | W85: =VLOOKUP(V85,DATA!A:B,2,FALSE) -> 2 | Z85: W | AB85: 9 | AC85: =AB85+AC84 -> -72 | AD85: =MAX(AC85,AD84) -> 0 | AE85: =AD85-AC85 -> 72
E86: 33 | G86: 0.75869213 | I86: 15 | K86: 0.72758102 | M86: 23 | O86: 0.7137963 | S86: T7 | T86: =O113 -> 0.73940972 | U86: 68 | V86: =M113 -> 13 | W86: =VLOOKUP(V86,DATA!A:B,2,FALSE) -> 7 | Z86: W | AB86: 9 | AC86: =AB86+AC85 -> -63 | AD86: =MAX(AC86,AD85) -> 0 | AE86: =AD86-AC86 -> 63
E87: 6 | G87: 0.7597338 | I87: 27 | K87: 0.72875 | M87: 11 | O87: 0.71453704 | S87: T7 | T87: =O114 -> 0.74039352 | U87: 69 | V87: =M114 -> -- | W87: =VLOOKUP(V87,DATA!A:B,2,FALSE) -> #N/A | AC87: =AB87+AC86 -> -63 | AD87: =MAX(AC87,AD86) -> 0 | AE87: =AD87-AC87 -> 63
E88: 10 | G88: 0.76054398 | I88: 28 | K88: 0.7300463 | M88: 26 | O88: 0.71578704 | S88: T7 | T88: =O115 -> 0.74082176 | U88: 70 | V88: =M115 -> 20 | W88: =VLOOKUP(V88,DATA!A:B,2,FALSE) -> 11 | Y88: LAST | Z88: L | AB88: -9 | AC88: =AB88+AC87 -> -72 | AD88: =MAX(AC88,AD87) -> 0 | AE88: =AD88-AC88 -> 72
E89: -- | G89: 0.76119213 | I89: -- | K89: 0.73009259 | M89: 33 | O89: 0.71657407 | AC89: =AB89+AC88 -> -72 | AD89: =MAX(AC89,AD88) -> 0 | AE89: =AD89-AC89 -> 72
E90: 2 | G90: 0.76216435 | I90: 9 | K90: 0.73144676 | M90: 8 | O90: 0.71737269 | S90: T3 | T90: =G71 -> 0.74267361 | U90: 71 | V90: =E71 -> 4 | W90: =VLOOKUP(V90,DATA!A:B,2,FALSE) -> 1 | Y90: FURTHEREST | Z90: L | AB90: -9 | AC90: =AB90+AC89 -> -81 | AD90: =MAX(AC90,AD89) -> 0 | AE90: =AD90-AC90 -> 81
E91: 17 | G91: 0.76289352 | I91: 9 | K91: 0.73231481 | M91: 22 | O91: 0.71825231 | S91: T3 | T91: =G72 -> 0.74391204 | U91: 72 | V91: =E72 -> 30 | W91: =VLOOKUP(V91,DATA!A:B,2,FALSE) -> 15 | Z91: W | AB91: 9 | AC91: =AB91+AC90 -> -72 | AD91: =MAX(AC91,AD90) -> 0 | AE91: =AD91-AC91 -> 72
E92: 2 | G92: 0.76394676 | I92: 6 | K92: 0.73319444 | M92: 28 | O92: 0.71876157 | S92: T3 | T92: =G73 -> 0.74482639 | U92: 73 | V92: =E73 -> 34 | W92: =VLOOKUP(V92,DATA!A:B,2,FALSE) -> 16 | Z92: W | AB92: 9 | AC92: =AB92+AC91 -> -63 | AD92: =MAX(AC92,AD91) -> 0 | AE92: =AD92-AC92 -> 63
E93: 25 | G93: 0.76457176 | I93: 23 | K93: 0.73422454 | M93: 27 | O93: 0.7215625 | S93: T3 | T93: =G74 -> 0.74586806 | U93: 74 | V93: =E74 -> 16 | W93: =VLOOKUP(V93,DATA!A:B,2,FALSE) -> 7 | Y93: LAST | Z93: L | AB93: -9 | AC93: =AB93+AC92 -> -72 | AD93: =MAX(AC93,AD92) -> 0 | AE93: =AD93-AC93 -> 72
E94: 13 | G94: 0.76553241 | I94: 12 | K94: 0.73542824 | M94: 1 | O94: 0.72260417 | S94: T3 | T94: =G75 -> 0.74693287 | U94: 75 | V94: =E75 -> 3 | W94: =VLOOKUP(V94,DATA!A:B,2,FALSE) -> 3 | Y94: FURTHEREST | Z94: L | AB94: -9 | AC94: =AB94+AC93 -> -81 | AD94: =MAX(AC94,AD93) -> 0 | AE94: =AD94-AC94 -> 81
E95: 28 | G95: 0.76640046 | I95: 30 | K95: 0.73659722 | M95: 4 | O95: 0.72430556 | S95: T3 | T95: =G76 -> 0.74822917 | U95: 76 | V95: =E76 -> 36 | W95: =VLOOKUP(V95,DATA!A:B,2,FALSE) -> 18 | Y95: LAST | Z95: L | AB95: -9 | AC95: =AB95+AC94 -> -90 | AD95: =MAX(AC95,AD94) -> 0 | AE95: =AD95-AC95 -> 90
E96: 15 | G96: 0.76715278 | I96: 35 | K96: 0.73796296 | M96: 16 | O96: 0.72542824 | S96: T3 | T96: =G77 -> 0.74928241 | U96: 77 | V96: =E77 -> 31 | W96: =VLOOKUP(V96,DATA!A:B,2,FALSE) -> 16 | Z96: W | AB96: 9 | AC96: =AB96+AC95 -> -81 | AD96: =MAX(AC96,AD95) -> 0 | AE96: =AD96-AC96 -> 81
E97: 13 | G97: 0.76797454 | I97: 23 | K97: 0.73917824 | M97: 25 | O97: 0.726875 | S97: T3 | T97: =G78 -> 0.75038194 | U97: 78 | V97: =E78 -> 29 | W97: =VLOOKUP(V97,DATA!A:B,2,FALSE) -> 14 | Y97: FURTHEREST | Z97: L | AB97: -9 | AC97: =AB97+AC96 -> -90 | AD97: =MAX(AC97,AD96) -> 0 | AE97: =AD97-AC97 -> 90
E98: 18 | G98: 0.76875 | I98: 11 | K98: 0.74070602 | M98: 11 | O98: 0.72759259 | S98: T3 | T98: =G79 -> 0.75138889 | U98: 79 | V98: =E79 -> 8 | W98: =VLOOKUP(V98,DATA!A:B,2,FALSE) -> 5 | Z98: W | AB98: 9 | AC98: =AB98+AC97 -> -81 | AD98: =MAX(AC98,AD97) -> 0 | AE98: =AD98-AC98 -> 81
E99: 29 | G99: 0.76954861 | I99: 31 | K99: 0.7421875 | M99: 7 | O99: 0.72824074 | AC99: =AB99+AC98 -> -81 | AD99: =MAX(AC99,AD98) -> 0 | AE99: =AD99-AC99 -> 81
E100: 12 | G100: 0.77020833 | I100: 18 | K100: 0.743125 | M100: 20 | O100: 0.72925926 | S100: T4 | T100: =K111 -> 0.75349537 | U100: 80 | V100: =I111 -> 25 | W100: =VLOOKUP(V100,DATA!A:B,2,FALSE) -> 13 | Z100: W | AB100: 9 | AC100: =AB100+AC99 -> -72 | AD100: =MAX(AC100,AD99) -> 0 | AE100: =AD100-AC100 -> 72
E101: 1 | G101: 0.77096065 | I101: 34 | K101: 0.74412037 | M101: 9 | O101: 0.72974537 | S101: T4 | T101: =K112 -> 0.75422454 | U101: 81 | V101: =I112 -> 35 | W101: =VLOOKUP(V101,DATA!A:B,2,FALSE) -> 17 | Z101: W | AB101: 9 | AC101: =AB101+AC100 -> -63 | AD101: =MAX(AC101,AD100) -> 0 | AE101: =AD101-AC101 -> 63
E102: 12 | G102: 0.7718287 | I102: 21 | K102: 0.74506944 | M102: -- | O102: 0.72984954 | S102: T4 | T102: =K113 -> 0.75509259 | U102: 82 | V102: =I113 -> 34 | W102: =VLOOKUP(V102,DATA!A:B,2,FALSE) -> 16 | Y102: LAST | Z102: L | AB102: -9 | AC102: =AB102+AC101 -> -72 | AD102: =MAX(AC102,AD101) -> 0 | AE102: =AD102-AC102 -> 72
E103: 35 | G103: 0.7725463 | I103: 3 | K103: 0.74677083 | M103: 30 | O103: 0.73050926 | S103: T4 | T103: =K114 -> 0.75612269 | U103: 83 | V103: =I114 -> 6 | W103: =VLOOKUP(V103,DATA!A:B,2,FALSE) -> 3 | Z103: W | AB103: 9 | AC103: =AB103+AC102 -> -63 | AD103: =MAX(AC103,AD102) -> 0 | AE103: =AD103-AC103 -> 63
...
