Workbook
Name CodeStart: #REF!
Name GBP_Curncy: #REF!
Name SILV: #REF!
Name silver: #REF!
Name Week: #REF!

Sheet DATA
A1: Number | B1: Split
A2: 1 | B2: 1
A3: 2 | B3: 2
A4: 3 | B4: 3
A5: 4 | B5: 1
A6: 5 | B6: 2
A7: 6 | B7: 3
A8: 7 | B8: 4
A9: 8 | B9: 5
A10: 9 | B10: 6
A11: 10 | B11: 4
A12: 11 | B12: 5
A13: 12 | B13: 6
... A37: 36 | B37: 18
A38: 0 | B38: G

Sheet T2, T3, T4, T7
A1: Spielbank Wiesbaden Permanenzen
A3: Eine VerÃ¶ffentlichung oder Ver-
A4: vielfÃ¤ltigung ohne schriftliche
A5: Genehmigung dieser Daten ist
A6: nicht gestattet.
A8: Tisch: T2, T3, T4 & T7
A9: Datum: 2013-01-21
A11: **************************** DATA ******************************* | S11: **************************** PLAY ***************************
S12: Table | T12: Time | U12: Spin | V12: # | W12: Street | Y12: Next Bet | Z12: Result | AB12: P/L | AC12: Total | AD12: Max | AE12: DD
A13: T2 | E13: T3 | I13: T4 | M13: T7
A14: See Below | E14: 24 | G14: 0.6190625 | I14: See Below | M14: See Below | S14: T3 | T14: =G14 -> 0.6190625 | U14: 1 | V14: =E14 -> 24 | W14: =VLOOKUP(V14,DATA!A:B,2,FALSE) -> 12 | AC14: =AB14 -> 0 | AD14: =AC14 -> 0 | AE14: =AD14-AC14 -> 0
E15: 28 | G15: 0.62107639 | S15: T3 | T15: =G15 -> 0.62107639 | U15: 2 | V15: =E15 -> 28 | W15: =VLOOKUP(V15,DATA!A:B,2,FALSE) -> 13 | AC15: =AB15+AC14 -> 0 | AD15: =MAX(AC15,AD14) -> 0 | AE15: =AD15-AC15 -> 0
E16: 29 | G16: 0.62327546 | S16: T3 | T16: =G16 -> 0.62327546 | U16: 3 | V16: =E16 -> 29 | W16: =VLOOKUP(V16,DATA!A:B,2,FALSE) -> 14 | AC16: =AB16+AC15 -> 0 | AD16: =MAX(AC16,AD15) -> 0 | AE16: =AD16-AC16 -> 0
E17: 5 | G17: 0.62553241 | S17: T3 | T17: =G17 -> 0.62553241 | U17: 4 | V17: =E17 -> 5 | W17: =VLOOKUP(V17,DATA!A:B,2,FALSE) -> 2 | AC17: =AB17+AC16 -> 0 | AD17: =MAX(AC17,AD16) -> 0 | AE17: =AD17-AC17 -> 0
E18: 12 | G18: 0.62702546 | S18: T3 | T18: =G18 -> 0.62702546 | U18: 5 | V18: =E18 -> 12 | W18: =VLOOKUP(V18,DATA!A:B,2,FALSE) -> 6 | AC18: =AB18+AC17 -> 0 | AD18: =MAX(AC18,AD17) -> 0 | AE18: =AD18-AC18 -> 0
E19: 23 | G19: 0.62858796 | S19: T3 | T19: =G19 -> 0.62858796 | U19: 6 | V19: =E19 -> 23 | W19: =VLOOKUP(V19,DATA!A:B,2,FALSE) -> 11 | AC19: =AB19+AC18 -> 0 | AD19: =MAX(AC19,AD18) -> 0 | AE19: =AD19-AC19 -> 0
E20: 3 | G20: 0.63049769 | S20: T3 | T20: =G20 -> 0.63049769 | U20: 7 | V20: =E20 -> 3 | W20: =VLOOKUP(V20,DATA!A:B,2,FALSE) -> 3 | AC20: =AB20+AC19 -> 0 | AD20: =MAX(AC20,AD19) -> 0 | AE20: =AD20-AC20 -> 0
E21: 25 | G21: 0.63267361 | S21: T3 | T21: =G21 -> 0.63267361 | U21: 8 | V21: =E21 -> 25 | W21: =VLOOKUP(V21,DATA!A:B,2,FALSE) -> 13 | AC21: =AB21+AC20 -> 0 | AD21: =MAX(AC21,AD20) -> 0 | AE21: =AD21-AC21 -> 0
E22: 29 | G22: 0.63425926 | S22: T3 | T22: =G22 -> 0.63425926 | U22: 9 | V22: =E22 -> 29 | W22: =VLOOKUP(V22,DATA!A:B,2,FALSE) -> 14 | AC22: =AB22+AC21 -> 0 | AD22: =MAX(AC22,AD21) -> 0 | AE22: =AD22-AC22 -> 0
E23: 10 | G23: 0.63655093 | S23: T3 | T23: =G23 -> 0.63655093 | U23: 10 | V23: =E23 -> 10 | W23: =VLOOKUP(V23,DATA!A:B,2,FALSE) -> 4 | AC23: =AB23+AC22 -> 0 | AD23: =MAX(AC23,AD22) -> 0 | AE23: =AD23-AC23 -> 0
E24: 16 | G24: 0.63890046 | S24: T3 | T24: =G24 -> 0.63890046 | U24: 11 | V24: =E24 -> 16 | W24: =VLOOKUP(V24,DATA!A:B,2,FALSE) -> 7 | Y24: LAST | AC24: =AB24+AC23 -> 0 | AD24: =MAX(AC24,AD23) -> 0 | AE24: =AD24-AC24 -> 0
E25: 19 | G25: 0.64063657 | S25: T3 | T25: =G25 -> 0.64063657 | U25: 12 | V25: =E25 -> 19 | W25: =VLOOKUP(V25,DATA!A:B,2,FALSE) -> 10 | Y25: FURTHEREST | Z25: L | AB25: -9 | AC25: =AB25+AC24 -> -9 | AD25: =MAX(AC25,AD24) -> 0 | AE25: =AD25-AC25 -> 9
E26: 3 | G26: 0.64303241 | S26: T3 | T26: =G26 -> 0.64303241 | U26: 13 | V26: =E26 -> 3 | W26: =VLOOKUP(V26,DATA!A:B,2,FALSE) -> 3 | Y26: LAST | Z26: L | AB26: -9 | AC26: =AB26+AC25 -> -18 | AD26: =MAX(AC26,AD25) -> 0 | AE26: =AD26-AC26 -> 18
E27: 23 | G27: 0.64618056 | K27: T4 | S27: T3 | T27: =G27 -> 0.64618056 | U27: 14 | V27: =E27 -> 23 | W27: =VLOOKUP(V27,DATA!A:B,2,FALSE) -> 11 | Z27: W | AB27: 9 | AC27: =AB27+AC26 -> -9 | AD27: =MAX(AC27,AD26) -> 0 | AE27: =AD27-AC27 -> 9
E28: -- | G28: 0.64627315 | I28: 30 | K28: 0.6484838 | S28: T3 | T28: =G28 -> 0.64627315 | U28: 15 | V28: =E28 -> -- | W28: =VLOOKUP(V28,DATA!A:B,2,FALSE) -> #N/A | AC28: =AB28+AC27 -> -9 | AD28: =MAX(AC28,AD27) -> 0 | AE28: =AD28-AC28 -> 9
E29: 5 | G29: 0.64924769 | I29: 11 | K29: 0.64934028 | S29: T3 | T29: =G29 -> 0.64924769 | U29: 16 | V29: =E29 -> 5 | W29: =VLOOKUP(V29,DATA!A:B,2,FALSE) -> 2 | Z29: W | AB29: 9 | AC29: =AB29+AC28 -> 0 | AD29: =MAX(AC29,AD28) -> 0 | AE29: =AD29-AC29 -> 0
E30: 24 | G30: 0.65256944 | I30: 6 | K30: 0.65019676 | S30: T3 | T30: =G30 -> 0.65256944 | U30: 17 | V30: =E30 -> 24 | W30: =VLOOKUP(V30,DATA!A:B,2,FALSE) -> 12 | Y30: FURTHEREST | Z30: L | AB30: -9 | AC30: =AB30+AC29 -> -9 | AD30: =MAX(AC30,AD29) -> 0 | AE30: =AD30-AC30 -> 9
E31: 24 | G31: 0.65590278 | I31: 13 | K31: 0.65108796 | S31: T3 | T31: =G31 -> 0.65590278 | U31: 18 | V31: =E31 -> 24 | W31: =VLOOKUP(V31,DATA!A:B,2,FALSE) -> 12 | Y31: LAST | Z31: L | AB31: -9 | AC31: =AB31+AC30 -> -18 | AD31: =MAX(AC31,AD30) -> 0 | AE31: =AD31-AC31 -> 18
E32: 1 | G32: 0.65944444 | I32: 13 | K32: 0.65209491 | S32: T3 | T32: =G32 -> 0.65944444 | U32: 19 | V32: =E32 -> 1 | W32: =VLOOKUP(V32,DATA!A:B,2,FALSE) -> 1 | Y32: FURTHEREST | Z32: L | AB32: -9 | AC32: =AB32+AC31 -> -27 | AD32: =MAX(AC32,AD31) -> 0 | AE32: =AD32-AC32 -> 27
E33: 28 | G33: 0.66202546 | I33: 27 | K33: 0.65375 | S33: T3 | T33: =G33 -> 0.66202546 | U33: 20 | V33: =E33 -> 28 | W33: =VLOOKUP(V33,DATA!A:B,2,FALSE) -> 13 | Z33: W | AB33: 9 | AC33: =AB33+AC32 -> -18 | AD33: =MAX(AC33,AD32) -> 0 | AE33: =AD33-AC33 -> 18
E34: 34 | G34: 0.66461806 | I34: 2 | K34: 0.65555556 | S34: T3 | T34: =G34 -> 0.66461806 | U34: 21 | V34: =E34 -> 34 | W34: =VLOOKUP(V34,DATA!A:B,2,FALSE) -> 16 | Z34: W | AB34: 9 | AC34: =AB34+AC33 -> -9 | AD34: =MAX(AC34,AD33) -> 0 | AE34: =AD34-AC34 -> 9
E35: 19 | G35: 0.66686343 | I35: 15 | K35: 0.65693287 | AC35: =AB35+AC34 -> -9 | AD35: =MAX(AC35,AD34) -> 0 | AE35: =AD35-AC35 -> 9
E36: -- | G36: 0.66722222 | I36: 9 | K36: 0.65855324 | S36: T4 | T36: =K41 -> 0.66739583 | U36: 22 | V36: =I41 -> 4 | W36: =VLOOKUP(V36,DATA!A:B,2,FALSE) -> 1 | Y36: LAST | Z36: L | AB36: -9 | AC36: =AB36+AC35 -> -18 | AD36: =MAX(AC36,AD35) -> 0 | AE36: =AD36-AC36 -> 18
E37: 6 | G37: 0.67016204 | I37: 16 | K37: 0.66048611 | S37: T4 | T37: =K42 -> 0.6675 | U37: 23 | V37: =I42 -> -- | W37: =VLOOKUP(V37,DATA!A:B,2,FALSE) -> #N/A | AC37: =AB37+AC36 -> -18 | AD37: =MAX(AC37,AD36) -> 0 | AE37: =AD37-AC37 -> 18
E38: 25 | G38: 0.67311343 | I38: 14 | K38: 0.66178241 | S38: T4 | T38: =K43 -> 0.66982639 | U38: 24 | V38: =I43 -> 32 | W38: =VLOOKUP(V38,DATA!A:B,2,FALSE) -> 17 | Y38: FURTHEREST | Z38: L | AB38: -9 | AC38: =AB38+AC37 -> -27 | AD38: =MAX(AC38,AD37) -> 0 | AE38: =AD38-AC38 -> 27
E39: 12 | G39: 0.67578704 | I39: 29 | K39: 0.66321759 | S39: T4 | T39: =K44 -> 0.67164352 | U39: 25 | V39: =I44 -> 16 | W39: =VLOOKUP(V39,DATA!A:B,2,FALSE) -> 7 | Z39: W | AB39: 9 | AC39: =AB39+AC38 -> -18 | AD39: =MAX(AC39,AD38) -> 0 | AE39: =AD39-AC39 -> 18
E40: 10 | G40: 0.6790162 | I40: 25 | K40: 0.66501157 | S40: T4 | T40: =K45 -> 0.67327546 | U40: 26 | V40: =I45 -> 13 | W40: =VLOOKUP(V40,DATA!A:B,2,FALSE) -> 7 | Y40: LAST | Z40: L | AB40: -9 | AC40: =AB40+AC39 -> -27 | AD40: =MAX(AC40,AD39) -> 0 | AE40: =AD40-AC40 -> 27
E41: 5 | G41: 0.68107639 | I41: 4 | K41: 0.66739583 | S41: T4 | T41: =K46 -> 0.67457176 | U41: 27 | V41: =I46 -> 26 | W41: =VLOOKUP(V41,DATA!A:B,2,FALSE) -> 14 | Y41: FURTHEREST | Z41: L | AB41: -9 | AC41: =AB41+AC40 -> -36 | AD41: =MAX(AC41,AD40) -> 0 | AE41: =AD41-AC41 -> 36
E42: 26 | G42: 0.68363426 | I42: -- | K42: 0.6675 | S42: T4 | T42: =K47 -> 0.67608796 | U42: 28 | V42: =I47 -> 7 | W42: =VLOOKUP(V42,DATA!A:B,2,FALSE) -> 4 | Y42: LAST | Z42: L | AB42: -9 | AC42: =AB42+AC41 -> -45 | AD42: =MAX(AC42,AD41) -> 0 | AE42: =AD42-AC42 -> 45
E43: 34 | G43: 0.68700231 | I43: 32 | K43: 0.66982639 | S43: T4 | T43: =K48 -> 0.67802083 | U43: 29 | V43: =I48 -> 0 | W43: =VLOOKUP(V43,DATA!A:B,2,FALSE) -> G | Z43: L | AB43: -9 | AC43: =AB43+AC42 -> -54 | AD43: =MAX(AC43,AD42) -> 0 | AE43: =AD43-AC43 -> 54
...
