Workbook

Sheet Tabelle1
C2: Method Ignatus | I2: Method using Dozzen as they are
C3: Track DZ Carpets and bet as soon as you have 2 diffrent DZ. | I3: Dz1 = 1-12 Dz2 = 13 -24 Dz3 = 25-16
C4: Betting here is flat. I put in -12 for a loss and +25 for a win. | I4: Zero = loss
C5: No progression | I5: No progression
C6: t = track l = loose w = win | I6: t = track l = loose w = win
C9: Max | D9: =MAX(G15:G613) -> 464 | F9: Wins | G9: =COUNTIF(E14:E613,"w") -> 111 | I9: Max | J9: =MAX(M15:M613) -> 25 | L9: Wins | M9: =COUNTIF(K14:K613,"w") -> 97
C10: Min | D10: =MIN(G15:G613) -> -7 | F10: Losses | G10: =COUNTIF(E14:E613,"l") -> 195 | I10: Min | J10: =MIN(M15:M613) -> -349 | L10: Losses | M10: =COUNTIF(K14:K613,"l") -> 230
C13: Num | D13: DZ | E13: Signal | F13: W/L | G13: Total | I13: Num | J13: DZ | K13: Signal | L13: W/L | M13: Total
A14: 1 | C14: 4 | D14: =IF(C14="","",VLOOKUP(C14,Tabelle2!$A$2:$B$38,2,0)) -> 1 | E14: t | F14: =IF(E14="","",IF(E14="w",25,IF(E14="l",-12,""))) | I14: 4 | J14: =IF(I14="","",VLOOKUP(I14,Tabelle2!$A$41:$B$77,2,0)) -> 1 | K14: t | L14: =IF(K14="","",IF(K14="w",25,IF(K14="l",-12,""))) | M14: =L14
A15: 2 | C15: 6 | D15: =IF(C15="","",VLOOKUP(C15,Tabelle2!$A$2:$B$38,2,0)) -> 1 | E15: t | F15: =IF(E15="","",IF(E15="w",25,IF(E15="l",-12,""))) | I15: 6 | J15: =IF(I15="","",VLOOKUP(I15,Tabelle2!$A$41:$B$77,2,0)) -> 1 | K15: t | L15: =IF(K15="","",IF(K15="w",25,IF(K15="l",-12,""))) | M15: =IF(L15="","",SUM($L$14:L15))
A16: 3 | C16: 12 | D16: =IF(C16="","",VLOOKUP(C16,Tabelle2!$A$2:$B$38,2,0)) -> 3 | E16: t | F16: =IF(E16="","",IF(E16="w",25,IF(E16="l",-12,""))) | I16: 12 | J16: =IF(I16="","",VLOOKUP(I16,Tabelle2!$A$41:$B$77,2,0)) -> 1 | K16: t | L16: =IF(K16="","",IF(K16="w",25,IF(K16="l",-12,""))) | M16: =IF(L16="","",SUM($L$14:L16))
A17: 4 | C17: 25 | D17: =IF(C17="","",VLOOKUP(C17,Tabelle2!$A$2:$B$38,2,0)) -> 1 | E17: l | F17: =IF(E17="","",IF(E17="w",25,IF(E17="l",-12,""))) -> -12 | I17: 25 | J17: =IF(I17="","",VLOOKUP(I17,Tabelle2!$A$41:$B$77,2,0)) -> 3 | K17: t | L17: =IF(K17="","",IF(K17="w",25,IF(K17="l",-12,""))) | M17: =IF(L17="","",SUM($L$14:L17))
A18: 5 | C18: 20 | D18: =IF(C18="","",VLOOKUP(C18,Tabelle2!$A$2:$B$38,2,0)) -> 2 | E18: w | F18: =IF(E18="","",IF(E18="w",25,IF(E18="l",-12,""))) -> 25 | I18: 20 | J18: =IF(I18="","",VLOOKUP(I18,Tabelle2!$A$41:$B$77,2,0)) -> 2 | K18: w | L18: =IF(K18="","",IF(K18="w",25,IF(K18="l",-12,""))) -> 25 | M18: =IF(L18="","",SUM($L$14:L18)) -> 25
A19: 6 | C19: 22 | D19: =IF(C19="","",VLOOKUP(C19,Tabelle2!$A$2:$B$38,2,0)) -> 3 | E19: t | F19: =IF(E19="","",IF(E19="w",25,IF(E19="l",-12,""))) | I19: 22 | J19: =IF(I19="","",VLOOKUP(I19,Tabelle2!$A$41:$B$77,2,0)) -> 2 | K19: t | L19: =IF(K19="","",IF(K19="w",25,IF(K19="l",-12,""))) | M19: =IF(L19="","",SUM($L$14:L19))
A20: 7 | C20: 16 | D20: =IF(C20="","",VLOOKUP(C20,Tabelle2!$A$2:$B$38,2,0)) -> 2 | E20: t | F20: =IF(E20="","",IF(E20="w",25,IF(E20="l",-12,""))) | G20: =IF(F20="","",SUM($F$14:F20)) | I20: 16 | J20: =IF(I20="","",VLOOKUP(I20,Tabelle2!$A$41:$B$77,2,0)) -> 2 | K20: t | L20: =IF(K20="","",IF(K20="w",25,IF(K20="l",-12,""))) | M20: =IF(L20="","",SUM($L$14:L20))
A21: 8 | C21: 27 | D21: =IF(C21="","",VLOOKUP(C21,Tabelle2!$A$2:$B$38,2,0)) -> 1 | E21: w | F21: =IF(E21="","",IF(E21="w",25,IF(E21="l",-12,""))) -> 25 | G21: =IF(F21="","",SUM($F$14:F21)) -> 38 | I21: 27 | J21: =IF(I21="","",VLOOKUP(I21,Tabelle2!$A$41:$B$77,2,0)) -> 3 | K21: t | L21: =IF(K21="","",IF(K21="w",25,IF(K21="l",-12,""))) | M21: =IF(L21="","",SUM($L$14:L21))
A22: 9 | C22: 15 | D22: =IF(C22="","",VLOOKUP(C22,Tabelle2!$A$2:$B$38,2,0)) -> 1 | E22: t | F22: =IF(E22="","",IF(E22="w",25,IF(E22="l",-12,""))) | G22: =IF(F22="","",SUM($F$14:F22)) | I22: 15 | J22: =IF(I22="","",VLOOKUP(I22,Tabelle2!$A$41:$B$77,2,0)) -> 2 | K22: l | L22: =IF(K22="","",IF(K22="w",25,IF(K22="l",-12,""))) -> -12 | M22: =IF(L22="","",SUM($L$14:L22)) -> 13
A23: 10 | C23: 23 | D23: =IF(C23="","",VLOOKUP(C23,Tabelle2!$A$2:$B$38,2,0)) -> 2 | E23: t | F23: =IF(E23="","",IF(E23="w",25,IF(E23="l",-12,""))) | G23: =IF(F23="","",SUM($F$14:F23)) | I23: 23 | J23: =IF(I23="","",VLOOKUP(I23,Tabelle2!$A$41:$B$77,2,0)) -> 2 | K23: l | L23: =IF(K23="","",IF(K23="w",25,IF(K23="l",-12,""))) -> -12 | M23: =IF(L23="","",SUM($L$14:L23)) -> 1
A24: 11 | C24: 22 | D24: =IF(C24="","",VLOOKUP(C24,Tabelle2!$A$2:$B$38,2,0)) -> 3 | E24: w | F24: =IF(E24="","",IF(E24="w",25,IF(E24="l",-12,""))) -> 25 | G24: =IF(F24="","",SUM($F$14:F24)) -> 63 | I24: 22 | J24: =IF(I24="","",VLOOKUP(I24,Tabelle2!$A$41:$B$77,2,0)) -> 2 | K24: l | L24: =IF(K24="","",IF(K24="w",25,IF(K24="l",-12,""))) -> -12 | M24: =IF(L24="","",SUM($L$14:L24)) -> -11
A25: 12 | C25: 34 | D25: =IF(C25="","",VLOOKUP(C25,Tabelle2!$A$2:$B$38,2,0)) -> 1 | E25: t | F25: =IF(E25="","",IF(E25="w",25,IF(E25="l",-12,""))) | G25: =IF(F25="","",SUM($F$14:F25)) | I25: 34 | J25: =IF(I25="","",VLOOKUP(I25,Tabelle2!$A$41:$B$77,2,0)) -> 3 | K25: l | L25: =IF(K25="","",IF(K25="w",25,IF(K25="l",-12,""))) -> -12 | M25: =IF(L25="","",SUM($L$14:L25)) -> -23
A26: 13 | C26: 10 | D26: =IF(C26="","",VLOOKUP(C26,Tabelle2!$A$2:$B$38,2,0)) -> 2 | E26: t | F26: =IF(E26="","",IF(E26="w",25,IF(E26="l",-12,""))) | G26: =IF(F26="","",SUM($F$14:F26)) | I26: 10 | J26: =IF(I26="","",VLOOKUP(I26,Tabelle2!$A$41:$B$77,2,0)) -> 1 | K26: w | L26: =IF(K26="","",IF(K26="w",25,IF(K26="l",-12,""))) -> 25 | M26: =IF(L26="","",SUM($L$14:L26)) -> 2
A27: 14 | C27: 4 | D27: =IF(C27="","",VLOOKUP(C27,Tabelle2!$A$2:$B$38,2,0)) -> 1 | E27: l | F27: =IF(E27="","",IF(E27="w",25,IF(E27="l",-12,""))) -> -12 | G27: =IF(F27="","",SUM($F$14:F27)) -> 51 | I27: 4 | J27: =IF(I27="","",VLOOKUP(I27,Tabelle2!$A$41:$B$77,2,0)) -> 1 | K27: t | L27: =IF(K27="","",IF(K27="w",25,IF(K27="l",-12,""))) | M27: =IF(L27="","",SUM($L$14:L27))
A28: 15 | C28: 36 | D28: =IF(C28="","",VLOOKUP(C28,Tabelle2!$A$2:$B$38,2,0)) -> 2 | E28: l | F28: =IF(E28="","",IF(E28="w",25,IF(E28="l",-12,""))) -> -12 | G28: =IF(F28="","",SUM($F$14:F28)) -> 39 | I28: 36 | J28: =IF(I28="","",VLOOKUP(I28,Tabelle2!$A$41:$B$77,2,0)) -> 3 | K28: t | L28: =IF(K28="","",IF(K28="w",25,IF(K28="l",-12,""))) | M28: =IF(L28="","",SUM($L$14:L28))
A29: 16 | C29: 7 | D29: =IF(C29="","",VLOOKUP(C29,Tabelle2!$A$2:$B$38,2,0)) -> 3 | E29: w | F29: =IF(E29="","",IF(E29="w",25,IF(E29="l",-12,""))) -> 25 | G29: =IF(F29="","",SUM($F$14:F29)) -> 64 | I29: 7 | J29: =IF(I29="","",VLOOKUP(I29,Tabelle2!$A$41:$B$77,2,0)) -> 1 | K29: l | L29: =IF(K29="","",IF(K29="w",25,IF(K29="l",-12,""))) -> -12 | M29: =IF(L29="","",SUM($L$14:L29)) -> -10
A30: 17 | C30: 12 | D30: =IF(C30="","",VLOOKUP(C30,Tabelle2!$A$2:$B$38,2,0)) -> 3 | E30: t | F30: =IF(E30="","",IF(E30="w",25,IF(E30="l",-12,""))) | G30: =IF(F30="","",SUM($F$14:F30)) | I30: 12 | J30: =IF(I30="","",VLOOKUP(I30,Tabelle2!$A$41:$B$77,2,0)) -> 1 | K30: l | L30: =IF(K30="","",IF(K30="w",25,IF(K30="l",-12,""))) -> -12 | M30: =IF(L30="","",SUM($L$14:L30)) -> -22
A31: 18 | C31: 18 | D31: =IF(C31="","",VLOOKUP(C31,Tabelle2!$A$2:$B$38,2,0)) -> 3 | E31: t | F31: =IF(E31="","",IF(E31="w",25,IF(E31="l",-12,""))) | G31: =IF(F31="","",SUM($F$14:F31)) | I31: 18 | J31: =IF(I31="","",VLOOKUP(I31,Tabelle2!$A$41:$B$77,2,0)) -> 2 | K31: w | L31: =IF(K31="","",IF(K31="w",25,IF(K31="l",-12,""))) -> 25 | M31: =IF(L31="","",SUM($L$14:L31)) -> 3
... A153: 140 | C153: 1 | D153: =IF(C153="","",VLOOKUP(C153,Tabelle2!$A$2:$B$38,2,0)) -> 2 | E153: t | F153: =IF(E153="","",IF(E153="w",25,IF(E153="l",-12,""))) | G153: =IF(F153="","",SUM($F$14:F153)) | I153: 1 | J153: =IF(I153="","",VLOOKUP(I153,Tabelle2!$A$41:$B$77,2,0)) -> 1 | K153: l | L153: =IF(K153="","",IF(K153="w",25,IF(K153="l",-12,""))) -> -12 | M153: =IF(L153="","",SUM($L$14:L153)) -> -83
A154: 141 | C154: 5 | D154: =IF(C154="","",VLOOKUP(C154,Tabelle2!$A$2:$B$38,2,0)) -> 2 | E154: t | G154: =IF(F154="","",SUM($F$14:F154)) | I154: 5 | J154: =IF(I154="","",VLOOKUP(I154,Tabelle2!$A$41:$B$77,2,0)) -> 1 | K154: l | L154: =IF(K154="","",IF(K154="w",25,IF(K154="l",-12,""))) -> -12 | M154: =IF(L154="","",SUM($L$14:L154)) -> -95
A155: 142 | C155: 4 | D155: =IF(C155="","",VLOOKUP(C155,Tabelle2!$A$2:$B$38,2,0)) -> 1 | E155: t | F155: =IF(E155="","",IF(E155="w",25,IF(E155="l",-12,""))) | G155: =IF(F155="","",SUM($F$14:F155)) | I155: 4 | J155: =IF(I155="","",VLOOKUP(I155,Tabelle2!$A$41:$B$77,2,0)) -> 1 | K155: l | L155: =IF(K155="","",IF(K155="w",25,IF(K155="l",-12,""))) -> -12 | M155: =IF(L155="","",SUM($L$14:L155)) -> -107
A156: 143 | C156: 23 | D156: =IF(C156="","",VLOOKUP(C156,Tabelle2!$A$2:$B$38,2,0)) -> 2 | E156: l | F156: =IF(E156="","",IF(E156="w",25,IF(E156="l",-12,""))) -> -12 | G156: =IF(F156="","",SUM($F$14:F156)) -> 184 | I156: 23 | J156: =IF(I156="","",VLOOKUP(I156,Tabelle2!$A$41:$B$77,2,0)) -> 2 | K156: l | L156: =IF(K156="","",IF(K156="w",25,IF(K156="l",-12,""))) -> -12 | M156: =IF(L156="","",SUM($L$14:L156)) -> -119
A157: 144 | C157: 9 | D157: =IF(C157="","",VLOOKUP(C157,Tabelle2!$A$2:$B$38,2,0)) -> 3 | E157: w | F157: =IF(E157="","",IF(E157="w",25,IF(E157="l",-12,""))) -> 25 | G157: =IF(F157="","",SUM($F$14:F157)) -> 209 | I157: 9 | J157: =IF(I157="","",VLOOKUP(I157,Tabelle2!$A$41:$B$77,2,0)) -> 1 | K157: l | L157: =IF(K157="","",IF(K157="w",25,IF(K157="l",-12,""))) -> -12 | M157: =IF(L157="","",SUM($L$14:L157)) -> -131
A158: 145 | C158: 4 | D158: =IF(C158="","",VLOOKUP(C158,Tabelle2!$A$2:$B$38,2,0)) -> 1 | E158: t | F158: =IF(E158="","",IF(E158="w",25,IF(E158="l",-12,""))) | G158: =IF(F158="","",SUM($F$14:F158)) | I158: 4 | J158: =IF(I158="","",VLOOKUP(I158,Tabelle2!$A$41:$B$77,2,0)) -> 1 | K158: l | L158: =IF(K158="","",IF(K158="w",25,IF(K158="l",-12,""))) -> -12 | M158: =IF(L158="","",SUM($L$14:L158)) -> -143
A159: 146 | C159: 35 | D159: =IF(C159="","",VLOOKUP(C159,Tabelle2!$A$2:$B$38,2,0)) -> 3 | E159: t | F159: =IF(E159="","",IF(E159="w",25,IF(E159="l",-12,""))) | G159: =IF(F159="","",SUM($F$14:F159)) | I159: 35 | J159: =IF(I159="","",VLOOKUP(I159,Tabelle2!$A$41:$B$77,2,0)) -> 3 | K159: w | L159: =IF(K159="","",IF(K159="w",25,IF(K159="l",-12,""))) -> 25 | M159: =IF(L159="","",SUM($L$14:L159)) -> -118
A160: 147 | C160: 34 | D160: =IF(C160="","",VLOOKUP(C160,Tabelle2!$A$2:$B$38,2,0)) -> 1 | E160: l | F160: =IF(E160="","",IF(E160="w",25,IF(E160="l",-12,""))) -> -12 | G160: =IF(F160="","",SUM($F$14:F160)) -> 197 | I160: 34 | J160: =IF(I160="","",VLOOKUP(I160,Tabelle2!$A$41:$B$77,2,0)) -> 3 | K160: t | L160: =IF(K160="","",IF(K160="w",25,IF(K160="l",-12,""))) | M160: =IF(L160="","",SUM($L$14:L160))
A161: 148 | C161: 12 | D161: =IF(C161="","",VLOOKUP(C161,Tabelle2!$A$2:$B$38,2,0)) -> 3 | E161: l | F161: =IF(E161="","",IF(E161="w",25,IF(E161="l",-12,""))) -> -12 | G161: =IF(F161="","",SUM($F$14:F161)) -> 185 | I161: 12 | J161: =IF(I161="","",VLOOKUP(I161,Tabelle2!$A$41:$B$77,2,0)) -> 1 | K161: t | L161: =IF(K161="","",IF(K161="w",25,IF(K161="l",-12,""))) | M161: =IF(L161="","",SUM($L$14:L161))
A162: 149 | C162: 12 | D162: =IF(C162="","",VLOOKUP(C162,Tabelle2!$A$2:$B$38,2,0)) -> 3 | E162: l | F162: =IF(E162="","",IF(E162="w",25,IF(E162="l",-12,""))) -> -12 | G162: =IF(F162="","",SUM($F$14:F162)) -> 173 | I162: 12 | J162: =IF(I162="","",VLOOKUP(I162,Tabelle2!$A$41:$B$77,2,0)) -> 1 | K162: l | L162: =IF(K162="","",IF(K162="w",25,IF(K162="l",-12,""))) -> -12 | M162: =IF(L162="","",SUM($L$14:L162)) -> -130
A163: 150 | C163: 26 | D163: =IF(C163="","",VLOOKUP(C163,Tabelle2!$A$2:$B$38,2,0)) -> 3 | E163: l | F163: =IF(E163="","",IF(E163="w",25,IF(E163="l",-12,""))) -> -12 | G163: =IF(F163="","",SUM($F$14:F163)) -> 161 | I163: 26 | J163: =IF(I163="","",VLOOKUP(I163,Tabelle2!$A$41:$B$77,2,0)) -> 3 | K163: l | L163: =IF(K163="","",IF(K163="w",25,IF(K163="l",-12,""))) -> -12 | M163: =IF(L163="","",SUM($L$14:L163)) -> -142
A164: 151 | C164: 23 | D164: =IF(C164="","",VLOOKUP(C164,Tabelle2!$A$2:$B$38,2,0)) -> 2 | E164: w | F164: =IF(E164="","",IF(E164="w",25,IF(E164="l",-12,""))) -> 25 | G164: =IF(F164="","",SUM($F$14:F164)) -> 186 | I164: 23 | J164: =IF(I164="","",VLOOKUP(I164,Tabelle2!$A$41:$B$77,2,0)) -> 2 | K164: w | L164: =IF(K164="","",IF(K164="w",25,IF(K164="l",-12,""))) -> 25 | M164: =IF(L164="","",SUM($L$14:L164)) -> -117
A165: 152 | C165: 32 | D165: =IF(C165="","",VLOOKUP(C165,Tabelle2!$A$2:$B$38,2,0)) -> 1 | E165: t | F165: =IF(E165="","",IF(E165="w",25,IF(E165="l",-12,""))) | G165: =IF(F165="","",SUM($F$14:F165)) | I165: 32 | J165: =IF(I165="","",VLOOKUP(I165,Tabelle2!$A$41:$B$77,2,0)) -> 3 | K165: t | L165: =IF(K165="","",IF(K165="w",25,IF(K165="l",-12,""))) | M165: =IF(L165="","",SUM($L$14:L165))
A166: 153 | C166: 31 | D166: =IF(C166="","",VLOOKUP(C166,Tabelle2!$A$2:$B$38,2,0)) -> 3 | E166: t | F166: =IF(E166="","",IF(E166="w",25,IF(E166="l",-12,""))) | G166: =IF(F166="","",SUM($F$14:F166)) | I166: 31 | J166: =IF(I166="","",VLOOKUP(I166,Tabelle2!$A$41:$B$77,2,0)) -> 3 | K166: t | L166: =IF(K166="","",IF(K166="w",25,IF(K166="l",-12,""))) | M166: =IF(L166="","",SUM($L$14:L166))
...

Sheet Tabelle2
A1: Num | B1: Doz
A2: 4 | B2: 1
A3: 6 | B3: 1
A4: 13 | B4: 1
A5: 15 | B5: 1
A6: 17 | B6: 1
A7: 19 | B7: 1
A8: 21 | B8: 1
A9: 25 | B9: 1
A10: 27 | B10: 1
A11: 32 | B11: 1
A12: 34 | B12: 1
A13: 0 | B13: 1
... A77: 36 | B77: 3

Sheet Tabelle3
