Workbook

Sheet Tabelle1
A1: Num | B1: Bet | D1: W/L | I1: 1 | J1: 7 | K1: 11 | L1: 12 | M1: 28 | N1: 30 | O1: 36 | P1: 7 11 12 28 30 36
A2: 0 | B2: =IF(A2="","",VLOOKUP(A2,Tabelle2!$A$2:$B$38,2,0)) -> 6-9-17-18-22-34 | I2: 2 | J2: 3 | K2: 8 | L2: 11 | M2: 12 | N2: 30 | O2: 35
A3: 31 | B3: =IF(A3="","",VLOOKUP(A3,Tabelle2!$A$2:$B$38,2,0)) -> 3-8-10-23-26-35 | C3: =IF(A3="","",IF(A2=1,COUNTIF($J$1:$O$1,A3),IF(A2=2,COUNTIF($J$2:$O$2,A3),IF(A2=3,COUNTIF($J$3:$O$3,A3),IF(A2=4,COUNTIF($J$4:$O$4,A3),IF(A2=5,COUNTIF($J$5:$O$5,A3),IF(A2=6,COUNTIF($J$6:$O$6,A3),IF(A2=7,COUNTIF($J$7:$O$7,A3),IF(A2=8,COUNTIF($J$8:$O$8,A3),IF(A2=9,COUNTIF($J$9:$O$9,A3),IF(A2=10,COUNTIF($J$10:$O$10,A3),IF(A2=11,COUNTIF($J$11:$O$11,A3),IF(A2=12,COUNTIF($J$12:$O$12,A3),IF(A2=13,COUNTIF($J$13:$O$13,A3),IF(A2=14,COUNTIF($J$14:$O$14,A3),IF(A2=15,COUNTIF($J$15:$O$15,A3),IF(A2=16,COUNTIF($J$16:$O$16,A3),IF(A2=17,COUNTIF($J$17:$O$17,A3),IF(A2=18,COUNTIF($J$18:$O$18,A3),IF(A2=19,COUNTIF($J$19:$O$19,A3),IF(A2=20,COUNTIF($J$20:$O$20,A3),IF(A2=21,COUNTIF($J$21:$O$21,A3),IF(A2=22,COUNTIF($J$22:$O$22,A3),IF(A2=23,COUNTIF($J$23:$O$23,A3),IF(A2=24,COUNTIF($J$24:$O$24,A3),IF(A2=25,COUNTIF($J$25:$O$25,A3),IF(A2=26,COUNTIF($J$26:$O$26,A3),IF(A2=27,COUNTIF($J$27:$O$27,A3),IF(A2=28,COUNTIF($J$28:$O$28,A3),IF(A2=29,COUNTIF($J$29:$O$29,A3),IF(A2=30,COUNTIF($J$30:$O$30,A3),IF(A2=31,COUNTIF($J$31:$O$31,A3),IF(A2=32,COUNTIF($J$32:$O$32,A3),IF(A2=33,COUNTIF($J$33:$O$33,A3),IF(A2=34,COUNTIF($J$34:$O$34,A3),IF(A2=35,COUNTIF($J$35:$O$35,A3),IF(A2=36,COUNTIF($J$36:$O$36,A3),IF(A2=0,COUNTIF($J$37:$O$37,A3),"")))))))))))))))))))))))))))))))))))))) -> 0 | D3: =IF(A3="","",IF(C3=1,"W",IF(C3=0,"L",""))) -> L | I3: 3 | J3: 2 | K3: 9 | L3: 14 | M3: 17 | N3: 25 | O3: 31
A4: 24 | B4: =IF(A4="","",VLOOKUP(A4,Tabelle2!$A$2:$B$38,2,0)) -> 6-13-18-22-27-29 | C4: =IF(A4="","",IF(A3=1,COUNTIF($J$1:$O$1,A4),IF(A3=2,COUNTIF($J$2:$O$2,A4),IF(A3=3,COUNTIF($J$3:$O$3,A4),IF(A3=4,COUNTIF($J$4:$O$4,A4),IF(A3=5,COUNTIF($J$5:$O$5,A4),IF(A3=6,COUNTIF($J$6:$O$6,A4),IF(A3=7,COUNTIF($J$7:$O$7,A4),IF(A3=8,COUNTIF($J$8:$O$8,A4),IF(A3=9,COUNTIF($J$9:$O$9,A4),IF(A3=10,COUNTIF($J$10:$O$10,A4),IF(A3=11,COUNTIF($J$11:$O$11,A4),IF(A3=12,COUNTIF($J$12:$O$12,A4),IF(A3=13,COUNTIF($J$13:$O$13,A4),IF(A3=14,COUNTIF($J$14:$O$14,A4),IF(A3=15,COUNTIF($J$15:$O$15,A4),IF(A3=16,COUNTIF($J$16:$O$16,A4),IF(A3=17,COUNTIF($J$17:$O$17,A4),IF(A3=18,COUNTIF($J$18:$O$18,A4),IF(A3=19,COUNTIF($J$19:$O$19,A4),IF(A3=20,COUNTIF($J$20:$O$20,A4),IF(A3=21,COUNTIF($J$21:$O$21,A4),IF(A3=22,COUNTIF($J$22:$O$22,A4),IF(A3=23,COUNTIF($J$23:$O$23,A4),IF(A3=24,COUNTIF($J$24:$O$24,A4),IF(A3=25,COUNTIF($J$25:$O$25,A4),IF(A3=26,COUNTIF($J$26:$O$26,A4),IF(A3=27,COUNTIF($J$27:$O$27,A4),IF(A3=28,COUNTIF($J$28:$O$28,A4),IF(A3=29,COUNTIF($J$29:$O$29,A4),IF(A3=30,COUNTIF($J$30:$O$30,A4),IF(A3=31,COUNTIF($J$31:$O$31,A4),IF(A3=32,COUNTIF($J$32:$O$32,A4),IF(A3=33,COUNTIF($J$33:$O$33,A4),IF(A3=34,COUNTIF($J$34:$O$34,A4),IF(A3=35,COUNTIF($J$35:$O$35,A4),IF(A3=36,COUNTIF($J$36:$O$36,A4),IF(A3=0,COUNTIF($J$37:$O$37,A4),"")))))))))))))))))))))))))))))))))))))) -> 0 | D4: =IF(A4="","",IF(C4=1,"W",IF(C4=0,"L",""))) -> L | F4: Wins | G4: =COUNTIF(D2:D599,"W") -> 85 | I4: 4 | J4: 7 | K4: 11 | L4: 12 | M4: 13 | N4: 28 | O4: 36
A5: 15 | B5: =IF(A5="","",VLOOKUP(A5,Tabelle2!$A$2:$B$38,2,0)) -> 6-7-12-18-27-29 | C5: =IF(A5="","",IF(A4=1,COUNTIF($J$1:$O$1,A5),IF(A4=2,COUNTIF($J$2:$O$2,A5),IF(A4=3,COUNTIF($J$3:$O$3,A5),IF(A4=4,COUNTIF($J$4:$O$4,A5),IF(A4=5,COUNTIF($J$5:$O$5,A5),IF(A4=6,COUNTIF($J$6:$O$6,A5),IF(A4=7,COUNTIF($J$7:$O$7,A5),IF(A4=8,COUNTIF($J$8:$O$8,A5),IF(A4=9,COUNTIF($J$9:$O$9,A5),IF(A4=10,COUNTIF($J$10:$O$10,A5),IF(A4=11,COUNTIF($J$11:$O$11,A5),IF(A4=12,COUNTIF($J$12:$O$12,A5),IF(A4=13,COUNTIF($J$13:$O$13,A5),IF(A4=14,COUNTIF($J$14:$O$14,A5),IF(A4=15,COUNTIF($J$15:$O$15,A5),IF(A4=16,COUNTIF($J$16:$O$16,A5),IF(A4=17,COUNTIF($J$17:$O$17,A5),IF(A4=18,COUNTIF($J$18:$O$18,A5),IF(A4=19,COUNTIF($J$19:$O$19,A5),IF(A4=20,COUNTIF($J$20:$O$20,A5),IF(A4=21,COUNTIF($J$21:$O$21,A5),IF(A4=22,COUNTIF($J$22:$O$22,A5),IF(A4=23,COUNTIF($J$23:$O$23,A5),IF(A4=24,COUNTIF($J$24:$O$24,A5),IF(A4=25,COUNTIF($J$25:$O$25,A5),IF(A4=26,COUNTIF($J$26:$O$26,A5),IF(A4=27,COUNTIF($J$27:$O$27,A5),IF(A4=28,COUNTIF($J$28:$O$28,A5),IF(A4=29,COUNTIF($J$29:$O$29,A5),IF(A4=30,COUNTIF($J$30:$O$30,A5),IF(A4=31,COUNTIF($J$31:$O$31,A5),IF(A4=32,COUNTIF($J$32:$O$32,A5),IF(A4=33,COUNTIF($J$33:$O$33,A5),IF(A4=34,COUNTIF($J$34:$O$34,A5),IF(A4=35,COUNTIF($J$35:$O$35,A5),IF(A4=36,COUNTIF($J$36:$O$36,A5),IF(A4=0,COUNTIF($J$37:$O$37,A5),"")))))))))))))))))))))))))))))))))))))) -> 0 | D5: =IF(A5="","",IF(C5=1,"W",IF(C5=0,"L",""))) -> L | F5: Losses | G5: =COUNTIF(D2:D599,"L") -> 482 | I5: 5 | J5: 6 | K5: 9 | L5: 18 | M5: 22 | N5: 27 | O5: 34
A6: 36 | B6: =IF(A6="","",VLOOKUP(A6,Tabelle2!$A$2:$B$38,2,0)) -> 1-4-16-19-21-33 | C6: =IF(A6="","",IF(A5=1,COUNTIF($J$1:$O$1,A6),IF(A5=2,COUNTIF($J$2:$O$2,A6),IF(A5=3,COUNTIF($J$3:$O$3,A6),IF(A5=4,COUNTIF($J$4:$O$4,A6),IF(A5=5,COUNTIF($J$5:$O$5,A6),IF(A5=6,COUNTIF($J$6:$O$6,A6),IF(A5=7,COUNTIF($J$7:$O$7,A6),IF(A5=8,COUNTIF($J$8:$O$8,A6),IF(A5=9,COUNTIF($J$9:$O$9,A6),IF(A5=10,COUNTIF($J$10:$O$10,A6),IF(A5=11,COUNTIF($J$11:$O$11,A6),IF(A5=12,COUNTIF($J$12:$O$12,A6),IF(A5=13,COUNTIF($J$13:$O$13,A6),IF(A5=14,COUNTIF($J$14:$O$14,A6),IF(A5=15,COUNTIF($J$15:$O$15,A6),IF(A5=16,COUNTIF($J$16:$O$16,A6),IF(A5=17,COUNTIF($J$17:$O$17,A6),IF(A5=18,COUNTIF($J$18:$O$18,A6),IF(A5=19,COUNTIF($J$19:$O$19,A6),IF(A5=20,COUNTIF($J$20:$O$20,A6),IF(A5=21,COUNTIF($J$21:$O$21,A6),IF(A5=22,COUNTIF($J$22:$O$22,A6),IF(A5=23,COUNTIF($J$23:$O$23,A6),IF(A5=24,COUNTIF($J$24:$O$24,A6),IF(A5=25,COUNTIF($J$25:$O$25,A6),IF(A5=26,COUNTIF($J$26:$O$26,A6),IF(A5=27,COUNTIF($J$27:$O$27,A6),IF(A5=28,COUNTIF($J$28:$O$28,A6),IF(A5=29,COUNTIF($J$29:$O$29,A6),IF(A5=30,COUNTIF($J$30:$O$30,A6),IF(A5=31,COUNTIF($J$31:$O$31,A6),IF(A5=32,COUNTIF($J$32:$O$32,A6),IF(A5=33,COUNTIF($J$33:$O$33,A6),IF(A5=34,COUNTIF($J$34:$O$34,A6),IF(A5=35,COUNTIF($J$35:$O$35,A6),IF(A5=36,COUNTIF($J$36:$O$36,A6),IF(A5=0,COUNTIF($J$37:$O$37,A6),"")))))))))))))))))))))))))))))))))))))) -> 0 | D6: =IF(A6="","",IF(C6=1,"W",IF(C6=0,"L",""))) -> L | I6: 6 | J6: 0 | K6: 5 | L6: 10 | M6: 15 | N6: 24 | O6: 32
A7: 22 | B7: =IF(A7="","",VLOOKUP(A7,Tabelle2!$A$2:$B$38,2,0)) -> 0-5-10-24-26-32 | C7: =IF(A7="","",IF(A6=1,COUNTIF($J$1:$O$1,A7),IF(A6=2,COUNTIF($J$2:$O$2,A7),IF(A6=3,COUNTIF($J$3:$O$3,A7),IF(A6=4,COUNTIF($J$4:$O$4,A7),IF(A6=5,COUNTIF($J$5:$O$5,A7),IF(A6=6,COUNTIF($J$6:$O$6,A7),IF(A6=7,COUNTIF($J$7:$O$7,A7),IF(A6=8,COUNTIF($J$8:$O$8,A7),IF(A6=9,COUNTIF($J$9:$O$9,A7),IF(A6=10,COUNTIF($J$10:$O$10,A7),IF(A6=11,COUNTIF($J$11:$O$11,A7),IF(A6=12,COUNTIF($J$12:$O$12,A7),IF(A6=13,COUNTIF($J$13:$O$13,A7),IF(A6=14,COUNTIF($J$14:$O$14,A7),IF(A6=15,COUNTIF($J$15:$O$15,A7),IF(A6=16,COUNTIF($J$16:$O$16,A7),IF(A6=17,COUNTIF($J$17:$O$17,A7),IF(A6=18,COUNTIF($J$18:$O$18,A7),IF(A6=19,COUNTIF($J$19:$O$19,A7),IF(A6=20,COUNTIF($J$20:$O$20,A7),IF(A6=21,COUNTIF($J$21:$O$21,A7),IF(A6=22,COUNTIF($J$22:$O$22,A7),IF(A6=23,COUNTIF($J$23:$O$23,A7),IF(A6=24,COUNTIF($J$24:$O$24,A7),IF(A6=25,COUNTIF($J$25:$O$25,A7),IF(A6=26,COUNTIF($J$26:$O$26,A7),IF(A6=27,COUNTIF($J$27:$O$27,A7),IF(A6=28,COUNTIF($J$28:$O$28,A7),IF(A6=29,COUNTIF($J$29:$O$29,A7),IF(A6=30,COUNTIF($J$30:$O$30,A7),IF(A6=31,COUNTIF($J$31:$O$31,A7),IF(A6=32,COUNTIF($J$32:$O$32,A7),IF(A6=33,COUNTIF($J$33:$O$33,A7),IF(A6=34,COUNTIF($J$34:$O$34,A7),IF(A6=35,COUNTIF($J$35:$O$35,A7),IF(A6=36,COUNTIF($J$36:$O$36,A7),IF(A6=0,COUNTIF($J$37:$O$37,A7),"")))))))))))))))))))))))))))))))))))))) -> 0 | D7: =IF(A7="","",IF(C7=1,"W",IF(C7=0,"L",""))) -> L | I7: 7 | J7: 1 | K7: 4 | L7: 15 | M7: 16 | N7: 19 | O7: 33
A8: 8 | B8: =IF(A8="","",VLOOKUP(A8,Tabelle2!$A$2:$B$38,2,0)) -> 2-14-17-20-25-31 | C8: =IF(A8="","",IF(A7=1,COUNTIF($J$1:$O$1,A8),IF(A7=2,COUNTIF($J$2:$O$2,A8),IF(A7=3,COUNTIF($J$3:$O$3,A8),IF(A7=4,COUNTIF($J$4:$O$4,A8),IF(A7=5,COUNTIF($J$5:$O$5,A8),IF(A7=6,COUNTIF($J$6:$O$6,A8),IF(A7=7,COUNTIF($J$7:$O$7,A8),IF(A7=8,COUNTIF($J$8:$O$8,A8),IF(A7=9,COUNTIF($J$9:$O$9,A8),IF(A7=10,COUNTIF($J$10:$O$10,A8),IF(A7=11,COUNTIF($J$11:$O$11,A8),IF(A7=12,COUNTIF($J$12:$O$12,A8),IF(A7=13,COUNTIF($J$13:$O$13,A8),IF(A7=14,COUNTIF($J$14:$O$14,A8),IF(A7=15,COUNTIF($J$15:$O$15,A8),IF(A7=16,COUNTIF($J$16:$O$16,A8),IF(A7=17,COUNTIF($J$17:$O$17,A8),IF(A7=18,COUNTIF($J$18:$O$18,A8),IF(A7=19,COUNTIF($J$19:$O$19,A8),IF(A7=20,COUNTIF($J$20:$O$20,A8),IF(A7=21,COUNTIF($J$21:$O$21,A8),IF(A7=22,COUNTIF($J$22:$O$22,A8),IF(A7=23,COUNTIF($J$23:$O$23,A8),IF(A7=24,COUNTIF($J$24:$O$24,A8),IF(A7=25,COUNTIF($J$25:$O$25,A8),IF(A7=26,COUNTIF($J$26:$O$26,A8),IF(A7=27,COUNTIF($J$27:$O$27,A8),IF(A7=28,COUNTIF($J$28:$O$28,A8),IF(A7=29,COUNTIF($J$29:$O$29,A8),IF(A7=30,COUNTIF($J$30:$O$30,A8),IF(A7=31,COUNTIF($J$31:$O$31,A8),IF(A7=32,COUNTIF($J$32:$O$32,A8),IF(A7=33,COUNTIF($J$33:$O$33,A8),IF(A7=34,COUNTIF($J$34:$O$34,A8),IF(A7=35,COUNTIF($J$35:$O$35,A8),IF(A7=36,COUNTIF($J$36:$O$36,A8),IF(A7=0,COUNTIF($J$37:$O$37,A8),"")))))))))))))))))))))))))))))))))))))) -> 0 | D8: =IF(A8="","",IF(C8=1,"W",IF(C8=0,"L",""))) -> L | I8: 8 | J8: 2 | K8: 14 | L8: 17 | M8: 20 | N8: 25 | O8: 31
A9: 28 | B9: =IF(A9="","",VLOOKUP(A9,Tabelle2!$A$2:$B$38,2,0)) -> 1-4-19-20-21-33 | C9: =IF(A9="","",IF(A8=1,COUNTIF($J$1:$O$1,A9),IF(A8=2,COUNTIF($J$2:$O$2,A9),IF(A8=3,COUNTIF($J$3:$O$3,A9),IF(A8=4,COUNTIF($J$4:$O$4,A9),IF(A8=5,COUNTIF($J$5:$O$5,A9),IF(A8=6,COUNTIF($J$6:$O$6,A9),IF(A8=7,COUNTIF($J$7:$O$7,A9),IF(A8=8,COUNTIF($J$8:$O$8,A9),IF(A8=9,COUNTIF($J$9:$O$9,A9),IF(A8=10,COUNTIF($J$10:$O$10,A9),IF(A8=11,COUNTIF($J$11:$O$11,A9),IF(A8=12,COUNTIF($J$12:$O$12,A9),IF(A8=13,COUNTIF($J$13:$O$13,A9),IF(A8=14,COUNTIF($J$14:$O$14,A9),IF(A8=15,COUNTIF($J$15:$O$15,A9),IF(A8=16,COUNTIF($J$16:$O$16,A9),IF(A8=17,COUNTIF($J$17:$O$17,A9),IF(A8=18,COUNTIF($J$18:$O$18,A9),IF(A8=19,COUNTIF($J$19:$O$19,A9),IF(A8=20,COUNTIF($J$20:$O$20,A9),IF(A8=21,COUNTIF($J$21:$O$21,A9),IF(A8=22,COUNTIF($J$22:$O$22,A9),IF(A8=23,COUNTIF($J$23:$O$23,A9),IF(A8=24,COUNTIF($J$24:$O$24,A9),IF(A8=25,COUNTIF($J$25:$O$25,A9),IF(A8=26,COUNTIF($J$26:$O$26,A9),IF(A8=27,COUNTIF($J$27:$O$27,A9),IF(A8=28,COUNTIF($J$28:$O$28,A9),IF(A8=29,COUNTIF($J$29:$O$29,A9),IF(A8=30,COUNTIF($J$30:$O$30,A9),IF(A8=31,COUNTIF($J$31:$O$31,A9),IF(A8=32,COUNTIF($J$32:$O$32,A9),IF(A8=33,COUNTIF($J$33:$O$33,A9),IF(A8=34,COUNTIF($J$34:$O$34,A9),IF(A8=35,COUNTIF($J$35:$O$35,A9),IF(A8=36,COUNTIF($J$36:$O$36,A9),IF(A8=0,COUNTIF($J$37:$O$37,A9),"")))))))))))))))))))))))))))))))))))))) -> 0 | D9: =IF(A9="","",IF(C9=1,"W",IF(C9=0,"L",""))) -> L | I9: 9 | J9: 0 | K9: 3 | L9: 5 | M9: 10 | N9: 23 | O9: 26
A10: 3 | B10: =IF(A10="","",VLOOKUP(A10,Tabelle2!$A$2:$B$38,2,0)) -> 2-9-14-17-25-31 | C10: =IF(A10="","",IF(A9=1,COUNTIF($J$1:$O$1,A10),IF(A9=2,COUNTIF($J$2:$O$2,A10),IF(A9=3,COUNTIF($J$3:$O$3,A10),IF(A9=4,COUNTIF($J$4:$O$4,A10),IF(A9=5,COUNTIF($J$5:$O$5,A10),IF(A9=6,COUNTIF($J$6:$O$6,A10),IF(A9=7,COUNTIF($J$7:$O$7,A10),IF(A9=8,COUNTIF($J$8:$O$8,A10),IF(A9=9,COUNTIF($J$9:$O$9,A10),IF(A9=10,COUNTIF($J$10:$O$10,A10),IF(A9=11,COUNTIF($J$11:$O$11,A10),IF(A9=12,COUNTIF($J$12:$O$12,A10),IF(A9=13,COUNTIF($J$13:$O$13,A10),IF(A9=14,COUNTIF($J$14:$O$14,A10),IF(A9=15,COUNTIF($J$15:$O$15,A10),IF(A9=16,COUNTIF($J$16:$O$16,A10),IF(A9=17,COUNTIF($J$17:$O$17,A10),IF(A9=18,COUNTIF($J$18:$O$18,A10),IF(A9=19,COUNTIF($J$19:$O$19,A10),IF(A9=20,COUNTIF($J$20:$O$20,A10),IF(A9=21,COUNTIF($J$21:$O$21,A10),IF(A9=22,COUNTIF($J$22:$O$22,A10),IF(A9=23,COUNTIF($J$23:$O$23,A10),IF(A9=24,COUNTIF($J$24:$O$24,A10),IF(A9=25,COUNTIF($J$25:$O$25,A10),IF(A9=26,COUNTIF($J$26:$O$26,A10),IF(A9=27,COUNTIF($J$27:$O$27,A10),IF(A9=28,COUNTIF($J$28:$O$28,A10),IF(A9=29,COUNTIF($J$29:$O$29,A10),IF(A9=30,COUNTIF($J$30:$O$30,A10),IF(A9=31,COUNTIF($J$31:$O$31,A10),IF(A9=32,COUNTIF($J$32:$O$32,A10),IF(A9=33,COUNTIF($J$33:$O$33,A10),IF(A9=34,COUNTIF($J$34:$O$34,A10),IF(A9=35,COUNTIF($J$35:$O$35,A10),IF(A9=36,COUNTIF($J$36:$O$36,A10),IF(A9=0,COUNTIF($J$37:$O$37,A10),"")))))))))))))))))))))))))))))))))))))) -> 0 | D10: =IF(A10="","",IF(C10=1,"W",IF(C10=0,"L",""))) -> L | I10: 10 | J10: 6 | K10: 9 | L10: 17 | M10: 22 | N10: 31 | O10: 34
A11: 26 | B11: =IF(A11="","",VLOOKUP(A11,Tabelle2!$A$2:$B$38,2,0)) -> 9-17-22-25-31-34 | C11: =IF(A11="","",IF(A10=1,COUNTIF($J$1:$O$1,A11),IF(A10=2,COUNTIF($J$2:$O$2,A11),IF(A10=3,COUNTIF($J$3:$O$3,A11),IF(A10=4,COUNTIF($J$4:$O$4,A11),IF(A10=5,COUNTIF($J$5:$O$5,A11),IF(A10=6,COUNTIF($J$6:$O$6,A11),IF(A10=7,COUNTIF($J$7:$O$7,A11),IF(A10=8,COUNTIF($J$8:$O$8,A11),IF(A10=9,COUNTIF($J$9:$O$9,A11),IF(A10=10,COUNTIF($J$10:$O$10,A11),IF(A10=11,COUNTIF($J$11:$O$11,A11),IF(A10=12,COUNTIF($J$12:$O$12,A11),IF(A10=13,COUNTIF($J$13:$O$13,A11),IF(A10=14,COUNTIF($J$14:$O$14,A11),IF(A10=15,COUNTIF($J$15:$O$15,A11),IF(A10=16,COUNTIF($J$16:$O$16,A11),IF(A10=17,COUNTIF($J$17:$O$17,A11),IF(A10=18,COUNTIF($J$18:$O$18,A11),IF(A10=19,COUNTIF($J$19:$O$19,A11),IF(A10=20,COUNTIF($J$20:$O$20,A11),IF(A10=21,COUNTIF($J$21:$O$21,A11),IF(A10=22,COUNTIF($J$22:$O$22,A11),IF(A10=23,COUNTIF($J$23:$O$23,A11),IF(A10=24,COUNTIF($J$24:$O$24,A11),IF(A10=25,COUNTIF($J$25:$O$25,A11),IF(A10=26,COUNTIF($J$26:$O$26,A11),IF(A10=27,COUNTIF($J$27:$O$27,A11),IF(A10=28,COUNTIF($J$28:$O$28,A11),IF(A10=29,COUNTIF($J$29:$O$29,A11),IF(A10=30,COUNTIF($J$30:$O$30,A11),IF(A10=31,COUNTIF($J$31:$O$31,A11),IF(A10=32,COUNTIF($J$32:$O$32,A11),IF(A10=33,COUNTIF($J$33:$O$33,A11),IF(A10=34,COUNTIF($J$34:$O$34,A11),IF(A10=35,COUNTIF($J$35:$O$35,A11),IF(A10=36,COUNTIF($J$36:$O$36,A11),IF(A10=0,COUNTIF($J$37:$O$37,A11),"")))))))))))))))))))))))))))))))))))))) -> 0 | D11: =IF(A11="","",IF(C11=1,"W",IF(C11=0,"L",""))) -> L | I11: 11 | J11: 1 | K11: 2 | L11: 4 | M11: 20 | N11: 21 | O11: 33
A12: 15 | B12: =IF(A12="","",VLOOKUP(A12,Tabelle2!$A$2:$B$38,2,0)) -> 6-7-12-18-27-29 | C12: =IF(A12="","",IF(A11=1,COUNTIF($J$1:$O$1,A12),IF(A11=2,COUNTIF($J$2:$O$2,A12),IF(A11=3,COUNTIF($J$3:$O$3,A12),IF(A11=4,COUNTIF($J$4:$O$4,A12),IF(A11=5,COUNTIF($J$5:$O$5,A12),IF(A11=6,COUNTIF($J$6:$O$6,A12),IF(A11=7,COUNTIF($J$7:$O$7,A12),IF(A11=8,COUNTIF($J$8:$O$8,A12),IF(A11=9,COUNTIF($J$9:$O$9,A12),IF(A11=10,COUNTIF($J$10:$O$10,A12),IF(A11=11,COUNTIF($J$11:$O$11,A12),IF(A11=12,COUNTIF($J$12:$O$12,A12),IF(A11=13,COUNTIF($J$13:$O$13,A12),IF(A11=14,COUNTIF($J$14:$O$14,A12),IF(A11=15,COUNTIF($J$15:$O$15,A12),IF(A11=16,COUNTIF($J$16:$O$16,A12),IF(A11=17,COUNTIF($J$17:$O$17,A12),IF(A11=18,COUNTIF($J$18:$O$18,A12),IF(A11=19,COUNTIF($J$19:$O$19,A12),IF(A11=20,COUNTIF($J$20:$O$20,A12),IF(A11=21,COUNTIF($J$21:$O$21,A12),IF(A11=22,COUNTIF($J$22:$O$22,A12),IF(A11=23,COUNTIF($J$23:$O$23,A12),IF(A11=24,COUNTIF($J$24:$O$24,A12),IF(A11=25,COUNTIF($J$25:$O$25,A12),IF(A11=26,COUNTIF($J$26:$O$26,A12),IF(A11=27,COUNTIF($J$27:$O$27,A12),IF(A11=28,COUNTIF($J$28:$O$28,A12),IF(A11=29,COUNTIF($J$29:$O$29,A12),IF(A11=30,COUNTIF($J$30:$O$30,A12),IF(A11=31,COUNTIF($J$31:$O$31,A12),IF(A11=32,COUNTIF($J$32:$O$32,A12),IF(A11=33,COUNTIF($J$33:$O$33,A12),IF(A11=34,COUNTIF($J$34:$O$34,A12),IF(A11=35,COUNTIF($J$35:$O$35,A12),IF(A11=36,COUNTIF($J$36:$O$36,A12),IF(A11=0,COUNTIF($J$37:$O$37,A12),"")))))))))))))))))))))))))))))))))))))) -> 0 | D12: =IF(A12="","",IF(C12=1,"W",IF(C12=0,"L",""))) -> L | I12: 12 | J12: 1 | K12: 2 | L12: 4 | M12: 14 | N12: 20 | O12: 21
A13: 5 | B13: =IF(A13="","",VLOOKUP(A13,Tabelle2!$A$2:$B$38,2,0)) -> 6-9-18-22-27-34 | C13: =IF(A13="","",IF(A12=1,COUNTIF($J$1:$O$1,A13),IF(A12=2,COUNTIF($J$2:$O$2,A13),IF(A12=3,COUNTIF($J$3:$O$3,A13),IF(A12=4,COUNTIF($J$4:$O$4,A13),IF(A12=5,COUNTIF($J$5:$O$5,A13),IF(A12=6,COUNTIF($J$6:$O$6,A13),IF(A12=7,COUNTIF($J$7:$O$7,A13),IF(A12=8,COUNTIF($J$8:$O$8,A13),IF(A12=9,COUNTIF($J$9:$O$9,A13),IF(A12=10,COUNTIF($J$10:$O$10,A13),IF(A12=11,COUNTIF($J$11:$O$11,A13),IF(A12=12,COUNTIF($J$12:$O$12,A13),IF(A12=13,COUNTIF($J$13:$O$13,A13),IF(A12=14,COUNTIF($J$14:$O$14,A13),IF(A12=15,COUNTIF($J$15:$O$15,A13),IF(A12=16,COUNTIF($J$16:$O$16,A13),IF(A12=17,COUNTIF($J$17:$O$17,A13),IF(A12=18,COUNTIF($J$18:$O$18,A13),IF(A12=19,COUNTIF($J$19:$O$19,A13),IF(A12=20,COUNTIF($J$20:$O$20,A13),IF(A12=21,COUNTIF($J$21:$O$21,A13),IF(A12=22,COUNTIF($J$22:$O$22,A13),IF(A12=23,COUNTIF($J$23:$O$23,A13),IF(A12=24,COUNTIF($J$24:$O$24,A13),IF(A12=25,COUNTIF($J$25:$O$25,A13),IF(A12=26,COUNTIF($J$26:$O$26,A13),IF(A12=27,COUNTIF($J$27:$O$27,A13),IF(A12=28,COUNTIF($J$28:$O$28,A13),IF(A12=29,COUNTIF($J$29:$O$29,A13),IF(A12=30,COUNTIF($J$30:$O$30,A13),IF(A12=31,COUNTIF($J$31:$O$31,A13),IF(A12=32,COUNTIF($J$32:$O$32,A13),IF(A12=33,COUNTIF($J$33:$O$33,A13),IF(A12=34,COUNTIF($J$34:$O$34,A13),IF(A12=35,COUNTIF($J$35:$O$35,A13),IF(A12=36,COUNTIF($J$36:$O$36,A13),IF(A12=0,COUNTIF($J$37:$O$37,A13),"")))))))))))))))))))))))))))))))))))))) -> 0 | D13: =IF(A13="","",IF(C13=1,"W",IF(C13=0,"L",""))) -> L | I13: 13 | J13: 4 | K13: 15 | L13: 16 | M13: 19 | N13: 24 | O13: 33
A14: 13 | B14: =IF(A14="","",VLOOKUP(A14,Tabelle2!$A$2:$B$38,2,0)) -> 4-15-16-19-24-33 | C14: =IF(A14="","",IF(A13=1,COUNTIF($J$1:$O$1,A14),IF(A13=2,COUNTIF($J$2:$O$2,A14),IF(A13=3,COUNTIF($J$3:$O$3,A14),IF(A13=4,COUNTIF($J$4:$O$4,A14),IF(A13=5,COUNTIF($J$5:$O$5,A14),IF(A13=6,COUNTIF($J$6:$O$6,A14),IF(A13=7,COUNTIF($J$7:$O$7,A14),IF(A13=8,COUNTIF($J$8:$O$8,A14),IF(A13=9,COUNTIF($J$9:$O$9,A14),IF(A13=10,COUNTIF($J$10:$O$10,A14),IF(A13=11,COUNTIF($J$11:$O$11,A14),IF(A13=12,COUNTIF($J$12:$O$12,A14),IF(A13=13,COUNTIF($J$13:$O$13,A14),IF(A13=14,COUNTIF($J$14:$O$14,A14),IF(A13=15,COUNTIF($J$15:$O$15,A14),IF(A13=16,COUNTIF($J$16:$O$16,A14),IF(A13=17,COUNTIF($J$17:$O$17,A14),IF(A13=18,COUNTIF($J$18:$O$18,A14),IF(A13=19,COUNTIF($J$19:$O$19,A14),IF(A13=20,COUNTIF($J$20:$O$20,A14),IF(A13=21,COUNTIF($J$21:$O$21,A14),IF(A13=22,COUNTIF($J$22:$O$22,A14),IF(A13=23,COUNTIF($J$23:$O$23,A14),IF(A13=24,COUNTIF($J$24:$O$24,A14),IF(A13=25,COUNTIF($J$25:$O$25,A14),IF(A13=26,COUNTIF($J$26:$O$26,A14),IF(A13=27,COUNTIF($J$27:$O$27,A14),IF(A13=28,COUNTIF($J$28:$O$28,A14),IF(A13=29,COUNTIF($J$29:$O$29,A14),IF(A13=30,COUNTIF($J$30:$O$30,A14),IF(A13=31,COUNTIF($J$31:$O$31,A14),IF(A13=32,COUNTIF($J$32:$O$32,A14),IF(A13=33,COUNTIF($J$33:$O$33,A14),IF(A13=34,COUNTIF($J$34:$O$34,A14),IF(A13=35,COUNTIF($J$35:$O$35,A14),IF(A13=36,COUNTIF($J$36:$O$36,A14),IF(A13=0,COUNTIF($J$37:$O$37,A14),"")))))))))))))))))))))))))))))))))))))) -> 0 | D14: =IF(A14="","",IF(C14=1,"W",IF(C14=0,"L",""))) -> L | I14: 14 | J14: 3 | K14: 8 | L14: 12 | M14: 23 | N14: 30 | O14: 35
A15: 3 | B15: =IF(A15="","",VLOOKUP(A15,Tabelle2!$A$2:$B$38,2,0)) -> 2-9-14-17-25-31 | C15: =IF(A15="","",IF(A14=1,COUNTIF($J$1:$O$1,A15),IF(A14=2,COUNTIF($J$2:$O$2,A15),IF(A14=3,COUNTIF($J$3:$O$3,A15),IF(A14=4,COUNTIF($J$4:$O$4,A15),IF(A14=5,COUNTIF($J$5:$O$5,A15),IF(A14=6,COUNTIF($J$6:$O$6,A15),IF(A14=7,COUNTIF($J$7:$O$7,A15),IF(A14=8,COUNTIF($J$8:$O$8,A15),IF(A14=9,COUNTIF($J$9:$O$9,A15),IF(A14=10,COUNTIF($J$10:$O$10,A15),IF(A14=11,COUNTIF($J$11:$O$11,A15),IF(A14=12,COUNTIF($J$12:$O$12,A15),IF(A14=13,COUNTIF($J$13:$O$13,A15),IF(A14=14,COUNTIF($J$14:$O$14,A15),IF(A14=15,COUNTIF($J$15:$O$15,A15),IF(A14=16,COUNTIF($J$16:$O$16,A15),IF(A14=17,COUNTIF($J$17:$O$17,A15),IF(A14=18,COUNTIF($J$18:$O$18,A15),IF(A14=19,COUNTIF($J$19:$O$19,A15),IF(A14=20,COUNTIF($J$20:$O$20,A15),IF(A14=21,COUNTIF($J$21:$O$21,A15),IF(A14=22,COUNTIF($J$22:$O$22,A15),IF(A14=23,COUNTIF($J$23:$O$23,A15),IF(A14=24,COUNTIF($J$24:$O$24,A15),IF(A14=25,COUNTIF($J$25:$O$25,A15),IF(A14=26,COUNTIF($J$26:$O$26,A15),IF(A14=27,COUNTIF($J$27:$O$27,A15),IF(A14=28,COUNTIF($J$28:$O$28,A15),IF(A14=29,COUNTIF($J$29:$O$29,A15),IF(A14=30,COUNTIF($J$30:$O$30,A15),IF(A14=31,COUNTIF($J$31:$O$31,A15),IF(A14=32,COUNTIF($J$32:$O$32,A15),IF(A14=33,COUNTIF($J$33:$O$33,A15),IF(A14=34,COUNTIF($J$34:$O$34,A15),IF(A14=35,COUNTIF($J$35:$O$35,A15),IF(A14=36,COUNTIF($J$36:$O$36,A15),IF(A14=0,COUNTIF($J$37:$O$37,A15),"")))))))))))))))))))))))))))))))))))))) -> 0 | D15: =IF(A15="","",IF(C15=1,"W",IF(C15=0,"L",""))) -> L | I15: 15 | J15: 6 | K15: 7 | L15: 12 | M15: 18 | N15: 27 | O15: 29
A16: 18 | B16: =IF(A16="","",VLOOKUP(A16,Tabelle2!$A$2:$B$38,2,0)) -> 0-5-15-16-24-32 | C16: =IF(A16="","",IF(A15=1,COUNTIF($J$1:$O$1,A16),IF(A15=2,COUNTIF($J$2:$O$2,A16),IF(A15=3,COUNTIF($J$3:$O$3,A16),IF(A15=4,COUNTIF($J$4:$O$4,A16),IF(A15=5,COUNTIF($J$5:$O$5,A16),IF(A15=6,COUNTIF($J$6:$O$6,A16),IF(A15=7,COUNTIF($J$7:$O$7,A16),IF(A15=8,COUNTIF($J$8:$O$8,A16),IF(A15=9,COUNTIF($J$9:$O$9,A16),IF(A15=10,COUNTIF($J$10:$O$10,A16),IF(A15=11,COUNTIF($J$11:$O$11,A16),IF(A15=12,COUNTIF($J$12:$O$12,A16),IF(A15=13,COUNTIF($J$13:$O$13,A16),IF(A15=14,COUNTIF($J$14:$O$14,A16),IF(A15=15,COUNTIF($J$15:$O$15,A16),IF(A15=16,COUNTIF($J$16:$O$16,A16),IF(A15=17,COUNTIF($J$17:$O$17,A16),IF(A15=18,COUNTIF($J$18:$O$18,A16),IF(A15=19,COUNTIF($J$19:$O$19,A16),IF(A15=20,COUNTIF($J$20:$O$20,A16),IF(A15=21,COUNTIF($J$21:$O$21,A16),IF(A15=22,COUNTIF($J$22:$O$22,A16),IF(A15=23,COUNTIF($J$23:$O$23,A16),IF(A15=24,COUNTIF($J$24:$O$24,A16),IF(A15=25,COUNTIF($J$25:$O$25,A16),IF(A15=26,COUNTIF($J$26:$O$26,A16),IF(A15=27,COUNTIF($J$27:$O$27,A16),IF(A15=28,COUNTIF($J$28:$O$28,A16),IF(A15=29,COUNTIF($J$29:$O$29,A16),IF(A15=30,COUNTIF($J$30:$O$30,A16),IF(A15=31,COUNTIF($J$31:$O$31,A16),IF(A15=32,COUNTIF($J$32:$O$32,A16),IF(A15=33,COUNTIF($J$33:$O$33,A16),IF(A15=34,COUNTIF($J$34:$O$34,A16),IF(A15=35,COUNTIF($J$35:$O$35,A16),IF(A15=36,COUNTIF($J$36:$O$36,A16),IF(A15=0,COUNTIF($J$37:$O$37,A16),"")))))))))))))))))))))))))))))))))))))) -> 0 | D16: =IF(A16="","",IF(C16=1,"W",IF(C16=0,"L",""))) -> L | I16: 16 | J16: 7 | K16: 13 | L16: 18 | M16: 27 | N16: 29 | O16: 36
A17: 22 | B17: =IF(A17="","",VLOOKUP(A17,Tabelle2!$A$2:$B$38,2,0)) -> 0-5-10-24-26-32 | C17: =IF(A17="","",IF(A16=1,COUNTIF($J$1:$O$1,A17),IF(A16=2,COUNTIF($J$2:$O$2,A17),IF(A16=3,COUNTIF($J$3:$O$3,A17),IF(A16=4,COUNTIF($J$4:$O$4,A17),IF(A16=5,COUNTIF($J$5:$O$5,A17),IF(A16=6,COUNTIF($J$6:$O$6,A17),IF(A16=7,COUNTIF($J$7:$O$7,A17),IF(A16=8,COUNTIF($J$8:$O$8,A17),IF(A16=9,COUNTIF($J$9:$O$9,A17),IF(A16=10,COUNTIF($J$10:$O$10,A17),IF(A16=11,COUNTIF($J$11:$O$11,A17),IF(A16=12,COUNTIF($J$12:$O$12,A17),IF(A16=13,COUNTIF($J$13:$O$13,A17),IF(A16=14,COUNTIF($J$14:$O$14,A17),IF(A16=15,COUNTIF($J$15:$O$15,A17),IF(A16=16,COUNTIF($J$16:$O$16,A17),IF(A16=17,COUNTIF($J$17:$O$17,A17),IF(A16=18,COUNTIF($J$18:$O$18,A17),IF(A16=19,COUNTIF($J$19:$O$19,A17),IF(A16=20,COUNTIF($J$20:$O$20,A17),IF(A16=21,COUNTIF($J$21:$O$21,A17),IF(A16=22,COUNTIF($J$22:$O$22,A17),IF(A16=23,COUNTIF($J$23:$O$23,A17),IF(A16=24,COUNTIF($J$24:$O$24,A17),IF(A16=25,COUNTIF($J$25:$O$25,A17),IF(A16=26,COUNTIF($J$26:$O$26,A17),IF(A16=27,COUNTIF($J$27:$O$27,A17),IF(A16=28,COUNTIF($J$28:$O$28,A17),IF(A16=29,COUNTIF($J$29:$O$29,A17),IF(A16=30,COUNTIF($J$30:$O$30,A17),IF(A16=31,COUNTIF($J$31:$O$31,A17),IF(A16=32,COUNTIF($J$32:$O$32,A17),IF(A16=33,COUNTIF($J$33:$O$33,A17),IF(A16=34,COUNTIF($J$34:$O$34,A17),IF(A16=35,COUNTIF($J$35:$O$35,A17),IF(A16=36,COUNTIF($J$36:$O$36,A17),IF(A16=0,COUNTIF($J$37:$O$37,A17),"")))))))))))))))))))))))))))))))))))))) -> 0 | D17: =IF(A17="","",IF(C17=1,"W",IF(C17=0,"L",""))) -> L | I17: 17 | J17: 0 | K17: 3 | L17: 8 | M17: 10 | N17: 23 | O17: 26
... A37: 32 | B37: =IF(A37="","",VLOOKUP(A37,Tabelle2!$A$2:$B$38,2,0)) -> 6-18-22-27-29-34 | C37: =IF(A37="","",IF(A36=1,COUNTIF($J$1:$O$1,A37),IF(A36=2,COUNTIF($J$2:$O$2,A37),IF(A36=3,COUNTIF($J$3:$O$3,A37),IF(A36=4,COUNTIF($J$4:$O$4,A37),IF(A36=5,COUNTIF($J$5:$O$5,A37),IF(A36=6,COUNTIF($J$6:$O$6,A37),IF(A36=7,COUNTIF($J$7:$O$7,A37),IF(A36=8,COUNTIF($J$8:$O$8,A37),IF(A36=9,COUNTIF($J$9:$O$9,A37),IF(A36=10,COUNTIF($J$10:$O$10,A37),IF(A36=11,COUNTIF($J$11:$O$11,A37),IF(A36=12,COUNTIF($J$12:$O$12,A37),IF(A36=13,COUNTIF($J$13:$O$13,A37),IF(A36=14,COUNTIF($J$14:$O$14,A37),IF(A36=15,COUNTIF($J$15:$O$15,A37),IF(A36=16,COUNTIF($J$16:$O$16,A37),IF(A36=17,COUNTIF($J$17:$O$17,A37),IF(A36=18,COUNTIF($J$18:$O$18,A37),IF(A36=19,COUNTIF($J$19:$O$19,A37),IF(A36=20,COUNTIF($J$20:$O$20,A37),IF(A36=21,COUNTIF($J$21:$O$21,A37),IF(A36=22,COUNTIF($J$22:$O$22,A37),IF(A36=23,COUNTIF($J$23:$O$23,A37),IF(A36=24,COUNTIF($J$24:$O$24,A37),IF(A36=25,COUNTIF($J$25:$O$25,A37),IF(A36=26,COUNTIF($J$26:$O$26,A37),IF(A36=27,COUNTIF($J$27:$O$27,A37),IF(A36=28,COUNTIF($J$28:$O$28,A37),IF(A36=29,COUNTIF($J$29:$O$29,A37),IF(A36=30,COUNTIF($J$30:$O$30,A37),IF(A36=31,COUNTIF($J$31:$O$31,A37),IF(A36=32,COUNTIF($J$32:$O$32,A37),IF(A36=33,COUNTIF($J$33:$O$33,A37),IF(A36=34,COUNTIF($J$34:$O$34,A37),IF(A36=35,COUNTIF($J$35:$O$35,A37),IF(A36=36,COUNTIF($J$36:$O$36,A37),IF(A36=0,COUNTIF($J$37:$O$37,A37),"")))))))))))))))))))))))))))))))))))))) -> 0 | D37: =IF(A37="","",IF(C37=1,"W",IF(C37=0,"L",""))) -> L | I37: 0 | J37: 6 | K37: 9 | L37: 17 | M37: 18 | N37: 22 | O37: 34
A38: 17 | B38: =IF(A38="","",VLOOKUP(A38,Tabelle2!$A$2:$B$38,2,0)) -> 0-3-8-10-23-26 | C38: =IF(A38="","",IF(A37=1,COUNTIF($J$1:$O$1,A38),IF(A37=2,COUNTIF($J$2:$O$2,A38),IF(A37=3,COUNTIF($J$3:$O$3,A38),IF(A37=4,COUNTIF($J$4:$O$4,A38),IF(A37=5,COUNTIF($J$5:$O$5,A38),IF(A37=6,COUNTIF($J$6:$O$6,A38),IF(A37=7,COUNTIF($J$7:$O$7,A38),IF(A37=8,COUNTIF($J$8:$O$8,A38),IF(A37=9,COUNTIF($J$9:$O$9,A38),IF(A37=10,COUNTIF($J$10:$O$10,A38),IF(A37=11,COUNTIF($J$11:$O$11,A38),IF(A37=12,COUNTIF($J$12:$O$12,A38),IF(A37=13,COUNTIF($J$13:$O$13,A38),IF(A37=14,COUNTIF($J$14:$O$14,A38),IF(A37=15,COUNTIF($J$15:$O$15,A38),IF(A37=16,COUNTIF($J$16:$O$16,A38),IF(A37=17,COUNTIF($J$17:$O$17,A38),IF(A37=18,COUNTIF($J$18:$O$18,A38),IF(A37=19,COUNTIF($J$19:$O$19,A38),IF(A37=20,COUNTIF($J$20:$O$20,A38),IF(A37=21,COUNTIF($J$21:$O$21,A38),IF(A37=22,COUNTIF($J$22:$O$22,A38),IF(A37=23,COUNTIF($J$23:$O$23,A38),IF(A37=24,COUNTIF($J$24:$O$24,A38),IF(A37=25,COUNTIF($J$25:$O$25,A38),IF(A37=26,COUNTIF($J$26:$O$26,A38),IF(A37=27,COUNTIF($J$27:$O$27,A38),IF(A37=28,COUNTIF($J$28:$O$28,A38),IF(A37=29,COUNTIF($J$29:$O$29,A38),IF(A37=30,COUNTIF($J$30:$O$30,A38),IF(A37=31,COUNTIF($J$31:$O$31,A38),IF(A37=32,COUNTIF($J$32:$O$32,A38),IF(A37=33,COUNTIF($J$33:$O$33,A38),IF(A37=34,COUNTIF($J$34:$O$34,A38),IF(A37=35,COUNTIF($J$35:$O$35,A38),IF(A37=36,COUNTIF($J$36:$O$36,A38),IF(A37=0,COUNTIF($J$37:$O$37,A38),"")))))))))))))))))))))))))))))))))))))) -> 0 | D38: =IF(A38="","",IF(C38=1,"W",IF(C38=0,"L",""))) -> L
A39: 24 | B39: =IF(A39="","",VLOOKUP(A39,Tabelle2!$A$2:$B$38,2,0)) -> 6-13-18-22-27-29 | C39: =IF(A39="","",IF(A38=1,COUNTIF($J$1:$O$1,A39),IF(A38=2,COUNTIF($J$2:$O$2,A39),IF(A38=3,COUNTIF($J$3:$O$3,A39),IF(A38=4,COUNTIF($J$4:$O$4,A39),IF(A38=5,COUNTIF($J$5:$O$5,A39),IF(A38=6,COUNTIF($J$6:$O$6,A39),IF(A38=7,COUNTIF($J$7:$O$7,A39),IF(A38=8,COUNTIF($J$8:$O$8,A39),IF(A38=9,COUNTIF($J$9:$O$9,A39),IF(A38=10,COUNTIF($J$10:$O$10,A39),IF(A38=11,COUNTIF($J$11:$O$11,A39),IF(A38=12,COUNTIF($J$12:$O$12,A39),IF(A38=13,COUNTIF($J$13:$O$13,A39),IF(A38=14,COUNTIF($J$14:$O$14,A39),IF(A38=15,COUNTIF($J$15:$O$15,A39),IF(A38=16,COUNTIF($J$16:$O$16,A39),IF(A38=17,COUNTIF($J$17:$O$17,A39),IF(A38=18,COUNTIF($J$18:$O$18,A39),IF(A38=19,COUNTIF($J$19:$O$19,A39),IF(A38=20,COUNTIF($J$20:$O$20,A39),IF(A38=21,COUNTIF($J$21:$O$21,A39),IF(A38=22,COUNTIF($J$22:$O$22,A39),IF(A38=23,COUNTIF($J$23:$O$23,A39),IF(A38=24,COUNTIF($J$24:$O$24,A39),IF(A38=25,COUNTIF($J$25:$O$25,A39),IF(A38=26,COUNTIF($J$26:$O$26,A39),IF(A38=27,COUNTIF($J$27:$O$27,A39),IF(A38=28,COUNTIF($J$28:$O$28,A39),IF(A38=29,COUNTIF($J$29:$O$29,A39),IF(A38=30,COUNTIF($J$30:$O$30,A39),IF(A38=31,COUNTIF($J$31:$O$31,A39),IF(A38=32,COUNTIF($J$32:$O$32,A39),IF(A38=33,COUNTIF($J$33:$O$33,A39),IF(A38=34,COUNTIF($J$34:$O$34,A39),IF(A38=35,COUNTIF($J$35:$O$35,A39),IF(A38=36,COUNTIF($J$36:$O$36,A39),IF(A38=0,COUNTIF($J$37:$O$37,A39),"")))))))))))))))))))))))))))))))))))))) -> 0 | D39: =IF(A39="","",IF(C39=1,"W",IF(C39=0,"L",""))) -> L
A40: 27 | B40: =IF(A40="","",VLOOKUP(A40,Tabelle2!$A$2:$B$38,2,0)) -> 5-15-16-19-24-32 | C40: =IF(A40="","",IF(A39=1,COUNTIF($J$1:$O$1,A40),IF(A39=2,COUNTIF($J$2:$O$2,A40),IF(A39=3,COUNTIF($J$3:$O$3,A40),IF(A39=4,COUNTIF($J$4:$O$4,A40),IF(A39=5,COUNTIF($J$5:$O$5,A40),IF(A39=6,COUNTIF($J$6:$O$6,A40),IF(A39=7,COUNTIF($J$7:$O$7,A40),IF(A39=8,COUNTIF($J$8:$O$8,A40),IF(A39=9,COUNTIF($J$9:$O$9,A40),IF(A39=10,COUNTIF($J$10:$O$10,A40),IF(A39=11,COUNTIF($J$11:$O$11,A40),IF(A39=12,COUNTIF($J$12:$O$12,A40),IF(A39=13,COUNTIF($J$13:$O$13,A40),IF(A39=14,COUNTIF($J$14:$O$14,A40),IF(A39=15,COUNTIF($J$15:$O$15,A40),IF(A39=16,COUNTIF($J$16:$O$16,A40),IF(A39=17,COUNTIF($J$17:$O$17,A40),IF(A39=18,COUNTIF($J$18:$O$18,A40),IF(A39=19,COUNTIF($J$19:$O$19,A40),IF(A39=20,COUNTIF($J$20:$O$20,A40),IF(A39=21,COUNTIF($J$21:$O$21,A40),IF(A39=22,COUNTIF($J$22:$O$22,A40),IF(A39=23,COUNTIF($J$23:$O$23,A40),IF(A39=24,COUNTIF($J$24:$O$24,A40),IF(A39=25,COUNTIF($J$25:$O$25,A40),IF(A39=26,COUNTIF($J$26:$O$26,A40),IF(A39=27,COUNTIF($J$27:$O$27,A40),IF(A39=28,COUNTIF($J$28:$O$28,A40),IF(A39=29,COUNTIF($J$29:$O$29,A40),IF(A39=30,COUNTIF($J$30:$O$30,A40),IF(A39=31,COUNTIF($J$31:$O$31,A40),IF(A39=32,COUNTIF($J$32:$O$32,A40),IF(A39=33,COUNTIF($J$33:$O$33,A40),IF(A39=34,COUNTIF($J$34:$O$34,A40),IF(A39=35,COUNTIF($J$35:$O$35,A40),IF(A39=36,COUNTIF($J$36:$O$36,A40),IF(A39=0,COUNTIF($J$37:$O$37,A40),"")))))))))))))))))))))))))))))))))))))) -> 1 | D40: =IF(A40="","",IF(C40=1,"W",IF(C40=0,"L",""))) -> W
A41: 15 | B41: =IF(A41="","",VLOOKUP(A41,Tabelle2!$A$2:$B$38,2,0)) -> 6-7-12-18-27-29 | C41: =IF(A41="","",IF(A40=1,COUNTIF($J$1:$O$1,A41),IF(A40=2,COUNTIF($J$2:$O$2,A41),IF(A40=3,COUNTIF($J$3:$O$3,A41),IF(A40=4,COUNTIF($J$4:$O$4,A41),IF(A40=5,COUNTIF($J$5:$O$5,A41),IF(A40=6,COUNTIF($J$6:$O$6,A41),IF(A40=7,COUNTIF($J$7:$O$7,A41),IF(A40=8,COUNTIF($J$8:$O$8,A41),IF(A40=9,COUNTIF($J$9:$O$9,A41),IF(A40=10,COUNTIF($J$10:$O$10,A41),IF(A40=11,COUNTIF($J$11:$O$11,A41),IF(A40=12,COUNTIF($J$12:$O$12,A41),IF(A40=13,COUNTIF($J$13:$O$13,A41),IF(A40=14,COUNTIF($J$14:$O$14,A41),IF(A40=15,COUNTIF($J$15:$O$15,A41),IF(A40=16,COUNTIF($J$16:$O$16,A41),IF(A40=17,COUNTIF($J$17:$O$17,A41),IF(A40=18,COUNTIF($J$18:$O$18,A41),IF(A40=19,COUNTIF($J$19:$O$19,A41),IF(A40=20,COUNTIF($J$20:$O$20,A41),IF(A40=21,COUNTIF($J$21:$O$21,A41),IF(A40=22,COUNTIF($J$22:$O$22,A41),IF(A40=23,COUNTIF($J$23:$O$23,A41),IF(A40=24,COUNTIF($J$24:$O$24,A41),IF(A40=25,COUNTIF($J$25:$O$25,A41),IF(A40=26,COUNTIF($J$26:$O$26,A41),IF(A40=27,COUNTIF($J$27:$O$27,A41),IF(A40=28,COUNTIF($J$28:$O$28,A41),IF(A40=29,COUNTIF($J$29:$O$29,A41),IF(A40=30,COUNTIF($J$30:$O$30,A41),IF(A40=31,COUNTIF($J$31:$O$31,A41),IF(A40=32,COUNTIF($J$32:$O$32,A41),IF(A40=33,COUNTIF($J$33:$O$33,A41),IF(A40=34,COUNTIF($J$34:$O$34,A41),IF(A40=35,COUNTIF($J$35:$O$35,A41),IF(A40=36,COUNTIF($J$36:$O$36,A41),IF(A40=0,COUNTIF($J$37:$O$37,A41),"")))))))))))))))))))))))))))))))))))))) -> 1 | D41: =IF(A41="","",IF(C41=1,"W",IF(C41=0,"L",""))) -> W
A42: 0 | B42: =IF(A42="","",VLOOKUP(A42,Tabelle2!$A$2:$B$38,2,0)) -> 6-9-17-18-22-34 | C42: =IF(A42="","",IF(A41=1,COUNTIF($J$1:$O$1,A42),IF(A41=2,COUNTIF($J$2:$O$2,A42),IF(A41=3,COUNTIF($J$3:$O$3,A42),IF(A41=4,COUNTIF($J$4:$O$4,A42),IF(A41=5,COUNTIF($J$5:$O$5,A42),IF(A41=6,COUNTIF($J$6:$O$6,A42),IF(A41=7,COUNTIF($J$7:$O$7,A42),IF(A41=8,COUNTIF($J$8:$O$8,A42),IF(A41=9,COUNTIF($J$9:$O$9,A42),IF(A41=10,COUNTIF($J$10:$O$10,A42),IF(A41=11,COUNTIF($J$11:$O$11,A42),IF(A41=12,COUNTIF($J$12:$O$12,A42),IF(A41=13,COUNTIF($J$13:$O$13,A42),IF(A41=14,COUNTIF($J$14:$O$14,A42),IF(A41=15,COUNTIF($J$15:$O$15,A42),IF(A41=16,COUNTIF($J$16:$O$16,A42),IF(A41=17,COUNTIF($J$17:$O$17,A42),IF(A41=18,COUNTIF($J$18:$O$18,A42),IF(A41=19,COUNTIF($J$19:$O$19,A42),IF(A41=20,COUNTIF($J$20:$O$20,A42),IF(A41=21,COUNTIF($J$21:$O$21,A42),IF(A41=22,COUNTIF($J$22:$O$22,A42),IF(A41=23,COUNTIF($J$23:$O$23,A42),IF(A41=24,COUNTIF($J$24:$O$24,A42),IF(A41=25,COUNTIF($J$25:$O$25,A42),IF(A41=26,COUNTIF($J$26:$O$26,A42),IF(A41=27,COUNTIF($J$27:$O$27,A42),IF(A41=28,COUNTIF($J$28:$O$28,A42),IF(A41=29,COUNTIF($J$29:$O$29,A42),IF(A41=30,COUNTIF($J$30:$O$30,A42),IF(A41=31,COUNTIF($J$31:$O$31,A42),IF(A41=32,COUNTIF($J$32:$O$32,A42),IF(A41=33,COUNTIF($J$33:$O$33,A42),IF(A41=34,COUNTIF($J$34:$O$34,A42),IF(A41=35,COUNTIF($J$35:$O$35,A42),IF(A41=36,COUNTIF($J$36:$O$36,A42),IF(A41=0,COUNTIF($J$37:$O$37,A42),"")))))))))))))))))))))))))))))))))))))) -> 0 | D42: =IF(A42="","",IF(C42=1,"W",IF(C42=0,"L",""))) -> L
A43: 13 | B43: =IF(A43="","",VLOOKUP(A43,Tabelle2!$A$2:$B$38,2,0)) -> 4-15-16-19-24-33 | C43: =IF(A43="","",IF(A42=1,COUNTIF($J$1:$O$1,A43),IF(A42=2,COUNTIF($J$2:$O$2,A43),IF(A42=3,COUNTIF($J$3:$O$3,A43),IF(A42=4,COUNTIF($J$4:$O$4,A43),IF(A42=5,COUNTIF($J$5:$O$5,A43),IF(A42=6,COUNTIF($J$6:$O$6,A43),IF(A42=7,COUNTIF($J$7:$O$7,A43),IF(A42=8,COUNTIF($J$8:$O$8,A43),IF(A42=9,COUNTIF($J$9:$O$9,A43),IF(A42=10,COUNTIF($J$10:$O$10,A43),IF(A42=11,COUNTIF($J$11:$O$11,A43),IF(A42=12,COUNTIF($J$12:$O$12,A43),IF(A42=13,COUNTIF($J$13:$O$13,A43),IF(A42=14,COUNTIF($J$14:$O$14,A43),IF(A42=15,COUNTIF($J$15:$O$15,A43),IF(A42=16,COUNTIF($J$16:$O$16,A43),IF(A42=17,COUNTIF($J$17:$O$17,A43),IF(A42=18,COUNTIF($J$18:$O$18,A43),IF(A42=19,COUNTIF($J$19:$O$19,A43),IF(A42=20,COUNTIF($J$20:$O$20,A43),IF(A42=21,COUNTIF($J$21:$O$21,A43),IF(A42=22,COUNTIF($J$22:$O$22,A43),IF(A42=23,COUNTIF($J$23:$O$23,A43),IF(A42=24,COUNTIF($J$24:$O$24,A43),IF(A42=25,COUNTIF($J$25:$O$25,A43),IF(A42=26,COUNTIF($J$26:$O$26,A43),IF(A42=27,COUNTIF($J$27:$O$27,A43),IF(A42=28,COUNTIF($J$28:$O$28,A43),IF(A42=29,COUNTIF($J$29:$O$29,A43),IF(A42=30,COUNTIF($J$30:$O$30,A43),IF(A42=31,COUNTIF($J$31:$O$31,A43),IF(A42=32,COUNTIF($J$32:$O$32,A43),IF(A42=33,COUNTIF($J$33:$O$33,A43),IF(A42=34,COUNTIF($J$34:$O$34,A43),IF(A42=35,COUNTIF($J$35:$O$35,A43),IF(A42=36,COUNTIF($J$36:$O$36,A43),IF(A42=0,COUNTIF($J$37:$O$37,A43),"")))))))))))))))))))))))))))))))))))))) -> 0 | D43: =IF(A43="","",IF(C43=1,"W",IF(C43=0,"L",""))) -> L
A44: 31 | B44: =IF(A44="","",VLOOKUP(A44,Tabelle2!$A$2:$B$38,2,0)) -> 3-8-10-23-26-35 | C44: =IF(A44="","",IF(A43=1,COUNTIF($J$1:$O$1,A44),IF(A43=2,COUNTIF($J$2:$O$2,A44),IF(A43=3,COUNTIF($J$3:$O$3,A44),IF(A43=4,COUNTIF($J$4:$O$4,A44),IF(A43=5,COUNTIF($J$5:$O$5,A44),IF(A43=6,COUNTIF($J$6:$O$6,A44),IF(A43=7,COUNTIF($J$7:$O$7,A44),IF(A43=8,COUNTIF($J$8:$O$8,A44),IF(A43=9,COUNTIF($J$9:$O$9,A44),IF(A43=10,COUNTIF($J$10:$O$10,A44),IF(A43=11,COUNTIF($J$11:$O$11,A44),IF(A43=12,COUNTIF($J$12:$O$12,A44),IF(A43=13,COUNTIF($J$13:$O$13,A44),IF(A43=14,COUNTIF($J$14:$O$14,A44),IF(A43=15,COUNTIF($J$15:$O$15,A44),IF(A43=16,COUNTIF($J$16:$O$16,A44),IF(A43=17,COUNTIF($J$17:$O$17,A44),IF(A43=18,COUNTIF($J$18:$O$18,A44),IF(A43=19,COUNTIF($J$19:$O$19,A44),IF(A43=20,COUNTIF($J$20:$O$20,A44),IF(A43=21,COUNTIF($J$21:$O$21,A44),IF(A43=22,COUNTIF($J$22:$O$22,A44),IF(A43=23,COUNTIF($J$23:$O$23,A44),IF(A43=24,COUNTIF($J$24:$O$24,A44),IF(A43=25,COUNTIF($J$25:$O$25,A44),IF(A43=26,COUNTIF($J$26:$O$26,A44),IF(A43=27,COUNTIF($J$27:$O$27,A44),IF(A43=28,COUNTIF($J$28:$O$28,A44),IF(A43=29,COUNTIF($J$29:$O$29,A44),IF(A43=30,COUNTIF($J$30:$O$30,A44),IF(A43=31,COUNTIF($J$31:$O$31,A44),IF(A43=32,COUNTIF($J$32:$O$32,A44),IF(A43=33,COUNTIF($J$33:$O$33,A44),IF(A43=34,COUNTIF($J$34:$O$34,A44),IF(A43=35,COUNTIF($J$35:$O$35,A44),IF(A43=36,COUNTIF($J$36:$O$36,A44),IF(A43=0,COUNTIF($J$37:$O$37,A44),"")))))))))))))))))))))))))))))))))))))) -> 0 | D44: =IF(A44="","",IF(C44=1,"W",IF(C44=0,"L",""))) -> L
A45: 33 | B45: =IF(A45="","",VLOOKUP(A45,Tabelle2!$A$2:$B$38,2,0)) -> 7-11-13-28-29-36 | C45: =IF(A45="","",IF(A44=1,COUNTIF($J$1:$O$1,A45),IF(A44=2,COUNTIF($J$2:$O$2,A45),IF(A44=3,COUNTIF($J$3:$O$3,A45),IF(A44=4,COUNTIF($J$4:$O$4,A45),IF(A44=5,COUNTIF($J$5:$O$5,A45),IF(A44=6,COUNTIF($J$6:$O$6,A45),IF(A44=7,COUNTIF($J$7:$O$7,A45),IF(A44=8,COUNTIF($J$8:$O$8,A45),IF(A44=9,COUNTIF($J$9:$O$9,A45),IF(A44=10,COUNTIF($J$10:$O$10,A45),IF(A44=11,COUNTIF($J$11:$O$11,A45),IF(A44=12,COUNTIF($J$12:$O$12,A45),IF(A44=13,COUNTIF($J$13:$O$13,A45),IF(A44=14,COUNTIF($J$14:$O$14,A45),IF(A44=15,COUNTIF($J$15:$O$15,A45),IF(A44=16,COUNTIF($J$16:$O$16,A45),IF(A44=17,COUNTIF($J$17:$O$17,A45),IF(A44=18,COUNTIF($J$18:$O$18,A45),IF(A44=19,COUNTIF($J$19:$O$19,A45),IF(A44=20,COUNTIF($J$20:$O$20,A45),IF(A44=21,COUNTIF($J$21:$O$21,A45),IF(A44=22,COUNTIF($J$22:$O$22,A45),IF(A44=23,COUNTIF($J$23:$O$23,A45),IF(A44=24,COUNTIF($J$24:$O$24,A45),IF(A44=25,COUNTIF($J$25:$O$25,A45),IF(A44=26,COUNTIF($J$26:$O$26,A45),IF(A44=27,COUNTIF($J$27:$O$27,A45),IF(A44=28,COUNTIF($J$28:$O$28,A45),IF(A44=29,COUNTIF($J$29:$O$29,A45),IF(A44=30,COUNTIF($J$30:$O$30,A45),IF(A44=31,COUNTIF($J$31:$O$31,A45),IF(A44=32,COUNTIF($J$32:$O$32,A45),IF(A44=33,COUNTIF($J$33:$O$33,A45),IF(A44=34,COUNTIF($J$34:$O$34,A45),IF(A44=35,COUNTIF($J$35:$O$35,A45),IF(A44=36,COUNTIF($J$36:$O$36,A45),IF(A44=0,COUNTIF($J$37:$O$37,A45),"")))))))))))))))))))))))))))))))))))))) -> 0 | D45: =IF(A45="","",IF(C45=1,"W",IF(C45=0,"L",""))) -> L
A46: 34 | B46: =IF(A46="","",VLOOKUP(A46,Tabelle2!$A$2:$B$38,2,0)) -> 0-5-10-23-26-32 | C46: =IF(A46="","",IF(A45=1,COUNTIF($J$1:$O$1,A46),IF(A45=2,COUNTIF($J$2:$O$2,A46),IF(A45=3,COUNTIF($J$3:$O$3,A46),IF(A45=4,COUNTIF($J$4:$O$4,A46),IF(A45=5,COUNTIF($J$5:$O$5,A46),IF(A45=6,COUNTIF($J$6:$O$6,A46),IF(A45=7,COUNTIF($J$7:$O$7,A46),IF(A45=8,COUNTIF($J$8:$O$8,A46),IF(A45=9,COUNTIF($J$9:$O$9,A46),IF(A45=10,COUNTIF($J$10:$O$10,A46),IF(A45=11,COUNTIF($J$11:$O$11,A46),IF(A45=12,COUNTIF($J$12:$O$12,A46),IF(A45=13,COUNTIF($J$13:$O$13,A46),IF(A45=14,COUNTIF($J$14:$O$14,A46),IF(A45=15,COUNTIF($J$15:$O$15,A46),IF(A45=16,COUNTIF($J$16:$O$16,A46),IF(A45=17,COUNTIF($J$17:$O$17,A46),IF(A45=18,COUNTIF($J$18:$O$18,A46),IF(A45=19,COUNTIF($J$19:$O$19,A46),IF(A45=20,COUNTIF($J$20:$O$20,A46),IF(A45=21,COUNTIF($J$21:$O$21,A46),IF(A45=22,COUNTIF($J$22:$O$22,A46),IF(A45=23,COUNTIF($J$23:$O$23,A46),IF(A45=24,COUNTIF($J$24:$O$24,A46),IF(A45=25,COUNTIF($J$25:$O$25,A46),IF(A45=26,COUNTIF($J$26:$O$26,A46),IF(A45=27,COUNTIF($J$27:$O$27,A46),IF(A45=28,COUNTIF($J$28:$O$28,A46),IF(A45=29,COUNTIF($J$29:$O$29,A46),IF(A45=30,COUNTIF($J$30:$O$30,A46),IF(A45=31,COUNTIF($J$31:$O$31,A46),IF(A45=32,COUNTIF($J$32:$O$32,A46),IF(A45=33,COUNTIF($J$33:$O$33,A46),IF(A45=34,COUNTIF($J$34:$O$34,A46),IF(A45=35,COUNTIF($J$35:$O$35,A46),IF(A45=36,COUNTIF($J$36:$O$36,A46),IF(A45=0,COUNTIF($J$37:$O$37,A46),"")))))))))))))))))))))))))))))))))))))) -> 0 | D46: =IF(A46="","",IF(C46=1,"W",IF(C46=0,"L",""))) -> L
A47: 20 | B47: =IF(A47="","",VLOOKUP(A47,Tabelle2!$A$2:$B$38,2,0)) -> 8-11-12-28-30-36 | C47: =IF(A47="","",IF(A46=1,COUNTIF($J$1:$O$1,A47),IF(A46=2,COUNTIF($J$2:$O$2,A47),IF(A46=3,COUNTIF($J$3:$O$3,A47),IF(A46=4,COUNTIF($J$4:$O$4,A47),IF(A46=5,COUNTIF($J$5:$O$5,A47),IF(A46=6,COUNTIF($J$6:$O$6,A47),IF(A46=7,COUNTIF($J$7:$O$7,A47),IF(A46=8,COUNTIF($J$8:$O$8,A47),IF(A46=9,COUNTIF($J$9:$O$9,A47),IF(A46=10,COUNTIF($J$10:$O$10,A47),IF(A46=11,COUNTIF($J$11:$O$11,A47),IF(A46=12,COUNTIF($J$12:$O$12,A47),IF(A46=13,COUNTIF($J$13:$O$13,A47),IF(A46=14,COUNTIF($J$14:$O$14,A47),IF(A46=15,COUNTIF($J$15:$O$15,A47),IF(A46=16,COUNTIF($J$16:$O$16,A47),IF(A46=17,COUNTIF($J$17:$O$17,A47),IF(A46=18,COUNTIF($J$18:$O$18,A47),IF(A46=19,COUNTIF($J$19:$O$19,A47),IF(A46=20,COUNTIF($J$20:$O$20,A47),IF(A46=21,COUNTIF($J$21:$O$21,A47),IF(A46=22,COUNTIF($J$22:$O$22,A47),IF(A46=23,COUNTIF($J$23:$O$23,A47),IF(A46=24,COUNTIF($J$24:$O$24,A47),IF(A46=25,COUNTIF($J$25:$O$25,A47),IF(A46=26,COUNTIF($J$26:$O$26,A47),IF(A46=27,COUNTIF($J$27:$O$27,A47),IF(A46=28,COUNTIF($J$28:$O$28,A47),IF(A46=29,COUNTIF($J$29:$O$29,A47),IF(A46=30,COUNTIF($J$30:$O$30,A47),IF(A46=31,COUNTIF($J$31:$O$31,A47),IF(A46=32,COUNTIF($J$32:$O$32,A47),IF(A46=33,COUNTIF($J$33:$O$33,A47),IF(A46=34,COUNTIF($J$34:$O$34,A47),IF(A46=35,COUNTIF($J$35:$O$35,A47),IF(A46=36,COUNTIF($J$36:$O$36,A47),IF(A46=0,COUNTIF($J$37:$O$37,A47),"")))))))))))))))))))))))))))))))))))))) -> 0 | D47: =IF(A47="","",IF(C47=1,"W",IF(C47=0,"L",""))) -> L
A48: 21 | B48: =IF(A48="","",VLOOKUP(A48,Tabelle2!$A$2:$B$38,2,0)) -> 11-12-28-30-35-36 | C48: =IF(A48="","",IF(A47=1,COUNTIF($J$1:$O$1,A48),IF(A47=2,COUNTIF($J$2:$O$2,A48),IF(A47=3,COUNTIF($J$3:$O$3,A48),IF(A47=4,COUNTIF($J$4:$O$4,A48),IF(A47=5,COUNTIF($J$5:$O$5,A48),IF(A47=6,COUNTIF($J$6:$O$6,A48),IF(A47=7,COUNTIF($J$7:$O$7,A48),IF(A47=8,COUNTIF($J$8:$O$8,A48),IF(A47=9,COUNTIF($J$9:$O$9,A48),IF(A47=10,COUNTIF($J$10:$O$10,A48),IF(A47=11,COUNTIF($J$11:$O$11,A48),IF(A47=12,COUNTIF($J$12:$O$12,A48),IF(A47=13,COUNTIF($J$13:$O$13,A48),IF(A47=14,COUNTIF($J$14:$O$14,A48),IF(A47=15,COUNTIF($J$15:$O$15,A48),IF(A47=16,COUNTIF($J$16:$O$16,A48),IF(A47=17,COUNTIF($J$17:$O$17,A48),IF(A47=18,COUNTIF($J$18:$O$18,A48),IF(A47=19,COUNTIF($J$19:$O$19,A48),IF(A47=20,COUNTIF($J$20:$O$20,A48),IF(A47=21,COUNTIF($J$21:$O$21,A48),IF(A47=22,COUNTIF($J$22:$O$22,A48),IF(A47=23,COUNTIF($J$23:$O$23,A48),IF(A47=24,COUNTIF($J$24:$O$24,A48),IF(A47=25,COUNTIF($J$25:$O$25,A48),IF(A47=26,COUNTIF($J$26:$O$26,A48),IF(A47=27,COUNTIF($J$27:$O$27,A48),IF(A47=28,COUNTIF($J$28:$O$28,A48),IF(A47=29,COUNTIF($J$29:$O$29,A48),IF(A47=30,COUNTIF($J$30:$O$30,A48),IF(A47=31,COUNTIF($J$31:$O$31,A48),IF(A47=32,COUNTIF($J$32:$O$32,A48),IF(A47=33,COUNTIF($J$33:$O$33,A48),IF(A47=34,COUNTIF($J$34:$O$34,A48),IF(A47=35,COUNTIF($J$35:$O$35,A48),IF(A47=36,COUNTIF($J$36:$O$36,A48),IF(A47=0,COUNTIF($J$37:$O$37,A48),"")))))))))))))))))))))))))))))))))))))) -> 0 | D48: =IF(A48="","",IF(C48=1,"W",IF(C48=0,"L",""))) -> L
A49: 3 | B49: =IF(A49="","",VLOOKUP(A49,Tabelle2!$A$2:$B$38,2,0)) -> 2-9-14-17-25-31 | C49: =IF(A49="","",IF(A48=1,COUNTIF($J$1:$O$1,A49),IF(A48=2,COUNTIF($J$2:$O$2,A49),IF(A48=3,COUNTIF($J$3:$O$3,A49),IF(A48=4,COUNTIF($J$4:$O$4,A49),IF(A48=5,COUNTIF($J$5:$O$5,A49),IF(A48=6,COUNTIF($J$6:$O$6,A49),IF(A48=7,COUNTIF($J$7:$O$7,A49),IF(A48=8,COUNTIF($J$8:$O$8,A49),IF(A48=9,COUNTIF($J$9:$O$9,A49),IF(A48=10,COUNTIF($J$10:$O$10,A49),IF(A48=11,COUNTIF($J$11:$O$11,A49),IF(A48=12,COUNTIF($J$12:$O$12,A49),IF(A48=13,COUNTIF($J$13:$O$13,A49),IF(A48=14,COUNTIF($J$14:$O$14,A49),IF(A48=15,COUNTIF($J$15:$O$15,A49),IF(A48=16,COUNTIF($J$16:$O$16,A49),IF(A48=17,COUNTIF($J$17:$O$17,A49),IF(A48=18,COUNTIF($J$18:$O$18,A49),IF(A48=19,COUNTIF($J$19:$O$19,A49),IF(A48=20,COUNTIF($J$20:$O$20,A49),IF(A48=21,COUNTIF($J$21:$O$21,A49),IF(A48=22,COUNTIF($J$22:$O$22,A49),IF(A48=23,COUNTIF($J$23:$O$23,A49),IF(A48=24,COUNTIF($J$24:$O$24,A49),IF(A48=25,COUNTIF($J$25:$O$25,A49),IF(A48=26,COUNTIF($J$26:$O$26,A49),IF(A48=27,COUNTIF($J$27:$O$27,A49),IF(A48=28,COUNTIF($J$28:$O$28,A49),IF(A48=29,COUNTIF($J$29:$O$29,A49),IF(A48=30,COUNTIF($J$30:$O$30,A49),IF(A48=31,COUNTIF($J$31:$O$31,A49),IF(A48=32,COUNTIF($J$32:$O$32,A49),IF(A48=33,COUNTIF($J$33:$O$33,A49),IF(A48=34,COUNTIF($J$34:$O$34,A49),IF(A48=35,COUNTIF($J$35:$O$35,A49),IF(A48=36,COUNTIF($J$36:$O$36,A49),IF(A48=0,COUNTIF($J$37:$O$37,A49),"")))))))))))))))))))))))))))))))))))))) -> 0 | D49: =IF(A49="","",IF(C49=1,"W",IF(C49=0,"L",""))) -> L
... A569: 6 | B569: =IF(A569="","",VLOOKUP(A569,Tabelle2!$A$2:$B$38,2,0)) -> 0-5-10-15-24-32 | C569: =IF(A569="","",IF(A568=1,COUNTIF($J$1:$O$1,A569),IF(A568=2,COUNTIF($J$2:$O$2,A569),IF(A568=3,COUNTIF($J$3:$O$3,A569),IF(A568=4,COUNTIF($J$4:$O$4,A569),IF(A568=5,COUNTIF($J$5:$O$5,A569),IF(A568=6,COUNTIF($J$6:$O$6,A569),IF(A568=7,COUNTIF($J$7:$O$7,A569),IF(A568=8,COUNTIF($J$8:$O$8,A569),IF(A568=9,COUNTIF($J$9:$O$9,A569),IF(A568=10,COUNTIF($J$10:$O$10,A569),IF(A568=11,COUNTIF($J$11:$O$11,A569),IF(A568=12,COUNTIF($J$12:$O$12,A569),IF(A568=13,COUNTIF($J$13:$O$13,A569),IF(A568=14,COUNTIF($J$14:$O$14,A569),IF(A568=15,COUNTIF($J$15:$O$15,A569),IF(A568=16,COUNTIF($J$16:$O$16,A569),IF(A568=17,COUNTIF($J$17:$O$17,A569),IF(A568=18,COUNTIF($J$18:$O$18,A569),IF(A568=19,COUNTIF($J$19:$O$19,A569),IF(A568=20,COUNTIF($J$20:$O$20,A569),IF(A568=21,COUNTIF($J$21:$O$21,A569),IF(A568=22,COUNTIF($J$22:$O$22,A569),IF(A568=23,COUNTIF($J$23:$O$23,A569),IF(A568=24,COUNTIF($J$24:$O$24,A569),IF(A568=25,COUNTIF($J$25:$O$25,A569),IF(A568=26,COUNTIF($J$26:$O$26,A569),IF(A568=27,COUNTIF($J$27:$O$27,A569),IF(A568=28,COUNTIF($J$28:$O$28,A569),IF(A568=29,COUNTIF($J$29:$O$29,A569),IF(A568=30,COUNTIF($J$30:$O$30,A569),IF(A568=31,COUNTIF($J$31:$O$31,A569),IF(A568=32,COUNTIF($J$32:$O$32,A569),IF(A568=33,COUNTIF($J$33:$O$33,A569),IF(A568=34,COUNTIF($J$34:$O$34,A569),IF(A568=35,COUNTIF($J$35:$O$35,A569),IF(A568=36,COUNTIF($J$36:$O$36,A569),IF(A568=0,COUNTIF($J$37:$O$37,A569),"")))))))))))))))))))))))))))))))))))))) -> 1 | D569: =IF(A569="","",IF(C569=1,"W",IF(C569=0,"L",""))) -> W
B570: =IF(A570="","",VLOOKUP(A570,Tabelle2!$A$2:$B$38,2,0)) | C570: =IF(A570="","",IF(A569=1,COUNTIF($J$1:$O$1,A570),IF(A569=2,COUNTIF($J$2:$O$2,A570),IF(A569=3,COUNTIF($J$3:$O$3,A570),IF(A569=4,COUNTIF($J$4:$O$4,A570),IF(A569=5,COUNTIF($J$5:$O$5,A570),IF(A569=6,COUNTIF($J$6:$O$6,A570),IF(A569=7,COUNTIF($J$7:$O$7,A570),IF(A569=8,COUNTIF($J$8:$O$8,A570),IF(A569=9,COUNTIF($J$9:$O$9,A570),IF(A569=10,COUNTIF($J$10:$O$10,A570),IF(A569=11,COUNTIF($J$11:$O$11,A570),IF(A569=12,COUNTIF($J$12:$O$12,A570),IF(A569=13,COUNTIF($J$13:$O$13,A570),IF(A569=14,COUNTIF($J$14:$O$14,A570),IF(A569=15,COUNTIF($J$15:$O$15,A570),IF(A569=16,COUNTIF($J$16:$O$16,A570),IF(A569=17,COUNTIF($J$17:$O$17,A570),IF(A569=18,COUNTIF($J$18:$O$18,A570),IF(A569=19,COUNTIF($J$19:$O$19,A570),IF(A569=20,COUNTIF($J$20:$O$20,A570),IF(A569=21,COUNTIF($J$21:$O$21,A570),IF(A569=22,COUNTIF($J$22:$O$22,A570),IF(A569=23,COUNTIF($J$23:$O$23,A570),IF(A569=24,COUNTIF($J$24:$O$24,A570),IF(A569=25,COUNTIF($J$25:$O$25,A570),IF(A569=26,COUNTIF($J$26:$O$26,A570),IF(A569=27,COUNTIF($J$27:$O$27,A570),IF(A569=28,COUNTIF($J$28:$O$28,A570),IF(A569=29,COUNTIF($J$29:$O$29,A570),IF(A569=30,COUNTIF($J$30:$O$30,A570),IF(A569=31,COUNTIF($J$31:$O$31,A570),IF(A569=32,COUNTIF($J$32:$O$32,A570),IF(A569=33,COUNTIF($J$33:$O$33,A570),IF(A569=34,COUNTIF($J$34:$O$34,A570),IF(A569=35,COUNTIF($J$35:$O$35,A570),IF(A569=36,COUNTIF($J$36:$O$36,A570),IF(A569=0,COUNTIF($J$37:$O$37,A570),"")))))))))))))))))))))))))))))))))))))) | D570: =IF(A570="","",IF(C570=1,"W",IF(C570=0,"L","")))
B571: =IF(A571="","",VLOOKUP(A571,Tabelle2!$A$2:$B$38,2,0)) | C571: =IF(A571="","",IF(A570=1,COUNTIF($J$1:$O$1,A571),IF(A570=2,COUNTIF($J$2:$O$2,A571),IF(A570=3,COUNTIF($J$3:$O$3,A571),IF(A570=4,COUNTIF($J$4:$O$4,A571),IF(A570=5,COUNTIF($J$5:$O$5,A571),IF(A570=6,COUNTIF($J$6:$O$6,A571),IF(A570=7,COUNTIF($J$7:$O$7,A571),IF(A570=8,COUNTIF($J$8:$O$8,A571),IF(A570=9,COUNTIF($J$9:$O$9,A571),IF(A570=10,COUNTIF($J$10:$O$10,A571),IF(A570=11,COUNTIF($J$11:$O$11,A571),IF(A570=12,COUNTIF($J$12:$O$12,A571),IF(A570=13,COUNTIF($J$13:$O$13,A571),IF(A570=14,COUNTIF($J$14:$O$14,A571),IF(A570=15,COUNTIF($J$15:$O$15,A571),IF(A570=16,COUNTIF($J$16:$O$16,A571),IF(A570=17,COUNTIF($J$17:$O$17,A571),IF(A570=18,COUNTIF($J$18:$O$18,A571),IF(A570=19,COUNTIF($J$19:$O$19,A571),IF(A570=20,COUNTIF($J$20:$O$20,A571),IF(A570=21,COUNTIF($J$21:$O$21,A571),IF(A570=22,COUNTIF($J$22:$O$22,A571),IF(A570=23,COUNTIF($J$23:$O$23,A571),IF(A570=24,COUNTIF($J$24:$O$24,A571),IF(A570=25,COUNTIF($J$25:$O$25,A571),IF(A570=26,COUNTIF($J$26:$O$26,A571),IF(A570=27,COUNTIF($J$27:$O$27,A571),IF(A570=28,COUNTIF($J$28:$O$28,A571),IF(A570=29,COUNTIF($J$29:$O$29,A571),IF(A570=30,COUNTIF($J$30:$O$30,A571),IF(A570=31,COUNTIF($J$31:$O$31,A571),IF(A570=32,COUNTIF($J$32:$O$32,A571),IF(A570=33,COUNTIF($J$33:$O$33,A571),IF(A570=34,COUNTIF($J$34:$O$34,A571),IF(A570=35,COUNTIF($J$35:$O$35,A571),IF(A570=36,COUNTIF($J$36:$O$36,A571),IF(A570=0,COUNTIF($J$37:$O$37,A571),"")))))))))))))))))))))))))))))))))))))) | D571: =IF(A571="","",IF(C571=1,"W",IF(C571=0,"L","")))
B572: =IF(A572="","",VLOOKUP(A572,Tabelle2!$A$2:$B$38,2,0)) | C572: =IF(A572="","",IF(A571=1,COUNTIF($J$1:$O$1,A572),IF(A571=2,COUNTIF($J$2:$O$2,A572),IF(A571=3,COUNTIF($J$3:$O$3,A572),IF(A571=4,COUNTIF($J$4:$O$4,A572),IF(A571=5,COUNTIF($J$5:$O$5,A572),IF(A571=6,COUNTIF($J$6:$O$6,A572),IF(A571=7,COUNTIF($J$7:$O$7,A572),IF(A571=8,COUNTIF($J$8:$O$8,A572),IF(A571=9,COUNTIF($J$9:$O$9,A572),IF(A571=10,COUNTIF($J$10:$O$10,A572),IF(A571=11,COUNTIF($J$11:$O$11,A572),IF(A571=12,COUNTIF($J$12:$O$12,A572),IF(A571=13,COUNTIF($J$13:$O$13,A572),IF(A571=14,COUNTIF($J$14:$O$14,A572),IF(A571=15,COUNTIF($J$15:$O$15,A572),IF(A571=16,COUNTIF($J$16:$O$16,A572),IF(A571=17,COUNTIF($J$17:$O$17,A572),IF(A571=18,COUNTIF($J$18:$O$18,A572),IF(A571=19,COUNTIF($J$19:$O$19,A572),IF(A571=20,COUNTIF($J$20:$O$20,A572),IF(A571=21,COUNTIF($J$21:$O$21,A572),IF(A571=22,COUNTIF($J$22:$O$22,A572),IF(A571=23,COUNTIF($J$23:$O$23,A572),IF(A571=24,COUNTIF($J$24:$O$24,A572),IF(A571=25,COUNTIF($J$25:$O$25,A572),IF(A571=26,COUNTIF($J$26:$O$26,A572),IF(A571=27,COUNTIF($J$27:$O$27,A572),IF(A571=28,COUNTIF($J$28:$O$28,A572),IF(A571=29,COUNTIF($J$29:$O$29,A572),IF(A571=30,COUNTIF($J$30:$O$30,A572),IF(A571=31,COUNTIF($J$31:$O$31,A572),IF(A571=32,COUNTIF($J$32:$O$32,A572),IF(A571=33,COUNTIF($J$33:$O$33,A572),IF(A571=34,COUNTIF($J$34:$O$34,A572),IF(A571=35,COUNTIF($J$35:$O$35,A572),IF(A571=36,COUNTIF($J$36:$O$36,A572),IF(A571=0,COUNTIF($J$37:$O$37,A572),"")))))))))))))))))))))))))))))))))))))) | D572: =IF(A572="","",IF(C572=1,"W",IF(C572=0,"L","")))
B573: =IF(A573="","",VLOOKUP(A573,Tabelle2!$A$2:$B$38,2,0)) | C573: =IF(A573="","",IF(A572=1,COUNTIF($J$1:$O$1,A573),IF(A572=2,COUNTIF($J$2:$O$2,A573),IF(A572=3,COUNTIF($J$3:$O$3,A573),IF(A572=4,COUNTIF($J$4:$O$4,A573),IF(A572=5,COUNTIF($J$5:$O$5,A573),IF(A572=6,COUNTIF($J$6:$O$6,A573),IF(A572=7,COUNTIF($J$7:$O$7,A573),IF(A572=8,COUNTIF($J$8:$O$8,A573),IF(A572=9,COUNTIF($J$9:$O$9,A573),IF(A572=10,COUNTIF($J$10:$O$10,A573),IF(A572=11,COUNTIF($J$11:$O$11,A573),IF(A572=12,COUNTIF($J$12:$O$12,A573),IF(A572=13,COUNTIF($J$13:$O$13,A573),IF(A572=14,COUNTIF($J$14:$O$14,A573),IF(A572=15,COUNTIF($J$15:$O$15,A573),IF(A572=16,COUNTIF($J$16:$O$16,A573),IF(A572=17,COUNTIF($J$17:$O$17,A573),IF(A572=18,COUNTIF($J$18:$O$18,A573),IF(A572=19,COUNTIF($J$19:$O$19,A573),IF(A572=20,COUNTIF($J$20:$O$20,A573),IF(A572=21,COUNTIF($J$21:$O$21,A573),IF(A572=22,COUNTIF($J$22:$O$22,A573),IF(A572=23,COUNTIF($J$23:$O$23,A573),IF(A572=24,COUNTIF($J$24:$O$24,A573),IF(A572=25,COUNTIF($J$25:$O$25,A573),IF(A572=26,COUNTIF($J$26:$O$26,A573),IF(A572=27,COUNTIF($J$27:$O$27,A573),IF(A572=28,COUNTIF($J$28:$O$28,A573),IF(A572=29,COUNTIF($J$29:$O$29,A573),IF(A572=30,COUNTIF($J$30:$O$30,A573),IF(A572=31,COUNTIF($J$31:$O$31,A573),IF(A572=32,COUNTIF($J$32:$O$32,A573),IF(A572=33,COUNTIF($J$33:$O$33,A573),IF(A572=34,COUNTIF($J$34:$O$34,A573),IF(A572=35,COUNTIF($J$35:$O$35,A573),IF(A572=36,COUNTIF($J$36:$O$36,A573),IF(A572=0,COUNTIF($J$37:$O$37,A573),"")))))))))))))))))))))))))))))))))))))) | D573: =IF(A573="","",IF(C573=1,"W",IF(C573=0,"L","")))
B574: =IF(A574="","",VLOOKUP(A574,Tabelle2!$A$2:$B$38,2,0)) | C574: =IF(A574="","",IF(A573=1,COUNTIF($J$1:$O$1,A574),IF(A573=2,COUNTIF($J$2:$O$2,A574),IF(A573=3,COUNTIF($J$3:$O$3,A574),IF(A573=4,COUNTIF($J$4:$O$4,A574),IF(A573=5,COUNTIF($J$5:$O$5,A574),IF(A573=6,COUNTIF($J$6:$O$6,A574),IF(A573=7,COUNTIF($J$7:$O$7,A574),IF(A573=8,COUNTIF($J$8:$O$8,A574),IF(A573=9,COUNTIF($J$9:$O$9,A574),IF(A573=10,COUNTIF($J$10:$O$10,A574),IF(A573=11,COUNTIF($J$11:$O$11,A574),IF(A573=12,COUNTIF($J$12:$O$12,A574),IF(A573=13,COUNTIF($J$13:$O$13,A574),IF(A573=14,COUNTIF($J$14:$O$14,A574),IF(A573=15,COUNTIF($J$15:$O$15,A574),IF(A573=16,COUNTIF($J$16:$O$16,A574),IF(A573=17,COUNTIF($J$17:$O$17,A574),IF(A573=18,COUNTIF($J$18:$O$18,A574),IF(A573=19,COUNTIF($J$19:$O$19,A574),IF(A573=20,COUNTIF($J$20:$O$20,A574),IF(A573=21,COUNTIF($J$21:$O$21,A574),IF(A573=22,COUNTIF($J$22:$O$22,A574),IF(A573=23,COUNTIF($J$23:$O$23,A574),IF(A573=24,COUNTIF($J$24:$O$24,A574),IF(A573=25,COUNTIF($J$25:$O$25,A574),IF(A573=26,COUNTIF($J$26:$O$26,A574),IF(A573=27,COUNTIF($J$27:$O$27,A574),IF(A573=28,COUNTIF($J$28:$O$28,A574),IF(A573=29,COUNTIF($J$29:$O$29,A574),IF(A573=30,COUNTIF($J$30:$O$30,A574),IF(A573=31,COUNTIF($J$31:$O$31,A574),IF(A573=32,COUNTIF($J$32:$O$32,A574),IF(A573=33,COUNTIF($J$33:$O$33,A574),IF(A573=34,COUNTIF($J$34:$O$34,A574),IF(A573=35,COUNTIF($J$35:$O$35,A574),IF(A573=36,COUNTIF($J$36:$O$36,A574),IF(A573=0,COUNTIF($J$37:$O$37,A574),"")))))))))))))))))))))))))))))))))))))) | D574: =IF(A574="","",IF(C574=1,"W",IF(C574=0,"L","")))
B575: =IF(A575="","",VLOOKUP(A575,Tabelle2!$A$2:$B$38,2,0)) | C575: =IF(A575="","",IF(A574=1,COUNTIF($J$1:$O$1,A575),IF(A574=2,COUNTIF($J$2:$O$2,A575),IF(A574=3,COUNTIF($J$3:$O$3,A575),IF(A574=4,COUNTIF($J$4:$O$4,A575),IF(A574=5,COUNTIF($J$5:$O$5,A575),IF(A574=6,COUNTIF($J$6:$O$6,A575),IF(A574=7,COUNTIF($J$7:$O$7,A575),IF(A574=8,COUNTIF($J$8:$O$8,A575),IF(A574=9,COUNTIF($J$9:$O$9,A575),IF(A574=10,COUNTIF($J$10:$O$10,A575),IF(A574=11,COUNTIF($J$11:$O$11,A575),IF(A574=12,COUNTIF($J$12:$O$12,A575),IF(A574=13,COUNTIF($J$13:$O$13,A575),IF(A574=14,COUNTIF($J$14:$O$14,A575),IF(A574=15,COUNTIF($J$15:$O$15,A575),IF(A574=16,COUNTIF($J$16:$O$16,A575),IF(A574=17,COUNTIF($J$17:$O$17,A575),IF(A574=18,COUNTIF($J$18:$O$18,A575),IF(A574=19,COUNTIF($J$19:$O$19,A575),IF(A574=20,COUNTIF($J$20:$O$20,A575),IF(A574=21,COUNTIF($J$21:$O$21,A575),IF(A574=22,COUNTIF($J$22:$O$22,A575),IF(A574=23,COUNTIF($J$23:$O$23,A575),IF(A574=24,COUNTIF($J$24:$O$24,A575),IF(A574=25,COUNTIF($J$25:$O$25,A575),IF(A574=26,COUNTIF($J$26:$O$26,A575),IF(A574=27,COUNTIF($J$27:$O$27,A575),IF(A574=28,COUNTIF($J$28:$O$28,A575),IF(A574=29,COUNTIF($J$29:$O$29,A575),IF(A574=30,COUNTIF($J$30:$O$30,A575),IF(A574=31,COUNTIF($J$31:$O$31,A575),IF(A574=32,COUNTIF($J$32:$O$32,A575),IF(A574=33,COUNTIF($J$33:$O$33,A575),IF(A574=34,COUNTIF($J$34:$O$34,A575),IF(A574=35,COUNTIF($J$35:$O$35,A575),IF(A574=36,COUNTIF($J$36:$O$36,A575),IF(A574=0,COUNTIF($J$37:$O$37,A575),"")))))))))))))))))))))))))))))))))))))) | D575: =IF(A575="","",IF(C575=1,"W",IF(C575=0,"L","")))
B576: =IF(A576="","",VLOOKUP(A576,Tabelle2!$A$2:$B$38,2,0)) | C576: =IF(A576="","",IF(A575=1,COUNTIF($J$1:$O$1,A576),IF(A575=2,COUNTIF($J$2:$O$2,A576),IF(A575=3,COUNTIF($J$3:$O$3,A576),IF(A575=4,COUNTIF($J$4:$O$4,A576),IF(A575=5,COUNTIF($J$5:$O$5,A576),IF(A575=6,COUNTIF($J$6:$O$6,A576),IF(A575=7,COUNTIF($J$7:$O$7,A576),IF(A575=8,COUNTIF($J$8:$O$8,A576),IF(A575=9,COUNTIF($J$9:$O$9,A576),IF(A575=10,COUNTIF($J$10:$O$10,A576),IF(A575=11,COUNTIF($J$11:$O$11,A576),IF(A575=12,COUNTIF($J$12:$O$12,A576),IF(A575=13,COUNTIF($J$13:$O$13,A576),IF(A575=14,COUNTIF($J$14:$O$14,A576),IF(A575=15,COUNTIF($J$15:$O$15,A576),IF(A575=16,COUNTIF($J$16:$O$16,A576),IF(A575=17,COUNTIF($J$17:$O$17,A576),IF(A575=18,COUNTIF($J$18:$O$18,A576),IF(A575=19,COUNTIF($J$19:$O$19,A576),IF(A575=20,COUNTIF($J$20:$O$20,A576),IF(A575=21,COUNTIF($J$21:$O$21,A576),IF(A575=22,COUNTIF($J$22:$O$22,A576),IF(A575=23,COUNTIF($J$23:$O$23,A576),IF(A575=24,COUNTIF($J$24:$O$24,A576),IF(A575=25,COUNTIF($J$25:$O$25,A576),IF(A575=26,COUNTIF($J$26:$O$26,A576),IF(A575=27,COUNTIF($J$27:$O$27,A576),IF(A575=28,COUNTIF($J$28:$O$28,A576),IF(A575=29,COUNTIF($J$29:$O$29,A576),IF(A575=30,COUNTIF($J$30:$O$30,A576),IF(A575=31,COUNTIF($J$31:$O$31,A576),IF(A575=32,COUNTIF($J$32:$O$32,A576),IF(A575=33,COUNTIF($J$33:$O$33,A576),IF(A575=34,COUNTIF($J$34:$O$34,A576),IF(A575=35,COUNTIF($J$35:$O$35,A576),IF(A575=36,COUNTIF($J$36:$O$36,A576),IF(A575=0,COUNTIF($J$37:$O$37,A576),"")))))))))))))))))))))))))))))))))))))) | D576: =IF(A576="","",IF(C576=1,"W",IF(C576=0,"L","")))
B577: =IF(A577="","",VLOOKUP(A577,Tabelle2!$A$2:$B$38,2,0)) | C577: =IF(A577="","",IF(A576=1,COUNTIF($J$1:$O$1,A577),IF(A576=2,COUNTIF($J$2:$O$2,A577),IF(A576=3,COUNTIF($J$3:$O$3,A577),IF(A576=4,COUNTIF($J$4:$O$4,A577),IF(A576=5,COUNTIF($J$5:$O$5,A577),IF(A576=6,COUNTIF($J$6:$O$6,A577),IF(A576=7,COUNTIF($J$7:$O$7,A577),IF(A576=8,COUNTIF($J$8:$O$8,A577),IF(A576=9,COUNTIF($J$9:$O$9,A577),IF(A576=10,COUNTIF($J$10:$O$10,A577),IF(A576=11,COUNTIF($J$11:$O$11,A577),IF(A576=12,COUNTIF($J$12:$O$12,A577),IF(A576=13,COUNTIF($J$13:$O$13,A577),IF(A576=14,COUNTIF($J$14:$O$14,A577),IF(A576=15,COUNTIF($J$15:$O$15,A577),IF(A576=16,COUNTIF($J$16:$O$16,A577),IF(A576=17,COUNTIF($J$17:$O$17,A577),IF(A576=18,COUNTIF($J$18:$O$18,A577),IF(A576=19,COUNTIF($J$19:$O$19,A577),IF(A576=20,COUNTIF($J$20:$O$20,A577),IF(A576=21,COUNTIF($J$21:$O$21,A577),IF(A576=22,COUNTIF($J$22:$O$22,A577),IF(A576=23,COUNTIF($J$23:$O$23,A577),IF(A576=24,COUNTIF($J$24:$O$24,A577),IF(A576=25,COUNTIF($J$25:$O$25,A577),IF(A576=26,COUNTIF($J$26:$O$26,A577),IF(A576=27,COUNTIF($J$27:$O$27,A577),IF(A576=28,COUNTIF($J$28:$O$28,A577),IF(A576=29,COUNTIF($J$29:$O$29,A577),IF(A576=30,COUNTIF($J$30:$O$30,A577),IF(A576=31,COUNTIF($J$31:$O$31,A577),IF(A576=32,COUNTIF($J$32:$O$32,A577),IF(A576=33,COUNTIF($J$33:$O$33,A577),IF(A576=34,COUNTIF($J$34:$O$34,A577),IF(A576=35,COUNTIF($J$35:$O$35,A577),IF(A576=36,COUNTIF($J$36:$O$36,A577),IF(A576=0,COUNTIF($J$37:$O$37,A577),"")))))))))))))))))))))))))))))))))))))) | D577: =IF(A577="","",IF(C577=1,"W",IF(C577=0,"L","")))
B578: =IF(A578="","",VLOOKUP(A578,Tabelle2!$A$2:$B$38,2,0)) | C578: =IF(A578="","",IF(A577=1,COUNTIF($J$1:$O$1,A578),IF(A577=2,COUNTIF($J$2:$O$2,A578),IF(A577=3,COUNTIF($J$3:$O$3,A578),IF(A577=4,COUNTIF($J$4:$O$4,A578),IF(A577=5,COUNTIF($J$5:$O$5,A578),IF(A577=6,COUNTIF($J$6:$O$6,A578),IF(A577=7,COUNTIF($J$7:$O$7,A578),IF(A577=8,COUNTIF($J$8:$O$8,A578),IF(A577=9,COUNTIF($J$9:$O$9,A578),IF(A577=10,COUNTIF($J$10:$O$10,A578),IF(A577=11,COUNTIF($J$11:$O$11,A578),IF(A577=12,COUNTIF($J$12:$O$12,A578),IF(A577=13,COUNTIF($J$13:$O$13,A578),IF(A577=14,COUNTIF($J$14:$O$14,A578),IF(A577=15,COUNTIF($J$15:$O$15,A578),IF(A577=16,COUNTIF($J$16:$O$16,A578),IF(A577=17,COUNTIF($J$17:$O$17,A578),IF(A577=18,COUNTIF($J$18:$O$18,A578),IF(A577=19,COUNTIF($J$19:$O$19,A578),IF(A577=20,COUNTIF($J$20:$O$20,A578),IF(A577=21,COUNTIF($J$21:$O$21,A578),IF(A577=22,COUNTIF($J$22:$O$22,A578),IF(A577=23,COUNTIF($J$23:$O$23,A578),IF(A577=24,COUNTIF($J$24:$O$24,A578),IF(A577=25,COUNTIF($J$25:$O$25,A578),IF(A577=26,COUNTIF($J$26:$O$26,A578),IF(A577=27,COUNTIF($J$27:$O$27,A578),IF(A577=28,COUNTIF($J$28:$O$28,A578),IF(A577=29,COUNTIF($J$29:$O$29,A578),IF(A577=30,COUNTIF($J$30:$O$30,A578),IF(A577=31,COUNTIF($J$31:$O$31,A578),IF(A577=32,COUNTIF($J$32:$O$32,A578),IF(A577=33,COUNTIF($J$33:$O$33,A578),IF(A577=34,COUNTIF($J$34:$O$34,A578),IF(A577=35,COUNTIF($J$35:$O$35,A578),IF(A577=36,COUNTIF($J$36:$O$36,A578),IF(A577=0,COUNTIF($J$37:$O$37,A578),"")))))))))))))))))))))))))))))))))))))) | D578: =IF(A578="","",IF(C578=1,"W",IF(C578=0,"L","")))
...

Sheet Tabelle2
A1: Num | B1: Bet
A2: 1 | B2: 7-11-12-28-30-36 | D2: 7 | E2: 11 | F2: 12 | G2: 28 | H2: 30 | I2: 36
A3: 2 | B3: 3-8-11-12-30-35 | D3: 3 | E3: 8 | F3: 11 | G3: 12 | H3: 30 | I3: 35
A4: 3 | B4: 2-9-14-17-25-31 | D4: 2 | E4: 9 | F4: 14 | G4: 17 | H4: 25 | I4: 31
A5: 4 | B5: 7-11-12-13-28-36 | D5: 7 | E5: 11 | F5: 12 | G5: 13 | H5: 28 | I5: 36
A6: 5 | B6: 6-9-18-22-27-34 | D6: 6 | E6: 9 | F6: 18 | G6: 22 | H6: 27 | I6: 34
A7: 6 | B7: 0-5-10-15-24-32 | D7: 0 | E7: 5 | F7: 10 | G7: 15 | H7: 24 | I7: 32
A8: 7 | B8: 1-4-15-16-19-33 | D8: 1 | E8: 4 | F8: 15 | G8: 16 | H8: 19 | I8: 33
A9: 8 | B9: 2-14-17-20-25-31 | D9: 2 | E9: 14 | F9: 17 | G9: 20 | H9: 25 | I9: 31
A10: 9 | B10: 0-3-5-10-23-26 | D10: 0 | E10: 3 | F10: 5 | G10: 10 | H10: 23 | I10: 26
A11: 10 | B11: 6-9-17-22-31-34 | D11: 6 | E11: 9 | F11: 17 | G11: 22 | H11: 31 | I11: 34
A12: 11 | B12: 1-2-4-20-21-33 | D12: 1 | E12: 2 | F12: 4 | G12: 20 | H12: 21 | I12: 33
A13: 12 | B13: 1-2-4-14-20-21 | D13: 1 | E13: 2 | F13: 4 | G13: 14 | H13: 20 | I13: 21
... A38: 0 | B38: 6-9-17-18-22-34 | D38: 6 | E38: 9 | F38: 17 | G38: 18 | H38: 22 | I38: 34

Sheet Tabelle3
