Workbook

Sheet Tabelle1
A1: Num | C1: Bet | E1: W/L | W1: 1 | X1: 7 | Y1: 11 | Z1: 12 | AA1: 28 | AB1: 30 | AC1: 36 | AE1: Losses
B2: 14 | C2: =IF(B2="","",VLOOKUP(B2,Tabelle2!$A$2:$B$38,2,0)) -> 3-8-12-23-30-35 | W2: 2 | X2: 3 | Y2: 8 | Z2: 11 | AA2: 12 | AB2: 30 | AC2: 35 | AE2: 0 | AF2: 1 | AG2: 2 | AH2: 3 | AI2: 4 | AJ2: 5 | AK2: 6 | AL2: 7 | AM2: 8 | AN2: 9 | AO2: 10 | AP2: 11 | AQ2: 12 | AR2: 13 | AS2: 14 | AT2: 15 | AU2: 16 | AV2: 17 | AW2: 18 | AX2: 19 | AY2: 20 | AZ2: 21 | BA2: 22 | BB2: 23 | BC2: 24 | BD2: 25 | BE2: 26 | BF2: 27 | BG2: 28 | BH2: 29 | BI2: 30 | BJ2: >30
B3: 25 | C3: =IF(B3="","",VLOOKUP(B3,Tabelle2!$A$2:$B$38,2,0)) -> 3-8-23-26-30-35 | D3: =IF(B3="","",IF(B2=1,COUNTIF($X$1:$AC$1,B3),IF(B2=2,COUNTIF($X$2:$AC$2,B3),IF(B2=3,COUNTIF($X$3:$AC$3,B3),IF(B2=4,COUNTIF($X$4:$AC$4,B3),IF(B2=5,COUNTIF($X$5:$AC$5,B3),IF(B2=6,COUNTIF($X$6:$AC$6,B3),IF(B2=7,COUNTIF($X$7:$AC$7,B3),IF(B2=8,COUNTIF($X$8:$AC$8,B3),IF(B2=9,COUNTIF($X$9:$AC$9,B3),IF(B2=10,COUNTIF($X$10:$AC$10,B3),IF(B2=11,COUNTIF($X$11:$AC$11,B3),IF(B2=12,COUNTIF($X$12:$AC$12,B3),IF(B2=13,COUNTIF($X$13:$AC$13,B3),IF(B2=14,COUNTIF($X$14:$AC$14,B3),IF(B2=15,COUNTIF($X$15:$AC$15,B3),IF(B2=16,COUNTIF($X$16:$AC$16,B3),IF(B2=17,COUNTIF($X$17:$AC$17,B3),IF(B2=18,COUNTIF($X$18:$AC$18,B3),IF(B2=19,COUNTIF($X$19:$AC$19,B3),IF(B2=20,COUNTIF($X$20:$AC$20,B3),IF(B2=21,COUNTIF($X$21:$AC$21,B3),IF(B2=22,COUNTIF($X$22:$AC$22,B3),IF(B2=23,COUNTIF($X$23:$AC$23,B3),IF(B2=24,COUNTIF($X$24:$AC$24,B3),IF(B2=25,COUNTIF($X$25:$AC$25,B3),IF(B2=26,COUNTIF($X$26:$AC$26,B3),IF(B2=27,COUNTIF($X$27:$AC$27,B3),IF(B2=28,COUNTIF($X$28:$AC$28,B3),IF(B2=29,COUNTIF($X$29:$AC$29,B3),IF(B2=30,COUNTIF($X$30:$AC$30,B3),IF(B2=31,COUNTIF($X$31:$AC$31,B3),IF(B2=32,COUNTIF($X$32:$AC$32,B3),IF(B2=33,COUNTIF($X$33:$AC$33,B3),IF(B2=34,COUNTIF($X$34:$AC$34,B3),IF(B2=35,COUNTIF($X$35:$AC$35,B3),IF(B2=36,COUNTIF($X$36:$AC$36,B3),IF(B2=0,COUNTIF($X$37:$AC$37,B3),"")))))))))))))))))))))))))))))))))))))) -> 0 | E3: =IF(B3="","",IF(D3=1,"W",IF(D3=0,"L",""))) -> L | F3: =IF(B3="","",IF(AE2<$J$15,"Bet","No Bet")) -> Bet | G3: =IF(B3="","",IF(F3="No Bet",G2,IF(E3="L",-6+G2,IF(E3="W",30+G2)))) -> -6 | I3: Wins | J3: =COUNTIF(E2:E599,"W") -> 76 | L3: Losses | W3: 3 | X3: 2 | Y3: 9 | Z3: 14 | AA3: 17 | AB3: 25 | AC3: 31 | AE3: =IF(E3="L",AE2+1,IF(E3="W",0,"")) -> 1 | AF3: =IF(AND($AE4=0,$AE3=1),1,"") | AG3: =IF(AND($AE4=0,$AE3=2),1,"") | AH3: =IF(AND($AE4=0,$AE3=3),1,"") | AI3: =IF(AND($AE4=0,$AE3=4),1,"") | AJ3: =IF(AND($AE4=0,$AE3=5),1,"") | AK3: =IF(AND($AE4=0,$AE3=6),1,"") | AL3: =IF(AND($AE4=0,$AE3=7),1,"") | AM3: =IF(AND($AE4=0,$AE3=8),1,"") | AN3: =IF(AND($AE4=0,$AE3=9),1,"") | AO3: =IF(AND($AE4=0,$AE3=10),1,"") | AP3: =IF(AND($AE4=0,$AE3=11),1,"") | AQ3: =IF(AND($AE4=0,$AE3=12),1,"") | AR3: =IF(AND($AE4=0,$AE3=13),1,"") | AS3: =IF(AND($AE4=0,$AE3=14),1,"") | AT3: =IF(AND($AE4=0,$AE3=15),1,"") | AU3: =IF(AND($AE4=0,$AE3=16),1,"") | AV3: =IF(AND($AE4=0,$AE3=17),1,"") | AW3: =IF(AND($AE4=0,$AE3=18),1,"") | AX3: =IF(AND($AE4=0,$AE3=19),1,"") | AY3: =IF(AND($AE4=0,$AE3=20),1,"") | AZ3: =IF(AND($AE4=0,$AE3=21),1,"") | BA3: =IF(AND($AE4=0,$AE3=22),1,"") | BB3: =IF(AND($AE4=0,$AE3=23),1,"") | BC3: =IF(AND($AE4=0,$AE3=24),1,"") | BD3: =IF(AND($AE4=0,$AE3=25),1,"") | BE3: =IF(AND($AE4=0,$AE3=26),1,"") | BF3: =IF(AND($AE4=0,$AE3=27),1,"") | BG3: =IF(AND($AE4=0,$AE3=28),1,"") | BH3: =IF(AND($AE4=0,$AE3=29),1,"") | BI3: =IF(AND($AE4=0,$AE3=30),1,"") | BJ3: =IF(AND($AE4=0,$AE3>30),1,"")
B4: 36 | C4: =IF(B4="","",VLOOKUP(B4,Tabelle2!$A$2:$B$38,2,0)) -> 1-4-16-19-21-33 | D4: =IF(B4="","",IF(B3=1,COUNTIF($X$1:$AC$1,B4),IF(B3=2,COUNTIF($X$2:$AC$2,B4),IF(B3=3,COUNTIF($X$3:$AC$3,B4),IF(B3=4,COUNTIF($X$4:$AC$4,B4),IF(B3=5,COUNTIF($X$5:$AC$5,B4),IF(B3=6,COUNTIF($X$6:$AC$6,B4),IF(B3=7,COUNTIF($X$7:$AC$7,B4),IF(B3=8,COUNTIF($X$8:$AC$8,B4),IF(B3=9,COUNTIF($X$9:$AC$9,B4),IF(B3=10,COUNTIF($X$10:$AC$10,B4),IF(B3=11,COUNTIF($X$11:$AC$11,B4),IF(B3=12,COUNTIF($X$12:$AC$12,B4),IF(B3=13,COUNTIF($X$13:$AC$13,B4),IF(B3=14,COUNTIF($X$14:$AC$14,B4),IF(B3=15,COUNTIF($X$15:$AC$15,B4),IF(B3=16,COUNTIF($X$16:$AC$16,B4),IF(B3=17,COUNTIF($X$17:$AC$17,B4),IF(B3=18,COUNTIF($X$18:$AC$18,B4),IF(B3=19,COUNTIF($X$19:$AC$19,B4),IF(B3=20,COUNTIF($X$20:$AC$20,B4),IF(B3=21,COUNTIF($X$21:$AC$21,B4),IF(B3=22,COUNTIF($X$22:$AC$22,B4),IF(B3=23,COUNTIF($X$23:$AC$23,B4),IF(B3=24,COUNTIF($X$24:$AC$24,B4),IF(B3=25,COUNTIF($X$25:$AC$25,B4),IF(B3=26,COUNTIF($X$26:$AC$26,B4),IF(B3=27,COUNTIF($X$27:$AC$27,B4),IF(B3=28,COUNTIF($X$28:$AC$28,B4),IF(B3=29,COUNTIF($X$29:$AC$29,B4),IF(B3=30,COUNTIF($X$30:$AC$30,B4),IF(B3=31,COUNTIF($X$31:$AC$31,B4),IF(B3=32,COUNTIF($X$32:$AC$32,B4),IF(B3=33,COUNTIF($X$33:$AC$33,B4),IF(B3=34,COUNTIF($X$34:$AC$34,B4),IF(B3=35,COUNTIF($X$35:$AC$35,B4),IF(B3=36,COUNTIF($X$36:$AC$36,B4),IF(B3=0,COUNTIF($X$37:$AC$37,B4),"")))))))))))))))))))))))))))))))))))))) -> 0 | E4: =IF(B4="","",IF(D4=1,"W",IF(D4=0,"L",""))) -> L | F4: =IF(B4="","",IF(AE3<$J$15,"Bet","No Bet")) -> Bet | G4: =IF(B4="","",IF(F4="No Bet",G3,IF(E4="L",-6+G3,IF(E4="W",30+G3)))) -> -12 | I4: Losses | J4: =COUNTIF(E2:E599,"L") -> 521 | L4: 1 | M4: =AF602 -> 10 | W4: 4 | X4: 7 | Y4: 11 | Z4: 12 | AA4: 13 | AB4: 28 | AC4: 36 | AE4: =IF(E4="L",AE3+1,IF(E4="W",0,"")) -> 2 | AF4: =IF(AND($AE5=0,$AE4=1),1,"") | AG4: =IF(AND($AE5=0,$AE4=2),1,"") | AH4: =IF(AND($AE5=0,$AE4=3),1,"") | AI4: =IF(AND($AE5=0,$AE4=4),1,"") | AJ4: =IF(AND($AE5=0,$AE4=5),1,"") | AK4: =IF(AND($AE5=0,$AE4=6),1,"") | AL4: =IF(AND($AE5=0,$AE4=7),1,"") | AM4: =IF(AND($AE5=0,$AE4=8),1,"") | AN4: =IF(AND($AE5=0,$AE4=9),1,"") | AO4: =IF(AND($AE5=0,$AE4=10),1,"") | AP4: =IF(AND($AE5=0,$AE4=11),1,"") | AQ4: =IF(AND($AE5=0,$AE4=12),1,"") | AR4: =IF(AND($AE5=0,$AE4=13),1,"") | AS4: =IF(AND($AE5=0,$AE4=14),1,"") | AT4: =IF(AND($AE5=0,$AE4=15),1,"") | AU4: =IF(AND($AE5=0,$AE4=16),1,"") | AV4: =IF(AND($AE5=0,$AE4=17),1,"") | AW4: =IF(AND($AE5=0,$AE4=18),1,"") | AX4: =IF(AND($AE5=0,$AE4=19),1,"") | AY4: =IF(AND($AE5=0,$AE4=20),1,"") | AZ4: =IF(AND($AE5=0,$AE4=21),1,"") | BA4: =IF(AND($AE5=0,$AE4=22),1,"") | BB4: =IF(AND($AE5=0,$AE4=23),1,"") | BC4: =IF(AND($AE5=0,$AE4=24),1,"") | BD4: =IF(AND($AE5=0,$AE4=25),1,"") | BE4: =IF(AND($AE5=0,$AE4=26),1,"") | BF4: =IF(AND($AE5=0,$AE4=27),1,"") | BG4: =IF(AND($AE5=0,$AE4=28),1,"") | BH4: =IF(AND($AE5=0,$AE4=29),1,"") | BI4: =IF(AND($AE5=0,$AE4=30),1,"") | BJ4: =IF(AND($AE5=0,$AE4>30),1,"")
B5: 22 | C5: =IF(B5="","",VLOOKUP(B5,Tabelle2!$A$2:$B$38,2,0)) -> 0-5-10-24-26-32 | D5: =IF(B5="","",IF(B4=1,COUNTIF($X$1:$AC$1,B5),IF(B4=2,COUNTIF($X$2:$AC$2,B5),IF(B4=3,COUNTIF($X$3:$AC$3,B5),IF(B4=4,COUNTIF($X$4:$AC$4,B5),IF(B4=5,COUNTIF($X$5:$AC$5,B5),IF(B4=6,COUNTIF($X$6:$AC$6,B5),IF(B4=7,COUNTIF($X$7:$AC$7,B5),IF(B4=8,COUNTIF($X$8:$AC$8,B5),IF(B4=9,COUNTIF($X$9:$AC$9,B5),IF(B4=10,COUNTIF($X$10:$AC$10,B5),IF(B4=11,COUNTIF($X$11:$AC$11,B5),IF(B4=12,COUNTIF($X$12:$AC$12,B5),IF(B4=13,COUNTIF($X$13:$AC$13,B5),IF(B4=14,COUNTIF($X$14:$AC$14,B5),IF(B4=15,COUNTIF($X$15:$AC$15,B5),IF(B4=16,COUNTIF($X$16:$AC$16,B5),IF(B4=17,COUNTIF($X$17:$AC$17,B5),IF(B4=18,COUNTIF($X$18:$AC$18,B5),IF(B4=19,COUNTIF($X$19:$AC$19,B5),IF(B4=20,COUNTIF($X$20:$AC$20,B5),IF(B4=21,COUNTIF($X$21:$AC$21,B5),IF(B4=22,COUNTIF($X$22:$AC$22,B5),IF(B4=23,COUNTIF($X$23:$AC$23,B5),IF(B4=24,COUNTIF($X$24:$AC$24,B5),IF(B4=25,COUNTIF($X$25:$AC$25,B5),IF(B4=26,COUNTIF($X$26:$AC$26,B5),IF(B4=27,COUNTIF($X$27:$AC$27,B5),IF(B4=28,COUNTIF($X$28:$AC$28,B5),IF(B4=29,COUNTIF($X$29:$AC$29,B5),IF(B4=30,COUNTIF($X$30:$AC$30,B5),IF(B4=31,COUNTIF($X$31:$AC$31,B5),IF(B4=32,COUNTIF($X$32:$AC$32,B5),IF(B4=33,COUNTIF($X$33:$AC$33,B5),IF(B4=34,COUNTIF($X$34:$AC$34,B5),IF(B4=35,COUNTIF($X$35:$AC$35,B5),IF(B4=36,COUNTIF($X$36:$AC$36,B5),IF(B4=0,COUNTIF($X$37:$AC$37,B5),"")))))))))))))))))))))))))))))))))))))) -> 0 | E5: =IF(B5="","",IF(D5=1,"W",IF(D5=0,"L",""))) -> L | F5: =IF(B5="","",IF(AE4<$J$15,"Bet","No Bet")) -> Bet | G5: =IF(B5="","",IF(F5="No Bet",G4,IF(E5="L",-6+G4,IF(E5="W",30+G4)))) -> -18 | L5: 2 | M5: =AG602 -> 6 | W5: 5 | X5: 6 | Y5: 9 | Z5: 18 | AA5: 22 | AB5: 27 | AC5: 34 | AE5: =IF(E5="L",AE4+1,IF(E5="W",0,"")) -> 3 | AF5: =IF(AND($AE6=0,$AE5=1),1,"") | AG5: =IF(AND($AE6=0,$AE5=2),1,"") | AH5: =IF(AND($AE6=0,$AE5=3),1,"") | AI5: =IF(AND($AE6=0,$AE5=4),1,"") | AJ5: =IF(AND($AE6=0,$AE5=5),1,"") | AK5: =IF(AND($AE6=0,$AE5=6),1,"") | AL5: =IF(AND($AE6=0,$AE5=7),1,"") | AM5: =IF(AND($AE6=0,$AE5=8),1,"") | AN5: =IF(AND($AE6=0,$AE5=9),1,"") | AO5: =IF(AND($AE6=0,$AE5=10),1,"") | AP5: =IF(AND($AE6=0,$AE5=11),1,"") | AQ5: =IF(AND($AE6=0,$AE5=12),1,"") | AR5: =IF(AND($AE6=0,$AE5=13),1,"") | AS5: =IF(AND($AE6=0,$AE5=14),1,"") | AT5: =IF(AND($AE6=0,$AE5=15),1,"") | AU5: =IF(AND($AE6=0,$AE5=16),1,"") | AV5: =IF(AND($AE6=0,$AE5=17),1,"") | AW5: =IF(AND($AE6=0,$AE5=18),1,"") | AX5: =IF(AND($AE6=0,$AE5=19),1,"") | AY5: =IF(AND($AE6=0,$AE5=20),1,"") | AZ5: =IF(AND($AE6=0,$AE5=21),1,"") | BA5: =IF(AND($AE6=0,$AE5=22),1,"") | BB5: =IF(AND($AE6=0,$AE5=23),1,"") | BC5: =IF(AND($AE6=0,$AE5=24),1,"") | BD5: =IF(AND($AE6=0,$AE5=25),1,"") | BE5: =IF(AND($AE6=0,$AE5=26),1,"") | BF5: =IF(AND($AE6=0,$AE5=27),1,"") | BG5: =IF(AND($AE6=0,$AE5=28),1,"") | BH5: =IF(AND($AE6=0,$AE5=29),1,"") | BI5: =IF(AND($AE6=0,$AE5=30),1,"") | BJ5: =IF(AND($AE6=0,$AE5>30),1,"")
B6: 16 | C6: =IF(B6="","",VLOOKUP(B6,Tabelle2!$A$2:$B$38,2,0)) -> 7-13-18-27-29-36 | D6: =IF(B6="","",IF(B5=1,COUNTIF($X$1:$AC$1,B6),IF(B5=2,COUNTIF($X$2:$AC$2,B6),IF(B5=3,COUNTIF($X$3:$AC$3,B6),IF(B5=4,COUNTIF($X$4:$AC$4,B6),IF(B5=5,COUNTIF($X$5:$AC$5,B6),IF(B5=6,COUNTIF($X$6:$AC$6,B6),IF(B5=7,COUNTIF($X$7:$AC$7,B6),IF(B5=8,COUNTIF($X$8:$AC$8,B6),IF(B5=9,COUNTIF($X$9:$AC$9,B6),IF(B5=10,COUNTIF($X$10:$AC$10,B6),IF(B5=11,COUNTIF($X$11:$AC$11,B6),IF(B5=12,COUNTIF($X$12:$AC$12,B6),IF(B5=13,COUNTIF($X$13:$AC$13,B6),IF(B5=14,COUNTIF($X$14:$AC$14,B6),IF(B5=15,COUNTIF($X$15:$AC$15,B6),IF(B5=16,COUNTIF($X$16:$AC$16,B6),IF(B5=17,COUNTIF($X$17:$AC$17,B6),IF(B5=18,COUNTIF($X$18:$AC$18,B6),IF(B5=19,COUNTIF($X$19:$AC$19,B6),IF(B5=20,COUNTIF($X$20:$AC$20,B6),IF(B5=21,COUNTIF($X$21:$AC$21,B6),IF(B5=22,COUNTIF($X$22:$AC$22,B6),IF(B5=23,COUNTIF($X$23:$AC$23,B6),IF(B5=24,COUNTIF($X$24:$AC$24,B6),IF(B5=25,COUNTIF($X$25:$AC$25,B6),IF(B5=26,COUNTIF($X$26:$AC$26,B6),IF(B5=27,COUNTIF($X$27:$AC$27,B6),IF(B5=28,COUNTIF($X$28:$AC$28,B6),IF(B5=29,COUNTIF($X$29:$AC$29,B6),IF(B5=30,COUNTIF($X$30:$AC$30,B6),IF(B5=31,COUNTIF($X$31:$AC$31,B6),IF(B5=32,COUNTIF($X$32:$AC$32,B6),IF(B5=33,COUNTIF($X$33:$AC$33,B6),IF(B5=34,COUNTIF($X$34:$AC$34,B6),IF(B5=35,COUNTIF($X$35:$AC$35,B6),IF(B5=36,COUNTIF($X$36:$AC$36,B6),IF(B5=0,COUNTIF($X$37:$AC$37,B6),"")))))))))))))))))))))))))))))))))))))) -> 0 | E6: =IF(B6="","",IF(D6=1,"W",IF(D6=0,"L",""))) -> L | F6: =IF(B6="","",IF(AE5<$J$15,"Bet","No Bet")) -> Bet | G6: =IF(B6="","",IF(F6="No Bet",G5,IF(E6="L",-6+G5,IF(E6="W",30+G5)))) -> -24 | I6: Max Loosing streak | L6: 3 | M6: =AH602 -> 8 | W6: 6 | X6: 0 | Y6: 5 | Z6: 10 | AA6: 15 | AB6: 24 | AC6: 32 | AE6: =IF(E6="L",AE5+1,IF(E6="W",0,"")) -> 4 | AF6: =IF(AND($AE7=0,$AE6=1),1,"") | AG6: =IF(AND($AE7=0,$AE6=2),1,"") | AH6: =IF(AND($AE7=0,$AE6=3),1,"") | AI6: =IF(AND($AE7=0,$AE6=4),1,"") | AJ6: =IF(AND($AE7=0,$AE6=5),1,"") | AK6: =IF(AND($AE7=0,$AE6=6),1,"") | AL6: =IF(AND($AE7=0,$AE6=7),1,"") | AM6: =IF(AND($AE7=0,$AE6=8),1,"") | AN6: =IF(AND($AE7=0,$AE6=9),1,"") | AO6: =IF(AND($AE7=0,$AE6=10),1,"") | AP6: =IF(AND($AE7=0,$AE6=11),1,"") | AQ6: =IF(AND($AE7=0,$AE6=12),1,"") | AR6: =IF(AND($AE7=0,$AE6=13),1,"") | AS6: =IF(AND($AE7=0,$AE6=14),1,"") | AT6: =IF(AND($AE7=0,$AE6=15),1,"") | AU6: =IF(AND($AE7=0,$AE6=16),1,"") | AV6: =IF(AND($AE7=0,$AE6=17),1,"") | AW6: =IF(AND($AE7=0,$AE6=18),1,"") | AX6: =IF(AND($AE7=0,$AE6=19),1,"") | AY6: =IF(AND($AE7=0,$AE6=20),1,"") | AZ6: =IF(AND($AE7=0,$AE6=21),1,"") | BA6: =IF(AND($AE7=0,$AE6=22),1,"") | BB6: =IF(AND($AE7=0,$AE6=23),1,"") | BC6: =IF(AND($AE7=0,$AE6=24),1,"") | BD6: =IF(AND($AE7=0,$AE6=25),1,"") | BE6: =IF(AND($AE7=0,$AE6=26),1,"") | BF6: =IF(AND($AE7=0,$AE6=27),1,"") | BG6: =IF(AND($AE7=0,$AE6=28),1,"") | BH6: =IF(AND($AE7=0,$AE6=29),1,"") | BI6: =IF(AND($AE7=0,$AE6=30),1,"") | BJ6: =IF(AND($AE7=0,$AE6>30),1,"")
B7: 10 | C7: =IF(B7="","",VLOOKUP(B7,Tabelle2!$A$2:$B$38,2,0)) -> 6-9-17-22-31-34 | D7: =IF(B7="","",IF(B6=1,COUNTIF($X$1:$AC$1,B7),IF(B6=2,COUNTIF($X$2:$AC$2,B7),IF(B6=3,COUNTIF($X$3:$AC$3,B7),IF(B6=4,COUNTIF($X$4:$AC$4,B7),IF(B6=5,COUNTIF($X$5:$AC$5,B7),IF(B6=6,COUNTIF($X$6:$AC$6,B7),IF(B6=7,COUNTIF($X$7:$AC$7,B7),IF(B6=8,COUNTIF($X$8:$AC$8,B7),IF(B6=9,COUNTIF($X$9:$AC$9,B7),IF(B6=10,COUNTIF($X$10:$AC$10,B7),IF(B6=11,COUNTIF($X$11:$AC$11,B7),IF(B6=12,COUNTIF($X$12:$AC$12,B7),IF(B6=13,COUNTIF($X$13:$AC$13,B7),IF(B6=14,COUNTIF($X$14:$AC$14,B7),IF(B6=15,COUNTIF($X$15:$AC$15,B7),IF(B6=16,COUNTIF($X$16:$AC$16,B7),IF(B6=17,COUNTIF($X$17:$AC$17,B7),IF(B6=18,COUNTIF($X$18:$AC$18,B7),IF(B6=19,COUNTIF($X$19:$AC$19,B7),IF(B6=20,COUNTIF($X$20:$AC$20,B7),IF(B6=21,COUNTIF($X$21:$AC$21,B7),IF(B6=22,COUNTIF($X$22:$AC$22,B7),IF(B6=23,COUNTIF($X$23:$AC$23,B7),IF(B6=24,COUNTIF($X$24:$AC$24,B7),IF(B6=25,COUNTIF($X$25:$AC$25,B7),IF(B6=26,COUNTIF($X$26:$AC$26,B7),IF(B6=27,COUNTIF($X$27:$AC$27,B7),IF(B6=28,COUNTIF($X$28:$AC$28,B7),IF(B6=29,COUNTIF($X$29:$AC$29,B7),IF(B6=30,COUNTIF($X$30:$AC$30,B7),IF(B6=31,COUNTIF($X$31:$AC$31,B7),IF(B6=32,COUNTIF($X$32:$AC$32,B7),IF(B6=33,COUNTIF($X$33:$AC$33,B7),IF(B6=34,COUNTIF($X$34:$AC$34,B7),IF(B6=35,COUNTIF($X$35:$AC$35,B7),IF(B6=36,COUNTIF($X$36:$AC$36,B7),IF(B6=0,COUNTIF($X$37:$AC$37,B7),"")))))))))))))))))))))))))))))))))))))) -> 0 | E7: =IF(B7="","",IF(D7=1,"W",IF(D7=0,"L",""))) -> L | F7: =IF(B7="","",IF(AE6<$J$15,"Bet","No Bet")) -> Bet | G7: =IF(B7="","",IF(F7="No Bet",G6,IF(E7="L",-6+G6,IF(E7="W",30+G6)))) -> -30 | I7: =MAX(AE3:AE600) -> 46 | L7: 4 | M7: =AI602 -> 6 | W7: 7 | X7: 1 | Y7: 4 | Z7: 15 | AA7: 16 | AB7: 19 | AC7: 33 | AE7: =IF(E7="L",AE6+1,IF(E7="W",0,"")) -> 5 | AF7: =IF(AND($AE8=0,$AE7=1),1,"") | AG7: =IF(AND($AE8=0,$AE7=2),1,"") | AH7: =IF(AND($AE8=0,$AE7=3),1,"") | AI7: =IF(AND($AE8=0,$AE7=4),1,"") | AJ7: =IF(AND($AE8=0,$AE7=5),1,"") -> 1 | AK7: =IF(AND($AE8=0,$AE7=6),1,"") | AL7: =IF(AND($AE8=0,$AE7=7),1,"") | AM7: =IF(AND($AE8=0,$AE7=8),1,"") | AN7: =IF(AND($AE8=0,$AE7=9),1,"") | AO7: =IF(AND($AE8=0,$AE7=10),1,"") | AP7: =IF(AND($AE8=0,$AE7=11),1,"") | AQ7: =IF(AND($AE8=0,$AE7=12),1,"") | AR7: =IF(AND($AE8=0,$AE7=13),1,"") | AS7: =IF(AND($AE8=0,$AE7=14),1,"") | AT7: =IF(AND($AE8=0,$AE7=15),1,"") | AU7: =IF(AND($AE8=0,$AE7=16),1,"") | AV7: =IF(AND($AE8=0,$AE7=17),1,"") | AW7: =IF(AND($AE8=0,$AE7=18),1,"") | AX7: =IF(AND($AE8=0,$AE7=19),1,"") | AY7: =IF(AND($AE8=0,$AE7=20),1,"") | AZ7: =IF(AND($AE8=0,$AE7=21),1,"") | BA7: =IF(AND($AE8=0,$AE7=22),1,"") | BB7: =IF(AND($AE8=0,$AE7=23),1,"") | BC7: =IF(AND($AE8=0,$AE7=24),1,"") | BD7: =IF(AND($AE8=0,$AE7=25),1,"") | BE7: =IF(AND($AE8=0,$AE7=26),1,"") | BF7: =IF(AND($AE8=0,$AE7=27),1,"") | BG7: =IF(AND($AE8=0,$AE7=28),1,"") | BH7: =IF(AND($AE8=0,$AE7=29),1,"") | BI7: =IF(AND($AE8=0,$AE7=30),1,"") | BJ7: =IF(AND($AE8=0,$AE7>30),1,"")
B8: 9 | C8: =IF(B8="","",VLOOKUP(B8,Tabelle2!$A$2:$B$38,2,0)) -> 0-3-5-10-23-26 | D8: =IF(B8="","",IF(B7=1,COUNTIF($X$1:$AC$1,B8),IF(B7=2,COUNTIF($X$2:$AC$2,B8),IF(B7=3,COUNTIF($X$3:$AC$3,B8),IF(B7=4,COUNTIF($X$4:$AC$4,B8),IF(B7=5,COUNTIF($X$5:$AC$5,B8),IF(B7=6,COUNTIF($X$6:$AC$6,B8),IF(B7=7,COUNTIF($X$7:$AC$7,B8),IF(B7=8,COUNTIF($X$8:$AC$8,B8),IF(B7=9,COUNTIF($X$9:$AC$9,B8),IF(B7=10,COUNTIF($X$10:$AC$10,B8),IF(B7=11,COUNTIF($X$11:$AC$11,B8),IF(B7=12,COUNTIF($X$12:$AC$12,B8),IF(B7=13,COUNTIF($X$13:$AC$13,B8),IF(B7=14,COUNTIF($X$14:$AC$14,B8),IF(B7=15,COUNTIF($X$15:$AC$15,B8),IF(B7=16,COUNTIF($X$16:$AC$16,B8),IF(B7=17,COUNTIF($X$17:$AC$17,B8),IF(B7=18,COUNTIF($X$18:$AC$18,B8),IF(B7=19,COUNTIF($X$19:$AC$19,B8),IF(B7=20,COUNTIF($X$20:$AC$20,B8),IF(B7=21,COUNTIF($X$21:$AC$21,B8),IF(B7=22,COUNTIF($X$22:$AC$22,B8),IF(B7=23,COUNTIF($X$23:$AC$23,B8),IF(B7=24,COUNTIF($X$24:$AC$24,B8),IF(B7=25,COUNTIF($X$25:$AC$25,B8),IF(B7=26,COUNTIF($X$26:$AC$26,B8),IF(B7=27,COUNTIF($X$27:$AC$27,B8),IF(B7=28,COUNTIF($X$28:$AC$28,B8),IF(B7=29,COUNTIF($X$29:$AC$29,B8),IF(B7=30,COUNTIF($X$30:$AC$30,B8),IF(B7=31,COUNTIF($X$31:$AC$31,B8),IF(B7=32,COUNTIF($X$32:$AC$32,B8),IF(B7=33,COUNTIF($X$33:$AC$33,B8),IF(B7=34,COUNTIF($X$34:$AC$34,B8),IF(B7=35,COUNTIF($X$35:$AC$35,B8),IF(B7=36,COUNTIF($X$36:$AC$36,B8),IF(B7=0,COUNTIF($X$37:$AC$37,B8),"")))))))))))))))))))))))))))))))))))))) -> 1 | E8: =IF(B8="","",IF(D8=1,"W",IF(D8=0,"L",""))) -> W | F8: =IF(B8="","",IF(AE7<$J$15,"Bet","No Bet")) -> Bet | G8: =IF(B8="","",IF(F8="No Bet",G7,IF(E8="L",-6+G7,IF(E8="W",30+G7)))) -> 0 | L8: 5 | M8: =AJ602 -> 4 | W8: 8 | X8: 2 | Y8: 14 | Z8: 17 | AA8: 20 | AB8: 25 | AC8: 31 | AE8: =IF(E8="L",AE7+1,IF(E8="W",0,"")) -> 0 | AF8: =IF(AND($AE9=0,$AE8=1),1,"") | AG8: =IF(AND($AE9=0,$AE8=2),1,"") | AH8: =IF(AND($AE9=0,$AE8=3),1,"") | AI8: =IF(AND($AE9=0,$AE8=4),1,"") | AJ8: =IF(AND($AE9=0,$AE8=5),1,"") | AK8: =IF(AND($AE9=0,$AE8=6),1,"") | AL8: =IF(AND($AE9=0,$AE8=7),1,"") | AM8: =IF(AND($AE9=0,$AE8=8),1,"") | AN8: =IF(AND($AE9=0,$AE8=9),1,"") | AO8: =IF(AND($AE9=0,$AE8=10),1,"") | AP8: =IF(AND($AE9=0,$AE8=11),1,"") | AQ8: =IF(AND($AE9=0,$AE8=12),1,"") | AR8: =IF(AND($AE9=0,$AE8=13),1,"") | AS8: =IF(AND($AE9=0,$AE8=14),1,"") | AT8: =IF(AND($AE9=0,$AE8=15),1,"") | AU8: =IF(AND($AE9=0,$AE8=16),1,"") | AV8: =IF(AND($AE9=0,$AE8=17),1,"") | AW8: =IF(AND($AE9=0,$AE8=18),1,"") | AX8: =IF(AND($AE9=0,$AE8=19),1,"") | AY8: =IF(AND($AE9=0,$AE8=20),1,"") | AZ8: =IF(AND($AE9=0,$AE8=21),1,"") | BA8: =IF(AND($AE9=0,$AE8=22),1,"") | BB8: =IF(AND($AE9=0,$AE8=23),1,"") | BC8: =IF(AND($AE9=0,$AE8=24),1,"") | BD8: =IF(AND($AE9=0,$AE8=25),1,"") | BE8: =IF(AND($AE9=0,$AE8=26),1,"") | BF8: =IF(AND($AE9=0,$AE8=27),1,"") | BG8: =IF(AND($AE9=0,$AE8=28),1,"") | BH8: =IF(AND($AE9=0,$AE8=29),1,"") | BI8: =IF(AND($AE9=0,$AE8=30),1,"") | BJ8: =IF(AND($AE9=0,$AE8>30),1,"")
B9: 2 | C9: =IF(B9="","",VLOOKUP(B9,Tabelle2!$A$2:$B$38,2,0)) -> 3-8-11-12-30-35 | D9: =IF(B9="","",IF(B8=1,COUNTIF($X$1:$AC$1,B9),IF(B8=2,COUNTIF($X$2:$AC$2,B9),IF(B8=3,COUNTIF($X$3:$AC$3,B9),IF(B8=4,COUNTIF($X$4:$AC$4,B9),IF(B8=5,COUNTIF($X$5:$AC$5,B9),IF(B8=6,COUNTIF($X$6:$AC$6,B9),IF(B8=7,COUNTIF($X$7:$AC$7,B9),IF(B8=8,COUNTIF($X$8:$AC$8,B9),IF(B8=9,COUNTIF($X$9:$AC$9,B9),IF(B8=10,COUNTIF($X$10:$AC$10,B9),IF(B8=11,COUNTIF($X$11:$AC$11,B9),IF(B8=12,COUNTIF($X$12:$AC$12,B9),IF(B8=13,COUNTIF($X$13:$AC$13,B9),IF(B8=14,COUNTIF($X$14:$AC$14,B9),IF(B8=15,COUNTIF($X$15:$AC$15,B9),IF(B8=16,COUNTIF($X$16:$AC$16,B9),IF(B8=17,COUNTIF($X$17:$AC$17,B9),IF(B8=18,COUNTIF($X$18:$AC$18,B9),IF(B8=19,COUNTIF($X$19:$AC$19,B9),IF(B8=20,COUNTIF($X$20:$AC$20,B9),IF(B8=21,COUNTIF($X$21:$AC$21,B9),IF(B8=22,COUNTIF($X$22:$AC$22,B9),IF(B8=23,COUNTIF($X$23:$AC$23,B9),IF(B8=24,COUNTIF($X$24:$AC$24,B9),IF(B8=25,COUNTIF($X$25:$AC$25,B9),IF(B8=26,COUNTIF($X$26:$AC$26,B9),IF(B8=27,COUNTIF($X$27:$AC$27,B9),IF(B8=28,COUNTIF($X$28:$AC$28,B9),IF(B8=29,COUNTIF($X$29:$AC$29,B9),IF(B8=30,COUNTIF($X$30:$AC$30,B9),IF(B8=31,COUNTIF($X$31:$AC$31,B9),IF(B8=32,COUNTIF($X$32:$AC$32,B9),IF(B8=33,COUNTIF($X$33:$AC$33,B9),IF(B8=34,COUNTIF($X$34:$AC$34,B9),IF(B8=35,COUNTIF($X$35:$AC$35,B9),IF(B8=36,COUNTIF($X$36:$AC$36,B9),IF(B8=0,COUNTIF($X$37:$AC$37,B9),"")))))))))))))))))))))))))))))))))))))) -> 0 | E9: =IF(B9="","",IF(D9=1,"W",IF(D9=0,"L",""))) -> L | F9: =IF(B9="","",IF(AE8<$J$15,"Bet","No Bet")) -> Bet | G9: =IF(B9="","",IF(F9="No Bet",G8,IF(E9="L",-6+G8,IF(E9="W",30+G8)))) -> -6 | I9: Enter when to stop betting. Start betting after a virtual win !! All flat betting !! | L9: 6 | M9: =AK602 -> 7 | W9: 9 | X9: 0 | Y9: 3 | Z9: 5 | AA9: 10 | AB9: 23 | AC9: 26 | AE9: =IF(E9="L",AE8+1,IF(E9="W",0,"")) -> 1 | AF9: =IF(AND($AE10=0,$AE9=1),1,"") -> 1 | AG9: =IF(AND($AE10=0,$AE9=2),1,"") | AH9: =IF(AND($AE10=0,$AE9=3),1,"") | AI9: =IF(AND($AE10=0,$AE9=4),1,"") | AJ9: =IF(AND($AE10=0,$AE9=5),1,"") | AK9: =IF(AND($AE10=0,$AE9=6),1,"") | AL9: =IF(AND($AE10=0,$AE9=7),1,"") | AM9: =IF(AND($AE10=0,$AE9=8),1,"") | AN9: =IF(AND($AE10=0,$AE9=9),1,"") | AO9: =IF(AND($AE10=0,$AE9=10),1,"") | AP9: =IF(AND($AE10=0,$AE9=11),1,"") | AQ9: =IF(AND($AE10=0,$AE9=12),1,"") | AR9: =IF(AND($AE10=0,$AE9=13),1,"") | AS9: =IF(AND($AE10=0,$AE9=14),1,"") | AT9: =IF(AND($AE10=0,$AE9=15),1,"") | AU9: =IF(AND($AE10=0,$AE9=16),1,"") | AV9: =IF(AND($AE10=0,$AE9=17),1,"") | AW9: =IF(AND($AE10=0,$AE9=18),1,"") | AX9: =IF(AND($AE10=0,$AE9=19),1,"") | AY9: =IF(AND($AE10=0,$AE9=20),1,"") | AZ9: =IF(AND($AE10=0,$AE9=21),1,"") | BA9: =IF(AND($AE10=0,$AE9=22),1,"") | BB9: =IF(AND($AE10=0,$AE9=23),1,"") | BC9: =IF(AND($AE10=0,$AE9=24),1,"") | BD9: =IF(AND($AE10=0,$AE9=25),1,"") | BE9: =IF(AND($AE10=0,$AE9=26),1,"") | BF9: =IF(AND($AE10=0,$AE9=27),1,"") | BG9: =IF(AND($AE10=0,$AE9=28),1,"") | BH9: =IF(AND($AE10=0,$AE9=29),1,"") | BI9: =IF(AND($AE10=0,$AE9=30),1,"") | BJ9: =IF(AND($AE10=0,$AE9>30),1,"")
B10: 12 | C10: =IF(B10="","",VLOOKUP(B10,Tabelle2!$A$2:$B$38,2,0)) -> 1-2-4-14-20-21 | D10: =IF(B10="","",IF(B9=1,COUNTIF($X$1:$AC$1,B10),IF(B9=2,COUNTIF($X$2:$AC$2,B10),IF(B9=3,COUNTIF($X$3:$AC$3,B10),IF(B9=4,COUNTIF($X$4:$AC$4,B10),IF(B9=5,COUNTIF($X$5:$AC$5,B10),IF(B9=6,COUNTIF($X$6:$AC$6,B10),IF(B9=7,COUNTIF($X$7:$AC$7,B10),IF(B9=8,COUNTIF($X$8:$AC$8,B10),IF(B9=9,COUNTIF($X$9:$AC$9,B10),IF(B9=10,COUNTIF($X$10:$AC$10,B10),IF(B9=11,COUNTIF($X$11:$AC$11,B10),IF(B9=12,COUNTIF($X$12:$AC$12,B10),IF(B9=13,COUNTIF($X$13:$AC$13,B10),IF(B9=14,COUNTIF($X$14:$AC$14,B10),IF(B9=15,COUNTIF($X$15:$AC$15,B10),IF(B9=16,COUNTIF($X$16:$AC$16,B10),IF(B9=17,COUNTIF($X$17:$AC$17,B10),IF(B9=18,COUNTIF($X$18:$AC$18,B10),IF(B9=19,COUNTIF($X$19:$AC$19,B10),IF(B9=20,COUNTIF($X$20:$AC$20,B10),IF(B9=21,COUNTIF($X$21:$AC$21,B10),IF(B9=22,COUNTIF($X$22:$AC$22,B10),IF(B9=23,COUNTIF($X$23:$AC$23,B10),IF(B9=24,COUNTIF($X$24:$AC$24,B10),IF(B9=25,COUNTIF($X$25:$AC$25,B10),IF(B9=26,COUNTIF($X$26:$AC$26,B10),IF(B9=27,COUNTIF($X$27:$AC$27,B10),IF(B9=28,COUNTIF($X$28:$AC$28,B10),IF(B9=29,COUNTIF($X$29:$AC$29,B10),IF(B9=30,COUNTIF($X$30:$AC$30,B10),IF(B9=31,COUNTIF($X$31:$AC$31,B10),IF(B9=32,COUNTIF($X$32:$AC$32,B10),IF(B9=33,COUNTIF($X$33:$AC$33,B10),IF(B9=34,COUNTIF($X$34:$AC$34,B10),IF(B9=35,COUNTIF($X$35:$AC$35,B10),IF(B9=36,COUNTIF($X$36:$AC$36,B10),IF(B9=0,COUNTIF($X$37:$AC$37,B10),"")))))))))))))))))))))))))))))))))))))) -> 1 | E10: =IF(B10="","",IF(D10=1,"W",IF(D10=0,"L",""))) -> W | F10: =IF(B10="","",IF(AE9<$J$15,"Bet","No Bet")) -> Bet | G10: =IF(B10="","",IF(F10="No Bet",G9,IF(E10="L",-6+G9,IF(E10="W",30+G9)))) -> 24 | L10: 7 | M10: =AL602 -> 4 | W10: 10 | X10: 6 | Y10: 9 | Z10: 17 | AA10: 22 | AB10: 31 | AC10: 34 | AE10: =IF(E10="L",AE9+1,IF(E10="W",0,"")) -> 0 | AF10: =IF(AND($AE11=0,$AE10=1),1,"") | AG10: =IF(AND($AE11=0,$AE10=2),1,"") | AH10: =IF(AND($AE11=0,$AE10=3),1,"") | AI10: =IF(AND($AE11=0,$AE10=4),1,"") | AJ10: =IF(AND($AE11=0,$AE10=5),1,"") | AK10: =IF(AND($AE11=0,$AE10=6),1,"") | AL10: =IF(AND($AE11=0,$AE10=7),1,"") | AM10: =IF(AND($AE11=0,$AE10=8),1,"") | AN10: =IF(AND($AE11=0,$AE10=9),1,"") | AO10: =IF(AND($AE11=0,$AE10=10),1,"") | AP10: =IF(AND($AE11=0,$AE10=11),1,"") | AQ10: =IF(AND($AE11=0,$AE10=12),1,"") | AR10: =IF(AND($AE11=0,$AE10=13),1,"") | AS10: =IF(AND($AE11=0,$AE10=14),1,"") | AT10: =IF(AND($AE11=0,$AE10=15),1,"") | AU10: =IF(AND($AE11=0,$AE10=16),1,"") | AV10: =IF(AND($AE11=0,$AE10=17),1,"") | AW10: =IF(AND($AE11=0,$AE10=18),1,"") | AX10: =IF(AND($AE11=0,$AE10=19),1,"") | AY10: =IF(AND($AE11=0,$AE10=20),1,"") | AZ10: =IF(AND($AE11=0,$AE10=21),1,"") | BA10: =IF(AND($AE11=0,$AE10=22),1,"") | BB10: =IF(AND($AE11=0,$AE10=23),1,"") | BC10: =IF(AND($AE11=0,$AE10=24),1,"") | BD10: =IF(AND($AE11=0,$AE10=25),1,"") | BE10: =IF(AND($AE11=0,$AE10=26),1,"") | BF10: =IF(AND($AE11=0,$AE10=27),1,"") | BG10: =IF(AND($AE11=0,$AE10=28),1,"") | BH10: =IF(AND($AE11=0,$AE10=29),1,"") | BI10: =IF(AND($AE11=0,$AE10=30),1,"") | BJ10: =IF(AND($AE11=0,$AE10>30),1,"")
B11: 12 | C11: =IF(B11="","",VLOOKUP(B11,Tabelle2!$A$2:$B$38,2,0)) -> 1-2-4-14-20-21 | D11: =IF(B11="","",IF(B10=1,COUNTIF($X$1:$AC$1,B11),IF(B10=2,COUNTIF($X$2:$AC$2,B11),IF(B10=3,COUNTIF($X$3:$AC$3,B11),IF(B10=4,COUNTIF($X$4:$AC$4,B11),IF(B10=5,COUNTIF($X$5:$AC$5,B11),IF(B10=6,COUNTIF($X$6:$AC$6,B11),IF(B10=7,COUNTIF($X$7:$AC$7,B11),IF(B10=8,COUNTIF($X$8:$AC$8,B11),IF(B10=9,COUNTIF($X$9:$AC$9,B11),IF(B10=10,COUNTIF($X$10:$AC$10,B11),IF(B10=11,COUNTIF($X$11:$AC$11,B11),IF(B10=12,COUNTIF($X$12:$AC$12,B11),IF(B10=13,COUNTIF($X$13:$AC$13,B11),IF(B10=14,COUNTIF($X$14:$AC$14,B11),IF(B10=15,COUNTIF($X$15:$AC$15,B11),IF(B10=16,COUNTIF($X$16:$AC$16,B11),IF(B10=17,COUNTIF($X$17:$AC$17,B11),IF(B10=18,COUNTIF($X$18:$AC$18,B11),IF(B10=19,COUNTIF($X$19:$AC$19,B11),IF(B10=20,COUNTIF($X$20:$AC$20,B11),IF(B10=21,COUNTIF($X$21:$AC$21,B11),IF(B10=22,COUNTIF($X$22:$AC$22,B11),IF(B10=23,COUNTIF($X$23:$AC$23,B11),IF(B10=24,COUNTIF($X$24:$AC$24,B11),IF(B10=25,COUNTIF($X$25:$AC$25,B11),IF(B10=26,COUNTIF($X$26:$AC$26,B11),IF(B10=27,COUNTIF($X$27:$AC$27,B11),IF(B10=28,COUNTIF($X$28:$AC$28,B11),IF(B10=29,COUNTIF($X$29:$AC$29,B11),IF(B10=30,COUNTIF($X$30:$AC$30,B11),IF(B10=31,COUNTIF($X$31:$AC$31,B11),IF(B10=32,COUNTIF($X$32:$AC$32,B11),IF(B10=33,COUNTIF($X$33:$AC$33,B11),IF(B10=34,COUNTIF($X$34:$AC$34,B11),IF(B10=35,COUNTIF($X$35:$AC$35,B11),IF(B10=36,COUNTIF($X$36:$AC$36,B11),IF(B10=0,COUNTIF($X$37:$AC$37,B11),"")))))))))))))))))))))))))))))))))))))) -> 0 | E11: =IF(B11="","",IF(D11=1,"W",IF(D11=0,"L",""))) -> L | F11: =IF(B11="","",IF(AE10<$J$15,"Bet","No Bet")) -> Bet | G11: =IF(B11="","",IF(F11="No Bet",G10,IF(E11="L",-6+G10,IF(E11="W",30+G10)))) -> 18 | L11: 8 | M11: =AM602 -> 5 | W11: 11 | X11: 1 | Y11: 2 | Z11: 4 | AA11: 20 | AB11: 21 | AC11: 33 | AE11: =IF(E11="L",AE10+1,IF(E11="W",0,"")) -> 1 | AF11: =IF(AND($AE12=0,$AE11=1),1,"") | AG11: =IF(AND($AE12=0,$AE11=2),1,"") | AH11: =IF(AND($AE12=0,$AE11=3),1,"") | AI11: =IF(AND($AE12=0,$AE11=4),1,"") | AJ11: =IF(AND($AE12=0,$AE11=5),1,"") | AK11: =IF(AND($AE12=0,$AE11=6),1,"") | AL11: =IF(AND($AE12=0,$AE11=7),1,"") | AM11: =IF(AND($AE12=0,$AE11=8),1,"") | AN11: =IF(AND($AE12=0,$AE11=9),1,"") | AO11: =IF(AND($AE12=0,$AE11=10),1,"") | AP11: =IF(AND($AE12=0,$AE11=11),1,"") | AQ11: =IF(AND($AE12=0,$AE11=12),1,"") | AR11: =IF(AND($AE12=0,$AE11=13),1,"") | AS11: =IF(AND($AE12=0,$AE11=14),1,"") | AT11: =IF(AND($AE12=0,$AE11=15),1,"") | AU11: =IF(AND($AE12=0,$AE11=16),1,"") | AV11: =IF(AND($AE12=0,$AE11=17),1,"") | AW11: =IF(AND($AE12=0,$AE11=18),1,"") | AX11: =IF(AND($AE12=0,$AE11=19),1,"") | AY11: =IF(AND($AE12=0,$AE11=20),1,"") | AZ11: =IF(AND($AE12=0,$AE11=21),1,"") | BA11: =IF(AND($AE12=0,$AE11=22),1,"") | BB11: =IF(AND($AE12=0,$AE11=23),1,"") | BC11: =IF(AND($AE12=0,$AE11=24),1,"") | BD11: =IF(AND($AE12=0,$AE11=25),1,"") | BE11: =IF(AND($AE12=0,$AE11=26),1,"") | BF11: =IF(AND($AE12=0,$AE11=27),1,"") | BG11: =IF(AND($AE12=0,$AE11=28),1,"") | BH11: =IF(AND($AE12=0,$AE11=29),1,"") | BI11: =IF(AND($AE12=0,$AE11=30),1,"") | BJ11: =IF(AND($AE12=0,$AE11>30),1,"")
B12: 32 | C12: =IF(B12="","",VLOOKUP(B12,Tabelle2!$A$2:$B$38,2,0)) -> 6-18-22-27-29-34 | D12: =IF(B12="","",IF(B11=1,COUNTIF($X$1:$AC$1,B12),IF(B11=2,COUNTIF($X$2:$AC$2,B12),IF(B11=3,COUNTIF($X$3:$AC$3,B12),IF(B11=4,COUNTIF($X$4:$AC$4,B12),IF(B11=5,COUNTIF($X$5:$AC$5,B12),IF(B11=6,COUNTIF($X$6:$AC$6,B12),IF(B11=7,COUNTIF($X$7:$AC$7,B12),IF(B11=8,COUNTIF($X$8:$AC$8,B12),IF(B11=9,COUNTIF($X$9:$AC$9,B12),IF(B11=10,COUNTIF($X$10:$AC$10,B12),IF(B11=11,COUNTIF($X$11:$AC$11,B12),IF(B11=12,COUNTIF($X$12:$AC$12,B12),IF(B11=13,COUNTIF($X$13:$AC$13,B12),IF(B11=14,COUNTIF($X$14:$AC$14,B12),IF(B11=15,COUNTIF($X$15:$AC$15,B12),IF(B11=16,COUNTIF($X$16:$AC$16,B12),IF(B11=17,COUNTIF($X$17:$AC$17,B12),IF(B11=18,COUNTIF($X$18:$AC$18,B12),IF(B11=19,COUNTIF($X$19:$AC$19,B12),IF(B11=20,COUNTIF($X$20:$AC$20,B12),IF(B11=21,COUNTIF($X$21:$AC$21,B12),IF(B11=22,COUNTIF($X$22:$AC$22,B12),IF(B11=23,COUNTIF($X$23:$AC$23,B12),IF(B11=24,COUNTIF($X$24:$AC$24,B12),IF(B11=25,COUNTIF($X$25:$AC$25,B12),IF(B11=26,COUNTIF($X$26:$AC$26,B12),IF(B11=27,COUNTIF($X$27:$AC$27,B12),IF(B11=28,COUNTIF($X$28:$AC$28,B12),IF(B11=29,COUNTIF($X$29:$AC$29,B12),IF(B11=30,COUNTIF($X$30:$AC$30,B12),IF(B11=31,COUNTIF($X$31:$AC$31,B12),IF(B11=32,COUNTIF($X$32:$AC$32,B12),IF(B11=33,COUNTIF($X$33:$AC$33,B12),IF(B11=34,COUNTIF($X$34:$AC$34,B12),IF(B11=35,COUNTIF($X$35:$AC$35,B12),IF(B11=36,COUNTIF($X$36:$AC$36,B12),IF(B11=0,COUNTIF($X$37:$AC$37,B12),"")))))))))))))))))))))))))))))))))))))) -> 0 | E12: =IF(B12="","",IF(D12=1,"W",IF(D12=0,"L",""))) -> L | F12: =IF(B12="","",IF(AE11<$J$15,"Bet","No Bet")) -> Bet | G12: =IF(B12="","",IF(F12="No Bet",G11,IF(E12="L",-6+G11,IF(E12="W",30+G11)))) -> 12 | L12: 9 | M12: =AN602 -> 3 | W12: 12 | X12: 1 | Y12: 2 | Z12: 4 | AA12: 14 | AB12: 20 | AC12: 21 | AE12: =IF(E12="L",AE11+1,IF(E12="W",0,"")) -> 2 | AF12: =IF(AND($AE13=0,$AE12=1),1,"") | AG12: =IF(AND($AE13=0,$AE12=2),1,"") | AH12: =IF(AND($AE13=0,$AE12=3),1,"") | AI12: =IF(AND($AE13=0,$AE12=4),1,"") | AJ12: =IF(AND($AE13=0,$AE12=5),1,"") | AK12: =IF(AND($AE13=0,$AE12=6),1,"") | AL12: =IF(AND($AE13=0,$AE12=7),1,"") | AM12: =IF(AND($AE13=0,$AE12=8),1,"") | AN12: =IF(AND($AE13=0,$AE12=9),1,"") | AO12: =IF(AND($AE13=0,$AE12=10),1,"") | AP12: =IF(AND($AE13=0,$AE12=11),1,"") | AQ12: =IF(AND($AE13=0,$AE12=12),1,"") | AR12: =IF(AND($AE13=0,$AE12=13),1,"") | AS12: =IF(AND($AE13=0,$AE12=14),1,"") | AT12: =IF(AND($AE13=0,$AE12=15),1,"") | AU12: =IF(AND($AE13=0,$AE12=16),1,"") | AV12: =IF(AND($AE13=0,$AE12=17),1,"") | AW12: =IF(AND($AE13=0,$AE12=18),1,"") | AX12: =IF(AND($AE13=0,$AE12=19),1,"") | AY12: =IF(AND($AE13=0,$AE12=20),1,"") | AZ12: =IF(AND($AE13=0,$AE12=21),1,"") | BA12: =IF(AND($AE13=0,$AE12=22),1,"") | BB12: =IF(AND($AE13=0,$AE12=23),1,"") | BC12: =IF(AND($AE13=0,$AE12=24),1,"") | BD12: =IF(AND($AE13=0,$AE12=25),1,"") | BE12: =IF(AND($AE13=0,$AE12=26),1,"") | BF12: =IF(AND($AE13=0,$AE12=27),1,"") | BG12: =IF(AND($AE13=0,$AE12=28),1,"") | BH12: =IF(AND($AE13=0,$AE12=29),1,"") | BI12: =IF(AND($AE13=0,$AE12=30),1,"") | BJ12: =IF(AND($AE13=0,$AE12>30),1,"")
B13: 33 | C13: =IF(B13="","",VLOOKUP(B13,Tabelle2!$A$2:$B$38,2,0)) -> 7-11-13-28-29-36 | D13: =IF(B13="","",IF(B12=1,COUNTIF($X$1:$AC$1,B13),IF(B12=2,COUNTIF($X$2:$AC$2,B13),IF(B12=3,COUNTIF($X$3:$AC$3,B13),IF(B12=4,COUNTIF($X$4:$AC$4,B13),IF(B12=5,COUNTIF($X$5:$AC$5,B13),IF(B12=6,COUNTIF($X$6:$AC$6,B13),IF(B12=7,COUNTIF($X$7:$AC$7,B13),IF(B12=8,COUNTIF($X$8:$AC$8,B13),IF(B12=9,COUNTIF($X$9:$AC$9,B13),IF(B12=10,COUNTIF($X$10:$AC$10,B13),IF(B12=11,COUNTIF($X$11:$AC$11,B13),IF(B12=12,COUNTIF($X$12:$AC$12,B13),IF(B12=13,COUNTIF($X$13:$AC$13,B13),IF(B12=14,COUNTIF($X$14:$AC$14,B13),IF(B12=15,COUNTIF($X$15:$AC$15,B13),IF(B12=16,COUNTIF($X$16:$AC$16,B13),IF(B12=17,COUNTIF($X$17:$AC$17,B13),IF(B12=18,COUNTIF($X$18:$AC$18,B13),IF(B12=19,COUNTIF($X$19:$AC$19,B13),IF(B12=20,COUNTIF($X$20:$AC$20,B13),IF(B12=21,COUNTIF($X$21:$AC$21,B13),IF(B12=22,COUNTIF($X$22:$AC$22,B13),IF(B12=23,COUNTIF($X$23:$AC$23,B13),IF(B12=24,COUNTIF($X$24:$AC$24,B13),IF(B12=25,COUNTIF($X$25:$AC$25,B13),IF(B12=26,COUNTIF($X$26:$AC$26,B13),IF(B12=27,COUNTIF($X$27:$AC$27,B13),IF(B12=28,COUNTIF($X$28:$AC$28,B13),IF(B12=29,COUNTIF($X$29:$AC$29,B13),IF(B12=30,COUNTIF($X$30:$AC$30,B13),IF(B12=31,COUNTIF($X$31:$AC$31,B13),IF(B12=32,COUNTIF($X$32:$AC$32,B13),IF(B12=33,COUNTIF($X$33:$AC$33,B13),IF(B12=34,COUNTIF($X$34:$AC$34,B13),IF(B12=35,COUNTIF($X$35:$AC$35,B13),IF(B12=36,COUNTIF($X$36:$AC$36,B13),IF(B12=0,COUNTIF($X$37:$AC$37,B13),"")))))))))))))))))))))))))))))))))))))) -> 0 | E13: =IF(B13="","",IF(D13=1,"W",IF(D13=0,"L",""))) -> L | F13: =IF(B13="","",IF(AE12<$J$15,"Bet","No Bet")) -> Bet | G13: =IF(B13="","",IF(F13="No Bet",G12,IF(E13="L",-6+G12,IF(E13="W",30+G12)))) -> 6 | L13: 10 | M13: =AO602 -> 1 | W13: 13 | X13: 4 | Y13: 15 | Z13: 16 | AA13: 19 | AB13: 24 | AC13: 33 | AE13: =IF(E13="L",AE12+1,IF(E13="W",0,"")) -> 3 | AF13: =IF(AND($AE14=0,$AE13=1),1,"") | AG13: =IF(AND($AE14=0,$AE13=2),1,"") | AH13: =IF(AND($AE14=0,$AE13=3),1,"") | AI13: =IF(AND($AE14=0,$AE13=4),1,"") | AJ13: =IF(AND($AE14=0,$AE13=5),1,"") | AK13: =IF(AND($AE14=0,$AE13=6),1,"") | AL13: =IF(AND($AE14=0,$AE13=7),1,"") | AM13: =IF(AND($AE14=0,$AE13=8),1,"") | AN13: =IF(AND($AE14=0,$AE13=9),1,"") | AO13: =IF(AND($AE14=0,$AE13=10),1,"") | AP13: =IF(AND($AE14=0,$AE13=11),1,"") | AQ13: =IF(AND($AE14=0,$AE13=12),1,"") | AR13: =IF(AND($AE14=0,$AE13=13),1,"") | AS13: =IF(AND($AE14=0,$AE13=14),1,"") | AT13: =IF(AND($AE14=0,$AE13=15),1,"") | AU13: =IF(AND($AE14=0,$AE13=16),1,"") | AV13: =IF(AND($AE14=0,$AE13=17),1,"") | AW13: =IF(AND($AE14=0,$AE13=18),1,"") | AX13: =IF(AND($AE14=0,$AE13=19),1,"") | AY13: =IF(AND($AE14=0,$AE13=20),1,"") | AZ13: =IF(AND($AE14=0,$AE13=21),1,"") | BA13: =IF(AND($AE14=0,$AE13=22),1,"") | BB13: =IF(AND($AE14=0,$AE13=23),1,"") | BC13: =IF(AND($AE14=0,$AE13=24),1,"") | BD13: =IF(AND($AE14=0,$AE13=25),1,"") | BE13: =IF(AND($AE14=0,$AE13=26),1,"") | BF13: =IF(AND($AE14=0,$AE13=27),1,"") | BG13: =IF(AND($AE14=0,$AE13=28),1,"") | BH13: =IF(AND($AE14=0,$AE13=29),1,"") | BI13: =IF(AND($AE14=0,$AE13=30),1,"") | BJ13: =IF(AND($AE14=0,$AE13>30),1,"")
B14: 5 | C14: =IF(B14="","",VLOOKUP(B14,Tabelle2!$A$2:$B$38,2,0)) -> 6-9-18-22-27-34 | D14: =IF(B14="","",IF(B13=1,COUNTIF($X$1:$AC$1,B14),IF(B13=2,COUNTIF($X$2:$AC$2,B14),IF(B13=3,COUNTIF($X$3:$AC$3,B14),IF(B13=4,COUNTIF($X$4:$AC$4,B14),IF(B13=5,COUNTIF($X$5:$AC$5,B14),IF(B13=6,COUNTIF($X$6:$AC$6,B14),IF(B13=7,COUNTIF($X$7:$AC$7,B14),IF(B13=8,COUNTIF($X$8:$AC$8,B14),IF(B13=9,COUNTIF($X$9:$AC$9,B14),IF(B13=10,COUNTIF($X$10:$AC$10,B14),IF(B13=11,COUNTIF($X$11:$AC$11,B14),IF(B13=12,COUNTIF($X$12:$AC$12,B14),IF(B13=13,COUNTIF($X$13:$AC$13,B14),IF(B13=14,COUNTIF($X$14:$AC$14,B14),IF(B13=15,COUNTIF($X$15:$AC$15,B14),IF(B13=16,COUNTIF($X$16:$AC$16,B14),IF(B13=17,COUNTIF($X$17:$AC$17,B14),IF(B13=18,COUNTIF($X$18:$AC$18,B14),IF(B13=19,COUNTIF($X$19:$AC$19,B14),IF(B13=20,COUNTIF($X$20:$AC$20,B14),IF(B13=21,COUNTIF($X$21:$AC$21,B14),IF(B13=22,COUNTIF($X$22:$AC$22,B14),IF(B13=23,COUNTIF($X$23:$AC$23,B14),IF(B13=24,COUNTIF($X$24:$AC$24,B14),IF(B13=25,COUNTIF($X$25:$AC$25,B14),IF(B13=26,COUNTIF($X$26:$AC$26,B14),IF(B13=27,COUNTIF($X$27:$AC$27,B14),IF(B13=28,COUNTIF($X$28:$AC$28,B14),IF(B13=29,COUNTIF($X$29:$AC$29,B14),IF(B13=30,COUNTIF($X$30:$AC$30,B14),IF(B13=31,COUNTIF($X$31:$AC$31,B14),IF(B13=32,COUNTIF($X$32:$AC$32,B14),IF(B13=33,COUNTIF($X$33:$AC$33,B14),IF(B13=34,COUNTIF($X$34:$AC$34,B14),IF(B13=35,COUNTIF($X$35:$AC$35,B14),IF(B13=36,COUNTIF($X$36:$AC$36,B14),IF(B13=0,COUNTIF($X$37:$AC$37,B14),"")))))))))))))))))))))))))))))))))))))) -> 0 | E14: =IF(B14="","",IF(D14=1,"W",IF(D14=0,"L",""))) -> L | F14: =IF(B14="","",IF(AE13<$J$15,"Bet","No Bet")) -> Bet | G14: =IF(B14="","",IF(F14="No Bet",G13,IF(E14="L",-6+G13,IF(E14="W",30+G13)))) -> 0 | L14: 11 | M14: =AP602 -> 1 | W14: 14 | X14: 3 | Y14: 8 | Z14: 12 | AA14: 23 | AB14: 30 | AC14: 35 | AE14: =IF(E14="L",AE13+1,IF(E14="W",0,"")) -> 4 | AF14: =IF(AND($AE15=0,$AE14=1),1,"") | AG14: =IF(AND($AE15=0,$AE14=2),1,"") | AH14: =IF(AND($AE15=0,$AE14=3),1,"") | AI14: =IF(AND($AE15=0,$AE14=4),1,"") | AJ14: =IF(AND($AE15=0,$AE14=5),1,"") | AK14: =IF(AND($AE15=0,$AE14=6),1,"") | AL14: =IF(AND($AE15=0,$AE14=7),1,"") | AM14: =IF(AND($AE15=0,$AE14=8),1,"") | AN14: =IF(AND($AE15=0,$AE14=9),1,"") | AO14: =IF(AND($AE15=0,$AE14=10),1,"") | AP14: =IF(AND($AE15=0,$AE14=11),1,"") | AQ14: =IF(AND($AE15=0,$AE14=12),1,"") | AR14: =IF(AND($AE15=0,$AE14=13),1,"") | AS14: =IF(AND($AE15=0,$AE14=14),1,"") | AT14: =IF(AND($AE15=0,$AE14=15),1,"") | AU14: =IF(AND($AE15=0,$AE14=16),1,"") | AV14: =IF(AND($AE15=0,$AE14=17),1,"") | AW14: =IF(AND($AE15=0,$AE14=18),1,"") | AX14: =IF(AND($AE15=0,$AE14=19),1,"") | AY14: =IF(AND($AE15=0,$AE14=20),1,"") | AZ14: =IF(AND($AE15=0,$AE14=21),1,"") | BA14: =IF(AND($AE15=0,$AE14=22),1,"") | BB14: =IF(AND($AE15=0,$AE14=23),1,"") | BC14: =IF(AND($AE15=0,$AE14=24),1,"") | BD14: =IF(AND($AE15=0,$AE14=25),1,"") | BE14: =IF(AND($AE15=0,$AE14=26),1,"") | BF14: =IF(AND($AE15=0,$AE14=27),1,"") | BG14: =IF(AND($AE15=0,$AE14=28),1,"") | BH14: =IF(AND($AE15=0,$AE14=29),1,"") | BI14: =IF(AND($AE15=0,$AE14=30),1,"") | BJ14: =IF(AE14="","",IF(AND($AE15=0,$AE14>30),1,""))
B15: 19 | C15: =IF(B15="","",VLOOKUP(B15,Tabelle2!$A$2:$B$38,2,0)) -> 7-13-27-28-29-36 | D15: =IF(B15="","",IF(B14=1,COUNTIF($X$1:$AC$1,B15),IF(B14=2,COUNTIF($X$2:$AC$2,B15),IF(B14=3,COUNTIF($X$3:$AC$3,B15),IF(B14=4,COUNTIF($X$4:$AC$4,B15),IF(B14=5,COUNTIF($X$5:$AC$5,B15),IF(B14=6,COUNTIF($X$6:$AC$6,B15),IF(B14=7,COUNTIF($X$7:$AC$7,B15),IF(B14=8,COUNTIF($X$8:$AC$8,B15),IF(B14=9,COUNTIF($X$9:$AC$9,B15),IF(B14=10,COUNTIF($X$10:$AC$10,B15),IF(B14=11,COUNTIF($X$11:$AC$11,B15),IF(B14=12,COUNTIF($X$12:$AC$12,B15),IF(B14=13,COUNTIF($X$13:$AC$13,B15),IF(B14=14,COUNTIF($X$14:$AC$14,B15),IF(B14=15,COUNTIF($X$15:$AC$15,B15),IF(B14=16,COUNTIF($X$16:$AC$16,B15),IF(B14=17,COUNTIF($X$17:$AC$17,B15),IF(B14=18,COUNTIF($X$18:$AC$18,B15),IF(B14=19,COUNTIF($X$19:$AC$19,B15),IF(B14=20,COUNTIF($X$20:$AC$20,B15),IF(B14=21,COUNTIF($X$21:$AC$21,B15),IF(B14=22,COUNTIF($X$22:$AC$22,B15),IF(B14=23,COUNTIF($X$23:$AC$23,B15),IF(B14=24,COUNTIF($X$24:$AC$24,B15),IF(B14=25,COUNTIF($X$25:$AC$25,B15),IF(B14=26,COUNTIF($X$26:$AC$26,B15),IF(B14=27,COUNTIF($X$27:$AC$27,B15),IF(B14=28,COUNTIF($X$28:$AC$28,B15),IF(B14=29,COUNTIF($X$29:$AC$29,B15),IF(B14=30,COUNTIF($X$30:$AC$30,B15),IF(B14=31,COUNTIF($X$31:$AC$31,B15),IF(B14=32,COUNTIF($X$32:$AC$32,B15),IF(B14=33,COUNTIF($X$33:$AC$33,B15),IF(B14=34,COUNTIF($X$34:$AC$34,B15),IF(B14=35,COUNTIF($X$35:$AC$35,B15),IF(B14=36,COUNTIF($X$36:$AC$36,B15),IF(B14=0,COUNTIF($X$37:$AC$37,B15),"")))))))))))))))))))))))))))))))))))))) -> 0 | E15: =IF(B15="","",IF(D15=1,"W",IF(D15=0,"L",""))) -> L | F15: =IF(B15="","",IF(AE14<$J$15,"Bet","No Bet")) -> Bet | G15: =IF(B15="","",IF(F15="No Bet",G14,IF(E15="L",-6+G14,IF(E15="W",30+G14)))) -> -6 | I15: Stop Bet | J15: 30 | L15: 12 | M15: =AQ602 -> 2 | W15: 15 | X15: 6 | Y15: 7 | Z15: 12 | AA15: 18 | AB15: 27 | AC15: 29 | AE15: =IF(E15="L",AE14+1,IF(E15="W",0,"")) -> 5 | AF15: =IF(AND($AE16=0,$AE15=1),1,"") | AG15: =IF(AND($AE16=0,$AE15=2),1,"") | AH15: =IF(AND($AE16=0,$AE15=3),1,"") | AI15: =IF(AND($AE16=0,$AE15=4),1,"") | AJ15: =IF(AND($AE16=0,$AE15=5),1,"") -> 1 | AK15: =IF(AND($AE16=0,$AE15=6),1,"") | AL15: =IF(AND($AE16=0,$AE15=7),1,"") | AM15: =IF(AND($AE16=0,$AE15=8),1,"") | AN15: =IF(AND($AE16=0,$AE15=9),1,"") | AO15: =IF(AND($AE16=0,$AE15=10),1,"") | AP15: =IF(AND($AE16=0,$AE15=11),1,"") | AQ15: =IF(AND($AE16=0,$AE15=12),1,"") | AR15: =IF(AND($AE16=0,$AE15=13),1,"") | AS15: =IF(AND($AE16=0,$AE15=14),1,"") | AT15: =IF(AND($AE16=0,$AE15=15),1,"") | AU15: =IF(AND($AE16=0,$AE15=16),1,"") | AV15: =IF(AND($AE16=0,$AE15=17),1,"") | AW15: =IF(AND($AE16=0,$AE15=18),1,"") | AX15: =IF(AND($AE16=0,$AE15=19),1,"") | AY15: =IF(AND($AE16=0,$AE15=20),1,"") | AZ15: =IF(AND($AE16=0,$AE15=21),1,"") | BA15: =IF(AND($AE16=0,$AE15=22),1,"") | BB15: =IF(AND($AE16=0,$AE15=23),1,"") | BC15: =IF(AND($AE16=0,$AE15=24),1,"") | BD15: =IF(AND($AE16=0,$AE15=25),1,"") | BE15: =IF(AND($AE16=0,$AE15=26),1,"") | BF15: =IF(AND($AE16=0,$AE15=27),1,"") | BG15: =IF(AND($AE16=0,$AE15=28),1,"") | BH15: =IF(AND($AE16=0,$AE15=29),1,"") | BI15: =IF(AND($AE16=0,$AE15=30),1,"") | BJ15: =IF(AE15="","",IF(AND($AE16=0,$AE15>30),1,""))
B16: 27 | C16: =IF(B16="","",VLOOKUP(B16,Tabelle2!$A$2:$B$38,2,0)) -> 5-15-16-19-24-32 | D16: =IF(B16="","",IF(B15=1,COUNTIF($X$1:$AC$1,B16),IF(B15=2,COUNTIF($X$2:$AC$2,B16),IF(B15=3,COUNTIF($X$3:$AC$3,B16),IF(B15=4,COUNTIF($X$4:$AC$4,B16),IF(B15=5,COUNTIF($X$5:$AC$5,B16),IF(B15=6,COUNTIF($X$6:$AC$6,B16),IF(B15=7,COUNTIF($X$7:$AC$7,B16),IF(B15=8,COUNTIF($X$8:$AC$8,B16),IF(B15=9,COUNTIF($X$9:$AC$9,B16),IF(B15=10,COUNTIF($X$10:$AC$10,B16),IF(B15=11,COUNTIF($X$11:$AC$11,B16),IF(B15=12,COUNTIF($X$12:$AC$12,B16),IF(B15=13,COUNTIF($X$13:$AC$13,B16),IF(B15=14,COUNTIF($X$14:$AC$14,B16),IF(B15=15,COUNTIF($X$15:$AC$15,B16),IF(B15=16,COUNTIF($X$16:$AC$16,B16),IF(B15=17,COUNTIF($X$17:$AC$17,B16),IF(B15=18,COUNTIF($X$18:$AC$18,B16),IF(B15=19,COUNTIF($X$19:$AC$19,B16),IF(B15=20,COUNTIF($X$20:$AC$20,B16),IF(B15=21,COUNTIF($X$21:$AC$21,B16),IF(B15=22,COUNTIF($X$22:$AC$22,B16),IF(B15=23,COUNTIF($X$23:$AC$23,B16),IF(B15=24,COUNTIF($X$24:$AC$24,B16),IF(B15=25,COUNTIF($X$25:$AC$25,B16),IF(B15=26,COUNTIF($X$26:$AC$26,B16),IF(B15=27,COUNTIF($X$27:$AC$27,B16),IF(B15=28,COUNTIF($X$28:$AC$28,B16),IF(B15=29,COUNTIF($X$29:$AC$29,B16),IF(B15=30,COUNTIF($X$30:$AC$30,B16),IF(B15=31,COUNTIF($X$31:$AC$31,B16),IF(B15=32,COUNTIF($X$32:$AC$32,B16),IF(B15=33,COUNTIF($X$33:$AC$33,B16),IF(B15=34,COUNTIF($X$34:$AC$34,B16),IF(B15=35,COUNTIF($X$35:$AC$35,B16),IF(B15=36,COUNTIF($X$36:$AC$36,B16),IF(B15=0,COUNTIF($X$37:$AC$37,B16),"")))))))))))))))))))))))))))))))))))))) -> 1 | E16: =IF(B16="","",IF(D16=1,"W",IF(D16=0,"L",""))) -> W | F16: =IF(B16="","",IF(AE15<$J$15,"Bet","No Bet")) -> Bet | G16: =IF(B16="","",IF(F16="No Bet",G15,IF(E16="L",-6+G15,IF(E16="W",30+G15)))) -> 24 | I16: Max | J16: =MAX(G2:G600) -> 30 | L16: 13 | M16: =AR602 -> 3 | W16: 16 | X16: 7 | Y16: 13 | Z16: 18 | AA16: 27 | AB16: 29 | AC16: 36 | AE16: =IF(E16="L",AE15+1,IF(E16="W",0,"")) -> 0 | AF16: =IF(AND($AE17=0,$AE16=1),1,"") | AG16: =IF(AND($AE17=0,$AE16=2),1,"") | AH16: =IF(AND($AE17=0,$AE16=3),1,"") | AI16: =IF(AND($AE17=0,$AE16=4),1,"") | AJ16: =IF(AND($AE17=0,$AE16=5),1,"") | AK16: =IF(AND($AE17=0,$AE16=6),1,"") | AL16: =IF(AND($AE17=0,$AE16=7),1,"") | AM16: =IF(AND($AE17=0,$AE16=8),1,"") | AN16: =IF(AND($AE17=0,$AE16=9),1,"") | AO16: =IF(AND($AE17=0,$AE16=10),1,"") | AP16: =IF(AND($AE17=0,$AE16=11),1,"") | AQ16: =IF(AND($AE17=0,$AE16=12),1,"") | AR16: =IF(AND($AE17=0,$AE16=13),1,"") | AS16: =IF(AND($AE17=0,$AE16=14),1,"") | AT16: =IF(AND($AE17=0,$AE16=15),1,"") | AU16: =IF(AND($AE17=0,$AE16=16),1,"") | AV16: =IF(AND($AE17=0,$AE16=17),1,"") | AW16: =IF(AND($AE17=0,$AE16=18),1,"") | AX16: =IF(AND($AE17=0,$AE16=19),1,"") | AY16: =IF(AND($AE17=0,$AE16=20),1,"") | AZ16: =IF(AND($AE17=0,$AE16=21),1,"") | BA16: =IF(AND($AE17=0,$AE16=22),1,"") | BB16: =IF(AND($AE17=0,$AE16=23),1,"") | BC16: =IF(AND($AE17=0,$AE16=24),1,"") | BD16: =IF(AND($AE17=0,$AE16=25),1,"") | BE16: =IF(AND($AE17=0,$AE16=26),1,"") | BF16: =IF(AND($AE17=0,$AE16=27),1,"") | BG16: =IF(AND($AE17=0,$AE16=28),1,"") | BH16: =IF(AND($AE17=0,$AE16=29),1,"") | BI16: =IF(AND($AE17=0,$AE16=30),1,"") | BJ16: =IF(AE16="","",IF(AND($AE17=0,$AE16>30),1,""))
B17: 27 | C17: =IF(B17="","",VLOOKUP(B17,Tabelle2!$A$2:$B$38,2,0)) -> 5-15-16-19-24-32 | D17: =IF(B17="","",IF(B16=1,COUNTIF($X$1:$AC$1,B17),IF(B16=2,COUNTIF($X$2:$AC$2,B17),IF(B16=3,COUNTIF($X$3:$AC$3,B17),IF(B16=4,COUNTIF($X$4:$AC$4,B17),IF(B16=5,COUNTIF($X$5:$AC$5,B17),IF(B16=6,COUNTIF($X$6:$AC$6,B17),IF(B16=7,COUNTIF($X$7:$AC$7,B17),IF(B16=8,COUNTIF($X$8:$AC$8,B17),IF(B16=9,COUNTIF($X$9:$AC$9,B17),IF(B16=10,COUNTIF($X$10:$AC$10,B17),IF(B16=11,COUNTIF($X$11:$AC$11,B17),IF(B16=12,COUNTIF($X$12:$AC$12,B17),IF(B16=13,COUNTIF($X$13:$AC$13,B17),IF(B16=14,COUNTIF($X$14:$AC$14,B17),IF(B16=15,COUNTIF($X$15:$AC$15,B17),IF(B16=16,COUNTIF($X$16:$AC$16,B17),IF(B16=17,COUNTIF($X$17:$AC$17,B17),IF(B16=18,COUNTIF($X$18:$AC$18,B17),IF(B16=19,COUNTIF($X$19:$AC$19,B17),IF(B16=20,COUNTIF($X$20:$AC$20,B17),IF(B16=21,COUNTIF($X$21:$AC$21,B17),IF(B16=22,COUNTIF($X$22:$AC$22,B17),IF(B16=23,COUNTIF($X$23:$AC$23,B17),IF(B16=24,COUNTIF($X$24:$AC$24,B17),IF(B16=25,COUNTIF($X$25:$AC$25,B17),IF(B16=26,COUNTIF($X$26:$AC$26,B17),IF(B16=27,COUNTIF($X$27:$AC$27,B17),IF(B16=28,COUNTIF($X$28:$AC$28,B17),IF(B16=29,COUNTIF($X$29:$AC$29,B17),IF(B16=30,COUNTIF($X$30:$AC$30,B17),IF(B16=31,COUNTIF($X$31:$AC$31,B17),IF(B16=32,COUNTIF($X$32:$AC$32,B17),IF(B16=33,COUNTIF($X$33:$AC$33,B17),IF(B16=34,COUNTIF($X$34:$AC$34,B17),IF(B16=35,COUNTIF($X$35:$AC$35,B17),IF(B16=36,COUNTIF($X$36:$AC$36,B17),IF(B16=0,COUNTIF($X$37:$AC$37,B17),"")))))))))))))))))))))))))))))))))))))) -> 0 | E17: =IF(B17="","",IF(D17=1,"W",IF(D17=0,"L",""))) -> L | F17: =IF(B17="","",IF(AE16<$J$15,"Bet","No Bet")) -> Bet | G17: =IF(B17="","",IF(F17="No Bet",G16,IF(E17="L",-6+G16,IF(E17="W",30+G16)))) -> 18 | I17: Min | J17: =MIN(G2:G600) -> -828 | L17: 14 | M17: =AS602 -> 2 | W17: 17 | X17: 0 | Y17: 3 | Z17: 8 | AA17: 10 | AB17: 23 | AC17: 26 | AE17: =IF(E17="L",AE16+1,IF(E17="W",0,"")) -> 1 | AF17: =IF(AND($AE18=0,$AE17=1),1,"") | AG17: =IF(AND($AE18=0,$AE17=2),1,"") | AH17: =IF(AND($AE18=0,$AE17=3),1,"") | AI17: =IF(AND($AE18=0,$AE17=4),1,"") | AJ17: =IF(AND($AE18=0,$AE17=5),1,"") | AK17: =IF(AND($AE18=0,$AE17=6),1,"") | AL17: =IF(AND($AE18=0,$AE17=7),1,"") | AM17: =IF(AND($AE18=0,$AE17=8),1,"") | AN17: =IF(AND($AE18=0,$AE17=9),1,"") | AO17: =IF(AND($AE18=0,$AE17=10),1,"") | AP17: =IF(AND($AE18=0,$AE17=11),1,"") | AQ17: =IF(AND($AE18=0,$AE17=12),1,"") | AR17: =IF(AND($AE18=0,$AE17=13),1,"") | AS17: =IF(AND($AE18=0,$AE17=14),1,"") | AT17: =IF(AND($AE18=0,$AE17=15),1,"") | AU17: =IF(AND($AE18=0,$AE17=16),1,"") | AV17: =IF(AND($AE18=0,$AE17=17),1,"") | AW17: =IF(AND($AE18=0,$AE17=18),1,"") | AX17: =IF(AND($AE18=0,$AE17=19),1,"") | AY17: =IF(AND($AE18=0,$AE17=20),1,"") | AZ17: =IF(AND($AE18=0,$AE17=21),1,"") | BA17: =IF(AND($AE18=0,$AE17=22),1,"") | BB17: =IF(AND($AE18=0,$AE17=23),1,"") | BC17: =IF(AND($AE18=0,$AE17=24),1,"") | BD17: =IF(AND($AE18=0,$AE17=25),1,"") | BE17: =IF(AND($AE18=0,$AE17=26),1,"") | BF17: =IF(AND($AE18=0,$AE17=27),1,"") | BG17: =IF(AND($AE18=0,$AE17=28),1,"") | BH17: =IF(AND($AE18=0,$AE17=29),1,"") | BI17: =IF(AND($AE18=0,$AE17=30),1,"") | BJ17: =IF(AE17="","",IF(AND($AE18=0,$AE17>30),1,""))
B18: 22 | C18: =IF(B18="","",VLOOKUP(B18,Tabelle2!$A$2:$B$38,2,0)) -> 0-5-10-24-26-32 | D18: =IF(B18="","",IF(B17=1,COUNTIF($X$1:$AC$1,B18),IF(B17=2,COUNTIF($X$2:$AC$2,B18),IF(B17=3,COUNTIF($X$3:$AC$3,B18),IF(B17=4,COUNTIF($X$4:$AC$4,B18),IF(B17=5,COUNTIF($X$5:$AC$5,B18),IF(B17=6,COUNTIF($X$6:$AC$6,B18),IF(B17=7,COUNTIF($X$7:$AC$7,B18),IF(B17=8,COUNTIF($X$8:$AC$8,B18),IF(B17=9,COUNTIF($X$9:$AC$9,B18),IF(B17=10,COUNTIF($X$10:$AC$10,B18),IF(B17=11,COUNTIF($X$11:$AC$11,B18),IF(B17=12,COUNTIF($X$12:$AC$12,B18),IF(B17=13,COUNTIF($X$13:$AC$13,B18),IF(B17=14,COUNTIF($X$14:$AC$14,B18),IF(B17=15,COUNTIF($X$15:$AC$15,B18),IF(B17=16,COUNTIF($X$16:$AC$16,B18),IF(B17=17,COUNTIF($X$17:$AC$17,B18),IF(B17=18,COUNTIF($X$18:$AC$18,B18),IF(B17=19,COUNTIF($X$19:$AC$19,B18),IF(B17=20,COUNTIF($X$20:$AC$20,B18),IF(B17=21,COUNTIF($X$21:$AC$21,B18),IF(B17=22,COUNTIF($X$22:$AC$22,B18),IF(B17=23,COUNTIF($X$23:$AC$23,B18),IF(B17=24,COUNTIF($X$24:$AC$24,B18),IF(B17=25,COUNTIF($X$25:$AC$25,B18),IF(B17=26,COUNTIF($X$26:$AC$26,B18),IF(B17=27,COUNTIF($X$27:$AC$27,B18),IF(B17=28,COUNTIF($X$28:$AC$28,B18),IF(B17=29,COUNTIF($X$29:$AC$29,B18),IF(B17=30,COUNTIF($X$30:$AC$30,B18),IF(B17=31,COUNTIF($X$31:$AC$31,B18),IF(B17=32,COUNTIF($X$32:$AC$32,B18),IF(B17=33,COUNTIF($X$33:$AC$33,B18),IF(B17=34,COUNTIF($X$34:$AC$34,B18),IF(B17=35,COUNTIF($X$35:$AC$35,B18),IF(B17=36,COUNTIF($X$36:$AC$36,B18),IF(B17=0,COUNTIF($X$37:$AC$37,B18),"")))))))))))))))))))))))))))))))))))))) -> 0 | E18: =IF(B18="","",IF(D18=1,"W",IF(D18=0,"L",""))) -> L | F18: =IF(B18="","",IF(AE17<$J$15,"Bet","No Bet")) -> Bet | G18: =IF(B18="","",IF(F18="No Bet",G17,IF(E18="L",-6+G17,IF(E18="W",30+G17)))) -> 12 | L18: 15 | M18: =AT602 -> 3 | W18: 18 | X18: 0 | Y18: 5 | Z18: 15 | AA18: 16 | AB18: 24 | AC18: 32 | AE18: =IF(E18="L",AE17+1,IF(E18="W",0,"")) -> 2 | AF18: =IF(AND($AE19=0,$AE18=1),1,"") | AG18: =IF(AND($AE19=0,$AE18=2),1,"") | AH18: =IF(AND($AE19=0,$AE18=3),1,"") | AI18: =IF(AND($AE19=0,$AE18=4),1,"") | AJ18: =IF(AND($AE19=0,$AE18=5),1,"") | AK18: =IF(AND($AE19=0,$AE18=6),1,"") | AL18: =IF(AND($AE19=0,$AE18=7),1,"") | AM18: =IF(AND($AE19=0,$AE18=8),1,"") | AN18: =IF(AND($AE19=0,$AE18=9),1,"") | AO18: =IF(AND($AE19=0,$AE18=10),1,"") | AP18: =IF(AND($AE19=0,$AE18=11),1,"") | AQ18: =IF(AND($AE19=0,$AE18=12),1,"") | AR18: =IF(AND($AE19=0,$AE18=13),1,"") | AS18: =IF(AND($AE19=0,$AE18=14),1,"") | AT18: =IF(AND($AE19=0,$AE18=15),1,"") | AU18: =IF(AND($AE19=0,$AE18=16),1,"") | AV18: =IF(AND($AE19=0,$AE18=17),1,"") | AW18: =IF(AND($AE19=0,$AE18=18),1,"") | AX18: =IF(AND($AE19=0,$AE18=19),1,"") | AY18: =IF(AND($AE19=0,$AE18=20),1,"") | AZ18: =IF(AND($AE19=0,$AE18=21),1,"") | BA18: =IF(AND($AE19=0,$AE18=22),1,"") | BB18: =IF(AND($AE19=0,$AE18=23),1,"") | BC18: =IF(AND($AE19=0,$AE18=24),1,"") | BD18: =IF(AND($AE19=0,$AE18=25),1,"") | BE18: =IF(AND($AE19=0,$AE18=26),1,"") | BF18: =IF(AND($AE19=0,$AE18=27),1,"") | BG18: =IF(AND($AE19=0,$AE18=28),1,"") | BH18: =IF(AND($AE19=0,$AE18=29),1,"") | BI18: =IF(AND($AE19=0,$AE18=30),1,"") | BJ18: =IF(AE18="","",IF(AND($AE19=0,$AE18>30),1,""))
B19: 20 | C19: =IF(B19="","",VLOOKUP(B19,Tabelle2!$A$2:$B$38,2,0)) -> 8-11-12-28-30-36 | D19: =IF(B19="","",IF(B18=1,COUNTIF($X$1:$AC$1,B19),IF(B18=2,COUNTIF($X$2:$AC$2,B19),IF(B18=3,COUNTIF($X$3:$AC$3,B19),IF(B18=4,COUNTIF($X$4:$AC$4,B19),IF(B18=5,COUNTIF($X$5:$AC$5,B19),IF(B18=6,COUNTIF($X$6:$AC$6,B19),IF(B18=7,COUNTIF($X$7:$AC$7,B19),IF(B18=8,COUNTIF($X$8:$AC$8,B19),IF(B18=9,COUNTIF($X$9:$AC$9,B19),IF(B18=10,COUNTIF($X$10:$AC$10,B19),IF(B18=11,COUNTIF($X$11:$AC$11,B19),IF(B18=12,COUNTIF($X$12:$AC$12,B19),IF(B18=13,COUNTIF($X$13:$AC$13,B19),IF(B18=14,COUNTIF($X$14:$AC$14,B19),IF(B18=15,COUNTIF($X$15:$AC$15,B19),IF(B18=16,COUNTIF($X$16:$AC$16,B19),IF(B18=17,COUNTIF($X$17:$AC$17,B19),IF(B18=18,COUNTIF($X$18:$AC$18,B19),IF(B18=19,COUNTIF($X$19:$AC$19,B19),IF(B18=20,COUNTIF($X$20:$AC$20,B19),IF(B18=21,COUNTIF($X$21:$AC$21,B19),IF(B18=22,COUNTIF($X$22:$AC$22,B19),IF(B18=23,COUNTIF($X$23:$AC$23,B19),IF(B18=24,COUNTIF($X$24:$AC$24,B19),IF(B18=25,COUNTIF($X$25:$AC$25,B19),IF(B18=26,COUNTIF($X$26:$AC$26,B19),IF(B18=27,COUNTIF($X$27:$AC$27,B19),IF(B18=28,COUNTIF($X$28:$AC$28,B19),IF(B18=29,COUNTIF($X$29:$AC$29,B19),IF(B18=30,COUNTIF($X$30:$AC$30,B19),IF(B18=31,COUNTIF($X$31:$AC$31,B19),IF(B18=32,COUNTIF($X$32:$AC$32,B19),IF(B18=33,COUNTIF($X$33:$AC$33,B19),IF(B18=34,COUNTIF($X$34:$AC$34,B19),IF(B18=35,COUNTIF($X$35:$AC$35,B19),IF(B18=36,COUNTIF($X$36:$AC$36,B19),IF(B18=0,COUNTIF($X$37:$AC$37,B19),"")))))))))))))))))))))))))))))))))))))) -> 0 | E19: =IF(B19="","",IF(D19=1,"W",IF(D19=0,"L",""))) -> L | F19: =IF(B19="","",IF(AE18<$J$15,"Bet","No Bet")) -> Bet | G19: =IF(B19="","",IF(F19="No Bet",G18,IF(E19="L",-6+G18,IF(E19="W",30+G18)))) -> 6 | L19: 16 | M19: =AU602 -> 1 | W19: 19 | X19: 7 | Y19: 13 | Z19: 27 | AA19: 28 | AB19: 29 | AC19: 36 | AE19: =IF(E19="L",AE18+1,IF(E19="W",0,"")) -> 3 | AF19: =IF(AND($AE20=0,$AE19=1),1,"") | AG19: =IF(AND($AE20=0,$AE19=2),1,"") | AH19: =IF(AND($AE20=0,$AE19=3),1,"") | AI19: =IF(AND($AE20=0,$AE19=4),1,"") | AJ19: =IF(AND($AE20=0,$AE19=5),1,"") | AK19: =IF(AND($AE20=0,$AE19=6),1,"") | AL19: =IF(AND($AE20=0,$AE19=7),1,"") | AM19: =IF(AND($AE20=0,$AE19=8),1,"") | AN19: =IF(AND($AE20=0,$AE19=9),1,"") | AO19: =IF(AND($AE20=0,$AE19=10),1,"") | AP19: =IF(AND($AE20=0,$AE19=11),1,"") | AQ19: =IF(AND($AE20=0,$AE19=12),1,"") | AR19: =IF(AND($AE20=0,$AE19=13),1,"") | AS19: =IF(AND($AE20=0,$AE19=14),1,"") | AT19: =IF(AND($AE20=0,$AE19=15),1,"") | AU19: =IF(AND($AE20=0,$AE19=16),1,"") | AV19: =IF(AND($AE20=0,$AE19=17),1,"") | AW19: =IF(AND($AE20=0,$AE19=18),1,"") | AX19: =IF(AND($AE20=0,$AE19=19),1,"") | AY19: =IF(AND($AE20=0,$AE19=20),1,"") | AZ19: =IF(AND($AE20=0,$AE19=21),1,"") | BA19: =IF(AND($AE20=0,$AE19=22),1,"") | BB19: =IF(AND($AE20=0,$AE19=23),1,"") | BC19: =IF(AND($AE20=0,$AE19=24),1,"") | BD19: =IF(AND($AE20=0,$AE19=25),1,"") | BE19: =IF(AND($AE20=0,$AE19=26),1,"") | BF19: =IF(AND($AE20=0,$AE19=27),1,"") | BG19: =IF(AND($AE20=0,$AE19=28),1,"") | BH19: =IF(AND($AE20=0,$AE19=29),1,"") | BI19: =IF(AND($AE20=0,$AE19=30),1,"") | BJ19: =IF(AE19="","",IF(AND($AE20=0,$AE19>30),1,""))
B20: 21 | C20: =IF(B20="","",VLOOKUP(B20,Tabelle2!$A$2:$B$38,2,0)) -> 11-12-28-30-35-36 | D20: =IF(B20="","",IF(B19=1,COUNTIF($X$1:$AC$1,B20),IF(B19=2,COUNTIF($X$2:$AC$2,B20),IF(B19=3,COUNTIF($X$3:$AC$3,B20),IF(B19=4,COUNTIF($X$4:$AC$4,B20),IF(B19=5,COUNTIF($X$5:$AC$5,B20),IF(B19=6,COUNTIF($X$6:$AC$6,B20),IF(B19=7,COUNTIF($X$7:$AC$7,B20),IF(B19=8,COUNTIF($X$8:$AC$8,B20),IF(B19=9,COUNTIF($X$9:$AC$9,B20),IF(B19=10,COUNTIF($X$10:$AC$10,B20),IF(B19=11,COUNTIF($X$11:$AC$11,B20),IF(B19=12,COUNTIF($X$12:$AC$12,B20),IF(B19=13,COUNTIF($X$13:$AC$13,B20),IF(B19=14,COUNTIF($X$14:$AC$14,B20),IF(B19=15,COUNTIF($X$15:$AC$15,B20),IF(B19=16,COUNTIF($X$16:$AC$16,B20),IF(B19=17,COUNTIF($X$17:$AC$17,B20),IF(B19=18,COUNTIF($X$18:$AC$18,B20),IF(B19=19,COUNTIF($X$19:$AC$19,B20),IF(B19=20,COUNTIF($X$20:$AC$20,B20),IF(B19=21,COUNTIF($X$21:$AC$21,B20),IF(B19=22,COUNTIF($X$22:$AC$22,B20),IF(B19=23,COUNTIF($X$23:$AC$23,B20),IF(B19=24,COUNTIF($X$24:$AC$24,B20),IF(B19=25,COUNTIF($X$25:$AC$25,B20),IF(B19=26,COUNTIF($X$26:$AC$26,B20),IF(B19=27,COUNTIF($X$27:$AC$27,B20),IF(B19=28,COUNTIF($X$28:$AC$28,B20),IF(B19=29,COUNTIF($X$29:$AC$29,B20),IF(B19=30,COUNTIF($X$30:$AC$30,B20),IF(B19=31,COUNTIF($X$31:$AC$31,B20),IF(B19=32,COUNTIF($X$32:$AC$32,B20),IF(B19=33,COUNTIF($X$33:$AC$33,B20),IF(B19=34,COUNTIF($X$34:$AC$34,B20),IF(B19=35,COUNTIF($X$35:$AC$35,B20),IF(B19=36,COUNTIF($X$36:$AC$36,B20),IF(B19=0,COUNTIF($X$37:$AC$37,B20),"")))))))))))))))))))))))))))))))))))))) -> 0 | E20: =IF(B20="","",IF(D20=1,"W",IF(D20=0,"L",""))) -> L | F20: =IF(B20="","",IF(AE19<$J$15,"Bet","No Bet")) -> Bet | G20: =IF(B20="","",IF(F20="No Bet",G19,IF(E20="L",-6+G19,IF(E20="W",30+G19)))) -> 0 | L20: 17 | M20: =AV602 -> 0 | W20: 20 | X20: 8 | Y20: 11 | Z20: 12 | AA20: 28 | AB20: 30 | AC20: 35 | AE20: =IF(E20="L",AE19+1,IF(E20="W",0,"")) -> 4 | AF20: =IF(AND($AE21=0,$AE20=1),1,"") | AG20: =IF(AND($AE21=0,$AE20=2),1,"") | AH20: =IF(AND($AE21=0,$AE20=3),1,"") | AI20: =IF(AND($AE21=0,$AE20=4),1,"") -> 1 | AJ20: =IF(AND($AE21=0,$AE20=5),1,"") | AK20: =IF(AND($AE21=0,$AE20=6),1,"") | AL20: =IF(AND($AE21=0,$AE20=7),1,"") | AM20: =IF(AND($AE21=0,$AE20=8),1,"") | AN20: =IF(AND($AE21=0,$AE20=9),1,"") | AO20: =IF(AND($AE21=0,$AE20=10),1,"") | AP20: =IF(AND($AE21=0,$AE20=11),1,"") | AQ20: =IF(AND($AE21=0,$AE20=12),1,"") | AR20: =IF(AND($AE21=0,$AE20=13),1,"") | AS20: =IF(AND($AE21=0,$AE20=14),1,"") | AT20: =IF(AND($AE21=0,$AE20=15),1,"") | AU20: =IF(AND($AE21=0,$AE20=16),1,"") | AV20: =IF(AND($AE21=0,$AE20=17),1,"") | AW20: =IF(AND($AE21=0,$AE20=18),1,"") | AX20: =IF(AND($AE21=0,$AE20=19),1,"") | AY20: =IF(AND($AE21=0,$AE20=20),1,"") | AZ20: =IF(AND($AE21=0,$AE20=21),1,"") | BA20: =IF(AND($AE21=0,$AE20=22),1,"") | BB20: =IF(AND($AE21=0,$AE20=23),1,"") | BC20: =IF(AND($AE21=0,$AE20=24),1,"") | BD20: =IF(AND($AE21=0,$AE20=25),1,"") | BE20: =IF(AND($AE21=0,$AE20=26),1,"") | BF20: =IF(AND($AE21=0,$AE20=27),1,"") | BG20: =IF(AND($AE21=0,$AE20=28),1,"") | BH20: =IF(AND($AE21=0,$AE20=29),1,"") | BI20: =IF(AND($AE21=0,$AE20=30),1,"") | BJ20: =IF(AE20="","",IF(AND($AE21=0,$AE20>30),1,""))
B21: 28 | C21: =IF(B21="","",VLOOKUP(B21,Tabelle2!$A$2:$B$38,2,0)) -> 1-4-19-20-21-33 | D21: =IF(B21="","",IF(B20=1,COUNTIF($X$1:$AC$1,B21),IF(B20=2,COUNTIF($X$2:$AC$2,B21),IF(B20=3,COUNTIF($X$3:$AC$3,B21),IF(B20=4,COUNTIF($X$4:$AC$4,B21),IF(B20=5,COUNTIF($X$5:$AC$5,B21),IF(B20=6,COUNTIF($X$6:$AC$6,B21),IF(B20=7,COUNTIF($X$7:$AC$7,B21),IF(B20=8,COUNTIF($X$8:$AC$8,B21),IF(B20=9,COUNTIF($X$9:$AC$9,B21),IF(B20=10,COUNTIF($X$10:$AC$10,B21),IF(B20=11,COUNTIF($X$11:$AC$11,B21),IF(B20=12,COUNTIF($X$12:$AC$12,B21),IF(B20=13,COUNTIF($X$13:$AC$13,B21),IF(B20=14,COUNTIF($X$14:$AC$14,B21),IF(B20=15,COUNTIF($X$15:$AC$15,B21),IF(B20=16,COUNTIF($X$16:$AC$16,B21),IF(B20=17,COUNTIF($X$17:$AC$17,B21),IF(B20=18,COUNTIF($X$18:$AC$18,B21),IF(B20=19,COUNTIF($X$19:$AC$19,B21),IF(B20=20,COUNTIF($X$20:$AC$20,B21),IF(B20=21,COUNTIF($X$21:$AC$21,B21),IF(B20=22,COUNTIF($X$22:$AC$22,B21),IF(B20=23,COUNTIF($X$23:$AC$23,B21),IF(B20=24,COUNTIF($X$24:$AC$24,B21),IF(B20=25,COUNTIF($X$25:$AC$25,B21),IF(B20=26,COUNTIF($X$26:$AC$26,B21),IF(B20=27,COUNTIF($X$27:$AC$27,B21),IF(B20=28,COUNTIF($X$28:$AC$28,B21),IF(B20=29,COUNTIF($X$29:$AC$29,B21),IF(B20=30,COUNTIF($X$30:$AC$30,B21),IF(B20=31,COUNTIF($X$31:$AC$31,B21),IF(B20=32,COUNTIF($X$32:$AC$32,B21),IF(B20=33,COUNTIF($X$33:$AC$33,B21),IF(B20=34,COUNTIF($X$34:$AC$34,B21),IF(B20=35,COUNTIF($X$35:$AC$35,B21),IF(B20=36,COUNTIF($X$36:$AC$36,B21),IF(B20=0,COUNTIF($X$37:$AC$37,B21),"")))))))))))))))))))))))))))))))))))))) -> 1 | E21: =IF(B21="","",IF(D21=1,"W",IF(D21=0,"L",""))) -> W | F21: =IF(B21="","",IF(AE20<$J$15,"Bet","No Bet")) -> Bet | G21: =IF(B21="","",IF(F21="No Bet",G20,IF(E21="L",-6+G20,IF(E21="W",30+G20)))) -> 30 | L21: 18 | M21: =AW602 -> 0 | W21: 21 | X21: 11 | Y21: 12 | Z21: 28 | AA21: 30 | AB21: 35 | AC21: 36 | AE21: =IF(E21="L",AE20+1,IF(E21="W",0,"")) -> 0 | AF21: =IF(AND($AE22=0,$AE21=1),1,"") | AG21: =IF(AND($AE22=0,$AE21=2),1,"") | AH21: =IF(AND($AE22=0,$AE21=3),1,"") | AI21: =IF(AND($AE22=0,$AE21=4),1,"") | AJ21: =IF(AND($AE22=0,$AE21=5),1,"") | AK21: =IF(AND($AE22=0,$AE21=6),1,"") | AL21: =IF(AND($AE22=0,$AE21=7),1,"") | AM21: =IF(AND($AE22=0,$AE21=8),1,"") | AN21: =IF(AND($AE22=0,$AE21=9),1,"") | AO21: =IF(AND($AE22=0,$AE21=10),1,"") | AP21: =IF(AND($AE22=0,$AE21=11),1,"") | AQ21: =IF(AND($AE22=0,$AE21=12),1,"") | AR21: =IF(AND($AE22=0,$AE21=13),1,"") | AS21: =IF(AND($AE22=0,$AE21=14),1,"") | AT21: =IF(AND($AE22=0,$AE21=15),1,"") | AU21: =IF(AND($AE22=0,$AE21=16),1,"") | AV21: =IF(AND($AE22=0,$AE21=17),1,"") | AW21: =IF(AND($AE22=0,$AE21=18),1,"") | AX21: =IF(AND($AE22=0,$AE21=19),1,"") | AY21: =IF(AND($AE22=0,$AE21=20),1,"") | AZ21: =IF(AND($AE22=0,$AE21=21),1,"") | BA21: =IF(AND($AE22=0,$AE21=22),1,"") | BB21: =IF(AND($AE22=0,$AE21=23),1,"") | BC21: =IF(AND($AE22=0,$AE21=24),1,"") | BD21: =IF(AND($AE22=0,$AE21=25),1,"") | BE21: =IF(AND($AE22=0,$AE21=26),1,"") | BF21: =IF(AND($AE22=0,$AE21=27),1,"") | BG21: =IF(AND($AE22=0,$AE21=28),1,"") | BH21: =IF(AND($AE22=0,$AE21=29),1,"") | BI21: =IF(AND($AE22=0,$AE21=30),1,"") | BJ21: =IF(AE21="","",IF(AND($AE22=0,$AE21>30),1,""))
B22: 32 | C22: =IF(B22="","",VLOOKUP(B22,Tabelle2!$A$2:$B$38,2,0)) -> 6-18-22-27-29-34 | D22: =IF(B22="","",IF(B21=1,COUNTIF($X$1:$AC$1,B22),IF(B21=2,COUNTIF($X$2:$AC$2,B22),IF(B21=3,COUNTIF($X$3:$AC$3,B22),IF(B21=4,COUNTIF($X$4:$AC$4,B22),IF(B21=5,COUNTIF($X$5:$AC$5,B22),IF(B21=6,COUNTIF($X$6:$AC$6,B22),IF(B21=7,COUNTIF($X$7:$AC$7,B22),IF(B21=8,COUNTIF($X$8:$AC$8,B22),IF(B21=9,COUNTIF($X$9:$AC$9,B22),IF(B21=10,COUNTIF($X$10:$AC$10,B22),IF(B21=11,COUNTIF($X$11:$AC$11,B22),IF(B21=12,COUNTIF($X$12:$AC$12,B22),IF(B21=13,COUNTIF($X$13:$AC$13,B22),IF(B21=14,COUNTIF($X$14:$AC$14,B22),IF(B21=15,COUNTIF($X$15:$AC$15,B22),IF(B21=16,COUNTIF($X$16:$AC$16,B22),IF(B21=17,COUNTIF($X$17:$AC$17,B22),IF(B21=18,COUNTIF($X$18:$AC$18,B22),IF(B21=19,COUNTIF($X$19:$AC$19,B22),IF(B21=20,COUNTIF($X$20:$AC$20,B22),IF(B21=21,COUNTIF($X$21:$AC$21,B22),IF(B21=22,COUNTIF($X$22:$AC$22,B22),IF(B21=23,COUNTIF($X$23:$AC$23,B22),IF(B21=24,COUNTIF($X$24:$AC$24,B22),IF(B21=25,COUNTIF($X$25:$AC$25,B22),IF(B21=26,COUNTIF($X$26:$AC$26,B22),IF(B21=27,COUNTIF($X$27:$AC$27,B22),IF(B21=28,COUNTIF($X$28:$AC$28,B22),IF(B21=29,COUNTIF($X$29:$AC$29,B22),IF(B21=30,COUNTIF($X$30:$AC$30,B22),IF(B21=31,COUNTIF($X$31:$AC$31,B22),IF(B21=32,COUNTIF($X$32:$AC$32,B22),IF(B21=33,COUNTIF($X$33:$AC$33,B22),IF(B21=34,COUNTIF($X$34:$AC$34,B22),IF(B21=35,COUNTIF($X$35:$AC$35,B22),IF(B21=36,COUNTIF($X$36:$AC$36,B22),IF(B21=0,COUNTIF($X$37:$AC$37,B22),"")))))))))))))))))))))))))))))))))))))) -> 0 | E22: =IF(B22="","",IF(D22=1,"W",IF(D22=0,"L",""))) -> L | F22: =IF(B22="","",IF(AE21<$J$15,"Bet","No Bet")) -> Bet | G22: =IF(B22="","",IF(F22="No Bet",G21,IF(E22="L",-6+G21,IF(E22="W",30+G21)))) -> 24 | L22: 19 | M22: =AX602 -> 1 | W22: 22 | X22: 0 | Y22: 5 | Z22: 10 | AA22: 24 | AB22: 26 | AC22: 32 | AE22: =IF(E22="L",AE21+1,IF(E22="W",0,"")) -> 1 | AF22: =IF(AND($AE23=0,$AE22=1),1,"") | AG22: =IF(AND($AE23=0,$AE22=2),1,"") | AH22: =IF(AND($AE23=0,$AE22=3),1,"") | AI22: =IF(AND($AE23=0,$AE22=4),1,"") | AJ22: =IF(AND($AE23=0,$AE22=5),1,"") | AK22: =IF(AND($AE23=0,$AE22=6),1,"") | AL22: =IF(AND($AE23=0,$AE22=7),1,"") | AM22: =IF(AND($AE23=0,$AE22=8),1,"") | AN22: =IF(AND($AE23=0,$AE22=9),1,"") | AO22: =IF(AND($AE23=0,$AE22=10),1,"") | AP22: =IF(AND($AE23=0,$AE22=11),1,"") | AQ22: =IF(AND($AE23=0,$AE22=12),1,"") | AR22: =IF(AND($AE23=0,$AE22=13),1,"") | AS22: =IF(AND($AE23=0,$AE22=14),1,"") | AT22: =IF(AND($AE23=0,$AE22=15),1,"") | AU22: =IF(AND($AE23=0,$AE22=16),1,"") | AV22: =IF(AND($AE23=0,$AE22=17),1,"") | AW22: =IF(AND($AE23=0,$AE22=18),1,"") | AX22: =IF(AND($AE23=0,$AE22=19),1,"") | AY22: =IF(AND($AE23=0,$AE22=20),1,"") | AZ22: =IF(AND($AE23=0,$AE22=21),1,"") | BA22: =IF(AND($AE23=0,$AE22=22),1,"") | BB22: =IF(AND($AE23=0,$AE22=23),1,"") | BC22: =IF(AND($AE23=0,$AE22=24),1,"") | BD22: =IF(AND($AE23=0,$AE22=25),1,"") | BE22: =IF(AND($AE23=0,$AE22=26),1,"") | BF22: =IF(AND($AE23=0,$AE22=27),1,"") | BG22: =IF(AND($AE23=0,$AE22=28),1,"") | BH22: =IF(AND($AE23=0,$AE22=29),1,"") | BI22: =IF(AND($AE23=0,$AE22=30),1,"") | BJ22: =IF(AE22="","",IF(AND($AE23=0,$AE22>30),1,""))
B23: 32 | C23: =IF(B23="","",VLOOKUP(B23,Tabelle2!$A$2:$B$38,2,0)) -> 6-18-22-27-29-34 | D23: =IF(B23="","",IF(B22=1,COUNTIF($X$1:$AC$1,B23),IF(B22=2,COUNTIF($X$2:$AC$2,B23),IF(B22=3,COUNTIF($X$3:$AC$3,B23),IF(B22=4,COUNTIF($X$4:$AC$4,B23),IF(B22=5,COUNTIF($X$5:$AC$5,B23),IF(B22=6,COUNTIF($X$6:$AC$6,B23),IF(B22=7,COUNTIF($X$7:$AC$7,B23),IF(B22=8,COUNTIF($X$8:$AC$8,B23),IF(B22=9,COUNTIF($X$9:$AC$9,B23),IF(B22=10,COUNTIF($X$10:$AC$10,B23),IF(B22=11,COUNTIF($X$11:$AC$11,B23),IF(B22=12,COUNTIF($X$12:$AC$12,B23),IF(B22=13,COUNTIF($X$13:$AC$13,B23),IF(B22=14,COUNTIF($X$14:$AC$14,B23),IF(B22=15,COUNTIF($X$15:$AC$15,B23),IF(B22=16,COUNTIF($X$16:$AC$16,B23),IF(B22=17,COUNTIF($X$17:$AC$17,B23),IF(B22=18,COUNTIF($X$18:$AC$18,B23),IF(B22=19,COUNTIF($X$19:$AC$19,B23),IF(B22=20,COUNTIF($X$20:$AC$20,B23),IF(B22=21,COUNTIF($X$21:$AC$21,B23),IF(B22=22,COUNTIF($X$22:$AC$22,B23),IF(B22=23,COUNTIF($X$23:$AC$23,B23),IF(B22=24,COUNTIF($X$24:$AC$24,B23),IF(B22=25,COUNTIF($X$25:$AC$25,B23),IF(B22=26,COUNTIF($X$26:$AC$26,B23),IF(B22=27,COUNTIF($X$27:$AC$27,B23),IF(B22=28,COUNTIF($X$28:$AC$28,B23),IF(B22=29,COUNTIF($X$29:$AC$29,B23),IF(B22=30,COUNTIF($X$30:$AC$30,B23),IF(B22=31,COUNTIF($X$31:$AC$31,B23),IF(B22=32,COUNTIF($X$32:$AC$32,B23),IF(B22=33,COUNTIF($X$33:$AC$33,B23),IF(B22=34,COUNTIF($X$34:$AC$34,B23),IF(B22=35,COUNTIF($X$35:$AC$35,B23),IF(B22=36,COUNTIF($X$36:$AC$36,B23),IF(B22=0,COUNTIF($X$37:$AC$37,B23),"")))))))))))))))))))))))))))))))))))))) -> 0 | E23: =IF(B23="","",IF(D23=1,"W",IF(D23=0,"L",""))) -> L | F23: =IF(B23="","",IF(AE22<$J$15,"Bet","No Bet")) -> Bet | G23: =IF(B23="","",IF(F23="No Bet",G22,IF(E23="L",-6+G22,IF(E23="W",30+G22)))) -> 18 | L23: 20 | M23: =AY602 -> 0 | W23: 23 | X23: 9 | Y23: 14 | Z23: 17 | AA23: 25 | AB23: 31 | AC23: 34 | AE23: =IF(E23="L",AE22+1,IF(E23="W",0,"")) -> 2 | AF23: =IF(AND($AE24=0,$AE23=1),1,"") | AG23: =IF(AND($AE24=0,$AE23=2),1,"") | AH23: =IF(AND($AE24=0,$AE23=3),1,"") | AI23: =IF(AND($AE24=0,$AE23=4),1,"") | AJ23: =IF(AND($AE24=0,$AE23=5),1,"") | AK23: =IF(AND($AE24=0,$AE23=6),1,"") | AL23: =IF(AND($AE24=0,$AE23=7),1,"") | AM23: =IF(AND($AE24=0,$AE23=8),1,"") | AN23: =IF(AND($AE24=0,$AE23=9),1,"") | AO23: =IF(AND($AE24=0,$AE23=10),1,"") | AP23: =IF(AND($AE24=0,$AE23=11),1,"") | AQ23: =IF(AND($AE24=0,$AE23=12),1,"") | AR23: =IF(AND($AE24=0,$AE23=13),1,"") | AS23: =IF(AND($AE24=0,$AE23=14),1,"") | AT23: =IF(AND($AE24=0,$AE23=15),1,"") | AU23: =IF(AND($AE24=0,$AE23=16),1,"") | AV23: =IF(AND($AE24=0,$AE23=17),1,"") | AW23: =IF(AND($AE24=0,$AE23=18),1,"") | AX23: =IF(AND($AE24=0,$AE23=19),1,"") | AY23: =IF(AND($AE24=0,$AE23=20),1,"") | AZ23: =IF(AND($AE24=0,$AE23=21),1,"") | BA23: =IF(AND($AE24=0,$AE23=22),1,"") | BB23: =IF(AND($AE24=0,$AE23=23),1,"") | BC23: =IF(AND($AE24=0,$AE23=24),1,"") | BD23: =IF(AND($AE24=0,$AE23=25),1,"") | BE23: =IF(AND($AE24=0,$AE23=26),1,"") | BF23: =IF(AND($AE24=0,$AE23=27),1,"") | BG23: =IF(AND($AE24=0,$AE23=28),1,"") | BH23: =IF(AND($AE24=0,$AE23=29),1,"") | BI23: =IF(AND($AE24=0,$AE23=30),1,"") | BJ23: =IF(AE23="","",IF(AND($AE24=0,$AE23>30),1,""))
B24: 12 | C24: =IF(B24="","",VLOOKUP(B24,Tabelle2!$A$2:$B$38,2,0)) -> 1-2-4-14-20-21 | D24: =IF(B24="","",IF(B23=1,COUNTIF($X$1:$AC$1,B24),IF(B23=2,COUNTIF($X$2:$AC$2,B24),IF(B23=3,COUNTIF($X$3:$AC$3,B24),IF(B23=4,COUNTIF($X$4:$AC$4,B24),IF(B23=5,COUNTIF($X$5:$AC$5,B24),IF(B23=6,COUNTIF($X$6:$AC$6,B24),IF(B23=7,COUNTIF($X$7:$AC$7,B24),IF(B23=8,COUNTIF($X$8:$AC$8,B24),IF(B23=9,COUNTIF($X$9:$AC$9,B24),IF(B23=10,COUNTIF($X$10:$AC$10,B24),IF(B23=11,COUNTIF($X$11:$AC$11,B24),IF(B23=12,COUNTIF($X$12:$AC$12,B24),IF(B23=13,COUNTIF($X$13:$AC$13,B24),IF(B23=14,COUNTIF($X$14:$AC$14,B24),IF(B23=15,COUNTIF($X$15:$AC$15,B24),IF(B23=16,COUNTIF($X$16:$AC$16,B24),IF(B23=17,COUNTIF($X$17:$AC$17,B24),IF(B23=18,COUNTIF($X$18:$AC$18,B24),IF(B23=19,COUNTIF($X$19:$AC$19,B24),IF(B23=20,COUNTIF($X$20:$AC$20,B24),IF(B23=21,COUNTIF($X$21:$AC$21,B24),IF(B23=22,COUNTIF($X$22:$AC$22,B24),IF(B23=23,COUNTIF($X$23:$AC$23,B24),IF(B23=24,COUNTIF($X$24:$AC$24,B24),IF(B23=25,COUNTIF($X$25:$AC$25,B24),IF(B23=26,COUNTIF($X$26:$AC$26,B24),IF(B23=27,COUNTIF($X$27:$AC$27,B24),IF(B23=28,COUNTIF($X$28:$AC$28,B24),IF(B23=29,COUNTIF($X$29:$AC$29,B24),IF(B23=30,COUNTIF($X$30:$AC$30,B24),IF(B23=31,COUNTIF($X$31:$AC$31,B24),IF(B23=32,COUNTIF($X$32:$AC$32,B24),IF(B23=33,COUNTIF($X$33:$AC$33,B24),IF(B23=34,COUNTIF($X$34:$AC$34,B24),IF(B23=35,COUNTIF($X$35:$AC$35,B24),IF(B23=36,COUNTIF($X$36:$AC$36,B24),IF(B23=0,COUNTIF($X$37:$AC$37,B24),"")))))))))))))))))))))))))))))))))))))) -> 0 | E24: =IF(B24="","",IF(D24=1,"W",IF(D24=0,"L",""))) -> L | F24: =IF(B24="","",IF(AE23<$J$15,"Bet","No Bet")) -> Bet | G24: =IF(B24="","",IF(F24="No Bet",G23,IF(E24="L",-6+G23,IF(E24="W",30+G23)))) -> 12 | L24: 21 | M24: =AZ602 -> 0 | W24: 24 | X24: 6 | Y24: 13 | Z24: 18 | AA24: 22 | AB24: 27 | AC24: 29 | AE24: =IF(E24="L",AE23+1,IF(E24="W",0,"")) -> 3 | AF24: =IF(AND($AE25=0,$AE24=1),1,"") | AG24: =IF(AND($AE25=0,$AE24=2),1,"") | AH24: =IF(AND($AE25=0,$AE24=3),1,"") | AI24: =IF(AND($AE25=0,$AE24=4),1,"") | AJ24: =IF(AND($AE25=0,$AE24=5),1,"") | AK24: =IF(AND($AE25=0,$AE24=6),1,"") | AL24: =IF(AND($AE25=0,$AE24=7),1,"") | AM24: =IF(AND($AE25=0,$AE24=8),1,"") | AN24: =IF(AND($AE25=0,$AE24=9),1,"") | AO24: =IF(AND($AE25=0,$AE24=10),1,"") | AP24: =IF(AND($AE25=0,$AE24=11),1,"") | AQ24: =IF(AND($AE25=0,$AE24=12),1,"") | AR24: =IF(AND($AE25=0,$AE24=13),1,"") | AS24: =IF(AND($AE25=0,$AE24=14),1,"") | AT24: =IF(AND($AE25=0,$AE24=15),1,"") | AU24: =IF(AND($AE25=0,$AE24=16),1,"") | AV24: =IF(AND($AE25=0,$AE24=17),1,"") | AW24: =IF(AND($AE25=0,$AE24=18),1,"") | AX24: =IF(AND($AE25=0,$AE24=19),1,"") | AY24: =IF(AND($AE25=0,$AE24=20),1,"") | AZ24: =IF(AND($AE25=0,$AE24=21),1,"") | BA24: =IF(AND($AE25=0,$AE24=22),1,"") | BB24: =IF(AND($AE25=0,$AE24=23),1,"") | BC24: =IF(AND($AE25=0,$AE24=24),1,"") | BD24: =IF(AND($AE25=0,$AE24=25),1,"") | BE24: =IF(AND($AE25=0,$AE24=26),1,"") | BF24: =IF(AND($AE25=0,$AE24=27),1,"") | BG24: =IF(AND($AE25=0,$AE24=28),1,"") | BH24: =IF(AND($AE25=0,$AE24=29),1,"") | BI24: =IF(AND($AE25=0,$AE24=30),1,"") | BJ24: =IF(AE24="","",IF(AND($AE25=0,$AE24>30),1,""))
B25: 19 | C25: =IF(B25="","",VLOOKUP(B25,Tabelle2!$A$2:$B$38,2,0)) -> 7-13-27-28-29-36 | D25: =IF(B25="","",IF(B24=1,COUNTIF($X$1:$AC$1,B25),IF(B24=2,COUNTIF($X$2:$AC$2,B25),IF(B24=3,COUNTIF($X$3:$AC$3,B25),IF(B24=4,COUNTIF($X$4:$AC$4,B25),IF(B24=5,COUNTIF($X$5:$AC$5,B25),IF(B24=6,COUNTIF($X$6:$AC$6,B25),IF(B24=7,COUNTIF($X$7:$AC$7,B25),IF(B24=8,COUNTIF($X$8:$AC$8,B25),IF(B24=9,COUNTIF($X$9:$AC$9,B25),IF(B24=10,COUNTIF($X$10:$AC$10,B25),IF(B24=11,COUNTIF($X$11:$AC$11,B25),IF(B24=12,COUNTIF($X$12:$AC$12,B25),IF(B24=13,COUNTIF($X$13:$AC$13,B25),IF(B24=14,COUNTIF($X$14:$AC$14,B25),IF(B24=15,COUNTIF($X$15:$AC$15,B25),IF(B24=16,COUNTIF($X$16:$AC$16,B25),IF(B24=17,COUNTIF($X$17:$AC$17,B25),IF(B24=18,COUNTIF($X$18:$AC$18,B25),IF(B24=19,COUNTIF($X$19:$AC$19,B25),IF(B24=20,COUNTIF($X$20:$AC$20,B25),IF(B24=21,COUNTIF($X$21:$AC$21,B25),IF(B24=22,COUNTIF($X$22:$AC$22,B25),IF(B24=23,COUNTIF($X$23:$AC$23,B25),IF(B24=24,COUNTIF($X$24:$AC$24,B25),IF(B24=25,COUNTIF($X$25:$AC$25,B25),IF(B24=26,COUNTIF($X$26:$AC$26,B25),IF(B24=27,COUNTIF($X$27:$AC$27,B25),IF(B24=28,COUNTIF($X$28:$AC$28,B25),IF(B24=29,COUNTIF($X$29:$AC$29,B25),IF(B24=30,COUNTIF($X$30:$AC$30,B25),IF(B24=31,COUNTIF($X$31:$AC$31,B25),IF(B24=32,COUNTIF($X$32:$AC$32,B25),IF(B24=33,COUNTIF($X$33:$AC$33,B25),IF(B24=34,COUNTIF($X$34:$AC$34,B25),IF(B24=35,COUNTIF($X$35:$AC$35,B25),IF(B24=36,COUNTIF($X$36:$AC$36,B25),IF(B24=0,COUNTIF($X$37:$AC$37,B25),"")))))))))))))))))))))))))))))))))))))) -> 0 | E25: =IF(B25="","",IF(D25=1,"W",IF(D25=0,"L",""))) -> L | F25: =IF(B25="","",IF(AE24<$J$15,"Bet","No Bet")) -> Bet | G25: =IF(B25="","",IF(F25="No Bet",G24,IF(E25="L",-6+G24,IF(E25="W",30+G24)))) -> 6 | L25: 22 | M25: =BA602 -> 0 | W25: 25 | X25: 3 | Y25: 8 | Z25: 23 | AA25: 26 | AB25: 30 | AC25: 35 | AE25: =IF(E25="L",AE24+1,IF(E25="W",0,"")) -> 4 | AF25: =IF(AND($AE26=0,$AE25=1),1,"") | AG25: =IF(AND($AE26=0,$AE25=2),1,"") | AH25: =IF(AND($AE26=0,$AE25=3),1,"") | AI25: =IF(AND($AE26=0,$AE25=4),1,"") | AJ25: =IF(AND($AE26=0,$AE25=5),1,"") | AK25: =IF(AND($AE26=0,$AE25=6),1,"") | AL25: =IF(AND($AE26=0,$AE25=7),1,"") | AM25: =IF(AND($AE26=0,$AE25=8),1,"") | AN25: =IF(AND($AE26=0,$AE25=9),1,"") | AO25: =IF(AND($AE26=0,$AE25=10),1,"") | AP25: =IF(AND($AE26=0,$AE25=11),1,"") | AQ25: =IF(AND($AE26=0,$AE25=12),1,"") | AR25: =IF(AND($AE26=0,$AE25=13),1,"") | AS25: =IF(AND($AE26=0,$AE25=14),1,"") | AT25: =IF(AND($AE26=0,$AE25=15),1,"") | AU25: =IF(AND($AE26=0,$AE25=16),1,"") | AV25: =IF(AND($AE26=0,$AE25=17),1,"") | AW25: =IF(AND($AE26=0,$AE25=18),1,"") | AX25: =IF(AND($AE26=0,$AE25=19),1,"") | AY25: =IF(AND($AE26=0,$AE25=20),1,"") | AZ25: =IF(AND($AE26=0,$AE25=21),1,"") | BA25: =IF(AND($AE26=0,$AE25=22),1,"") | BB25: =IF(AND($AE26=0,$AE25=23),1,"") | BC25: =IF(AND($AE26=0,$AE25=24),1,"") | BD25: =IF(AND($AE26=0,$AE25=25),1,"") | BE25: =IF(AND($AE26=0,$AE25=26),1,"") | BF25: =IF(AND($AE26=0,$AE25=27),1,"") | BG25: =IF(AND($AE26=0,$AE25=28),1,"") | BH25: =IF(AND($AE26=0,$AE25=29),1,"") | BI25: =IF(AND($AE26=0,$AE25=30),1,"") | BJ25: =IF(AE25="","",IF(AND($AE26=0,$AE25>30),1,""))
B26: 34 | C26: =IF(B26="","",VLOOKUP(B26,Tabelle2!$A$2:$B$38,2,0)) -> 0-5-10-23-26-32 | D26: =IF(B26="","",IF(B25=1,COUNTIF($X$1:$AC$1,B26),IF(B25=2,COUNTIF($X$2:$AC$2,B26),IF(B25=3,COUNTIF($X$3:$AC$3,B26),IF(B25=4,COUNTIF($X$4:$AC$4,B26),IF(B25=5,COUNTIF($X$5:$AC$5,B26),IF(B25=6,COUNTIF($X$6:$AC$6,B26),IF(B25=7,COUNTIF($X$7:$AC$7,B26),IF(B25=8,COUNTIF($X$8:$AC$8,B26),IF(B25=9,COUNTIF($X$9:$AC$9,B26),IF(B25=10,COUNTIF($X$10:$AC$10,B26),IF(B25=11,COUNTIF($X$11:$AC$11,B26),IF(B25=12,COUNTIF($X$12:$AC$12,B26),IF(B25=13,COUNTIF($X$13:$AC$13,B26),IF(B25=14,COUNTIF($X$14:$AC$14,B26),IF(B25=15,COUNTIF($X$15:$AC$15,B26),IF(B25=16,COUNTIF($X$16:$AC$16,B26),IF(B25=17,COUNTIF($X$17:$AC$17,B26),IF(B25=18,COUNTIF($X$18:$AC$18,B26),IF(B25=19,COUNTIF($X$19:$AC$19,B26),IF(B25=20,COUNTIF($X$20:$AC$20,B26),IF(B25=21,COUNTIF($X$21:$AC$21,B26),IF(B25=22,COUNTIF($X$22:$AC$22,B26),IF(B25=23,COUNTIF($X$23:$AC$23,B26),IF(B25=24,COUNTIF($X$24:$AC$24,B26),IF(B25=25,COUNTIF($X$25:$AC$25,B26),IF(B25=26,COUNTIF($X$26:$AC$26,B26),IF(B25=27,COUNTIF($X$27:$AC$27,B26),IF(B25=28,COUNTIF($X$28:$AC$28,B26),IF(B25=29,COUNTIF($X$29:$AC$29,B26),IF(B25=30,COUNTIF($X$30:$AC$30,B26),IF(B25=31,COUNTIF($X$31:$AC$31,B26),IF(B25=32,COUNTIF($X$32:$AC$32,B26),IF(B25=33,COUNTIF($X$33:$AC$33,B26),IF(B25=34,COUNTIF($X$34:$AC$34,B26),IF(B25=35,COUNTIF($X$35:$AC$35,B26),IF(B25=36,COUNTIF($X$36:$AC$36,B26),IF(B25=0,COUNTIF($X$37:$AC$37,B26),"")))))))))))))))))))))))))))))))))))))) -> 0 | E26: =IF(B26="","",IF(D26=1,"W",IF(D26=0,"L",""))) -> L | F26: =IF(B26="","",IF(AE25<$J$15,"Bet","No Bet")) -> Bet | G26: =IF(B26="","",IF(F26="No Bet",G25,IF(E26="L",-6+G25,IF(E26="W",30+G25)))) -> 0 | L26: 23 | M26: =BB602 -> 0 | W26: 26 | X26: 9 | Y26: 17 | Z26: 22 | AA26: 25 | AB26: 31 | AC26: 34 | AE26: =IF(E26="L",AE25+1,IF(E26="W",0,"")) -> 5 | AF26: =IF(AND($AE27=0,$AE26=1),1,"") | AG26: =IF(AND($AE27=0,$AE26=2),1,"") | AH26: =IF(AND($AE27=0,$AE26=3),1,"") | AI26: =IF(AND($AE27=0,$AE26=4),1,"") | AJ26: =IF(AND($AE27=0,$AE26=5),1,"") | AK26: =IF(AND($AE27=0,$AE26=6),1,"") | AL26: =IF(AND($AE27=0,$AE26=7),1,"") | AM26: =IF(AND($AE27=0,$AE26=8),1,"") | AN26: =IF(AND($AE27=0,$AE26=9),1,"") | AO26: =IF(AND($AE27=0,$AE26=10),1,"") | AP26: =IF(AND($AE27=0,$AE26=11),1,"") | AQ26: =IF(AND($AE27=0,$AE26=12),1,"") | AR26: =IF(AND($AE27=0,$AE26=13),1,"") | AS26: =IF(AND($AE27=0,$AE26=14),1,"") | AT26: =IF(AND($AE27=0,$AE26=15),1,"") | AU26: =IF(AND($AE27=0,$AE26=16),1,"") | AV26: =IF(AND($AE27=0,$AE26=17),1,"") | AW26: =IF(AND($AE27=0,$AE26=18),1,"") | AX26: =IF(AND($AE27=0,$AE26=19),1,"") | AY26: =IF(AND($AE27=0,$AE26=20),1,"") | AZ26: =IF(AND($AE27=0,$AE26=21),1,"") | BA26: =IF(AND($AE27=0,$AE26=22),1,"") | BB26: =IF(AND($AE27=0,$AE26=23),1,"") | BC26: =IF(AND($AE27=0,$AE26=24),1,"") | BD26: =IF(AND($AE27=0,$AE26=25),1,"") | BE26: =IF(AND($AE27=0,$AE26=26),1,"") | BF26: =IF(AND($AE27=0,$AE26=27),1,"") | BG26: =IF(AND($AE27=0,$AE26=28),1,"") | BH26: =IF(AND($AE27=0,$AE26=29),1,"") | BI26: =IF(AND($AE27=0,$AE26=30),1,"") | BJ26: =IF(AE26="","",IF(AND($AE27=0,$AE26>30),1,""))
B27: 34 | C27: =IF(B27="","",VLOOKUP(B27,Tabelle2!$A$2:$B$38,2,0)) -> 0-5-10-23-26-32 | D27: =IF(B27="","",IF(B26=1,COUNTIF($X$1:$AC$1,B27),IF(B26=2,COUNTIF($X$2:$AC$2,B27),IF(B26=3,COUNTIF($X$3:$AC$3,B27),IF(B26=4,COUNTIF($X$4:$AC$4,B27),IF(B26=5,COUNTIF($X$5:$AC$5,B27),IF(B26=6,COUNTIF($X$6:$AC$6,B27),IF(B26=7,COUNTIF($X$7:$AC$7,B27),IF(B26=8,COUNTIF($X$8:$AC$8,B27),IF(B26=9,COUNTIF($X$9:$AC$9,B27),IF(B26=10,COUNTIF($X$10:$AC$10,B27),IF(B26=11,COUNTIF($X$11:$AC$11,B27),IF(B26=12,COUNTIF($X$12:$AC$12,B27),IF(B26=13,COUNTIF($X$13:$AC$13,B27),IF(B26=14,COUNTIF($X$14:$AC$14,B27),IF(B26=15,COUNTIF($X$15:$AC$15,B27),IF(B26=16,COUNTIF($X$16:$AC$16,B27),IF(B26=17,COUNTIF($X$17:$AC$17,B27),IF(B26=18,COUNTIF($X$18:$AC$18,B27),IF(B26=19,COUNTIF($X$19:$AC$19,B27),IF(B26=20,COUNTIF($X$20:$AC$20,B27),IF(B26=21,COUNTIF($X$21:$AC$21,B27),IF(B26=22,COUNTIF($X$22:$AC$22,B27),IF(B26=23,COUNTIF($X$23:$AC$23,B27),IF(B26=24,COUNTIF($X$24:$AC$24,B27),IF(B26=25,COUNTIF($X$25:$AC$25,B27),IF(B26=26,COUNTIF($X$26:$AC$26,B27),IF(B26=27,COUNTIF($X$27:$AC$27,B27),IF(B26=28,COUNTIF($X$28:$AC$28,B27),IF(B26=29,COUNTIF($X$29:$AC$29,B27),IF(B26=30,COUNTIF($X$30:$AC$30,B27),IF(B26=31,COUNTIF($X$31:$AC$31,B27),IF(B26=32,COUNTIF($X$32:$AC$32,B27),IF(B26=33,COUNTIF($X$33:$AC$33,B27),IF(B26=34,COUNTIF($X$34:$AC$34,B27),IF(B26=35,COUNTIF($X$35:$AC$35,B27),IF(B26=36,COUNTIF($X$36:$AC$36,B27),IF(B26=0,COUNTIF($X$37:$AC$37,B27),"")))))))))))))))))))))))))))))))))))))) -> 0 | E27: =IF(B27="","",IF(D27=1,"W",IF(D27=0,"L",""))) -> L | F27: =IF(B27="","",IF(AE26<$J$15,"Bet","No Bet")) -> Bet | G27: =IF(B27="","",IF(F27="No Bet",G26,IF(E27="L",-6+G26,IF(E27="W",30+G26)))) -> -6 | L27: 24 | M27: =BC602 -> 0 | W27: 27 | X27: 5 | Y27: 15 | Z27: 16 | AA27: 19 | AB27: 24 | AC27: 32 | AE27: =IF(E27="L",AE26+1,IF(E27="W",0,"")) -> 6 | AF27: =IF(AND($AE28=0,$AE27=1),1,"") | AG27: =IF(AND($AE28=0,$AE27=2),1,"") | AH27: =IF(AND($AE28=0,$AE27=3),1,"") | AI27: =IF(AND($AE28=0,$AE27=4),1,"") | AJ27: =IF(AND($AE28=0,$AE27=5),1,"") | AK27: =IF(AND($AE28=0,$AE27=6),1,"") | AL27: =IF(AND($AE28=0,$AE27=7),1,"") | AM27: =IF(AND($AE28=0,$AE27=8),1,"") | AN27: =IF(AND($AE28=0,$AE27=9),1,"") | AO27: =IF(AND($AE28=0,$AE27=10),1,"") | AP27: =IF(AND($AE28=0,$AE27=11),1,"") | AQ27: =IF(AND($AE28=0,$AE27=12),1,"") | AR27: =IF(AND($AE28=0,$AE27=13),1,"") | AS27: =IF(AND($AE28=0,$AE27=14),1,"") | AT27: =IF(AND($AE28=0,$AE27=15),1,"") | AU27: =IF(AND($AE28=0,$AE27=16),1,"") | AV27: =IF(AND($AE28=0,$AE27=17),1,"") | AW27: =IF(AND($AE28=0,$AE27=18),1,"") | AX27: =IF(AND($AE28=0,$AE27=19),1,"") | AY27: =IF(AND($AE28=0,$AE27=20),1,"") | AZ27: =IF(AND($AE28=0,$AE27=21),1,"") | BA27: =IF(AND($AE28=0,$AE27=22),1,"") | BB27: =IF(AND($AE28=0,$AE27=23),1,"") | BC27: =IF(AND($AE28=0,$AE27=24),1,"") | BD27: =IF(AND($AE28=0,$AE27=25),1,"") | BE27: =IF(AND($AE28=0,$AE27=26),1,"") | BF27: =IF(AND($AE28=0,$AE27=27),1,"") | BG27: =IF(AND($AE28=0,$AE27=28),1,"") | BH27: =IF(AND($AE28=0,$AE27=29),1,"") | BI27: =IF(AND($AE28=0,$AE27=30),1,"") | BJ27: =IF(AE27="","",IF(AND($AE28=0,$AE27>30),1,""))
B28: 14 | C28: =IF(B28="","",VLOOKUP(B28,Tabelle2!$A$2:$B$38,2,0)) -> 3-8-12-23-30-35 | D28: =IF(B28="","",IF(B27=1,COUNTIF($X$1:$AC$1,B28),IF(B27=2,COUNTIF($X$2:$AC$2,B28),IF(B27=3,COUNTIF($X$3:$AC$3,B28),IF(B27=4,COUNTIF($X$4:$AC$4,B28),IF(B27=5,COUNTIF($X$5:$AC$5,B28),IF(B27=6,COUNTIF($X$6:$AC$6,B28),IF(B27=7,COUNTIF($X$7:$AC$7,B28),IF(B27=8,COUNTIF($X$8:$AC$8,B28),IF(B27=9,COUNTIF($X$9:$AC$9,B28),IF(B27=10,COUNTIF($X$10:$AC$10,B28),IF(B27=11,COUNTIF($X$11:$AC$11,B28),IF(B27=12,COUNTIF($X$12:$AC$12,B28),IF(B27=13,COUNTIF($X$13:$AC$13,B28),IF(B27=14,COUNTIF($X$14:$AC$14,B28),IF(B27=15,COUNTIF($X$15:$AC$15,B28),IF(B27=16,COUNTIF($X$16:$AC$16,B28),IF(B27=17,COUNTIF($X$17:$AC$17,B28),IF(B27=18,COUNTIF($X$18:$AC$18,B28),IF(B27=19,COUNTIF($X$19:$AC$19,B28),IF(B27=20,COUNTIF($X$20:$AC$20,B28),IF(B27=21,COUNTIF($X$21:$AC$21,B28),IF(B27=22,COUNTIF($X$22:$AC$22,B28),IF(B27=23,COUNTIF($X$23:$AC$23,B28),IF(B27=24,COUNTIF($X$24:$AC$24,B28),IF(B27=25,COUNTIF($X$25:$AC$25,B28),IF(B27=26,COUNTIF($X$26:$AC$26,B28),IF(B27=27,COUNTIF($X$27:$AC$27,B28),IF(B27=28,COUNTIF($X$28:$AC$28,B28),IF(B27=29,COUNTIF($X$29:$AC$29,B28),IF(B27=30,COUNTIF($X$30:$AC$30,B28),IF(B27=31,COUNTIF($X$31:$AC$31,B28),IF(B27=32,COUNTIF($X$32:$AC$32,B28),IF(B27=33,COUNTIF($X$33:$AC$33,B28),IF(B27=34,COUNTIF($X$34:$AC$34,B28),IF(B27=35,COUNTIF($X$35:$AC$35,B28),IF(B27=36,COUNTIF($X$36:$AC$36,B28),IF(B27=0,COUNTIF($X$37:$AC$37,B28),"")))))))))))))))))))))))))))))))))))))) -> 0 | E28: =IF(B28="","",IF(D28=1,"W",IF(D28=0,"L",""))) -> L | F28: =IF(B28="","",IF(AE27<$J$15,"Bet","No Bet")) -> Bet | G28: =IF(B28="","",IF(F28="No Bet",G27,IF(E28="L",-6+G27,IF(E28="W",30+G27)))) -> -12 | L28: 25 | M28: =BD602 -> 0 | W28: 28 | X28: 1 | Y28: 4 | Z28: 19 | AA28: 20 | AB28: 21 | AC28: 33 | AE28: =IF(E28="L",AE27+1,IF(E28="W",0,"")) -> 7 | AF28: =IF(AND($AE29=0,$AE28=1),1,"") | AG28: =IF(AND($AE29=0,$AE28=2),1,"") | AH28: =IF(AND($AE29=0,$AE28=3),1,"") | AI28: =IF(AND($AE29=0,$AE28=4),1,"") | AJ28: =IF(AND($AE29=0,$AE28=5),1,"") | AK28: =IF(AND($AE29=0,$AE28=6),1,"") | AL28: =IF(AND($AE29=0,$AE28=7),1,"") | AM28: =IF(AND($AE29=0,$AE28=8),1,"") | AN28: =IF(AND($AE29=0,$AE28=9),1,"") | AO28: =IF(AND($AE29=0,$AE28=10),1,"") | AP28: =IF(AND($AE29=0,$AE28=11),1,"") | AQ28: =IF(AND($AE29=0,$AE28=12),1,"") | AR28: =IF(AND($AE29=0,$AE28=13),1,"") | AS28: =IF(AND($AE29=0,$AE28=14),1,"") | AT28: =IF(AND($AE29=0,$AE28=15),1,"") | AU28: =IF(AND($AE29=0,$AE28=16),1,"") | AV28: =IF(AND($AE29=0,$AE28=17),1,"") | AW28: =IF(AND($AE29=0,$AE28=18),1,"") | AX28: =IF(AND($AE29=0,$AE28=19),1,"") | AY28: =IF(AND($AE29=0,$AE28=20),1,"") | AZ28: =IF(AND($AE29=0,$AE28=21),1,"") | BA28: =IF(AND($AE29=0,$AE28=22),1,"") | BB28: =IF(AND($AE29=0,$AE28=23),1,"") | BC28: =IF(AND($AE29=0,$AE28=24),1,"") | BD28: =IF(AND($AE29=0,$AE28=25),1,"") | BE28: =IF(AND($AE29=0,$AE28=26),1,"") | BF28: =IF(AND($AE29=0,$AE28=27),1,"") | BG28: =IF(AND($AE29=0,$AE28=28),1,"") | BH28: =IF(AND($AE29=0,$AE28=29),1,"") | BI28: =IF(AND($AE29=0,$AE28=30),1,"") | BJ28: =IF(AE28="","",IF(AND($AE29=0,$AE28>30),1,""))
B29: 20 | C29: =IF(B29="","",VLOOKUP(B29,Tabelle2!$A$2:$B$38,2,0)) -> 8-11-12-28-30-36 | D29: =IF(B29="","",IF(B28=1,COUNTIF($X$1:$AC$1,B29),IF(B28=2,COUNTIF($X$2:$AC$2,B29),IF(B28=3,COUNTIF($X$3:$AC$3,B29),IF(B28=4,COUNTIF($X$4:$AC$4,B29),IF(B28=5,COUNTIF($X$5:$AC$5,B29),IF(B28=6,COUNTIF($X$6:$AC$6,B29),IF(B28=7,COUNTIF($X$7:$AC$7,B29),IF(B28=8,COUNTIF($X$8:$AC$8,B29),IF(B28=9,COUNTIF($X$9:$AC$9,B29),IF(B28=10,COUNTIF($X$10:$AC$10,B29),IF(B28=11,COUNTIF($X$11:$AC$11,B29),IF(B28=12,COUNTIF($X$12:$AC$12,B29),IF(B28=13,COUNTIF($X$13:$AC$13,B29),IF(B28=14,COUNTIF($X$14:$AC$14,B29),IF(B28=15,COUNTIF($X$15:$AC$15,B29),IF(B28=16,COUNTIF($X$16:$AC$16,B29),IF(B28=17,COUNTIF($X$17:$AC$17,B29),IF(B28=18,COUNTIF($X$18:$AC$18,B29),IF(B28=19,COUNTIF($X$19:$AC$19,B29),IF(B28=20,COUNTIF($X$20:$AC$20,B29),IF(B28=21,COUNTIF($X$21:$AC$21,B29),IF(B28=22,COUNTIF($X$22:$AC$22,B29),IF(B28=23,COUNTIF($X$23:$AC$23,B29),IF(B28=24,COUNTIF($X$24:$AC$24,B29),IF(B28=25,COUNTIF($X$25:$AC$25,B29),IF(B28=26,COUNTIF($X$26:$AC$26,B29),IF(B28=27,COUNTIF($X$27:$AC$27,B29),IF(B28=28,COUNTIF($X$28:$AC$28,B29),IF(B28=29,COUNTIF($X$29:$AC$29,B29),IF(B28=30,COUNTIF($X$30:$AC$30,B29),IF(B28=31,COUNTIF($X$31:$AC$31,B29),IF(B28=32,COUNTIF($X$32:$AC$32,B29),IF(B28=33,COUNTIF($X$33:$AC$33,B29),IF(B28=34,COUNTIF($X$34:$AC$34,B29),IF(B28=35,COUNTIF($X$35:$AC$35,B29),IF(B28=36,COUNTIF($X$36:$AC$36,B29),IF(B28=0,COUNTIF($X$37:$AC$37,B29),"")))))))))))))))))))))))))))))))))))))) -> 0 | E29: =IF(B29="","",IF(D29=1,"W",IF(D29=0,"L",""))) -> L | F29: =IF(B29="","",IF(AE28<$J$15,"Bet","No Bet")) -> Bet | G29: =IF(B29="","",IF(F29="No Bet",G28,IF(E29="L",-6+G28,IF(E29="W",30+G28)))) -> -18 | L29: 26 | M29: =BE602 -> 1 | W29: 29 | X29: 15 | Y29: 16 | Z29: 19 | AA29: 24 | AB29: 32 | AC29: 33 | AE29: =IF(E29="L",AE28+1,IF(E29="W",0,"")) -> 8 | AF29: =IF(AND($AE30=0,$AE29=1),1,"") | AG29: =IF(AND($AE30=0,$AE29=2),1,"") | AH29: =IF(AND($AE30=0,$AE29=3),1,"") | AI29: =IF(AND($AE30=0,$AE29=4),1,"") | AJ29: =IF(AND($AE30=0,$AE29=5),1,"") | AK29: =IF(AND($AE30=0,$AE29=6),1,"") | AL29: =IF(AND($AE30=0,$AE29=7),1,"") | AM29: =IF(AND($AE30=0,$AE29=8),1,"") | AN29: =IF(AND($AE30=0,$AE29=9),1,"") | AO29: =IF(AND($AE30=0,$AE29=10),1,"") | AP29: =IF(AND($AE30=0,$AE29=11),1,"") | AQ29: =IF(AND($AE30=0,$AE29=12),1,"") | AR29: =IF(AND($AE30=0,$AE29=13),1,"") | AS29: =IF(AND($AE30=0,$AE29=14),1,"") | AT29: =IF(AND($AE30=0,$AE29=15),1,"") | AU29: =IF(AND($AE30=0,$AE29=16),1,"") | AV29: =IF(AND($AE30=0,$AE29=17),1,"") | AW29: =IF(AND($AE30=0,$AE29=18),1,"") | AX29: =IF(AND($AE30=0,$AE29=19),1,"") | AY29: =IF(AND($AE30=0,$AE29=20),1,"") | AZ29: =IF(AND($AE30=0,$AE29=21),1,"") | BA29: =IF(AND($AE30=0,$AE29=22),1,"") | BB29: =IF(AND($AE30=0,$AE29=23),1,"") | BC29: =IF(AND($AE30=0,$AE29=24),1,"") | BD29: =IF(AND($AE30=0,$AE29=25),1,"") | BE29: =IF(AND($AE30=0,$AE29=26),1,"") | BF29: =IF(AND($AE30=0,$AE29=27),1,"") | BG29: =IF(AND($AE30=0,$AE29=28),1,"") | BH29: =IF(AND($AE30=0,$AE29=29),1,"") | BI29: =IF(AND($AE30=0,$AE29=30),1,"") | BJ29: =IF(AE29="","",IF(AND($AE30=0,$AE29>30),1,""))
B30: 13 | C30: =IF(B30="","",VLOOKUP(B30,Tabelle2!$A$2:$B$38,2,0)) -> 4-15-16-19-24-33 | D30: =IF(B30="","",IF(B29=1,COUNTIF($X$1:$AC$1,B30),IF(B29=2,COUNTIF($X$2:$AC$2,B30),IF(B29=3,COUNTIF($X$3:$AC$3,B30),IF(B29=4,COUNTIF($X$4:$AC$4,B30),IF(B29=5,COUNTIF($X$5:$AC$5,B30),IF(B29=6,COUNTIF($X$6:$AC$6,B30),IF(B29=7,COUNTIF($X$7:$AC$7,B30),IF(B29=8,COUNTIF($X$8:$AC$8,B30),IF(B29=9,COUNTIF($X$9:$AC$9,B30),IF(B29=10,COUNTIF($X$10:$AC$10,B30),IF(B29=11,COUNTIF($X$11:$AC$11,B30),IF(B29=12,COUNTIF($X$12:$AC$12,B30),IF(B29=13,COUNTIF($X$13:$AC$13,B30),IF(B29=14,COUNTIF($X$14:$AC$14,B30),IF(B29=15,COUNTIF($X$15:$AC$15,B30),IF(B29=16,COUNTIF($X$16:$AC$16,B30),IF(B29=17,COUNTIF($X$17:$AC$17,B30),IF(B29=18,COUNTIF($X$18:$AC$18,B30),IF(B29=19,COUNTIF($X$19:$AC$19,B30),IF(B29=20,COUNTIF($X$20:$AC$20,B30),IF(B29=21,COUNTIF($X$21:$AC$21,B30),IF(B29=22,COUNTIF($X$22:$AC$22,B30),IF(B29=23,COUNTIF($X$23:$AC$23,B30),IF(B29=24,COUNTIF($X$24:$AC$24,B30),IF(B29=25,COUNTIF($X$25:$AC$25,B30),IF(B29=26,COUNTIF($X$26:$AC$26,B30),IF(B29=27,COUNTIF($X$27:$AC$27,B30),IF(B29=28,COUNTIF($X$28:$AC$28,B30),IF(B29=29,COUNTIF($X$29:$AC$29,B30),IF(B29=30,COUNTIF($X$30:$AC$30,B30),IF(B29=31,COUNTIF($X$31:$AC$31,B30),IF(B29=32,COUNTIF($X$32:$AC$32,B30),IF(B29=33,COUNTIF($X$33:$AC$33,B30),IF(B29=34,COUNTIF($X$34:$AC$34,B30),IF(B29=35,COUNTIF($X$35:$AC$35,B30),IF(B29=36,COUNTIF($X$36:$AC$36,B30),IF(B29=0,COUNTIF($X$37:$AC$37,B30),"")))))))))))))))))))))))))))))))))))))) -> 0 | E30: =IF(B30="","",IF(D30=1,"W",IF(D30=0,"L",""))) -> L | F30: =IF(B30="","",IF(AE29<$J$15,"Bet","No Bet")) -> Bet | G30: =IF(B30="","",IF(F30="No Bet",G29,IF(E30="L",-6+G29,IF(E30="W",30+G29)))) -> -24 | L30: 27 | M30: =ATF602 -> 0 | W30: 30 | X30: 1 | Y30: 2 | Z30: 14 | AA30: 20 | AB30: 21 | AC30: 25 | AE30: =IF(E30="L",AE29+1,IF(E30="W",0,"")) -> 9 | AF30: =IF(AND($AE31=0,$AE30=1),1,"") | AG30: =IF(AND($AE31=0,$AE30=2),1,"") | AH30: =IF(AND($AE31=0,$AE30=3),1,"") | AI30: =IF(AND($AE31=0,$AE30=4),1,"") | AJ30: =IF(AND($AE31=0,$AE30=5),1,"") | AK30: =IF(AND($AE31=0,$AE30=6),1,"") | AL30: =IF(AND($AE31=0,$AE30=7),1,"") | AM30: =IF(AND($AE31=0,$AE30=8),1,"") | AN30: =IF(AND($AE31=0,$AE30=9),1,"") | AO30: =IF(AND($AE31=0,$AE30=10),1,"") | AP30: =IF(AND($AE31=0,$AE30=11),1,"") | AQ30: =IF(AND($AE31=0,$AE30=12),1,"") | AR30: =IF(AND($AE31=0,$AE30=13),1,"") | AS30: =IF(AND($AE31=0,$AE30=14),1,"") | AT30: =IF(AND($AE31=0,$AE30=15),1,"") | AU30: =IF(AND($AE31=0,$AE30=16),1,"") | AV30: =IF(AND($AE31=0,$AE30=17),1,"") | AW30: =IF(AND($AE31=0,$AE30=18),1,"") | AX30: =IF(AND($AE31=0,$AE30=19),1,"") | AY30: =IF(AND($AE31=0,$AE30=20),1,"") | AZ30: =IF(AND($AE31=0,$AE30=21),1,"") | BA30: =IF(AND($AE31=0,$AE30=22),1,"") | BB30: =IF(AND($AE31=0,$AE30=23),1,"") | BC30: =IF(AND($AE31=0,$AE30=24),1,"") | BD30: =IF(AND($AE31=0,$AE30=25),1,"") | BE30: =IF(AND($AE31=0,$AE30=26),1,"") | BF30: =IF(AND($AE31=0,$AE30=27),1,"") | BG30: =IF(AND($AE31=0,$AE30=28),1,"") | BH30: =IF(AND($AE31=0,$AE30=29),1,"") | BI30: =IF(AND($AE31=0,$AE30=30),1,"") | BJ30: =IF(AE30="","",IF(AND($AE31=0,$AE30>30),1,""))
B31: 35 | C31: =IF(B31="","",VLOOKUP(B31,Tabelle2!$A$2:$B$38,2,0)) -> 2-14-20-21-25-31 | D31: =IF(B31="","",IF(B30=1,COUNTIF($X$1:$AC$1,B31),IF(B30=2,COUNTIF($X$2:$AC$2,B31),IF(B30=3,COUNTIF($X$3:$AC$3,B31),IF(B30=4,COUNTIF($X$4:$AC$4,B31),IF(B30=5,COUNTIF($X$5:$AC$5,B31),IF(B30=6,COUNTIF($X$6:$AC$6,B31),IF(B30=7,COUNTIF($X$7:$AC$7,B31),IF(B30=8,COUNTIF($X$8:$AC$8,B31),IF(B30=9,COUNTIF($X$9:$AC$9,B31),IF(B30=10,COUNTIF($X$10:$AC$10,B31),IF(B30=11,COUNTIF($X$11:$AC$11,B31),IF(B30=12,COUNTIF($X$12:$AC$12,B31),IF(B30=13,COUNTIF($X$13:$AC$13,B31),IF(B30=14,COUNTIF($X$14:$AC$14,B31),IF(B30=15,COUNTIF($X$15:$AC$15,B31),IF(B30=16,COUNTIF($X$16:$AC$16,B31),IF(B30=17,COUNTIF($X$17:$AC$17,B31),IF(B30=18,COUNTIF($X$18:$AC$18,B31),IF(B30=19,COUNTIF($X$19:$AC$19,B31),IF(B30=20,COUNTIF($X$20:$AC$20,B31),IF(B30=21,COUNTIF($X$21:$AC$21,B31),IF(B30=22,COUNTIF($X$22:$AC$22,B31),IF(B30=23,COUNTIF($X$23:$AC$23,B31),IF(B30=24,COUNTIF($X$24:$AC$24,B31),IF(B30=25,COUNTIF($X$25:$AC$25,B31),IF(B30=26,COUNTIF($X$26:$AC$26,B31),IF(B30=27,COUNTIF($X$27:$AC$27,B31),IF(B30=28,COUNTIF($X$28:$AC$28,B31),IF(B30=29,COUNTIF($X$29:$AC$29,B31),IF(B30=30,COUNTIF($X$30:$AC$30,B31),IF(B30=31,COUNTIF($X$31:$AC$31,B31),IF(B30=32,COUNTIF($X$32:$AC$32,B31),IF(B30=33,COUNTIF($X$33:$AC$33,B31),IF(B30=34,COUNTIF($X$34:$AC$34,B31),IF(B30=35,COUNTIF($X$35:$AC$35,B31),IF(B30=36,COUNTIF($X$36:$AC$36,B31),IF(B30=0,COUNTIF($X$37:$AC$37,B31),"")))))))))))))))))))))))))))))))))))))) -> 0 | E31: =IF(B31="","",IF(D31=1,"W",IF(D31=0,"L",""))) -> L | F31: =IF(B31="","",IF(AE30<$J$15,"Bet","No Bet")) -> Bet | G31: =IF(B31="","",IF(F31="No Bet",G30,IF(E31="L",-6+G30,IF(E31="W",30+G30)))) -> -30 | L31: 28 | M31: =BG602 -> 0 | W31: 31 | X31: 3 | Y31: 8 | Z31: 10 | AA31: 23 | AB31: 26 | AC31: 35 | AE31: =IF(E31="L",AE30+1,IF(E31="W",0,"")) -> 10 | AF31: =IF(AND($AE32=0,$AE31=1),1,"") | AG31: =IF(AND($AE32=0,$AE31=2),1,"") | AH31: =IF(AND($AE32=0,$AE31=3),1,"") | AI31: =IF(AND($AE32=0,$AE31=4),1,"") | AJ31: =IF(AND($AE32=0,$AE31=5),1,"") | AK31: =IF(AND($AE32=0,$AE31=6),1,"") | AL31: =IF(AND($AE32=0,$AE31=7),1,"") | AM31: =IF(AND($AE32=0,$AE31=8),1,"") | AN31: =IF(AND($AE32=0,$AE31=9),1,"") | AO31: =IF(AND($AE32=0,$AE31=10),1,"") | AP31: =IF(AND($AE32=0,$AE31=11),1,"") | AQ31: =IF(AND($AE32=0,$AE31=12),1,"") | AR31: =IF(AND($AE32=0,$AE31=13),1,"") | AS31: =IF(AND($AE32=0,$AE31=14),1,"") | AT31: =IF(AND($AE32=0,$AE31=15),1,"") | AU31: =IF(AND($AE32=0,$AE31=16),1,"") | AV31: =IF(AND($AE32=0,$AE31=17),1,"") | AW31: =IF(AND($AE32=0,$AE31=18),1,"") | AX31: =IF(AND($AE32=0,$AE31=19),1,"") | AY31: =IF(AND($AE32=0,$AE31=20),1,"") | AZ31: =IF(AND($AE32=0,$AE31=21),1,"") | BA31: =IF(AND($AE32=0,$AE31=22),1,"") | BB31: =IF(AND($AE32=0,$AE31=23),1,"") | BC31: =IF(AND($AE32=0,$AE31=24),1,"") | BD31: =IF(AND($AE32=0,$AE31=25),1,"") | BE31: =IF(AND($AE32=0,$AE31=26),1,"") | BF31: =IF(AND($AE32=0,$AE31=27),1,"") | BG31: =IF(AND($AE32=0,$AE31=28),1,"") | BH31: =IF(AND($AE32=0,$AE31=29),1,"") | BI31: =IF(AND($AE32=0,$AE31=30),1,"") | BJ31: =IF(AE31="","",IF(AND($AE32=0,$AE31>30),1,""))
B32: 35 | C32: =IF(B32="","",VLOOKUP(B32,Tabelle2!$A$2:$B$38,2,0)) -> 2-14-20-21-25-31 | D32: =IF(B32="","",IF(B31=1,COUNTIF($X$1:$AC$1,B32),IF(B31=2,COUNTIF($X$2:$AC$2,B32),IF(B31=3,COUNTIF($X$3:$AC$3,B32),IF(B31=4,COUNTIF($X$4:$AC$4,B32),IF(B31=5,COUNTIF($X$5:$AC$5,B32),IF(B31=6,COUNTIF($X$6:$AC$6,B32),IF(B31=7,COUNTIF($X$7:$AC$7,B32),IF(B31=8,COUNTIF($X$8:$AC$8,B32),IF(B31=9,COUNTIF($X$9:$AC$9,B32),IF(B31=10,COUNTIF($X$10:$AC$10,B32),IF(B31=11,COUNTIF($X$11:$AC$11,B32),IF(B31=12,COUNTIF($X$12:$AC$12,B32),IF(B31=13,COUNTIF($X$13:$AC$13,B32),IF(B31=14,COUNTIF($X$14:$AC$14,B32),IF(B31=15,COUNTIF($X$15:$AC$15,B32),IF(B31=16,COUNTIF($X$16:$AC$16,B32),IF(B31=17,COUNTIF($X$17:$AC$17,B32),IF(B31=18,COUNTIF($X$18:$AC$18,B32),IF(B31=19,COUNTIF($X$19:$AC$19,B32),IF(B31=20,COUNTIF($X$20:$AC$20,B32),IF(B31=21,COUNTIF($X$21:$AC$21,B32),IF(B31=22,COUNTIF($X$22:$AC$22,B32),IF(B31=23,COUNTIF($X$23:$AC$23,B32),IF(B31=24,COUNTIF($X$24:$AC$24,B32),IF(B31=25,COUNTIF($X$25:$AC$25,B32),IF(B31=26,COUNTIF($X$26:$AC$26,B32),IF(B31=27,COUNTIF($X$27:$AC$27,B32),IF(B31=28,COUNTIF($X$28:$AC$28,B32),IF(B31=29,COUNTIF($X$29:$AC$29,B32),IF(B31=30,COUNTIF($X$30:$AC$30,B32),IF(B31=31,COUNTIF($X$31:$AC$31,B32),IF(B31=32,COUNTIF($X$32:$AC$32,B32),IF(B31=33,COUNTIF($X$33:$AC$33,B32),IF(B31=34,COUNTIF($X$34:$AC$34,B32),IF(B31=35,COUNTIF($X$35:$AC$35,B32),IF(B31=36,COUNTIF($X$36:$AC$36,B32),IF(B31=0,COUNTIF($X$37:$AC$37,B32),"")))))))))))))))))))))))))))))))))))))) -> 0 | E32: =IF(B32="","",IF(D32=1,"W",IF(D32=0,"L",""))) -> L | F32: =IF(B32="","",IF(AE31<$J$15,"Bet","No Bet")) -> Bet | G32: =IF(B32="","",IF(F32="No Bet",G31,IF(E32="L",-6+G31,IF(E32="W",30+G31)))) -> -36 | L32: 29 | M32: =BH602 -> 0 | W32: 32 | X32: 6 | Y32: 18 | Z32: 22 | AA32: 27 | AB32: 29 | AC32: 34 | AE32: =IF(E32="L",AE31+1,IF(E32="W",0,"")) -> 11 | AF32: =IF(AND($AE33=0,$AE32=1),1,"") | AG32: =IF(AND($AE33=0,$AE32=2),1,"") | AH32: =IF(AND($AE33=0,$AE32=3),1,"") | AI32: =IF(AND($AE33=0,$AE32=4),1,"") | AJ32: =IF(AND($AE33=0,$AE32=5),1,"") | AK32: =IF(AND($AE33=0,$AE32=6),1,"") | AL32: =IF(AND($AE33=0,$AE32=7),1,"") | AM32: =IF(AND($AE33=0,$AE32=8),1,"") | AN32: =IF(AND($AE33=0,$AE32=9),1,"") | AO32: =IF(AND($AE33=0,$AE32=10),1,"") | AP32: =IF(AND($AE33=0,$AE32=11),1,"") | AQ32: =IF(AND($AE33=0,$AE32=12),1,"") | AR32: =IF(AND($AE33=0,$AE32=13),1,"") | AS32: =IF(AND($AE33=0,$AE32=14),1,"") | AT32: =IF(AND($AE33=0,$AE32=15),1,"") | AU32: =IF(AND($AE33=0,$AE32=16),1,"") | AV32: =IF(AND($AE33=0,$AE32=17),1,"") | AW32: =IF(AND($AE33=0,$AE32=18),1,"") | AX32: =IF(AND($AE33=0,$AE32=19),1,"") | AY32: =IF(AND($AE33=0,$AE32=20),1,"") | AZ32: =IF(AND($AE33=0,$AE32=21),1,"") | BA32: =IF(AND($AE33=0,$AE32=22),1,"") | BB32: =IF(AND($AE33=0,$AE32=23),1,"") | BC32: =IF(AND($AE33=0,$AE32=24),1,"") | BD32: =IF(AND($AE33=0,$AE32=25),1,"") | BE32: =IF(AND($AE33=0,$AE32=26),1,"") | BF32: =IF(AND($AE33=0,$AE32=27),1,"") | BG32: =IF(AND($AE33=0,$AE32=28),1,"") | BH32: =IF(AND($AE33=0,$AE32=29),1,"") | BI32: =IF(AND($AE33=0,$AE32=30),1,"") | BJ32: =IF(AE32="","",IF(AND($AE33=0,$AE32>30),1,""))
B33: 29 | C33: =IF(B33="","",VLOOKUP(B33,Tabelle2!$A$2:$B$38,2,0)) -> 15-16-19-24-32-33 | D33: =IF(B33="","",IF(B32=1,COUNTIF($X$1:$AC$1,B33),IF(B32=2,COUNTIF($X$2:$AC$2,B33),IF(B32=3,COUNTIF($X$3:$AC$3,B33),IF(B32=4,COUNTIF($X$4:$AC$4,B33),IF(B32=5,COUNTIF($X$5:$AC$5,B33),IF(B32=6,COUNTIF($X$6:$AC$6,B33),IF(B32=7,COUNTIF($X$7:$AC$7,B33),IF(B32=8,COUNTIF($X$8:$AC$8,B33),IF(B32=9,COUNTIF($X$9:$AC$9,B33),IF(B32=10,COUNTIF($X$10:$AC$10,B33),IF(B32=11,COUNTIF($X$11:$AC$11,B33),IF(B32=12,COUNTIF($X$12:$AC$12,B33),IF(B32=13,COUNTIF($X$13:$AC$13,B33),IF(B32=14,COUNTIF($X$14:$AC$14,B33),IF(B32=15,COUNTIF($X$15:$AC$15,B33),IF(B32=16,COUNTIF($X$16:$AC$16,B33),IF(B32=17,COUNTIF($X$17:$AC$17,B33),IF(B32=18,COUNTIF($X$18:$AC$18,B33),IF(B32=19,COUNTIF($X$19:$AC$19,B33),IF(B32=20,COUNTIF($X$20:$AC$20,B33),IF(B32=21,COUNTIF($X$21:$AC$21,B33),IF(B32=22,COUNTIF($X$22:$AC$22,B33),IF(B32=23,COUNTIF($X$23:$AC$23,B33),IF(B32=24,COUNTIF($X$24:$AC$24,B33),IF(B32=25,COUNTIF($X$25:$AC$25,B33),IF(B32=26,COUNTIF($X$26:$AC$26,B33),IF(B32=27,COUNTIF($X$27:$AC$27,B33),IF(B32=28,COUNTIF($X$28:$AC$28,B33),IF(B32=29,COUNTIF($X$29:$AC$29,B33),IF(B32=30,COUNTIF($X$30:$AC$30,B33),IF(B32=31,COUNTIF($X$31:$AC$31,B33),IF(B32=32,COUNTIF($X$32:$AC$32,B33),IF(B32=33,COUNTIF($X$33:$AC$33,B33),IF(B32=34,COUNTIF($X$34:$AC$34,B33),IF(B32=35,COUNTIF($X$35:$AC$35,B33),IF(B32=36,COUNTIF($X$36:$AC$36,B33),IF(B32=0,COUNTIF($X$37:$AC$37,B33),"")))))))))))))))))))))))))))))))))))))) -> 0 | E33: =IF(B33="","",IF(D33=1,"W",IF(D33=0,"L",""))) -> L | F33: =IF(B33="","",IF(AE32<$J$15,"Bet","No Bet")) -> Bet | G33: =IF(B33="","",IF(F33="No Bet",G32,IF(E33="L",-6+G32,IF(E33="W",30+G32)))) -> -42 | L33: 30 | M33: =BI602 -> 1 | W33: 33 | X33: 7 | Y33: 11 | Z33: 13 | AA33: 28 | AB33: 29 | AC33: 36 | AE33: =IF(E33="L",AE32+1,IF(E33="W",0,"")) -> 12 | AF33: =IF(AND($AE34=0,$AE33=1),1,"") | AG33: =IF(AND($AE34=0,$AE33=2),1,"") | AH33: =IF(AND($AE34=0,$AE33=3),1,"") | AI33: =IF(AND($AE34=0,$AE33=4),1,"") | AJ33: =IF(AND($AE34=0,$AE33=5),1,"") | AK33: =IF(AND($AE34=0,$AE33=6),1,"") | AL33: =IF(AND($AE34=0,$AE33=7),1,"") | AM33: =IF(AND($AE34=0,$AE33=8),1,"") | AN33: =IF(AND($AE34=0,$AE33=9),1,"") | AO33: =IF(AND($AE34=0,$AE33=10),1,"") | AP33: =IF(AND($AE34=0,$AE33=11),1,"") | AQ33: =IF(AND($AE34=0,$AE33=12),1,"") | AR33: =IF(AND($AE34=0,$AE33=13),1,"") | AS33: =IF(AND($AE34=0,$AE33=14),1,"") | AT33: =IF(AND($AE34=0,$AE33=15),1,"") | AU33: =IF(AND($AE34=0,$AE33=16),1,"") | AV33: =IF(AND($AE34=0,$AE33=17),1,"") | AW33: =IF(AND($AE34=0,$AE33=18),1,"") | AX33: =IF(AND($AE34=0,$AE33=19),1,"") | AY33: =IF(AND($AE34=0,$AE33=20),1,"") | AZ33: =IF(AND($AE34=0,$AE33=21),1,"") | BA33: =IF(AND($AE34=0,$AE33=22),1,"") | BB33: =IF(AND($AE34=0,$AE33=23),1,"") | BC33: =IF(AND($AE34=0,$AE33=24),1,"") | BD33: =IF(AND($AE34=0,$AE33=25),1,"") | BE33: =IF(AND($AE34=0,$AE33=26),1,"") | BF33: =IF(AND($AE34=0,$AE33=27),1,"") | BG33: =IF(AND($AE34=0,$AE33=28),1,"") | BH33: =IF(AND($AE34=0,$AE33=29),1,"") | BI33: =IF(AND($AE34=0,$AE33=30),1,"") | BJ33: =IF(AE33="","",IF(AND($AE34=0,$AE33>30),1,""))
B34: 18 | C34: =IF(B34="","",VLOOKUP(B34,Tabelle2!$A$2:$B$38,2,0)) -> 0-5-15-16-24-32 | D34: =IF(B34="","",IF(B33=1,COUNTIF($X$1:$AC$1,B34),IF(B33=2,COUNTIF($X$2:$AC$2,B34),IF(B33=3,COUNTIF($X$3:$AC$3,B34),IF(B33=4,COUNTIF($X$4:$AC$4,B34),IF(B33=5,COUNTIF($X$5:$AC$5,B34),IF(B33=6,COUNTIF($X$6:$AC$6,B34),IF(B33=7,COUNTIF($X$7:$AC$7,B34),IF(B33=8,COUNTIF($X$8:$AC$8,B34),IF(B33=9,COUNTIF($X$9:$AC$9,B34),IF(B33=10,COUNTIF($X$10:$AC$10,B34),IF(B33=11,COUNTIF($X$11:$AC$11,B34),IF(B33=12,COUNTIF($X$12:$AC$12,B34),IF(B33=13,COUNTIF($X$13:$AC$13,B34),IF(B33=14,COUNTIF($X$14:$AC$14,B34),IF(B33=15,COUNTIF($X$15:$AC$15,B34),IF(B33=16,COUNTIF($X$16:$AC$16,B34),IF(B33=17,COUNTIF($X$17:$AC$17,B34),IF(B33=18,COUNTIF($X$18:$AC$18,B34),IF(B33=19,COUNTIF($X$19:$AC$19,B34),IF(B33=20,COUNTIF($X$20:$AC$20,B34),IF(B33=21,COUNTIF($X$21:$AC$21,B34),IF(B33=22,COUNTIF($X$22:$AC$22,B34),IF(B33=23,COUNTIF($X$23:$AC$23,B34),IF(B33=24,COUNTIF($X$24:$AC$24,B34),IF(B33=25,COUNTIF($X$25:$AC$25,B34),IF(B33=26,COUNTIF($X$26:$AC$26,B34),IF(B33=27,COUNTIF($X$27:$AC$27,B34),IF(B33=28,COUNTIF($X$28:$AC$28,B34),IF(B33=29,COUNTIF($X$29:$AC$29,B34),IF(B33=30,COUNTIF($X$30:$AC$30,B34),IF(B33=31,COUNTIF($X$31:$AC$31,B34),IF(B33=32,COUNTIF($X$32:$AC$32,B34),IF(B33=33,COUNTIF($X$33:$AC$33,B34),IF(B33=34,COUNTIF($X$34:$AC$34,B34),IF(B33=35,COUNTIF($X$35:$AC$35,B34),IF(B33=36,COUNTIF($X$36:$AC$36,B34),IF(B33=0,COUNTIF($X$37:$AC$37,B34),"")))))))))))))))))))))))))))))))))))))) -> 0 | E34: =IF(B34="","",IF(D34=1,"W",IF(D34=0,"L",""))) -> L | F34: =IF(B34="","",IF(AE33<$J$15,"Bet","No Bet")) -> Bet | G34: =IF(B34="","",IF(F34="No Bet",G33,IF(E34="L",-6+G33,IF(E34="W",30+G33)))) -> -48 | L34: >30 | M34: =BJ602 -> 1 | W34: 34 | X34: 0 | Y34: 5 | Z34: 10 | AA34: 23 | AB34: 26 | AC34: 32 | AE34: =IF(E34="L",AE33+1,IF(E34="W",0,"")) -> 13 | AF34: =IF(AND($AE35=0,$AE34=1),1,"") | AG34: =IF(AND($AE35=0,$AE34=2),1,"") | AH34: =IF(AND($AE35=0,$AE34=3),1,"") | AI34: =IF(AND($AE35=0,$AE34=4),1,"") | AJ34: =IF(AND($AE35=0,$AE34=5),1,"") | AK34: =IF(AND($AE35=0,$AE34=6),1,"") | AL34: =IF(AND($AE35=0,$AE34=7),1,"") | AM34: =IF(AND($AE35=0,$AE34=8),1,"") | AN34: =IF(AND($AE35=0,$AE34=9),1,"") | AO34: =IF(AND($AE35=0,$AE34=10),1,"") | AP34: =IF(AND($AE35=0,$AE34=11),1,"") | AQ34: =IF(AND($AE35=0,$AE34=12),1,"") | AR34: =IF(AND($AE35=0,$AE34=13),1,"") | AS34: =IF(AND($AE35=0,$AE34=14),1,"") | AT34: =IF(AND($AE35=0,$AE34=15),1,"") | AU34: =IF(AND($AE35=0,$AE34=16),1,"") | AV34: =IF(AND($AE35=0,$AE34=17),1,"") | AW34: =IF(AND($AE35=0,$AE34=18),1,"") | AX34: =IF(AND($AE35=0,$AE34=19),1,"") | AY34: =IF(AND($AE35=0,$AE34=20),1,"") | AZ34: =IF(AND($AE35=0,$AE34=21),1,"") | BA34: =IF(AND($AE35=0,$AE34=22),1,"") | BB34: =IF(AND($AE35=0,$AE34=23),1,"") | BC34: =IF(AND($AE35=0,$AE34=24),1,"") | BD34: =IF(AND($AE35=0,$AE34=25),1,"") | BE34: =IF(AND($AE35=0,$AE34=26),1,"") | BF34: =IF(AND($AE35=0,$AE34=27),1,"") | BG34: =IF(AND($AE35=0,$AE34=28),1,"") | BH34: =IF(AND($AE35=0,$AE34=29),1,"") | BI34: =IF(AND($AE35=0,$AE34=30),1,"") | BJ34: =IF(AE34="","",IF(AND($AE35=0,$AE34>30),1,""))
B35: 18 | C35: =IF(B35="","",VLOOKUP(B35,Tabelle2!$A$2:$B$38,2,0)) -> 0-5-15-16-24-32 | D35: =IF(B35="","",IF(B34=1,COUNTIF($X$1:$AC$1,B35),IF(B34=2,COUNTIF($X$2:$AC$2,B35),IF(B34=3,COUNTIF($X$3:$AC$3,B35),IF(B34=4,COUNTIF($X$4:$AC$4,B35),IF(B34=5,COUNTIF($X$5:$AC$5,B35),IF(B34=6,COUNTIF($X$6:$AC$6,B35),IF(B34=7,COUNTIF($X$7:$AC$7,B35),IF(B34=8,COUNTIF($X$8:$AC$8,B35),IF(B34=9,COUNTIF($X$9:$AC$9,B35),IF(B34=10,COUNTIF($X$10:$AC$10,B35),IF(B34=11,COUNTIF($X$11:$AC$11,B35),IF(B34=12,COUNTIF($X$12:$AC$12,B35),IF(B34=13,COUNTIF($X$13:$AC$13,B35),IF(B34=14,COUNTIF($X$14:$AC$14,B35),IF(B34=15,COUNTIF($X$15:$AC$15,B35),IF(B34=16,COUNTIF($X$16:$AC$16,B35),IF(B34=17,COUNTIF($X$17:$AC$17,B35),IF(B34=18,COUNTIF($X$18:$AC$18,B35),IF(B34=19,COUNTIF($X$19:$AC$19,B35),IF(B34=20,COUNTIF($X$20:$AC$20,B35),IF(B34=21,COUNTIF($X$21:$AC$21,B35),IF(B34=22,COUNTIF($X$22:$AC$22,B35),IF(B34=23,COUNTIF($X$23:$AC$23,B35),IF(B34=24,COUNTIF($X$24:$AC$24,B35),IF(B34=25,COUNTIF($X$25:$AC$25,B35),IF(B34=26,COUNTIF($X$26:$AC$26,B35),IF(B34=27,COUNTIF($X$27:$AC$27,B35),IF(B34=28,COUNTIF($X$28:$AC$28,B35),IF(B34=29,COUNTIF($X$29:$AC$29,B35),IF(B34=30,COUNTIF($X$30:$AC$30,B35),IF(B34=31,COUNTIF($X$31:$AC$31,B35),IF(B34=32,COUNTIF($X$32:$AC$32,B35),IF(B34=33,COUNTIF($X$33:$AC$33,B35),IF(B34=34,COUNTIF($X$34:$AC$34,B35),IF(B34=35,COUNTIF($X$35:$AC$35,B35),IF(B34=36,COUNTIF($X$36:$AC$36,B35),IF(B34=0,COUNTIF($X$37:$AC$37,B35),"")))))))))))))))))))))))))))))))))))))) -> 0 | E35: =IF(B35="","",IF(D35=1,"W",IF(D35=0,"L",""))) -> L | F35: =IF(B35="","",IF(AE34<$J$15,"Bet","No Bet")) -> Bet | G35: =IF(B35="","",IF(F35="No Bet",G34,IF(E35="L",-6+G34,IF(E35="W",30+G34)))) -> -54 | W35: 35 | X35: 2 | Y35: 14 | Z35: 20 | AA35: 21 | AB35: 25 | AC35: 31 | AE35: =IF(E35="L",AE34+1,IF(E35="W",0,"")) -> 14 | AF35: =IF(AND($AE36=0,$AE35=1),1,"") | AG35: =IF(AND($AE36=0,$AE35=2),1,"") | AH35: =IF(AND($AE36=0,$AE35=3),1,"") | AI35: =IF(AND($AE36=0,$AE35=4),1,"") | AJ35: =IF(AND($AE36=0,$AE35=5),1,"") | AK35: =IF(AND($AE36=0,$AE35=6),1,"") | AL35: =IF(AND($AE36=0,$AE35=7),1,"") | AM35: =IF(AND($AE36=0,$AE35=8),1,"") | AN35: =IF(AND($AE36=0,$AE35=9),1,"") | AO35: =IF(AND($AE36=0,$AE35=10),1,"") | AP35: =IF(AND($AE36=0,$AE35=11),1,"") | AQ35: =IF(AND($AE36=0,$AE35=12),1,"") | AR35: =IF(AND($AE36=0,$AE35=13),1,"") | AS35: =IF(AND($AE36=0,$AE35=14),1,"") -> 1 | AT35: =IF(AND($AE36=0,$AE35=15),1,"") | AU35: =IF(AND($AE36=0,$AE35=16),1,"") | AV35: =IF(AND($AE36=0,$AE35=17),1,"") | AW35: =IF(AND($AE36=0,$AE35=18),1,"") | AX35: =IF(AND($AE36=0,$AE35=19),1,"") | AY35: =IF(AND($AE36=0,$AE35=20),1,"") | AZ35: =IF(AND($AE36=0,$AE35=21),1,"") | BA35: =IF(AND($AE36=0,$AE35=22),1,"") | BB35: =IF(AND($AE36=0,$AE35=23),1,"") | BC35: =IF(AND($AE36=0,$AE35=24),1,"") | BD35: =IF(AND($AE36=0,$AE35=25),1,"") | BE35: =IF(AND($AE36=0,$AE35=26),1,"") | BF35: =IF(AND($AE36=0,$AE35=27),1,"") | BG35: =IF(AND($AE36=0,$AE35=28),1,"") | BH35: =IF(AND($AE36=0,$AE35=29),1,"") | BI35: =IF(AND($AE36=0,$AE35=30),1,"") | BJ35: =IF(AE35="","",IF(AND($AE36=0,$AE35>30),1,""))
B36: 5 | C36: =IF(B36="","",VLOOKUP(B36,Tabelle2!$A$2:$B$38,2,0)) -> 6-9-18-22-27-34 | D36: =IF(B36="","",IF(B35=1,COUNTIF($X$1:$AC$1,B36),IF(B35=2,COUNTIF($X$2:$AC$2,B36),IF(B35=3,COUNTIF($X$3:$AC$3,B36),IF(B35=4,COUNTIF($X$4:$AC$4,B36),IF(B35=5,COUNTIF($X$5:$AC$5,B36),IF(B35=6,COUNTIF($X$6:$AC$6,B36),IF(B35=7,COUNTIF($X$7:$AC$7,B36),IF(B35=8,COUNTIF($X$8:$AC$8,B36),IF(B35=9,COUNTIF($X$9:$AC$9,B36),IF(B35=10,COUNTIF($X$10:$AC$10,B36),IF(B35=11,COUNTIF($X$11:$AC$11,B36),IF(B35=12,COUNTIF($X$12:$AC$12,B36),IF(B35=13,COUNTIF($X$13:$AC$13,B36),IF(B35=14,COUNTIF($X$14:$AC$14,B36),IF(B35=15,COUNTIF($X$15:$AC$15,B36),IF(B35=16,COUNTIF($X$16:$AC$16,B36),IF(B35=17,COUNTIF($X$17:$AC$17,B36),IF(B35=18,COUNTIF($X$18:$AC$18,B36),IF(B35=19,COUNTIF($X$19:$AC$19,B36),IF(B35=20,COUNTIF($X$20:$AC$20,B36),IF(B35=21,COUNTIF($X$21:$AC$21,B36),IF(B35=22,COUNTIF($X$22:$AC$22,B36),IF(B35=23,COUNTIF($X$23:$AC$23,B36),IF(B35=24,COUNTIF($X$24:$AC$24,B36),IF(B35=25,COUNTIF($X$25:$AC$25,B36),IF(B35=26,COUNTIF($X$26:$AC$26,B36),IF(B35=27,COUNTIF($X$27:$AC$27,B36),IF(B35=28,COUNTIF($X$28:$AC$28,B36),IF(B35=29,COUNTIF($X$29:$AC$29,B36),IF(B35=30,COUNTIF($X$30:$AC$30,B36),IF(B35=31,COUNTIF($X$31:$AC$31,B36),IF(B35=32,COUNTIF($X$32:$AC$32,B36),IF(B35=33,COUNTIF($X$33:$AC$33,B36),IF(B35=34,COUNTIF($X$34:$AC$34,B36),IF(B35=35,COUNTIF($X$35:$AC$35,B36),IF(B35=36,COUNTIF($X$36:$AC$36,B36),IF(B35=0,COUNTIF($X$37:$AC$37,B36),"")))))))))))))))))))))))))))))))))))))) -> 1 | E36: =IF(B36="","",IF(D36=1,"W",IF(D36=0,"L",""))) -> W | F36: =IF(B36="","",IF(AE35<$J$15,"Bet","No Bet")) -> Bet | G36: =IF(B36="","",IF(F36="No Bet",G35,IF(E36="L",-6+G35,IF(E36="W",30+G35)))) -> -24 | W36: 36 | X36: 1 | Y36: 4 | Z36: 16 | AA36: 19 | AB36: 21 | AC36: 33 | AE36: =IF(E36="L",AE35+1,IF(E36="W",0,"")) -> 0 | AF36: =IF(AND($AE37=0,$AE36=1),1,"") | AG36: =IF(AND($AE37=0,$AE36=2),1,"") | AH36: =IF(AND($AE37=0,$AE36=3),1,"") | AI36: =IF(AND($AE37=0,$AE36=4),1,"") | AJ36: =IF(AND($AE37=0,$AE36=5),1,"") | AK36: =IF(AND($AE37=0,$AE36=6),1,"") | AL36: =IF(AND($AE37=0,$AE36=7),1,"") | AM36: =IF(AND($AE37=0,$AE36=8),1,"") | AN36: =IF(AND($AE37=0,$AE36=9),1,"") | AO36: =IF(AND($AE37=0,$AE36=10),1,"") | AP36: =IF(AND($AE37=0,$AE36=11),1,"") | AQ36: =IF(AND($AE37=0,$AE36=12),1,"") | AR36: =IF(AND($AE37=0,$AE36=13),1,"") | AS36: =IF(AND($AE37=0,$AE36=14),1,"") | AT36: =IF(AND($AE37=0,$AE36=15),1,"") | AU36: =IF(AND($AE37=0,$AE36=16),1,"") | AV36: =IF(AND($AE37=0,$AE36=17),1,"") | AW36: =IF(AND($AE37=0,$AE36=18),1,"") | AX36: =IF(AND($AE37=0,$AE36=19),1,"") | AY36: =IF(AND($AE37=0,$AE36=20),1,"") | AZ36: =IF(AND($AE37=0,$AE36=21),1,"") | BA36: =IF(AND($AE37=0,$AE36=22),1,"") | BB36: =IF(AND($AE37=0,$AE36=23),1,"") | BC36: =IF(AND($AE37=0,$AE36=24),1,"") | BD36: =IF(AND($AE37=0,$AE36=25),1,"") | BE36: =IF(AND($AE37=0,$AE36=26),1,"") | BF36: =IF(AND($AE37=0,$AE36=27),1,"") | BG36: =IF(AND($AE37=0,$AE36=28),1,"") | BH36: =IF(AND($AE37=0,$AE36=29),1,"") | BI36: =IF(AND($AE37=0,$AE36=30),1,"") | BJ36: =IF(AE36="","",IF(AND($AE37=0,$AE36>30),1,""))
B37: 8 | C37: =IF(B37="","",VLOOKUP(B37,Tabelle2!$A$2:$B$38,2,0)) -> 2-14-17-20-25-31 | D37: =IF(B37="","",IF(B36=1,COUNTIF($X$1:$AC$1,B37),IF(B36=2,COUNTIF($X$2:$AC$2,B37),IF(B36=3,COUNTIF($X$3:$AC$3,B37),IF(B36=4,COUNTIF($X$4:$AC$4,B37),IF(B36=5,COUNTIF($X$5:$AC$5,B37),IF(B36=6,COUNTIF($X$6:$AC$6,B37),IF(B36=7,COUNTIF($X$7:$AC$7,B37),IF(B36=8,COUNTIF($X$8:$AC$8,B37),IF(B36=9,COUNTIF($X$9:$AC$9,B37),IF(B36=10,COUNTIF($X$10:$AC$10,B37),IF(B36=11,COUNTIF($X$11:$AC$11,B37),IF(B36=12,COUNTIF($X$12:$AC$12,B37),IF(B36=13,COUNTIF($X$13:$AC$13,B37),IF(B36=14,COUNTIF($X$14:$AC$14,B37),IF(B36=15,COUNTIF($X$15:$AC$15,B37),IF(B36=16,COUNTIF($X$16:$AC$16,B37),IF(B36=17,COUNTIF($X$17:$AC$17,B37),IF(B36=18,COUNTIF($X$18:$AC$18,B37),IF(B36=19,COUNTIF($X$19:$AC$19,B37),IF(B36=20,COUNTIF($X$20:$AC$20,B37),IF(B36=21,COUNTIF($X$21:$AC$21,B37),IF(B36=22,COUNTIF($X$22:$AC$22,B37),IF(B36=23,COUNTIF($X$23:$AC$23,B37),IF(B36=24,COUNTIF($X$24:$AC$24,B37),IF(B36=25,COUNTIF($X$25:$AC$25,B37),IF(B36=26,COUNTIF($X$26:$AC$26,B37),IF(B36=27,COUNTIF($X$27:$AC$27,B37),IF(B36=28,COUNTIF($X$28:$AC$28,B37),IF(B36=29,COUNTIF($X$29:$AC$29,B37),IF(B36=30,COUNTIF($X$30:$AC$30,B37),IF(B36=31,COUNTIF($X$31:$AC$31,B37),IF(B36=32,COUNTIF($X$32:$AC$32,B37),IF(B36=33,COUNTIF($X$33:$AC$33,B37),IF(B36=34,COUNTIF($X$34:$AC$34,B37),IF(B36=35,COUNTIF($X$35:$AC$35,B37),IF(B36=36,COUNTIF($X$36:$AC$36,B37),IF(B36=0,COUNTIF($X$37:$AC$37,B37),"")))))))))))))))))))))))))))))))))))))) -> 0 | E37: =IF(B37="","",IF(D37=1,"W",IF(D37=0,"L",""))) -> L | F37: =IF(B37="","",IF(AE36<$J$15,"Bet","No Bet")) -> Bet | G37: =IF(B37="","",IF(F37="No Bet",G36,IF(E37="L",-6+G36,IF(E37="W",30+G36)))) -> -30 | W37: 0 | X37: 6 | Y37: 9 | Z37: 17 | AA37: 18 | AB37: 22 | AC37: 34 | AE37: =IF(E37="L",AE36+1,IF(E37="W",0,"")) -> 1 | AF37: =IF(AND($AE38=0,$AE37=1),1,"") | AG37: =IF(AND($AE38=0,$AE37=2),1,"") | AH37: =IF(AND($AE38=0,$AE37=3),1,"") | AI37: =IF(AND($AE38=0,$AE37=4),1,"") | AJ37: =IF(AND($AE38=0,$AE37=5),1,"") | AK37: =IF(AND($AE38=0,$AE37=6),1,"") | AL37: =IF(AND($AE38=0,$AE37=7),1,"") | AM37: =IF(AND($AE38=0,$AE37=8),1,"") | AN37: =IF(AND($AE38=0,$AE37=9),1,"") | AO37: =IF(AND($AE38=0,$AE37=10),1,"") | AP37: =IF(AND($AE38=0,$AE37=11),1,"") | AQ37: =IF(AND($AE38=0,$AE37=12),1,"") | AR37: =IF(AND($AE38=0,$AE37=13),1,"") | AS37: =IF(AND($AE38=0,$AE37=14),1,"") | AT37: =IF(AND($AE38=0,$AE37=15),1,"") | AU37: =IF(AND($AE38=0,$AE37=16),1,"") | AV37: =IF(AND($AE38=0,$AE37=17),1,"") | AW37: =IF(AND($AE38=0,$AE37=18),1,"") | AX37: =IF(AND($AE38=0,$AE37=19),1,"") | AY37: =IF(AND($AE38=0,$AE37=20),1,"") | AZ37: =IF(AND($AE38=0,$AE37=21),1,"") | BA37: =IF(AND($AE38=0,$AE37=22),1,"") | BB37: =IF(AND($AE38=0,$AE37=23),1,"") | BC37: =IF(AND($AE38=0,$AE37=24),1,"") | BD37: =IF(AND($AE38=0,$AE37=25),1,"") | BE37: =IF(AND($AE38=0,$AE37=26),1,"") | BF37: =IF(AND($AE38=0,$AE37=27),1,"") | BG37: =IF(AND($AE38=0,$AE37=28),1,"") | BH37: =IF(AND($AE38=0,$AE37=29),1,"") | BI37: =IF(AND($AE38=0,$AE37=30),1,"") | BJ37: =IF(AE37="","",IF(AND($AE38=0,$AE37>30),1,""))
B38: 8 | C38: =IF(B38="","",VLOOKUP(B38,Tabelle2!$A$2:$B$38,2,0)) -> 2-14-17-20-25-31 | D38: =IF(B38="","",IF(B37=1,COUNTIF($X$1:$AC$1,B38),IF(B37=2,COUNTIF($X$2:$AC$2,B38),IF(B37=3,COUNTIF($X$3:$AC$3,B38),IF(B37=4,COUNTIF($X$4:$AC$4,B38),IF(B37=5,COUNTIF($X$5:$AC$5,B38),IF(B37=6,COUNTIF($X$6:$AC$6,B38),IF(B37=7,COUNTIF($X$7:$AC$7,B38),IF(B37=8,COUNTIF($X$8:$AC$8,B38),IF(B37=9,COUNTIF($X$9:$AC$9,B38),IF(B37=10,COUNTIF($X$10:$AC$10,B38),IF(B37=11,COUNTIF($X$11:$AC$11,B38),IF(B37=12,COUNTIF($X$12:$AC$12,B38),IF(B37=13,COUNTIF($X$13:$AC$13,B38),IF(B37=14,COUNTIF($X$14:$AC$14,B38),IF(B37=15,COUNTIF($X$15:$AC$15,B38),IF(B37=16,COUNTIF($X$16:$AC$16,B38),IF(B37=17,COUNTIF($X$17:$AC$17,B38),IF(B37=18,COUNTIF($X$18:$AC$18,B38),IF(B37=19,COUNTIF($X$19:$AC$19,B38),IF(B37=20,COUNTIF($X$20:$AC$20,B38),IF(B37=21,COUNTIF($X$21:$AC$21,B38),IF(B37=22,COUNTIF($X$22:$AC$22,B38),IF(B37=23,COUNTIF($X$23:$AC$23,B38),IF(B37=24,COUNTIF($X$24:$AC$24,B38),IF(B37=25,COUNTIF($X$25:$AC$25,B38),IF(B37=26,COUNTIF($X$26:$AC$26,B38),IF(B37=27,COUNTIF($X$27:$AC$27,B38),IF(B37=28,COUNTIF($X$28:$AC$28,B38),IF(B37=29,COUNTIF($X$29:$AC$29,B38),IF(B37=30,COUNTIF($X$30:$AC$30,B38),IF(B37=31,COUNTIF($X$31:$AC$31,B38),IF(B37=32,COUNTIF($X$32:$AC$32,B38),IF(B37=33,COUNTIF($X$33:$AC$33,B38),IF(B37=34,COUNTIF($X$34:$AC$34,B38),IF(B37=35,COUNTIF($X$35:$AC$35,B38),IF(B37=36,COUNTIF($X$36:$AC$36,B38),IF(B37=0,COUNTIF($X$37:$AC$37,B38),"")))))))))))))))))))))))))))))))))))))) -> 0 | E38: =IF(B38="","",IF(D38=1,"W",IF(D38=0,"L",""))) -> L | F38: =IF(B38="","",IF(AE37<$J$15,"Bet","No Bet")) -> Bet | G38: =IF(B38="","",IF(F38="No Bet",G37,IF(E38="L",-6+G37,IF(E38="W",30+G37)))) -> -36 | AE38: =IF(E38="L",AE37+1,IF(E38="W",0,"")) -> 2 | AF38: =IF(AND($AE39=0,$AE38=1),1,"") | AG38: =IF(AND($AE39=0,$AE38=2),1,"") | AH38: =IF(AND($AE39=0,$AE38=3),1,"") | AI38: =IF(AND($AE39=0,$AE38=4),1,"") | AJ38: =IF(AND($AE39=0,$AE38=5),1,"") | AK38: =IF(AND($AE39=0,$AE38=6),1,"") | AL38: =IF(AND($AE39=0,$AE38=7),1,"") | AM38: =IF(AND($AE39=0,$AE38=8),1,"") | AN38: =IF(AND($AE39=0,$AE38=9),1,"") | AO38: =IF(AND($AE39=0,$AE38=10),1,"") | AP38: =IF(AND($AE39=0,$AE38=11),1,"") | AQ38: =IF(AND($AE39=0,$AE38=12),1,"") | AR38: =IF(AND($AE39=0,$AE38=13),1,"") | AS38: =IF(AND($AE39=0,$AE38=14),1,"") | AT38: =IF(AND($AE39=0,$AE38=15),1,"") | AU38: =IF(AND($AE39=0,$AE38=16),1,"") | AV38: =IF(AND($AE39=0,$AE38=17),1,"") | AW38: =IF(AND($AE39=0,$AE38=18),1,"") | AX38: =IF(AND($AE39=0,$AE38=19),1,"") | AY38: =IF(AND($AE39=0,$AE38=20),1,"") | AZ38: =IF(AND($AE39=0,$AE38=21),1,"") | BA38: =IF(AND($AE39=0,$AE38=22),1,"") | BB38: =IF(AND($AE39=0,$AE38=23),1,"") | BC38: =IF(AND($AE39=0,$AE38=24),1,"") | BD38: =IF(AND($AE39=0,$AE38=25),1,"") | BE38: =IF(AND($AE39=0,$AE38=26),1,"") | BF38: =IF(AND($AE39=0,$AE38=27),1,"") | BG38: =IF(AND($AE39=0,$AE38=28),1,"") | BH38: =IF(AND($AE39=0,$AE38=29),1,"") | BI38: =IF(AND($AE39=0,$AE38=30),1,"") | BJ38: =IF(AE38="","",IF(AND($AE39=0,$AE38>30),1,""))
B39: 13 | C39: =IF(B39="","",VLOOKUP(B39,Tabelle2!$A$2:$B$38,2,0)) -> 4-15-16-19-24-33 | D39: =IF(B39="","",IF(B38=1,COUNTIF($X$1:$AC$1,B39),IF(B38=2,COUNTIF($X$2:$AC$2,B39),IF(B38=3,COUNTIF($X$3:$AC$3,B39),IF(B38=4,COUNTIF($X$4:$AC$4,B39),IF(B38=5,COUNTIF($X$5:$AC$5,B39),IF(B38=6,COUNTIF($X$6:$AC$6,B39),IF(B38=7,COUNTIF($X$7:$AC$7,B39),IF(B38=8,COUNTIF($X$8:$AC$8,B39),IF(B38=9,COUNTIF($X$9:$AC$9,B39),IF(B38=10,COUNTIF($X$10:$AC$10,B39),IF(B38=11,COUNTIF($X$11:$AC$11,B39),IF(B38=12,COUNTIF($X$12:$AC$12,B39),IF(B38=13,COUNTIF($X$13:$AC$13,B39),IF(B38=14,COUNTIF($X$14:$AC$14,B39),IF(B38=15,COUNTIF($X$15:$AC$15,B39),IF(B38=16,COUNTIF($X$16:$AC$16,B39),IF(B38=17,COUNTIF($X$17:$AC$17,B39),IF(B38=18,COUNTIF($X$18:$AC$18,B39),IF(B38=19,COUNTIF($X$19:$AC$19,B39),IF(B38=20,COUNTIF($X$20:$AC$20,B39),IF(B38=21,COUNTIF($X$21:$AC$21,B39),IF(B38=22,COUNTIF($X$22:$AC$22,B39),IF(B38=23,COUNTIF($X$23:$AC$23,B39),IF(B38=24,COUNTIF($X$24:$AC$24,B39),IF(B38=25,COUNTIF($X$25:$AC$25,B39),IF(B38=26,COUNTIF($X$26:$AC$26,B39),IF(B38=27,COUNTIF($X$27:$AC$27,B39),IF(B38=28,COUNTIF($X$28:$AC$28,B39),IF(B38=29,COUNTIF($X$29:$AC$29,B39),IF(B38=30,COUNTIF($X$30:$AC$30,B39),IF(B38=31,COUNTIF($X$31:$AC$31,B39),IF(B38=32,COUNTIF($X$32:$AC$32,B39),IF(B38=33,COUNTIF($X$33:$AC$33,B39),IF(B38=34,COUNTIF($X$34:$AC$34,B39),IF(B38=35,COUNTIF($X$35:$AC$35,B39),IF(B38=36,COUNTIF($X$36:$AC$36,B39),IF(B38=0,COUNTIF($X$37:$AC$37,B39),"")))))))))))))))))))))))))))))))))))))) -> 0 | E39: =IF(B39="","",IF(D39=1,"W",IF(D39=0,"L",""))) -> L | F39: =IF(B39="","",IF(AE38<$J$15,"Bet","No Bet")) -> Bet | G39: =IF(B39="","",IF(F39="No Bet",G38,IF(E39="L",-6+G38,IF(E39="W",30+G38)))) -> -42 | AE39: =IF(E39="L",AE38+1,IF(E39="W",0,"")) -> 3 | AF39: =IF(AND($AE40=0,$AE39=1),1,"") | AG39: =IF(AND($AE40=0,$AE39=2),1,"") | AH39: =IF(AND($AE40=0,$AE39=3),1,"") | AI39: =IF(AND($AE40=0,$AE39=4),1,"") | AJ39: =IF(AND($AE40=0,$AE39=5),1,"") | AK39: =IF(AND($AE40=0,$AE39=6),1,"") | AL39: =IF(AND($AE40=0,$AE39=7),1,"") | AM39: =IF(AND($AE40=0,$AE39=8),1,"") | AN39: =IF(AND($AE40=0,$AE39=9),1,"") | AO39: =IF(AND($AE40=0,$AE39=10),1,"") | AP39: =IF(AND($AE40=0,$AE39=11),1,"") | AQ39: =IF(AND($AE40=0,$AE39=12),1,"") | AR39: =IF(AND($AE40=0,$AE39=13),1,"") | AS39: =IF(AND($AE40=0,$AE39=14),1,"") | AT39: =IF(AND($AE40=0,$AE39=15),1,"") | AU39: =IF(AND($AE40=0,$AE39=16),1,"") | AV39: =IF(AND($AE40=0,$AE39=17),1,"") | AW39: =IF(AND($AE40=0,$AE39=18),1,"") | AX39: =IF(AND($AE40=0,$AE39=19),1,"") | AY39: =IF(AND($AE40=0,$AE39=20),1,"") | AZ39: =IF(AND($AE40=0,$AE39=21),1,"") | BA39: =IF(AND($AE40=0,$AE39=22),1,"") | BB39: =IF(AND($AE40=0,$AE39=23),1,"") | BC39: =IF(AND($AE40=0,$AE39=24),1,"") | BD39: =IF(AND($AE40=0,$AE39=25),1,"") | BE39: =IF(AND($AE40=0,$AE39=26),1,"") | BF39: =IF(AND($AE40=0,$AE39=27),1,"") | BG39: =IF(AND($AE40=0,$AE39=28),1,"") | BH39: =IF(AND($AE40=0,$AE39=29),1,"") | BI39: =IF(AND($AE40=0,$AE39=30),1,"") | BJ39: =IF(AE39="","",IF(AND($AE40=0,$AE39>30),1,""))
B40: 18 | C40: =IF(B40="","",VLOOKUP(B40,Tabelle2!$A$2:$B$38,2,0)) -> 0-5-15-16-24-32 | D40: =IF(B40="","",IF(B39=1,COUNTIF($X$1:$AC$1,B40),IF(B39=2,COUNTIF($X$2:$AC$2,B40),IF(B39=3,COUNTIF($X$3:$AC$3,B40),IF(B39=4,COUNTIF($X$4:$AC$4,B40),IF(B39=5,COUNTIF($X$5:$AC$5,B40),IF(B39=6,COUNTIF($X$6:$AC$6,B40),IF(B39=7,COUNTIF($X$7:$AC$7,B40),IF(B39=8,COUNTIF($X$8:$AC$8,B40),IF(B39=9,COUNTIF($X$9:$AC$9,B40),IF(B39=10,COUNTIF($X$10:$AC$10,B40),IF(B39=11,COUNTIF($X$11:$AC$11,B40),IF(B39=12,COUNTIF($X$12:$AC$12,B40),IF(B39=13,COUNTIF($X$13:$AC$13,B40),IF(B39=14,COUNTIF($X$14:$AC$14,B40),IF(B39=15,COUNTIF($X$15:$AC$15,B40),IF(B39=16,COUNTIF($X$16:$AC$16,B40),IF(B39=17,COUNTIF($X$17:$AC$17,B40),IF(B39=18,COUNTIF($X$18:$AC$18,B40),IF(B39=19,COUNTIF($X$19:$AC$19,B40),IF(B39=20,COUNTIF($X$20:$AC$20,B40),IF(B39=21,COUNTIF($X$21:$AC$21,B40),IF(B39=22,COUNTIF($X$22:$AC$22,B40),IF(B39=23,COUNTIF($X$23:$AC$23,B40),IF(B39=24,COUNTIF($X$24:$AC$24,B40),IF(B39=25,COUNTIF($X$25:$AC$25,B40),IF(B39=26,COUNTIF($X$26:$AC$26,B40),IF(B39=27,COUNTIF($X$27:$AC$27,B40),IF(B39=28,COUNTIF($X$28:$AC$28,B40),IF(B39=29,COUNTIF($X$29:$AC$29,B40),IF(B39=30,COUNTIF($X$30:$AC$30,B40),IF(B39=31,COUNTIF($X$31:$AC$31,B40),IF(B39=32,COUNTIF($X$32:$AC$32,B40),IF(B39=33,COUNTIF($X$33:$AC$33,B40),IF(B39=34,COUNTIF($X$34:$AC$34,B40),IF(B39=35,COUNTIF($X$35:$AC$35,B40),IF(B39=36,COUNTIF($X$36:$AC$36,B40),IF(B39=0,COUNTIF($X$37:$AC$37,B40),"")))))))))))))))))))))))))))))))))))))) -> 0 | E40: =IF(B40="","",IF(D40=1,"W",IF(D40=0,"L",""))) -> L | F40: =IF(B40="","",IF(AE39<$J$15,"Bet","No Bet")) -> Bet | G40: =IF(B40="","",IF(F40="No Bet",G39,IF(E40="L",-6+G39,IF(E40="W",30+G39)))) -> -48 | AE40: =IF(E40="L",AE39+1,IF(E40="W",0,"")) -> 4 | AF40: =IF(AND($AE41=0,$AE40=1),1,"") | AG40: =IF(AND($AE41=0,$AE40=2),1,"") | AH40: =IF(AND($AE41=0,$AE40=3),1,"") | AI40: =IF(AND($AE41=0,$AE40=4),1,"") | AJ40: =IF(AND($AE41=0,$AE40=5),1,"") | AK40: =IF(AND($AE41=0,$AE40=6),1,"") | AL40: =IF(AND($AE41=0,$AE40=7),1,"") | AM40: =IF(AND($AE41=0,$AE40=8),1,"") | AN40: =IF(AND($AE41=0,$AE40=9),1,"") | AO40: =IF(AND($AE41=0,$AE40=10),1,"") | AP40: =IF(AND($AE41=0,$AE40=11),1,"") | AQ40: =IF(AND($AE41=0,$AE40=12),1,"") | AR40: =IF(AND($AE41=0,$AE40=13),1,"") | AS40: =IF(AND($AE41=0,$AE40=14),1,"") | AT40: =IF(AND($AE41=0,$AE40=15),1,"") | AU40: =IF(AND($AE41=0,$AE40=16),1,"") | AV40: =IF(AND($AE41=0,$AE40=17),1,"") | AW40: =IF(AND($AE41=0,$AE40=18),1,"") | AX40: =IF(AND($AE41=0,$AE40=19),1,"") | AY40: =IF(AND($AE41=0,$AE40=20),1,"") | AZ40: =IF(AND($AE41=0,$AE40=21),1,"") | BA40: =IF(AND($AE41=0,$AE40=22),1,"") | BB40: =IF(AND($AE41=0,$AE40=23),1,"") | BC40: =IF(AND($AE41=0,$AE40=24),1,"") | BD40: =IF(AND($AE41=0,$AE40=25),1,"") | BE40: =IF(AND($AE41=0,$AE40=26),1,"") | BF40: =IF(AND($AE41=0,$AE40=27),1,"") | BG40: =IF(AND($AE41=0,$AE40=28),1,"") | BH40: =IF(AND($AE41=0,$AE40=29),1,"") | BI40: =IF(AND($AE41=0,$AE40=30),1,"") | BJ40: =IF(AE40="","",IF(AND($AE41=0,$AE40>30),1,""))
B41: 26 | C41: =IF(B41="","",VLOOKUP(B41,Tabelle2!$A$2:$B$38,2,0)) -> 9-17-22-25-31-34 | D41: =IF(B41="","",IF(B40=1,COUNTIF($X$1:$AC$1,B41),IF(B40=2,COUNTIF($X$2:$AC$2,B41),IF(B40=3,COUNTIF($X$3:$AC$3,B41),IF(B40=4,COUNTIF($X$4:$AC$4,B41),IF(B40=5,COUNTIF($X$5:$AC$5,B41),IF(B40=6,COUNTIF($X$6:$AC$6,B41),IF(B40=7,COUNTIF($X$7:$AC$7,B41),IF(B40=8,COUNTIF($X$8:$AC$8,B41),IF(B40=9,COUNTIF($X$9:$AC$9,B41),IF(B40=10,COUNTIF($X$10:$AC$10,B41),IF(B40=11,COUNTIF($X$11:$AC$11,B41),IF(B40=12,COUNTIF($X$12:$AC$12,B41),IF(B40=13,COUNTIF($X$13:$AC$13,B41),IF(B40=14,COUNTIF($X$14:$AC$14,B41),IF(B40=15,COUNTIF($X$15:$AC$15,B41),IF(B40=16,COUNTIF($X$16:$AC$16,B41),IF(B40=17,COUNTIF($X$17:$AC$17,B41),IF(B40=18,COUNTIF($X$18:$AC$18,B41),IF(B40=19,COUNTIF($X$19:$AC$19,B41),IF(B40=20,COUNTIF($X$20:$AC$20,B41),IF(B40=21,COUNTIF($X$21:$AC$21,B41),IF(B40=22,COUNTIF($X$22:$AC$22,B41),IF(B40=23,COUNTIF($X$23:$AC$23,B41),IF(B40=24,COUNTIF($X$24:$AC$24,B41),IF(B40=25,COUNTIF($X$25:$AC$25,B41),IF(B40=26,COUNTIF($X$26:$AC$26,B41),IF(B40=27,COUNTIF($X$27:$AC$27,B41),IF(B40=28,COUNTIF($X$28:$AC$28,B41),IF(B40=29,COUNTIF($X$29:$AC$29,B41),IF(B40=30,COUNTIF($X$30:$AC$30,B41),IF(B40=31,COUNTIF($X$31:$AC$31,B41),IF(B40=32,COUNTIF($X$32:$AC$32,B41),IF(B40=33,COUNTIF($X$33:$AC$33,B41),IF(B40=34,COUNTIF($X$34:$AC$34,B41),IF(B40=35,COUNTIF($X$35:$AC$35,B41),IF(B40=36,COUNTIF($X$36:$AC$36,B41),IF(B40=0,COUNTIF($X$37:$AC$37,B41),"")))))))))))))))))))))))))))))))))))))) -> 0 | E41: =IF(B41="","",IF(D41=1,"W",IF(D41=0,"L",""))) -> L | F41: =IF(B41="","",IF(AE40<$J$15,"Bet","No Bet")) -> Bet | G41: =IF(B41="","",IF(F41="No Bet",G40,IF(E41="L",-6+G40,IF(E41="W",30+G40)))) -> -54 | AE41: =IF(E41="L",AE40+1,IF(E41="W",0,"")) -> 5 | AF41: =IF(AND($AE42=0,$AE41=1),1,"") | AG41: =IF(AND($AE42=0,$AE41=2),1,"") | AH41: =IF(AND($AE42=0,$AE41=3),1,"") | AI41: =IF(AND($AE42=0,$AE41=4),1,"") | AJ41: =IF(AND($AE42=0,$AE41=5),1,"") | AK41: =IF(AND($AE42=0,$AE41=6),1,"") | AL41: =IF(AND($AE42=0,$AE41=7),1,"") | AM41: =IF(AND($AE42=0,$AE41=8),1,"") | AN41: =IF(AND($AE42=0,$AE41=9),1,"") | AO41: =IF(AND($AE42=0,$AE41=10),1,"") | AP41: =IF(AND($AE42=0,$AE41=11),1,"") | AQ41: =IF(AND($AE42=0,$AE41=12),1,"") | AR41: =IF(AND($AE42=0,$AE41=13),1,"") | AS41: =IF(AND($AE42=0,$AE41=14),1,"") | AT41: =IF(AND($AE42=0,$AE41=15),1,"") | AU41: =IF(AND($AE42=0,$AE41=16),1,"") | AV41: =IF(AND($AE42=0,$AE41=17),1,"") | AW41: =IF(AND($AE42=0,$AE41=18),1,"") | AX41: =IF(AND($AE42=0,$AE41=19),1,"") | AY41: =IF(AND($AE42=0,$AE41=20),1,"") | AZ41: =IF(AND($AE42=0,$AE41=21),1,"") | BA41: =IF(AND($AE42=0,$AE41=22),1,"") | BB41: =IF(AND($AE42=0,$AE41=23),1,"") | BC41: =IF(AND($AE42=0,$AE41=24),1,"") | BD41: =IF(AND($AE42=0,$AE41=25),1,"") | BE41: =IF(AND($AE42=0,$AE41=26),1,"") | BF41: =IF(AND($AE42=0,$AE41=27),1,"") | BG41: =IF(AND($AE42=0,$AE41=28),1,"") | BH41: =IF(AND($AE42=0,$AE41=29),1,"") | BI41: =IF(AND($AE42=0,$AE41=30),1,"") | BJ41: =IF(AE41="","",IF(AND($AE42=0,$AE41>30),1,""))
B42: 26 | C42: =IF(B42="","",VLOOKUP(B42,Tabelle2!$A$2:$B$38,2,0)) -> 9-17-22-25-31-34 | D42: =IF(B42="","",IF(B41=1,COUNTIF($X$1:$AC$1,B42),IF(B41=2,COUNTIF($X$2:$AC$2,B42),IF(B41=3,COUNTIF($X$3:$AC$3,B42),IF(B41=4,COUNTIF($X$4:$AC$4,B42),IF(B41=5,COUNTIF($X$5:$AC$5,B42),IF(B41=6,COUNTIF($X$6:$AC$6,B42),IF(B41=7,COUNTIF($X$7:$AC$7,B42),IF(B41=8,COUNTIF($X$8:$AC$8,B42),IF(B41=9,COUNTIF($X$9:$AC$9,B42),IF(B41=10,COUNTIF($X$10:$AC$10,B42),IF(B41=11,COUNTIF($X$11:$AC$11,B42),IF(B41=12,COUNTIF($X$12:$AC$12,B42),IF(B41=13,COUNTIF($X$13:$AC$13,B42),IF(B41=14,COUNTIF($X$14:$AC$14,B42),IF(B41=15,COUNTIF($X$15:$AC$15,B42),IF(B41=16,COUNTIF($X$16:$AC$16,B42),IF(B41=17,COUNTIF($X$17:$AC$17,B42),IF(B41=18,COUNTIF($X$18:$AC$18,B42),IF(B41=19,COUNTIF($X$19:$AC$19,B42),IF(B41=20,COUNTIF($X$20:$AC$20,B42),IF(B41=21,COUNTIF($X$21:$AC$21,B42),IF(B41=22,COUNTIF($X$22:$AC$22,B42),IF(B41=23,COUNTIF($X$23:$AC$23,B42),IF(B41=24,COUNTIF($X$24:$AC$24,B42),IF(B41=25,COUNTIF($X$25:$AC$25,B42),IF(B41=26,COUNTIF($X$26:$AC$26,B42),IF(B41=27,COUNTIF($X$27:$AC$27,B42),IF(B41=28,COUNTIF($X$28:$AC$28,B42),IF(B41=29,COUNTIF($X$29:$AC$29,B42),IF(B41=30,COUNTIF($X$30:$AC$30,B42),IF(B41=31,COUNTIF($X$31:$AC$31,B42),IF(B41=32,COUNTIF($X$32:$AC$32,B42),IF(B41=33,COUNTIF($X$33:$AC$33,B42),IF(B41=34,COUNTIF($X$34:$AC$34,B42),IF(B41=35,COUNTIF($X$35:$AC$35,B42),IF(B41=36,COUNTIF($X$36:$AC$36,B42),IF(B41=0,COUNTIF($X$37:$AC$37,B42),"")))))))))))))))))))))))))))))))))))))) -> 0 | E42: =IF(B42="","",IF(D42=1,"W",IF(D42=0,"L",""))) -> L | F42: =IF(B42="","",IF(AE41<$J$15,"Bet","No Bet")) -> Bet | G42: =IF(B42="","",IF(F42="No Bet",G41,IF(E42="L",-6+G41,IF(E42="W",30+G41)))) -> -60 | AE42: =IF(E42="L",AE41+1,IF(E42="W",0,"")) -> 6 | AF42: =IF(AND($AE43=0,$AE42=1),1,"") | AG42: =IF(AND($AE43=0,$AE42=2),1,"") | AH42: =IF(AND($AE43=0,$AE42=3),1,"") | AI42: =IF(AND($AE43=0,$AE42=4),1,"") | AJ42: =IF(AND($AE43=0,$AE42=5),1,"") | AK42: =IF(AND($AE43=0,$AE42=6),1,"") | AL42: =IF(AND($AE43=0,$AE42=7),1,"") | AM42: =IF(AND($AE43=0,$AE42=8),1,"") | AN42: =IF(AND($AE43=0,$AE42=9),1,"") | AO42: =IF(AND($AE43=0,$AE42=10),1,"") | AP42: =IF(AND($AE43=0,$AE42=11),1,"") | AQ42: =IF(AND($AE43=0,$AE42=12),1,"") | AR42: =IF(AND($AE43=0,$AE42=13),1,"") | AS42: =IF(AND($AE43=0,$AE42=14),1,"") | AT42: =IF(AND($AE43=0,$AE42=15),1,"") | AU42: =IF(AND($AE43=0,$AE42=16),1,"") | AV42: =IF(AND($AE43=0,$AE42=17),1,"") | AW42: =IF(AND($AE43=0,$AE42=18),1,"") | AX42: =IF(AND($AE43=0,$AE42=19),1,"") | AY42: =IF(AND($AE43=0,$AE42=20),1,"") | AZ42: =IF(AND($AE43=0,$AE42=21),1,"") | BA42: =IF(AND($AE43=0,$AE42=22),1,"") | BB42: =IF(AND($AE43=0,$AE42=23),1,"") | BC42: =IF(AND($AE43=0,$AE42=24),1,"") | BD42: =IF(AND($AE43=0,$AE42=25),1,"") | BE42: =IF(AND($AE43=0,$AE42=26),1,"") | BF42: =IF(AND($AE43=0,$AE42=27),1,"") | BG42: =IF(AND($AE43=0,$AE42=28),1,"") | BH42: =IF(AND($AE43=0,$AE42=29),1,"") | BI42: =IF(AND($AE43=0,$AE42=30),1,"") | BJ42: =IF(AE42="","",IF(AND($AE43=0,$AE42>30),1,""))
B43: 23 | C43: =IF(B43="","",VLOOKUP(B43,Tabelle2!$A$2:$B$38,2,0)) -> 9-14-17-25-31-34 | D43: =IF(B43="","",IF(B42=1,COUNTIF($X$1:$AC$1,B43),IF(B42=2,COUNTIF($X$2:$AC$2,B43),IF(B42=3,COUNTIF($X$3:$AC$3,B43),IF(B42=4,COUNTIF($X$4:$AC$4,B43),IF(B42=5,COUNTIF($X$5:$AC$5,B43),IF(B42=6,COUNTIF($X$6:$AC$6,B43),IF(B42=7,COUNTIF($X$7:$AC$7,B43),IF(B42=8,COUNTIF($X$8:$AC$8,B43),IF(B42=9,COUNTIF($X$9:$AC$9,B43),IF(B42=10,COUNTIF($X$10:$AC$10,B43),IF(B42=11,COUNTIF($X$11:$AC$11,B43),IF(B42=12,COUNTIF($X$12:$AC$12,B43),IF(B42=13,COUNTIF($X$13:$AC$13,B43),IF(B42=14,COUNTIF($X$14:$AC$14,B43),IF(B42=15,COUNTIF($X$15:$AC$15,B43),IF(B42=16,COUNTIF($X$16:$AC$16,B43),IF(B42=17,COUNTIF($X$17:$AC$17,B43),IF(B42=18,COUNTIF($X$18:$AC$18,B43),IF(B42=19,COUNTIF($X$19:$AC$19,B43),IF(B42=20,COUNTIF($X$20:$AC$20,B43),IF(B42=21,COUNTIF($X$21:$AC$21,B43),IF(B42=22,COUNTIF($X$22:$AC$22,B43),IF(B42=23,COUNTIF($X$23:$AC$23,B43),IF(B42=24,COUNTIF($X$24:$AC$24,B43),IF(B42=25,COUNTIF($X$25:$AC$25,B43),IF(B42=26,COUNTIF($X$26:$AC$26,B43),IF(B42=27,COUNTIF($X$27:$AC$27,B43),IF(B42=28,COUNTIF($X$28:$AC$28,B43),IF(B42=29,COUNTIF($X$29:$AC$29,B43),IF(B42=30,COUNTIF($X$30:$AC$30,B43),IF(B42=31,COUNTIF($X$31:$AC$31,B43),IF(B42=32,COUNTIF($X$32:$AC$32,B43),IF(B42=33,COUNTIF($X$33:$AC$33,B43),IF(B42=34,COUNTIF($X$34:$AC$34,B43),IF(B42=35,COUNTIF($X$35:$AC$35,B43),IF(B42=36,COUNTIF($X$36:$AC$36,B43),IF(B42=0,COUNTIF($X$37:$AC$37,B43),"")))))))))))))))))))))))))))))))))))))) -> 0 | E43: =IF(B43="","",IF(D43=1,"W",IF(D43=0,"L",""))) -> L | F43: =IF(B43="","",IF(AE42<$J$15,"Bet","No Bet")) -> Bet | G43: =IF(B43="","",IF(F43="No Bet",G42,IF(E43="L",-6+G42,IF(E43="W",30+G42)))) -> -66 | AE43: =IF(E43="L",AE42+1,IF(E43="W",0,"")) -> 7 | AF43: =IF(AND($AE44=0,$AE43=1),1,"") | AG43: =IF(AND($AE44=0,$AE43=2),1,"") | AH43: =IF(AND($AE44=0,$AE43=3),1,"") | AI43: =IF(AND($AE44=0,$AE43=4),1,"") | AJ43: =IF(AND($AE44=0,$AE43=5),1,"") | AK43: =IF(AND($AE44=0,$AE43=6),1,"") | AL43: =IF(AND($AE44=0,$AE43=7),1,"") | AM43: =IF(AND($AE44=0,$AE43=8),1,"") | AN43: =IF(AND($AE44=0,$AE43=9),1,"") | AO43: =IF(AND($AE44=0,$AE43=10),1,"") | AP43: =IF(AND($AE44=0,$AE43=11),1,"") | AQ43: =IF(AND($AE44=0,$AE43=12),1,"") | AR43: =IF(AND($AE44=0,$AE43=13),1,"") | AS43: =IF(AND($AE44=0,$AE43=14),1,"") | AT43: =IF(AND($AE44=0,$AE43=15),1,"") | AU43: =IF(AND($AE44=0,$AE43=16),1,"") | AV43: =IF(AND($AE44=0,$AE43=17),1,"") | AW43: =IF(AND($AE44=0,$AE43=18),1,"") | AX43: =IF(AND($AE44=0,$AE43=19),1,"") | AY43: =IF(AND($AE44=0,$AE43=20),1,"") | AZ43: =IF(AND($AE44=0,$AE43=21),1,"") | BA43: =IF(AND($AE44=0,$AE43=22),1,"") | BB43: =IF(AND($AE44=0,$AE43=23),1,"") | BC43: =IF(AND($AE44=0,$AE43=24),1,"") | BD43: =IF(AND($AE44=0,$AE43=25),1,"") | BE43: =IF(AND($AE44=0,$AE43=26),1,"") | BF43: =IF(AND($AE44=0,$AE43=27),1,"") | BG43: =IF(AND($AE44=0,$AE43=28),1,"") | BH43: =IF(AND($AE44=0,$AE43=29),1,"") | BI43: =IF(AND($AE44=0,$AE43=30),1,"") | BJ43: =IF(AE43="","",IF(AND($AE44=0,$AE43>30),1,""))
B44: 23 | C44: =IF(B44="","",VLOOKUP(B44,Tabelle2!$A$2:$B$38,2,0)) -> 9-14-17-25-31-34 | D44: =IF(B44="","",IF(B43=1,COUNTIF($X$1:$AC$1,B44),IF(B43=2,COUNTIF($X$2:$AC$2,B44),IF(B43=3,COUNTIF($X$3:$AC$3,B44),IF(B43=4,COUNTIF($X$4:$AC$4,B44),IF(B43=5,COUNTIF($X$5:$AC$5,B44),IF(B43=6,COUNTIF($X$6:$AC$6,B44),IF(B43=7,COUNTIF($X$7:$AC$7,B44),IF(B43=8,COUNTIF($X$8:$AC$8,B44),IF(B43=9,COUNTIF($X$9:$AC$9,B44),IF(B43=10,COUNTIF($X$10:$AC$10,B44),IF(B43=11,COUNTIF($X$11:$AC$11,B44),IF(B43=12,COUNTIF($X$12:$AC$12,B44),IF(B43=13,COUNTIF($X$13:$AC$13,B44),IF(B43=14,COUNTIF($X$14:$AC$14,B44),IF(B43=15,COUNTIF($X$15:$AC$15,B44),IF(B43=16,COUNTIF($X$16:$AC$16,B44),IF(B43=17,COUNTIF($X$17:$AC$17,B44),IF(B43=18,COUNTIF($X$18:$AC$18,B44),IF(B43=19,COUNTIF($X$19:$AC$19,B44),IF(B43=20,COUNTIF($X$20:$AC$20,B44),IF(B43=21,COUNTIF($X$21:$AC$21,B44),IF(B43=22,COUNTIF($X$22:$AC$22,B44),IF(B43=23,COUNTIF($X$23:$AC$23,B44),IF(B43=24,COUNTIF($X$24:$AC$24,B44),IF(B43=25,COUNTIF($X$25:$AC$25,B44),IF(B43=26,COUNTIF($X$26:$AC$26,B44),IF(B43=27,COUNTIF($X$27:$AC$27,B44),IF(B43=28,COUNTIF($X$28:$AC$28,B44),IF(B43=29,COUNTIF($X$29:$AC$29,B44),IF(B43=30,COUNTIF($X$30:$AC$30,B44),IF(B43=31,COUNTIF($X$31:$AC$31,B44),IF(B43=32,COUNTIF($X$32:$AC$32,B44),IF(B43=33,COUNTIF($X$33:$AC$33,B44),IF(B43=34,COUNTIF($X$34:$AC$34,B44),IF(B43=35,COUNTIF($X$35:$AC$35,B44),IF(B43=36,COUNTIF($X$36:$AC$36,B44),IF(B43=0,COUNTIF($X$37:$AC$37,B44),"")))))))))))))))))))))))))))))))))))))) -> 0 | E44: =IF(B44="","",IF(D44=1,"W",IF(D44=0,"L",""))) -> L | F44: =IF(B44="","",IF(AE43<$J$15,"Bet","No Bet")) -> Bet | G44: =IF(B44="","",IF(F44="No Bet",G43,IF(E44="L",-6+G43,IF(E44="W",30+G43)))) -> -72 | AE44: =IF(E44="L",AE43+1,IF(E44="W",0,"")) -> 8 | AF44: =IF(AND($AE45=0,$AE44=1),1,"") | AG44: =IF(AND($AE45=0,$AE44=2),1,"") | AH44: =IF(AND($AE45=0,$AE44=3),1,"") | AI44: =IF(AND($AE45=0,$AE44=4),1,"") | AJ44: =IF(AND($AE45=0,$AE44=5),1,"") | AK44: =IF(AND($AE45=0,$AE44=6),1,"") | AL44: =IF(AND($AE45=0,$AE44=7),1,"") | AM44: =IF(AND($AE45=0,$AE44=8),1,"") | AN44: =IF(AND($AE45=0,$AE44=9),1,"") | AO44: =IF(AND($AE45=0,$AE44=10),1,"") | AP44: =IF(AND($AE45=0,$AE44=11),1,"") | AQ44: =IF(AND($AE45=0,$AE44=12),1,"") | AR44: =IF(AND($AE45=0,$AE44=13),1,"") | AS44: =IF(AND($AE45=0,$AE44=14),1,"") | AT44: =IF(AND($AE45=0,$AE44=15),1,"") | AU44: =IF(AND($AE45=0,$AE44=16),1,"") | AV44: =IF(AND($AE45=0,$AE44=17),1,"") | AW44: =IF(AND($AE45=0,$AE44=18),1,"") | AX44: =IF(AND($AE45=0,$AE44=19),1,"") | AY44: =IF(AND($AE45=0,$AE44=20),1,"") | AZ44: =IF(AND($AE45=0,$AE44=21),1,"") | BA44: =IF(AND($AE45=0,$AE44=22),1,"") | BB44: =IF(AND($AE45=0,$AE44=23),1,"") | BC44: =IF(AND($AE45=0,$AE44=24),1,"") | BD44: =IF(AND($AE45=0,$AE44=25),1,"") | BE44: =IF(AND($AE45=0,$AE44=26),1,"") | BF44: =IF(AND($AE45=0,$AE44=27),1,"") | BG44: =IF(AND($AE45=0,$AE44=28),1,"") | BH44: =IF(AND($AE45=0,$AE44=29),1,"") | BI44: =IF(AND($AE45=0,$AE44=30),1,"") | BJ44: =IF(AE44="","",IF(AND($AE45=0,$AE44>30),1,""))
B45: 3 | C45: =IF(B45="","",VLOOKUP(B45,Tabelle2!$A$2:$B$38,2,0)) -> 2-9-14-17-25-31 | D45: =IF(B45="","",IF(B44=1,COUNTIF($X$1:$AC$1,B45),IF(B44=2,COUNTIF($X$2:$AC$2,B45),IF(B44=3,COUNTIF($X$3:$AC$3,B45),IF(B44=4,COUNTIF($X$4:$AC$4,B45),IF(B44=5,COUNTIF($X$5:$AC$5,B45),IF(B44=6,COUNTIF($X$6:$AC$6,B45),IF(B44=7,COUNTIF($X$7:$AC$7,B45),IF(B44=8,COUNTIF($X$8:$AC$8,B45),IF(B44=9,COUNTIF($X$9:$AC$9,B45),IF(B44=10,COUNTIF($X$10:$AC$10,B45),IF(B44=11,COUNTIF($X$11:$AC$11,B45),IF(B44=12,COUNTIF($X$12:$AC$12,B45),IF(B44=13,COUNTIF($X$13:$AC$13,B45),IF(B44=14,COUNTIF($X$14:$AC$14,B45),IF(B44=15,COUNTIF($X$15:$AC$15,B45),IF(B44=16,COUNTIF($X$16:$AC$16,B45),IF(B44=17,COUNTIF($X$17:$AC$17,B45),IF(B44=18,COUNTIF($X$18:$AC$18,B45),IF(B44=19,COUNTIF($X$19:$AC$19,B45),IF(B44=20,COUNTIF($X$20:$AC$20,B45),IF(B44=21,COUNTIF($X$21:$AC$21,B45),IF(B44=22,COUNTIF($X$22:$AC$22,B45),IF(B44=23,COUNTIF($X$23:$AC$23,B45),IF(B44=24,COUNTIF($X$24:$AC$24,B45),IF(B44=25,COUNTIF($X$25:$AC$25,B45),IF(B44=26,COUNTIF($X$26:$AC$26,B45),IF(B44=27,COUNTIF($X$27:$AC$27,B45),IF(B44=28,COUNTIF($X$28:$AC$28,B45),IF(B44=29,COUNTIF($X$29:$AC$29,B45),IF(B44=30,COUNTIF($X$30:$AC$30,B45),IF(B44=31,COUNTIF($X$31:$AC$31,B45),IF(B44=32,COUNTIF($X$32:$AC$32,B45),IF(B44=33,COUNTIF($X$33:$AC$33,B45),IF(B44=34,COUNTIF($X$34:$AC$34,B45),IF(B44=35,COUNTIF($X$35:$AC$35,B45),IF(B44=36,COUNTIF($X$36:$AC$36,B45),IF(B44=0,COUNTIF($X$37:$AC$37,B45),"")))))))))))))))))))))))))))))))))))))) -> 0 | E45: =IF(B45="","",IF(D45=1,"W",IF(D45=0,"L",""))) -> L | F45: =IF(B45="","",IF(AE44<$J$15,"Bet","No Bet")) -> Bet | G45: =IF(B45="","",IF(F45="No Bet",G44,IF(E45="L",-6+G44,IF(E45="W",30+G44)))) -> -78 | AE45: =IF(E45="L",AE44+1,IF(E45="W",0,"")) -> 9 | AF45: =IF(AND($AE46=0,$AE45=1),1,"") | AG45: =IF(AND($AE46=0,$AE45=2),1,"") | AH45: =IF(AND($AE46=0,$AE45=3),1,"") | AI45: =IF(AND($AE46=0,$AE45=4),1,"") | AJ45: =IF(AND($AE46=0,$AE45=5),1,"") | AK45: =IF(AND($AE46=0,$AE45=6),1,"") | AL45: =IF(AND($AE46=0,$AE45=7),1,"") | AM45: =IF(AND($AE46=0,$AE45=8),1,"") | AN45: =IF(AND($AE46=0,$AE45=9),1,"") | AO45: =IF(AND($AE46=0,$AE45=10),1,"") | AP45: =IF(AND($AE46=0,$AE45=11),1,"") | AQ45: =IF(AND($AE46=0,$AE45=12),1,"") | AR45: =IF(AND($AE46=0,$AE45=13),1,"") | AS45: =IF(AND($AE46=0,$AE45=14),1,"") | AT45: =IF(AND($AE46=0,$AE45=15),1,"") | AU45: =IF(AND($AE46=0,$AE45=16),1,"") | AV45: =IF(AND($AE46=0,$AE45=17),1,"") | AW45: =IF(AND($AE46=0,$AE45=18),1,"") | AX45: =IF(AND($AE46=0,$AE45=19),1,"") | AY45: =IF(AND($AE46=0,$AE45=20),1,"") | AZ45: =IF(AND($AE46=0,$AE45=21),1,"") | BA45: =IF(AND($AE46=0,$AE45=22),1,"") | BB45: =IF(AND($AE46=0,$AE45=23),1,"") | BC45: =IF(AND($AE46=0,$AE45=24),1,"") | BD45: =IF(AND($AE46=0,$AE45=25),1,"") | BE45: =IF(AND($AE46=0,$AE45=26),1,"") | BF45: =IF(AND($AE46=0,$AE45=27),1,"") | BG45: =IF(AND($AE46=0,$AE45=28),1,"") | BH45: =IF(AND($AE46=0,$AE45=29),1,"") | BI45: =IF(AND($AE46=0,$AE45=30),1,"") | BJ45: =IF(AE45="","",IF(AND($AE46=0,$AE45>30),1,""))
B46: 35 | C46: =IF(B46="","",VLOOKUP(B46,Tabelle2!$A$2:$B$38,2,0)) -> 2-14-20-21-25-31 | D46: =IF(B46="","",IF(B45=1,COUNTIF($X$1:$AC$1,B46),IF(B45=2,COUNTIF($X$2:$AC$2,B46),IF(B45=3,COUNTIF($X$3:$AC$3,B46),IF(B45=4,COUNTIF($X$4:$AC$4,B46),IF(B45=5,COUNTIF($X$5:$AC$5,B46),IF(B45=6,COUNTIF($X$6:$AC$6,B46),IF(B45=7,COUNTIF($X$7:$AC$7,B46),IF(B45=8,COUNTIF($X$8:$AC$8,B46),IF(B45=9,COUNTIF($X$9:$AC$9,B46),IF(B45=10,COUNTIF($X$10:$AC$10,B46),IF(B45=11,COUNTIF($X$11:$AC$11,B46),IF(B45=12,COUNTIF($X$12:$AC$12,B46),IF(B45=13,COUNTIF($X$13:$AC$13,B46),IF(B45=14,COUNTIF($X$14:$AC$14,B46),IF(B45=15,COUNTIF($X$15:$AC$15,B46),IF(B45=16,COUNTIF($X$16:$AC$16,B46),IF(B45=17,COUNTIF($X$17:$AC$17,B46),IF(B45=18,COUNTIF($X$18:$AC$18,B46),IF(B45=19,COUNTIF($X$19:$AC$19,B46),IF(B45=20,COUNTIF($X$20:$AC$20,B46),IF(B45=21,COUNTIF($X$21:$AC$21,B46),IF(B45=22,COUNTIF($X$22:$AC$22,B46),IF(B45=23,COUNTIF($X$23:$AC$23,B46),IF(B45=24,COUNTIF($X$24:$AC$24,B46),IF(B45=25,COUNTIF($X$25:$AC$25,B46),IF(B45=26,COUNTIF($X$26:$AC$26,B46),IF(B45=27,COUNTIF($X$27:$AC$27,B46),IF(B45=28,COUNTIF($X$28:$AC$28,B46),IF(B45=29,COUNTIF($X$29:$AC$29,B46),IF(B45=30,COUNTIF($X$30:$AC$30,B46),IF(B45=31,COUNTIF($X$31:$AC$31,B46),IF(B45=32,COUNTIF($X$32:$AC$32,B46),IF(B45=33,COUNTIF($X$33:$AC$33,B46),IF(B45=34,COUNTIF($X$34:$AC$34,B46),IF(B45=35,COUNTIF($X$35:$AC$35,B46),IF(B45=36,COUNTIF($X$36:$AC$36,B46),IF(B45=0,COUNTIF($X$37:$AC$37,B46),"")))))))))))))))))))))))))))))))))))))) -> 0 | E46: =IF(B46="","",IF(D46=1,"W",IF(D46=0,"L",""))) -> L | F46: =IF(B46="","",IF(AE45<$J$15,"Bet","No Bet")) -> Bet | G46: =IF(B46="","",IF(F46="No Bet",G45,IF(E46="L",-6+G45,IF(E46="W",30+G45)))) -> -84 | AE46: =IF(E46="L",AE45+1,IF(E46="W",0,"")) -> 10 | AF46: =IF(AND($AE47=0,$AE46=1),1,"") | AG46: =IF(AND($AE47=0,$AE46=2),1,"") | AH46: =IF(AND($AE47=0,$AE46=3),1,"") | AI46: =IF(AND($AE47=0,$AE46=4),1,"") | AJ46: =IF(AND($AE47=0,$AE46=5),1,"") | AK46: =IF(AND($AE47=0,$AE46=6),1,"") | AL46: =IF(AND($AE47=0,$AE46=7),1,"") | AM46: =IF(AND($AE47=0,$AE46=8),1,"") | AN46: =IF(AND($AE47=0,$AE46=9),1,"") | AO46: =IF(AND($AE47=0,$AE46=10),1,"") | AP46: =IF(AND($AE47=0,$AE46=11),1,"") | AQ46: =IF(AND($AE47=0,$AE46=12),1,"") | AR46: =IF(AND($AE47=0,$AE46=13),1,"") | AS46: =IF(AND($AE47=0,$AE46=14),1,"") | AT46: =IF(AND($AE47=0,$AE46=15),1,"") | AU46: =IF(AND($AE47=0,$AE46=16),1,"") | AV46: =IF(AND($AE47=0,$AE46=17),1,"") | AW46: =IF(AND($AE47=0,$AE46=18),1,"") | AX46: =IF(AND($AE47=0,$AE46=19),1,"") | AY46: =IF(AND($AE47=0,$AE46=20),1,"") | AZ46: =IF(AND($AE47=0,$AE46=21),1,"") | BA46: =IF(AND($AE47=0,$AE46=22),1,"") | BB46: =IF(AND($AE47=0,$AE46=23),1,"") | BC46: =IF(AND($AE47=0,$AE46=24),1,"") | BD46: =IF(AND($AE47=0,$AE46=25),1,"") | BE46: =IF(AND($AE47=0,$AE46=26),1,"") | BF46: =IF(AND($AE47=0,$AE46=27),1,"") | BG46: =IF(AND($AE47=0,$AE46=28),1,"") | BH46: =IF(AND($AE47=0,$AE46=29),1,"") | BI46: =IF(AND($AE47=0,$AE46=30),1,"") | BJ46: =IF(AE46="","",IF(AND($AE47=0,$AE46>30),1,""))
B47: 6 | C47: =IF(B47="","",VLOOKUP(B47,Tabelle2!$A$2:$B$38,2,0)) -> 0-5-10-15-24-32 | D47: =IF(B47="","",IF(B46=1,COUNTIF($X$1:$AC$1,B47),IF(B46=2,COUNTIF($X$2:$AC$2,B47),IF(B46=3,COUNTIF($X$3:$AC$3,B47),IF(B46=4,COUNTIF($X$4:$AC$4,B47),IF(B46=5,COUNTIF($X$5:$AC$5,B47),IF(B46=6,COUNTIF($X$6:$AC$6,B47),IF(B46=7,COUNTIF($X$7:$AC$7,B47),IF(B46=8,COUNTIF($X$8:$AC$8,B47),IF(B46=9,COUNTIF($X$9:$AC$9,B47),IF(B46=10,COUNTIF($X$10:$AC$10,B47),IF(B46=11,COUNTIF($X$11:$AC$11,B47),IF(B46=12,COUNTIF($X$12:$AC$12,B47),IF(B46=13,COUNTIF($X$13:$AC$13,B47),IF(B46=14,COUNTIF($X$14:$AC$14,B47),IF(B46=15,COUNTIF($X$15:$AC$15,B47),IF(B46=16,COUNTIF($X$16:$AC$16,B47),IF(B46=17,COUNTIF($X$17:$AC$17,B47),IF(B46=18,COUNTIF($X$18:$AC$18,B47),IF(B46=19,COUNTIF($X$19:$AC$19,B47),IF(B46=20,COUNTIF($X$20:$AC$20,B47),IF(B46=21,COUNTIF($X$21:$AC$21,B47),IF(B46=22,COUNTIF($X$22:$AC$22,B47),IF(B46=23,COUNTIF($X$23:$AC$23,B47),IF(B46=24,COUNTIF($X$24:$AC$24,B47),IF(B46=25,COUNTIF($X$25:$AC$25,B47),IF(B46=26,COUNTIF($X$26:$AC$26,B47),IF(B46=27,COUNTIF($X$27:$AC$27,B47),IF(B46=28,COUNTIF($X$28:$AC$28,B47),IF(B46=29,COUNTIF($X$29:$AC$29,B47),IF(B46=30,COUNTIF($X$30:$AC$30,B47),IF(B46=31,COUNTIF($X$31:$AC$31,B47),IF(B46=32,COUNTIF($X$32:$AC$32,B47),IF(B46=33,COUNTIF($X$33:$AC$33,B47),IF(B46=34,COUNTIF($X$34:$AC$34,B47),IF(B46=35,COUNTIF($X$35:$AC$35,B47),IF(B46=36,COUNTIF($X$36:$AC$36,B47),IF(B46=0,COUNTIF($X$37:$AC$37,B47),"")))))))))))))))))))))))))))))))))))))) -> 0 | E47: =IF(B47="","",IF(D47=1,"W",IF(D47=0,"L",""))) -> L | F47: =IF(B47="","",IF(AE46<$J$15,"Bet","No Bet")) -> Bet | G47: =IF(B47="","",IF(F47="No Bet",G46,IF(E47="L",-6+G46,IF(E47="W",30+G46)))) -> -90 | AE47: =IF(E47="L",AE46+1,IF(E47="W",0,"")) -> 11 | AF47: =IF(AND($AE48=0,$AE47=1),1,"") | AG47: =IF(AND($AE48=0,$AE47=2),1,"") | AH47: =IF(AND($AE48=0,$AE47=3),1,"") | AI47: =IF(AND($AE48=0,$AE47=4),1,"") | AJ47: =IF(AND($AE48=0,$AE47=5),1,"") | AK47: =IF(AND($AE48=0,$AE47=6),1,"") | AL47: =IF(AND($AE48=0,$AE47=7),1,"") | AM47: =IF(AND($AE48=0,$AE47=8),1,"") | AN47: =IF(AND($AE48=0,$AE47=9),1,"") | AO47: =IF(AND($AE48=0,$AE47=10),1,"") | AP47: =IF(AND($AE48=0,$AE47=11),1,"") | AQ47: =IF(AND($AE48=0,$AE47=12),1,"") | AR47: =IF(AND($AE48=0,$AE47=13),1,"") | AS47: =IF(AND($AE48=0,$AE47=14),1,"") | AT47: =IF(AND($AE48=0,$AE47=15),1,"") | AU47: =IF(AND($AE48=0,$AE47=16),1,"") | AV47: =IF(AND($AE48=0,$AE47=17),1,"") | AW47: =IF(AND($AE48=0,$AE47=18),1,"") | AX47: =IF(AND($AE48=0,$AE47=19),1,"") | AY47: =IF(AND($AE48=0,$AE47=20),1,"") | AZ47: =IF(AND($AE48=0,$AE47=21),1,"") | BA47: =IF(AND($AE48=0,$AE47=22),1,"") | BB47: =IF(AND($AE48=0,$AE47=23),1,"") | BC47: =IF(AND($AE48=0,$AE47=24),1,"") | BD47: =IF(AND($AE48=0,$AE47=25),1,"") | BE47: =IF(AND($AE48=0,$AE47=26),1,"") | BF47: =IF(AND($AE48=0,$AE47=27),1,"") | BG47: =IF(AND($AE48=0,$AE47=28),1,"") | BH47: =IF(AND($AE48=0,$AE47=29),1,"") | BI47: =IF(AND($AE48=0,$AE47=30),1,"") | BJ47: =IF(AE47="","",IF(AND($AE48=0,$AE47>30),1,""))
B48: 6 | C48: =IF(B48="","",VLOOKUP(B48,Tabelle2!$A$2:$B$38,2,0)) -> 0-5-10-15-24-32 | D48: =IF(B48="","",IF(B47=1,COUNTIF($X$1:$AC$1,B48),IF(B47=2,COUNTIF($X$2:$AC$2,B48),IF(B47=3,COUNTIF($X$3:$AC$3,B48),IF(B47=4,COUNTIF($X$4:$AC$4,B48),IF(B47=5,COUNTIF($X$5:$AC$5,B48),IF(B47=6,COUNTIF($X$6:$AC$6,B48),IF(B47=7,COUNTIF($X$7:$AC$7,B48),IF(B47=8,COUNTIF($X$8:$AC$8,B48),IF(B47=9,COUNTIF($X$9:$AC$9,B48),IF(B47=10,COUNTIF($X$10:$AC$10,B48),IF(B47=11,COUNTIF($X$11:$AC$11,B48),IF(B47=12,COUNTIF($X$12:$AC$12,B48),IF(B47=13,COUNTIF($X$13:$AC$13,B48),IF(B47=14,COUNTIF($X$14:$AC$14,B48),IF(B47=15,COUNTIF($X$15:$AC$15,B48),IF(B47=16,COUNTIF($X$16:$AC$16,B48),IF(B47=17,COUNTIF($X$17:$AC$17,B48),IF(B47=18,COUNTIF($X$18:$AC$18,B48),IF(B47=19,COUNTIF($X$19:$AC$19,B48),IF(B47=20,COUNTIF($X$20:$AC$20,B48),IF(B47=21,COUNTIF($X$21:$AC$21,B48),IF(B47=22,COUNTIF($X$22:$AC$22,B48),IF(B47=23,COUNTIF($X$23:$AC$23,B48),IF(B47=24,COUNTIF($X$24:$AC$24,B48),IF(B47=25,COUNTIF($X$25:$AC$25,B48),IF(B47=26,COUNTIF($X$26:$AC$26,B48),IF(B47=27,COUNTIF($X$27:$AC$27,B48),IF(B47=28,COUNTIF($X$28:$AC$28,B48),IF(B47=29,COUNTIF($X$29:$AC$29,B48),IF(B47=30,COUNTIF($X$30:$AC$30,B48),IF(B47=31,COUNTIF($X$31:$AC$31,B48),IF(B47=32,COUNTIF($X$32:$AC$32,B48),IF(B47=33,COUNTIF($X$33:$AC$33,B48),IF(B47=34,COUNTIF($X$34:$AC$34,B48),IF(B47=35,COUNTIF($X$35:$AC$35,B48),IF(B47=36,COUNTIF($X$36:$AC$36,B48),IF(B47=0,COUNTIF($X$37:$AC$37,B48),"")))))))))))))))))))))))))))))))))))))) -> 0 | E48: =IF(B48="","",IF(D48=1,"W",IF(D48=0,"L",""))) -> L | F48: =IF(B48="","",IF(AE47<$J$15,"Bet","No Bet")) -> Bet | G48: =IF(B48="","",IF(F48="No Bet",G47,IF(E48="L",-6+G47,IF(E48="W",30+G47)))) -> -96 | AE48: =IF(E48="L",AE47+1,IF(E48="W",0,"")) -> 12 | AF48: =IF(AND($AE49=0,$AE48=1),1,"") | AG48: =IF(AND($AE49=0,$AE48=2),1,"") | AH48: =IF(AND($AE49=0,$AE48=3),1,"") | AI48: =IF(AND($AE49=0,$AE48=4),1,"") | AJ48: =IF(AND($AE49=0,$AE48=5),1,"") | AK48: =IF(AND($AE49=0,$AE48=6),1,"") | AL48: =IF(AND($AE49=0,$AE48=7),1,"") | AM48: =IF(AND($AE49=0,$AE48=8),1,"") | AN48: =IF(AND($AE49=0,$AE48=9),1,"") | AO48: =IF(AND($AE49=0,$AE48=10),1,"") | AP48: =IF(AND($AE49=0,$AE48=11),1,"") | AQ48: =IF(AND($AE49=0,$AE48=12),1,"") | AR48: =IF(AND($AE49=0,$AE48=13),1,"") | AS48: =IF(AND($AE49=0,$AE48=14),1,"") | AT48: =IF(AND($AE49=0,$AE48=15),1,"") | AU48: =IF(AND($AE49=0,$AE48=16),1,"") | AV48: =IF(AND($AE49=0,$AE48=17),1,"") | AW48: =IF(AND($AE49=0,$AE48=18),1,"") | AX48: =IF(AND($AE49=0,$AE48=19),1,"") | AY48: =IF(AND($AE49=0,$AE48=20),1,"") | AZ48: =IF(AND($AE49=0,$AE48=21),1,"") | BA48: =IF(AND($AE49=0,$AE48=22),1,"") | BB48: =IF(AND($AE49=0,$AE48=23),1,"") | BC48: =IF(AND($AE49=0,$AE48=24),1,"") | BD48: =IF(AND($AE49=0,$AE48=25),1,"") | BE48: =IF(AND($AE49=0,$AE48=26),1,"") | BF48: =IF(AND($AE49=0,$AE48=27),1,"") | BG48: =IF(AND($AE49=0,$AE48=28),1,"") | BH48: =IF(AND($AE49=0,$AE48=29),1,"") | BI48: =IF(AND($AE49=0,$AE48=30),1,"") | BJ48: =IF(AE48="","",IF(AND($AE49=0,$AE48>30),1,""))
B49: 14 | C49: =IF(B49="","",VLOOKUP(B49,Tabelle2!$A$2:$B$38,2,0)) -> 3-8-12-23-30-35 | D49: =IF(B49="","",IF(B48=1,COUNTIF($X$1:$AC$1,B49),IF(B48=2,COUNTIF($X$2:$AC$2,B49),IF(B48=3,COUNTIF($X$3:$AC$3,B49),IF(B48=4,COUNTIF($X$4:$AC$4,B49),IF(B48=5,COUNTIF($X$5:$AC$5,B49),IF(B48=6,COUNTIF($X$6:$AC$6,B49),IF(B48=7,COUNTIF($X$7:$AC$7,B49),IF(B48=8,COUNTIF($X$8:$AC$8,B49),IF(B48=9,COUNTIF($X$9:$AC$9,B49),IF(B48=10,COUNTIF($X$10:$AC$10,B49),IF(B48=11,COUNTIF($X$11:$AC$11,B49),IF(B48=12,COUNTIF($X$12:$AC$12,B49),IF(B48=13,COUNTIF($X$13:$AC$13,B49),IF(B48=14,COUNTIF($X$14:$AC$14,B49),IF(B48=15,COUNTIF($X$15:$AC$15,B49),IF(B48=16,COUNTIF($X$16:$AC$16,B49),IF(B48=17,COUNTIF($X$17:$AC$17,B49),IF(B48=18,COUNTIF($X$18:$AC$18,B49),IF(B48=19,COUNTIF($X$19:$AC$19,B49),IF(B48=20,COUNTIF($X$20:$AC$20,B49),IF(B48=21,COUNTIF($X$21:$AC$21,B49),IF(B48=22,COUNTIF($X$22:$AC$22,B49),IF(B48=23,COUNTIF($X$23:$AC$23,B49),IF(B48=24,COUNTIF($X$24:$AC$24,B49),IF(B48=25,COUNTIF($X$25:$AC$25,B49),IF(B48=26,COUNTIF($X$26:$AC$26,B49),IF(B48=27,COUNTIF($X$27:$AC$27,B49),IF(B48=28,COUNTIF($X$28:$AC$28,B49),IF(B48=29,COUNTIF($X$29:$AC$29,B49),IF(B48=30,COUNTIF($X$30:$AC$30,B49),IF(B48=31,COUNTIF($X$31:$AC$31,B49),IF(B48=32,COUNTIF($X$32:$AC$32,B49),IF(B48=33,COUNTIF($X$33:$AC$33,B49),IF(B48=34,COUNTIF($X$34:$AC$34,B49),IF(B48=35,COUNTIF($X$35:$AC$35,B49),IF(B48=36,COUNTIF($X$36:$AC$36,B49),IF(B48=0,COUNTIF($X$37:$AC$37,B49),"")))))))))))))))))))))))))))))))))))))) -> 0 | E49: =IF(B49="","",IF(D49=1,"W",IF(D49=0,"L",""))) -> L | F49: =IF(B49="","",IF(AE48<$J$15,"Bet","No Bet")) -> Bet | G49: =IF(B49="","",IF(F49="No Bet",G48,IF(E49="L",-6+G48,IF(E49="W",30+G48)))) -> -102 | AE49: =IF(E49="L",AE48+1,IF(E49="W",0,"")) -> 13 | AF49: =IF(AND($AE50=0,$AE49=1),1,"") | AG49: =IF(AND($AE50=0,$AE49=2),1,"") | AH49: =IF(AND($AE50=0,$AE49=3),1,"") | AI49: =IF(AND($AE50=0,$AE49=4),1,"") | AJ49: =IF(AND($AE50=0,$AE49=5),1,"") | AK49: =IF(AND($AE50=0,$AE49=6),1,"") | AL49: =IF(AND($AE50=0,$AE49=7),1,"") | AM49: =IF(AND($AE50=0,$AE49=8),1,"") | AN49: =IF(AND($AE50=0,$AE49=9),1,"") | AO49: =IF(AND($AE50=0,$AE49=10),1,"") | AP49: =IF(AND($AE50=0,$AE49=11),1,"") | AQ49: =IF(AND($AE50=0,$AE49=12),1,"") | AR49: =IF(AND($AE50=0,$AE49=13),1,"") | AS49: =IF(AND($AE50=0,$AE49=14),1,"") | AT49: =IF(AND($AE50=0,$AE49=15),1,"") | AU49: =IF(AND($AE50=0,$AE49=16),1,"") | AV49: =IF(AND($AE50=0,$AE49=17),1,"") | AW49: =IF(AND($AE50=0,$AE49=18),1,"") | AX49: =IF(AND($AE50=0,$AE49=19),1,"") | AY49: =IF(AND($AE50=0,$AE49=20),1,"") | AZ49: =IF(AND($AE50=0,$AE49=21),1,"") | BA49: =IF(AND($AE50=0,$AE49=22),1,"") | BB49: =IF(AND($AE50=0,$AE49=23),1,"") | BC49: =IF(AND($AE50=0,$AE49=24),1,"") | BD49: =IF(AND($AE50=0,$AE49=25),1,"") | BE49: =IF(AND($AE50=0,$AE49=26),1,"") | BF49: =IF(AND($AE50=0,$AE49=27),1,"") | BG49: =IF(AND($AE50=0,$AE49=28),1,"") | BH49: =IF(AND($AE50=0,$AE49=29),1,"") | BI49: =IF(AND($AE50=0,$AE49=30),1,"") | BJ49: =IF(AE49="","",IF(AND($AE50=0,$AE49>30),1,""))
... B599: 17 | C599: =IF(B599="","",VLOOKUP(B599,Tabelle2!$A$2:$B$38,2,0)) -> 0-3-8-10-23-26 | D599: =IF(B599="","",IF(B598=1,COUNTIF($X$1:$AC$1,B599),IF(B598=2,COUNTIF($X$2:$AC$2,B599),IF(B598=3,COUNTIF($X$3:$AC$3,B599),IF(B598=4,COUNTIF($X$4:$AC$4,B599),IF(B598=5,COUNTIF($X$5:$AC$5,B599),IF(B598=6,COUNTIF($X$6:$AC$6,B599),IF(B598=7,COUNTIF($X$7:$AC$7,B599),IF(B598=8,COUNTIF($X$8:$AC$8,B599),IF(B598=9,COUNTIF($X$9:$AC$9,B599),IF(B598=10,COUNTIF($X$10:$AC$10,B599),IF(B598=11,COUNTIF($X$11:$AC$11,B599),IF(B598=12,COUNTIF($X$12:$AC$12,B599),IF(B598=13,COUNTIF($X$13:$AC$13,B599),IF(B598=14,COUNTIF($X$14:$AC$14,B599),IF(B598=15,COUNTIF($X$15:$AC$15,B599),IF(B598=16,COUNTIF($X$16:$AC$16,B599),IF(B598=17,COUNTIF($X$17:$AC$17,B599),IF(B598=18,COUNTIF($X$18:$AC$18,B599),IF(B598=19,COUNTIF($X$19:$AC$19,B599),IF(B598=20,COUNTIF($X$20:$AC$20,B599),IF(B598=21,COUNTIF($X$21:$AC$21,B599),IF(B598=22,COUNTIF($X$22:$AC$22,B599),IF(B598=23,COUNTIF($X$23:$AC$23,B599),IF(B598=24,COUNTIF($X$24:$AC$24,B599),IF(B598=25,COUNTIF($X$25:$AC$25,B599),IF(B598=26,COUNTIF($X$26:$AC$26,B599),IF(B598=27,COUNTIF($X$27:$AC$27,B599),IF(B598=28,COUNTIF($X$28:$AC$28,B599),IF(B598=29,COUNTIF($X$29:$AC$29,B599),IF(B598=30,COUNTIF($X$30:$AC$30,B599),IF(B598=31,COUNTIF($X$31:$AC$31,B599),IF(B598=32,COUNTIF($X$32:$AC$32,B599),IF(B598=33,COUNTIF($X$33:$AC$33,B599),IF(B598=34,COUNTIF($X$34:$AC$34,B599),IF(B598=35,COUNTIF($X$35:$AC$35,B599),IF(B598=36,COUNTIF($X$36:$AC$36,B599),IF(B598=0,COUNTIF($X$37:$AC$37,B599),"")))))))))))))))))))))))))))))))))))))) -> 0 | E599: =IF(B599="","",IF(D599=1,"W",IF(D599=0,"L",""))) -> L | F599: =IF(B599="","",IF(AE598<$J$15,"Bet","No Bet")) -> Bet | G599: =IF(B599="","",IF(F599="No Bet",G598,IF(E599="L",-6+G598,IF(E599="W",30+G598)))) -> -810 | AE599: =IF(E599="L",AE598+1,IF(E599="W",0,"")) -> 2 | AF599: =IF(AND($AE600=0,$AE599=1),1,"") | AG599: =IF(AND($AE600=0,$AE599=2),1,"") -> 1 | AH599: =IF(AND($AE600=0,$AE599=3),1,"") | AI599: =IF(AND($AE600=0,$AE599=4),1,"") | AJ599: =IF(AND($AE600=0,$AE599=5),1,"") | AK599: =IF(AND($AE600=0,$AE599=6),1,"") | AL599: =IF(AND($AE600=0,$AE599=7),1,"") | AM599: =IF(AND($AE600=0,$AE599=8),1,"") | AN599: =IF(AND($AE600=0,$AE599=9),1,"") | AO599: =IF(AND($AE600=0,$AE599=10),1,"") | AP599: =IF(AND($AE600=0,$AE599=11),1,"") | AQ599: =IF(AND($AE600=0,$AE599=12),1,"") | AR599: =IF(AND($AE600=0,$AE599=13),1,"") | AS599: =IF(AND($AE600=0,$AE599=14),1,"") | AT599: =IF(AND($AE600=0,$AE599=15),1,"") | AU599: =IF(AND($AE600=0,$AE599=16),1,"") | AV599: =IF(AND($AE600=0,$AE599=17),1,"") | AW599: =IF(AND($AE600=0,$AE599=18),1,"") | AX599: =IF(AND($AE600=0,$AE599=19),1,"") | AY599: =IF(AND($AE600=0,$AE599=20),1,"") | AZ599: =IF(AND($AE600=0,$AE599=21),1,"") | BA599: =IF(AND($AE600=0,$AE599=22),1,"") | BB599: =IF(AND($AE600=0,$AE599=23),1,"") | BC599: =IF(AND($AE600=0,$AE599=24),1,"") | BD599: =IF(AND($AE600=0,$AE599=25),1,"") | BE599: =IF(AND($AE600=0,$AE599=26),1,"") | BF599: =IF(AND($AE600=0,$AE599=27),1,"") | BG599: =IF(AND($AE600=0,$AE599=28),1,"") | BH599: =IF(AND($AE600=0,$AE599=29),1,"") | BI599: =IF(AND($AE600=0,$AE599=30),1,"") | BJ599: =IF(AE599="","",IF(AND($AE600=0,$AE599>30),1,""))
B600: 22 | AF600: =IF(AND($AE601=0,$AE600=1),1,"") | AG600: =IF(AND($AE601=0,$AE600=2),1,"") | AH600: =IF(AND($AE601=0,$AE600=3),1,"") | AI600: =IF(AND($AE601=0,$AE600=4),1,"") | AJ600: =IF(AND($AE601=0,$AE600=5),1,"") | AK600: =IF(AND($AE601=0,$AE600=6),1,"") | AL600: =IF(AND($AE601=0,$AE600=7),1,"") | AM600: =IF(AND($AE601=0,$AE600=8),1,"") | AN600: =IF(AND($AE601=0,$AE600=9),1,"") | AO600: =IF(AND($AE601=0,$AE600=10),1,"") | AP600: =IF(AND($AE601=0,$AE600=11),1,"") | AQ600: =IF(AND($AE601=0,$AE600=12),1,"") | AR600: =IF(AND($AE601=0,$AE600=13),1,"") | AS600: =IF(AND($AE601=0,$AE600=14),1,"") | AT600: =IF(AND($AE601=0,$AE600=15),1,"") | AU600: =IF(AND($AE601=0,$AE600=16),1,"") | AV600: =IF(AND($AE601=0,$AE600=17),1,"") | AW600: =IF(AND($AE601=0,$AE600=18),1,"") | AX600: =IF(AND($AE601=0,$AE600=19),1,"") | AY600: =IF(AND($AE601=0,$AE600=20),1,"") | AZ600: =IF(AND($AE601=0,$AE600=21),1,"") | BA600: =IF(AND($AE601=0,$AE600=22),1,"") | BB600: =IF(AND($AE601=0,$AE600=23),1,"") | BC600: =IF(AND($AE601=0,$AE600=24),1,"") | BD600: =IF(AND($AE601=0,$AE600=25),1,"") | BE600: =IF(AND($AE601=0,$AE600=26),1,"") | BF600: =IF(AND($AE601=0,$AE600=27),1,"") | BG600: =IF(AND($AE601=0,$AE600=28),1,"") | BH600: =IF(AND($AE601=0,$AE600=29),1,"") | BI600: =IF(AND($AE601=0,$AE600=30),1,"") | BJ600: =IF(AE600="","",IF(AND($AE601=0,$AE600>30),1,""))
B601: 36
B602: 6 | AF602: =SUM(AF3:AF600) -> 10 | AG602: =SUM(AG3:AG600) -> 6 | AH602: =SUM(AH3:AH600) -> 8 | AI602: =SUM(AI3:AI600) -> 6 | AJ602: =SUM(AJ3:AJ600) -> 4 | AK602: =SUM(AK3:AK600) -> 7 | AL602: =SUM(AL3:AL600) -> 4 | AM602: =SUM(AM3:AM600) -> 5 | ... BJ602: =SUM(BJ3:BJ600) -> 1
B603: 10
B604: 19
B605: 31
B606: 11
B607: 18
B608: 8
B609: 21
B610: 13
B611: 34
B612: 1
B613: 31
B614: 8
... B622: 12

Sheet Tabelle2
A1: Num | B1: Bet
A2: 1 | B2: 7-11-12-28-30-36 | D2: 7 | E2: 11 | F2: 12 | G2: 28 | H2: 30 | I2: 36
A3: 2 | B3: 3-8-11-12-30-35 | D3: 3 | E3: 8 | F3: 11 | G3: 12 | H3: 30 | I3: 35
A4: 3 | B4: 2-9-14-17-25-31 | D4: 2 | E4: 9 | F4: 14 | G4: 17 | H4: 25 | I4: 31
A5: 4 | B5: 7-11-12-13-28-36 | D5: 7 | E5: 11 | F5: 12 | G5: 13 | H5: 28 | I5: 36
A6: 5 | B6: 6-9-18-22-27-34 | D6: 6 | E6: 9 | F6: 18 | G6: 22 | H6: 27 | I6: 34
A7: 6 | B7: 0-5-10-15-24-32 | D7: 0 | E7: 5 | F7: 10 | G7: 15 | H7: 24 | I7: 32
A8: 7 | B8: 1-4-15-16-19-33 | D8: 1 | E8: 4 | F8: 15 | G8: 16 | H8: 19 | I8: 33
A9: 8 | B9: 2-14-17-20-25-31 | D9: 2 | E9: 14 | F9: 17 | G9: 20 | H9: 25 | I9: 31
A10: 9 | B10: 0-3-5-10-23-26 | D10: 0 | E10: 3 | F10: 5 | G10: 10 | H10: 23 | I10: 26
A11: 10 | B11: 6-9-17-22-31-34 | D11: 6 | E11: 9 | F11: 17 | G11: 22 | H11: 31 | I11: 34
A12: 11 | B12: 1-2-4-20-21-33 | D12: 1 | E12: 2 | F12: 4 | G12: 20 | H12: 21 | I12: 33
A13: 12 | B13: 1-2-4-14-20-21 | D13: 1 | E13: 2 | F13: 4 | G13: 14 | H13: 20 | I13: 21
... A38: 0 | B38: 6-9-17-18-22-34 | D38: 6 | E38: 9 | F38: 17 | G38: 18 | H38: 22 | I38: 34

Sheet Tabelle3
