Workbook

Sheet Tabelle1
A1: Num | C1: Bet | E1: W/L | W1: 1 | X1: 7 | Y1: 11 | Z1: 12 | AA1: 28 | AB1: 30 | AC1: 36 | AE1: Losses
B2: 14 | C2: =IF(B2="","",VLOOKUP(B2,Tabelle2!$A$2:$B$38,2,0)) -> 3-8-12-23-30-35 | W2: 2 | X2: 3 | Y2: 8 | Z2: 11 | AA2: 12 | AB2: 30 | AC2: 35 | AE2: 0 | AF2: 1 | AG2: 2 | AH2: 3 | AI2: 4 | AJ2: 5 | AK2: 6 | AL2: 7 | AM2: 8 | AN2: 9 | AO2: 10 | AP2: 11 | AQ2: 12 | AR2: 13 | AS2: 14 | AT2: 15 | AU2: 16 | AV2: 17 | AW2: 18 | AX2: 19 | AY2: 20 | AZ2: 21 | BA2: 22 | BB2: 23 | BC2: 24 | BD2: 25 | BE2: 26 | BF2: 27 | BG2: 28 | BH2: 29 | BI2: 30 | BJ2: >30
B3: 25 | C3: =IF(B3="","",VLOOKUP(B3,Tabelle2!$A$2:$B$38,2,0)) -> 3-8-23-26-30-35 | D3: =IF(B3="","",IF(B2=1,COUNTIF($X$1:$AC$1,B3),IF(B2=2,COUNTIF($X$2:$AC$2,B3),IF(B2=3,COUNTIF($X$3:$AC$3,B3),IF(B2=4,COUNTIF($X$4:$AC$4,B3),IF(B2=5,COUNTIF($X$5:$AC$5,B3),IF(B2=6,COUNTIF($X$6:$AC$6,B3),IF(B2=7,COUNTIF($X$7:$AC$7,B3),IF(B2=8,COUNTIF($X$8:$AC$8,B3),IF(B2=9,COUNTIF($X$9:$AC$9,B3),IF(B2=10,COUNTIF($X$10:$AC$10,B3),IF(B2=11,COUNTIF($X$11:$AC$11,B3),IF(B2=12,COUNTIF($X$12:$AC$12,B3),IF(B2=13,COUNTIF($X$13:$AC$13,B3),IF(B2=14,COUNTIF($X$14:$AC$14,B3),IF(B2=15,COUNTIF($X$15:$AC$15,B3),IF(B2=16,COUNTIF($X$16:$AC$16,B3),IF(B2=17,COUNTIF($X$17:$AC$17,B3),IF(B2=18,COUNTIF($X$18:$AC$18,B3),IF(B2=19,COUNTIF($X$19:$AC$19,B3),IF(B2=20,COUNTIF($X$20:$AC$20,B3),IF(B2=21,COUNTIF($X$21:$AC$21,B3),IF(B2=22,COUNTIF($X$22:$AC$22,B3),IF(B2=23,COUNTIF($X$23:$AC$23,B3),IF(B2=24,COUNTIF($X$24:$AC$24,B3),IF(B2=25,COUNTIF($X$25:$AC$25,B3),IF(B2=26,COUNTIF($X$26:$AC$26,B3),IF(B2=27,COUNTIF($X$27:$AC$27,B3),IF(B2=28,COUNTIF($X$28:$AC$28,B3),IF(B2=29,COUNTIF($X$29:$AC$29,B3),IF(B2=30,COUNTIF($X$30:$AC$30,B3),IF(B2=31,COUNTIF($X$31:$AC$31,B3),IF(B2=32,COUNTIF($X$32:$AC$32,B3),IF(B2=33,COUNTIF($X$33:$AC$33,B3),IF(B2=34,COUNTIF($X$34:$AC$34,B3),IF(B2=35,COUNTIF($X$35:$AC$35,B3),IF(B2=36,COUNTIF($X$36:$AC$36,B3),IF(B2=0,COUNTIF($X$37:$AC$37,B3),"")))))))))))))))))))))))))))))))))))))) -> 0 | E3: =IF(B3="","",IF(D3=1,"W",IF(D3=0,"L",""))) -> L | F3: =IF(B3="","",IF(AE2<$J$15,"Bet","No Bet")) -> Bet | G3: =IF(B3="","",IF(F3="No Bet",G2,IF(E3="L",-6+G2,IF(E3="W",30+G2)))) -> -6 | I3: Wins | J3: =COUNTIF(E2:E599,"W") -> 76 | L3: Losses | W3: 3 | X3: 2 | Y3: 9 | Z3: 14 | AA3: 17 | AB3: 25 | AC3: 31 | AE3: =IF(E3="L",AE2+1,IF(E3="W",0,"")) -> 1 | AF3: =IF(AND($AE4=0,$AE3=1),1,"") | AG3: =IF(AND($AE4=0,$AE3=2),1,"") | AH3: =IF(AND($AE4=0,$AE3=3),1,"") | AI3: =IF(AND($AE4=0,$AE3=4),1,"") | AJ3: =IF(AND($AE4=0,$AE3=5),1,"") | AK3: =IF(AND($AE4=0,$AE3=6),1,"") | AL3: =IF(AND($AE4=0,$AE3=7),1,"") | AM3: =IF(AND($AE4=0,$AE3=8),1,"") | AN3: =IF(AND($AE4=0,$AE3=9),1,"") | AO3: =IF(AND($AE4=0,$AE3=10),1,"") | AP3: =IF(AND($AE4=0,$AE3=11),1,"") | AQ3: =IF(AND($AE4=0,$AE3=12),1,"") | AR3: =IF(AND($AE4=0,$AE3=13),1,"") | AS3: =IF(AND($AE4=0,$AE3=14),1,"") | AT3: =IF(AND($AE4=0,$AE3=15),1,"") | AU3: =IF(AND($AE4=0,$AE3=16),1,"") | AV3: =IF(AND($AE4=0,$AE3=17),1,"") | AW3: =IF(AND($AE4=0,$AE3=18),1,"") | AX3: =IF(AND($AE4=0,$AE3=19),1,"") | AY3: =IF(AND($AE4=0,$AE3=20),1,"") | AZ3: =IF(AND($AE4=0,$AE3=21),1,"") | BA3: =IF(AND($AE4=0,$AE3=22),1,"") | BB3: =IF(AND($AE4=0,$AE3=23),1,"") | BC3: =IF(AND($AE4=0,$AE3=24),1,"") | BD3: =IF(AND($AE4=0,$AE3=25),1,"") | BE3: =IF(AND($AE4=0,$AE3=26),1,"") | BF3: =IF(AND($AE4=0,$AE3=27),1,"") | BG3: =IF(AND($AE4=0,$AE3=28),1,"") | BH3: =IF(AND($AE4=0,$AE3=29),1,"") | BI3: =IF(AND($AE4=0,$AE3=30),1,"") | BJ3: =IF(AND($AE4=0,$AE3>30),1,"")
B4: 36 | C4: =IF(B4="","",VLOOKUP(B4,Tabelle2!$A$2:$B$38,2,0)) -> 1-4-16-19-21-33 | D4: =IF(B4="","",IF(B3=1,COUNTIF($X$1:$AC$1,B4),IF(B3=2,COUNTIF($X$2:$AC$2,B4),IF(B3=3,COUNTIF($X$3:$AC$3,B4),IF(B3=4,COUNTIF($X$4:$AC$4,B4),IF(B3=5,COUNTIF($X$5:$AC$5,B4),IF(B3=6,COUNTIF($X$6:$AC$6,B4),IF(B3=7,COUNTIF($X$7:$AC$7,B4),IF(B3=8,COUNTIF($X$8:$AC$8,B4),IF(B3=9,COUNTIF($X$9:$AC$9,B4),IF(B3=10,COUNTIF($X$10:$AC$10,B4),IF(B3=11,COUNTIF($X$11:$AC$11,B4),IF(B3=12,COUNTIF($X$12:$AC$12,B4),IF(B3=13,COUNTIF($X$13:$AC$13,B4),IF(B3=14,COUNTIF($X$14:$AC$14,B4),IF(B3=15,COUNTIF($X$15:$AC$15,B4),IF(B3=16,COUNTIF($X$16:$AC$16,B4),IF(B3=17,COUNTIF($X$17:$AC$17,B4),IF(B3=18,COUNTIF($X$18:$AC$18,B4),IF(B3=19,COUNTIF($X$19:$AC$19,B4),IF(B3=20,COUNTIF($X$20:$AC$20,B4),IF(B3=21,COUNTIF($X$21:$AC$21,B4),IF(B3=22,COUNTIF($X$22:$AC$22,B4),IF(B3=23,COUNTIF($X$23:$AC$23,B4),IF(B3=24,COUNTIF($X$24:$AC$24,B4),IF(B3=25,COUNTIF($X$25:$AC$25,B4),IF(B3=26,COUNTIF($X$26:$AC$26,B4),IF(B3=27,COUNTIF($X$27:$AC$27,B4),IF(B3=28,COUNTIF($X$28:$AC$28,B4),IF(B3=29,COUNTIF($X$29:$AC$29,B4),IF(B3=30,COUNTIF($X$30:$AC$30,B4),IF(B3=31,COUNTIF($X$31:$AC$31,B4),IF(B3=32,COUNTIF($X$32:$AC$32,B4),IF(B3=33,COUNTIF($X$33:$AC$33,B4),IF(B3=34,COUNTIF($X$34:$AC$34,B4),IF(B3=35,COUNTIF($X$35:$AC$35,B4),IF(B3=36,COUNTIF($X$36:$AC$36,B4),IF(B3=0,COUNTIF($X$37:$AC$37,B4),"")))))))))))))))))))))))))))))))))))))) -> 0 | E4: =IF(B4="","",IF(D4=1,"W",IF(D4=0,"L",""))) -> L | F4: =IF(B4="","",IF(AE3<$J$15,"Bet","No Bet")) -> Bet | G4: =IF(B4="","",IF(F4="No Bet",G3,IF(E4="L",-6+G3,IF(E4="W",30+G3)))) -> -12 | I4: Losses | J4: =COUNTIF(E2:E599,"L") -> 521 | L4: 1 | M4: =AF602 -> 10 | W4: 4 | X4: 7 | Y4: 11 | Z4: 12 | AA4: 13 | AB4: 28 | AC4: 36 | AE4: =IF(E4="L",AE3+1,IF(E4="W",0,"")) -> 2 | AF4: =IF(AND($AE5=0,$AE4=1),1,"") | AG4: =IF(AND($AE5=0,$AE4=2),1,"") | AH4: =IF(AND($AE5=0,$AE4=3),1,"") | AI4: =IF(AND($AE5=0,$AE4=4),1,"") | AJ4: =IF(AND($AE5=0,$AE4=5),1,"") | AK4: =IF(AND($AE5=0,$AE4=6),1,"") | AL4: =IF(AND($AE5=0,$AE4=7),1,"") | AM4: =IF(AND($AE5=0,$AE4=8),1,"") | AN4: =IF(AND($AE5=0,$AE4=9),1,"") | AO4: =IF(AND($AE5=0,$AE4=10),1,"") | AP4: =IF(AND($AE5=0,$AE4=11),1,"") | AQ4: =IF(AND($AE5=0,$AE4=12),1,"") | AR4: =IF(AND($AE5=0,$AE4=13),1,"") | AS4: =IF(AND($AE5=0,$AE4=14),1,"") | AT4: =IF(AND($AE5=0,$AE4=15),1,"") | AU4: =IF(AND($AE5=0,$AE4=16),1,"") | AV4: =IF(AND($AE5=0,$AE4=17),1,"") | AW4: =IF(AND($AE5=0,$AE4=18),1,"") | AX4: =IF(AND($AE5=0,$AE4=19),1,"") | AY4: =IF(AND($AE5=0,$AE4=20),1,"") | AZ4: =IF(AND($AE5=0,$AE4=21),1,"") | BA4: =IF(AND($AE5=0,$AE4=22),1,"") | BB4: =IF(AND($AE5=0,$AE4=23),1,"") | BC4: =IF(AND($AE5=0,$AE4=24),1,"") | BD4: =IF(AND($AE5=0,$AE4=25),1,"") | BE4: =IF(AND($AE5=0,$AE4=26),1,"") | BF4: =IF(AND($AE5=0,$AE4=27),1,"") | BG4: =IF(AND($AE5=0,$AE4=28),1,"") | BH4: =IF(AND($AE5=0,$AE4=29),1,"") | BI4: =IF(AND($AE5=0,$AE4=30),1,"") | BJ4: =IF(AND($AE5=0,$AE4>30),1,"")
B5: 22 | C5: =IF(B5="","",VLOOKUP(B5,Tabelle2!$A$2:$B$38,2,0)) -> 0-5-10-24-26-32 | D5: =IF(B5="","",IF(B4=1,COUNTIF($X$1:$AC$1,B5),IF(B4=2,COUNTIF($X$2:$AC$2,B5),IF(B4=3,COUNTIF($X$3:$AC$3,B5),IF(B4=4,COUNTIF($X$4:$AC$4,B5),IF(B4=5,COUNTIF($X$5:$AC$5,B5),IF(B4=6,COUNTIF($X$6:$AC$6,B5),IF(B4=7,COUNTIF($X$7:$AC$7,B5),IF(B4=8,COUNTIF($X$8:$AC$8,B5),IF(B4=9,COUNTIF($X$9:$AC$9,B5),IF(B4=10,COUNTIF($X$10:$AC$10,B5),IF(B4=11,COUNTIF($X$11:$AC$11,B5),IF(B4=12,COUNTIF($X$12:$AC$12,B5),IF(B4=13,COUNTIF($X$13:$AC$13,B5),IF(B4=14,COUNTIF($X$14:$AC$14,B5),IF(B4=15,COUNTIF($X$15:$AC$15,B5),IF(B4=16,COUNTIF($X$16:$AC$16,B5),IF(B4=17,COUNTIF($X$17:$AC$17,B5),IF(B4=18,COUNTIF($X$18:$AC$18,B5),IF(B4=19,COUNTIF($X$19:$AC$19,B5),IF(B4=20,COUNTIF($X$20:$AC$20,B5),IF(B4=21,COUNTIF($X$21:$AC$21,B5),IF(B4=22,COUNTIF($X$22:$AC$22,B5),IF(B4=23,COUNTIF($X$23:$AC$23,B5),IF(B4=24,COUNTIF($X$24:$AC$24,B5),IF(B4=25,COUNTIF($X$25:$AC$25,B5),IF(B4=26,COUNTIF($X$26:$AC$26,B5),IF(B4=27,COUNTIF($X$27:$AC$27,B5),IF(B4=28,COUNTIF($X$28:$AC$28,B5),IF(B4=29,COUNTIF($X$29:$AC$29,B5),IF(B4=30,COUNTIF($X$30:$AC$30,B5),IF(B4=31,COUNTIF($X$31:$AC$31,B5),IF(B4=32,COUNTIF($X$32:$AC$32,B5),IF(B4=33,COUNTIF($X$33:$AC$33,B5),IF(B4=34,COUNTIF($X$34:$AC$34,B5),IF(B4=35,COUNTIF($X$35:$AC$35,B5),IF(B4=36,COUNTIF($X$36:$AC$36,B5),IF(B4=0,COUNTIF($X$37:$AC$37,B5),"")))))))))))))))))))))))))))))))))))))) -> 0 | E5: =IF(B5="","",IF(D5=1,"W",IF(D5=0,"L",""))) -> L | F5: =IF(B5="","",IF(AE4<$J$15,"Bet","No Bet")) -> Bet | G5: =IF(B5="","",IF(F5="No Bet",G4,IF(E5="L",-6+G4,IF(E5="W",30+G4)))) -> -18 | L5: 2 | M5: =AG602 -> 6 | W5: 5 | X5: 6 | Y5: 9 | Z5: 18 | AA5: 22 | AB5: 27 | AC5: 34 | AE5: =IF(E5="L",AE4+1,IF(E5="W",0,"")) -> 3 | AF5: =IF(AND($AE6=0,$AE5=1),1,"") | AG5: =IF(AND($AE6=0,$AE5=2),1,"") | AH5: =IF(AND($AE6=0,$AE5=3),1,"") | AI5: =IF(AND($AE6=0,$AE5=4),1,"") | AJ5: =IF(AND($AE6=0,$AE5=5),1,"") | AK5: =IF(AND($AE6=0,$AE5=6),1,"") | AL5: =IF(AND($AE6=0,$AE5=7),1,"") | AM5: =IF(AND($AE6=0,$AE5=8),1,"") | AN5: =IF(AND($AE6=0,$AE5=9),1,"") | AO5: =IF(AND($AE6=0,$AE5=10),1,"") | AP5: =IF(AND($AE6=0,$AE5=11),1,"") | AQ5: =IF(AND($AE6=0,$AE5=12),1,"") | AR5: =IF(AND($AE6=0,$AE5=13),1,"") | AS5: =IF(AND($AE6=0,$AE5=14),1,"") | AT5: =IF(AND($AE6=0,$AE5=15),1,"") | AU5: =IF(AND($AE6=0,$AE5=16),1,"") | AV5: =IF(AND($AE6=0,$AE5=17),1,"") | AW5: =IF(AND($AE6=0,$AE5=18),1,"") | AX5: =IF(AND($AE6=0,$AE5=19),1,"") | AY5: =IF(AND($AE6=0,$AE5=20),1,"") | AZ5: =IF(AND($AE6=0,$AE5=21),1,"") | BA5: =IF(AND($AE6=0,$AE5=22),1,"") | BB5: =IF(AND($AE6=0,$AE5=23),1,"") | BC5: =IF(AND($AE6=0,$AE5=24),1,"") | BD5: =IF(AND($AE6=0,$AE5=25),1,"") | BE5: =IF(AND($AE6=0,$AE5=26),1,"") | BF5: =IF(AND($AE6=0,$AE5=27),1,"") | BG5: =IF(AND($AE6=0,$AE5=28),1,"") | BH5: =IF(AND($AE6=0,$AE5=29),1,"") | BI5: =IF(AND($AE6=0,$AE5=30),1,"") | BJ5: =IF(AND($AE6=0,$AE5>30),1,"")
B6: 16 | C6: =IF(B6="","",VLOOKUP(B6,Tabelle2!$A$2:$B$38,2,0)) -> 7-13-18-27-29-36 | D6: =IF(B6="","",IF(B5=1,COUNTIF($X$1:$AC$1,B6),IF(B5=2,COUNTIF($X$2:$AC$2,B6),IF(B5=3,COUNTIF($X$3:$AC$3,B6),IF(B5=4,COUNTIF($X$4:$AC$4,B6),IF(B5=5,COUNTIF($X$5:$AC$5,B6),IF(B5=6,COUNTIF($X$6:$AC$6,B6),IF(B5=7,COUNTIF($X$7:$AC$7,B6),IF(B5=8,COUNTIF($X$8:$AC$8,B6),IF(B5=9,COUNTIF($X$9:$AC$9,B6),IF(B5=10,COUNTIF($X$10:$AC$10,B6),IF(B5=11,COUNTIF($X$11:$AC$11,B6),IF(B5=12,COUNTIF($X$12:$AC$12,B6),IF(B5=13,COUNTIF($X$13:$AC$13,B6),IF(B5=14,COUNTIF($X$14:$AC$14,B6),IF(B5=15,COUNTIF($X$15:$AC$15,B6),IF(B5=16,COUNTIF($X$16:$AC$16,B6),IF(B5=17,COUNTIF($X$17:$AC$17,B6),IF(B5=18,COUNTIF($X$18:$AC$18,B6),IF(B5=19,COUNTIF($X$19:$AC$19,B6),IF(B5=20,COUNTIF($X$20:$AC$20,B6),IF(B5=21,COUNTIF($X$21:$AC$21,B6),IF(B5=22,COUNTIF($X$22:$AC$22,B6),IF(B5=23,COUNTIF($X$23:$AC$23,B6),IF(B5=24,COUNTIF($X$24:$AC$24,B6),IF(B5=25,COUNTIF($X$25:$AC$25,B6),IF(B5=26,COUNTIF($X$26:$AC$26,B6),IF(B5=27,COUNTIF($X$27:$AC$27,B6),IF(B5=28,COUNTIF($X$28:$AC$28,B6),IF(B5=29,COUNTIF($X$29:$AC$29,B6),IF(B5=30,COUNTIF($X$30:$AC$30,B6),IF(B5=31,COUNTIF($X$31:$AC$31,B6),IF(B5=32,COUNTIF($X$32:$AC$32,B6),IF(B5=33,COUNTIF($X$33:$AC$33,B6),IF(B5=34,COUNTIF($X$34:$AC$34,B6),IF(B5=35,COUNTIF($X$35:$AC$35,B6),IF(B5=36,COUNTIF($X$36:$AC$36,B6),IF(B5=0,COUNTIF($X$37:$AC$37,B6),"")))))))))))))))))))))))))))))))))))))) -> 0 | E6: =IF(B6="","",IF(D6=1,"W",IF(D6=0,"L",""))) -> L | F6: =IF(B6="","",IF(AE5<$J$15,"Bet","No Bet")) -> Bet | G6: =IF(B6="","",IF(F6="No Bet",G5,IF(E6="L",-6+G5,IF(E6="W",30+G5)))) -> -24 | I6: Max Loosing streak | L6: 3 | M6: =AH602 -> 8 | W6: 6 | X6: 0 | Y6: 5 | Z6: 10 | AA6: 15 | AB6: 24 | AC6: 32 | AE6: =IF(E6="L",AE5+1,IF(E6="W",0,"")) -> 4 | AF6: =IF(AND($AE7=0,$AE6=1),1,"") | AG6: =IF(AND($AE7=0,$AE6=2),1,"") | AH6: =IF(AND($AE7=0,$AE6=3),1,"") | AI6: =IF(AND($AE7=0,$AE6=4),1,"") | AJ6: =IF(AND($AE7=0,$AE6=5),1,"") | AK6: =IF(AND($AE7=0,$AE6=6),1,"") | AL6: =IF(AND($AE7=0,$AE6=7),1,"") | AM6: =IF(AND($AE7=0,$AE6=8),1,"") | AN6: =IF(AND($AE7=0,$AE6=9),1,"") | AO6: =IF(AND($AE7=0,$AE6=10),1,"") | AP6: =IF(AND($AE7=0,$AE6=11),1,"") | AQ6: =IF(AND($AE7=0,$AE6=12),1,"") | AR6: =IF(AND($AE7=0,$AE6=13),1,"") | AS6: =IF(AND($AE7=0,$AE6=14),1,"") | AT6: =IF(AND($AE7=0,$AE6=15),1,"") | AU6: =IF(AND($AE7=0,$AE6=16),1,"") | AV6: =IF(AND($AE7=0,$AE6=17),1,"") | AW6: =IF(AND($AE7=0,$AE6=18),1,"") | AX6: =IF(AND($AE7=0,$AE6=19),1,"") | AY6: =IF(AND($AE7=0,$AE6=20),1,"") | AZ6: =IF(AND($AE7=0,$AE6=21),1,"") | BA6: =IF(AND($AE7=0,$AE6=22),1,"") | BB6: =IF(AND($AE7=0,$AE6=23),1,"") | BC6: =IF(AND($AE7=0,$AE6=24),1,"") | BD6: =IF(AND($AE7=0,$AE6=25),1,"") | BE6: =IF(AND($AE7=0,$AE6=26),1,"") | BF6: =IF(AND($AE7=0,$AE6=27),1,"") | BG6: =IF(AND($AE7=0,$AE6=28),1,"") | BH6: =IF(AND($AE7=0,$AE6=29),1,"") | BI6: =IF(AND($AE7=0,$AE6=30),1,"") | BJ6: =IF(AND($AE7=0,$AE6>30),1,"")
B7: 10 | C7: =IF(B7="","",VLOOKUP(B7,Tabelle2!$A$2:$B$38,2,0)) -> 6-9-17-22-31-34 | D7: =IF(B7="","",IF(B6=1,COUNTIF($X$1:$AC$1,B7),IF(B6=2,COUNTIF($X$2:$AC$2,B7),IF(B6=3,COUNTIF($X$3:$AC$3,B7),IF(B6=4,COUNTIF($X$4:$AC$4,B7),IF(B6=5,COUNTIF($X$5:$AC$5,B7),IF(B6=6,COUNTIF($X$6:$AC$6,B7),IF(B6=7,COUNTIF($X$7:$AC$7,B7),IF(B6=8,COUNTIF($X$8:$AC$8,B7),IF(B6=9,COUNTIF($X$9:$AC$9,B7),IF(B6=10,COUNTIF($X$10:$AC$10,B7),IF(B6=11,COUNTIF($X$11:$AC$11,B7),IF(B6=12,COUNTIF($X$12:$AC$12,B7),IF(B6=13,COUNTIF($X$13:$AC$13,B7),IF(B6=14,COUNTIF($X$14:$AC$14,B7),IF(B6=15,COUNTIF($X$15:$AC$15,B7),IF(B6=16,COUNTIF($X$16:$AC$16,B7),IF(B6=17,COUNTIF($X$17:$AC$17,B7),IF(B6=18,COUNTIF($X$18:$AC$18,B7),IF(B6=19,COUNTIF($X$19:$AC$19,B7),IF(B6=20,COUNTIF($X$20:$AC$20,B7),IF(B6=21,COUNTIF($X$21:$AC$21,B7),IF(B6=22,COUNTIF($X$22:$AC$22,B7),IF(B6=23,COUNTIF($X$23:$AC$23,B7),IF(B6=24,COUNTIF($X$24:$AC$24,B7),IF(B6=25,COUNTIF($X$25:$AC$25,B7),IF(B6=26,COUNTIF($X$26:$AC$26,B7),IF(B6=27,COUNTIF($X$27:$AC$27,B7),IF(B6=28,COUNTIF($X$28:$AC$28,B7),IF(B6=29,COUNTIF($X$29:$AC$29,B7),IF(B6=30,COUNTIF($X$30:$AC$30,B7),IF(B6=31,COUNTIF($X$31:$AC$31,B7),IF(B6=32,COUNTIF($X$32:$AC$32,B7),IF(B6=33,COUNTIF($X$33:$AC$33,B7),IF(B6=34,COUNTIF($X$34:$AC$34,B7),IF(B6=35,COUNTIF($X$35:$AC$35,B7),IF(B6=36,COUNTIF($X$36:$AC$36,B7),IF(B6=0,COUNTIF($X$37:$AC$37,B7),"")))))))))))))))))))))))))))))))))))))) -> 0 | E7: =IF(B7="","",IF(D7=1,"W",IF(D7=0,"L",""))) -> L | F7: =IF(B7="","",IF(AE6<$J$15,"Bet","No Bet")) -> Bet | G7: =IF(B7="","",IF(F7="No Bet",G6,IF(E7="L",-6+G6,IF(E7="W",30+G6)))) -> -30 | I7: =MAX(AE3:AE600) -> 46 | L7: 4 | M7: =AI602 -> 6 | W7: 7 | X7: 1 | Y7: 4 | Z7: 15 | AA7: 16 | AB7: 19 | AC7: 33 | AE7: =IF(E7="L",AE6+1,IF(E7="W",0,"")) -> 5 | AF7: =IF(AND($AE8=0,$AE7=1),1,"") | AG7: =IF(AND($AE8=0,$AE7=2),1,"") | AH7: =IF(AND($AE8=0,$AE7=3),1,"") | AI7: =IF(AND($AE8=0,$AE7=4),1,"") | AJ7: =IF(AND($AE8=0,$AE7=5),1,"") -> 1 | AK7: =IF(AND($AE8=0,$AE7=6),1,"") | AL7: =IF(AND($AE8=0,$AE7=7),1,"") | AM7: =IF(AND($AE8=0,$AE7=8),1,"") | AN7: =IF(AND($AE8=0,$AE7=9),1,"") | AO7: =IF(AND($AE8=0,$AE7=10),1,"") | AP7: =IF(AND($AE8=0,$AE7=11),1,"") | AQ7: =IF(AND($AE8=0,$AE7=12),1,"") | AR7: =IF(AND($AE8=0,$AE7=13),1,"") | AS7: =IF(AND($AE8=0,$AE7=14),1,"") | AT7: =IF(AND($AE8=0,$AE7=15),1,"") | AU7: =IF(AND($AE8=0,$AE7=16),1,"") | AV7: =IF(AND($AE8=0,$AE7=17),1,"") | AW7: =IF(AND($AE8=0,$AE7=18),1,"") | AX7: =IF(AND($AE8=0,$AE7=19),1,"") | AY7: =IF(AND($AE8=0,$AE7=20),1,"") | AZ7: =IF(AND($AE8=0,$AE7=21),1,"") | BA7: =IF(AND($AE8=0,$AE7=22),1,"") | BB7: =IF(AND($AE8=0,$AE7=23),1,"") | BC7: =IF(AND($AE8=0,$AE7=24),1,"") | BD7: =IF(AND($AE8=0,$AE7=25),1,"") | BE7: =IF(AND($AE8=0,$AE7=26),1,"") | BF7: =IF(AND($AE8=0,$AE7=27),1,"") | BG7: =IF(AND($AE8=0,$AE7=28),1,"") | BH7: =IF(AND($AE8=0,$AE7=29),1,"") | BI7: =IF(AND($AE8=0,$AE7=30),1,"") | BJ7: =IF(AND($AE8=0,$AE7>30),1,"")
B8: 9 | C8: =IF(B8="","",VLOOKUP(B8,Tabelle2!$A$2:$B$38,2,0)) -> 0-3-5-10-23-26 | D8: =IF(B8="","",IF(B7=1,COUNTIF($X$1:$AC$1,B8),IF(B7=2,COUNTIF($X$2:$AC$2,B8),IF(B7=3,COUNTIF($X$3:$AC$3,B8),IF(B7=4,COUNTIF($X$4:$AC$4,B8),IF(B7=5,COUNTIF($X$5:$AC$5,B8),IF(B7=6,COUNTIF($X$6:$AC$6,B8),IF(B7=7,COUNTIF($X$7:$AC$7,B8),IF(B7=8,COUNTIF($X$8:$AC$8,B8),IF(B7=9,COUNTIF($X$9:$AC$9,B8),IF(B7=10,COUNTIF($X$10:$AC$10,B8),IF(B7=11,COUNTIF($X$11:$AC$11,B8),IF(B7=12,COUNTIF($X$12:$AC$12,B8),IF(B7=13,COUNTIF($X$13:$AC$13,B8),IF(B7=14,COUNTIF($X$14:$AC$14,B8),IF(B7=15,COUNTIF($X$15:$AC$15,B8),IF(B7=16,COUNTIF($X$16:$AC$16,B8),IF(B7=17,COUNTIF($X$17:$AC$17,B8),IF(B7=18,COUNTIF($X$18:$AC$18,B8),IF(B7=19,COUNTIF($X$19:$AC$19,B8),IF(B7=20,COUNTIF($X$20:$AC$20,B8),IF(B7=21,COUNTIF($X$21:$AC$21,B8),IF(B7=22,COUNTIF($X$22:$AC$22,B8),IF(B7=23,COUNTIF($X$23:$AC$23,B8),IF(B7=24,COUNTIF($X$24:$AC$24,B8),IF(B7=25,COUNTIF($X$25:$AC$25,B8),IF(B7=26,COUNTIF($X$26:$AC$26,B8),IF(B7=27,COUNTIF($X$27:$AC$27,B8),IF(B7=28,COUNTIF($X$28:$AC$28,B8),IF(B7=29,COUNTIF($X$29:$AC$29,B8),IF(B7=30,COUNTIF($X$30:$AC$30,B8),IF(B7=31,COUNTIF($X$31:$AC$31,B8),IF(B7=32,COUNTIF($X$32:$AC$32,B8),IF(B7=33,COUNTIF($X$33:$AC$33,B8),IF(B7=34,COUNTIF($X$34:$AC$34,B8),IF(B7=35,COUNTIF($X$35:$AC$35,B8),IF(B7=36,COUNTIF($X$36:$AC$36,B8),IF(B7=0,COUNTIF($X$37:$AC$37,B8),"")))))))))))))))))))))))))))))))))))))) -> 1 | E8: =IF(B8="","",IF(D8=1,"W",IF(D8=0,"L",""))) -> W | F8: =IF(B8="","",IF(AE7<$J$15,"Bet","No Bet")) -> Bet | G8: =IF(B8="","",IF(F8="No Bet",G7,IF(E8="L",-6+G7,IF(E8="W",30+G7)))) -> 0 | L8: 5 | M8: =AJ602 -> 4 | W8: 8 | X8: 2 | Y8: 14 | Z8: 17 | AA8: 20 | AB8: 25 | AC8: 31 | AE8: =IF(E8="L",AE7+1,IF(E8="W",0,"")) -> 0 | AF8: =IF(AND($AE9=0,$AE8=1),1,"") | AG8: =IF(AND($AE9=0,$AE8=2),1,"") | AH8: =IF(AND($AE9=0,$AE8=3),1,"") | AI8: =IF(AND($AE9=0,$AE8=4),1,"") | AJ8: =IF(AND($AE9=0,$AE8=5),1,"") | AK8: =IF(AND($AE9=0,$AE8=6),1,"") | AL8: =IF(AND($AE9=0,$AE8=7),1,"") | AM8: =IF(AND($AE9=0,$AE8=8),1,"") | AN8: =IF(AND($AE9=0,$AE8=9),1,"") | AO8: =IF(AND($AE9=0,$AE8=10),1,"") | AP8: =IF(AND($AE9=0,$AE8=11),1,"") | AQ8: =IF(AND($AE9=0,$AE8=12),1,"") | AR8: =IF(AND($AE9=0,$AE8=13),1,"") | AS8: =IF(AND($AE9=0,$AE8=14),1,"") | AT8: =IF(AND($AE9=0,$AE8=15),1,"") | AU8: =IF(AND($AE9=0,$AE8=16),1,"") | AV8: =IF(AND($AE9=0,$AE8=17),1,"") | AW8: =IF(AND($AE9=0,$AE8=18),1,"") | AX8: =IF(AND($AE9=0,$AE8=19),1,"") | AY8: =IF(AND($AE9=0,$AE8=20),1,"") | AZ8: =IF(AND($AE9=0,$AE8=21),1,"") | BA8: =IF(AND($AE9=0,$AE8=22),1,"") | BB8: =IF(AND($AE9=0,$AE8=23),1,"") | BC8: =IF(AND($AE9=0,$AE8=24),1,"") | BD8: =IF(AND($AE9=0,$AE8=25),1,"") | BE8: =IF(AND($AE9=0,$AE8=26),1,"") | BF8: =IF(AND($AE9=0,$AE8=27),1,"") | BG8: =IF(AND($AE9=0,$AE8=28),1,"") | BH8: =IF(AND($AE9=0,$AE8=29),1,"") | BI8: =IF(AND($AE9=0,$AE8=30),1,"") | BJ8: =IF(AND($AE9=0,$AE8>30),1,"")
B9: 2 | C9: =IF(B9="","",VLOOKUP(B9,Tabelle2!$A$2:$B$38,2,0)) -> 3-8-11-12-30-35 | D9: =IF(B9="","",IF(B8=1,COUNTIF($X$1:$AC$1,B9),IF(B8=2,COUNTIF($X$2:$AC$2,B9),IF(B8=3,COUNTIF($X$3:$AC$3,B9),IF(B8=4,COUNTIF($X$4:$AC$4,B9),IF(B8=5,COUNTIF($X$5:$AC$5,B9),IF(B8=6,COUNTIF($X$6:$AC$6,B9),IF(B8=7,COUNTIF($X$7:$AC$7,B9),IF(B8=8,COUNTIF($X$8:$AC$8,B9),IF(B8=9,COUNTIF($X$9:$AC$9,B9),IF(B8=10,COUNTIF($X$10:$AC$10,B9),IF(B8=11,COUNTIF($X$11:$AC$11,B9),IF(B8=12,COUNTIF($X$12:$AC$12,B9),IF(B8=13,COUNTIF($X$13:$AC$13,B9),IF(B8=14,COUNTIF($X$14:$AC$14,B9),IF(B8=15,COUNTIF($X$15:$AC$15,B9),IF(B8=16,COUNTIF($X$16:$AC$16,B9),IF(B8=17,COUNTIF($X$17:$AC$17,B9),IF(B8=18,COUNTIF($X$18:$AC$18,B9),IF(B8=19,COUNTIF($X$19:$AC$19,B9),IF(B8=20,COUNTIF($X$20:$AC$20,B9),IF(B8=21,COUNTIF($X$21:$AC$21,B9),IF(B8=22,COUNTIF($X$22:$AC$22,B9),IF(B8=23,COUNTIF($X$23:$AC$23,B9),IF(B8=24,COUNTIF($X$24:$AC$24,B9),IF(B8=25,COUNTIF($X$25:$AC$25,B9),IF(B8=26,COUNTIF($X$26:$AC$26,B9),IF(B8=27,COUNTIF($X$27:$AC$27,B9),IF(B8=28,COUNTIF($X$28:$AC$28,B9),IF(B8=29,COUNTIF($X$29:$AC$29,B9),IF(B8=30,COUNTIF($X$30:$AC$30,B9),IF(B8=31,COUNTIF($X$31:$AC$31,B9),IF(B8=32,COUNTIF($X$32:$AC$32,B9),IF(B8=33,COUNTIF($X$33:$AC$33,B9),IF(B8=34,COUNTIF($X$34:$AC$34,B9),IF(B8=35,COUNTIF($X$35:$AC$35,B9),IF(B8=36,COUNTIF($X$36:$AC$36,B9),IF(B8=0,COUNTIF($X$37:$AC$37,B9),"")))))))))))))))))))))))))))))))))))))) -> 0 | E9: =IF(B9="","",IF(D9=1,"W",IF(D9=0,"L",""))) -> L | F9: =IF(B9="","",IF(AE8<$J$15,"Bet","No Bet")) -> Bet | G9: =IF(B9="","",IF(F9="No Bet",G8,IF(E9="L",-6+G8,IF(E9="W",30+G8)))) -> -6 | I9: Enter when to stop betting. Start betting after a virtual win !! All flat betting !! | L9: 6 | M9: =AK602 -> 7 | W9: 9 | X9: 0 | Y9: 3 | Z9: 5 | AA9: 10 | AB9: 23 | AC9: 26 | AE9: =IF(E9="L",AE8+1,IF(E9="W",0,"")) -> 1 | AF9: =IF(AND($AE10=0,$AE9=1),1,"") -> 1 | AG9: =IF(AND($AE10=0,$AE9=2),1,"") | AH9: =IF(AND($AE10=0,$AE9=3),1,"") | AI9: =IF(AND($AE10=0,$AE9=4),1,"") | AJ9: =IF(AND($AE10=0,$AE9=5),1,"") | AK9: =IF(AND($AE10=0,$AE9=6),1,"") | AL9: =IF(AND($AE10=0,$AE9=7),1,"") | AM9: =IF(AND($AE10=0,$AE9=8),1,"") | AN9: =IF(AND($AE10=0,$AE9=9),1,"") | AO9: =IF(AND($AE10=0,$AE9=10),1,"") | AP9: =IF(AND($AE10=0,$AE9=11),1,"") | AQ9: =IF(AND($AE10=0,$AE9=12),1,"") | AR9: =IF(AND($AE10=0,$AE9=13),1,"") | AS9: =IF(AND($AE10=0,$AE9=14),1,"") | AT9: =IF(AND($AE10=0,$AE9=15),1,"") | AU9: =IF(AND($AE10=0,$AE9=16),1,"") | AV9: =IF(AND($AE10=0,$AE9=17),1,"") | AW9: =IF(AND($AE10=0,$AE9=18),1,"") | AX9: =IF(AND($AE10=0,$AE9=19),1,"") | AY9: =IF(AND($AE10=0,$AE9=20),1,"") | AZ9: =IF(AND($AE10=0,$AE9=21),1,"") | BA9: =IF(AND($AE10=0,$AE9=22),1,"") | BB9: =IF(AND($AE10=0,$AE9=23),1,"") | BC9: =IF(AND($AE10=0,$AE9=24),1,"") | BD9: =IF(AND($AE10=0,$AE9=25),1,"") | BE9: =IF(AND($AE10=0,$AE9=26),1,"") | BF9: =IF(AND($AE10=0,$AE9=27),1,"") | BG9: =IF(AND($AE10=0,$AE9=28),1,"") | BH9: =IF(AND($AE10=0,$AE9=29),1,"") | BI9: =IF(AND($AE10=0,$AE9=30),1,"") | BJ9: =IF(AND($AE10=0,$AE9>30),1,"")
B10: 12 | C10: =IF(B10="","",VLOOKUP(B10,Tabelle2!$A$2:$B$38,2,0)) -> 1-2-4-14-20-21 | D10: =IF(B10="","",IF(B9=1,COUNTIF($X$1:$AC$1,B10),IF(B9=2,COUNTIF($X$2:$AC$2,B10),IF(B9=3,COUNTIF($X$3:$AC$3,B10),IF(B9=4,COUNTIF($X$4:$AC$4,B10),IF(B9=5,COUNTIF($X$5:$AC$5,B10),IF(B9=6,COUNTIF($X$6:$AC$6,B10),IF(B9=7,COUNTIF($X$7:$AC$7,B10),IF(B9=8,COUNTIF($X$8:$AC$8,B10),IF(B9=9,COUNTIF($X$9:$AC$9,B10),IF(B9=10,COUNTIF($X$10:$AC$10,B10),IF(B9=11,COUNTIF($X$11:$AC$11,B10),IF(B9=12,COUNTIF($X$12:$AC$12,B10),IF(B9=13,COUNTIF($X$13:$AC$13,B10),IF(B9=14,COUNTIF($X$14:$AC$14,B10),IF(B9=15,COUNTIF($X$15:$AC$15,B10),IF(B9=16,COUNTIF($X$16:$AC$16,B10),IF(B9=17,COUNTIF($X$17:$AC$17,B10),IF(B9=18,COUNTIF($X$18:$AC$18,B10),IF(B9=19,COUNTIF($X$19:$AC$19,B10),IF(B9=20,COUNTIF($X$20:$AC$20,B10),IF(B9=21,COUNTIF($X$21:$AC$21,B10),IF(B9=22,COUNTIF($X$22:$AC$22,B10),IF(B9=23,COUNTIF($X$23:$AC$23,B10),IF(B9=24,COUNTIF($X$24:$AC$24,B10),IF(B9=25,COUNTIF($X$25:$AC$25,B10),IF(B9=26,COUNTIF($X$26:$AC$26,B10),IF(B9=27,COUNTIF($X$27:$AC$27,B10),IF(B9=28,COUNTIF($X$28:$AC$28,B10),IF(B9=29,COUNTIF($X$29:$AC$29,B10),IF(B9=30,COUNTIF($X$30:$AC$30,B10),IF(B9=31,COUNTIF($X$31:$AC$31,B10),IF(B9=32,COUNTIF($X$32:$AC$32,B10),IF(B9=33,COUNTIF($X$33:$AC$33,B10),IF(B9=34,COUNTIF($X$34:$AC$34,B10),IF(B9=35,COUNTIF($X$35:$AC$35,B10),IF(B9=36,COUNTIF($X$36:$AC$36,B10),IF(B9=0,COUNTIF($X$37:$AC$37,B10),"")))))))))))))))))))))))))))))))))))))) -> 1 | E10: =IF(B10="","",IF(D10=1,"W",IF(D10=0,"L",""))) -> W | F10: =IF(B10="","",IF(AE9<$J$15,"Bet","No Bet")) -> Bet | G10: =IF(B10="","",IF(F10="No Bet",G9,IF(E10="L",-6+G9,IF(E10="W",30+G9)))) -> 24 | L10: 7 | M10: =AL602 -> 4 | W10: 10 | X10: 6 | Y10: 9 | Z10: 17 | AA10: 22 | AB10: 31 | AC10: 34 | AE10: =IF(E10="L",AE9+1,IF(E10="W",0,"")) -> 0 | AF10: =IF(AND($AE11=0,$AE10=1),1,"") | AG10: =IF(AND($AE11=0,$AE10=2),1,"") | AH10: =IF(AND($AE11=0,$AE10=3),1,"") | AI10: =IF(AND($AE11=0,$AE10=4),1,"") | AJ10: =IF(AND($AE11=0,$AE10=5),1,"") | AK10: =IF(AND($AE11=0,$AE10=6),1,"") | AL10: =IF(AND($AE11=0,$AE10=7),1,"") | AM10: =IF(AND($AE11=0,$AE10=8),1,"") | AN10: =IF(AND($AE11=0,$AE10=9),1,"") | AO10: =IF(AND($AE11=0,$AE10=10),1,"") | AP10: =IF(AND($AE11=0,$AE10=11),1,"") | AQ10: =IF(AND($AE11=0,$AE10=12),1,"") | AR10: =IF(AND($AE11=0,$AE10=13),1,"") | AS10: =IF(AND($AE11=0,$AE10=14),1,"") | AT10: =IF(AND($AE11=0,$AE10=15),1,"") | AU10: =IF(AND($AE11=0,$AE10=16),1,"") | AV10: =IF(AND($AE11=0,$AE10=17),1,"") | AW10: =IF(AND($AE11=0,$AE10=18),1,"") | AX10: =IF(AND($AE11=0,$AE10=19),1,"") | AY10: =IF(AND($AE11=0,$AE10=20),1,"") | AZ10: =IF(AND($AE11=0,$AE10=21),1,"") | BA10: =IF(AND($AE11=0,$AE10=22),1,"") | BB10: =IF(AND($AE11=0,$AE10=23),1,"") | BC10: =IF(AND($AE11=0,$AE10=24),1,"") | BD10: =IF(AND($AE11=0,$AE10=25),1,"") | BE10: =IF(AND($AE11=0,$AE10=26),1,"") | BF10: =IF(AND($AE11=0,$AE10=27),1,"") | BG10: =IF(AND($AE11=0,$AE10=28),1,"") | BH10: =IF(AND($AE11=0,$AE10=29),1,"") | BI10: =IF(AND($AE11=0,$AE10=30),1,"") | BJ10: =IF(AND($AE11=0,$AE10>30),1,"")
B11: 12 | C11: =IF(B11="","",VLOOKUP(B11,Tabelle2!$A$2:$B$38,2,0)) -> 1-2-4-14-20-21 | D11: =IF(B11="","",IF(B10=1,COUNTIF($X$1:$AC$1,B11),IF(B10=2,COUNTIF($X$2:$AC$2,B11),IF(B10=3,COUNTIF($X$3:$AC$3,B11),IF(B10=4,COUNTIF($X$4:$AC$4,B11),IF(B10=5,COUNTIF($X$5:$AC$5,B11),IF(B10=6,COUNTIF($X$6:$AC$6,B11),IF(B10=7,COUNTIF($X$7:$AC$7,B11),IF(B10=8,COUNTIF($X$8:$AC$8,B11),IF(B10=9,COUNTIF($X$9:$AC$9,B11),IF(B10=10,COUNTIF($X$10:$AC$10,B11),IF(B10=11,COUNTIF($X$11:$AC$11,B11),IF(B10=12,COUNTIF($X$12:$AC$12,B11),IF(B10=13,COUNTIF($X$13:$AC$13,B11),IF(B10=14,COUNTIF($X$14:$AC$14,B11),IF(B10=15,COUNTIF($X$15:$AC$15,B11),IF(B10=16,COUNTIF($X$16:$AC$16,B11),IF(B10=17,COUNTIF($X$17:$AC$17,B11),IF(B10=18,COUNTIF($X$18:$AC$18,B11),IF(B10=19,COUNTIF($X$19:$AC$19,B11),IF(B10=20,COUNTIF($X$20:$AC$20,B11),IF(B10=21,COUNTIF($X$21:$AC$21,B11),IF(B10=22,COUNTIF($X$22:$AC$22,B11),IF(B10=23,COUNTIF($X$23:$AC$23,B11),IF(B10=24,COUNTIF($X$24:$AC$24,B11),IF(B10=25,COUNTIF($X$25:$AC$25,B11),IF(B10=26,COUNTIF($X$26:$AC$26,B11),IF(B10=27,COUNTIF($X$27:$AC$27,B11),IF(B10=28,COUNTIF($X$28:$AC$28,B11),IF(B10=29,COUNTIF($X$29:$AC$29,B11),IF(B10=30,COUNTIF($X$30:$AC$30,B11),IF(B10=31,COUNTIF($X$31:$AC$31,B11),IF(B10=32,COUNTIF($X$32:$AC$32,B11),IF(B10=33,COUNTIF($X$33:$AC$33,B11),IF(B10=34,COUNTIF($X$34:$AC$34,B11),IF(B10=35,COUNTIF($X$35:$AC$35,B11),IF(B10=36,COUNTIF($X$36:$AC$36,B11),IF(B10=0,COUNTIF($X$37:$AC$37,B11),"")))))))))))))))))))))))))))))))))))))) -> 0 | E11: =IF(B11="","",IF(D11=1,"W",IF(D11=0,"L",""))) -> L | F11: =IF(B11="","",IF(AE10<$J$15,"Bet","No Bet")) -> Bet | G11: =IF(B11="","",IF(F11="No Bet",G10,IF(E11="L",-6+G10,IF(E11="W",30+G10)))) -> 18 | L11: 8 | M11: =AM602 -> 5 | W11: 11 | X11: 1 | Y11: 2 | Z11: 4 | AA11: 20 | AB11: 21 | AC11: 33 | AE11: =IF(E11="L",AE10+1,IF(E11="W",0,"")) -> 1 | AF11: =IF(AND($AE12=0,$AE11=1),1,"") | AG11: =IF(AND($AE12=0,$AE11=2),1,"") | AH11: =IF(AND($AE12=0,$AE11=3),1,"") | AI11: =IF(AND($AE12=0,$AE11=4),1,"") | AJ11: =IF(AND($AE12=0,$AE11=5),1,"") | AK11: =IF(AND($AE12=0,$AE11=6),1,"") | AL11: =IF(AND($AE12=0,$AE11=7),1,"") | AM11: =IF(AND($AE12=0,$AE11=8),1,"") | AN11: =IF(AND($AE12=0,$AE11=9),1,"") | AO11: =IF(AND($AE12=0,$AE11=10),1,"") | AP11: =IF(AND($AE12=0,$AE11=11),1,"") | AQ11: =IF(AND($AE12=0,$AE11=12),1,"") | AR11: =IF(AND($AE12=0,$AE11=13),1,"") | AS11: =IF(AND($AE12=0,$AE11=14),1,"") | AT11: =IF(AND($AE12=0,$AE11=15),1,"") | AU11: =IF(AND($AE12=0,$AE11=16),1,"") | AV11: =IF(AND($AE12=0,$AE11=17),1,"") | AW11: =IF(AND($AE12=0,$AE11=18),1,"") | AX11: =IF(AND($AE12=0,$AE11=19),1,"") | AY11: =IF(AND($AE12=0,$AE11=20),1,"") | AZ11: =IF(AND($AE12=0,$AE11=21),1,"") | BA11: =IF(AND($AE12=0,$AE11=22),1,"") | BB11: =IF(AND($AE12=0,$AE11=23),1,"") | BC11: =IF(AND($AE12=0,$AE11=24),1,"") | BD11: =IF(AND($AE12=0,$AE11=25),1,"") | BE11: =IF(AND($AE12=0,$AE11=26),1,"") | BF11: =IF(AND($AE12=0,$AE11=27),1,"") | BG11: =IF(AND($AE12=0,$AE11=28),1,"") | BH11: =IF(AND($AE12=0,$AE11=29),1,"") | BI11: =IF(AND($AE12=0,$AE11=30),1,"") | BJ11: =IF(AND($AE12=0,$AE11>30),1,"")
B12: 32 | C12: =IF(B12="","",VLOOKUP(B12,Tabelle2!$A$2:$B$38,2,0)) -> 6-18-22-27-29-34 | D12: =IF(B12="","",IF(B11=1,COUNTIF($X$1:$AC$1,B12),IF(B11=2,COUNTIF($X$2:$AC$2,B12),IF(B11=3,COUNTIF($X$3:$AC$3,B12),IF(B11=4,COUNTIF($X$4:$AC$4,B12),IF(B11=5,COUNTIF($X$5:$AC$5,B12),IF(B11=6,COUNTIF($X$6:$AC$6,B12),IF(B11=7,COUNTIF($X$7:$AC$7,B12),IF(B11=8,COUNTIF($X$8:$AC$8,B12),IF(B11=9,COUNTIF($X$9:$AC$9,B12),IF(B11=10,COUNTIF($X$10:$AC$10,B12),IF(B11=11,COUNTIF($X$11:$AC$11,B12),IF(B11=12,COUNTIF($X$12:$AC$12,B12),IF(B11=13,COUNTIF($X$13:$AC$13,B12),IF(B11=14,COUNTIF($X$14:$AC$14,B12),IF(B11=15,COUNTIF($X$15:$AC$15,B12),IF(B11=16,COUNTIF($X$16:$AC$16,B12),IF(B11=17,COUNTIF($X$17:$AC$17,B12),IF(B11=18,COUNTIF($X$18:$AC$18,B12),IF(B11=19,COUNTIF($X$19:$AC$19,B12),IF(B11=20,COUNTIF($X$20:$AC$20,B12),IF(B11=21,COUNTIF($X$21:$AC$21,B12),IF(B11=22,COUNTIF($X$22:$AC$22,B12),IF(B11=23,COUNTIF($X$23:$AC$23,B12),IF(B11=24,COUNTIF($X$24:$AC$24,B12),IF(B11=25,COUNTIF($X$25:$AC$25,B12),IF(B11=26,COUNTIF($X$26:$AC$26,B12),IF(B11=27,COUNTIF($X$27:$AC$27,B12),IF(B11=28,COUNTIF($X$28:$AC$28,B12),IF(B11=29,COUNTIF($X$29:$AC$29,B12),IF(B11=30,COUNTIF($X$30:$AC$30,B12),IF(B11=31,COUNTIF($X$31:$AC$31,B12),IF(B11=32,COUNTIF($X$32:$AC$32,B12),IF(B11=33,COUNTIF($X$33:$AC$33,B12),IF(B11=34,COUNTIF($X$34:$AC$34,B12),IF(B11=35,COUNTIF($X$35:$AC$35,B12),IF(B11=36,COUNTIF($X$36:$AC$36,B12),IF(B11=0,COUNTIF($X$37:$AC$37,B12),"")))))))))))))))))))))))))))))))))))))) -> 0 | E12: =IF(B12="","",IF(D12=1,"W",IF(D12=0,"L",""))) -> L | F12: =IF(B12="","",IF(AE11<$J$15,"Bet","No Bet")) -> Bet | G12: =IF(B12="","",IF(F12="No Bet",G11,IF(E12="L",-6+G11,IF(E12="W",30+G11)))) -> 12 | L12: 9 | M12: =AN602 -> 3 | W12: 12 | X12: 1 | Y12: 2 | Z12: 4 | AA12: 14 | AB12: 20 | AC12: 21 | AE12: =IF(E12="L",AE11+1,IF(E12="W",0,"")) -> 2 | AF12: =IF(AND($AE13=0,$AE12=1),1,"") | AG12: =IF(AND($AE13=0,$AE12=2),1,"") | AH12: =IF(AND($AE13=0,$AE12=3),1,"") | AI12: =IF(AND($AE13=0,$AE12=4),1,"") | AJ12: =IF(AND($AE13=0,$AE12=5),1,"") | AK12: =IF(AND($AE13=0,$AE12=6),1,"") | AL12: =IF(AND($AE13=0,$AE12=7),1,"") | AM12: =IF(AND($AE13=0,$AE12=8),1,"") | AN12: =IF(AND($AE13=0,$AE12=9),1,"") | AO12: =IF(AND($AE13=0,$AE12=10),1,"") | AP12: =IF(AND($AE13=0,$AE12=11),1,"") | AQ12: =IF(AND($AE13=0,$AE12=12),1,"") | AR12: =IF(AND($AE13=0,$AE12=13),1,"") | AS12: =IF(AND($AE13=0,$AE12=14),1,"") | AT12: =IF(AND($AE13=0,$AE12=15),1,"") | AU12: =IF(AND($AE13=0,$AE12=16),1,"") | AV12: =IF(AND($AE13=0,$AE12=17),1,"") | AW12: =IF(AND($AE13=0,$AE12=18),1,"") | AX12: =IF(AND($AE13=0,$AE12=19),1,"") | AY12: =IF(AND($AE13=0,$AE12=20),1,"") | AZ12: =IF(AND($AE13=0,$AE12=21),1,"") | BA12: =IF(AND($AE13=0,$AE12=22),1,"") | BB12: =IF(AND($AE13=0,$AE12=23),1,"") | BC12: =IF(AND($AE13=0,$AE12=24),1,"") | BD12: =IF(AND($AE13=0,$AE12=25),1,"") | BE12: =IF(AND($AE13=0,$AE12=26),1,"") | BF12: =IF(AND($AE13=0,$AE12=27),1,"") | BG12: =IF(AND($AE13=0,$AE12=28),1,"") | BH12: =IF(AND($AE13=0,$AE12=29),1,"") | BI12: =IF(AND($AE13=0,$AE12=30),1,"") | BJ12: =IF(AND($AE13=0,$AE12>30),1,"")
B13: 33 | C13: =IF(B13="","",VLOOKUP(B13,Tabelle2!$A$2:$B$38,2,0)) -> 7-11-13-28-29-36 | D13: =IF(B13="","",IF(B12=1,COUNTIF($X$1:$AC$1,B13),IF(B12=2,COUNTIF($X$2:$AC$2,B13),IF(B12=3,COUNTIF($X$3:$AC$3,B13),IF(B12=4,COUNTIF($X$4:$AC$4,B13),IF(B12=5,COUNTIF($X$5:$AC$5,B13),IF(B12=6,COUNTIF($X$6:$AC$6,B13),IF(B12=7,COUNTIF($X$7:$AC$7,B13),IF(B12=8,COUNTIF($X$8:$AC$8,B13),IF(B12=9,COUNTIF($X$9:$AC$9,B13),IF(B12=10,COUNTIF($X$10:$AC$10,B13),IF(B12=11,COUNTIF($X$11:$AC$11,B13),IF(B12=12,COUNTIF($X$12:$AC$12,B13),IF(B12=13,COUNTIF($X$13:$AC$13,B13),IF(B12=14,COUNTIF($X$14:$AC$14,B13),IF(B12=15,COUNTIF($X$15:$AC$15,B13),IF(B12=16,COUNTIF($X$16:$AC$16,B13),IF(B12=17,COUNTIF($X$17:$AC$17,B13),IF(B12=18,COUNTIF($X$18:$AC$18,B13),IF(B12=19,COUNTIF($X$19:$AC$19,B13),IF(B12=20,COUNTIF($X$20:$AC$20,B13),IF(B12=21,COUNTIF($X$21:$AC$21,B13),IF(B12=22,COUNTIF($X$22:$AC$22,B13),IF(B12=23,COUNTIF($X$23:$AC$23,B13),IF(B12=24,COUNTIF($X$24:$AC$24,B13),IF(B12=25,COUNTIF($X$25:$AC$25,B13),IF(B12=26,COUNTIF($X$26:$AC$26,B13),IF(B12=27,COUNTIF($X$27:$AC$27,B13),IF(B12=28,COUNTIF($X$28:$AC$28,B13),IF(B12=29,COUNTIF($X$29:$AC$29,B13),IF(B12=30,COUNTIF($X$30:$AC$30,B13),IF(B12=31,COUNTIF($X$31:$AC$31,B13),IF(B12=32,COUNTIF($X$32:$AC$32,B13),IF(B12=33,COUNTIF($X$33:$AC$33,B13),IF(B12=34,COUNTIF($X$34:$AC$34,B13),IF(B12=35,COUNTIF($X$35:$AC$35,B13),IF(B12=36,COUNTIF($X$36:$AC$36,B13),IF(B12=0,COUNTIF($X$37:$AC$37,B13),"")))))))))))))))))))))))))))))))))))))) -> 0 | E13: =IF(B13="","",IF(D13=1,"W",IF(D13=0,"L",""))) -> L | F13: =IF(B13="","",IF(AE12<$J$15,"Bet","No Bet")) -> Bet | G13: =IF(B13="","",IF(F13="No Bet",G12,IF(E13="L",-6+G12,IF(E13="W",30+G12)))) -> 6 | L13: 10 | M13: =AO602 -> 1 | W13: 13 | X13: 4 | Y13: 15 | Z13: 16 | AA13: 19 | AB13: 24 | AC13: 33 | AE13: =IF(E13="L",AE12+1,IF(E13="W",0,"")) -> 3 | AF13: =IF(AND($AE14=0,$AE13=1),1,"") | AG13: =IF(AND($AE14=0,$AE13=2),1,"") | AH13: =IF(AND($AE14=0,$AE13=3),1,"") | AI13: =IF(AND($AE14=0,$AE13=4),1,"") | AJ13: =IF(AND($AE14=0,$AE13=5),1,"") | AK13: =IF(AND($AE14=0,$AE13=6),1,"") | AL13: =IF(AND($AE14=0,$AE13=7),1,"") | AM13: =IF(AND($AE14=0,$AE13=8),1,"") | AN13: =IF(AND($AE14=0,$AE13=9),1,"") | AO13: =IF(AND($AE14=0,$AE13=10),1,"") | AP13: =IF(AND($AE14=0,$AE13=11),1,"") | AQ13: =IF(AND($AE14=0,$AE13=12),1,"") | AR13: =IF(AND($AE14=0,$AE13=13),1,"") | AS13: =IF(AND($AE14=0,$AE13=14),1,"") | AT13: =IF(AND($AE14=0,$AE13=15),1,"") | AU13: =IF(AND($AE14=0,$AE13=16),1,"") | AV13: =IF(AND($AE14=0,$AE13=17),1,"") | AW13: =IF(AND($AE14=0,$AE13=18),1,"") | AX13: =IF(AND($AE14=0,$AE13=19),1,"") | AY13: =IF(AND($AE14=0,$AE13=20),1,"") | AZ13: =IF(AND($AE14=0,$AE13=21),1,"") | BA13: =IF(AND($AE14=0,$AE13=22),1,"") | BB13: =IF(AND($AE14=0,$AE13=23),1,"") | BC13: =IF(AND($AE14=0,$AE13=24),1,"") | BD13: =IF(AND($AE14=0,$AE13=25),1,"") | BE13: =IF(AND($AE14=0,$AE13=26),1,"") | BF13: =IF(AND($AE14=0,$AE13=27),1,"") | BG13: =IF(AND($AE14=0,$AE13=28),1,"") | BH13: =IF(AND($AE14=0,$AE13=29),1,"") | BI13: =IF(AND($AE14=0,$AE13=30),1,"") | BJ13: =IF(AND($AE14=0,$AE13>30),1,"")
B14: 5 | C14: =IF(B14="","",VLOOKUP(B14,Tabelle2!$A$2:$B$38,2,0)) -> 6-9-18-22-27-34 | D14: =IF(B14="","",IF(B13=1,COUNTIF($X$1:$AC$1,B14),IF(B13=2,COUNTIF($X$2:$AC$2,B14),IF(B13=3,COUNTIF($X$3:$AC$3,B14),IF(B13=4,COUNTIF($X$4:$AC$4,B14),IF(B13=5,COUNTIF($X$5:$AC$5,B14),IF(B13=6,COUNTIF($X$6:$AC$6,B14),IF(B13=7,COUNTIF($X$7:$AC$7,B14),IF(B13=8,COUNTIF($X$8:$AC$8,B14),IF(B13=9,COUNTIF($X$9:$AC$9,B14),IF(B13=10,COUNTIF($X$10:$AC$10,B14),IF(B13=11,COUNTIF($X$11:$AC$11,B14),IF(B13=12,COUNTIF($X$12:$AC$12,B14),IF(B13=13,COUNTIF($X$13:$AC$13,B14),IF(B13=14,COUNTIF($X$14:$AC$14,B14),IF(B13=15,COUNTIF($X$15:$AC$15,B14),IF(B13=16,COUNTIF($X$16:$AC$16,B14),IF(B13=17,COUNTIF($X$17:$AC$17,B14),IF(B13=18,COUNTIF($X$18:$AC$18,B14),IF(B13=19,COUNTIF($X$19:$AC$19,B14),IF(B13=20,COUNTIF($X$20:$AC$20,B14),IF(B13=21,COUNTIF($X$21:$AC$21,B14),IF(B13=22,COUNTIF($X$22:$AC$22,B14),IF(B13=23,COUNTIF($X$23:$AC$23,B14),IF(B13=24,COUNTIF($X$24:$AC$24,B14),IF(B13=25,COUNTIF($X$25:$AC$25,B14),IF(B13=26,COUNTIF($X$26:$AC$26,B14),IF(B13=27,COUNTIF($X$27:$AC$27,B14),IF(B13=28,COUNTIF($X$28:$AC$28,B14),IF(B13=29,COUNTIF($X$29:$AC$29,B14),IF(B13=30,COUNTIF($X$30:$AC$30,B14),IF(B13=31,COUNTIF($X$31:$AC$31,B14),IF(B13=32,COUNTIF($X$32:$AC$32,B14),IF(B13=33,COUNTIF($X$33:$AC$33,B14),IF(B13=34,COUNTIF($X$34:$AC$34,B14),IF(B13=35,COUNTIF($X$35:$AC$35,B14),IF(B13=36,COUNTIF($X$36:$AC$36,B14),IF(B13=0,COUNTIF($X$37:$AC$37,B14),"")))))))))))))))))))))))))))))))))))))) -> 0 | E14: =IF(B14="","",IF(D14=1,"W",IF(D14=0,"L",""))) -> L | F14: =IF(B14="","",IF(AE13<$J$15,"Bet","No Bet")) -> Bet | G14: =IF(B14="","",IF(F14="No Bet",G13,IF(E14="L",-6+G13,IF(E14="W",30+G13)))) -> 0 | L14: 11 | M14: =AP602 -> 1 | W14: 14 | X14: 3 | Y14: 8 | Z14: 12 | AA14: 23 | AB14: 30 | AC14: 35 | AE14: =IF(E14="L",AE13+1,IF(E14="W",0,"")) -> 4 | AF14: =IF(AND($AE15=0,$AE14=1),1,"") | AG14: =IF(AND($AE15=0,$AE14=2),1,"") | AH14: =IF(AND($AE15=0,$AE14=3),1,"") | AI14: =IF(AND($AE15=0,$AE14=4),1,"") | AJ14: =IF(AND($AE15=0,$AE14=5),1,"") | AK14: =IF(AND($AE15=0,$AE14=6),1,"") | AL14: =IF(AND($AE15=0,$AE14=7),1,"") | AM14: =IF(AND($AE15=0,$AE14=8),1,"") | AN14: =IF(AND($AE15=0,$AE14=9),1,"") | AO14: =IF(AND($AE15=0,$AE14=10),1,"") | AP14: =IF(AND($AE15=0,$AE14=11),1,"") | AQ14: =IF(AND($AE15=0,$AE14=12),1,"") | AR14: =IF(AND($AE15=0,$AE14=13),1,"") | AS14: =IF(AND($AE15=0,$AE14=14),1,"") | AT14: =IF(AND($AE15=0,$AE14=15),1,"") | AU14: =IF(AND($AE15=0,$AE14=16),1,"") | AV14: =IF(AND($AE15=0,$AE14=17),1,"") | AW14: =IF(AND($AE15=0,$AE14=18),1,"") | AX14: =IF(AND($AE15=0,$AE14=19),1,"") | AY14: =IF(AND($AE15=0,$AE14=20),1,"") | AZ14: =IF(AND($AE15=0,$AE14=21),1,"") | BA14: =IF(AND($AE15=0,$AE14=22),1,"") | BB14: =IF(AND($AE15=0,$AE14=23),1,"") | BC14: =IF(AND($AE15=0,$AE14=24),1,"") | BD14: =IF(AND($AE15=0,$AE14=25),1,"") | BE14: =IF(AND($AE15=0,$AE14=26),1,"") | BF14: =IF(AND($AE15=0,$AE14=27),1,"") | BG14: =IF(AND($AE15=0,$AE14=28),1,"") | BH14: =IF(AND($AE15=0,$AE14=29),1,"") | BI14: =IF(AND($AE15=0,$AE14=30),1,"") | BJ14: =IF(AE14="","",IF(AND($AE15=0,$AE14>30),1,""))
B15: 19 | C15: =IF(B15="","",VLOOKUP(B15,Tabelle2!$A$2:$B$38,2,0)) -> 7-13-27-28-29-36 | D15: =IF(B15="","",IF(B14=1,COUNTIF($X$1:$AC$1,B15),IF(B14=2,COUNTIF($X$2:$AC$2,B15),IF(B14=3,COUNTIF($X$3:$AC$3,B15),IF(B14=4,COUNTIF($X$4:$AC$4,B15),IF(B14=5,COUNTIF($X$5:$AC$5,B15),IF(B14=6,COUNTIF($X$6:$AC$6,B15),IF(B14=7,COUNTIF($X$7:$AC$7,B15),IF(B14=8,COUNTIF($X$8:$AC$8,B15),IF(B14=9,COUNTIF($X$9:$AC$9,B15),IF(B14=10,COUNTIF($X$10:$AC$10,B15),IF(B14=11,COUNTIF($X$11:$AC$11,B15),IF(B14=12,COUNTIF($X$12:$AC$12,B15),IF(B14=13,COUNTIF($X$13:$AC$13,B15),IF(B14=14,COUNTIF($X$14:$AC$14,B15),IF(B14=15,COUNTIF($X$15:$AC$15,B15),IF(B14=16,COUNTIF($X$16:$AC$16,B15),IF(B14=17,COUNTIF($X$17:$AC$17,B15),IF(B14=18,COUNTIF($X$18:$AC$18,B15),IF(B14=19,COUNTIF($X$19:$AC$19,B15),IF(B14=20,COUNTIF($X$20:$AC$20,B15),IF(B14=21,COUNTIF($X$21:$AC$21,B15),IF(B14=22,COUNTIF($X$22:$AC$22,B15),IF(B14=23,COUNTIF($X$23:$AC$23,B15),IF(B14=24,COUNTIF($X$24:$AC$24,B15),IF(B14=25,COUNTIF($X$25:$AC$25,B15),IF(B14=26,COUNTIF($X$26:$AC$26,B15),IF(B14=27,COUNTIF($X$27:$AC$27,B15),IF(B14=28,COUNTIF($X$28:$AC$28,B15),IF(B14=29,COUNTIF($X$29:$AC$29,B15),IF(B14=30,COUNTIF($X$30:$AC$30,B15),IF(B14=31,COUNTIF($X$31:$AC$31,B15),IF(B14=32,COUNTIF($X$32:$AC$32,B15),IF(B14=33,COUNTIF($X$33:$AC$33,B15),IF(B14=34,COUNTIF($X$34:$AC$34,B15),IF(B14=35,COUNTIF($X$35:$AC$35,B15),IF(B14=36,COUNTIF($X$36:$AC$36,B15),IF(B14=0,COUNTIF($X$37:$AC$37,B15),"")))))))))))))))))))))))))))))))))))))) -> 0 | E15: =IF(B15="","",IF(D15=1,"W",IF(D15=0,"L",""))) -> L | F15: =IF(B15="","",IF(AE14<$J$15,"Bet","No Bet")) -> Bet | G15: =IF(B15="","",IF(F15="No Bet",G14,IF(E15="L",-6+G14,IF(E15="W",30+G14)))) -> -6 | I15: Stop Bet | J15: 30 | L15: 12 | M15: =AQ602 -> 2 | W15: 15 | X15: 6 | Y15: 7 | Z15: 12 | AA15: 18 | AB15: 27 | AC15: 29 | AE15: =IF(E15="L",AE14+1,IF(E15="W",0,"")) -> 5 | AF15: =IF(AND($AE16=0,$AE15=1),1,"") | AG15: =IF(AND($AE16=0,$AE15=2),1,"") | AH15: =IF(AND($AE16=0,$AE15=3),1,"") | AI15: =IF(AND($AE16=0,$AE15=4),1,"") | AJ15: =IF(AND($AE16=0,$AE15=5),1,"") -> 1 | AK15: =IF(AND($AE16=0,$AE15=6),1,"") | AL15: =IF(AND($AE16=0,$AE15=7),1,"") | AM15: =IF(AND($AE16=0,$AE15=8),1,"") | AN15: =IF(AND($AE16=0,$AE15=9),1,"") | AO15: =IF(AND($AE16=0,$AE15=10),1,"") | AP15: =IF(AND($AE16=0,$AE15=11),1,"") | AQ15: =IF(AND($AE16=0,$AE15=12),1,"") | AR15: =IF(AND($AE16=0,$AE15=13),1,"") | AS15: =IF(AND($AE16=0,$AE15=14),1,"") | AT15: =IF(AND($AE16=0,$AE15=15),1,"") | AU15: =IF(AND($AE16=0,$AE15=16),1,"") | AV15: =IF(AND($AE16=0,$AE15=17),1,"") | AW15: =IF(AND($AE16=0,$AE15=18),1,"") | AX15: =IF(AND($AE16=0,$AE15=19),1,"") | AY15: =IF(AND($AE16=0,$AE15=20),1,"") | AZ15: =IF(AND($AE16=0,$AE15=21),1,"") | BA15: =IF(AND($AE16=0,$AE15=22),1,"") | BB15: =IF(AND($AE16=0,$AE15=23),1,"") | BC15: =IF(AND($AE16=0,$AE15=24),1,"") | BD15: =IF(AND($AE16=0,$AE15=25),1,"") | BE15: =IF(AND($AE16=0,$AE15=26),1,"") | BF15: =IF(AND($AE16=0,$AE15=27),1,"") | BG15: =IF(AND($AE16=0,$AE15=28),1,"") | BH15: =IF(AND($AE16=0,$AE15=29),1,"") | BI15: =IF(AND($AE16=0,$AE15=30),1,"") | BJ15: =IF(AE15="","",IF(AND($AE16=0,$AE15>30),1,""))
B16: 27 | C16: =IF(B16="","",VLOOKUP(B16,Tabelle2!$A$2:$B$38,2,0)) -> 5-15-16-19-24-32 | D16: =IF(B16="","",IF(B15=1,COUNTIF($X$1:$AC$1,B16),IF(B15=2,COUNTIF($X$2:$AC$2,B16),IF(B15=3,COUNTIF($X$3:$AC$3,B16),IF(B15=4,COUNTIF($X$4:$AC$4,B16),IF(B15=5,COUNTIF($X$5:$AC$5,B16),IF(B15=6,COUNTIF($X$6:$AC$6,B16),IF(B15=7,COUNTIF($X$7:$AC$7,B16),IF(B15=8,COUNTIF($X$8:$AC$8,B16),IF(B15=9,COUNTIF($X$9:$AC$9,B16),IF(B15=10,COUNTIF($X$10:$AC$10,B16),IF(B15=11,COUNTIF($X$11:$AC$11,B16),IF(B15=12,COUNTIF($X$12:$AC$12,B16),IF(B15=13,COUNTIF($X$13:$AC$13,B16),IF(B15=14,COUNTIF($X$14:$AC$14,B16),IF(B15=15,COUNTIF($X$15:$AC$15,B16),IF(B15=16,COUNTIF($X$16:$AC$16,B16),IF(B15=17,COUNTIF($X$17:$AC$17,B16),IF(B15=18,COUNTIF($X$18:$AC$18,B16),IF(B15=19,COUNTIF($X$19:$AC$19,B16),IF(B15=20,COUNTIF($X$20:$AC$20,B16),IF(B15=21,COUNTIF($X$21:$AC$21,B16),IF(B15=22,COUNTIF($X$22:$AC$22,B16),IF(B15=23,COUNTIF($X$23:$AC$23,B16),IF(B15=24,COUNTIF($X$24:$AC$24,B16),IF(B15=25,COUNTIF($X$25:$AC$25,B16),IF(B15=26,COUNTIF($X$26:$AC$26,B16),IF(B15=27,COUNTIF($X$27:$AC$27,B16),IF(B15=28,COUNTIF($X$28:$AC$28,B16),IF(B15=29,COUNTIF($X$29:$AC$29,B16),IF(B15=30,COUNTIF($X$30:$AC$30,B16),IF(B15=31,COUNTIF($X$31:$AC$31,B16),IF(B15=32,COUNTIF($X$32:$AC$32,B16),IF(B15=33,COUNTIF($X$33:$AC$33,B16),IF(B15=34,COUNTIF($X$34:$AC$34,B16),IF(B15=35,COUNTIF($X$35:$AC$35,B16),IF(B15=36,COUNTIF($X$36:$AC$36,B16),IF(B15=0,COUNTIF($X$37:$AC$37,B16),"")))))))))))))))))))))))))))))))))))))) -> 1 | E16: =IF(B16="","",IF(D16=1,"W",IF(D16=0,"L",""))) -> W | F16: =IF(B16="","",IF(AE15<$J$15,"Bet","No Bet")) -> Bet | G16: =IF(B16="","",IF(F16="No Bet",G15,IF(E16="L",-6+G15,IF(E16="W",30+G15)))) -> 24 | I16: Max | J16: =MAX(G2:G600) -> 30 | L16: 13 | M16: =AR602 -> 3 | W16: 16 | X16: 7 | Y16: 13 | Z16: 18 | AA16: 27 | AB16: 29 | AC16: 36 | AE16: =IF(E16="L",AE15+1,IF(E16="W",0,"")) -> 0 | AF16: =IF(AND($AE17=0,$AE16=1),1,"") | AG16: =IF(AND($AE17=0,$AE16=2),1,"") | AH16: =IF(AND($AE17=0,$AE16=3),1,"") | AI16: =IF(AND($AE17=0,$AE16=4),1,"") | AJ16: =IF(AND($AE17=0,$AE16=5),1,"") | AK16: =IF(AND($AE17=0,$AE16=6),1,"") | AL16: =IF(AND($AE17=0,$AE16=7),1,"") | AM16: =IF(AND($AE17=0,$AE16=8),1,"") | AN16: =IF(AND($AE17=0,$AE16=9),1,"") | AO16: =IF(AND($AE17=0,$AE16=10),1,"") | AP16: =IF(AND($AE17=0,$AE16=11),1,"") | AQ16: =IF(AND($AE17=0,$AE16=12),1,"") | AR16: =IF(AND($AE17=0,$AE16=13),1,"") | AS16: =IF(AND($AE17=0,$AE16=14),1,"") | AT16: =IF(AND($AE17=0,$AE16=15),1,"") | AU16: =IF(AND($AE17=0,$AE16=16),1,"") | AV16: =IF(AND($AE17=0,$AE16=17),1,"") | AW16: =IF(AND($AE17=0,$AE16=18),1,"") | AX16: =IF(AND($AE17=0,$AE16=19),1,"") | AY16: =IF(AND($AE17=0,$AE16=20),1,"") | AZ16: =IF(AND($AE17=0,$AE16=21),1,"") | BA16: =IF(AND($AE17=0,$AE16=22),1,"") | BB16: =IF(AND($AE17=0,$AE16=23),1,"") | BC16: =IF(AND($AE17=0,$AE16=24),1,"") | BD16: =IF(AND($AE17=0,$AE16=25),1,"") | BE16: =IF(AND($AE17=0,$AE16=26),1,"") | BF16: =IF(AND($AE17=0,$AE16=27),1,"") | BG16: =IF(AND($AE17=0,$AE16=28),1,"") | BH16: =IF(AND($AE17=0,$AE16=29),1,"") | BI16: =IF(AND($AE17=0,$AE16=30),1,"") | BJ16: =IF(AE16="","",IF(AND($AE17=0,$AE16>30),1,""))
B17: 27 | C17: =IF(B17="","",VLOOKUP(B17,Tabelle2!$A$2:$B$38,2,0)) -> 5-15-16-19-24-32 | D17: =IF(B17="","",IF(B16=1,COUNTIF($X$1:$AC$1,B17),IF(B16=2,COUNTIF($X$2:$AC$2,B17),IF(B16=3,COUNTIF($X$3:$AC$3,B17),IF(B16=4,COUNTIF($X$4:$AC$4,B17),IF(B16=5,COUNTIF($X$5:$AC$5,B17),IF(B16=6,COUNTIF($X$6:$AC$6,B17),IF(B16=7,COUNTIF($X$7:$AC$7,B17),IF(B16=8,COUNTIF($X$8:$AC$8,B17),IF(B16=9,COUNTIF($X$9:$AC$9,B17),IF(B16=10,COUNTIF($X$10:$AC$10,B17),IF(B16=11,COUNTIF($X$11:$AC$11,B17),IF(B16=12,COUNTIF($X$12:$AC$12,B17),IF(B16=13,COUNTIF($X$13:$AC$13,B17),IF(B16=14,COUNTIF($X$14:$AC$14,B17),IF(B16=15,COUNTIF($X$15:$AC$15,B17),IF(B16=16,COUNTIF($X$16:$AC$16,B17),IF(B16=17,COUNTIF($X$17:$AC$17,B17),IF(B16=18,COUNTIF($X$18:$AC$18,B17),IF(B16=19,COUNTIF($X$19:$AC$19,B17),IF(B16=20,COUNTIF($X$20:$AC$20,B17),IF(B16=21,COUNTIF($X$21:$AC$21,B17),IF(B16=22,COUNTIF($X$22:$AC$22,B17),IF(B16=23,COUNTIF($X$23:$AC$23,B17),IF(B16=24,COUNTIF($X$24:$AC$24,B17),IF(B16=25,COUNTIF($X$25:$AC$25,B17),IF(B16=26,COUNTIF($X$26:$AC$26,B17),IF(B16=27,COUNTIF($X$27:$AC$27,B17),IF(B16=28,COUNTIF($X$28:$AC$28,B17),IF(B16=29,COUNTIF($X$29:$AC$29,B17),IF(B16=30,COUNTIF($X$30:$AC$30,B17),IF(B16=31,COUNTIF($X$31:$AC$31,B17),IF(B16=32,COUNTIF($X$32:$AC$32,B17),IF(B16=33,COUNTIF($X$33:$AC$33,B17),IF(B16=34,COUNTIF($X$34:$AC$34,B17),IF(B16=35,COUNTIF($X$35:$AC$35,B17),IF(B16=36,COUNTIF($X$36:$AC$36,B17),IF(B16=0,COUNTIF($X$37:$AC$37,B17),"")))))))))))))))))))))))))))))))))))))) -> 0 | E17: =IF(B17="","",IF(D17=1,"W",IF(D17=0,"L",""))) -> L | F17: =IF(B17="","",IF(AE16<$J$15,"Bet","No Bet")) -> Bet | G17: =IF(B17="","",IF(F17="No Bet",G16,IF(E17="L",-6+G16,IF(E17="W",30+G16)))) -> 18 | I17: Min | J17: =MIN(G2:G600) -> -828 | L17: 14 | M17: =AS602 -> 2 | W17: 17 | X17: 0 | Y17: 3 | Z17: 8 | AA17: 10 | AB17: 23 | AC17: 26 | AE17: =IF(E17="L",AE16+1,IF(E17="W",0,"")) -> 1 | AF17: =IF(AND($AE18=0,$AE17=1),1,"") | AG17: =IF(AND($AE18=0,$AE17=2),1,"") | AH17: =IF(AND($AE18=0,$AE17=3),1,"") | AI17: =IF(AND($AE18=0,$AE17=4),1,"") | AJ17: =IF(AND($AE18=0,$AE17=5),1,"") | AK17: =IF(AND($AE18=0,$AE17=6),1,"") | AL17: =IF(AND($AE18=0,$AE17=7),1,"") | AM17: =IF(AND($AE18=0,$AE17=8),1,"") | AN17: =IF(AND($AE18=0,$AE17=9),1,"") | AO17: =IF(AND($AE18=0,$AE17=10),1,"") | AP17: =IF(AND($AE18=0,$AE17=11),1,"") | AQ17: =IF(AND($AE18=0,$AE17=12),1,"") | AR17: =IF(AND($AE18=0,$AE17=13),1,"") | AS17: =IF(AND($AE18=0,$AE17=14),1,"") | AT17: =IF(AND($AE18=0,$AE17=15),1,"") | AU17: =IF(AND($AE18=0,$AE17=16),1,"") | AV17: =IF(AND($AE18=0,$AE17=17),1,"") | AW17: =IF(AND($AE18=0,$AE17=18),1,"") | AX17: =IF(AND($AE18=0,$AE17=19),1,"") | AY17: =IF(AND($AE18=0,$AE17=20),1,"") | AZ17: =IF(AND($AE18=0,$AE17=21),1,"") | BA17: =IF(AND($AE18=0,$AE17=22),1,"") | BB17: =IF(AND($AE18=0,$AE17=23),1,"") | BC17: =IF(AND($AE18=0,$AE17=24),1,"") | BD17: =IF(AND($AE18=0,$AE17=25),1,"") | BE17: =IF(AND($AE18=0,$AE17=26),1,"") | BF17: =IF(AND($AE18=0,$AE17=27),1,"") | BG17: =IF(AND($AE18=0,$AE17=28),1,"") | BH17: =IF(AND($AE18=0,$AE17=29),1,"") | BI17: =IF(AND($AE18=0,$AE17=30),1,"") | BJ17: =IF(AE17="","",IF(AND($AE18=0,$AE17>30),1,""))
B18: 22 | C18: =IF(B18="","",VLOOKUP(B18,Tabelle2!$A$2:$B$38,2,0)) -> 0-5-10-24-26-32 | D18: =IF(B18="","",IF(B17=1,COUNTIF($X$1:$AC$1,B18),IF(B17=2,COUNTIF($X$2:$AC$2,B18),IF(B17=3,COUNTIF($X$3:$AC$3,B18),IF(B17=4,COUNTIF($X$4:$AC$4,B18),IF(B17=5,COUNTIF($X$5:$AC$5,B18),IF(B17=6,COUNTIF($X$6:$AC$6,B18),IF(B17=7,COUNTIF($X$7:$AC$7,B18),IF(B17=8,COUNTIF($X$8:$AC$8,B18),IF(B17=9,COUNTIF($X$9:$AC$9,B18),IF(B17=10,COUNTIF($X$10:$AC$10,B18),IF(B17=11,COUNTIF($X$11:$AC$11,B18),IF(B17=12,COUNTIF($X$12:$AC$12,B18),IF(B17=13,COUNTIF($X$13:$AC$13,B18),IF(B17=14,COUNTIF($X$14:$AC$14,B18),IF(B17=15,COUNTIF($X$15:$AC$15,B18),IF(B17=16,COUNTIF($X$16:$AC$16,B18),IF(B17=17,COUNTIF($X$17:$AC$17,B18),IF(B17=18,COUNTIF($X$18:$AC$18,B18),IF(B17=19,COUNTIF($X$19:$AC$19,B18),IF(B17=20,COUNTIF($X$20:$AC$20,B18),IF(B17=21,COUNTIF($X$21:$AC$21,B18),IF(B17=22,COUNTIF($X$22:$AC$22,B18),IF(B17=23,COUNTIF($X$23:$AC$23,B18),IF(B17=24,COUNTIF($X$24:$AC$24,B18),IF(B17=25,COUNTIF($X$25:$AC$25,B18),IF(B17=26,COUNTIF($X$26:$AC$26,B18),IF(B17=27,COUNTIF($X$27:$AC$27,B18),IF(B17=28,COUNTIF($X$28:$AC$28,B18),IF(B17=29,COUNTIF($X$29:$AC$29,B18),IF(B17=30,COUNTIF($X$30:$AC$30,B18),IF(B17=31,COUNTIF($X$31:$AC$31,B18),IF(B17=32,COUNTIF($X$32:$AC$32,B18),IF(B17=33,COUNTIF($X$33:$AC$33,B18),IF(B17=34,COUNTIF($X$34:$AC$34,B18),IF(B17=35,COUNTIF($X$35:$AC$35,B18),IF(B17=36,COUNTIF($X$36:$AC$36,B18),IF(B17=0,COUNTIF($X$37:$AC$37,B18),"")))))))))))))))))))))))))))))))))))))) -> 0 | E18: =IF(B18="","",IF(D18=1,"W",IF(D18=0,"L",""))) -> L | F18: =IF(B18="","",IF(AE17<$J$15,"Bet","No Bet")) -> Bet | G18: =IF(B18="","",IF(F18="No Bet",G17,IF(E18="L",-6+G17,IF(E18="W",30+G17)))) -> 12 | L18: 15 | M18: =AT602 -> 3 | W18: 18 | X18: 0 | Y18: 5 | Z18: 15 | AA18: 16 | AB18: 24 | AC18: 32 | AE18: =IF(E18="L",AE17+1,IF(E18="W",0,"")) -> 2 | AF18: =IF(AND($AE19=0,$AE18=1),1,"") | AG18: =IF(AND($AE19=0,$AE18=2),1,"") | AH18: =IF(AND($AE19=0,$AE18=3),1,"") | AI18: =IF(AND($AE19=0,$AE18=4),1,"") | AJ18: =IF(AND($AE19=0,$AE18=5),1,"") | AK18: =IF(AND($AE19=0,$AE18=6),1,"") | AL18: =IF(AND($AE19=0,$AE18=7),1,"") | AM18: =IF(AND($AE19=0,$AE18=8),1,"") | AN18: =IF(AND($AE19=0,$AE18=9),1,"") | AO18: =IF(AND($AE19=0,$AE18=10),1,"") | AP18: =IF(AND($AE19=0,$AE18=11),1,"") | AQ18: =IF(AND($AE19=0,$AE18=12),1,"") | AR18: =IF(AND($AE19=0,$AE18=13),1,"") | AS18: =IF(AND($AE19=0,$AE18=14),1,"") | AT18: =IF(AND($AE19=0,$AE18=15),1,"") | AU18: =IF(AND($AE19=0,$AE18=16),1,"") | AV18: =IF(AND($AE19=0,$AE18=17),1,"") | AW18: =IF(AND($AE19=0,$AE18=18),1,"") | AX18: =IF(AND($AE19=0,$AE18=19),1,"") | AY18: =IF(AND($AE19=0,$AE18=20),1,"") | AZ18: =IF(AND($AE19=0,$AE18=21),1,"") | BA18: =IF(AND($AE19=0,$AE18=22),1,"") | BB18: =IF(AND($AE19=0,$AE18=23),1,"") | BC18: =IF(AND($AE19=0,$AE18=24),1,"") | BD18: =IF(AND($AE19=0,$AE18=25),1,"") | BE18: =IF(AND($AE19=0,$AE18=26),1,"") | BF18: =IF(AND($AE19=0,$AE18=27),1,"") | BG18: =IF(AND($AE19=0,$AE18=28),1,"") | BH18: =IF(AND($AE19=0,$AE18=29),1,"") | BI18: =IF(AND($AE19=0,$AE18=30),1,"") | BJ18: =IF(AE18="","",IF(AND($AE19=0,$AE18>30),1,""))
B19: 20 | C19: =IF(B19="","",VLOOKUP(B19,Tabelle2!$A$2:$B$38,2,0)) -> 8-11-12-28-30-36 | D19: =IF(B19="","",IF(B18=1,COUNTIF($X$1:$AC$1,B19),IF(B18=2,COUNTIF($X$2:$AC$2,B19),IF(B18=3,COUNTIF($X$3:$AC$3,B19),IF(B18=4,COUNTIF($X$4:$AC$4,B19),IF(B18=5,COUNTIF($X$5:$AC$5,B19),IF(B18=6,COUNTIF($X$6:$AC$6,B19),IF(B18=7,COUNTIF($X$7:$AC$7,B19),IF(B18=8,COUNTIF($X$8:$AC$8,B19),IF(B18=9,COUNTIF($X$9:$AC$9,B19),IF(B18=10,COUNTIF($X$10:$AC$10,B19),IF(B18=11,COUNTIF($X$11:$AC$11,B19),IF(B18=12,COUNTIF($X$12:$AC$12,B19),IF(B18=13,COUNTIF($X$13:$AC$13,B19),IF(B18=14,COUNTIF($X$14:$AC$14,B19),IF(B18=15,COUNTIF($X$15:$AC$15,B19),IF(B18=16,COUNTIF($X$16:$AC$16,B19),IF(B18=17,COUNTIF($X$17:$AC$17,B19),IF(B18=18,COUNTIF($X$18:$AC$18,B19),IF(B18=19,COUNTIF($X$19:$AC$19,B19),IF(B18=20,COUNTIF($X$20:$AC$20,B19),IF(B18=21,COUNTIF($X$21:$AC$21,B19),IF(B18=22,COUNTIF($X$22:$AC$22,B19),IF(B18=23,COUNTIF($X$23:$AC$23,B19),IF(B18=24,COUNTIF($X$24:$AC$24,B19),IF(B18=25,COUNTIF($X$25:$AC$25,B19),IF(B18=26,COUNTIF($X$26:$AC$26,B19),IF(B18=27,COUNTIF($X$27:$AC$27,B19),IF(B18=28,COUNTIF($X$28:$AC$28,B19),IF(B18=29,COUNTIF($X$29:$AC$29,B19),IF(B18=30,COUNTIF($X$30:$AC$30,B19),IF(B18=31,COUNTIF($X$31:$AC$31,B19),IF(B18=32,COUNTIF($X$32:$AC$32,B19),IF(B18=33,COUNTIF($X$33:$AC$33,B19),IF(B18=34,COUNTIF($X$34:$AC$34,B19),IF(B18=35,COUNTIF($X$35:$AC$35,B19),IF(B18=36,COUNTIF($X$36:$AC$36,B19),IF(B18=0,COUNTIF($X$37:$AC$37,B19),"")))))))))))))))))))))))))))))))))))))) -> 0 | E19: =IF(B19="","",IF(D19=1,"W",IF(D19=0,"L",""))) -> L | F19: =IF(B19="","",IF(AE18<$J$15,"Bet","No Bet")) -> Bet | G19: =IF(B19="","",IF(F19="No Bet",G18,IF(E19="L",-6+G18,IF(E19="W",30+G18)))) -> 6 | L19: 16 | M19: =AU602 -> 1 | W19: 19 | X19: 7 | Y19: 13 | Z19: 27 | AA19: 28 | AB19: 29 | AC19: 36 | AE19: =IF(E19="L",AE18+1,IF(E19="W",0,"")) -> 3 | AF19: =IF(AND($AE20=0,$AE19=1),1,"") | AG19: =IF(AND($AE20=0,$AE19=2),1,"") | AH19: =IF(AND($AE20=0,$AE19=3),1,"") | AI19: =IF(AND($AE20=0,$AE19=4),1,"") | AJ19: =IF(AND($AE20=0,$AE19=5),1,"") | AK19: =IF(AND($AE20=0,$AE19=6),1,"") | AL19: =IF(AND($AE20=0,$AE19=7),1,"") | AM19: =IF(AND($AE20=0,$AE19=8),1,"") | AN19: =IF(AND($AE20=0,$AE19=9),1,"") | AO19: =IF(AND($AE20=0,$AE19=10),1,"") | AP19: =IF(AND($AE20=0,$AE19=11),1,"") | AQ19: =IF(AND($AE20=0,$AE19=12),1,"") | AR19: =IF(AND($AE20=0,$AE19=13),1,"") | AS19: =IF(AND($AE20=0,$AE19=14),1,"") | AT19: =IF(AND($AE20=0,$AE19=15),1,"") | AU19: =IF(AND($AE20=0,$AE19=16),1,"") | AV19: =IF(AND($AE20=0,$AE19=17),1,"") | AW19: =IF(AND($AE20=0,$AE19=18),1,"") | AX19: =IF(AND($AE20=0,$AE19=19),1,"") | AY19: =IF(AND($AE20=0,$AE19=20),1,"") | AZ19: =IF(AND($AE20=0,$AE19=21),1,"") | BA19: =IF(AND($AE20=0,$AE19=22),1,"") | BB19: =IF(AND($AE20=0,$AE19=23),1,"") | BC19: =IF(AND($AE20=0,$AE19=24),1,"") | BD19: =IF(AND($AE20=0,$AE19=25),1,"") | BE19: =IF(AND($AE20=0,$AE19=26),1,"") | BF19: =IF(AND($AE20=0,$AE19=27),1,"") | BG19: =IF(AND($AE20=0,$AE19=28),1,"") | BH19: =IF(AND($AE20=0,$AE19=29),1,"") | BI19: =IF(AND($AE20=0,$AE19=30),1,"") | BJ19: =IF(AE19="","",IF(AND($AE20=0,$AE19>30),1,""))
B20: 21 | C20: =IF(B20="","",VLOOKUP(B20,Tabelle2!$A$2:$B$38,2,0)) -> 11-12-28-30-35-36 | D20: =IF(B20="","",IF(B19=1,COUNTIF($X$1:$AC$1,B20),IF(B19=2,COUNTIF($X$2:$AC$2,B20),IF(B19=3,COUNTIF($X$3:$AC$3,B20),IF(B19=4,COUNTIF($X$4:$AC$4,B20),IF(B19=5,COUNTIF($X$5:$AC$5,B20),IF(B19=6,COUNTIF($X$6:$AC$6,B20),IF(B19=7,COUNTIF($X$7:$AC$7,B20),IF(B19=8,COUNTIF($X$8:$AC$8,B20),IF(B19=9,COUNTIF($X$9:$AC$9,B20),IF(B19=10,COUNTIF($X$10:$AC$10,B20),IF(B19=11,COUNTIF($X$11:$AC$11,B20),IF(B19=12,COUNTIF($X$12:$AC$12,B20),IF(B19=13,COUNTIF($X$13:$AC$13,B20),IF(B19=14,COUNTIF($X$14:$AC$14,B20),IF(B19=15,COUNTIF($X$15:$AC$15,B20),IF(B19=16,COUNTIF($X$16:$AC$16,B20),IF(B19=17,COUNTIF($X$17:$AC$17,B20),IF(B19=18,COUNTIF($X$18:$AC$18,B20),IF(B19=19,COUNTIF($X$19:$AC$19,B20),IF(B19=20,COUNTIF($X$20:$AC$20,B20),IF(B19=21,COUNTIF($X$21:$AC$21,B20),IF(B19=22,COUNTIF($X$22:$AC$22,B20),IF(B19=23,COUNTIF($X$23:$AC$23,B20),IF(B19=24,COUNTIF($X$24:$AC$24,B20),IF(B19=25,COUNTIF($X$25:$AC$25,B20),IF(B19=26,COUNTIF($X$26:$AC$26,B20),IF(B19=27,COUNTIF($X$27:$AC$27,B20),IF(B19=28,COUNTIF($X$28:$AC$28,B20),IF(B19=29,COUNTIF($X$29:$AC$29,B20),IF(B19=30,COUNTIF($X$30:$AC$30,B20),IF(B19=31,COUNTIF($X$31:$AC$31,B20),IF(B19=32,COUNTIF($X$32:$AC$32,B20),IF(B19=33,COUNTIF($X$33:$AC$33,B20),IF(B19=34,COUNTIF($X$34:$AC$34,B20),IF(B19=35,COUNTIF($X$35:$AC$35,B20),IF(B19=36,COUNTIF($X$36:$AC$36,B20),IF(B19=0,COUNTIF($X$37:$AC$37,B20),"")))))))))))))))))))))))))))))))))))))) -> 0 | E20: =IF(B20="","",IF(D20=1,"W",IF(D20=0,"L",""))) -> L | F20: =IF(B20="","",IF(AE19<$J$15,"Bet","No Bet")) -> Bet | G20: =IF(B20="","",IF(F20="No Bet",G19,IF(E20="L",-6+G19,IF(E20="W",30+G19)))) -> 0 | L20: 17 | M20: =AV602 -> 0 | W20: 20 | X20: 8 | Y20: 11 | Z20: 12 | AA20: 28 | AB20: 30 | AC20: 35 | AE20: =IF(E20="L",AE19+1,IF(E20="W",0,"")) -> 4 | AF20: =IF(AND($AE21=0,$AE20=1),1,"") | AG20: =IF(AND($AE21=0,$AE20=2),1,"") | AH20: =IF(AND($AE21=0,$AE20=3),1,"") | AI20: =IF(AND($AE21=0,$AE20=4),1,"") -> 1 | AJ20: =IF(AND($AE21=0,$AE20=5),1,"") | AK20: =IF(AND($AE21=0,$AE20=6),1,"") | AL20: =IF(AND($AE21=0,$AE20=7),1,"") | AM20: =IF(AND($AE21=0,$AE20=8),1,"") | AN20: =IF(AND($AE21=0,$AE20=9),1,"") | AO20: =IF(AND($AE21=0,$AE20=10),1,"") | AP20: =IF(AND($AE21=0,$AE20=11),1,"") | AQ20: =IF(AND($AE21=0,$AE20=12),1,"") | AR20: =IF(AND($AE21=0,$AE20=13),1,"") | AS20: =IF(AND($AE21=0,$AE20=14),1,"") | AT20: =IF(AND($AE21=0,$AE20=15),1,"") | AU20: =IF(AND($AE21=0,$AE20=16),1,"") | AV20: =IF(AND($AE21=0,$AE20=17),1,"") | AW20: =IF(AND($AE21=0,$AE20=18),1,"") | AX20: =IF(AND($AE21=0,$AE20=19),1,"") | AY20: =IF(AND($AE21=0,$AE20=20),1,"") | AZ20: =IF(AND($AE21=0,$AE20=21),1,"") | BA20: =IF(AND($AE21=0,$AE20=22),1,"") | BB20: =IF(AND($AE21=0,$AE20=23),1,"") | BC20: =IF(AND($AE21=0,$AE20=24),1,"") | BD20: =IF(AND($AE21=0,$AE20=25),1,"") | BE20: =IF(AND($AE21=0,$AE20=26),1,"") | BF20: =IF(AND($AE21=0,$AE20=27),1,"") | BG20: =IF(AND($AE21=0,$AE20=28),1,"") | BH20: =IF(AND($AE21=0,$AE20=29),1,"") | BI20: =IF(AND($AE21=0,$AE20=30),1,"") | BJ20: =IF(AE20="","",IF(AND($AE21=0,$AE20>30),1,""))
B21: 28 | C21: =IF(B21="","",VLOOKUP(B21,Tabelle2!$A$2:$B$38,2,0)) -> 1-4-19-20-21-33 | D21: =IF(B21="","",IF(B20=1,COUNTIF($X$1:$AC$1,B21),IF(B20=2,COUNTIF($X$2:$AC$2,B21),IF(B20=3,COUNTIF($X$3:$AC$3,B21),IF(B20=4,COUNTIF($X$4:$AC$4,B21),IF(B20=5,COUNTIF($X$5:$AC$5,B21),IF(B20=6,COUNTIF($X$6:$AC$6,B21),IF(B20=7,COUNTIF($X$7:$AC$7,B21),IF(B20=8,COUNTIF($X$8:$AC$8,B21),IF(B20=9,COUNTIF($X$9:$AC$9,B21),IF(B20=10,COUNTIF($X$10:$AC$10,B21),IF(B20=11,COUNTIF($X$11:$AC$11,B21),IF(B20=12,COUNTIF($X$12:$AC$12,B21),IF(B20=13,COUNTIF($X$13:$AC$13,B21),IF(B20=14,COUNTIF($X$14:$AC$14,B21),IF(B20=15,COUNTIF($X$15:$AC$15,B21),IF(B20=16,COUNTIF($X$16:$AC$16,B21),IF(B20=17,COUNTIF($X$17:$AC$17,B21),IF(B20=18,COUNTIF($X$18:$AC$18,B21),IF(B20=19,COUNTIF($X$19:$AC$19,B21),IF(B20=20,COUNTIF($X$20:$AC$20,B21),IF(B20=21,COUNTIF($X$21:$AC$21,B21),IF(B20=22,COUNTIF($X$22:$AC$22,B21),IF(B20=23,COUNTIF($X$23:$AC$23,B21),IF(B20=24,COUNTIF($X$24:$AC$24,B21),IF(B20=25,COUNTIF($X$25:$AC$25,B21),IF(B20=26,COUNTIF($X$26:$AC$26,B21),IF(B20=27,COUNTIF($X$27:$AC$27,B21),IF(B20=28,COUNTIF($X$28:$AC$28,B21),IF(B20=29,COUNTIF($X$29:$AC$29,B21),IF(B20=30,COUNTIF($X$30:$AC$30,B21),IF(B20=31,COUNTIF($X$31:$AC$31,B21),IF(B20=32,COUNTIF($X$32:$AC$32,B21),IF(B20=33,COUNTIF($X$33:$AC$33,B21),IF(B20=34,COUNTIF($X$34:$AC$34,B21),IF(B20=35,COUNTIF($X$35:$AC$35,B21),IF(B20=36,COUNTIF($X$36:$AC$36,B21),IF(B20=0,COUNTIF($X$37:$AC$37,B21),"")))))))))))))))))))))))))))))))))))))) -> 1 | E21: =IF(B21="","",IF(D21=1,"W",IF(D21=0,"L",""))) -> W | F21: =IF(B21="","",IF(AE20<$J$15,"Bet","No Bet")) -> Bet | G21: =IF(B21="","",IF(F21="No Bet",G20,IF(E21="L",-6+G20,IF(E21="W",30+G20)))) -> 30 | L21: 18 | M21: =AW602 -> 0 | W21: 21 | X21: 11 | Y21: 12 | Z21: 28 | AA21: 30 | AB21: 35 | AC21: 36 | AE21: =IF(E21="L",AE20+1,IF(E21="W",0,"")) -> 0 | AF21: =IF(AND($AE22=0,$AE21=1),1,"") | AG21: =IF(AND($AE22=0,$AE21=2),1,"") | AH21: =IF(AND($AE22=0,$AE21=3),1,"") | AI21: =IF(AND($AE22=0,$AE21=4),1,"") | AJ21: =IF(AND($AE22=0,$AE21=5),1,"") | AK21: =IF(AND($AE22=0,$AE21=6),1,"") | AL21: =IF(AND($AE22=0,$AE21=7),1,"") | AM21: =IF(AND($AE22=0,$AE21=8),1,"") | AN21: =IF(AND($AE22=0,$AE21=9),1,"") | AO21: =IF(AND($AE22=0,$AE21=10),1,"") | AP21: =IF(AND($AE22=0,$AE21=11),1,"") | AQ21: =IF(AND($AE22=0,$AE21=12),1,"") | AR21: =IF(AND($AE22=0,$AE21=13),1,"") | AS21: =IF(AND($AE22=0,$AE21=14),1,"") | AT21: =IF(AND($AE22=0,$AE21=15),1,"") | AU21: =IF(AND($AE22=0,$AE21=16),1,"") | AV21: =IF(AND($AE22=0,$AE21=17),1,"") | AW21: =IF(AND($AE22=0,$AE21=18),1,"") | AX21: =IF(AND($AE22=0,$AE21=19),1,"") | AY21: =IF(AND($AE22=0,$AE21=20),1,"") | AZ21: =IF(AND($AE22=0,$AE21=21),1,"") | BA21: =IF(AND($AE22=0,$AE21=22),1,"") | BB21: =IF(AND($AE22=0,$AE21=23),1,"") | BC21: =IF(AND($AE22=0,$AE21=24),1,"") | BD21: =IF(AND($AE22=0,$AE21=25),1,"") | BE21: =IF(AND($AE22=0,$AE21=26),1,"") | BF21: =IF(AND($AE22=0,$AE21=27),1,"") | BG21: =IF(AND($AE22=0,$AE21=28),1,"") | BH21: =IF(AND($AE22=0,$AE21=29),1,"") | BI21: =IF(AND($AE22=0,$AE21=30),1,"") | BJ21: =IF(AE21="","",IF(AND($AE22=0,$AE21>30),1,""))
