Workbook

Sheet Tabelle2
A1: 0 | B1: 0 | D1: 1 | E1: 3
A2: 1 | B2: 1 | D2: 2 | E2: 2
A3: 2 | B3: 1 | D3: 3 | E3: 1
A4: 3 | B4: 1 | D4: 0 | E4: 0
A5: 4 | B5: 1
A6: 5 | B6: 1
A7: 6 | B7: 1
A8: 7 | B8: 1
A9: 8 | B9: 1
A10: 9 | B10: 1
A11: 10 | B11: 1
A12: 11 | B12: 1
A13: 12 | B13: 1
A14: 13 | B14: 2
A15: 14 | B15: 2
A16: 15 | B16: 2
... A37: 36 | B37: 3

Sheet Tabelle6
A1: Num | C1: DZ | D1: Bet DZ | E1: W/L | F1: Prog | G1: W/L | H1: Win/Loss | I1: Total | J1: Zero | P1: After win | R1: Lvl | S1: Prog | U1: S1 | V1: S2 | W1: S3 | X1: S4 | Z1: CB1 | AA1: CB2 | AB1: CB3 | AC1: CB4 | AD1: BET | AF1: Last | AG1: Bet1 | AH1: Bet2 | AJ1: PLvl | AK1: BetProg | AM1: High | AO1: Loss | AP1: L1 | AQ1: L2 | AR1: L3 | AS1: L4 | AT1: L5 | AU1: L6 | AV1: L7 | AW1: L8 | AX1: L9 | AY1: L10 | AZ1: L11 | BA1: L12 | BB1: L13 | BC1: L14 | BD1: L15 | BE1: L16 | BF1: L17 | BG1: L18 | BH1: L19 | BI1: L20 | BJ1: L21 | BK1: L22 | BL1: L23 | BM1: L24 | BN1: L25 | BO1: L >25
B2: 13 | C2: =IF(B2="","",VLOOKUP(B2,Tabelle2!$A$1:$B$37,2,0)) -> 2 | D2: =IF(B2="","",IF(B2=0,"NB",VLOOKUP(C2,Tabelle2!$D$1:$E$4,2,0))) -> 2 | G2: =IF(E2="w",6,IF(E2="l",-6,"")) | I2: =IF(E2="",0,I1+H2) -> 0 | J2: =IF(B2="","",IF(B2=0,"X","")) | L2: Max | M2: =MAX(I2:I1000) -> 246 | P2: 0 | R2: 0 | S2: 1 | U2: =IF(C2=1,1,"") | V2: =IF(C2=2,2,"") -> 2 | W2: =IF(C2=3,3,"") | X2: =IF(C2=4,4,"") | Z2: =IF(U2=1,1,"") | AA2: =IF(V2=2,1,"") -> 1 | AB2: =IF(W2=3,1,"") | AC2: =IF(X2=4,1,"") | AD2: =IF(AD1=1,1,IF(SUM(Z2:AC2)=4,1,"")) | AF2: =SUM(U2:X2) -> 2 | AJ2: =IF(E2="NB",AJ1,IF(E2="",0,IF(E2="l",AJ1+1,IF(E2="w",IF($P$2=0,0,IF(AND($P$2>0,AJ1>$P$2),AJ1-$P$2,0)))))) -> 0 | AK2: =VLOOKUP(AJ2,$R$2:S21,2,0) -> 1 | AO2: 0 | AP2: =IF(AND(AO2=1,AO3=0),1,"") | AQ2: =IF(AND(AO2=2,AO3=0),1,"") | AR2: =IF(AND(AO2=3,AO3=0),1,"") | AS2: =IF(AND(AO2=4,AO3=0),1,"") | AT2: =IF(AND(AO2=5,AO3=0),1,"") | AU2: =IF(AND(AO2=6,AO3=0),1,"") | AV2: =IF(AND(AO2=7,AO3=0),1,"") | AW2: =IF(AND(AO2=8,AO3=0),1,"") | AX2: =IF(AND(AO2=9,AO3=0),1,"") | AY2: =IF(AND(AO2=10,AO3=0),1,"") | AZ2: =IF(AND(AO2=11,AO3=0),1,"") | BA2: =IF(AND(AO2=12,AO3=0),1,"") | BB2: =IF(AND(AO2=13,AO3=0),1,"") | BC2: =IF(AND(AO2=14,AO3=0),1,"") | BD2: =IF(AND(AO2=15,AO3=0),1,"") | BE2: =IF(AND(AO2=16,AO3=0),1,"") | BF2: =IF(AND(AO2=17,AO3=0),1,"") | BG2: =IF(AND(AO2=18,AO3=0),1,"") | BH2: =IF(AND(AO2=19,AO3=0),1,"") | BI2: =IF(AND(AO2=20,AO3=0),1,"") | BJ2: =IF(AND(AO2=21,AO3=0),1,"") | BK2: =IF(AND(AO2=22,AO3=0),1,"") | BL2: =IF(AND(AO2=23,AO3=0),1,"") | BM2: =IF(AND(AO2=24,AO3=0),1,"") | BN2: =IF(AND(AO2=25,AO3=0),1,"") | BO2: =IF(AND(AO2>25,AO3=0),1,"")
B3: 15 | C3: =IF(B3="","",VLOOKUP(B3,Tabelle2!$A$1:$B$37,2,0)) -> 2 | D3: =IF(B3="","",IF(B3=0,"NB",VLOOKUP(C3,Tabelle2!$D$1:$E$4,2,0))) -> 2 | E3: =IF(B3="","",IF(D2="NB","NB",IF(D2=C3,"W","L"))) -> W | F3: =IF(E3="","",AK2) -> 1 | G3: =IF(E3="NB",0,IF(E3="w",2,IF(E3="l",-1,""))) -> 2 | H3: =IF(E3="","",IF(E3="NB",0,G3*F3)) -> 2 | I3: =IF(E3="",0,I2+H3) -> 2 | J3: =IF(B3="","",IF(B3=0,"X","")) | L3: Min | M3: =MIN(I2:I1000) -> -15 | R3: 1 | S3: 1 | U3: =IF(C3=1,1,"") | V3: =IF(C3=2,2,"") -> 2 | W3: =IF(C3=3,3,"") | X3: =IF(C3=4,4,"") | Z3: =IF(Z2=1,1,IF(U3=1,1,"")) | AA3: =IF(AA2=1,1,IF(V3=2,1,"")) -> 1 | AB3: =IF(AB2=1,1,IF(W3=3,1,"")) | AC3: =IF(AC2=1,1,IF(X3=4,1,"")) | AD3: =IF(AD2=1,1,IF(SUM(Z3:AC3)=4,1,"")) | AF3: =SUM(U3:X3) -> 2 | AG3: =SUM(U2:X2) -> 2 | AJ3: =IF(E3="NB",AJ2,IF(E3="",0,IF(E3="l",AJ2+1,IF(E3="w",IF($P$2=0,0,IF(AND($P$2>0,AJ2>$P$2),AJ2-$P$2,0)))))) -> 0 | AK3: =VLOOKUP(AJ3,$R$2:S22,2,0) -> 1 | AO3: =IF(E3="l",AO2+1,IF(E3="w",0,0)) -> 0 | AP3: =IF(AND(AO3=1,AO4=0),1,"") | AQ3: =IF(AND(AO3=2,AO4=0),1,"") | AR3: =IF(AND(AO3=3,AO4=0),1,"") | AS3: =IF(AND(AO3=4,AO4=0),1,"") | AT3: =IF(AND(AO3=5,AO4=0),1,"") | AU3: =IF(AND(AO3=6,AO4=0),1,"") | AV3: =IF(AND(AO3=7,AO4=0),1,"") | AW3: =IF(AND(AO3=8,AO4=0),1,"") | AX3: =IF(AND(AO3=9,AO4=0),1,"") | AY3: =IF(AND(AO3=10,AO4=0),1,"") | AZ3: =IF(AND(AO3=11,AO4=0),1,"") | BA3: =IF(AND(AO3=12,AO4=0),1,"") | BB3: =IF(AND(AO3=13,AO4=0),1,"") | BC3: =IF(AND(AO3=14,AO4=0),1,"") | BD3: =IF(AND(AO3=15,AO4=0),1,"") | BE3: =IF(AND(AO3=16,AO4=0),1,"") | BF3: =IF(AND(AO3=17,AO4=0),1,"") | BG3: =IF(AND(AO3=18,AO4=0),1,"") | BH3: =IF(AND(AO3=19,AO4=0),1,"") | BI3: =IF(AND(AO3=20,AO4=0),1,"") | BJ3: =IF(AND(AO3=21,AO4=0),1,"") | BK3: =IF(AND(AO3=22,AO4=0),1,"") | BL3: =IF(AND(AO3=23,AO4=0),1,"") | BM3: =IF(AND(AO3=24,AO4=0),1,"") | BN3: =IF(AND(AO3=25,AO4=0),1,"") | BO3: =IF(AND(AO3>25,AO4=0),1,"")
B4: 5 | C4: =IF(B4="","",VLOOKUP(B4,Tabelle2!$A$1:$B$37,2,0)) -> 1 | D4: =IF(B4="","",IF(B4=0,"NB",VLOOKUP(C4,Tabelle2!$D$1:$E$4,2,0))) -> 3 | E4: =IF(B4="","",IF(D3="NB","NB",IF(D3=C4,"W","L"))) -> L | F4: =IF(E4="","",AK3) -> 1 | G4: =IF(E4="NB",0,IF(E4="w",2,IF(E4="l",-1,""))) -> -1 | H4: =IF(E4="","",IF(E4="NB",0,G4*F4)) -> -1 | I4: =IF(E4="",0,I3+H4) -> 1 | J4: =IF(B4="","",IF(B4=0,"X","")) | O4: 0 = Start Lvl 1 | R4: 2 | S4: 2 | U4: =IF(C4=1,1,"") -> 1 | V4: =IF(C4=2,2,"") | W4: =IF(C4=3,3,"") | X4: =IF(C4=4,4,"") | Z4: =IF(Z3=1,1,IF(U4=1,1,"")) -> 1 | AA4: =IF(AA3=1,1,IF(V4=2,1,"")) -> 1 | AB4: =IF(AB3=1,1,IF(W4=3,1,"")) | AC4: =IF(AC3=1,1,IF(X4=4,1,"")) | AD4: =IF(OR(AD3=1,AD3=0),0,IF(SUM(Z4:AC4)=4,1,"")) | AF4: =SUM(U4:X4) -> 1 | AG4: =IF(AF3<>AF4,AF3,IF(AF3=AF4,AG3,IF(AF3=AF2,AG3,AF3))) -> 2 | AH4: =IF(AF4=AG3,AH3,IF(AF4<>AF3,AG3,IF(AF3=AF2,AH3,IF(AF4=AF2,AH3,IF(AF3=AF4,AH3,SUM(U2:X2)))))) -> 2 | AJ4: =IF(E4="NB",AJ3,IF(E4="",0,IF(E4="l",AJ3+1,IF(E4="w",IF($P$2=0,0,IF(AND($P$2>0,AJ3>$P$2),AJ3-$P$2,0)))))) -> 1 | AK4: =VLOOKUP(AJ4,$R$2:S23,2,0) -> 1 | AO4: =IF(E4="l",AO3+1,IF(E4="w",0,0)) -> 1 | AP4: =IF(AND(AO4=1,AO5=0),1,"") | AQ4: =IF(AND(AO4=2,AO5=0),1,"") | AR4: =IF(AND(AO4=3,AO5=0),1,"") | AS4: =IF(AND(AO4=4,AO5=0),1,"") | AT4: =IF(AND(AO4=5,AO5=0),1,"") | AU4: =IF(AND(AO4=6,AO5=0),1,"") | AV4: =IF(AND(AO4=7,AO5=0),1,"") | AW4: =IF(AND(AO4=8,AO5=0),1,"") | AX4: =IF(AND(AO4=9,AO5=0),1,"") | AY4: =IF(AND(AO4=10,AO5=0),1,"") | AZ4: =IF(AND(AO4=11,AO5=0),1,"") | BA4: =IF(AND(AO4=12,AO5=0),1,"") | BB4: =IF(AND(AO4=13,AO5=0),1,"") | BC4: =IF(AND(AO4=14,AO5=0),1,"") | BD4: =IF(AND(AO4=15,AO5=0),1,"") | BE4: =IF(AND(AO4=16,AO5=0),1,"") | BF4: =IF(AND(AO4=17,AO5=0),1,"") | BG4: =IF(AND(AO4=18,AO5=0),1,"") | BH4: =IF(AND(AO4=19,AO5=0),1,"") | BI4: =IF(AND(AO4=20,AO5=0),1,"") | BJ4: =IF(AND(AO4=21,AO5=0),1,"") | BK4: =IF(AND(AO4=22,AO5=0),1,"") | BL4: =IF(AND(AO4=23,AO5=0),1,"") | BM4: =IF(AND(AO4=24,AO5=0),1,"") | BN4: =IF(AND(AO4=25,AO5=0),1,"") | BO4: =IF(AND(AO4>25,AO5=0),1,"")
B5: 17 | C5: =IF(B5="","",VLOOKUP(B5,Tabelle2!$A$1:$B$37,2,0)) -> 2 | D5: =IF(B5="","",IF(B5=0,"NB",VLOOKUP(C5,Tabelle2!$D$1:$E$4,2,0))) -> 2 | E5: =IF(B5="","",IF(D4="NB","NB",IF(D4=C5,"W","L"))) -> L | F5: =IF(E5="","",AK4) -> 1 | G5: =IF(E5="NB",0,IF(E5="w",2,IF(E5="l",-1,""))) -> -1 | H5: =IF(E5="","",IF(E5="NB",0,G5*F5)) -> -1 | I5: =IF(E5="",0,I4+H5) -> 0 | J5: =IF(B5="","",IF(B5=0,"X","")) | L5: Max Loss | M5: =MAX(AO2:AO1000) -> 15 | O5: x = go back x | R5: 3 | S5: 3 | U5: =IF(C5=1,1,"") | V5: =IF(C5=2,2,"") -> 2 | W5: =IF(C5=3,3,"") | X5: =IF(C5=4,4,"") | Z5: =IF(Z4=1,1,IF(U5=1,1,"")) -> 1 | AA5: =IF(AA4=1,1,IF(V5=2,1,"")) -> 1 | AB5: =IF(AB4=1,1,IF(W5=3,1,"")) | AC5: =IF(AC4=1,1,IF(X5=4,1,"")) | AD5: =IF(OR(AD4=1,AD4=0),0,IF(SUM(Z5:AC5)=4,1,"")) | AF5: =SUM(U5:X5) -> 2 | AG5: =IF(AF4<>AF5,AF4,IF(AF4=AF5,AG4,IF(AF4=AF3,AG4,AF4))) -> 1 | AH5: =IF(AF5=AG4,AH4,IF(AF5<>AF4,AG4,IF(AF4=AF3,AH4,IF(AF5=AF3,AH4,IF(AF4=AF5,AH4,SUM(U3:X3)))))) -> 2 | AJ5: =IF(E5="NB",AJ4,IF(E5="",0,IF(E5="l",AJ4+1,IF(E5="w",IF($P$2=0,0,IF(AND($P$2>0,AJ4>$P$2),AJ4-$P$2,0)))))) -> 2 | AK5: =VLOOKUP(AJ5,$R$2:S24,2,0) -> 2 | AO5: =IF(E5="l",AO4+1,IF(E5="w",0,0)) -> 2 | AP5: =IF(AND(AO5=1,AO6=0),1,"") | AQ5: =IF(AND(AO5=2,AO6=0),1,"") | AR5: =IF(AND(AO5=3,AO6=0),1,"") | AS5: =IF(AND(AO5=4,AO6=0),1,"") | AT5: =IF(AND(AO5=5,AO6=0),1,"") | AU5: =IF(AND(AO5=6,AO6=0),1,"") | AV5: =IF(AND(AO5=7,AO6=0),1,"") | AW5: =IF(AND(AO5=8,AO6=0),1,"") | AX5: =IF(AND(AO5=9,AO6=0),1,"") | AY5: =IF(AND(AO5=10,AO6=0),1,"") | AZ5: =IF(AND(AO5=11,AO6=0),1,"") | BA5: =IF(AND(AO5=12,AO6=0),1,"") | BB5: =IF(AND(AO5=13,AO6=0),1,"") | BC5: =IF(AND(AO5=14,AO6=0),1,"") | BD5: =IF(AND(AO5=15,AO6=0),1,"") | BE5: =IF(AND(AO5=16,AO6=0),1,"") | BF5: =IF(AND(AO5=17,AO6=0),1,"") | BG5: =IF(AND(AO5=18,AO6=0),1,"") | BH5: =IF(AND(AO5=19,AO6=0),1,"") | BI5: =IF(AND(AO5=20,AO6=0),1,"") | BJ5: =IF(AND(AO5=21,AO6=0),1,"") | BK5: =IF(AND(AO5=22,AO6=0),1,"") | BL5: =IF(AND(AO5=23,AO6=0),1,"") | BM5: =IF(AND(AO5=24,AO6=0),1,"") | BN5: =IF(AND(AO5=25,AO6=0),1,"") | BO5: =IF(AND(AO5>25,AO6=0),1,"")
B6: 25 | C6: =IF(B6="","",VLOOKUP(B6,Tabelle2!$A$1:$B$37,2,0)) -> 3 | D6: =IF(B6="","",IF(B6=0,"NB",VLOOKUP(C6,Tabelle2!$D$1:$E$4,2,0))) -> 1 | E6: =IF(B6="","",IF(D5="NB","NB",IF(D5=C6,"W","L"))) -> L | F6: =IF(E6="","",AK5) -> 2 | G6: =IF(E6="NB",0,IF(E6="w",2,IF(E6="l",-1,""))) -> -1 | H6: =IF(E6="","",IF(E6="NB",0,G6*F6)) -> -2 | I6: =IF(E6="",0,I5+H6) -> -2 | J6: =IF(B6="","",IF(B6=0,"X","")) | R6: 4 | S6: 7 | U6: =IF(C6=1,1,"") | V6: =IF(C6=2,2,"") | W6: =IF(C6=3,3,"") -> 3 | X6: =IF(C6=4,4,"") | Z6: =IF(Z5=1,1,IF(U6=1,1,"")) -> 1 | AA6: =IF(AA5=1,1,IF(V6=2,1,"")) -> 1 | AB6: =IF(AB5=1,1,IF(W6=3,1,"")) -> 1 | AC6: =IF(AC5=1,1,IF(X6=4,1,"")) | AD6: =IF(OR(AD5=1,AD5=0),0,IF(SUM(Z6:AC6)=4,1,"")) | AF6: =SUM(U6:X6) -> 3 | AG6: =IF(AF5<>AF6,AF5,IF(AF5=AF6,AG5,IF(AF5=AF4,AG5,AF5))) -> 2 | AH6: =IF(AF6=AG5,AH5,IF(AF6<>AF5,AG5,IF(AF5=AF4,AH5,IF(AF6=AF4,AH5,IF(AF5=AF6,AH5,SUM(U4:X4)))))) -> 1 | AJ6: =IF(E6="NB",AJ5,IF(E6="",0,IF(E6="l",AJ5+1,IF(E6="w",IF($P$2=0,0,IF(AND($P$2>0,AJ5>$P$2),AJ5-$P$2,0)))))) -> 3 | AK6: =VLOOKUP(AJ6,$R$2:S25,2,0) -> 3 | AO6: =IF(E6="l",AO5+1,IF(E6="w",0,0)) -> 3 | AP6: =IF(AND(AO6=1,AO7=0),1,"") | AQ6: =IF(AND(AO6=2,AO7=0),1,"") | AR6: =IF(AND(AO6=3,AO7=0),1,"") -> 1 | AS6: =IF(AND(AO6=4,AO7=0),1,"") | AT6: =IF(AND(AO6=5,AO7=0),1,"") | AU6: =IF(AND(AO6=6,AO7=0),1,"") | AV6: =IF(AND(AO6=7,AO7=0),1,"") | AW6: =IF(AND(AO6=8,AO7=0),1,"") | AX6: =IF(AND(AO6=9,AO7=0),1,"") | AY6: =IF(AND(AO6=10,AO7=0),1,"") | AZ6: =IF(AND(AO6=11,AO7=0),1,"") | BA6: =IF(AND(AO6=12,AO7=0),1,"") | BB6: =IF(AND(AO6=13,AO7=0),1,"") | BC6: =IF(AND(AO6=14,AO7=0),1,"") | BD6: =IF(AND(AO6=15,AO7=0),1,"") | BE6: =IF(AND(AO6=16,AO7=0),1,"") | BF6: =IF(AND(AO6=17,AO7=0),1,"") | BG6: =IF(AND(AO6=18,AO7=0),1,"") | BH6: =IF(AND(AO6=19,AO7=0),1,"") | BI6: =IF(AND(AO6=20,AO7=0),1,"") | BJ6: =IF(AND(AO6=21,AO7=0),1,"") | BK6: =IF(AND(AO6=22,AO7=0),1,"") | BL6: =IF(AND(AO6=23,AO7=0),1,"") | BM6: =IF(AND(AO6=24,AO7=0),1,"") | BN6: =IF(AND(AO6=25,AO7=0),1,"") | BO6: =IF(AND(AO6>25,AO7=0),1,"")
B7: 2 | C7: =IF(B7="","",VLOOKUP(B7,Tabelle2!$A$1:$B$37,2,0)) -> 1 | D7: =IF(B7="","",IF(B7=0,"NB",VLOOKUP(C7,Tabelle2!$D$1:$E$4,2,0))) -> 3 | E7: =IF(B7="","",IF(D6="NB","NB",IF(D6=C7,"W","L"))) -> W | F7: =IF(E7="","",AK6) -> 3 | G7: =IF(E7="NB",0,IF(E7="w",2,IF(E7="l",-1,""))) -> 2 | H7: =IF(E7="","",IF(E7="NB",0,G7*F7)) -> 6 | I7: =IF(E7="",0,I6+H7) -> 4 | J7: =IF(B7="","",IF(B7=0,"X","")) | L7: Flat Bet | M7: =SUM(G2:G1000) -> 47 | R7: 5 | S7: 15 | U7: =IF(C7=1,1,"") -> 1 | V7: =IF(C7=2,2,"") | W7: =IF(C7=3,3,"") | X7: =IF(C7=4,4,"") | Z7: =IF(Z6=1,1,IF(U7=1,1,"")) -> 1 | AA7: =IF(AA6=1,1,IF(V7=2,1,"")) -> 1 | AB7: =IF(AB6=1,1,IF(W7=3,1,"")) -> 1 | AC7: =IF(AC6=1,1,IF(X7=4,1,"")) | AD7: =IF(OR(AD6=1,AD6=0),0,IF(SUM(Z7:AC7)=4,1,"")) | AF7: =SUM(U7:X7) -> 1 | AG7: =IF(AF6<>AF7,AF6,IF(AF6=AF7,AG6,IF(AF6=AF5,AG6,AF6))) -> 3 | AH7: =IF(AF7=AG6,AH6,IF(AF7<>AF6,AG6,IF(AF6=AF5,AH6,IF(AF7=AF5,AH6,IF(AF6=AF7,AH6,SUM(U5:X5)))))) -> 2 | AJ7: =IF(E7="NB",AJ6,IF(E7="",0,IF(E7="l",AJ6+1,IF(E7="w",IF($P$2=0,0,IF(AND($P$2>0,AJ6>$P$2),AJ6-$P$2,0)))))) -> 0 | AK7: =VLOOKUP(AJ7,$R$2:S26,2,0) -> 1 | AO7: =IF(E7="l",AO6+1,IF(E7="w",0,0)) -> 0 | AP7: =IF(AND(AO7=1,AO8=0),1,"") | AQ7: =IF(AND(AO7=2,AO8=0),1,"") | AR7: =IF(AND(AO7=3,AO8=0),1,"") | AS7: =IF(AND(AO7=4,AO8=0),1,"") | AT7: =IF(AND(AO7=5,AO8=0),1,"") | AU7: =IF(AND(AO7=6,AO8=0),1,"") | AV7: =IF(AND(AO7=7,AO8=0),1,"") | AW7: =IF(AND(AO7=8,AO8=0),1,"") | AX7: =IF(AND(AO7=9,AO8=0),1,"") | AY7: =IF(AND(AO7=10,AO8=0),1,"") | AZ7: =IF(AND(AO7=11,AO8=0),1,"") | BA7: =IF(AND(AO7=12,AO8=0),1,"") | BB7: =IF(AND(AO7=13,AO8=0),1,"") | BC7: =IF(AND(AO7=14,AO8=0),1,"") | BD7: =IF(AND(AO7=15,AO8=0),1,"") | BE7: =IF(AND(AO7=16,AO8=0),1,"") | BF7: =IF(AND(AO7=17,AO8=0),1,"") | BG7: =IF(AND(AO7=18,AO8=0),1,"") | BH7: =IF(AND(AO7=19,AO8=0),1,"") | BI7: =IF(AND(AO7=20,AO8=0),1,"") | BJ7: =IF(AND(AO7=21,AO8=0),1,"") | BK7: =IF(AND(AO7=22,AO8=0),1,"") | BL7: =IF(AND(AO7=23,AO8=0),1,"") | BM7: =IF(AND(AO7=24,AO8=0),1,"") | BN7: =IF(AND(AO7=25,AO8=0),1,"") | BO7: =IF(AND(AO7>25,AO8=0),1,"")
B8: 13 | C8: =IF(B8="","",VLOOKUP(B8,Tabelle2!$A$1:$B$37,2,0)) -> 2 | D8: =IF(B8="","",IF(B8=0,"NB",VLOOKUP(C8,Tabelle2!$D$1:$E$4,2,0))) -> 2 | E8: =IF(B8="","",IF(D7="NB","NB",IF(D7=C8,"W","L"))) -> L | F8: =IF(E8="","",AK7) -> 1 | G8: =IF(E8="NB",0,IF(E8="w",2,IF(E8="l",-1,""))) -> -1 | H8: =IF(E8="","",IF(E8="NB",0,G8*F8)) -> -1 | I8: =IF(E8="",0,I7+H8) -> 3 | J8: =IF(B8="","",IF(B8=0,"X","")) | R8: 6 | S8: 1 | U8: =IF(C8=1,1,"") | V8: =IF(C8=2,2,"") -> 2 | W8: =IF(C8=3,3,"") | X8: =IF(C8=4,4,"") | Z8: =IF(Z7=1,1,IF(U8=1,1,"")) -> 1 | AA8: =IF(AA7=1,1,IF(V8=2,1,"")) -> 1 | AB8: =IF(AB7=1,1,IF(W8=3,1,"")) -> 1 | AC8: =IF(AC7=1,1,IF(X8=4,1,"")) | AD8: =IF(OR(AD7=1,AD7=0),0,IF(SUM(Z8:AC8)=4,1,"")) | AF8: =SUM(U8:X8) -> 2 | AG8: =IF(AF7<>AF8,AF7,IF(AF7=AF8,AG7,IF(AF7=AF6,AG7,AF7))) -> 1 | AH8: =IF(AF8=AG7,AH7,IF(AF8<>AF7,AG7,IF(AF7=AF6,AH7,IF(AF8=AF6,AH7,IF(AF7=AF8,AH7,SUM(U6:X6)))))) -> 3 | AJ8: =IF(E8="NB",AJ7,IF(E8="",0,IF(E8="l",AJ7+1,IF(E8="w",IF($P$2=0,0,IF(AND($P$2>0,AJ7>$P$2),AJ7-$P$2,0)))))) -> 1 | AK8: =VLOOKUP(AJ8,$R$2:S27,2,0) -> 1 | AM8: =I8 -> 3 | AO8: =IF(E8="l",AO7+1,IF(E8="w",0,0)) -> 1 | AP8: =IF(AND(AO8=1,AO9=0),1,"") -> 1 | AQ8: =IF(AND(AO8=2,AO9=0),1,"") | AR8: =IF(AND(AO8=3,AO9=0),1,"") | AS8: =IF(AND(AO8=4,AO9=0),1,"") | AT8: =IF(AND(AO8=5,AO9=0),1,"") | AU8: =IF(AND(AO8=6,AO9=0),1,"") | AV8: =IF(AND(AO8=7,AO9=0),1,"") | AW8: =IF(AND(AO8=8,AO9=0),1,"") | AX8: =IF(AND(AO8=9,AO9=0),1,"") | AY8: =IF(AND(AO8=10,AO9=0),1,"") | AZ8: =IF(AND(AO8=11,AO9=0),1,"") | BA8: =IF(AND(AO8=12,AO9=0),1,"") | BB8: =IF(AND(AO8=13,AO9=0),1,"") | BC8: =IF(AND(AO8=14,AO9=0),1,"") | BD8: =IF(AND(AO8=15,AO9=0),1,"") | BE8: =IF(AND(AO8=16,AO9=0),1,"") | BF8: =IF(AND(AO8=17,AO9=0),1,"") | BG8: =IF(AND(AO8=18,AO9=0),1,"") | BH8: =IF(AND(AO8=19,AO9=0),1,"") | BI8: =IF(AND(AO8=20,AO9=0),1,"") | BJ8: =IF(AND(AO8=21,AO9=0),1,"") | BK8: =IF(AND(AO8=22,AO9=0),1,"") | BL8: =IF(AND(AO8=23,AO9=0),1,"") | BM8: =IF(AND(AO8=24,AO9=0),1,"") | BN8: =IF(AND(AO8=25,AO9=0),1,"") | BO8: =IF(AND(AO8>25,AO9=0),1,"")
B9: 18 | C9: =IF(B9="","",VLOOKUP(B9,Tabelle2!$A$1:$B$37,2,0)) -> 2 | D9: =IF(B9="","",IF(B9=0,"NB",VLOOKUP(C9,Tabelle2!$D$1:$E$4,2,0))) -> 2 | E9: =IF(B9="","",IF(D8="NB","NB",IF(D8=C9,"W","L"))) -> W | F9: =IF(E9="","",AK8) -> 1 | G9: =IF(E9="NB",0,IF(E9="w",2,IF(E9="l",-1,""))) -> 2 | H9: =IF(E9="","",IF(E9="NB",0,G9*F9)) -> 2 | I9: =IF(E9="",0,I8+H9) -> 5 | J9: =IF(B9="","",IF(B9=0,"X","")) | L9: Losses | R9: 7 | S9: 1 | U9: =IF(C9=1,1,"") | V9: =IF(C9=2,2,"") -> 2 | W9: =IF(C9=3,3,"") | X9: =IF(C9=4,4,"") | Z9: =IF(Z8=1,1,IF(U9=1,1,"")) -> 1 | AA9: =IF(AA8=1,1,IF(V9=2,1,"")) -> 1 | AB9: =IF(AB8=1,1,IF(W9=3,1,"")) -> 1 | AC9: =IF(AC8=1,1,IF(X9=4,1,"")) | AD9: =IF(OR(AD8=1,AD8=0),0,IF(SUM(Z9:AC9)=4,1,"")) | AF9: =SUM(U9:X9) -> 2 | AG9: =IF(AF8<>AF9,AF8,IF(AF8=AF9,AG8,IF(AF8=AF7,AG8,AF8))) -> 1 | AH9: =IF(AF9=AG8,AH8,IF(AF9<>AF8,AG8,IF(AF8=AF7,AH8,IF(AF9=AF7,AH8,IF(AF8=AF9,AH8,SUM(U7:X7)))))) -> 3 | AJ9: =IF(E9="NB",AJ8,IF(E9="",0,IF(E9="l",AJ8+1,IF(E9="w",IF($P$2=0,0,IF(AND($P$2>0,AJ8>$P$2),AJ8-$P$2,0)))))) -> 0 | AK9: =VLOOKUP(AJ9,$R$2:S28,2,0) -> 1 | AM9: =IF(I9<=AM8,AM8,I9) -> 5 | AO9: =IF(E9="l",AO8+1,IF(E9="w",0,0)) -> 0 | AP9: =IF(AND(AO9=1,AO10=0),1,"") | AQ9: =IF(AND(AO9=2,AO10=0),1,"") | AR9: =IF(AND(AO9=3,AO10=0),1,"") | AS9: =IF(AND(AO9=4,AO10=0),1,"") | AT9: =IF(AND(AO9=5,AO10=0),1,"") | AU9: =IF(AND(AO9=6,AO10=0),1,"") | AV9: =IF(AND(AO9=7,AO10=0),1,"") | AW9: =IF(AND(AO9=8,AO10=0),1,"") | AX9: =IF(AND(AO9=9,AO10=0),1,"") | AY9: =IF(AND(AO9=10,AO10=0),1,"") | AZ9: =IF(AND(AO9=11,AO10=0),1,"") | BA9: =IF(AND(AO9=12,AO10=0),1,"") | BB9: =IF(AND(AO9=13,AO10=0),1,"") | BC9: =IF(AND(AO9=14,AO10=0),1,"") | BD9: =IF(AND(AO9=15,AO10=0),1,"") | BE9: =IF(AND(AO9=16,AO10=0),1,"") | BF9: =IF(AND(AO9=17,AO10=0),1,"") | BG9: =IF(AND(AO9=18,AO10=0),1,"") | BH9: =IF(AND(AO9=19,AO10=0),1,"") | BI9: =IF(AND(AO9=20,AO10=0),1,"") | BJ9: =IF(AND(AO9=21,AO10=0),1,"") | BK9: =IF(AND(AO9=22,AO10=0),1,"") | BL9: =IF(AND(AO9=23,AO10=0),1,"") | BM9: =IF(AND(AO9=24,AO10=0),1,"") | BN9: =IF(AND(AO9=25,AO10=0),1,"") | BO9: =IF(AND(AO9>25,AO10=0),1,"")
B10: 14 | C10: =IF(B10="","",VLOOKUP(B10,Tabelle2!$A$1:$B$37,2,0)) -> 2 | D10: =IF(B10="","",IF(B10=0,"NB",VLOOKUP(C10,Tabelle2!$D$1:$E$4,2,0))) -> 2 | E10: =IF(B10="","",IF(D9="NB","NB",IF(D9=C10,"W","L"))) -> W | F10: =IF(E10="","",AK9) -> 1 | G10: =IF(E10="NB",0,IF(E10="w",2,IF(E10="l",-1,""))) -> 2 | H10: =IF(E10="","",IF(E10="NB",0,G10*F10)) -> 2 | I10: =IF(E10="",0,I9+H10) -> 7 | J10: =IF(B10="","",IF(B10=0,"X","")) | L10: 1 | M10: =AP1001 -> 52 | R10: 8 | S10: 1 | U10: =IF(C10=1,1,"") | V10: =IF(C10=2,2,"") -> 2 | W10: =IF(C10=3,3,"") | X10: =IF(C10=4,4,"") | Z10: =IF(Z9=1,1,IF(U10=1,1,"")) -> 1 | AA10: =IF(AA9=1,1,IF(V10=2,1,"")) -> 1 | AB10: =IF(AB9=1,1,IF(W10=3,1,"")) -> 1 | AC10: =IF(AC9=1,1,IF(X10=4,1,"")) | AD10: =IF(OR(AD9=1,AD9=0),0,IF(SUM(Z10:AC10)=4,1,"")) | AF10: =SUM(U10:X10) -> 2 | AG10: =IF(AF9<>AF10,AF9,IF(AF9=AF10,AG9,IF(AF9=AF8,AG9,AF9))) -> 1 | AH10: =IF(AF10=AG9,AH9,IF(AF10<>AF9,AG9,IF(AF9=AF8,AH9,IF(AF10=AF8,AH9,IF(AF9=AF10,AH9,SUM(U8:X8)))))) -> 3 | AJ10: =IF(E10="NB",AJ9,IF(E10="",0,IF(E10="l",AJ9+1,IF(E10="w",IF($P$2=0,0,IF(AND($P$2>0,AJ9>$P$2),AJ9-$P$2,0)))))) -> 0 | AK10: =VLOOKUP(AJ10,$R$2:S29,2,0) -> 1 | AM10: =IF(I10<=AM9,AM9,I10) -> 7 | AO10: =IF(E10="l",AO9+1,IF(E10="w",0,0)) -> 0 | AP10: =IF(AND(AO10=1,AO11=0),1,"") | AQ10: =IF(AND(AO10=2,AO11=0),1,"") | AR10: =IF(AND(AO10=3,AO11=0),1,"") | AS10: =IF(AND(AO10=4,AO11=0),1,"") | AT10: =IF(AND(AO10=5,AO11=0),1,"") | AU10: =IF(AND(AO10=6,AO11=0),1,"") | AV10: =IF(AND(AO10=7,AO11=0),1,"") | AW10: =IF(AND(AO10=8,AO11=0),1,"") | AX10: =IF(AND(AO10=9,AO11=0),1,"") | AY10: =IF(AND(AO10=10,AO11=0),1,"") | AZ10: =IF(AND(AO10=11,AO11=0),1,"") | BA10: =IF(AND(AO10=12,AO11=0),1,"") | BB10: =IF(AND(AO10=13,AO11=0),1,"") | BC10: =IF(AND(AO10=14,AO11=0),1,"") | BD10: =IF(AND(AO10=15,AO11=0),1,"") | BE10: =IF(AND(AO10=16,AO11=0),1,"") | BF10: =IF(AND(AO10=17,AO11=0),1,"") | BG10: =IF(AND(AO10=18,AO11=0),1,"") | BH10: =IF(AND(AO10=19,AO11=0),1,"") | BI10: =IF(AND(AO10=20,AO11=0),1,"") | BJ10: =IF(AND(AO10=21,AO11=0),1,"") | BK10: =IF(AND(AO10=22,AO11=0),1,"") | BL10: =IF(AND(AO10=23,AO11=0),1,"") | BM10: =IF(AND(AO10=24,AO11=0),1,"") | BN10: =IF(AND(AO10=25,AO11=0),1,"") | BO10: =IF(AND(AO10>25,AO11=0),1,"")
B11: 3 | C11: =IF(B11="","",VLOOKUP(B11,Tabelle2!$A$1:$B$37,2,0)) -> 1 | D11: =IF(B11="","",IF(B11=0,"NB",VLOOKUP(C11,Tabelle2!$D$1:$E$4,2,0))) -> 3 | E11: =IF(B11="","",IF(D10="NB","NB",IF(D10=C11,"W","L"))) -> L | F11: =IF(E11="","",AK10) -> 1 | G11: =IF(E11="NB",0,IF(E11="w",2,IF(E11="l",-1,""))) -> -1 | H11: =IF(E11="","",IF(E11="NB",0,G11*F11)) -> -1 | I11: =IF(E11="",0,I10+H11) -> 6 | J11: =IF(B11="","",IF(B11=0,"X","")) | L11: 2 | M11: =AQ1001 -> 40 | R11: 9 | S11: 1 | U11: =IF(C11=1,1,"") -> 1 | V11: =IF(C11=2,2,"") | W11: =IF(C11=3,3,"") | X11: =IF(C11=4,4,"") | Z11: =IF(Z10=1,1,IF(U11=1,1,"")) -> 1 | AA11: =IF(AA10=1,1,IF(V11=2,1,"")) -> 1 | AB11: =IF(AB10=1,1,IF(W11=3,1,"")) -> 1 | AC11: =IF(AC10=1,1,IF(X11=4,1,"")) | AD11: =IF(OR(AD10=1,AD10=0),0,IF(SUM(Z11:AC11)=4,1,"")) | AF11: =SUM(U11:X11) -> 1 | AG11: =IF(AF10<>AF11,AF10,IF(AF10=AF11,AG10,IF(AF10=AF9,AG10,AF10))) -> 2 | AH11: =IF(AF11=AG10,AH10,IF(AF11<>AF10,AG10,IF(AF10=AF9,AH10,IF(AF11=AF9,AH10,IF(AF10=AF11,AH10,SUM(U9:X9)))))) -> 3 | AJ11: =IF(E11="NB",AJ10,IF(E11="",0,IF(E11="l",AJ10+1,IF(E11="w",IF($P$2=0,0,IF(AND($P$2>0,AJ10>$P$2),AJ10-$P$2,0)))))) -> 1 | AK11: =VLOOKUP(AJ11,$R$2:S30,2,0) -> 1 | AM11: =IF(I11<=AM10,AM10,I11) -> 7 | AO11: =IF(E11="l",AO10+1,IF(E11="w",0,0)) -> 1 | AP11: =IF(AND(AO11=1,AO12=0),1,"") -> 1 | AQ11: =IF(AND(AO11=2,AO12=0),1,"") | AR11: =IF(AND(AO11=3,AO12=0),1,"") | AS11: =IF(AND(AO11=4,AO12=0),1,"") | AT11: =IF(AND(AO11=5,AO12=0),1,"") | AU11: =IF(AND(AO11=6,AO12=0),1,"") | AV11: =IF(AND(AO11=7,AO12=0),1,"") | AW11: =IF(AND(AO11=8,AO12=0),1,"") | AX11: =IF(AND(AO11=9,AO12=0),1,"") | AY11: =IF(AND(AO11=10,AO12=0),1,"") | AZ11: =IF(AND(AO11=11,AO12=0),1,"") | BA11: =IF(AND(AO11=12,AO12=0),1,"") | BB11: =IF(AND(AO11=13,AO12=0),1,"") | BC11: =IF(AND(AO11=14,AO12=0),1,"") | BD11: =IF(AND(AO11=15,AO12=0),1,"") | BE11: =IF(AND(AO11=16,AO12=0),1,"") | BF11: =IF(AND(AO11=17,AO12=0),1,"") | BG11: =IF(AND(AO11=18,AO12=0),1,"") | BH11: =IF(AND(AO11=19,AO12=0),1,"") | BI11: =IF(AND(AO11=20,AO12=0),1,"") | BJ11: =IF(AND(AO11=21,AO12=0),1,"") | BK11: =IF(AND(AO11=22,AO12=0),1,"") | BL11: =IF(AND(AO11=23,AO12=0),1,"") | BM11: =IF(AND(AO11=24,AO12=0),1,"") | BN11: =IF(AND(AO11=25,AO12=0),1,"") | BO11: =IF(AND(AO11>25,AO12=0),1,"")
B12: 30 | C12: =IF(B12="","",VLOOKUP(B12,Tabelle2!$A$1:$B$37,2,0)) -> 3 | D12: =IF(B12="","",IF(B12=0,"NB",VLOOKUP(C12,Tabelle2!$D$1:$E$4,2,0))) -> 1 | E12: =IF(B12="","",IF(D11="NB","NB",IF(D11=C12,"W","L"))) -> W | F12: =IF(E12="","",AK11) -> 1 | G12: =IF(E12="NB",0,IF(E12="w",2,IF(E12="l",-1,""))) -> 2 | H12: =IF(E12="","",IF(E12="NB",0,G12*F12)) -> 2 | I12: =IF(E12="",0,I11+H12) -> 8 | J12: =IF(B12="","",IF(B12=0,"X","")) | L12: 3 | M12: =AQ1001 -> 40 | R12: 10 | S12: 1 | U12: =IF(C12=1,1,"") | V12: =IF(C12=2,2,"") | W12: =IF(C12=3,3,"") -> 3 | X12: =IF(C12=4,4,"") | Z12: =IF(Z11=1,1,IF(U12=1,1,"")) -> 1 | AA12: =IF(AA11=1,1,IF(V12=2,1,"")) -> 1 | AB12: =IF(AB11=1,1,IF(W12=3,1,"")) -> 1 | AC12: =IF(AC11=1,1,IF(X12=4,1,"")) | AD12: =IF(OR(AD11=1,AD11=0),0,IF(SUM(Z12:AC12)=4,1,"")) | AF12: =SUM(U12:X12) -> 3 | AG12: =IF(AF11<>AF12,AF11,IF(AF11=AF12,AG11,IF(AF11=AF10,AG11,AF11))) -> 1 | AH12: =IF(AF12=AG11,AH11,IF(AF12<>AF11,AG11,IF(AF11=AF10,AH11,IF(AF12=AF10,AH11,IF(AF11=AF12,AH11,SUM(U10:X10)))))) -> 2 | AJ12: =IF(E12="NB",AJ11,IF(E12="",0,IF(E12="l",AJ11+1,IF(E12="w",IF($P$2=0,0,IF(AND($P$2>0,AJ11>$P$2),AJ11-$P$2,0)))))) -> 0 | AK12: =VLOOKUP(AJ12,$R$2:S31,2,0) -> 1 | AM12: =IF(I12<=AM11,AM11,I12) -> 8 | AO12: =IF(E12="l",AO11+1,IF(E12="w",0,0)) -> 0 | AP12: =IF(AND(AO12=1,AO13=0),1,"") | AQ12: =IF(AND(AO12=2,AO13=0),1,"") | AR12: =IF(AND(AO12=3,AO13=0),1,"") | AS12: =IF(AND(AO12=4,AO13=0),1,"") | AT12: =IF(AND(AO12=5,AO13=0),1,"") | AU12: =IF(AND(AO12=6,AO13=0),1,"") | AV12: =IF(AND(AO12=7,AO13=0),1,"") | AW12: =IF(AND(AO12=8,AO13=0),1,"") | AX12: =IF(AND(AO12=9,AO13=0),1,"") | AY12: =IF(AND(AO12=10,AO13=0),1,"") | AZ12: =IF(AND(AO12=11,AO13=0),1,"") | BA12: =IF(AND(AO12=12,AO13=0),1,"") | BB12: =IF(AND(AO12=13,AO13=0),1,"") | BC12: =IF(AND(AO12=14,AO13=0),1,"") | BD12: =IF(AND(AO12=15,AO13=0),1,"") | BE12: =IF(AND(AO12=16,AO13=0),1,"") | BF12: =IF(AND(AO12=17,AO13=0),1,"") | BG12: =IF(AND(AO12=18,AO13=0),1,"") | BH12: =IF(AND(AO12=19,AO13=0),1,"") | BI12: =IF(AND(AO12=20,AO13=0),1,"") | BJ12: =IF(AND(AO12=21,AO13=0),1,"") | BK12: =IF(AND(AO12=22,AO13=0),1,"") | BL12: =IF(AND(AO12=23,AO13=0),1,"") | BM12: =IF(AND(AO12=24,AO13=0),1,"") | BN12: =IF(AND(AO12=25,AO13=0),1,"") | BO12: =IF(AND(AO12>25,AO13=0),1,"")
B13: 18 | C13: =IF(B13="","",VLOOKUP(B13,Tabelle2!$A$1:$B$37,2,0)) -> 2 | D13: =IF(B13="","",IF(B13=0,"NB",VLOOKUP(C13,Tabelle2!$D$1:$E$4,2,0))) -> 2 | E13: =IF(B13="","",IF(D12="NB","NB",IF(D12=C13,"W","L"))) -> L | F13: =IF(E13="","",AK12) -> 1 | G13: =IF(E13="NB",0,IF(E13="w",2,IF(E13="l",-1,""))) -> -1 | H13: =IF(E13="","",IF(E13="NB",0,G13*F13)) -> -1 | I13: =IF(E13="",0,I12+H13) -> 7 | J13: =IF(B13="","",IF(B13=0,"X","")) | L13: 4 | M13: =AR1001 -> 20 | R13: 11 | S13: 1 | U13: =IF(C13=1,1,"") | V13: =IF(C13=2,2,"") -> 2 | W13: =IF(C13=3,3,"") | X13: =IF(C13=4,4,"") | Z13: =IF(Z12=1,1,IF(U13=1,1,"")) -> 1 | AA13: =IF(AA12=1,1,IF(V13=2,1,"")) -> 1 | AB13: =IF(AB12=1,1,IF(W13=3,1,"")) -> 1 | AC13: =IF(AC12=1,1,IF(X13=4,1,"")) | AD13: =IF(OR(AD12=1,AD12=0),0,IF(SUM(Z13:AC13)=4,1,"")) | AF13: =SUM(U13:X13) -> 2 | AG13: =IF(AF12<>AF13,AF12,IF(AF12=AF13,AG12,IF(AF12=AF11,AG12,AF12))) -> 3 | AH13: =IF(AF13=AG12,AH12,IF(AF13<>AF12,AG12,IF(AF12=AF11,AH12,IF(AF13=AF11,AH12,IF(AF12=AF13,AH12,SUM(U11:X11)))))) -> 1 | AJ13: =IF(E13="NB",AJ12,IF(E13="",0,IF(E13="l",AJ12+1,IF(E13="w",IF($P$2=0,0,IF(AND($P$2>0,AJ12>$P$2),AJ12-$P$2,0)))))) -> 1 | AK13: =VLOOKUP(AJ13,$R$2:S32,2,0) -> 1 | AM13: =IF(I13<=AM12,AM12,I13) -> 8 | AO13: =IF(E13="l",AO12+1,IF(E13="w",0,0)) -> 1 | AP13: =IF(AND(AO13=1,AO14=0),1,"") | AQ13: =IF(AND(AO13=2,AO14=0),1,"") | AR13: =IF(AND(AO13=3,AO14=0),1,"") | AS13: =IF(AND(AO13=4,AO14=0),1,"") | AT13: =IF(AND(AO13=5,AO14=0),1,"") | AU13: =IF(AND(AO13=6,AO14=0),1,"") | AV13: =IF(AND(AO13=7,AO14=0),1,"") | AW13: =IF(AND(AO13=8,AO14=0),1,"") | AX13: =IF(AND(AO13=9,AO14=0),1,"") | AY13: =IF(AND(AO13=10,AO14=0),1,"") | AZ13: =IF(AND(AO13=11,AO14=0),1,"") | BA13: =IF(AND(AO13=12,AO14=0),1,"") | BB13: =IF(AND(AO13=13,AO14=0),1,"") | BC13: =IF(AND(AO13=14,AO14=0),1,"") | BD13: =IF(AND(AO13=15,AO14=0),1,"") | BE13: =IF(AND(AO13=16,AO14=0),1,"") | BF13: =IF(AND(AO13=17,AO14=0),1,"") | BG13: =IF(AND(AO13=18,AO14=0),1,"") | BH13: =IF(AND(AO13=19,AO14=0),1,"") | BI13: =IF(AND(AO13=20,AO14=0),1,"") | BJ13: =IF(AND(AO13=21,AO14=0),1,"") | BK13: =IF(AND(AO13=22,AO14=0),1,"") | BL13: =IF(AND(AO13=23,AO14=0),1,"") | BM13: =IF(AND(AO13=24,AO14=0),1,"") | BN13: =IF(AND(AO13=25,AO14=0),1,"") | BO13: =IF(AND(AO13>25,AO14=0),1,"") | XFC13: =IF(AND(AO13=3,AO14=0),1,"")
B14: 30 | C14: =IF(B14="","",VLOOKUP(B14,Tabelle2!$A$1:$B$37,2,0)) -> 3 | D14: =IF(B14="","",IF(B14=0,"NB",VLOOKUP(C14,Tabelle2!$D$1:$E$4,2,0))) -> 1 | E14: =IF(B14="","",IF(D13="NB","NB",IF(D13=C14,"W","L"))) -> L | F14: =IF(E14="","",AK13) -> 1 | G14: =IF(E14="NB",0,IF(E14="w",2,IF(E14="l",-1,""))) -> -1 | H14: =IF(E14="","",IF(E14="NB",0,G14*F14)) -> -1 | I14: =IF(E14="",0,I13+H14) -> 6 | J14: =IF(B14="","",IF(B14=0,"X","")) | L14: 5 | M14: =AT1001 -> 7 | R14: 12 | S14: 1 | U14: =IF(C14=1,1,"") | V14: =IF(C14=2,2,"") | W14: =IF(C14=3,3,"") -> 3 | X14: =IF(C14=4,4,"") | Z14: =IF(Z13=1,1,IF(U14=1,1,"")) -> 1 | AA14: =IF(AA13=1,1,IF(V14=2,1,"")) -> 1 | AB14: =IF(AB13=1,1,IF(W14=3,1,"")) -> 1 | AC14: =IF(AC13=1,1,IF(X14=4,1,"")) | AD14: =IF(OR(AD13=1,AD13=0),0,IF(SUM(Z14:AC14)=4,1,"")) | AF14: =SUM(U14:X14) -> 3 | AG14: =IF(AF13<>AF14,AF13,IF(AF13=AF14,AG13,IF(AF13=AF12,AG13,AF13))) -> 2 | AH14: =IF(AF14=AG13,AH13,IF(AF14<>AF13,AG13,IF(AF13=AF12,AH13,IF(AF14=AF12,AH13,IF(AF13=AF14,AH13,SUM(U12:X12)))))) -> 1 | AJ14: =IF(E14="NB",AJ13,IF(E14="",0,IF(E14="l",AJ13+1,IF(E14="w",IF($P$2=0,0,IF(AND($P$2>0,AJ13>$P$2),AJ13-$P$2,0)))))) -> 2 | AK14: =VLOOKUP(AJ14,$R$2:S33,2,0) -> 2 | AM14: =IF(I14<=AM13,AM13,I14) -> 8 | AO14: =IF(E14="l",AO13+1,IF(E14="w",0,0)) -> 2 | AP14: =IF(AND(AO14=1,AO15=0),1,"") | AQ14: =IF(AND(AO14=2,AO15=0),1,"") | AR14: =IF(AND(AO14=3,AO15=0),1,"") | AS14: =IF(AND(AO14=4,AO15=0),1,"") | AT14: =IF(AND(AO14=5,AO15=0),1,"") | AU14: =IF(AND(AO14=6,AO15=0),1,"") | AV14: =IF(AND(AO14=7,AO15=0),1,"") | AW14: =IF(AND(AO14=8,AO15=0),1,"") | AX14: =IF(AND(AO14=9,AO15=0),1,"") | AY14: =IF(AND(AO14=10,AO15=0),1,"") | AZ14: =IF(AND(AO14=11,AO15=0),1,"") | BA14: =IF(AND(AO14=12,AO15=0),1,"") | BB14: =IF(AND(AO14=13,AO15=0),1,"") | BC14: =IF(AND(AO14=14,AO15=0),1,"") | BD14: =IF(AND(AO14=15,AO15=0),1,"") | BE14: =IF(AND(AO14=16,AO15=0),1,"") | BF14: =IF(AND(AO14=17,AO15=0),1,"") | BG14: =IF(AND(AO14=18,AO15=0),1,"") | BH14: =IF(AND(AO14=19,AO15=0),1,"") | BI14: =IF(AND(AO14=20,AO15=0),1,"") | BJ14: =IF(AND(AO14=21,AO15=0),1,"") | BK14: =IF(AND(AO14=22,AO15=0),1,"") | BL14: =IF(AND(AO14=23,AO15=0),1,"") | BM14: =IF(AND(AO14=24,AO15=0),1,"") | BN14: =IF(AND(AO14=25,AO15=0),1,"") | BO14: =IF(AND(AO14>25,AO15=0),1,"")
B15: 29 | C15: =IF(B15="","",VLOOKUP(B15,Tabelle2!$A$1:$B$37,2,0)) -> 3 | D15: =IF(B15="","",IF(B15=0,"NB",VLOOKUP(C15,Tabelle2!$D$1:$E$4,2,0))) -> 1 | E15: =IF(B15="","",IF(D14="NB","NB",IF(D14=C15,"W","L"))) -> L | F15: =IF(E15="","",AK14) -> 2 | G15: =IF(E15="NB",0,IF(E15="w",2,IF(E15="l",-1,""))) -> -1 | H15: =IF(E15="","",IF(E15="NB",0,G15*F15)) -> -2 | I15: =IF(E15="",0,I14+H15) -> 4 | J15: =IF(B15="","",IF(B15=0,"X","")) | L15: 6 | M15: =AU1001 -> 3 | R15: 13 | S15: 1 | U15: =IF(C15=1,1,"") | V15: =IF(C15=2,2,"") | W15: =IF(C15=3,3,"") -> 3 | X15: =IF(C15=4,4,"") | Z15: =IF(Z14=1,1,IF(U15=1,1,"")) -> 1 | AA15: =IF(AA14=1,1,IF(V15=2,1,"")) -> 1 | AB15: =IF(AB14=1,1,IF(W15=3,1,"")) -> 1 | AC15: =IF(AC14=1,1,IF(X15=4,1,"")) | AD15: =IF(OR(AD14=1,AD14=0),0,IF(SUM(Z15:AC15)=4,1,"")) | AF15: =SUM(U15:X15) -> 3 | AG15: =IF(AF14<>AF15,AF14,IF(AF14=AF15,AG14,IF(AF14=AF13,AG14,AF14))) -> 2 | AH15: =IF(AF15=AG14,AH14,IF(AF15<>AF14,AG14,IF(AF14=AF13,AH14,IF(AF15=AF13,AH14,IF(AF14=AF15,AH14,SUM(U13:X13)))))) -> 1 | AJ15: =IF(E15="NB",AJ14,IF(E15="",0,IF(E15="l",AJ14+1,IF(E15="w",IF($P$2=0,0,IF(AND($P$2>0,AJ14>$P$2),AJ14-$P$2,0)))))) -> 3 | AK15: =VLOOKUP(AJ15,$R$2:S34,2,0) -> 3 | AM15: =IF(I15<=AM14,AM14,I15) -> 8 | AO15: =IF(E15="l",AO14+1,IF(E15="w",0,0)) -> 3 | AP15: =IF(AND(AO15=1,AO16=0),1,"") | AQ15: =IF(AND(AO15=2,AO16=0),1,"") | AR15: =IF(AND(AO15=3,AO16=0),1,"") -> 1 | AS15: =IF(AND(AO15=4,AO16=0),1,"") | AT15: =IF(AND(AO15=5,AO16=0),1,"") | AU15: =IF(AND(AO15=6,AO16=0),1,"") | AV15: =IF(AND(AO15=7,AO16=0),1,"") | AW15: =IF(AND(AO15=8,AO16=0),1,"") | AX15: =IF(AND(AO15=9,AO16=0),1,"") | AY15: =IF(AND(AO15=10,AO16=0),1,"") | AZ15: =IF(AND(AO15=11,AO16=0),1,"") | BA15: =IF(AND(AO15=12,AO16=0),1,"") | BB15: =IF(AND(AO15=13,AO16=0),1,"") | BC15: =IF(AND(AO15=14,AO16=0),1,"") | BD15: =IF(AND(AO15=15,AO16=0),1,"") | BE15: =IF(AND(AO15=16,AO16=0),1,"") | BF15: =IF(AND(AO15=17,AO16=0),1,"") | BG15: =IF(AND(AO15=18,AO16=0),1,"") | BH15: =IF(AND(AO15=19,AO16=0),1,"") | BI15: =IF(AND(AO15=20,AO16=0),1,"") | BJ15: =IF(AND(AO15=21,AO16=0),1,"") | BK15: =IF(AND(AO15=22,AO16=0),1,"") | BL15: =IF(AND(AO15=23,AO16=0),1,"") | BM15: =IF(AND(AO15=24,AO16=0),1,"") | BN15: =IF(AND(AO15=25,AO16=0),1,"") | BO15: =IF(AND(AO15>25,AO16=0),1,"")
B16: 10 | C16: =IF(B16="","",VLOOKUP(B16,Tabelle2!$A$1:$B$37,2,0)) -> 1 | D16: =IF(B16="","",IF(B16=0,"NB",VLOOKUP(C16,Tabelle2!$D$1:$E$4,2,0))) -> 3 | E16: =IF(B16="","",IF(D15="NB","NB",IF(D15=C16,"W","L"))) -> W | F16: =IF(E16="","",AK15) -> 3 | G16: =IF(E16="NB",0,IF(E16="w",2,IF(E16="l",-1,""))) -> 2 | H16: =IF(E16="","",IF(E16="NB",0,G16*F16)) -> 6 | I16: =IF(E16="",0,I15+H16) -> 10 | J16: =IF(B16="","",IF(B16=0,"X","")) | L16: 7 | M16: =AV1001 -> 2 | R16: 14 | S16: 1 | U16: =IF(C16=1,1,"") -> 1 | V16: =IF(C16=2,2,"") | W16: =IF(C16=3,3,"") | X16: =IF(C16=4,4,"") | Z16: =IF(Z15=1,1,IF(U16=1,1,"")) -> 1 | AA16: =IF(AA15=1,1,IF(V16=2,1,"")) -> 1 | AB16: =IF(AB15=1,1,IF(W16=3,1,"")) -> 1 | AC16: =IF(AC15=1,1,IF(X16=4,1,"")) | AD16: =IF(OR(AD15=1,AD15=0),0,IF(SUM(Z16:AC16)=4,1,"")) | AF16: =SUM(U16:X16) -> 1 | AG16: =IF(AF15<>AF16,AF15,IF(AF15=AF16,AG15,IF(AF15=AF14,AG15,AF15))) -> 3 | AH16: =IF(AF16=AG15,AH15,IF(AF16<>AF15,AG15,IF(AF15=AF14,AH15,IF(AF16=AF14,AH15,IF(AF15=AF16,AH15,SUM(U14:X14)))))) -> 2 | AJ16: =IF(E16="NB",AJ15,IF(E16="",0,IF(E16="l",AJ15+1,IF(E16="w",IF($P$2=0,0,IF(AND($P$2>0,AJ15>$P$2),AJ15-$P$2,0)))))) -> 0 | AK16: =VLOOKUP(AJ16,$R$2:S35,2,0) -> 1 | AM16: =IF(I16<=AM15,AM15,I16) -> 10 | AO16: =IF(E16="l",AO15+1,IF(E16="w",0,0)) -> 0 | AP16: =IF(AND(AO16=1,AO17=0),1,"") | AQ16: =IF(AND(AO16=2,AO17=0),1,"") | AR16: =IF(AND(AO16=3,AO17=0),1,"") | AS16: =IF(AND(AO16=4,AO17=0),1,"") | AT16: =IF(AND(AO16=5,AO17=0),1,"") | AU16: =IF(AND(AO16=6,AO17=0),1,"") | AV16: =IF(AND(AO16=7,AO17=0),1,"") | AW16: =IF(AND(AO16=8,AO17=0),1,"") | AX16: =IF(AND(AO16=9,AO17=0),1,"") | AY16: =IF(AND(AO16=10,AO17=0),1,"") | AZ16: =IF(AND(AO16=11,AO17=0),1,"") | BA16: =IF(AND(AO16=12,AO17=0),1,"") | BB16: =IF(AND(AO16=13,AO17=0),1,"") | BC16: =IF(AND(AO16=14,AO17=0),1,"") | BD16: =IF(AND(AO16=15,AO17=0),1,"") | BE16: =IF(AND(AO16=16,AO17=0),1,"") | BF16: =IF(AND(AO16=17,AO17=0),1,"") | BG16: =IF(AND(AO16=18,AO17=0),1,"") | BH16: =IF(AND(AO16=19,AO17=0),1,"") | BI16: =IF(AND(AO16=20,AO17=0),1,"") | BJ16: =IF(AND(AO16=21,AO17=0),1,"") | BK16: =IF(AND(AO16=22,AO17=0),1,"") | BL16: =IF(AND(AO16=23,AO17=0),1,"") | BM16: =IF(AND(AO16=24,AO17=0),1,"") | BN16: =IF(AND(AO16=25,AO17=0),1,"") | BO16: =IF(AND(AO16>25,AO17=0),1,"")
B17: 15 | C17: =IF(B17="","",VLOOKUP(B17,Tabelle2!$A$1:$B$37,2,0)) -> 2 | D17: =IF(B17="","",IF(B17=0,"NB",VLOOKUP(C17,Tabelle2!$D$1:$E$4,2,0))) -> 2 | E17: =IF(B17="","",IF(D16="NB","NB",IF(D16=C17,"W","L"))) -> L | F17: =IF(E17="","",AK16) -> 1 | G17: =IF(E17="NB",0,IF(E17="w",2,IF(E17="l",-1,""))) -> -1 | H17: =IF(E17="","",IF(E17="NB",0,G17*F17)) -> -1 | I17: =IF(E17="",0,I16+H17) -> 9 | J17: =IF(B17="","",IF(B17=0,"X","")) | L17: 8 | M17: =AW1001 -> 0 | R17: 15 | S17: 1 | U17: =IF(C17=1,1,"") | V17: =IF(C17=2,2,"") -> 2 | W17: =IF(C17=3,3,"") | X17: =IF(C17=4,4,"") | Z17: =IF(Z16=1,1,IF(U17=1,1,"")) -> 1 | AA17: =IF(AA16=1,1,IF(V17=2,1,"")) -> 1 | AB17: =IF(AB16=1,1,IF(W17=3,1,"")) -> 1 | AC17: =IF(AC16=1,1,IF(X17=4,1,"")) | AD17: =IF(OR(AD16=1,AD16=0),0,IF(SUM(Z17:AC17)=4,1,"")) | AF17: =SUM(U17:X17) -> 2 | AG17: =IF(AF16<>AF17,AF16,IF(AF16=AF17,AG16,IF(AF16=AF15,AG16,AF16))) -> 1 | AH17: =IF(AF17=AG16,AH16,IF(AF17<>AF16,AG16,IF(AF16=AF15,AH16,IF(AF17=AF15,AH16,IF(AF16=AF17,AH16,SUM(U15:X15)))))) -> 3 | AJ17: =IF(E17="NB",AJ16,IF(E17="",0,IF(E17="l",AJ16+1,IF(E17="w",IF($P$2=0,0,IF(AND($P$2>0,AJ16>$P$2),AJ16-$P$2,0)))))) -> 1 | AK17: =VLOOKUP(AJ17,$R$2:S36,2,0) -> 1 | AM17: =IF(I17<=AM16,AM16,I17) -> 10 | AO17: =IF(E17="l",AO16+1,IF(E17="w",0,0)) -> 1 | AP17: =IF(AND(AO17=1,AO18=0),1,"") | AQ17: =IF(AND(AO17=2,AO18=0),1,"") | AR17: =IF(AND(AO17=3,AO18=0),1,"") | AS17: =IF(AND(AO17=4,AO18=0),1,"") | AT17: =IF(AND(AO17=5,AO18=0),1,"") | AU17: =IF(AND(AO17=6,AO18=0),1,"") | AV17: =IF(AND(AO17=7,AO18=0),1,"") | AW17: =IF(AND(AO17=8,AO18=0),1,"") | AX17: =IF(AND(AO17=9,AO18=0),1,"") | AY17: =IF(AND(AO17=10,AO18=0),1,"") | AZ17: =IF(AND(AO17=11,AO18=0),1,"") | BA17: =IF(AND(AO17=12,AO18=0),1,"") | BB17: =IF(AND(AO17=13,AO18=0),1,"") | BC17: =IF(AND(AO17=14,AO18=0),1,"") | BD17: =IF(AND(AO17=15,AO18=0),1,"") | BE17: =IF(AND(AO17=16,AO18=0),1,"") | BF17: =IF(AND(AO17=17,AO18=0),1,"") | BG17: =IF(AND(AO17=18,AO18=0),1,"") | BH17: =IF(AND(AO17=19,AO18=0),1,"") | BI17: =IF(AND(AO17=20,AO18=0),1,"") | BJ17: =IF(AND(AO17=21,AO18=0),1,"") | BK17: =IF(AND(AO17=22,AO18=0),1,"") | BL17: =IF(AND(AO17=23,AO18=0),1,"") | BM17: =IF(AND(AO17=24,AO18=0),1,"") | BN17: =IF(AND(AO17=25,AO18=0),1,"") | BO17: =IF(AND(AO17>25,AO18=0),1,"")
B18: 33 | C18: =IF(B18="","",VLOOKUP(B18,Tabelle2!$A$1:$B$37,2,0)) -> 3 | D18: =IF(B18="","",IF(B18=0,"NB",VLOOKUP(C18,Tabelle2!$D$1:$E$4,2,0))) -> 1 | E18: =IF(B18="","",IF(D17="NB","NB",IF(D17=C18,"W","L"))) -> L | F18: =IF(E18="","",AK17) -> 1 | G18: =IF(E18="NB",0,IF(E18="w",2,IF(E18="l",-1,""))) -> -1 | H18: =IF(E18="","",IF(E18="NB",0,G18*F18)) -> -1 | I18: =IF(E18="",0,I17+H18) -> 8 | J18: =IF(B18="","",IF(B18=0,"X","")) | L18: 9 | M18: =AX1001 -> 2 | R18: 16 | S18: 1 | U18: =IF(C18=1,1,"") | V18: =IF(C18=2,2,"") | W18: =IF(C18=3,3,"") -> 3 | X18: =IF(C18=4,4,"") | Z18: =IF(Z17=1,1,IF(U18=1,1,"")) -> 1 | AA18: =IF(AA17=1,1,IF(V18=2,1,"")) -> 1 | AB18: =IF(AB17=1,1,IF(W18=3,1,"")) -> 1 | AC18: =IF(AC17=1,1,IF(X18=4,1,"")) | AD18: =IF(OR(AD17=1,AD17=0),0,IF(SUM(Z18:AC18)=4,1,"")) | AF18: =SUM(U18:X18) -> 3 | AG18: =IF(AF17<>AF18,AF17,IF(AF17=AF18,AG17,IF(AF17=AF16,AG17,AF17))) -> 2 | AH18: =IF(AF18=AG17,AH17,IF(AF18<>AF17,AG17,IF(AF17=AF16,AH17,IF(AF18=AF16,AH17,IF(AF17=AF18,AH17,SUM(U16:X16)))))) -> 1 | AJ18: =IF(E18="NB",AJ17,IF(E18="",0,IF(E18="l",AJ17+1,IF(E18="w",IF($P$2=0,0,IF(AND($P$2>0,AJ17>$P$2),AJ17-$P$2,0)))))) -> 2 | AK18: =VLOOKUP(AJ18,$R$2:S37,2,0) -> 2 | AM18: =IF(I18<=AM17,AM17,I18) -> 10 | AO18: =IF(E18="l",AO17+1,IF(E18="w",0,0)) -> 2 | AP18: =IF(AND(AO18=1,AO19=0),1,"") | AQ18: =IF(AND(AO18=2,AO19=0),1,"") | AR18: =IF(AND(AO18=3,AO19=0),1,"") | AS18: =IF(AND(AO18=4,AO19=0),1,"") | AT18: =IF(AND(AO18=5,AO19=0),1,"") | AU18: =IF(AND(AO18=6,AO19=0),1,"") | AV18: =IF(AND(AO18=7,AO19=0),1,"") | AW18: =IF(AND(AO18=8,AO19=0),1,"") | AX18: =IF(AND(AO18=9,AO19=0),1,"") | AY18: =IF(AND(AO18=10,AO19=0),1,"") | AZ18: =IF(AND(AO18=11,AO19=0),1,"") | BA18: =IF(AND(AO18=12,AO19=0),1,"") | BB18: =IF(AND(AO18=13,AO19=0),1,"") | BC18: =IF(AND(AO18=14,AO19=0),1,"") | BD18: =IF(AND(AO18=15,AO19=0),1,"") | BE18: =IF(AND(AO18=16,AO19=0),1,"") | BF18: =IF(AND(AO18=17,AO19=0),1,"") | BG18: =IF(AND(AO18=18,AO19=0),1,"") | BH18: =IF(AND(AO18=19,AO19=0),1,"") | BI18: =IF(AND(AO18=20,AO19=0),1,"") | BJ18: =IF(AND(AO18=21,AO19=0),1,"") | BK18: =IF(AND(AO18=22,AO19=0),1,"") | BL18: =IF(AND(AO18=23,AO19=0),1,"") | BM18: =IF(AND(AO18=24,AO19=0),1,"") | BN18: =IF(AND(AO18=25,AO19=0),1,"") | BO18: =IF(AND(AO18>25,AO19=0),1,"")
B19: 34 | C19: =IF(B19="","",VLOOKUP(B19,Tabelle2!$A$1:$B$37,2,0)) -> 3 | D19: =IF(B19="","",IF(B19=0,"NB",VLOOKUP(C19,Tabelle2!$D$1:$E$4,2,0))) -> 1 | E19: =IF(B19="","",IF(D18="NB","NB",IF(D18=C19,"W","L"))) -> L | F19: =IF(E19="","",AK18) -> 2 | G19: =IF(E19="NB",0,IF(E19="w",2,IF(E19="l",-1,""))) -> -1 | H19: =IF(E19="","",IF(E19="NB",0,G19*F19)) -> -2 | I19: =IF(E19="",0,I18+H19) -> 6 | J19: =IF(B19="","",IF(B19=0,"X","")) | L19: 10 | M19: =AY1001 -> 0 | R19: 17 | S19: 1 | U19: =IF(C19=1,1,"") | V19: =IF(C19=2,2,"") | W19: =IF(C19=3,3,"") -> 3 | X19: =IF(C19=4,4,"") | Z19: =IF(Z18=1,1,IF(U19=1,1,"")) -> 1 | AA19: =IF(AA18=1,1,IF(V19=2,1,"")) -> 1 | AB19: =IF(AB18=1,1,IF(W19=3,1,"")) -> 1 | AC19: =IF(AC18=1,1,IF(X19=4,1,"")) | AD19: =IF(OR(AD18=1,AD18=0),0,IF(SUM(Z19:AC19)=4,1,"")) | AF19: =SUM(U19:X19) -> 3 | AG19: =IF(AF18<>AF19,AF18,IF(AF18=AF19,AG18,IF(AF18=AF17,AG18,AF18))) -> 2 | AH19: =IF(AF19=AG18,AH18,IF(AF19<>AF18,AG18,IF(AF18=AF17,AH18,IF(AF19=AF17,AH18,IF(AF18=AF19,AH18,SUM(U17:X17)))))) -> 1 | AJ19: =IF(E19="NB",AJ18,IF(E19="",0,IF(E19="l",AJ18+1,IF(E19="w",IF($P$2=0,0,IF(AND($P$2>0,AJ18>$P$2),AJ18-$P$2,0)))))) -> 3 | AK19: =VLOOKUP(AJ19,$R$2:S38,2,0) -> 3 | AM19: =IF(I19<=AM18,AM18,I19) -> 10 | AO19: =IF(E19="l",AO18+1,IF(E19="w",0,0)) -> 3 | AP19: =IF(AND(AO19=1,AO20=0),1,"") | AQ19: =IF(AND(AO19=2,AO20=0),1,"") | AR19: =IF(AND(AO19=3,AO20=0),1,"") | AS19: =IF(AND(AO19=4,AO20=0),1,"") | AT19: =IF(AND(AO19=5,AO20=0),1,"") | AU19: =IF(AND(AO19=6,AO20=0),1,"") | AV19: =IF(AND(AO19=7,AO20=0),1,"") | AW19: =IF(AND(AO19=8,AO20=0),1,"") | AX19: =IF(AND(AO19=9,AO20=0),1,"") | AY19: =IF(AND(AO19=10,AO20=0),1,"") | AZ19: =IF(AND(AO19=11,AO20=0),1,"") | BA19: =IF(AND(AO19=12,AO20=0),1,"") | BB19: =IF(AND(AO19=13,AO20=0),1,"") | BC19: =IF(AND(AO19=14,AO20=0),1,"") | BD19: =IF(AND(AO19=15,AO20=0),1,"") | BE19: =IF(AND(AO19=16,AO20=0),1,"") | BF19: =IF(AND(AO19=17,AO20=0),1,"") | BG19: =IF(AND(AO19=18,AO20=0),1,"") | BH19: =IF(AND(AO19=19,AO20=0),1,"") | BI19: =IF(AND(AO19=20,AO20=0),1,"") | BJ19: =IF(AND(AO19=21,AO20=0),1,"") | BK19: =IF(AND(AO19=22,AO20=0),1,"") | BL19: =IF(AND(AO19=23,AO20=0),1,"") | BM19: =IF(AND(AO19=24,AO20=0),1,"") | BN19: =IF(AND(AO19=25,AO20=0),1,"") | BO19: =IF(AND(AO19>25,AO20=0),1,"")
B20: 23 | C20: =IF(B20="","",VLOOKUP(B20,Tabelle2!$A$1:$B$37,2,0)) -> 2 | D20: =IF(B20="","",IF(B20=0,"NB",VLOOKUP(C20,Tabelle2!$D$1:$E$4,2,0))) -> 2 | E20: =IF(B20="","",IF(D19="NB","NB",IF(D19=C20,"W","L"))) -> L | F20: =IF(E20="","",AK19) -> 3 | G20: =IF(E20="NB",0,IF(E20="w",2,IF(E20="l",-1,""))) -> -1 | H20: =IF(E20="","",IF(E20="NB",0,G20*F20)) -> -3 | I20: =IF(E20="",0,I19+H20) -> 3 | J20: =IF(B20="","",IF(B20=0,"X","")) | L20: 11 | M20: =AZ1001 -> 1 | R20: 18 | S20: 1 | U20: =IF(C20=1,1,"") | V20: =IF(C20=2,2,"") -> 2 | W20: =IF(C20=3,3,"") | X20: =IF(C20=4,4,"") | Z20: =IF(Z19=1,1,IF(U20=1,1,"")) -> 1 | AA20: =IF(AA19=1,1,IF(V20=2,1,"")) -> 1 | AB20: =IF(AB19=1,1,IF(W20=3,1,"")) -> 1 | AC20: =IF(AC19=1,1,IF(X20=4,1,"")) | AD20: =IF(OR(AD19=1,AD19=0),0,IF(SUM(Z20:AC20)=4,1,"")) | AF20: =SUM(U20:X20) -> 2 | AG20: =IF(AF19<>AF20,AF19,IF(AF19=AF20,AG19,IF(AF19=AF18,AG19,AF19))) -> 3 | AH20: =IF(AF20=AG19,AH19,IF(AF20<>AF19,AG19,IF(AF19=AF18,AH19,IF(AF20=AF18,AH19,IF(AF19=AF20,AH19,SUM(U18:X18)))))) -> 1 | AJ20: =IF(E20="NB",AJ19,IF(E20="",0,IF(E20="l",AJ19+1,IF(E20="w",IF($P$2=0,0,IF(AND($P$2>0,AJ19>$P$2),AJ19-$P$2,0)))))) -> 4 | AK20: =VLOOKUP(AJ20,$R$2:S39,2,0) -> 7 | AM20: =IF(I20<=AM19,AM19,I20) -> 10 | AO20: =IF(E20="l",AO19+1,IF(E20="w",0,0)) -> 4 | AP20: =IF(AND(AO20=1,AO21=0),1,"") | AQ20: =IF(AND(AO20=2,AO21=0),1,"") | AR20: =IF(AND(AO20=3,AO21=0),1,"") | AS20: =IF(AND(AO20=4,AO21=0),1,"") -> 1 | AT20: =IF(AND(AO20=5,AO21=0),1,"") | AU20: =IF(AND(AO20=6,AO21=0),1,"") | AV20: =IF(AND(AO20=7,AO21=0),1,"") | AW20: =IF(AND(AO20=8,AO21=0),1,"") | AX20: =IF(AND(AO20=9,AO21=0),1,"") | AY20: =IF(AND(AO20=10,AO21=0),1,"") | AZ20: =IF(AND(AO20=11,AO21=0),1,"") | BA20: =IF(AND(AO20=12,AO21=0),1,"") | BB20: =IF(AND(AO20=13,AO21=0),1,"") | BC20: =IF(AND(AO20=14,AO21=0),1,"") | BD20: =IF(AND(AO20=15,AO21=0),1,"") | BE20: =IF(AND(AO20=16,AO21=0),1,"") | BF20: =IF(AND(AO20=17,AO21=0),1,"") | BG20: =IF(AND(AO20=18,AO21=0),1,"") | BH20: =IF(AND(AO20=19,AO21=0),1,"") | BI20: =IF(AND(AO20=20,AO21=0),1,"") | BJ20: =IF(AND(AO20=21,AO21=0),1,"") | BK20: =IF(AND(AO20=22,AO21=0),1,"") | BL20: =IF(AND(AO20=23,AO21=0),1,"") | BM20: =IF(AND(AO20=24,AO21=0),1,"") | BN20: =IF(AND(AO20=25,AO21=0),1,"") | BO20: =IF(AND(AO20>25,AO21=0),1,"")
B21: 19 | C21: =IF(B21="","",VLOOKUP(B21,Tabelle2!$A$1:$B$37,2,0)) -> 2 | D21: =IF(B21="","",IF(B21=0,"NB",VLOOKUP(C21,Tabelle2!$D$1:$E$4,2,0))) -> 2 | E21: =IF(B21="","",IF(D20="NB","NB",IF(D20=C21,"W","L"))) -> W | F21: =IF(E21="","",AK20) -> 7 | G21: =IF(E21="NB",0,IF(E21="w",2,IF(E21="l",-1,""))) -> 2 | H21: =IF(E21="","",IF(E21="NB",0,G21*F21)) -> 14 | I21: =IF(E21="",0,I20+H21) -> 17 | J21: =IF(B21="","",IF(B21=0,"X","")) | L21: 12 | M21: =BA1001 -> 0 | R21: 19 | S21: 1 | U21: =IF(C21=1,1,"") | V21: =IF(C21=2,2,"") -> 2 | W21: =IF(C21=3,3,"") | X21: =IF(C21=4,4,"") | Z21: =IF(Z20=1,1,IF(U21=1,1,"")) -> 1 | AA21: =IF(AA20=1,1,IF(V21=2,1,"")) -> 1 | AB21: =IF(AB20=1,1,IF(W21=3,1,"")) -> 1 | AC21: =IF(AC20=1,1,IF(X21=4,1,"")) | AD21: =IF(OR(AD20=1,AD20=0),0,IF(SUM(Z21:AC21)=4,1,"")) | AF21: =SUM(U21:X21) -> 2 | AG21: =IF(AF20<>AF21,AF20,IF(AF20=AF21,AG20,IF(AF20=AF19,AG20,AF20))) -> 3 | AH21: =IF(AF21=AG20,AH20,IF(AF21<>AF20,AG20,IF(AF20=AF19,AH20,IF(AF21=AF19,AH20,IF(AF20=AF21,AH20,SUM(U19:X19)))))) -> 1 | AJ21: =IF(E21="NB",AJ20,IF(E21="",0,IF(E21="l",AJ20+1,IF(E21="w",IF($P$2=0,0,IF(AND($P$2>0,AJ20>$P$2),AJ20-$P$2,0)))))) -> 0 | AK21: =VLOOKUP(AJ21,$R$2:S40,2,0) -> 1 | AM21: =IF(I21<=AM20,AM20,I21) -> 17 | AO21: =IF(E21="l",AO20+1,IF(E21="w",0,0)) -> 0 | AP21: =IF(AND(AO21=1,AO22=0),1,"") | AQ21: =IF(AND(AO21=2,AO22=0),1,"") | AR21: =IF(AND(AO21=3,AO22=0),1,"") | AS21: =IF(AND(AO21=4,AO22=0),1,"") | AT21: =IF(AND(AO21=5,AO22=0),1,"") | AU21: =IF(AND(AO21=6,AO22=0),1,"") | AV21: =IF(AND(AO21=7,AO22=0),1,"") | AW21: =IF(AND(AO21=8,AO22=0),1,"") | AX21: =IF(AND(AO21=9,AO22=0),1,"") | AY21: =IF(AND(AO21=10,AO22=0),1,"") | AZ21: =IF(AND(AO21=11,AO22=0),1,"") | BA21: =IF(AND(AO21=12,AO22=0),1,"") | BB21: =IF(AND(AO21=13,AO22=0),1,"") | BC21: =IF(AND(AO21=14,AO22=0),1,"") | BD21: =IF(AND(AO21=15,AO22=0),1,"") | BE21: =IF(AND(AO21=16,AO22=0),1,"") | BF21: =IF(AND(AO21=17,AO22=0),1,"") | BG21: =IF(AND(AO21=18,AO22=0),1,"") | BH21: =IF(AND(AO21=19,AO22=0),1,"") | BI21: =IF(AND(AO21=20,AO22=0),1,"") | BJ21: =IF(AND(AO21=21,AO22=0),1,"") | BK21: =IF(AND(AO21=22,AO22=0),1,"") | BL21: =IF(AND(AO21=23,AO22=0),1,"") | BM21: =IF(AND(AO21=24,AO22=0),1,"") | BN21: =IF(AND(AO21=25,AO22=0),1,"") | BO21: =IF(AND(AO21>25,AO22=0),1,"")
B22: 18 | C22: =IF(B22="","",VLOOKUP(B22,Tabelle2!$A$1:$B$37,2,0)) -> 2 | D22: =IF(B22="","",IF(B22=0,"NB",VLOOKUP(C22,Tabelle2!$D$1:$E$4,2,0))) -> 2 | E22: =IF(B22="","",IF(D21="NB","NB",IF(D21=C22,"W","L"))) -> W | F22: =IF(E22="","",AK21) -> 1 | G22: =IF(E22="NB",0,IF(E22="w",2,IF(E22="l",-1,""))) -> 2 | H22: =IF(E22="","",IF(E22="NB",0,G22*F22)) -> 2 | I22: =IF(E22="",0,I21+H22) -> 19 | J22: =IF(B22="","",IF(B22=0,"X","")) | L22: 13 | M22: =BB1001 -> 2 | R22: 20 | S22: 1 | U22: =IF(C22=1,1,"") | V22: =IF(C22=2,2,"") -> 2 | W22: =IF(C22=3,3,"") | X22: =IF(C22=4,4,"") | Z22: =IF(Z21=1,1,IF(U22=1,1,"")) -> 1 | AA22: =IF(AA21=1,1,IF(V22=2,1,"")) -> 1 | AB22: =IF(AB21=1,1,IF(W22=3,1,"")) -> 1 | AC22: =IF(AC21=1,1,IF(X22=4,1,"")) | AD22: =IF(OR(AD21=1,AD21=0),0,IF(SUM(Z22:AC22)=4,1,"")) | AF22: =SUM(U22:X22) -> 2 | AG22: =IF(AF21<>AF22,AF21,IF(AF21=AF22,AG21,IF(AF21=AF20,AG21,AF21))) -> 3 | AH22: =IF(AF22=AG21,AH21,IF(AF22<>AF21,AG21,IF(AF21=AF20,AH21,IF(AF22=AF20,AH21,IF(AF21=AF22,AH21,SUM(U20:X20)))))) -> 1 | AJ22: =IF(E22="NB",AJ21,IF(E22="",0,IF(E22="l",AJ21+1,IF(E22="w",IF($P$2=0,0,IF(AND($P$2>0,AJ21>$P$2),AJ21-$P$2,0)))))) -> 0 | AK22: =VLOOKUP(AJ22,$R$2:S41,2,0) -> 1 | AM22: =IF(I22<=AM21,AM21,I22) -> 19 | AO22: =IF(E22="l",AO21+1,IF(E22="w",0,0)) -> 0 | AP22: =IF(AND(AO22=1,AO23=0),1,"") | AQ22: =IF(AND(AO22=2,AO23=0),1,"") | AR22: =IF(AND(AO22=3,AO23=0),1,"") | AS22: =IF(AND(AO22=4,AO23=0),1,"") | AT22: =IF(AND(AO22=5,AO23=0),1,"") | AU22: =IF(AND(AO22=6,AO23=0),1,"") | AV22: =IF(AND(AO22=7,AO23=0),1,"") | AW22: =IF(AND(AO22=8,AO23=0),1,"") | AX22: =IF(AND(AO22=9,AO23=0),1,"") | AY22: =IF(AND(AO22=10,AO23=0),1,"") | AZ22: =IF(AND(AO22=11,AO23=0),1,"") | BA22: =IF(AND(AO22=12,AO23=0),1,"") | BB22: =IF(AND(AO22=13,AO23=0),1,"") | BC22: =IF(AND(AO22=14,AO23=0),1,"") | BD22: =IF(AND(AO22=15,AO23=0),1,"") | BE22: =IF(AND(AO22=16,AO23=0),1,"") | BF22: =IF(AND(AO22=17,AO23=0),1,"") | BG22: =IF(AND(AO22=18,AO23=0),1,"") | BH22: =IF(AND(AO22=19,AO23=0),1,"") | BI22: =IF(AND(AO22=20,AO23=0),1,"") | BJ22: =IF(AND(AO22=21,AO23=0),1,"") | BK22: =IF(AND(AO22=22,AO23=0),1,"") | BL22: =IF(AND(AO22=23,AO23=0),1,"") | BM22: =IF(AND(AO22=24,AO23=0),1,"") | BN22: =IF(AND(AO22=25,AO23=0),1,"") | BO22: =IF(AND(AO22>25,AO23=0),1,"")
B23: 31 | C23: =IF(B23="","",VLOOKUP(B23,Tabelle2!$A$1:$B$37,2,0)) -> 3 | D23: =IF(B23="","",IF(B23=0,"NB",VLOOKUP(C23,Tabelle2!$D$1:$E$4,2,0))) -> 1 | E23: =IF(B23="","",IF(D22="NB","NB",IF(D22=C23,"W","L"))) -> L | F23: =IF(E23="","",AK22) -> 1 | G23: =IF(E23="NB",0,IF(E23="w",2,IF(E23="l",-1,""))) -> -1 | H23: =IF(E23="","",IF(E23="NB",0,G23*F23)) -> -1 | I23: =IF(E23="",0,I22+H23) -> 18 | J23: =IF(B23="","",IF(B23=0,"X","")) | L23: 14 | M23: =BC1001 -> 0 | U23: =IF(C23=1,1,"") | V23: =IF(C23=2,2,"") | W23: =IF(C23=3,3,"") -> 3 | X23: =IF(C23=4,4,"") | Z23: =IF(Z22=1,1,IF(U23=1,1,"")) -> 1 | AA23: =IF(AA22=1,1,IF(V23=2,1,"")) -> 1 | AB23: =IF(AB22=1,1,IF(W23=3,1,"")) -> 1 | AC23: =IF(AC22=1,1,IF(X23=4,1,"")) | AD23: =IF(OR(AD22=1,AD22=0),0,IF(SUM(Z23:AC23)=4,1,"")) | AF23: =SUM(U23:X23) -> 3 | AG23: =IF(AF22<>AF23,AF22,IF(AF22=AF23,AG22,IF(AF22=AF21,AG22,AF22))) -> 2 | AH23: =IF(AF23=AG22,AH22,IF(AF23<>AF22,AG22,IF(AF22=AF21,AH22,IF(AF23=AF21,AH22,IF(AF22=AF23,AH22,SUM(U21:X21)))))) -> 1 | AJ23: =IF(E23="NB",AJ22,IF(E23="",0,IF(E23="l",AJ22+1,IF(E23="w",IF($P$2=0,0,IF(AND($P$2>0,AJ22>$P$2),AJ22-$P$2,0)))))) -> 1 | AK23: =VLOOKUP(AJ23,$R$2:S42,2,0) -> 1 | AM23: =IF(I23<=AM22,AM22,I23) -> 19 | AO23: =IF(E23="l",AO22+1,IF(E23="w",0,0)) -> 1 | AP23: =IF(AND(AO23=1,AO24=0),1,"") | AQ23: =IF(AND(AO23=2,AO24=0),1,"") | AR23: =IF(AND(AO23=3,AO24=0),1,"") | AS23: =IF(AND(AO23=4,AO24=0),1,"") | AT23: =IF(AND(AO23=5,AO24=0),1,"") | AU23: =IF(AND(AO23=6,AO24=0),1,"") | AV23: =IF(AND(AO23=7,AO24=0),1,"") | AW23: =IF(AND(AO23=8,AO24=0),1,"") | AX23: =IF(AND(AO23=9,AO24=0),1,"") | AY23: =IF(AND(AO23=10,AO24=0),1,"") | AZ23: =IF(AND(AO23=11,AO24=0),1,"") | BA23: =IF(AND(AO23=12,AO24=0),1,"") | BB23: =IF(AND(AO23=13,AO24=0),1,"") | BC23: =IF(AND(AO23=14,AO24=0),1,"") | BD23: =IF(AND(AO23=15,AO24=0),1,"") | BE23: =IF(AND(AO23=16,AO24=0),1,"") | BF23: =IF(AND(AO23=17,AO24=0),1,"") | BG23: =IF(AND(AO23=18,AO24=0),1,"") | BH23: =IF(AND(AO23=19,AO24=0),1,"") | BI23: =IF(AND(AO23=20,AO24=0),1,"") | BJ23: =IF(AND(AO23=21,AO24=0),1,"") | BK23: =IF(AND(AO23=22,AO24=0),1,"") | BL23: =IF(AND(AO23=23,AO24=0),1,"") | BM23: =IF(AND(AO23=24,AO24=0),1,"") | BN23: =IF(AND(AO23=25,AO24=0),1,"") | BO23: =IF(AND(AO23>25,AO24=0),1,"")
B24: 34 | C24: =IF(B24="","",VLOOKUP(B24,Tabelle2!$A$1:$B$37,2,0)) -> 3 | D24: =IF(B24="","",IF(B24=0,"NB",VLOOKUP(C24,Tabelle2!$D$1:$E$4,2,0))) -> 1 | E24: =IF(B24="","",IF(D23="NB","NB",IF(D23=C24,"W","L"))) -> L | F24: =IF(E24="","",AK23) -> 1 | G24: =IF(E24="NB",0,IF(E24="w",2,IF(E24="l",-1,""))) -> -1 | H24: =IF(E24="","",IF(E24="NB",0,G24*F24)) -> -1 | I24: =IF(E24="",0,I23+H24) -> 17 | J24: =IF(B24="","",IF(B24=0,"X","")) | L24: 15 | M24: =BD1001 -> 1 | U24: =IF(C24=1,1,"") | V24: =IF(C24=2,2,"") | W24: =IF(C24=3,3,"") -> 3 | X24: =IF(C24=4,4,"") | Z24: =IF(Z23=1,1,IF(U24=1,1,"")) -> 1 | AA24: =IF(AA23=1,1,IF(V24=2,1,"")) -> 1 | AB24: =IF(AB23=1,1,IF(W24=3,1,"")) -> 1 | AC24: =IF(AC23=1,1,IF(X24=4,1,"")) | AD24: =IF(OR(AD23=1,AD23=0),0,IF(SUM(Z24:AC24)=4,1,"")) | AF24: =SUM(U24:X24) -> 3 | AG24: =IF(AF23<>AF24,AF23,IF(AF23=AF24,AG23,IF(AF23=AF22,AG23,AF23))) -> 2 | AH24: =IF(AF24=AG23,AH23,IF(AF24<>AF23,AG23,IF(AF23=AF22,AH23,IF(AF24=AF22,AH23,IF(AF23=AF24,AH23,SUM(U22:X22)))))) -> 1 | AJ24: =IF(E24="NB",AJ23,IF(E24="",0,IF(E24="l",AJ23+1,IF(E24="w",IF($P$2=0,0,IF(AND($P$2>0,AJ23>$P$2),AJ23-$P$2,0)))))) -> 2 | AK24: =VLOOKUP(AJ24,$R$2:S43,2,0) -> 2 | AM24: =IF(I24<=AM23,AM23,I24) -> 19 | AO24: =IF(E24="l",AO23+1,IF(E24="w",0,0)) -> 2 | AP24: =IF(AND(AO24=1,AO25=0),1,"") | AQ24: =IF(AND(AO24=2,AO25=0),1,"") -> 1 | AR24: =IF(AND(AO24=3,AO25=0),1,"") | AS24: =IF(AND(AO24=4,AO25=0),1,"") | AT24: =IF(AND(AO24=5,AO25=0),1,"") | AU24: =IF(AND(AO24=6,AO25=0),1,"") | AV24: =IF(AND(AO24=7,AO25=0),1,"") | AW24: =IF(AND(AO24=8,AO25=0),1,"") | AX24: =IF(AND(AO24=9,AO25=0),1,"") | AY24: =IF(AND(AO24=10,AO25=0),1,"") | AZ24: =IF(AND(AO24=11,AO25=0),1,"") | BA24: =IF(AND(AO24=12,AO25=0),1,"") | BB24: =IF(AND(AO24=13,AO25=0),1,"") | BC24: =IF(AND(AO24=14,AO25=0),1,"") | BD24: =IF(AND(AO24=15,AO25=0),1,"") | BE24: =IF(AND(AO24=16,AO25=0),1,"") | BF24: =IF(AND(AO24=17,AO25=0),1,"") | BG24: =IF(AND(AO24=18,AO25=0),1,"") | BH24: =IF(AND(AO24=19,AO25=0),1,"") | BI24: =IF(AND(AO24=20,AO25=0),1,"") | BJ24: =IF(AND(AO24=21,AO25=0),1,"") | BK24: =IF(AND(AO24=22,AO25=0),1,"") | BL24: =IF(AND(AO24=23,AO25=0),1,"") | BM24: =IF(AND(AO24=24,AO25=0),1,"") | BN24: =IF(AND(AO24=25,AO25=0),1,"") | BO24: =IF(AND(AO24>25,AO25=0),1,"")
B25: 6 | C25: =IF(B25="","",VLOOKUP(B25,Tabelle2!$A$1:$B$37,2,0)) -> 1 | D25: =IF(B25="","",IF(B25=0,"NB",VLOOKUP(C25,Tabelle2!$D$1:$E$4,2,0))) -> 3 | E25: =IF(B25="","",IF(D24="NB","NB",IF(D24=C25,"W","L"))) -> W | F25: =IF(E25="","",AK24) -> 2 | G25: =IF(E25="NB",0,IF(E25="w",2,IF(E25="l",-1,""))) -> 2 | H25: =IF(E25="","",IF(E25="NB",0,G25*F25)) -> 4 | I25: =IF(E25="",0,I24+H25) -> 21 | J25: =IF(B25="","",IF(B25=0,"X","")) | L25: 16 | M25: =BE1001 -> 0 | U25: =IF(C25=1,1,"") -> 1 | V25: =IF(C25=2,2,"") | W25: =IF(C25=3,3,"") | X25: =IF(C25=4,4,"") | Z25: =IF(Z24=1,1,IF(U25=1,1,"")) -> 1 | AA25: =IF(AA24=1,1,IF(V25=2,1,"")) -> 1 | AB25: =IF(AB24=1,1,IF(W25=3,1,"")) -> 1 | AC25: =IF(AC24=1,1,IF(X25=4,1,"")) | AD25: =IF(OR(AD24=1,AD24=0),0,IF(SUM(Z25:AC25)=4,1,"")) | AF25: =SUM(U25:X25) -> 1 | AG25: =IF(AF24<>AF25,AF24,IF(AF24=AF25,AG24,IF(AF24=AF23,AG24,AF24))) -> 3 | AH25: =IF(AF25=AG24,AH24,IF(AF25<>AF24,AG24,IF(AF24=AF23,AH24,IF(AF25=AF23,AH24,IF(AF24=AF25,AH24,SUM(U23:X23)))))) -> 2 | AJ25: =IF(E25="NB",AJ24,IF(E25="",0,IF(E25="l",AJ24+1,IF(E25="w",IF($P$2=0,0,IF(AND($P$2>0,AJ24>$P$2),AJ24-$P$2,0)))))) -> 0 | AK25: =VLOOKUP(AJ25,$R$2:S44,2,0) -> 1 | AM25: =IF(I25<=AM24,AM24,I25) -> 21 | AO25: =IF(E25="l",AO24+1,IF(E25="w",0,0)) -> 0 | AP25: =IF(AND(AO25=1,AO26=0),1,"") | AQ25: =IF(AND(AO25=2,AO26=0),1,"") | AR25: =IF(AND(AO25=3,AO26=0),1,"") | AS25: =IF(AND(AO25=4,AO26=0),1,"") | AT25: =IF(AND(AO25=5,AO26=0),1,"") | AU25: =IF(AND(AO25=6,AO26=0),1,"") | AV25: =IF(AND(AO25=7,AO26=0),1,"") | AW25: =IF(AND(AO25=8,AO26=0),1,"") | AX25: =IF(AND(AO25=9,AO26=0),1,"") | AY25: =IF(AND(AO25=10,AO26=0),1,"") | AZ25: =IF(AND(AO25=11,AO26=0),1,"") | BA25: =IF(AND(AO25=12,AO26=0),1,"") | BB25: =IF(AND(AO25=13,AO26=0),1,"") | BC25: =IF(AND(AO25=14,AO26=0),1,"") | BD25: =IF(AND(AO25=15,AO26=0),1,"") | BE25: =IF(AND(AO25=16,AO26=0),1,"") | BF25: =IF(AND(AO25=17,AO26=0),1,"") | BG25: =IF(AND(AO25=18,AO26=0),1,"") | BH25: =IF(AND(AO25=19,AO26=0),1,"") | BI25: =IF(AND(AO25=20,AO26=0),1,"") | BJ25: =IF(AND(AO25=21,AO26=0),1,"") | BK25: =IF(AND(AO25=22,AO26=0),1,"") | BL25: =IF(AND(AO25=23,AO26=0),1,"") | BM25: =IF(AND(AO25=24,AO26=0),1,"") | BN25: =IF(AND(AO25=25,AO26=0),1,"") | BO25: =IF(AND(AO25>25,AO26=0),1,"")
B26: 8 | C26: =IF(B26="","",VLOOKUP(B26,Tabelle2!$A$1:$B$37,2,0)) -> 1 | D26: =IF(B26="","",IF(B26=0,"NB",VLOOKUP(C26,Tabelle2!$D$1:$E$4,2,0))) -> 3 | E26: =IF(B26="","",IF(D25="NB","NB",IF(D25=C26,"W","L"))) -> L | F26: =IF(E26="","",AK25) -> 1 | G26: =IF(E26="NB",0,IF(E26="w",2,IF(E26="l",-1,""))) -> -1 | H26: =IF(E26="","",IF(E26="NB",0,G26*F26)) -> -1 | I26: =IF(E26="",0,I25+H26) -> 20 | J26: =IF(B26="","",IF(B26=0,"X","")) | L26: 17 | M26: =BF1001 -> 0 | U26: =IF(C26=1,1,"") -> 1 | V26: =IF(C26=2,2,"") | W26: =IF(C26=3,3,"") | X26: =IF(C26=4,4,"") | Z26: =IF(Z25=1,1,IF(U26=1,1,"")) -> 1 | AA26: =IF(AA25=1,1,IF(V26=2,1,"")) -> 1 | AB26: =IF(AB25=1,1,IF(W26=3,1,"")) -> 1 | AC26: =IF(AC25=1,1,IF(X26=4,1,"")) | AD26: =IF(OR(AD25=1,AD25=0),0,IF(SUM(Z26:AC26)=4,1,"")) | AF26: =SUM(U26:X26) -> 1 | AG26: =IF(AF25<>AF26,AF25,IF(AF25=AF26,AG25,IF(AF25=AF24,AG25,AF25))) -> 3 | AH26: =IF(AF26=AG25,AH25,IF(AF26<>AF25,AG25,IF(AF25=AF24,AH25,IF(AF26=AF24,AH25,IF(AF25=AF26,AH25,SUM(U24:X24)))))) -> 2 | AJ26: =IF(E26="NB",AJ25,IF(E26="",0,IF(E26="l",AJ25+1,IF(E26="w",IF($P$2=0,0,IF(AND($P$2>0,AJ25>$P$2),AJ25-$P$2,0)))))) -> 1 | AK26: =VLOOKUP(AJ26,$R$2:S45,2,0) -> 1 | AM26: =IF(I26<=AM25,AM25,I26) -> 21 | AO26: =IF(E26="l",AO25+1,IF(E26="w",0,0)) -> 1 | AP26: =IF(AND(AO26=1,AO27=0),1,"") -> 1 | AQ26: =IF(AND(AO26=2,AO27=0),1,"") | AR26: =IF(AND(AO26=3,AO27=0),1,"") | AS26: =IF(AND(AO26=4,AO27=0),1,"") | AT26: =IF(AND(AO26=5,AO27=0),1,"") | AU26: =IF(AND(AO26=6,AO27=0),1,"") | AV26: =IF(AND(AO26=7,AO27=0),1,"") | AW26: =IF(AND(AO26=8,AO27=0),1,"") | AX26: =IF(AND(AO26=9,AO27=0),1,"") | AY26: =IF(AND(AO26=10,AO27=0),1,"") | AZ26: =IF(AND(AO26=11,AO27=0),1,"") | BA26: =IF(AND(AO26=12,AO27=0),1,"") | BB26: =IF(AND(AO26=13,AO27=0),1,"") | BC26: =IF(AND(AO26=14,AO27=0),1,"") | BD26: =IF(AND(AO26=15,AO27=0),1,"") | BE26: =IF(AND(AO26=16,AO27=0),1,"") | BF26: =IF(AND(AO26=17,AO27=0),1,"") | BG26: =IF(AND(AO26=18,AO27=0),1,"") | BH26: =IF(AND(AO26=19,AO27=0),1,"") | BI26: =IF(AND(AO26=20,AO27=0),1,"") | BJ26: =IF(AND(AO26=21,AO27=0),1,"") | BK26: =IF(AND(AO26=22,AO27=0),1,"") | BL26: =IF(AND(AO26=23,AO27=0),1,"") | BM26: =IF(AND(AO26=24,AO27=0),1,"") | BN26: =IF(AND(AO26=25,AO27=0),1,"") | BO26: =IF(AND(AO26>25,AO27=0),1,"")
B27: 27 | C27: =IF(B27="","",VLOOKUP(B27,Tabelle2!$A$1:$B$37,2,0)) -> 3 | D27: =IF(B27="","",IF(B27=0,"NB",VLOOKUP(C27,Tabelle2!$D$1:$E$4,2,0))) -> 1 | E27: =IF(B27="","",IF(D26="NB","NB",IF(D26=C27,"W","L"))) -> W | F27: =IF(E27="","",AK26) -> 1 | G27: =IF(E27="NB",0,IF(E27="w",2,IF(E27="l",-1,""))) -> 2 | H27: =IF(E27="","",IF(E27="NB",0,G27*F27)) -> 2 | I27: =IF(E27="",0,I26+H27) -> 22 | J27: =IF(B27="","",IF(B27=0,"X","")) | L27: 18 | M27: =BG1001 -> 0 | U27: =IF(C27=1,1,"") | V27: =IF(C27=2,2,"") | W27: =IF(C27=3,3,"") -> 3 | X27: =IF(C27=4,4,"") | Z27: =IF(Z26=1,1,IF(U27=1,1,"")) -> 1 | AA27: =IF(AA26=1,1,IF(V27=2,1,"")) -> 1 | AB27: =IF(AB26=1,1,IF(W27=3,1,"")) -> 1 | AC27: =IF(AC26=1,1,IF(X27=4,1,"")) | AD27: =IF(OR(AD26=1,AD26=0),0,IF(SUM(Z27:AC27)=4,1,"")) | AF27: =SUM(U27:X27) -> 3 | AG27: =IF(AF26<>AF27,AF26,IF(AF26=AF27,AG26,IF(AF26=AF25,AG26,AF26))) -> 1 | AH27: =IF(AF27=AG26,AH26,IF(AF27<>AF26,AG26,IF(AF26=AF25,AH26,IF(AF27=AF25,AH26,IF(AF26=AF27,AH26,SUM(U25:X25)))))) -> 2 | AJ27: =IF(E27="NB",AJ26,IF(E27="",0,IF(E27="l",AJ26+1,IF(E27="w",IF($P$2=0,0,IF(AND($P$2>0,AJ26>$P$2),AJ26-$P$2,0)))))) -> 0 | AK27: =VLOOKUP(AJ27,$R$2:S46,2,0) -> 1 | AM27: =IF(I27<=AM26,AM26,I27) -> 22 | AO27: =IF(E27="l",AO26+1,IF(E27="w",0,0)) -> 0 | AP27: =IF(AND(AO27=1,AO28=0),1,"") | AQ27: =IF(AND(AO27=2,AO28=0),1,"") | AR27: =IF(AND(AO27=3,AO28=0),1,"") | AS27: =IF(AND(AO27=4,AO28=0),1,"") | AT27: =IF(AND(AO27=5,AO28=0),1,"") | AU27: =IF(AND(AO27=6,AO28=0),1,"") | AV27: =IF(AND(AO27=7,AO28=0),1,"") | AW27: =IF(AND(AO27=8,AO28=0),1,"") | AX27: =IF(AND(AO27=9,AO28=0),1,"") | AY27: =IF(AND(AO27=10,AO28=0),1,"") | AZ27: =IF(AND(AO27=11,AO28=0),1,"") | BA27: =IF(AND(AO27=12,AO28=0),1,"") | BB27: =IF(AND(AO27=13,AO28=0),1,"") | BC27: =IF(AND(AO27=14,AO28=0),1,"") | BD27: =IF(AND(AO27=15,AO28=0),1,"") | BE27: =IF(AND(AO27=16,AO28=0),1,"") | BF27: =IF(AND(AO27=17,AO28=0),1,"") | BG27: =IF(AND(AO27=18,AO28=0),1,"") | BH27: =IF(AND(AO27=19,AO28=0),1,"") | BI27: =IF(AND(AO27=20,AO28=0),1,"") | BJ27: =IF(AND(AO27=21,AO28=0),1,"") | BK27: =IF(AND(AO27=22,AO28=0),1,"") | BL27: =IF(AND(AO27=23,AO28=0),1,"") | BM27: =IF(AND(AO27=24,AO28=0),1,"") | BN27: =IF(AND(AO27=25,AO28=0),1,"") | BO27: =IF(AND(AO27>25,AO28=0),1,"")
B28: 13 | C28: =IF(B28="","",VLOOKUP(B28,Tabelle2!$A$1:$B$37,2,0)) -> 2 | D28: =IF(B28="","",IF(B28=0,"NB",VLOOKUP(C28,Tabelle2!$D$1:$E$4,2,0))) -> 2 | E28: =IF(B28="","",IF(D27="NB","NB",IF(D27=C28,"W","L"))) -> L | F28: =IF(E28="","",AK27) -> 1 | G28: =IF(E28="NB",0,IF(E28="w",2,IF(E28="l",-1,""))) -> -1 | H28: =IF(E28="","",IF(E28="NB",0,G28*F28)) -> -1 | I28: =IF(E28="",0,I27+H28) -> 21 | J28: =IF(B28="","",IF(B28=0,"X","")) | L28: 19 | M28: =BH1001 -> 0 | U28: =IF(C28=1,1,"") | V28: =IF(C28=2,2,"") -> 2 | W28: =IF(C28=3,3,"") | X28: =IF(C28=4,4,"") | Z28: =IF(Z27=1,1,IF(U28=1,1,"")) -> 1 | AA28: =IF(AA27=1,1,IF(V28=2,1,"")) -> 1 | AB28: =IF(AB27=1,1,IF(W28=3,1,"")) -> 1 | AC28: =IF(AC27=1,1,IF(X28=4,1,"")) | AD28: =IF(OR(AD27=1,AD27=0),0,IF(SUM(Z28:AC28)=4,1,"")) | AF28: =SUM(U28:X28) -> 2 | AG28: =IF(AF27<>AF28,AF27,IF(AF27=AF28,AG27,IF(AF27=AF26,AG27,AF27))) -> 3 | AH28: =IF(AF28=AG27,AH27,IF(AF28<>AF27,AG27,IF(AF27=AF26,AH27,IF(AF28=AF26,AH27,IF(AF27=AF28,AH27,SUM(U26:X26)))))) -> 1 | AJ28: =IF(E28="NB",AJ27,IF(E28="",0,IF(E28="l",AJ27+1,IF(E28="w",IF($P$2=0,0,IF(AND($P$2>0,AJ27>$P$2),AJ27-$P$2,0)))))) -> 1 | AK28: =VLOOKUP(AJ28,$R$2:S47,2,0) -> 1 | AM28: =IF(I28<=AM27,AM27,I28) -> 22 | AO28: =IF(E28="l",AO27+1,IF(E28="w",0,0)) -> 1 | AP28: =IF(AND(AO28=1,AO29=0),1,"") | AQ28: =IF(AND(AO28=2,AO29=0),1,"") | AR28: =IF(AND(AO28=3,AO29=0),1,"") | AS28: =IF(AND(AO28=4,AO29=0),1,"") | AT28: =IF(AND(AO28=5,AO29=0),1,"") | AU28: =IF(AND(AO28=6,AO29=0),1,"") | AV28: =IF(AND(AO28=7,AO29=0),1,"") | AW28: =IF(AND(AO28=8,AO29=0),1,"") | AX28: =IF(AND(AO28=9,AO29=0),1,"") | AY28: =IF(AND(AO28=10,AO29=0),1,"") | AZ28: =IF(AND(AO28=11,AO29=0),1,"") | BA28: =IF(AND(AO28=12,AO29=0),1,"") | BB28: =IF(AND(AO28=13,AO29=0),1,"") | BC28: =IF(AND(AO28=14,AO29=0),1,"") | BD28: =IF(AND(AO28=15,AO29=0),1,"") | BE28: =IF(AND(AO28=16,AO29=0),1,"") | BF28: =IF(AND(AO28=17,AO29=0),1,"") | BG28: =IF(AND(AO28=18,AO29=0),1,"") | BH28: =IF(AND(AO28=19,AO29=0),1,"") | BI28: =IF(AND(AO28=20,AO29=0),1,"") | BJ28: =IF(AND(AO28=21,AO29=0),1,"") | BK28: =IF(AND(AO28=22,AO29=0),1,"") | BL28: =IF(AND(AO28=23,AO29=0),1,"") | BM28: =IF(AND(AO28=24,AO29=0),1,"") | BN28: =IF(AND(AO28=25,AO29=0),1,"") | BO28: =IF(AND(AO28>25,AO29=0),1,"")
B29: 12 | C29: =IF(B29="","",VLOOKUP(B29,Tabelle2!$A$1:$B$37,2,0)) -> 1 | D29: =IF(B29="","",IF(B29=0,"NB",VLOOKUP(C29,Tabelle2!$D$1:$E$4,2,0))) -> 3 | E29: =IF(B29="","",IF(D28="NB","NB",IF(D28=C29,"W","L"))) -> L | F29: =IF(E29="","",AK28) -> 1 | G29: =IF(E29="NB",0,IF(E29="w",2,IF(E29="l",-1,""))) -> -1 | H29: =IF(E29="","",IF(E29="NB",0,G29*F29)) -> -1 | I29: =IF(E29="",0,I28+H29) -> 20 | J29: =IF(B29="","",IF(B29=0,"X","")) | L29: 20 | M29: =BI1001 -> 0 | U29: =IF(C29=1,1,"") -> 1 | V29: =IF(C29=2,2,"") | W29: =IF(C29=3,3,"") | X29: =IF(C29=4,4,"") | Z29: =IF(Z28=1,1,IF(U29=1,1,"")) -> 1 | AA29: =IF(AA28=1,1,IF(V29=2,1,"")) -> 1 | AB29: =IF(AB28=1,1,IF(W29=3,1,"")) -> 1 | AC29: =IF(AC28=1,1,IF(X29=4,1,"")) | AD29: =IF(OR(AD28=1,AD28=0),0,IF(SUM(Z29:AC29)=4,1,"")) | AF29: =SUM(U29:X29) -> 1 | AG29: =IF(AF28<>AF29,AF28,IF(AF28=AF29,AG28,IF(AF28=AF27,AG28,AF28))) -> 2 | AH29: =IF(AF29=AG28,AH28,IF(AF29<>AF28,AG28,IF(AF28=AF27,AH28,IF(AF29=AF27,AH28,IF(AF28=AF29,AH28,SUM(U27:X27)))))) -> 3 | AJ29: =IF(E29="NB",AJ28,IF(E29="",0,IF(E29="l",AJ28+1,IF(E29="w",IF($P$2=0,0,IF(AND($P$2>0,AJ28>$P$2),AJ28-$P$2,0)))))) -> 2 | AK29: =VLOOKUP(AJ29,$R$2:S48,2,0) -> 2 | AM29: =IF(I29<=AM28,AM28,I29) -> 22 | AO29: =IF(E29="l",AO28+1,IF(E29="w",0,0)) -> 2 | AP29: =IF(AND(AO29=1,AO30=0),1,"") | AQ29: =IF(AND(AO29=2,AO30=0),1,"") | AR29: =IF(AND(AO29=3,AO30=0),1,"") | AS29: =IF(AND(AO29=4,AO30=0),1,"") | AT29: =IF(AND(AO29=5,AO30=0),1,"") | AU29: =IF(AND(AO29=6,AO30=0),1,"") | AV29: =IF(AND(AO29=7,AO30=0),1,"") | AW29: =IF(AND(AO29=8,AO30=0),1,"") | AX29: =IF(AND(AO29=9,AO30=0),1,"") | AY29: =IF(AND(AO29=10,AO30=0),1,"") | AZ29: =IF(AND(AO29=11,AO30=0),1,"") | BA29: =IF(AND(AO29=12,AO30=0),1,"") | BB29: =IF(AND(AO29=13,AO30=0),1,"") | BC29: =IF(AND(AO29=14,AO30=0),1,"") | BD29: =IF(AND(AO29=15,AO30=0),1,"") | BE29: =IF(AND(AO29=16,AO30=0),1,"") | BF29: =IF(AND(AO29=17,AO30=0),1,"") | BG29: =IF(AND(AO29=18,AO30=0),1,"") | BH29: =IF(AND(AO29=19,AO30=0),1,"") | BI29: =IF(AND(AO29=20,AO30=0),1,"") | BJ29: =IF(AND(AO29=21,AO30=0),1,"") | BK29: =IF(AND(AO29=22,AO30=0),1,"") | BL29: =IF(AND(AO29=23,AO30=0),1,"") | BM29: =IF(AND(AO29=24,AO30=0),1,"") | BN29: =IF(AND(AO29=25,AO30=0),1,"") | BO29: =IF(AND(AO29>25,AO30=0),1,"")
B30: 11 | C30: =IF(B30="","",VLOOKUP(B30,Tabelle2!$A$1:$B$37,2,0)) -> 1 | D30: =IF(B30="","",IF(B30=0,"NB",VLOOKUP(C30,Tabelle2!$D$1:$E$4,2,0))) -> 3 | E30: =IF(B30="","",IF(D29="NB","NB",IF(D29=C30,"W","L"))) -> L | F30: =IF(E30="","",AK29) -> 2 | G30: =IF(E30="NB",0,IF(E30="w",2,IF(E30="l",-1,""))) -> -1 | H30: =IF(E30="","",IF(E30="NB",0,G30*F30)) -> -2 | I30: =IF(E30="",0,I29+H30) -> 18 | J30: =IF(B30="","",IF(B30=0,"X","")) | L30: 21 | M30: =BJ1001 -> 0 | U30: =IF(C30=1,1,"") -> 1 | V30: =IF(C30=2,2,"") | W30: =IF(C30=3,3,"") | X30: =IF(C30=4,4,"") | Z30: =IF(Z29=1,1,IF(U30=1,1,"")) -> 1 | AA30: =IF(AA29=1,1,IF(V30=2,1,"")) -> 1 | AB30: =IF(AB29=1,1,IF(W30=3,1,"")) -> 1 | AC30: =IF(AC29=1,1,IF(X30=4,1,"")) | AD30: =IF(OR(AD29=1,AD29=0),0,IF(SUM(Z30:AC30)=4,1,"")) | AF30: =SUM(U30:X30) -> 1 | AG30: =IF(AF29<>AF30,AF29,IF(AF29=AF30,AG29,IF(AF29=AF28,AG29,AF29))) -> 2 | AH30: =IF(AF30=AG29,AH29,IF(AF30<>AF29,AG29,IF(AF29=AF28,AH29,IF(AF30=AF28,AH29,IF(AF29=AF30,AH29,SUM(U28:X28)))))) -> 3 | AJ30: =IF(E30="NB",AJ29,IF(E30="",0,IF(E30="l",AJ29+1,IF(E30="w",IF($P$2=0,0,IF(AND($P$2>0,AJ29>$P$2),AJ29-$P$2,0)))))) -> 3 | AK30: =VLOOKUP(AJ30,$R$2:S49,2,0) -> 3 | AM30: =IF(I30<=AM29,AM29,I30) -> 22 | AO30: =IF(E30="l",AO29+1,IF(E30="w",0,0)) -> 3 | AP30: =IF(AND(AO30=1,AO31=0),1,"") | AQ30: =IF(AND(AO30=2,AO31=0),1,"") | AR30: =IF(AND(AO30=3,AO31=0),1,"") | AS30: =IF(AND(AO30=4,AO31=0),1,"") | AT30: =IF(AND(AO30=5,AO31=0),1,"") | AU30: =IF(AND(AO30=6,AO31=0),1,"") | AV30: =IF(AND(AO30=7,AO31=0),1,"") | AW30: =IF(AND(AO30=8,AO31=0),1,"") | AX30: =IF(AND(AO30=9,AO31=0),1,"") | AY30: =IF(AND(AO30=10,AO31=0),1,"") | AZ30: =IF(AND(AO30=11,AO31=0),1,"") | BA30: =IF(AND(AO30=12,AO31=0),1,"") | BB30: =IF(AND(AO30=13,AO31=0),1,"") | BC30: =IF(AND(AO30=14,AO31=0),1,"") | BD30: =IF(AND(AO30=15,AO31=0),1,"") | BE30: =IF(AND(AO30=16,AO31=0),1,"") | BF30: =IF(AND(AO30=17,AO31=0),1,"") | BG30: =IF(AND(AO30=18,AO31=0),1,"") | BH30: =IF(AND(AO30=19,AO31=0),1,"") | BI30: =IF(AND(AO30=20,AO31=0),1,"") | BJ30: =IF(AND(AO30=21,AO31=0),1,"") | BK30: =IF(AND(AO30=22,AO31=0),1,"") | BL30: =IF(AND(AO30=23,AO31=0),1,"") | BM30: =IF(AND(AO30=24,AO31=0),1,"") | BN30: =IF(AND(AO30=25,AO31=0),1,"") | BO30: =IF(AND(AO30>25,AO31=0),1,"")
B31: 8 | C31: =IF(B31="","",VLOOKUP(B31,Tabelle2!$A$1:$B$37,2,0)) -> 1 | D31: =IF(B31="","",IF(B31=0,"NB",VLOOKUP(C31,Tabelle2!$D$1:$E$4,2,0))) -> 3 | E31: =IF(B31="","",IF(D30="NB","NB",IF(D30=C31,"W","L"))) -> L | F31: =IF(E31="","",AK30) -> 3 | G31: =IF(E31="NB",0,IF(E31="w",2,IF(E31="l",-1,""))) -> -1 | H31: =IF(E31="","",IF(E31="NB",0,G31*F31)) -> -3 | I31: =IF(E31="",0,I30+H31) -> 15 | J31: =IF(B31="","",IF(B31=0,"X","")) | L31: 22 | M31: =BK1001 -> 0 | U31: =IF(C31=1,1,"") -> 1 | V31: =IF(C31=2,2,"") | W31: =IF(C31=3,3,"") | X31: =IF(C31=4,4,"") | Z31: =IF(Z30=1,1,IF(U31=1,1,"")) -> 1 | AA31: =IF(AA30=1,1,IF(V31=2,1,"")) -> 1 | AB31: =IF(AB30=1,1,IF(W31=3,1,"")) -> 1 | AC31: =IF(AC30=1,1,IF(X31=4,1,"")) | AD31: =IF(OR(AD30=1,AD30=0),0,IF(SUM(Z31:AC31)=4,1,"")) | AF31: =SUM(U31:X31) -> 1 | AG31: =IF(AF30<>AF31,AF30,IF(AF30=AF31,AG30,IF(AF30=AF29,AG30,AF30))) -> 2 | AH31: =IF(AF31=AG30,AH30,IF(AF31<>AF30,AG30,IF(AF30=AF29,AH30,IF(AF31=AF29,AH30,IF(AF30=AF31,AH30,SUM(U29:X29)))))) -> 3 | AJ31: =IF(E31="NB",AJ30,IF(E31="",0,IF(E31="l",AJ30+1,IF(E31="w",IF($P$2=0,0,IF(AND($P$2>0,AJ30>$P$2),AJ30-$P$2,0)))))) -> 4 | AK31: =VLOOKUP(AJ31,$R$2:S50,2,0) -> 7 | AM31: =IF(I31<=AM30,AM30,I31) -> 22 | AO31: =IF(E31="l",AO30+1,IF(E31="w",0,0)) -> 4 | AP31: =IF(AND(AO31=1,AO32=0),1,"") | AQ31: =IF(AND(AO31=2,AO32=0),1,"") | AR31: =IF(AND(AO31=3,AO32=0),1,"") | AS31: =IF(AND(AO31=4,AO32=0),1,"") | AT31: =IF(AND(AO31=5,AO32=0),1,"") | AU31: =IF(AND(AO31=6,AO32=0),1,"") | AV31: =IF(AND(AO31=7,AO32=0),1,"") | AW31: =IF(AND(AO31=8,AO32=0),1,"") | AX31: =IF(AND(AO31=9,AO32=0),1,"") | AY31: =IF(AND(AO31=10,AO32=0),1,"") | AZ31: =IF(AND(AO31=11,AO32=0),1,"") | BA31: =IF(AND(AO31=12,AO32=0),1,"") | BB31: =IF(AND(AO31=13,AO32=0),1,"") | BC31: =IF(AND(AO31=14,AO32=0),1,"") | BD31: =IF(AND(AO31=15,AO32=0),1,"") | BE31: =IF(AND(AO31=16,AO32=0),1,"") | BF31: =IF(AND(AO31=17,AO32=0),1,"") | BG31: =IF(AND(AO31=18,AO32=0),1,"") | BH31: =IF(AND(AO31=19,AO32=0),1,"") | BI31: =IF(AND(AO31=20,AO32=0),1,"") | BJ31: =IF(AND(AO31=21,AO32=0),1,"") | BK31: =IF(AND(AO31=22,AO32=0),1,"") | BL31: =IF(AND(AO31=23,AO32=0),1,"") | BM31: =IF(AND(AO31=24,AO32=0),1,"") | BN31: =IF(AND(AO31=25,AO32=0),1,"") | BO31: =IF(AND(AO31>25,AO32=0),1,"")
B32: 18 | C32: =IF(B32="","",VLOOKUP(B32,Tabelle2!$A$1:$B$37,2,0)) -> 2 | D32: =IF(B32="","",IF(B32=0,"NB",VLOOKUP(C32,Tabelle2!$D$1:$E$4,2,0))) -> 2 | E32: =IF(B32="","",IF(D31="NB","NB",IF(D31=C32,"W","L"))) -> L | F32: =IF(E32="","",AK31) -> 7 | G32: =IF(E32="NB",0,IF(E32="w",2,IF(E32="l",-1,""))) -> -1 | H32: =IF(E32="","",IF(E32="NB",0,G32*F32)) -> -7 | I32: =IF(E32="",0,I31+H32) -> 8 | J32: =IF(B32="","",IF(B32=0,"X","")) | L32: 23 | M32: =BL1001 -> 0 | U32: =IF(C32=1,1,"") | V32: =IF(C32=2,2,"") -> 2 | W32: =IF(C32=3,3,"") | X32: =IF(C32=4,4,"") | Z32: =IF(Z31=1,1,IF(U32=1,1,"")) -> 1 | AA32: =IF(AA31=1,1,IF(V32=2,1,"")) -> 1 | AB32: =IF(AB31=1,1,IF(W32=3,1,"")) -> 1 | AC32: =IF(AC31=1,1,IF(X32=4,1,"")) | AD32: =IF(OR(AD31=1,AD31=0),0,IF(SUM(Z32:AC32)=4,1,"")) | AF32: =SUM(U32:X32) -> 2 | AG32: =IF(AF31<>AF32,AF31,IF(AF31=AF32,AG31,IF(AF31=AF30,AG31,AF31))) -> 1 | AH32: =IF(AF32=AG31,AH31,IF(AF32<>AF31,AG31,IF(AF31=AF30,AH31,IF(AF32=AF30,AH31,IF(AF31=AF32,AH31,SUM(U30:X30)))))) -> 3 | AJ32: =IF(E32="NB",AJ31,IF(E32="",0,IF(E32="l",AJ31+1,IF(E32="w",IF($P$2=0,0,IF(AND($P$2>0,AJ31>$P$2),AJ31-$P$2,0)))))) -> 5 | AK32: =VLOOKUP(AJ32,$R$2:S51,2,0) -> 15 | AM32: =IF(I32<=AM31,AM31,I32) -> 22 | AO32: =IF(E32="l",AO31+1,IF(E32="w",0,0)) -> 5 | AP32: =IF(AND(AO32=1,AO33=0),1,"") | AQ32: =IF(AND(AO32=2,AO33=0),1,"") | AR32: =IF(AND(AO32=3,AO33=0),1,"") | AS32: =IF(AND(AO32=4,AO33=0),1,"") | AT32: =IF(AND(AO32=5,AO33=0),1,"") | AU32: =IF(AND(AO32=6,AO33=0),1,"") | AV32: =IF(AND(AO32=7,AO33=0),1,"") | AW32: =IF(AND(AO32=8,AO33=0),1,"") | AX32: =IF(AND(AO32=9,AO33=0),1,"") | AY32: =IF(AND(AO32=10,AO33=0),1,"") | AZ32: =IF(AND(AO32=11,AO33=0),1,"") | BA32: =IF(AND(AO32=12,AO33=0),1,"") | BB32: =IF(AND(AO32=13,AO33=0),1,"") | BC32: =IF(AND(AO32=14,AO33=0),1,"") | BD32: =IF(AND(AO32=15,AO33=0),1,"") | BE32: =IF(AND(AO32=16,AO33=0),1,"") | BF32: =IF(AND(AO32=17,AO33=0),1,"") | BG32: =IF(AND(AO32=18,AO33=0),1,"") | BH32: =IF(AND(AO32=19,AO33=0),1,"") | BI32: =IF(AND(AO32=20,AO33=0),1,"") | BJ32: =IF(AND(AO32=21,AO33=0),1,"") | BK32: =IF(AND(AO32=22,AO33=0),1,"") | BL32: =IF(AND(AO32=23,AO33=0),1,"") | BM32: =IF(AND(AO32=24,AO33=0),1,"") | BN32: =IF(AND(AO32=25,AO33=0),1,"") | BO32: =IF(AND(AO32>25,AO33=0),1,"")
B33: 8 | C33: =IF(B33="","",VLOOKUP(B33,Tabelle2!$A$1:$B$37,2,0)) -> 1 | D33: =IF(B33="","",IF(B33=0,"NB",VLOOKUP(C33,Tabelle2!$D$1:$E$4,2,0))) -> 3 | E33: =IF(B33="","",IF(D32="NB","NB",IF(D32=C33,"W","L"))) -> L | F33: =IF(E33="","",AK32) -> 15 | G33: =IF(E33="NB",0,IF(E33="w",2,IF(E33="l",-1,""))) -> -1 | H33: =IF(E33="","",IF(E33="NB",0,G33*F33)) -> -15 | I33: =IF(E33="",0,I32+H33) -> -7 | J33: =IF(B33="","",IF(B33=0,"X","")) | L33: 24 | M33: =BM1001 -> 0 | U33: =IF(C33=1,1,"") -> 1 | V33: =IF(C33=2,2,"") | W33: =IF(C33=3,3,"") | X33: =IF(C33=4,4,"") | Z33: =IF(Z32=1,1,IF(U33=1,1,"")) -> 1 | AA33: =IF(AA32=1,1,IF(V33=2,1,"")) -> 1 | AB33: =IF(AB32=1,1,IF(W33=3,1,"")) -> 1 | AC33: =IF(AC32=1,1,IF(X33=4,1,"")) | AD33: =IF(OR(AD32=1,AD32=0),0,IF(SUM(Z33:AC33)=4,1,"")) | AF33: =SUM(U33:X33) -> 1 | AG33: =IF(AF32<>AF33,AF32,IF(AF32=AF33,AG32,IF(AF32=AF31,AG32,AF32))) -> 2 | AH33: =IF(AF33=AG32,AH32,IF(AF33<>AF32,AG32,IF(AF32=AF31,AH32,IF(AF33=AF31,AH32,IF(AF32=AF33,AH32,SUM(U31:X31)))))) -> 3 | AJ33: =IF(E33="NB",AJ32,IF(E33="",0,IF(E33="l",AJ32+1,IF(E33="w",IF($P$2=0,0,IF(AND($P$2>0,AJ32>$P$2),AJ32-$P$2,0)))))) -> 6 | AK33: =VLOOKUP(AJ33,$R$2:S52,2,0) -> 1 | AM33: =IF(I33<=AM32,AM32,I33) -> 22 | AO33: =IF(E33="l",AO32+1,IF(E33="w",0,0)) -> 6 | AP33: =IF(AND(AO33=1,AO34=0),1,"") | AQ33: =IF(AND(AO33=2,AO34=0),1,"") | AR33: =IF(AND(AO33=3,AO34=0),1,"") | AS33: =IF(AND(AO33=4,AO34=0),1,"") | AT33: =IF(AND(AO33=5,AO34=0),1,"") | AU33: =IF(AND(AO33=6,AO34=0),1,"") | AV33: =IF(AND(AO33=7,AO34=0),1,"") | AW33: =IF(AND(AO33=8,AO34=0),1,"") | AX33: =IF(AND(AO33=9,AO34=0),1,"") | AY33: =IF(AND(AO33=10,AO34=0),1,"") | AZ33: =IF(AND(AO33=11,AO34=0),1,"") | BA33: =IF(AND(AO33=12,AO34=0),1,"") | BB33: =IF(AND(AO33=13,AO34=0),1,"") | BC33: =IF(AND(AO33=14,AO34=0),1,"") | BD33: =IF(AND(AO33=15,AO34=0),1,"") | BE33: =IF(AND(AO33=16,AO34=0),1,"") | BF33: =IF(AND(AO33=17,AO34=0),1,"") | BG33: =IF(AND(AO33=18,AO34=0),1,"") | BH33: =IF(AND(AO33=19,AO34=0),1,"") | BI33: =IF(AND(AO33=20,AO34=0),1,"") | BJ33: =IF(AND(AO33=21,AO34=0),1,"") | BK33: =IF(AND(AO33=22,AO34=0),1,"") | BL33: =IF(AND(AO33=23,AO34=0),1,"") | BM33: =IF(AND(AO33=24,AO34=0),1,"") | BN33: =IF(AND(AO33=25,AO34=0),1,"") | BO33: =IF(AND(AO33>25,AO34=0),1,"")
B34: 18 | C34: =IF(B34="","",VLOOKUP(B34,Tabelle2!$A$1:$B$37,2,0)) -> 2 | D34: =IF(B34="","",IF(B34=0,"NB",VLOOKUP(C34,Tabelle2!$D$1:$E$4,2,0))) -> 2 | E34: =IF(B34="","",IF(D33="NB","NB",IF(D33=C34,"W","L"))) -> L | F34: =IF(E34="","",AK33) -> 1 | G34: =IF(E34="NB",0,IF(E34="w",2,IF(E34="l",-1,""))) -> -1 | H34: =IF(E34="","",IF(E34="NB",0,G34*F34)) -> -1 | I34: =IF(E34="",0,I33+H34) -> -8 | J34: =IF(B34="","",IF(B34=0,"X","")) | L34: 25 | M34: =BN1001 -> 0 | U34: =IF(C34=1,1,"") | V34: =IF(C34=2,2,"") -> 2 | W34: =IF(C34=3,3,"") | X34: =IF(C34=4,4,"") | Z34: =IF(Z33=1,1,IF(U34=1,1,"")) -> 1 | AA34: =IF(AA33=1,1,IF(V34=2,1,"")) -> 1 | AB34: =IF(AB33=1,1,IF(W34=3,1,"")) -> 1 | AC34: =IF(AC33=1,1,IF(X34=4,1,"")) | AD34: =IF(OR(AD33=1,AD33=0),0,IF(SUM(Z34:AC34)=4,1,"")) | AF34: =SUM(U34:X34) -> 2 | AG34: =IF(AF33<>AF34,AF33,IF(AF33=AF34,AG33,IF(AF33=AF32,AG33,AF33))) -> 1 | AH34: =IF(AF34=AG33,AH33,IF(AF34<>AF33,AG33,IF(AF33=AF32,AH33,IF(AF34=AF32,AH33,IF(AF33=AF34,AH33,SUM(U32:X32)))))) -> 3 | AJ34: =IF(E34="NB",AJ33,IF(E34="",0,IF(E34="l",AJ33+1,IF(E34="w",IF($P$2=0,0,IF(AND($P$2>0,AJ33>$P$2),AJ33-$P$2,0)))))) -> 7 | AK34: =VLOOKUP(AJ34,$R$2:S53,2,0) -> 1 | AM34: =IF(I34<=AM33,AM33,I34) -> 22 | AO34: =IF(E34="l",AO33+1,IF(E34="w",0,0)) -> 7 | AP34: =IF(AND(AO34=1,AO35=0),1,"") | AQ34: =IF(AND(AO34=2,AO35=0),1,"") | AR34: =IF(AND(AO34=3,AO35=0),1,"") | AS34: =IF(AND(AO34=4,AO35=0),1,"") | AT34: =IF(AND(AO34=5,AO35=0),1,"") | AU34: =IF(AND(AO34=6,AO35=0),1,"") | AV34: =IF(AND(AO34=7,AO35=0),1,"") | AW34: =IF(AND(AO34=8,AO35=0),1,"") | AX34: =IF(AND(AO34=9,AO35=0),1,"") | AY34: =IF(AND(AO34=10,AO35=0),1,"") | AZ34: =IF(AND(AO34=11,AO35=0),1,"") | BA34: =IF(AND(AO34=12,AO35=0),1,"") | BB34: =IF(AND(AO34=13,AO35=0),1,"") | BC34: =IF(AND(AO34=14,AO35=0),1,"") | BD34: =IF(AND(AO34=15,AO35=0),1,"") | BE34: =IF(AND(AO34=16,AO35=0),1,"") | BF34: =IF(AND(AO34=17,AO35=0),1,"") | BG34: =IF(AND(AO34=18,AO35=0),1,"") | BH34: =IF(AND(AO34=19,AO35=0),1,"") | BI34: =IF(AND(AO34=20,AO35=0),1,"") | BJ34: =IF(AND(AO34=21,AO35=0),1,"") | BK34: =IF(AND(AO34=22,AO35=0),1,"") | BL34: =IF(AND(AO34=23,AO35=0),1,"") | BM34: =IF(AND(AO34=24,AO35=0),1,"") | BN34: =IF(AND(AO34=25,AO35=0),1,"") | BO34: =IF(AND(AO34>25,AO35=0),1,"")
B35: 12 | C35: =IF(B35="","",VLOOKUP(B35,Tabelle2!$A$1:$B$37,2,0)) -> 1 | D35: =IF(B35="","",IF(B35=0,"NB",VLOOKUP(C35,Tabelle2!$D$1:$E$4,2,0))) -> 3 | E35: =IF(B35="","",IF(D34="NB","NB",IF(D34=C35,"W","L"))) -> L | F35: =IF(E35="","",AK34) -> 1 | G35: =IF(E35="NB",0,IF(E35="w",2,IF(E35="l",-1,""))) -> -1 | H35: =IF(E35="","",IF(E35="NB",0,G35*F35)) -> -1 | I35: =IF(E35="",0,I34+H35) -> -9 | J35: =IF(B35="","",IF(B35=0,"X","")) | L35: >25 !! | M35: =BO1001 -> 0 | U35: =IF(C35=1,1,"") -> 1 | V35: =IF(C35=2,2,"") | W35: =IF(C35=3,3,"") | X35: =IF(C35=4,4,"") | Z35: =IF(Z34=1,1,IF(U35=1,1,"")) -> 1 | AA35: =IF(AA34=1,1,IF(V35=2,1,"")) -> 1 | AB35: =IF(AB34=1,1,IF(W35=3,1,"")) -> 1 | AC35: =IF(AC34=1,1,IF(X35=4,1,"")) | AD35: =IF(OR(AD34=1,AD34=0),0,IF(SUM(Z35:AC35)=4,1,"")) | AF35: =SUM(U35:X35) -> 1 | AG35: =IF(AF34<>AF35,AF34,IF(AF34=AF35,AG34,IF(AF34=AF33,AG34,AF34))) -> 2 | AH35: =IF(AF35=AG34,AH34,IF(AF35<>AF34,AG34,IF(AF34=AF33,AH34,IF(AF35=AF33,AH34,IF(AF34=AF35,AH34,SUM(U33:X33)))))) -> 3 | AJ35: =IF(E35="NB",AJ34,IF(E35="",0,IF(E35="l",AJ34+1,IF(E35="w",IF($P$2=0,0,IF(AND($P$2>0,AJ34>$P$2),AJ34-$P$2,0)))))) -> 8 | AK35: =VLOOKUP(AJ35,$R$2:S54,2,0) -> 1 | AM35: =IF(I35<=AM34,AM34,I35) -> 22 | AO35: =IF(E35="l",AO34+1,IF(E35="w",0,0)) -> 8 | AP35: =IF(AND(AO35=1,AO36=0),1,"") | AQ35: =IF(AND(AO35=2,AO36=0),1,"") | AR35: =IF(AND(AO35=3,AO36=0),1,"") | AS35: =IF(AND(AO35=4,AO36=0),1,"") | AT35: =IF(AND(AO35=5,AO36=0),1,"") | AU35: =IF(AND(AO35=6,AO36=0),1,"") | AV35: =IF(AND(AO35=7,AO36=0),1,"") | AW35: =IF(AND(AO35=8,AO36=0),1,"") | AX35: =IF(AND(AO35=9,AO36=0),1,"") | AY35: =IF(AND(AO35=10,AO36=0),1,"") | AZ35: =IF(AND(AO35=11,AO36=0),1,"") | BA35: =IF(AND(AO35=12,AO36=0),1,"") | BB35: =IF(AND(AO35=13,AO36=0),1,"") | BC35: =IF(AND(AO35=14,AO36=0),1,"") | BD35: =IF(AND(AO35=15,AO36=0),1,"") | BE35: =IF(AND(AO35=16,AO36=0),1,"") | BF35: =IF(AND(AO35=17,AO36=0),1,"") | BG35: =IF(AND(AO35=18,AO36=0),1,"") | BH35: =IF(AND(AO35=19,AO36=0),1,"") | BI35: =IF(AND(AO35=20,AO36=0),1,"") | BJ35: =IF(AND(AO35=21,AO36=0),1,"") | BK35: =IF(AND(AO35=22,AO36=0),1,"") | BL35: =IF(AND(AO35=23,AO36=0),1,"") | BM35: =IF(AND(AO35=24,AO36=0),1,"") | BN35: =IF(AND(AO35=25,AO36=0),1,"") | BO35: =IF(AND(AO35>25,AO36=0),1,"")
B36: 9 | C36: =IF(B36="","",VLOOKUP(B36,Tabelle2!$A$1:$B$37,2,0)) -> 1 | D36: =IF(B36="","",IF(B36=0,"NB",VLOOKUP(C36,Tabelle2!$D$1:$E$4,2,0))) -> 3 | E36: =IF(B36="","",IF(D35="NB","NB",IF(D35=C36,"W","L"))) -> L | F36: =IF(E36="","",AK35) -> 1 | G36: =IF(E36="NB",0,IF(E36="w",2,IF(E36="l",-1,""))) -> -1 | H36: =IF(E36="","",IF(E36="NB",0,G36*F36)) -> -1 | I36: =IF(E36="",0,I35+H36) -> -10 | J36: =IF(B36="","",IF(B36=0,"X","")) | U36: =IF(C36=1,1,"") -> 1 | V36: =IF(C36=2,2,"") | W36: =IF(C36=3,3,"") | X36: =IF(C36=4,4,"") | Z36: =IF(Z35=1,1,IF(U36=1,1,"")) -> 1 | AA36: =IF(AA35=1,1,IF(V36=2,1,"")) -> 1 | AB36: =IF(AB35=1,1,IF(W36=3,1,"")) -> 1 | AC36: =IF(AC35=1,1,IF(X36=4,1,"")) | AD36: =IF(OR(AD35=1,AD35=0),0,IF(SUM(Z36:AC36)=4,1,"")) | AF36: =SUM(U36:X36) -> 1 | AG36: =IF(AF35<>AF36,AF35,IF(AF35=AF36,AG35,IF(AF35=AF34,AG35,AF35))) -> 2 | AH36: =IF(AF36=AG35,AH35,IF(AF36<>AF35,AG35,IF(AF35=AF34,AH35,IF(AF36=AF34,AH35,IF(AF35=AF36,AH35,SUM(U34:X34)))))) -> 3 | AJ36: =IF(E36="NB",AJ35,IF(E36="",0,IF(E36="l",AJ35+1,IF(E36="w",IF($P$2=0,0,IF(AND($P$2>0,AJ35>$P$2),AJ35-$P$2,0)))))) -> 9 | AK36: =VLOOKUP(AJ36,$R$2:S55,2,0) -> 1 | AM36: =IF(I36<=AM35,AM35,I36) -> 22 | AO36: =IF(E36="l",AO35+1,IF(E36="w",0,0)) -> 9 | AP36: =IF(AND(AO36=1,AO37=0),1,"") | AQ36: =IF(AND(AO36=2,AO37=0),1,"") | AR36: =IF(AND(AO36=3,AO37=0),1,"") | AS36: =IF(AND(AO36=4,AO37=0),1,"") | AT36: =IF(AND(AO36=5,AO37=0),1,"") | AU36: =IF(AND(AO36=6,AO37=0),1,"") | AV36: =IF(AND(AO36=7,AO37=0),1,"") | AW36: =IF(AND(AO36=8,AO37=0),1,"") | AX36: =IF(AND(AO36=9,AO37=0),1,"") -> 1 | AY36: =IF(AND(AO36=10,AO37=0),1,"") | AZ36: =IF(AND(AO36=11,AO37=0),1,"") | BA36: =IF(AND(AO36=12,AO37=0),1,"") | BB36: =IF(AND(AO36=13,AO37=0),1,"") | BC36: =IF(AND(AO36=14,AO37=0),1,"") | BD36: =IF(AND(AO36=15,AO37=0),1,"") | BE36: =IF(AND(AO36=16,AO37=0),1,"") | BF36: =IF(AND(AO36=17,AO37=0),1,"") | BG36: =IF(AND(AO36=18,AO37=0),1,"") | BH36: =IF(AND(AO36=19,AO37=0),1,"") | BI36: =IF(AND(AO36=20,AO37=0),1,"") | BJ36: =IF(AND(AO36=21,AO37=0),1,"") | BK36: =IF(AND(AO36=22,AO37=0),1,"") | BL36: =IF(AND(AO36=23,AO37=0),1,"") | BM36: =IF(AND(AO36=24,AO37=0),1,"") | BN36: =IF(AND(AO36=25,AO37=0),1,"") | BO36: =IF(AND(AO36>25,AO37=0),1,"")
B37: 36 | C37: =IF(B37="","",VLOOKUP(B37,Tabelle2!$A$1:$B$37,2,0)) -> 3 | D37: =IF(B37="","",IF(B37=0,"NB",VLOOKUP(C37,Tabelle2!$D$1:$E$4,2,0))) -> 1 | E37: =IF(B37="","",IF(D36="NB","NB",IF(D36=C37,"W","L"))) -> W | F37: =IF(E37="","",AK36) -> 1 | G37: =IF(E37="NB",0,IF(E37="w",2,IF(E37="l",-1,""))) -> 2 | H37: =IF(E37="","",IF(E37="NB",0,G37*F37)) -> 2 | I37: =IF(E37="",0,I36+H37) -> -8 | J37: =IF(B37="","",IF(B37=0,"X","")) | U37: =IF(C37=1,1,"") | V37: =IF(C37=2,2,"") | W37: =IF(C37=3,3,"") -> 3 | X37: =IF(C37=4,4,"") | Z37: =IF(Z36=1,1,IF(U37=1,1,"")) -> 1 | AA37: =IF(AA36=1,1,IF(V37=2,1,"")) -> 1 | AB37: =IF(AB36=1,1,IF(W37=3,1,"")) -> 1 | AC37: =IF(AC36=1,1,IF(X37=4,1,"")) | AD37: =IF(OR(AD36=1,AD36=0),0,IF(SUM(Z37:AC37)=4,1,"")) | AF37: =SUM(U37:X37) -> 3 | AG37: =IF(AF36<>AF37,AF36,IF(AF36=AF37,AG36,IF(AF36=AF35,AG36,AF36))) -> 1 | AH37: =IF(AF37=AG36,AH36,IF(AF37<>AF36,AG36,IF(AF36=AF35,AH36,IF(AF37=AF35,AH36,IF(AF36=AF37,AH36,SUM(U35:X35)))))) -> 2 | AJ37: =IF(E37="NB",AJ36,IF(E37="",0,IF(E37="l",AJ36+1,IF(E37="w",IF($P$2=0,0,IF(AND($P$2>0,AJ36>$P$2),AJ36-$P$2,0)))))) -> 0 | AK37: =VLOOKUP(AJ37,$R$2:S56,2,0) -> 1 | AM37: =IF(I37<=AM36,AM36,I37) -> 22 | AO37: =IF(E37="l",AO36+1,IF(E37="w",0,0)) -> 0 | AP37: =IF(AND(AO37=1,AO38=0),1,"") | AQ37: =IF(AND(AO37=2,AO38=0),1,"") | AR37: =IF(AND(AO37=3,AO38=0),1,"") | AS37: =IF(AND(AO37=4,AO38=0),1,"") | AT37: =IF(AND(AO37=5,AO38=0),1,"") | AU37: =IF(AND(AO37=6,AO38=0),1,"") | AV37: =IF(AND(AO37=7,AO38=0),1,"") | AW37: =IF(AND(AO37=8,AO38=0),1,"") | AX37: =IF(AND(AO37=9,AO38=0),1,"") | AY37: =IF(AND(AO37=10,AO38=0),1,"") | AZ37: =IF(AND(AO37=11,AO38=0),1,"") | BA37: =IF(AND(AO37=12,AO38=0),1,"") | BB37: =IF(AND(AO37=13,AO38=0),1,"") | BC37: =IF(AND(AO37=14,AO38=0),1,"") | BD37: =IF(AND(AO37=15,AO38=0),1,"") | BE37: =IF(AND(AO37=16,AO38=0),1,"") | BF37: =IF(AND(AO37=17,AO38=0),1,"") | BG37: =IF(AND(AO37=18,AO38=0),1,"") | BH37: =IF(AND(AO37=19,AO38=0),1,"") | BI37: =IF(AND(AO37=20,AO38=0),1,"") | BJ37: =IF(AND(AO37=21,AO38=0),1,"") | BK37: =IF(AND(AO37=22,AO38=0),1,"") | BL37: =IF(AND(AO37=23,AO38=0),1,"") | BM37: =IF(AND(AO37=24,AO38=0),1,"") | BN37: =IF(AND(AO37=25,AO38=0),1,"") | BO37: =IF(AND(AO37>25,AO38=0),1,"")
B38: 17 | C38: =IF(B38="","",VLOOKUP(B38,Tabelle2!$A$1:$B$37,2,0)) -> 2 | D38: =IF(B38="","",IF(B38=0,"NB",VLOOKUP(C38,Tabelle2!$D$1:$E$4,2,0))) -> 2 | E38: =IF(B38="","",IF(D37="NB","NB",IF(D37=C38,"W","L"))) -> L | F38: =IF(E38="","",AK37) -> 1 | G38: =IF(E38="NB",0,IF(E38="w",2,IF(E38="l",-1,""))) -> -1 | H38: =IF(E38="","",IF(E38="NB",0,G38*F38)) -> -1 | I38: =IF(E38="",0,I37+H38) -> -9 | J38: =IF(B38="","",IF(B38=0,"X","")) | U38: =IF(C38=1,1,"") | V38: =IF(C38=2,2,"") -> 2 | W38: =IF(C38=3,3,"") | X38: =IF(C38=4,4,"") | Z38: =IF(Z37=1,1,IF(U38=1,1,"")) -> 1 | AA38: =IF(AA37=1,1,IF(V38=2,1,"")) -> 1 | AB38: =IF(AB37=1,1,IF(W38=3,1,"")) -> 1 | AC38: =IF(AC37=1,1,IF(X38=4,1,"")) | AD38: =IF(OR(AD37=1,AD37=0),0,IF(SUM(Z38:AC38)=4,1,"")) | AF38: =SUM(U38:X38) -> 2 | AG38: =IF(AF37<>AF38,AF37,IF(AF37=AF38,AG37,IF(AF37=AF36,AG37,AF37))) -> 3 | AH38: =IF(AF38=AG37,AH37,IF(AF38<>AF37,AG37,IF(AF37=AF36,AH37,IF(AF38=AF36,AH37,IF(AF37=AF38,AH37,SUM(U36:X36)))))) -> 1 | AJ38: =IF(E38="NB",AJ37,IF(E38="",0,IF(E38="l",AJ37+1,IF(E38="w",IF($P$2=0,0,IF(AND($P$2>0,AJ37>$P$2),AJ37-$P$2,0)))))) -> 1 | AK38: =VLOOKUP(AJ38,$R$2:S57,2,0) -> 1 | AM38: =IF(I38<=AM37,AM37,I38) -> 22 | AO38: =IF(E38="l",AO37+1,IF(E38="w",0,0)) -> 1 | AP38: =IF(AND(AO38=1,AO39=0),1,"") | AQ38: =IF(AND(AO38=2,AO39=0),1,"") | AR38: =IF(AND(AO38=3,AO39=0),1,"") | AS38: =IF(AND(AO38=4,AO39=0),1,"") | AT38: =IF(AND(AO38=5,AO39=0),1,"") | AU38: =IF(AND(AO38=6,AO39=0),1,"") | AV38: =IF(AND(AO38=7,AO39=0),1,"") | AW38: =IF(AND(AO38=8,AO39=0),1,"") | AX38: =IF(AND(AO38=9,AO39=0),1,"") | AY38: =IF(AND(AO38=10,AO39=0),1,"") | AZ38: =IF(AND(AO38=11,AO39=0),1,"") | BA38: =IF(AND(AO38=12,AO39=0),1,"") | BB38: =IF(AND(AO38=13,AO39=0),1,"") | BC38: =IF(AND(AO38=14,AO39=0),1,"") | BD38: =IF(AND(AO38=15,AO39=0),1,"") | BE38: =IF(AND(AO38=16,AO39=0),1,"") | BF38: =IF(AND(AO38=17,AO39=0),1,"") | BG38: =IF(AND(AO38=18,AO39=0),1,"") | BH38: =IF(AND(AO38=19,AO39=0),1,"") | BI38: =IF(AND(AO38=20,AO39=0),1,"") | BJ38: =IF(AND(AO38=21,AO39=0),1,"") | BK38: =IF(AND(AO38=22,AO39=0),1,"") | BL38: =IF(AND(AO38=23,AO39=0),1,"") | BM38: =IF(AND(AO38=24,AO39=0),1,"") | BN38: =IF(AND(AO38=25,AO39=0),1,"") | BO38: =IF(AND(AO38>25,AO39=0),1,"")
B39: 33 | C39: =IF(B39="","",VLOOKUP(B39,Tabelle2!$A$1:$B$37,2,0)) -> 3 | D39: =IF(B39="","",IF(B39=0,"NB",VLOOKUP(C39,Tabelle2!$D$1:$E$4,2,0))) -> 1 | E39: =IF(B39="","",IF(D38="NB","NB",IF(D38=C39,"W","L"))) -> L | F39: =IF(E39="","",AK38) -> 1 | G39: =IF(E39="NB",0,IF(E39="w",2,IF(E39="l",-1,""))) -> -1 | H39: =IF(E39="","",IF(E39="NB",0,G39*F39)) -> -1 | I39: =IF(E39="",0,I38+H39) -> -10 | J39: =IF(B39="","",IF(B39=0,"X","")) | U39: =IF(C39=1,1,"") | V39: =IF(C39=2,2,"") | W39: =IF(C39=3,3,"") -> 3 | X39: =IF(C39=4,4,"") | Z39: =IF(Z38=1,1,IF(U39=1,1,"")) -> 1 | AA39: =IF(AA38=1,1,IF(V39=2,1,"")) -> 1 | AB39: =IF(AB38=1,1,IF(W39=3,1,"")) -> 1 | AC39: =IF(AC38=1,1,IF(X39=4,1,"")) | AD39: =IF(OR(AD38=1,AD38=0),0,IF(SUM(Z39:AC39)=4,1,"")) | AF39: =SUM(U39:X39) -> 3 | AG39: =IF(AF38<>AF39,AF38,IF(AF38=AF39,AG38,IF(AF38=AF37,AG38,AF38))) -> 2 | AH39: =IF(AF39=AG38,AH38,IF(AF39<>AF38,AG38,IF(AF38=AF37,AH38,IF(AF39=AF37,AH38,IF(AF38=AF39,AH38,SUM(U37:X37)))))) -> 1 | AJ39: =IF(E39="NB",AJ38,IF(E39="",0,IF(E39="l",AJ38+1,IF(E39="w",IF($P$2=0,0,IF(AND($P$2>0,AJ38>$P$2),AJ38-$P$2,0)))))) -> 2 | AK39: =VLOOKUP(AJ39,$R$2:S58,2,0) -> 2 | AM39: =IF(I39<=AM38,AM38,I39) -> 22 | AO39: =IF(E39="l",AO38+1,IF(E39="w",0,0)) -> 2 | AP39: =IF(AND(AO39=1,AO40=0),1,"") | AQ39: =IF(AND(AO39=2,AO40=0),1,"") | AR39: =IF(AND(AO39=3,AO40=0),1,"") | AS39: =IF(AND(AO39=4,AO40=0),1,"") | AT39: =IF(AND(AO39=5,AO40=0),1,"") | AU39: =IF(AND(AO39=6,AO40=0),1,"") | AV39: =IF(AND(AO39=7,AO40=0),1,"") | AW39: =IF(AND(AO39=8,AO40=0),1,"") | AX39: =IF(AND(AO39=9,AO40=0),1,"") | AY39: =IF(AND(AO39=10,AO40=0),1,"") | AZ39: =IF(AND(AO39=11,AO40=0),1,"") | BA39: =IF(AND(AO39=12,AO40=0),1,"") | BB39: =IF(AND(AO39=13,AO40=0),1,"") | BC39: =IF(AND(AO39=14,AO40=0),1,"") | BD39: =IF(AND(AO39=15,AO40=0),1,"") | BE39: =IF(AND(AO39=16,AO40=0),1,"") | BF39: =IF(AND(AO39=17,AO40=0),1,"") | BG39: =IF(AND(AO39=18,AO40=0),1,"") | BH39: =IF(AND(AO39=19,AO40=0),1,"") | BI39: =IF(AND(AO39=20,AO40=0),1,"") | BJ39: =IF(AND(AO39=21,AO40=0),1,"") | BK39: =IF(AND(AO39=22,AO40=0),1,"") | BL39: =IF(AND(AO39=23,AO40=0),1,"") | BM39: =IF(AND(AO39=24,AO40=0),1,"") | BN39: =IF(AND(AO39=25,AO40=0),1,"") | BO39: =IF(AND(AO39>25,AO40=0),1,"")
B40: 28 | C40: =IF(B40="","",VLOOKUP(B40,Tabelle2!$A$1:$B$37,2,0)) -> 3 | D40: =IF(B40="","",IF(B40=0,"NB",VLOOKUP(C40,Tabelle2!$D$1:$E$4,2,0))) -> 1 | E40: =IF(B40="","",IF(D39="NB","NB",IF(D39=C40,"W","L"))) -> L | F40: =IF(E40="","",AK39) -> 2 | G40: =IF(E40="NB",0,IF(E40="w",2,IF(E40="l",-1,""))) -> -1 | H40: =IF(E40="","",IF(E40="NB",0,G40*F40)) -> -2 | I40: =IF(E40="",0,I39+H40) -> -12 | J40: =IF(B40="","",IF(B40=0,"X","")) | U40: =IF(C40=1,1,"") | V40: =IF(C40=2,2,"") | W40: =IF(C40=3,3,"") -> 3 | X40: =IF(C40=4,4,"") | Z40: =IF(Z39=1,1,IF(U40=1,1,"")) -> 1 | AA40: =IF(AA39=1,1,IF(V40=2,1,"")) -> 1 | AB40: =IF(AB39=1,1,IF(W40=3,1,"")) -> 1 | AC40: =IF(AC39=1,1,IF(X40=4,1,"")) | AD40: =IF(OR(AD39=1,AD39=0),0,IF(SUM(Z40:AC40)=4,1,"")) | AF40: =SUM(U40:X40) -> 3 | AG40: =IF(AF39<>AF40,AF39,IF(AF39=AF40,AG39,IF(AF39=AF38,AG39,AF39))) -> 2 | AH40: =IF(AF40=AG39,AH39,IF(AF40<>AF39,AG39,IF(AF39=AF38,AH39,IF(AF40=AF38,AH39,IF(AF39=AF40,AH39,SUM(U38:X38)))))) -> 1 | AJ40: =IF(E40="NB",AJ39,IF(E40="",0,IF(E40="l",AJ39+1,IF(E40="w",IF($P$2=0,0,IF(AND($P$2>0,AJ39>$P$2),AJ39-$P$2,0)))))) -> 3 | AK40: =VLOOKUP(AJ40,$R$2:S59,2,0) -> 3 | AM40: =IF(I40<=AM39,AM39,I40) -> 22 | AO40: =IF(E40="l",AO39+1,IF(E40="w",0,0)) -> 3 | AP40: =IF(AND(AO40=1,AO41=0),1,"") | AQ40: =IF(AND(AO40=2,AO41=0),1,"") | AR40: =IF(AND(AO40=3,AO41=0),1,"") | AS40: =IF(AND(AO40=4,AO41=0),1,"") | AT40: =IF(AND(AO40=5,AO41=0),1,"") | AU40: =IF(AND(AO40=6,AO41=0),1,"") | AV40: =IF(AND(AO40=7,AO41=0),1,"") | AW40: =IF(AND(AO40=8,AO41=0),1,"") | AX40: =IF(AND(AO40=9,AO41=0),1,"") | AY40: =IF(AND(AO40=10,AO41=0),1,"") | AZ40: =IF(AND(AO40=11,AO41=0),1,"") | BA40: =IF(AND(AO40=12,AO41=0),1,"") | BB40: =IF(AND(AO40=13,AO41=0),1,"") | BC40: =IF(AND(AO40=14,AO41=0),1,"") | BD40: =IF(AND(AO40=15,AO41=0),1,"") | BE40: =IF(AND(AO40=16,AO41=0),1,"") | BF40: =IF(AND(AO40=17,AO41=0),1,"") | BG40: =IF(AND(AO40=18,AO41=0),1,"") | BH40: =IF(AND(AO40=19,AO41=0),1,"") | BI40: =IF(AND(AO40=20,AO41=0),1,"") | BJ40: =IF(AND(AO40=21,AO41=0),1,"") | BK40: =IF(AND(AO40=22,AO41=0),1,"") | BL40: =IF(AND(AO40=23,AO41=0),1,"") | BM40: =IF(AND(AO40=24,AO41=0),1,"") | BN40: =IF(AND(AO40=25,AO41=0),1,"") | BO40: =IF(AND(AO40>25,AO41=0),1,"")
B41: 13 | C41: =IF(B41="","",VLOOKUP(B41,Tabelle2!$A$1:$B$37,2,0)) -> 2 | D41: =IF(B41="","",IF(B41=0,"NB",VLOOKUP(C41,Tabelle2!$D$1:$E$4,2,0))) -> 2 | E41: =IF(B41="","",IF(D40="NB","NB",IF(D40=C41,"W","L"))) -> L | F41: =IF(E41="","",AK40) -> 3 | G41: =IF(E41="NB",0,IF(E41="w",2,IF(E41="l",-1,""))) -> -1 | H41: =IF(E41="","",IF(E41="NB",0,G41*F41)) -> -3 | I41: =IF(E41="",0,I40+H41) -> -15 | J41: =IF(B41="","",IF(B41=0,"X","")) | U41: =IF(C41=1,1,"") | V41: =IF(C41=2,2,"") -> 2 | W41: =IF(C41=3,3,"") | X41: =IF(C41=4,4,"") | Z41: =IF(Z40=1,1,IF(U41=1,1,"")) -> 1 | AA41: =IF(AA40=1,1,IF(V41=2,1,"")) -> 1 | AB41: =IF(AB40=1,1,IF(W41=3,1,"")) -> 1 | AC41: =IF(AC40=1,1,IF(X41=4,1,"")) | AD41: =IF(OR(AD40=1,AD40=0),0,IF(SUM(Z41:AC41)=4,1,"")) | AF41: =SUM(U41:X41) -> 2 | AG41: =IF(AF40<>AF41,AF40,IF(AF40=AF41,AG40,IF(AF40=AF39,AG40,AF40))) -> 3 | AH41: =IF(AF41=AG40,AH40,IF(AF41<>AF40,AG40,IF(AF40=AF39,AH40,IF(AF41=AF39,AH40,IF(AF40=AF41,AH40,SUM(U39:X39)))))) -> 1 | AJ41: =IF(E41="NB",AJ40,IF(E41="",0,IF(E41="l",AJ40+1,IF(E41="w",IF($P$2=0,0,IF(AND($P$2>0,AJ40>$P$2),AJ40-$P$2,0)))))) -> 4 | AK41: =VLOOKUP(AJ41,$R$2:S60,2,0) -> 7 | AM41: =IF(I41<=AM40,AM40,I41) -> 22 | AO41: =IF(E41="l",AO40+1,IF(E41="w",0,0)) -> 4 | AP41: =IF(AND(AO41=1,AO42=0),1,"") | AQ41: =IF(AND(AO41=2,AO42=0),1,"") | AR41: =IF(AND(AO41=3,AO42=0),1,"") | AS41: =IF(AND(AO41=4,AO42=0),1,"") -> 1 | AT41: =IF(AND(AO41=5,AO42=0),1,"") | AU41: =IF(AND(AO41=6,AO42=0),1,"") | AV41: =IF(AND(AO41=7,AO42=0),1,"") | AW41: =IF(AND(AO41=8,AO42=0),1,"") | AX41: =IF(AND(AO41=9,AO42=0),1,"") | AY41: =IF(AND(AO41=10,AO42=0),1,"") | AZ41: =IF(AND(AO41=11,AO42=0),1,"") | BA41: =IF(AND(AO41=12,AO42=0),1,"") | BB41: =IF(AND(AO41=13,AO42=0),1,"") | BC41: =IF(AND(AO41=14,AO42=0),1,"") | BD41: =IF(AND(AO41=15,AO42=0),1,"") | BE41: =IF(AND(AO41=16,AO42=0),1,"") | BF41: =IF(AND(AO41=17,AO42=0),1,"") | BG41: =IF(AND(AO41=18,AO42=0),1,"") | BH41: =IF(AND(AO41=19,AO42=0),1,"") | BI41: =IF(AND(AO41=20,AO42=0),1,"") | BJ41: =IF(AND(AO41=21,AO42=0),1,"") | BK41: =IF(AND(AO41=22,AO42=0),1,"") | BL41: =IF(AND(AO41=23,AO42=0),1,"") | BM41: =IF(AND(AO41=24,AO42=0),1,"") | BN41: =IF(AND(AO41=25,AO42=0),1,"") | BO41: =IF(AND(AO41>25,AO42=0),1,"")
B42: 22 | C42: =IF(B42="","",VLOOKUP(B42,Tabelle2!$A$1:$B$37,2,0)) -> 2 | D42: =IF(B42="","",IF(B42=0,"NB",VLOOKUP(C42,Tabelle2!$D$1:$E$4,2,0))) -> 2 | E42: =IF(B42="","",IF(D41="NB","NB",IF(D41=C42,"W","L"))) -> W | F42: =IF(E42="","",AK41) -> 7 | G42: =IF(E42="NB",0,IF(E42="w",2,IF(E42="l",-1,""))) -> 2 | H42: =IF(E42="","",IF(E42="NB",0,G42*F42)) -> 14 | I42: =IF(E42="",0,I41+H42) -> -1 | J42: =IF(B42="","",IF(B42=0,"X","")) | U42: =IF(C42=1,1,"") | V42: =IF(C42=2,2,"") -> 2 | W42: =IF(C42=3,3,"") | X42: =IF(C42=4,4,"") | Z42: =IF(Z41=1,1,IF(U42=1,1,"")) -> 1 | AA42: =IF(AA41=1,1,IF(V42=2,1,"")) -> 1 | AB42: =IF(AB41=1,1,IF(W42=3,1,"")) -> 1 | AC42: =IF(AC41=1,1,IF(X42=4,1,"")) | AD42: =IF(OR(AD41=1,AD41=0),0,IF(SUM(Z42:AC42)=4,1,"")) | AF42: =SUM(U42:X42) -> 2 | AG42: =IF(AF41<>AF42,AF41,IF(AF41=AF42,AG41,IF(AF41=AF40,AG41,AF41))) -> 3 | AH42: =IF(AF42=AG41,AH41,IF(AF42<>AF41,AG41,IF(AF41=AF40,AH41,IF(AF42=AF40,AH41,IF(AF41=AF42,AH41,SUM(U40:X40)))))) -> 1 | AJ42: =IF(E42="NB",AJ41,IF(E42="",0,IF(E42="l",AJ41+1,IF(E42="w",IF($P$2=0,0,IF(AND($P$2>0,AJ41>$P$2),AJ41-$P$2,0)))))) -> 0 | AK42: =VLOOKUP(AJ42,$R$2:S61,2,0) -> 1 | AM42: =IF(I42<=AM41,AM41,I42) -> 22 | AO42: =IF(E42="l",AO41+1,IF(E42="w",0,0)) -> 0 | AP42: =IF(AND(AO42=1,AO43=0),1,"") | AQ42: =IF(AND(AO42=2,AO43=0),1,"") | AR42: =IF(AND(AO42=3,AO43=0),1,"") | AS42: =IF(AND(AO42=4,AO43=0),1,"") | AT42: =IF(AND(AO42=5,AO43=0),1,"") | AU42: =IF(AND(AO42=6,AO43=0),1,"") | AV42: =IF(AND(AO42=7,AO43=0),1,"") | AW42: =IF(AND(AO42=8,AO43=0),1,"") | AX42: =IF(AND(AO42=9,AO43=0),1,"") | AY42: =IF(AND(AO42=10,AO43=0),1,"") | AZ42: =IF(AND(AO42=11,AO43=0),1,"") | BA42: =IF(AND(AO42=12,AO43=0),1,"") | BB42: =IF(AND(AO42=13,AO43=0),1,"") | BC42: =IF(AND(AO42=14,AO43=0),1,"") | BD42: =IF(AND(AO42=15,AO43=0),1,"") | BE42: =IF(AND(AO42=16,AO43=0),1,"") | BF42: =IF(AND(AO42=17,AO43=0),1,"") | BG42: =IF(AND(AO42=18,AO43=0),1,"") | BH42: =IF(AND(AO42=19,AO43=0),1,"") | BI42: =IF(AND(AO42=20,AO43=0),1,"") | BJ42: =IF(AND(AO42=21,AO43=0),1,"") | BK42: =IF(AND(AO42=22,AO43=0),1,"") | BL42: =IF(AND(AO42=23,AO43=0),1,"") | BM42: =IF(AND(AO42=24,AO43=0),1,"") | BN42: =IF(AND(AO42=25,AO43=0),1,"") | BO42: =IF(AND(AO42>25,AO43=0),1,"")
B43: 11 | C43: =IF(B43="","",VLOOKUP(B43,Tabelle2!$A$1:$B$37,2,0)) -> 1 | D43: =IF(B43="","",IF(B43=0,"NB",VLOOKUP(C43,Tabelle2!$D$1:$E$4,2,0))) -> 3 | E43: =IF(B43="","",IF(D42="NB","NB",IF(D42=C43,"W","L"))) -> L | F43: =IF(E43="","",AK42) -> 1 | G43: =IF(E43="NB",0,IF(E43="w",2,IF(E43="l",-1,""))) -> -1 | H43: =IF(E43="","",IF(E43="NB",0,G43*F43)) -> -1 | I43: =IF(E43="",0,I42+H43) -> -2 | J43: =IF(B43="","",IF(B43=0,"X","")) | U43: =IF(C43=1,1,"") -> 1 | V43: =IF(C43=2,2,"") | W43: =IF(C43=3,3,"") | X43: =IF(C43=4,4,"") | Z43: =IF(Z42=1,1,IF(U43=1,1,"")) -> 1 | AA43: =IF(AA42=1,1,IF(V43=2,1,"")) -> 1 | AB43: =IF(AB42=1,1,IF(W43=3,1,"")) -> 1 | AC43: =IF(AC42=1,1,IF(X43=4,1,"")) | AD43: =IF(OR(AD42=1,AD42=0),0,IF(SUM(Z43:AC43)=4,1,"")) | AF43: =SUM(U43:X43) -> 1 | AG43: =IF(AF42<>AF43,AF42,IF(AF42=AF43,AG42,IF(AF42=AF41,AG42,AF42))) -> 2 | AH43: =IF(AF43=AG42,AH42,IF(AF43<>AF42,AG42,IF(AF42=AF41,AH42,IF(AF43=AF41,AH42,IF(AF42=AF43,AH42,SUM(U41:X41)))))) -> 3 | AJ43: =IF(E43="NB",AJ42,IF(E43="",0,IF(E43="l",AJ42+1,IF(E43="w",IF($P$2=0,0,IF(AND($P$2>0,AJ42>$P$2),AJ42-$P$2,0)))))) -> 1 | AK43: =VLOOKUP(AJ43,$R$2:S62,2,0) -> 1 | AM43: =IF(I43<=AM42,AM42,I43) -> 22 | AO43: =IF(E43="l",AO42+1,IF(E43="w",0,0)) -> 1 | AP43: =IF(AND(AO43=1,AO44=0),1,"") | AQ43: =IF(AND(AO43=2,AO44=0),1,"") | AR43: =IF(AND(AO43=3,AO44=0),1,"") | AS43: =IF(AND(AO43=4,AO44=0),1,"") | AT43: =IF(AND(AO43=5,AO44=0),1,"") | AU43: =IF(AND(AO43=6,AO44=0),1,"") | AV43: =IF(AND(AO43=7,AO44=0),1,"") | AW43: =IF(AND(AO43=8,AO44=0),1,"") | AX43: =IF(AND(AO43=9,AO44=0),1,"") | AY43: =IF(AND(AO43=10,AO44=0),1,"") | AZ43: =IF(AND(AO43=11,AO44=0),1,"") | BA43: =IF(AND(AO43=12,AO44=0),1,"") | BB43: =IF(AND(AO43=13,AO44=0),1,"") | BC43: =IF(AND(AO43=14,AO44=0),1,"") | BD43: =IF(AND(AO43=15,AO44=0),1,"") | BE43: =IF(AND(AO43=16,AO44=0),1,"") | BF43: =IF(AND(AO43=17,AO44=0),1,"") | BG43: =IF(AND(AO43=18,AO44=0),1,"") | BH43: =IF(AND(AO43=19,AO44=0),1,"") | BI43: =IF(AND(AO43=20,AO44=0),1,"") | BJ43: =IF(AND(AO43=21,AO44=0),1,"") | BK43: =IF(AND(AO43=22,AO44=0),1,"") | BL43: =IF(AND(AO43=23,AO44=0),1,"") | BM43: =IF(AND(AO43=24,AO44=0),1,"") | BN43: =IF(AND(AO43=25,AO44=0),1,"") | BO43: =IF(AND(AO43>25,AO44=0),1,"")
B44: 10 | C44: =IF(B44="","",VLOOKUP(B44,Tabelle2!$A$1:$B$37,2,0)) -> 1 | D44: =IF(B44="","",IF(B44=0,"NB",VLOOKUP(C44,Tabelle2!$D$1:$E$4,2,0))) -> 3 | E44: =IF(B44="","",IF(D43="NB","NB",IF(D43=C44,"W","L"))) -> L | F44: =IF(E44="","",AK43) -> 1 | G44: =IF(E44="NB",0,IF(E44="w",2,IF(E44="l",-1,""))) -> -1 | H44: =IF(E44="","",IF(E44="NB",0,G44*F44)) -> -1 | I44: =IF(E44="",0,I43+H44) -> -3 | J44: =IF(B44="","",IF(B44=0,"X","")) | U44: =IF(C44=1,1,"") -> 1 | V44: =IF(C44=2,2,"") | W44: =IF(C44=3,3,"") | X44: =IF(C44=4,4,"") | Z44: =IF(Z43=1,1,IF(U44=1,1,"")) -> 1 | AA44: =IF(AA43=1,1,IF(V44=2,1,"")) -> 1 | AB44: =IF(AB43=1,1,IF(W44=3,1,"")) -> 1 | AC44: =IF(AC43=1,1,IF(X44=4,1,"")) | AD44: =IF(OR(AD43=1,AD43=0),0,IF(SUM(Z44:AC44)=4,1,"")) | AF44: =SUM(U44:X44) -> 1 | AG44: =IF(AF43<>AF44,AF43,IF(AF43=AF44,AG43,IF(AF43=AF42,AG43,AF43))) -> 2 | AH44: =IF(AF44=AG43,AH43,IF(AF44<>AF43,AG43,IF(AF43=AF42,AH43,IF(AF44=AF42,AH43,IF(AF43=AF44,AH43,SUM(U42:X42)))))) -> 3 | AJ44: =IF(E44="NB",AJ43,IF(E44="",0,IF(E44="l",AJ43+1,IF(E44="w",IF($P$2=0,0,IF(AND($P$2>0,AJ43>$P$2),AJ43-$P$2,0)))))) -> 2 | AK44: =VLOOKUP(AJ44,$R$2:S63,2,0) -> 2 | AM44: =IF(I44<=AM43,AM43,I44) -> 22 | AO44: =IF(E44="l",AO43+1,IF(E44="w",0,0)) -> 2 | AP44: =IF(AND(AO44=1,AO45=0),1,"") | AQ44: =IF(AND(AO44=2,AO45=0),1,"") | AR44: =IF(AND(AO44=3,AO45=0),1,"") | AS44: =IF(AND(AO44=4,AO45=0),1,"") | AT44: =IF(AND(AO44=5,AO45=0),1,"") | AU44: =IF(AND(AO44=6,AO45=0),1,"") | AV44: =IF(AND(AO44=7,AO45=0),1,"") | AW44: =IF(AND(AO44=8,AO45=0),1,"") | AX44: =IF(AND(AO44=9,AO45=0),1,"") | AY44: =IF(AND(AO44=10,AO45=0),1,"") | AZ44: =IF(AND(AO44=11,AO45=0),1,"") | BA44: =IF(AND(AO44=12,AO45=0),1,"") | BB44: =IF(AND(AO44=13,AO45=0),1,"") | BC44: =IF(AND(AO44=14,AO45=0),1,"") | BD44: =IF(AND(AO44=15,AO45=0),1,"") | BE44: =IF(AND(AO44=16,AO45=0),1,"") | BF44: =IF(AND(AO44=17,AO45=0),1,"") | BG44: =IF(AND(AO44=18,AO45=0),1,"") | BH44: =IF(AND(AO44=19,AO45=0),1,"") | BI44: =IF(AND(AO44=20,AO45=0),1,"") | BJ44: =IF(AND(AO44=21,AO45=0),1,"") | BK44: =IF(AND(AO44=22,AO45=0),1,"") | BL44: =IF(AND(AO44=23,AO45=0),1,"") | BM44: =IF(AND(AO44=24,AO45=0),1,"") | BN44: =IF(AND(AO44=25,AO45=0),1,"") | BO44: =IF(AND(AO44>25,AO45=0),1,"")
B45: 10 | C45: =IF(B45="","",VLOOKUP(B45,Tabelle2!$A$1:$B$37,2,0)) -> 1 | D45: =IF(B45="","",IF(B45=0,"NB",VLOOKUP(C45,Tabelle2!$D$1:$E$4,2,0))) -> 3 | E45: =IF(B45="","",IF(D44="NB","NB",IF(D44=C45,"W","L"))) -> L | F45: =IF(E45="","",AK44) -> 2 | G45: =IF(E45="NB",0,IF(E45="w",2,IF(E45="l",-1,""))) -> -1 | H45: =IF(E45="","",IF(E45="NB",0,G45*F45)) -> -2 | I45: =IF(E45="",0,I44+H45) -> -5 | J45: =IF(B45="","",IF(B45=0,"X","")) | U45: =IF(C45=1,1,"") -> 1 | V45: =IF(C45=2,2,"") | W45: =IF(C45=3,3,"") | X45: =IF(C45=4,4,"") | Z45: =IF(Z44=1,1,IF(U45=1,1,"")) -> 1 | AA45: =IF(AA44=1,1,IF(V45=2,1,"")) -> 1 | AB45: =IF(AB44=1,1,IF(W45=3,1,"")) -> 1 | AC45: =IF(AC44=1,1,IF(X45=4,1,"")) | AD45: =IF(OR(AD44=1,AD44=0),0,IF(SUM(Z45:AC45)=4,1,"")) | AF45: =SUM(U45:X45) -> 1 | AG45: =IF(AF44<>AF45,AF44,IF(AF44=AF45,AG44,IF(AF44=AF43,AG44,AF44))) -> 2 | AH45: =IF(AF45=AG44,AH44,IF(AF45<>AF44,AG44,IF(AF44=AF43,AH44,IF(AF45=AF43,AH44,IF(AF44=AF45,AH44,SUM(U43:X43)))))) -> 3 | AJ45: =IF(E45="NB",AJ44,IF(E45="",0,IF(E45="l",AJ44+1,IF(E45="w",IF($P$2=0,0,IF(AND($P$2>0,AJ44>$P$2),AJ44-$P$2,0)))))) -> 3 | AK45: =VLOOKUP(AJ45,$R$2:S64,2,0) -> 3 | AM45: =IF(I45<=AM44,AM44,I45) -> 22 | AO45: =IF(E45="l",AO44+1,IF(E45="w",0,0)) -> 3 | AP45: =IF(AND(AO45=1,AO46=0),1,"") | AQ45: =IF(AND(AO45=2,AO46=0),1,"") | AR45: =IF(AND(AO45=3,AO46=0),1,"") | AS45: =IF(AND(AO45=4,AO46=0),1,"") | AT45: =IF(AND(AO45=5,AO46=0),1,"") | AU45: =IF(AND(AO45=6,AO46=0),1,"") | AV45: =IF(AND(AO45=7,AO46=0),1,"") | AW45: =IF(AND(AO45=8,AO46=0),1,"") | AX45: =IF(AND(AO45=9,AO46=0),1,"") | AY45: =IF(AND(AO45=10,AO46=0),1,"") | AZ45: =IF(AND(AO45=11,AO46=0),1,"") | BA45: =IF(AND(AO45=12,AO46=0),1,"") | BB45: =IF(AND(AO45=13,AO46=0),1,"") | BC45: =IF(AND(AO45=14,AO46=0),1,"") | BD45: =IF(AND(AO45=15,AO46=0),1,"") | BE45: =IF(AND(AO45=16,AO46=0),1,"") | BF45: =IF(AND(AO45=17,AO46=0),1,"") | BG45: =IF(AND(AO45=18,AO46=0),1,"") | BH45: =IF(AND(AO45=19,AO46=0),1,"") | BI45: =IF(AND(AO45=20,AO46=0),1,"") | BJ45: =IF(AND(AO45=21,AO46=0),1,"") | BK45: =IF(AND(AO45=22,AO46=0),1,"") | BL45: =IF(AND(AO45=23,AO46=0),1,"") | BM45: =IF(AND(AO45=24,AO46=0),1,"") | BN45: =IF(AND(AO45=25,AO46=0),1,"") | BO45: =IF(AND(AO45>25,AO46=0),1,"")
B46: 15 | C46: =IF(B46="","",VLOOKUP(B46,Tabelle2!$A$1:$B$37,2,0)) -> 2 | D46: =IF(B46="","",IF(B46=0,"NB",VLOOKUP(C46,Tabelle2!$D$1:$E$4,2,0))) -> 2 | E46: =IF(B46="","",IF(D45="NB","NB",IF(D45=C46,"W","L"))) -> L | F46: =IF(E46="","",AK45) -> 3 | G46: =IF(E46="NB",0,IF(E46="w",2,IF(E46="l",-1,""))) -> -1 | H46: =IF(E46="","",IF(E46="NB",0,G46*F46)) -> -3 | I46: =IF(E46="",0,I45+H46) -> -8 | J46: =IF(B46="","",IF(B46=0,"X","")) | U46: =IF(C46=1,1,"") | V46: =IF(C46=2,2,"") -> 2 | W46: =IF(C46=3,3,"") | X46: =IF(C46=4,4,"") | Z46: =IF(Z45=1,1,IF(U46=1,1,"")) -> 1 | AA46: =IF(AA45=1,1,IF(V46=2,1,"")) -> 1 | AB46: =IF(AB45=1,1,IF(W46=3,1,"")) -> 1 | AC46: =IF(AC45=1,1,IF(X46=4,1,"")) | AD46: =IF(OR(AD45=1,AD45=0),0,IF(SUM(Z46:AC46)=4,1,"")) | AF46: =SUM(U46:X46) -> 2 | AG46: =IF(AF45<>AF46,AF45,IF(AF45=AF46,AG45,IF(AF45=AF44,AG45,AF45))) -> 1 | AH46: =IF(AF46=AG45,AH45,IF(AF46<>AF45,AG45,IF(AF45=AF44,AH45,IF(AF46=AF44,AH45,IF(AF45=AF46,AH45,SUM(U44:X44)))))) -> 3 | AJ46: =IF(E46="NB",AJ45,IF(E46="",0,IF(E46="l",AJ45+1,IF(E46="w",IF($P$2=0,0,IF(AND($P$2>0,AJ45>$P$2),AJ45-$P$2,0)))))) -> 4 | AK46: =VLOOKUP(AJ46,$R$2:S65,2,0) -> 7 | AM46: =IF(I46<=AM45,AM45,I46) -> 22 | AO46: =IF(E46="l",AO45+1,IF(E46="w",0,0)) -> 4 | AP46: =IF(AND(AO46=1,AO47=0),1,"") | AQ46: =IF(AND(AO46=2,AO47=0),1,"") | AR46: =IF(AND(AO46=3,AO47=0),1,"") | AS46: =IF(AND(AO46=4,AO47=0),1,"") | AT46: =IF(AND(AO46=5,AO47=0),1,"") | AU46: =IF(AND(AO46=6,AO47=0),1,"") | AV46: =IF(AND(AO46=7,AO47=0),1,"") | AW46: =IF(AND(AO46=8,AO47=0),1,"") | AX46: =IF(AND(AO46=9,AO47=0),1,"") | AY46: =IF(AND(AO46=10,AO47=0),1,"") | AZ46: =IF(AND(AO46=11,AO47=0),1,"") | BA46: =IF(AND(AO46=12,AO47=0),1,"") | BB46: =IF(AND(AO46=13,AO47=0),1,"") | BC46: =IF(AND(AO46=14,AO47=0),1,"") | BD46: =IF(AND(AO46=15,AO47=0),1,"") | BE46: =IF(AND(AO46=16,AO47=0),1,"") | BF46: =IF(AND(AO46=17,AO47=0),1,"") | BG46: =IF(AND(AO46=18,AO47=0),1,"") | BH46: =IF(AND(AO46=19,AO47=0),1,"") | BI46: =IF(AND(AO46=20,AO47=0),1,"") | BJ46: =IF(AND(AO46=21,AO47=0),1,"") | BK46: =IF(AND(AO46=22,AO47=0),1,"") | BL46: =IF(AND(AO46=23,AO47=0),1,"") | BM46: =IF(AND(AO46=24,AO47=0),1,"") | BN46: =IF(AND(AO46=25,AO47=0),1,"") | BO46: =IF(AND(AO46>25,AO47=0),1,"")
B47: 4 | C47: =IF(B47="","",VLOOKUP(B47,Tabelle2!$A$1:$B$37,2,0)) -> 1 | D47: =IF(B47="","",IF(B47=0,"NB",VLOOKUP(C47,Tabelle2!$D$1:$E$4,2,0))) -> 3 | E47: =IF(B47="","",IF(D46="NB","NB",IF(D46=C47,"W","L"))) -> L | F47: =IF(E47="","",AK46) -> 7 | G47: =IF(E47="NB",0,IF(E47="w",2,IF(E47="l",-1,""))) -> -1 | H47: =IF(E47="","",IF(E47="NB",0,G47*F47)) -> -7 | I47: =IF(E47="",0,I46+H47) -> -15 | J47: =IF(B47="","",IF(B47=0,"X","")) | U47: =IF(C47=1,1,"") -> 1 | V47: =IF(C47=2,2,"") | W47: =IF(C47=3,3,"") | X47: =IF(C47=4,4,"") | Z47: =IF(Z46=1,1,IF(U47=1,1,"")) -> 1 | AA47: =IF(AA46=1,1,IF(V47=2,1,"")) -> 1 | AB47: =IF(AB46=1,1,IF(W47=3,1,"")) -> 1 | AC47: =IF(AC46=1,1,IF(X47=4,1,"")) | AD47: =IF(OR(AD46=1,AD46=0),0,IF(SUM(Z47:AC47)=4,1,"")) | AF47: =SUM(U47:X47) -> 1 | AG47: =IF(AF46<>AF47,AF46,IF(AF46=AF47,AG46,IF(AF46=AF45,AG46,AF46))) -> 2 | AH47: =IF(AF47=AG46,AH46,IF(AF47<>AF46,AG46,IF(AF46=AF45,AH46,IF(AF47=AF45,AH46,IF(AF46=AF47,AH46,SUM(U45:X45)))))) -> 3 | AJ47: =IF(E47="NB",AJ46,IF(E47="",0,IF(E47="l",AJ46+1,IF(E47="w",IF($P$2=0,0,IF(AND($P$2>0,AJ46>$P$2),AJ46-$P$2,0)))))) -> 5 | AK47: =VLOOKUP(AJ47,$R$2:S66,2,0) -> 15 | AM47: =IF(I47<=AM46,AM46,I47) -> 22 | AO47: =IF(E47="l",AO46+1,IF(E47="w",0,0)) -> 5 | AP47: =IF(AND(AO47=1,AO48=0),1,"") | AQ47: =IF(AND(AO47=2,AO48=0),1,"") | AR47: =IF(AND(AO47=3,AO48=0),1,"") | AS47: =IF(AND(AO47=4,AO48=0),1,"") | AT47: =IF(AND(AO47=5,AO48=0),1,"") -> 1 | AU47: =IF(AND(AO47=6,AO48=0),1,"") | AV47: =IF(AND(AO47=7,AO48=0),1,"") | AW47: =IF(AND(AO47=8,AO48=0),1,"") | AX47: =IF(AND(AO47=9,AO48=0),1,"") | AY47: =IF(AND(AO47=10,AO48=0),1,"") | AZ47: =IF(AND(AO47=11,AO48=0),1,"") | BA47: =IF(AND(AO47=12,AO48=0),1,"") | BB47: =IF(AND(AO47=13,AO48=0),1,"") | BC47: =IF(AND(AO47=14,AO48=0),1,"") | BD47: =IF(AND(AO47=15,AO48=0),1,"") | BE47: =IF(AND(AO47=16,AO48=0),1,"") | BF47: =IF(AND(AO47=17,AO48=0),1,"") | BG47: =IF(AND(AO47=18,AO48=0),1,"") | BH47: =IF(AND(AO47=19,AO48=0),1,"") | BI47: =IF(AND(AO47=20,AO48=0),1,"") | BJ47: =IF(AND(AO47=21,AO48=0),1,"") | BK47: =IF(AND(AO47=22,AO48=0),1,"") | BL47: =IF(AND(AO47=23,AO48=0),1,"") | BM47: =IF(AND(AO47=24,AO48=0),1,"") | BN47: =IF(AND(AO47=25,AO48=0),1,"") | BO47: =IF(AND(AO47>25,AO48=0),1,"")
... B622: 12 | C622: =IF(B622="","",VLOOKUP(B622,Tabelle2!$A$1:$B$37,2,0)) -> 1 | D622: =IF(B622="","",IF(B622=0,"NB",VLOOKUP(C622,Tabelle2!$D$1:$E$4,2,0))) -> 3 | E622: =IF(B622="","",IF(D621="NB","NB",IF(D621=C622,"W","L"))) -> L | F622: =IF(E622="","",AK621) -> 1 | G622: =IF(E622="NB",0,IF(E622="w",2,IF(E622="l",-1,""))) -> -1 | H622: =IF(E622="","",IF(E622="NB",0,G622*F622)) -> -1 | I622: =IF(E622="",0,I621+H622) -> 221 | J622: =IF(B622="","",IF(B622=0,"X","")) | U622: =IF(C622=1,1,"") -> 1 | V622: =IF(C622=2,2,"") | W622: =IF(C622=3,3,"") | X622: =IF(C622=4,4,"") | Z622: =IF(Z621=1,1,IF(U622=1,1,"")) -> 1 | AA622: =IF(AA621=1,1,IF(V622=2,1,"")) -> 1 | AB622: =IF(AB621=1,1,IF(W622=3,1,"")) -> 1 | AC622: =IF(AC621=1,1,IF(X622=4,1,"")) | AD622: =IF(OR(AD621=1,AD621=0),0,IF(SUM(Z622:AC622)=4,1,"")) | AF622: =SUM(U622:X622) -> 1 | AG622: =IF(AF621<>AF622,AF621,IF(AF621=AF622,AG621,IF(AF621=AF620,AG621,AF621))) -> 3 | AH622: =IF(AF622=AG621,AH621,IF(AF622<>AF621,AG621,IF(AF621=AF620,AH621,IF(AF622=AF620,AH621,IF(AF621=AF622,AH621,SUM(U620:X620)))))) -> 2 | AJ622: =IF(E622="NB",AJ621,IF(E622="",0,IF(E622="l",AJ621+1,IF(E622="w",IF($P$2=0,0,IF(AND($P$2>0,AJ621>$P$2),AJ621-$P$2,0)))))) -> 1 | AK622: =VLOOKUP(AJ622,$R$2:S641,2,0) -> 1 | AM622: =IF(I622<=AM621,AM621,I622) -> 246 | AO622: =IF(E622="l",AO621+1,IF(E622="w",0,0)) -> 1 | AP622: =IF(AND(AO622=1,AO623=0),1,"") -> 1 | AQ622: =IF(AND(AO622=2,AO623=0),1,"") | AR622: =IF(AND(AO622=3,AO623=0),1,"") | AS622: =IF(AND(AO622=4,AO623=0),1,"") | AT622: =IF(AND(AO622=5,AO623=0),1,"") | AU622: =IF(AND(AO622=6,AO623=0),1,"") | AV622: =IF(AND(AO622=7,AO623=0),1,"") | AW622: =IF(AND(AO622=8,AO623=0),1,"") | AX622: =IF(AND(AO622=9,AO623=0),1,"") | AY622: =IF(AND(AO622=10,AO623=0),1,"") | AZ622: =IF(AND(AO622=11,AO623=0),1,"") | BA622: =IF(AND(AO622=12,AO623=0),1,"") | BB622: =IF(AND(AO622=13,AO623=0),1,"") | BC622: =IF(AND(AO622=14,AO623=0),1,"") | BD622: =IF(AND(AO622=15,AO623=0),1,"") | BE622: =IF(AND(AO622=16,AO623=0),1,"") | BF622: =IF(AND(AO622=17,AO623=0),1,"") | BG622: =IF(AND(AO622=18,AO623=0),1,"") | BH622: =IF(AND(AO622=19,AO623=0),1,"") | BI622: =IF(AND(AO622=20,AO623=0),1,"") | BJ622: =IF(AND(AO622=21,AO623=0),1,"") | BK622: =IF(AND(AO622=22,AO623=0),1,"") | BL622: =IF(AND(AO622=23,AO623=0),1,"") | BM622: =IF(AND(AO622=24,AO623=0),1,"") | BN622: =IF(AND(AO622=25,AO623=0),1,"") | BO622: =IF(AND(AO622>25,AO623=0),1,"")
C623: =IF(B623="","",VLOOKUP(B623,Tabelle2!$A$1:$B$37,2,0)) | D623: =IF(B623="","",IF(B623=0,"NB",VLOOKUP(C623,Tabelle2!$D$1:$E$4,2,0))) | E623: =IF(B623="","",IF(D622="NB","NB",IF(D622=C623,"W","L"))) | F623: =IF(E623="","",AK622) | G623: =IF(E623="NB",0,IF(E623="w",2,IF(E623="l",-1,""))) | H623: =IF(E623="","",IF(E623="NB",0,G623*F623)) | I623: =IF(E623="",0,I622+H623) -> 0 | J623: =IF(B623="","",IF(B623=0,"X","")) | U623: =IF(C623=1,1,"") | V623: =IF(C623=2,2,"") | W623: =IF(C623=3,3,"") | X623: =IF(C623=4,4,"") | Z623: =IF(Z622=1,1,IF(U623=1,1,"")) -> 1 | AA623: =IF(AA622=1,1,IF(V623=2,1,"")) -> 1 | AB623: =IF(AB622=1,1,IF(W623=3,1,"")) -> 1 | AC623: =IF(AC622=1,1,IF(X623=4,1,"")) | AD623: =IF(OR(AD622=1,AD622=0),0,IF(SUM(Z623:AC623)=4,1,"")) | AF623: =SUM(U623:X623) -> 0 | AG623: =IF(AF622<>AF623,AF622,IF(AF622=AF623,AG622,IF(AF622=AF621,AG622,AF622))) -> 1 | AH623: =IF(AF623=AG622,AH622,IF(AF623<>AF622,AG622,IF(AF622=AF621,AH622,IF(AF623=AF621,AH622,IF(AF622=AF623,AH622,SUM(U621:X621)))))) -> 3 | AJ623: =IF(E623="NB",AJ622,IF(E623="",0,IF(E623="l",AJ622+1,IF(E623="w",IF($P$2=0,0,IF(AND($P$2>0,AJ622>$P$2),AJ622-$P$2,0)))))) -> 0 | AK623: =VLOOKUP(AJ623,$R$2:S642,2,0) -> 1 | AM623: =IF(I623<=AM622,AM622,I623) -> 246 | AO623: =IF(E623="l",AO622+1,IF(E623="w",0,0)) -> 0 | AP623: =IF(AND(AO623=1,AO624=0),1,"") | AQ623: =IF(AND(AO623=2,AO624=0),1,"") | AR623: =IF(AND(AO623=3,AO624=0),1,"") | AS623: =IF(AND(AO623=4,AO624=0),1,"") | AT623: =IF(AND(AO623=5,AO624=0),1,"") | AU623: =IF(AND(AO623=6,AO624=0),1,"") | AV623: =IF(AND(AO623=7,AO624=0),1,"") | AW623: =IF(AND(AO623=8,AO624=0),1,"") | AX623: =IF(AND(AO623=9,AO624=0),1,"") | AY623: =IF(AND(AO623=10,AO624=0),1,"") | AZ623: =IF(AND(AO623=11,AO624=0),1,"") | BA623: =IF(AND(AO623=12,AO624=0),1,"") | BB623: =IF(AND(AO623=13,AO624=0),1,"") | BC623: =IF(AND(AO623=14,AO624=0),1,"") | BD623: =IF(AND(AO623=15,AO624=0),1,"") | BE623: =IF(AND(AO623=16,AO624=0),1,"") | BF623: =IF(AND(AO623=17,AO624=0),1,"") | BG623: =IF(AND(AO623=18,AO624=0),1,"") | BH623: =IF(AND(AO623=19,AO624=0),1,"") | BI623: =IF(AND(AO623=20,AO624=0),1,"") | BJ623: =IF(AND(AO623=21,AO624=0),1,"") | BK623: =IF(AND(AO623=22,AO624=0),1,"") | BL623: =IF(AND(AO623=23,AO624=0),1,"") | BM623: =IF(AND(AO623=24,AO624=0),1,"") | BN623: =IF(AND(AO623=25,AO624=0),1,"") | BO623: =IF(AND(AO623>25,AO624=0),1,"")
C624: =IF(B624="","",VLOOKUP(B624,Tabelle2!$A$1:$B$37,2,0)) | D624: =IF(B624="","",IF(B624=0,"NB",VLOOKUP(C624,Tabelle2!$D$1:$E$4,2,0))) | E624: =IF(B624="","",IF(D623="NB","NB",IF(D623=C624,"W","L"))) | F624: =IF(E624="","",AK623) | G624: =IF(E624="NB",0,IF(E624="w",2,IF(E624="l",-1,""))) | H624: =IF(E624="","",IF(E624="NB",0,G624*F624)) | I624: =IF(E624="",0,I623+H624) -> 0 | J624: =IF(B624="","",IF(B624=0,"X","")) | U624: =IF(C624=1,1,"") | V624: =IF(C624=2,2,"") | W624: =IF(C624=3,3,"") | X624: =IF(C624=4,4,"") | Z624: =IF(Z623=1,1,IF(U624=1,1,"")) -> 1 | AA624: =IF(AA623=1,1,IF(V624=2,1,"")) -> 1 | AB624: =IF(AB623=1,1,IF(W624=3,1,"")) -> 1 | AC624: =IF(AC623=1,1,IF(X624=4,1,"")) | AD624: =IF(OR(AD623=1,AD623=0),0,IF(SUM(Z624:AC624)=4,1,"")) | AF624: =SUM(U624:X624) -> 0 | AG624: =IF(AF623<>AF624,AF623,IF(AF623=AF624,AG623,IF(AF623=AF622,AG623,AF623))) -> 1 | AH624: =IF(AF624=AG623,AH623,IF(AF624<>AF623,AG623,IF(AF623=AF622,AH623,IF(AF624=AF622,AH623,IF(AF623=AF624,AH623,SUM(U622:X622)))))) -> 3 | AJ624: =IF(E624="NB",AJ623,IF(E624="",0,IF(E624="l",AJ623+1,IF(E624="w",IF($P$2=0,0,IF(AND($P$2>0,AJ623>$P$2),AJ623-$P$2,0)))))) -> 0 | AK624: =VLOOKUP(AJ624,$R$2:S643,2,0) -> 1 | AM624: =IF(I624<=AM623,AM623,I624) -> 246 | AO624: =IF(E624="l",AO623+1,IF(E624="w",0,0)) -> 0 | AP624: =IF(AND(AO624=1,AO625=0),1,"") | AQ624: =IF(AND(AO624=2,AO625=0),1,"") | AR624: =IF(AND(AO624=3,AO625=0),1,"") | AS624: =IF(AND(AO624=4,AO625=0),1,"") | AT624: =IF(AND(AO624=5,AO625=0),1,"") | AU624: =IF(AND(AO624=6,AO625=0),1,"") | AV624: =IF(AND(AO624=7,AO625=0),1,"") | AW624: =IF(AND(AO624=8,AO625=0),1,"") | AX624: =IF(AND(AO624=9,AO625=0),1,"") | AY624: =IF(AND(AO624=10,AO625=0),1,"") | AZ624: =IF(AND(AO624=11,AO625=0),1,"") | BA624: =IF(AND(AO624=12,AO625=0),1,"") | BB624: =IF(AND(AO624=13,AO625=0),1,"") | BC624: =IF(AND(AO624=14,AO625=0),1,"") | BD624: =IF(AND(AO624=15,AO625=0),1,"") | BE624: =IF(AND(AO624=16,AO625=0),1,"") | BF624: =IF(AND(AO624=17,AO625=0),1,"") | BG624: =IF(AND(AO624=18,AO625=0),1,"") | BH624: =IF(AND(AO624=19,AO625=0),1,"") | BI624: =IF(AND(AO624=20,AO625=0),1,"") | BJ624: =IF(AND(AO624=21,AO625=0),1,"") | BK624: =IF(AND(AO624=22,AO625=0),1,"") | BL624: =IF(AND(AO624=23,AO625=0),1,"") | BM624: =IF(AND(AO624=24,AO625=0),1,"") | BN624: =IF(AND(AO624=25,AO625=0),1,"") | BO624: =IF(AND(AO624>25,AO625=0),1,"")
C625: =IF(B625="","",VLOOKUP(B625,Tabelle2!$A$1:$B$37,2,0)) | D625: =IF(B625="","",IF(B625=0,"NB",VLOOKUP(C625,Tabelle2!$D$1:$E$4,2,0))) | E625: =IF(B625="","",IF(D624="NB","NB",IF(D624=C625,"W","L"))) | F625: =IF(E625="","",AK624) | G625: =IF(E625="NB",0,IF(E625="w",2,IF(E625="l",-1,""))) | H625: =IF(E625="","",IF(E625="NB",0,G625*F625)) | I625: =IF(E625="",0,I624+H625) -> 0 | J625: =IF(B625="","",IF(B625=0,"X","")) | U625: =IF(C625=1,1,"") | V625: =IF(C625=2,2,"") | W625: =IF(C625=3,3,"") | X625: =IF(C625=4,4,"") | Z625: =IF(Z624=1,1,IF(U625=1,1,"")) -> 1 | AA625: =IF(AA624=1,1,IF(V625=2,1,"")) -> 1 | AB625: =IF(AB624=1,1,IF(W625=3,1,"")) -> 1 | AC625: =IF(AC624=1,1,IF(X625=4,1,"")) | AD625: =IF(OR(AD624=1,AD624=0),0,IF(SUM(Z625:AC625)=4,1,"")) | AF625: =SUM(U625:X625) -> 0 | AG625: =IF(AF624<>AF625,AF624,IF(AF624=AF625,AG624,IF(AF624=AF623,AG624,AF624))) -> 1 | AH625: =IF(AF625=AG624,AH624,IF(AF625<>AF624,AG624,IF(AF624=AF623,AH624,IF(AF625=AF623,AH624,IF(AF624=AF625,AH624,SUM(U623:X623)))))) -> 3 | AJ625: =IF(E625="NB",AJ624,IF(E625="",0,IF(E625="l",AJ624+1,IF(E625="w",IF($P$2=0,0,IF(AND($P$2>0,AJ624>$P$2),AJ624-$P$2,0)))))) -> 0 | AK625: =VLOOKUP(AJ625,$R$2:S644,2,0) -> 1 | AM625: =IF(I625<=AM624,AM624,I625) -> 246 | AO625: =IF(E625="l",AO624+1,IF(E625="w",0,0)) -> 0 | AP625: =IF(AND(AO625=1,AO626=0),1,"") | AQ625: =IF(AND(AO625=2,AO626=0),1,"") | AR625: =IF(AND(AO625=3,AO626=0),1,"") | AS625: =IF(AND(AO625=4,AO626=0),1,"") | AT625: =IF(AND(AO625=5,AO626=0),1,"") | AU625: =IF(AND(AO625=6,AO626=0),1,"") | AV625: =IF(AND(AO625=7,AO626=0),1,"") | AW625: =IF(AND(AO625=8,AO626=0),1,"") | AX625: =IF(AND(AO625=9,AO626=0),1,"") | AY625: =IF(AND(AO625=10,AO626=0),1,"") | AZ625: =IF(AND(AO625=11,AO626=0),1,"") | BA625: =IF(AND(AO625=12,AO626=0),1,"") | BB625: =IF(AND(AO625=13,AO626=0),1,"") | BC625: =IF(AND(AO625=14,AO626=0),1,"") | BD625: =IF(AND(AO625=15,AO626=0),1,"") | BE625: =IF(AND(AO625=16,AO626=0),1,"") | BF625: =IF(AND(AO625=17,AO626=0),1,"") | BG625: =IF(AND(AO625=18,AO626=0),1,"") | BH625: =IF(AND(AO625=19,AO626=0),1,"") | BI625: =IF(AND(AO625=20,AO626=0),1,"") | BJ625: =IF(AND(AO625=21,AO626=0),1,"") | BK625: =IF(AND(AO625=22,AO626=0),1,"") | BL625: =IF(AND(AO625=23,AO626=0),1,"") | BM625: =IF(AND(AO625=24,AO626=0),1,"") | BN625: =IF(AND(AO625=25,AO626=0),1,"") | BO625: =IF(AND(AO625>25,AO626=0),1,"")
C626: =IF(B626="","",VLOOKUP(B626,Tabelle2!$A$1:$B$37,2,0)) | D626: =IF(B626="","",IF(B626=0,"NB",VLOOKUP(C626,Tabelle2!$D$1:$E$4,2,0))) | E626: =IF(B626="","",IF(D625="NB","NB",IF(D625=C626,"W","L"))) | F626: =IF(E626="","",AK625) | G626: =IF(E626="NB",0,IF(E626="w",2,IF(E626="l",-1,""))) | H626: =IF(E626="","",IF(E626="NB",0,G626*F626)) | I626: =IF(E626="",0,I625+H626) -> 0 | J626: =IF(B626="","",IF(B626=0,"X","")) | U626: =IF(C626=1,1,"") | V626: =IF(C626=2,2,"") | W626: =IF(C626=3,3,"") | X626: =IF(C626=4,4,"") | Z626: =IF(Z625=1,1,IF(U626=1,1,"")) -> 1 | AA626: =IF(AA625=1,1,IF(V626=2,1,"")) -> 1 | AB626: =IF(AB625=1,1,IF(W626=3,1,"")) -> 1 | AC626: =IF(AC625=1,1,IF(X626=4,1,"")) | AD626: =IF(OR(AD625=1,AD625=0),0,IF(SUM(Z626:AC626)=4,1,"")) | AF626: =SUM(U626:X626) -> 0 | AG626: =IF(AF625<>AF626,AF625,IF(AF625=AF626,AG625,IF(AF625=AF624,AG625,AF625))) -> 1 | AH626: =IF(AF626=AG625,AH625,IF(AF626<>AF625,AG625,IF(AF625=AF624,AH625,IF(AF626=AF624,AH625,IF(AF625=AF626,AH625,SUM(U624:X624)))))) -> 3 | AJ626: =IF(E626="NB",AJ625,IF(E626="",0,IF(E626="l",AJ625+1,IF(E626="w",IF($P$2=0,0,IF(AND($P$2>0,AJ625>$P$2),AJ625-$P$2,0)))))) -> 0 | AK626: =VLOOKUP(AJ626,$R$2:S645,2,0) -> 1 | AM626: =IF(I626<=AM625,AM625,I626) -> 246 | AO626: =IF(E626="l",AO625+1,IF(E626="w",0,0)) -> 0 | AP626: =IF(AND(AO626=1,AO627=0),1,"") | AQ626: =IF(AND(AO626=2,AO627=0),1,"") | AR626: =IF(AND(AO626=3,AO627=0),1,"") | AS626: =IF(AND(AO626=4,AO627=0),1,"") | AT626: =IF(AND(AO626=5,AO627=0),1,"") | AU626: =IF(AND(AO626=6,AO627=0),1,"") | AV626: =IF(AND(AO626=7,AO627=0),1,"") | AW626: =IF(AND(AO626=8,AO627=0),1,"") | AX626: =IF(AND(AO626=9,AO627=0),1,"") | AY626: =IF(AND(AO626=10,AO627=0),1,"") | AZ626: =IF(AND(AO626=11,AO627=0),1,"") | BA626: =IF(AND(AO626=12,AO627=0),1,"") | BB626: =IF(AND(AO626=13,AO627=0),1,"") | BC626: =IF(AND(AO626=14,AO627=0),1,"") | BD626: =IF(AND(AO626=15,AO627=0),1,"") | BE626: =IF(AND(AO626=16,AO627=0),1,"") | BF626: =IF(AND(AO626=17,AO627=0),1,"") | BG626: =IF(AND(AO626=18,AO627=0),1,"") | BH626: =IF(AND(AO626=19,AO627=0),1,"") | BI626: =IF(AND(AO626=20,AO627=0),1,"") | BJ626: =IF(AND(AO626=21,AO627=0),1,"") | BK626: =IF(AND(AO626=22,AO627=0),1,"") | BL626: =IF(AND(AO626=23,AO627=0),1,"") | BM626: =IF(AND(AO626=24,AO627=0),1,"") | BN626: =IF(AND(AO626=25,AO627=0),1,"") | BO626: =IF(AND(AO626>25,AO627=0),1,"")
C627: =IF(B627="","",VLOOKUP(B627,Tabelle2!$A$1:$B$37,2,0)) | D627: =IF(B627="","",IF(B627=0,"NB",VLOOKUP(C627,Tabelle2!$D$1:$E$4,2,0))) | E627: =IF(B627="","",IF(D626="NB","NB",IF(D626=C627,"W","L"))) | F627: =IF(E627="","",AK626) | G627: =IF(E627="NB",0,IF(E627="w",2,IF(E627="l",-1,""))) | H627: =IF(E627="","",IF(E627="NB",0,G627*F627)) | I627: =IF(E627="",0,I626+H627) -> 0 | J627: =IF(B627="","",IF(B627=0,"X","")) | U627: =IF(C627=1,1,"") | V627: =IF(C627=2,2,"") | W627: =IF(C627=3,3,"") | X627: =IF(C627=4,4,"") | Z627: =IF(Z626=1,1,IF(U627=1,1,"")) -> 1 | AA627: =IF(AA626=1,1,IF(V627=2,1,"")) -> 1 | AB627: =IF(AB626=1,1,IF(W627=3,1,"")) -> 1 | AC627: =IF(AC626=1,1,IF(X627=4,1,"")) | AD627: =IF(OR(AD626=1,AD626=0),0,IF(SUM(Z627:AC627)=4,1,"")) | AF627: =SUM(U627:X627) -> 0 | AG627: =IF(AF626<>AF627,AF626,IF(AF626=AF627,AG626,IF(AF626=AF625,AG626,AF626))) -> 1 | AH627: =IF(AF627=AG626,AH626,IF(AF627<>AF626,AG626,IF(AF626=AF625,AH626,IF(AF627=AF625,AH626,IF(AF626=AF627,AH626,SUM(U625:X625)))))) -> 3 | AJ627: =IF(E627="NB",AJ626,IF(E627="",0,IF(E627="l",AJ626+1,IF(E627="w",IF($P$2=0,0,IF(AND($P$2>0,AJ626>$P$2),AJ626-$P$2,0)))))) -> 0 | AK627: =VLOOKUP(AJ627,$R$2:S646,2,0) -> 1 | AM627: =IF(I627<=AM626,AM626,I627) -> 246 | AO627: =IF(E627="l",AO626+1,IF(E627="w",0,0)) -> 0 | AP627: =IF(AND(AO627=1,AO628=0),1,"") | AQ627: =IF(AND(AO627=2,AO628=0),1,"") | AR627: =IF(AND(AO627=3,AO628=0),1,"") | AS627: =IF(AND(AO627=4,AO628=0),1,"") | AT627: =IF(AND(AO627=5,AO628=0),1,"") | AU627: =IF(AND(AO627=6,AO628=0),1,"") | AV627: =IF(AND(AO627=7,AO628=0),1,"") | AW627: =IF(AND(AO627=8,AO628=0),1,"") | AX627: =IF(AND(AO627=9,AO628=0),1,"") | AY627: =IF(AND(AO627=10,AO628=0),1,"") | AZ627: =IF(AND(AO627=11,AO628=0),1,"") | BA627: =IF(AND(AO627=12,AO628=0),1,"") | BB627: =IF(AND(AO627=13,AO628=0),1,"") | BC627: =IF(AND(AO627=14,AO628=0),1,"") | BD627: =IF(AND(AO627=15,AO628=0),1,"") | BE627: =IF(AND(AO627=16,AO628=0),1,"") | BF627: =IF(AND(AO627=17,AO628=0),1,"") | BG627: =IF(AND(AO627=18,AO628=0),1,"") | BH627: =IF(AND(AO627=19,AO628=0),1,"") | BI627: =IF(AND(AO627=20,AO628=0),1,"") | BJ627: =IF(AND(AO627=21,AO628=0),1,"") | BK627: =IF(AND(AO627=22,AO628=0),1,"") | BL627: =IF(AND(AO627=23,AO628=0),1,"") | BM627: =IF(AND(AO627=24,AO628=0),1,"") | BN627: =IF(AND(AO627=25,AO628=0),1,"") | BO627: =IF(AND(AO627>25,AO628=0),1,"")
C628: =IF(B628="","",VLOOKUP(B628,Tabelle2!$A$1:$B$37,2,0)) | D628: =IF(B628="","",IF(B628=0,"NB",VLOOKUP(C628,Tabelle2!$D$1:$E$4,2,0))) | E628: =IF(B628="","",IF(D627="NB","NB",IF(D627=C628,"W","L"))) | F628: =IF(E628="","",AK627) | G628: =IF(E628="NB",0,IF(E628="w",2,IF(E628="l",-1,""))) | H628: =IF(E628="","",IF(E628="NB",0,G628*F628)) | I628: =IF(E628="",0,I627+H628) -> 0 | J628: =IF(B628="","",IF(B628=0,"X","")) | U628: =IF(C628=1,1,"") | V628: =IF(C628=2,2,"") | W628: =IF(C628=3,3,"") | X628: =IF(C628=4,4,"") | Z628: =IF(Z627=1,1,IF(U628=1,1,"")) -> 1 | AA628: =IF(AA627=1,1,IF(V628=2,1,"")) -> 1 | AB628: =IF(AB627=1,1,IF(W628=3,1,"")) -> 1 | AC628: =IF(AC627=1,1,IF(X628=4,1,"")) | AD628: =IF(OR(AD627=1,AD627=0),0,IF(SUM(Z628:AC628)=4,1,"")) | AF628: =SUM(U628:X628) -> 0 | AG628: =IF(AF627<>AF628,AF627,IF(AF627=AF628,AG627,IF(AF627=AF626,AG627,AF627))) -> 1 | AH628: =IF(AF628=AG627,AH627,IF(AF628<>AF627,AG627,IF(AF627=AF626,AH627,IF(AF628=AF626,AH627,IF(AF627=AF628,AH627,SUM(U626:X626)))))) -> 3 | AJ628: =IF(E628="NB",AJ627,IF(E628="",0,IF(E628="l",AJ627+1,IF(E628="w",IF($P$2=0,0,IF(AND($P$2>0,AJ627>$P$2),AJ627-$P$2,0)))))) -> 0 | AK628: =VLOOKUP(AJ628,$R$2:S647,2,0) -> 1 | AM628: =IF(I628<=AM627,AM627,I628) -> 246 | AO628: =IF(E628="l",AO627+1,IF(E628="w",0,0)) -> 0 | AP628: =IF(AND(AO628=1,AO629=0),1,"") | AQ628: =IF(AND(AO628=2,AO629=0),1,"") | AR628: =IF(AND(AO628=3,AO629=0),1,"") | AS628: =IF(AND(AO628=4,AO629=0),1,"") | AT628: =IF(AND(AO628=5,AO629=0),1,"") | AU628: =IF(AND(AO628=6,AO629=0),1,"") | AV628: =IF(AND(AO628=7,AO629=0),1,"") | AW628: =IF(AND(AO628=8,AO629=0),1,"") | AX628: =IF(AND(AO628=9,AO629=0),1,"") | AY628: =IF(AND(AO628=10,AO629=0),1,"") | AZ628: =IF(AND(AO628=11,AO629=0),1,"") | BA628: =IF(AND(AO628=12,AO629=0),1,"") | BB628: =IF(AND(AO628=13,AO629=0),1,"") | BC628: =IF(AND(AO628=14,AO629=0),1,"") | BD628: =IF(AND(AO628=15,AO629=0),1,"") | BE628: =IF(AND(AO628=16,AO629=0),1,"") | BF628: =IF(AND(AO628=17,AO629=0),1,"") | BG628: =IF(AND(AO628=18,AO629=0),1,"") | BH628: =IF(AND(AO628=19,AO629=0),1,"") | BI628: =IF(AND(AO628=20,AO629=0),1,"") | BJ628: =IF(AND(AO628=21,AO629=0),1,"") | BK628: =IF(AND(AO628=22,AO629=0),1,"") | BL628: =IF(AND(AO628=23,AO629=0),1,"") | BM628: =IF(AND(AO628=24,AO629=0),1,"") | BN628: =IF(AND(AO628=25,AO629=0),1,"") | BO628: =IF(AND(AO628>25,AO629=0),1,"")
C629: =IF(B629="","",VLOOKUP(B629,Tabelle2!$A$1:$B$37,2,0)) | D629: =IF(B629="","",IF(B629=0,"NB",VLOOKUP(C629,Tabelle2!$D$1:$E$4,2,0))) | E629: =IF(B629="","",IF(D628="NB","NB",IF(D628=C629,"W","L"))) | F629: =IF(E629="","",AK628) | G629: =IF(E629="NB",0,IF(E629="w",2,IF(E629="l",-1,""))) | H629: =IF(E629="","",IF(E629="NB",0,G629*F629)) | I629: =IF(E629="",0,I628+H629) -> 0 | J629: =IF(B629="","",IF(B629=0,"X","")) | U629: =IF(C629=1,1,"") | V629: =IF(C629=2,2,"") | W629: =IF(C629=3,3,"") | X629: =IF(C629=4,4,"") | Z629: =IF(Z628=1,1,IF(U629=1,1,"")) -> 1 | AA629: =IF(AA628=1,1,IF(V629=2,1,"")) -> 1 | AB629: =IF(AB628=1,1,IF(W629=3,1,"")) -> 1 | AC629: =IF(AC628=1,1,IF(X629=4,1,"")) | AD629: =IF(OR(AD628=1,AD628=0),0,IF(SUM(Z629:AC629)=4,1,"")) | AF629: =SUM(U629:X629) -> 0 | AG629: =IF(AF628<>AF629,AF628,IF(AF628=AF629,AG628,IF(AF628=AF627,AG628,AF628))) -> 1 | AH629: =IF(AF629=AG628,AH628,IF(AF629<>AF628,AG628,IF(AF628=AF627,AH628,IF(AF629=AF627,AH628,IF(AF628=AF629,AH628,SUM(U627:X627)))))) -> 3 | AJ629: =IF(E629="NB",AJ628,IF(E629="",0,IF(E629="l",AJ628+1,IF(E629="w",IF($P$2=0,0,IF(AND($P$2>0,AJ628>$P$2),AJ628-$P$2,0)))))) -> 0 | AK629: =VLOOKUP(AJ629,$R$2:S648,2,0) -> 1 | AM629: =IF(I629<=AM628,AM628,I629) -> 246 | AO629: =IF(E629="l",AO628+1,IF(E629="w",0,0)) -> 0 | AP629: =IF(AND(AO629=1,AO630=0),1,"") | AQ629: =IF(AND(AO629=2,AO630=0),1,"") | AR629: =IF(AND(AO629=3,AO630=0),1,"") | AS629: =IF(AND(AO629=4,AO630=0),1,"") | AT629: =IF(AND(AO629=5,AO630=0),1,"") | AU629: =IF(AND(AO629=6,AO630=0),1,"") | AV629: =IF(AND(AO629=7,AO630=0),1,"") | AW629: =IF(AND(AO629=8,AO630=0),1,"") | AX629: =IF(AND(AO629=9,AO630=0),1,"") | AY629: =IF(AND(AO629=10,AO630=0),1,"") | AZ629: =IF(AND(AO629=11,AO630=0),1,"") | BA629: =IF(AND(AO629=12,AO630=0),1,"") | BB629: =IF(AND(AO629=13,AO630=0),1,"") | BC629: =IF(AND(AO629=14,AO630=0),1,"") | BD629: =IF(AND(AO629=15,AO630=0),1,"") | BE629: =IF(AND(AO629=16,AO630=0),1,"") | BF629: =IF(AND(AO629=17,AO630=0),1,"") | BG629: =IF(AND(AO629=18,AO630=0),1,"") | BH629: =IF(AND(AO629=19,AO630=0),1,"") | BI629: =IF(AND(AO629=20,AO630=0),1,"") | BJ629: =IF(AND(AO629=21,AO630=0),1,"") | BK629: =IF(AND(AO629=22,AO630=0),1,"") | BL629: =IF(AND(AO629=23,AO630=0),1,"") | BM629: =IF(AND(AO629=24,AO630=0),1,"") | BN629: =IF(AND(AO629=25,AO630=0),1,"") | BO629: =IF(AND(AO629>25,AO630=0),1,"")
C630: =IF(B630="","",VLOOKUP(B630,Tabelle2!$A$1:$B$37,2,0)) | D630: =IF(B630="","",IF(B630=0,"NB",VLOOKUP(C630,Tabelle2!$D$1:$E$4,2,0))) | E630: =IF(B630="","",IF(D629="NB","NB",IF(D629=C630,"W","L"))) | F630: =IF(E630="","",AK629) | G630: =IF(E630="NB",0,IF(E630="w",2,IF(E630="l",-1,""))) | H630: =IF(E630="","",IF(E630="NB",0,G630*F630)) | I630: =IF(E630="",0,I629+H630) -> 0 | J630: =IF(B630="","",IF(B630=0,"X","")) | U630: =IF(C630=1,1,"") | V630: =IF(C630=2,2,"") | W630: =IF(C630=3,3,"") | X630: =IF(C630=4,4,"") | Z630: =IF(Z629=1,1,IF(U630=1,1,"")) -> 1 | AA630: =IF(AA629=1,1,IF(V630=2,1,"")) -> 1 | AB630: =IF(AB629=1,1,IF(W630=3,1,"")) -> 1 | AC630: =IF(AC629=1,1,IF(X630=4,1,"")) | AD630: =IF(OR(AD629=1,AD629=0),0,IF(SUM(Z630:AC630)=4,1,"")) | AF630: =SUM(U630:X630) -> 0 | AG630: =IF(AF629<>AF630,AF629,IF(AF629=AF630,AG629,IF(AF629=AF628,AG629,AF629))) -> 1 | AH630: =IF(AF630=AG629,AH629,IF(AF630<>AF629,AG629,IF(AF629=AF628,AH629,IF(AF630=AF628,AH629,IF(AF629=AF630,AH629,SUM(U628:X628)))))) -> 3 | AJ630: =IF(E630="NB",AJ629,IF(E630="",0,IF(E630="l",AJ629+1,IF(E630="w",IF($P$2=0,0,IF(AND($P$2>0,AJ629>$P$2),AJ629-$P$2,0)))))) -> 0 | AK630: =VLOOKUP(AJ630,$R$2:S649,2,0) -> 1 | AM630: =IF(I630<=AM629,AM629,I630) -> 246 | AO630: =IF(E630="l",AO629+1,IF(E630="w",0,0)) -> 0 | AP630: =IF(AND(AO630=1,AO631=0),1,"") | AQ630: =IF(AND(AO630=2,AO631=0),1,"") | AR630: =IF(AND(AO630=3,AO631=0),1,"") | AS630: =IF(AND(AO630=4,AO631=0),1,"") | AT630: =IF(AND(AO630=5,AO631=0),1,"") | AU630: =IF(AND(AO630=6,AO631=0),1,"") | AV630: =IF(AND(AO630=7,AO631=0),1,"") | AW630: =IF(AND(AO630=8,AO631=0),1,"") | AX630: =IF(AND(AO630=9,AO631=0),1,"") | AY630: =IF(AND(AO630=10,AO631=0),1,"") | AZ630: =IF(AND(AO630=11,AO631=0),1,"") | BA630: =IF(AND(AO630=12,AO631=0),1,"") | BB630: =IF(AND(AO630=13,AO631=0),1,"") | BC630: =IF(AND(AO630=14,AO631=0),1,"") | BD630: =IF(AND(AO630=15,AO631=0),1,"") | BE630: =IF(AND(AO630=16,AO631=0),1,"") | BF630: =IF(AND(AO630=17,AO631=0),1,"") | BG630: =IF(AND(AO630=18,AO631=0),1,"") | BH630: =IF(AND(AO630=19,AO631=0),1,"") | BI630: =IF(AND(AO630=20,AO631=0),1,"") | BJ630: =IF(AND(AO630=21,AO631=0),1,"") | BK630: =IF(AND(AO630=22,AO631=0),1,"") | BL630: =IF(AND(AO630=23,AO631=0),1,"") | BM630: =IF(AND(AO630=24,AO631=0),1,"") | BN630: =IF(AND(AO630=25,AO631=0),1,"") | BO630: =IF(AND(AO630>25,AO631=0),1,"")
C631: =IF(B631="","",VLOOKUP(B631,Tabelle2!$A$1:$B$37,2,0)) | D631: =IF(B631="","",IF(B631=0,"NB",VLOOKUP(C631,Tabelle2!$D$1:$E$4,2,0))) | E631: =IF(B631="","",IF(D630="NB","NB",IF(D630=C631,"W","L"))) | F631: =IF(E631="","",AK630) | G631: =IF(E631="NB",0,IF(E631="w",2,IF(E631="l",-1,""))) | H631: =IF(E631="","",IF(E631="NB",0,G631*F631)) | I631: =IF(E631="",0,I630+H631) -> 0 | J631: =IF(B631="","",IF(B631=0,"X","")) | U631: =IF(C631=1,1,"") | V631: =IF(C631=2,2,"") | W631: =IF(C631=3,3,"") | X631: =IF(C631=4,4,"") | Z631: =IF(Z630=1,1,IF(U631=1,1,"")) -> 1 | AA631: =IF(AA630=1,1,IF(V631=2,1,"")) -> 1 | AB631: =IF(AB630=1,1,IF(W631=3,1,"")) -> 1 | AC631: =IF(AC630=1,1,IF(X631=4,1,"")) | AD631: =IF(OR(AD630=1,AD630=0),0,IF(SUM(Z631:AC631)=4,1,"")) | AF631: =SUM(U631:X631) -> 0 | AG631: =IF(AF630<>AF631,AF630,IF(AF630=AF631,AG630,IF(AF630=AF629,AG630,AF630))) -> 1 | AH631: =IF(AF631=AG630,AH630,IF(AF631<>AF630,AG630,IF(AF630=AF629,AH630,IF(AF631=AF629,AH630,IF(AF630=AF631,AH630,SUM(U629:X629)))))) -> 3 | AJ631: =IF(E631="NB",AJ630,IF(E631="",0,IF(E631="l",AJ630+1,IF(E631="w",IF($P$2=0,0,IF(AND($P$2>0,AJ630>$P$2),AJ630-$P$2,0)))))) -> 0 | AK631: =VLOOKUP(AJ631,$R$2:S650,2,0) -> 1 | AM631: =IF(I631<=AM630,AM630,I631) -> 246 | AO631: =IF(E631="l",AO630+1,IF(E631="w",0,0)) -> 0 | AP631: =IF(AND(AO631=1,AO632=0),1,"") | AQ631: =IF(AND(AO631=2,AO632=0),1,"") | AR631: =IF(AND(AO631=3,AO632=0),1,"") | AS631: =IF(AND(AO631=4,AO632=0),1,"") | AT631: =IF(AND(AO631=5,AO632=0),1,"") | AU631: =IF(AND(AO631=6,AO632=0),1,"") | AV631: =IF(AND(AO631=7,AO632=0),1,"") | AW631: =IF(AND(AO631=8,AO632=0),1,"") | AX631: =IF(AND(AO631=9,AO632=0),1,"") | AY631: =IF(AND(AO631=10,AO632=0),1,"") | AZ631: =IF(AND(AO631=11,AO632=0),1,"") | BA631: =IF(AND(AO631=12,AO632=0),1,"") | BB631: =IF(AND(AO631=13,AO632=0),1,"") | BC631: =IF(AND(AO631=14,AO632=0),1,"") | BD631: =IF(AND(AO631=15,AO632=0),1,"") | BE631: =IF(AND(AO631=16,AO632=0),1,"") | BF631: =IF(AND(AO631=17,AO632=0),1,"") | BG631: =IF(AND(AO631=18,AO632=0),1,"") | BH631: =IF(AND(AO631=19,AO632=0),1,"") | BI631: =IF(AND(AO631=20,AO632=0),1,"") | BJ631: =IF(AND(AO631=21,AO632=0),1,"") | BK631: =IF(AND(AO631=22,AO632=0),1,"") | BL631: =IF(AND(AO631=23,AO632=0),1,"") | BM631: =IF(AND(AO631=24,AO632=0),1,"") | BN631: =IF(AND(AO631=25,AO632=0),1,"") | BO631: =IF(AND(AO631>25,AO632=0),1,"")
C632: =IF(B632="","",VLOOKUP(B632,Tabelle2!$A$1:$B$37,2,0)) | D632: =IF(B632="","",IF(B632=0,"NB",VLOOKUP(C632,Tabelle2!$D$1:$E$4,2,0))) | E632: =IF(B632="","",IF(D631="NB","NB",IF(D631=C632,"W","L"))) | F632: =IF(E632="","",AK631) | G632: =IF(E632="NB",0,IF(E632="w",2,IF(E632="l",-1,""))) | H632: =IF(E632="","",IF(E632="NB",0,G632*F632)) | I632: =IF(E632="",0,I631+H632) -> 0 | J632: =IF(B632="","",IF(B632=0,"X","")) | U632: =IF(C632=1,1,"") | V632: =IF(C632=2,2,"") | W632: =IF(C632=3,3,"") | X632: =IF(C632=4,4,"") | Z632: =IF(Z631=1,1,IF(U632=1,1,"")) -> 1 | AA632: =IF(AA631=1,1,IF(V632=2,1,"")) -> 1 | AB632: =IF(AB631=1,1,IF(W632=3,1,"")) -> 1 | AC632: =IF(AC631=1,1,IF(X632=4,1,"")) | AD632: =IF(OR(AD631=1,AD631=0),0,IF(SUM(Z632:AC632)=4,1,"")) | AF632: =SUM(U632:X632) -> 0 | AG632: =IF(AF631<>AF632,AF631,IF(AF631=AF632,AG631,IF(AF631=AF630,AG631,AF631))) -> 1 | AH632: =IF(AF632=AG631,AH631,IF(AF632<>AF631,AG631,IF(AF631=AF630,AH631,IF(AF632=AF630,AH631,IF(AF631=AF632,AH631,SUM(U630:X630)))))) -> 3 | AJ632: =IF(E632="NB",AJ631,IF(E632="",0,IF(E632="l",AJ631+1,IF(E632="w",IF($P$2=0,0,IF(AND($P$2>0,AJ631>$P$2),AJ631-$P$2,0)))))) -> 0 | AK632: =VLOOKUP(AJ632,$R$2:S651,2,0) -> 1 | AM632: =IF(I632<=AM631,AM631,I632) -> 246 | AO632: =IF(E632="l",AO631+1,IF(E632="w",0,0)) -> 0 | AP632: =IF(AND(AO632=1,AO633=0),1,"") | AQ632: =IF(AND(AO632=2,AO633=0),1,"") | AR632: =IF(AND(AO632=3,AO633=0),1,"") | AS632: =IF(AND(AO632=4,AO633=0),1,"") | AT632: =IF(AND(AO632=5,AO633=0),1,"") | AU632: =IF(AND(AO632=6,AO633=0),1,"") | AV632: =IF(AND(AO632=7,AO633=0),1,"") | AW632: =IF(AND(AO632=8,AO633=0),1,"") | AX632: =IF(AND(AO632=9,AO633=0),1,"") | AY632: =IF(AND(AO632=10,AO633=0),1,"") | AZ632: =IF(AND(AO632=11,AO633=0),1,"") | BA632: =IF(AND(AO632=12,AO633=0),1,"") | BB632: =IF(AND(AO632=13,AO633=0),1,"") | BC632: =IF(AND(AO632=14,AO633=0),1,"") | BD632: =IF(AND(AO632=15,AO633=0),1,"") | BE632: =IF(AND(AO632=16,AO633=0),1,"") | BF632: =IF(AND(AO632=17,AO633=0),1,"") | BG632: =IF(AND(AO632=18,AO633=0),1,"") | BH632: =IF(AND(AO632=19,AO633=0),1,"") | BI632: =IF(AND(AO632=20,AO633=0),1,"") | BJ632: =IF(AND(AO632=21,AO633=0),1,"") | BK632: =IF(AND(AO632=22,AO633=0),1,"") | BL632: =IF(AND(AO632=23,AO633=0),1,"") | BM632: =IF(AND(AO632=24,AO633=0),1,"") | BN632: =IF(AND(AO632=25,AO633=0),1,"") | BO632: =IF(AND(AO632>25,AO633=0),1,"")
C633: =IF(B633="","",VLOOKUP(B633,Tabelle2!$A$1:$B$37,2,0)) | D633: =IF(B633="","",IF(B633=0,"NB",VLOOKUP(C633,Tabelle2!$D$1:$E$4,2,0))) | E633: =IF(B633="","",IF(D632="NB","NB",IF(D632=C633,"W","L"))) | F633: =IF(E633="","",AK632) | G633: =IF(E633="NB",0,IF(E633="w",2,IF(E633="l",-1,""))) | H633: =IF(E633="","",IF(E633="NB",0,G633*F633)) | I633: =IF(E633="",0,I632+H633) -> 0 | J633: =IF(B633="","",IF(B633=0,"X","")) | U633: =IF(C633=1,1,"") | V633: =IF(C633=2,2,"") | W633: =IF(C633=3,3,"") | X633: =IF(C633=4,4,"") | Z633: =IF(Z632=1,1,IF(U633=1,1,"")) -> 1 | AA633: =IF(AA632=1,1,IF(V633=2,1,"")) -> 1 | AB633: =IF(AB632=1,1,IF(W633=3,1,"")) -> 1 | AC633: =IF(AC632=1,1,IF(X633=4,1,"")) | AD633: =IF(OR(AD632=1,AD632=0),0,IF(SUM(Z633:AC633)=4,1,"")) | AF633: =SUM(U633:X633) -> 0 | AG633: =IF(AF632<>AF633,AF632,IF(AF632=AF633,AG632,IF(AF632=AF631,AG632,AF632))) -> 1 | AH633: =IF(AF633=AG632,AH632,IF(AF633<>AF632,AG632,IF(AF632=AF631,AH632,IF(AF633=AF631,AH632,IF(AF632=AF633,AH632,SUM(U631:X631)))))) -> 3 | AJ633: =IF(E633="NB",AJ632,IF(E633="",0,IF(E633="l",AJ632+1,IF(E633="w",IF($P$2=0,0,IF(AND($P$2>0,AJ632>$P$2),AJ632-$P$2,0)))))) -> 0 | AK633: =VLOOKUP(AJ633,$R$2:S652,2,0) -> 1 | AM633: =IF(I633<=AM632,AM632,I633) -> 246 | AO633: =IF(E633="l",AO632+1,IF(E633="w",0,0)) -> 0 | AP633: =IF(AND(AO633=1,AO634=0),1,"") | AQ633: =IF(AND(AO633=2,AO634=0),1,"") | AR633: =IF(AND(AO633=3,AO634=0),1,"") | AS633: =IF(AND(AO633=4,AO634=0),1,"") | AT633: =IF(AND(AO633=5,AO634=0),1,"") | AU633: =IF(AND(AO633=6,AO634=0),1,"") | AV633: =IF(AND(AO633=7,AO634=0),1,"") | AW633: =IF(AND(AO633=8,AO634=0),1,"") | AX633: =IF(AND(AO633=9,AO634=0),1,"") | AY633: =IF(AND(AO633=10,AO634=0),1,"") | AZ633: =IF(AND(AO633=11,AO634=0),1,"") | BA633: =IF(AND(AO633=12,AO634=0),1,"") | BB633: =IF(AND(AO633=13,AO634=0),1,"") | BC633: =IF(AND(AO633=14,AO634=0),1,"") | BD633: =IF(AND(AO633=15,AO634=0),1,"") | BE633: =IF(AND(AO633=16,AO634=0),1,"") | BF633: =IF(AND(AO633=17,AO634=0),1,"") | BG633: =IF(AND(AO633=18,AO634=0),1,"") | BH633: =IF(AND(AO633=19,AO634=0),1,"") | BI633: =IF(AND(AO633=20,AO634=0),1,"") | BJ633: =IF(AND(AO633=21,AO634=0),1,"") | BK633: =IF(AND(AO633=22,AO634=0),1,"") | BL633: =IF(AND(AO633=23,AO634=0),1,"") | BM633: =IF(AND(AO633=24,AO634=0),1,"") | BN633: =IF(AND(AO633=25,AO634=0),1,"") | BO633: =IF(AND(AO633>25,AO634=0),1,"")
C634: =IF(B634="","",VLOOKUP(B634,Tabelle2!$A$1:$B$37,2,0)) | D634: =IF(B634="","",IF(B634=0,"NB",VLOOKUP(C634,Tabelle2!$D$1:$E$4,2,0))) | E634: =IF(B634="","",IF(D633="NB","NB",IF(D633=C634,"W","L"))) | F634: =IF(E634="","",AK633) | G634: =IF(E634="NB",0,IF(E634="w",2,IF(E634="l",-1,""))) | H634: =IF(E634="","",IF(E634="NB",0,G634*F634)) | I634: =IF(E634="",0,I633+H634) -> 0 | J634: =IF(B634="","",IF(B634=0,"X","")) | U634: =IF(C634=1,1,"") | V634: =IF(C634=2,2,"") | W634: =IF(C634=3,3,"") | X634: =IF(C634=4,4,"") | Z634: =IF(Z633=1,1,IF(U634=1,1,"")) -> 1 | AA634: =IF(AA633=1,1,IF(V634=2,1,"")) -> 1 | AB634: =IF(AB633=1,1,IF(W634=3,1,"")) -> 1 | AC634: =IF(AC633=1,1,IF(X634=4,1,"")) | AD634: =IF(OR(AD633=1,AD633=0),0,IF(SUM(Z634:AC634)=4,1,"")) | AF634: =SUM(U634:X634) -> 0 | AG634: =IF(AF633<>AF634,AF633,IF(AF633=AF634,AG633,IF(AF633=AF632,AG633,AF633))) -> 1 | AH634: =IF(AF634=AG633,AH633,IF(AF634<>AF633,AG633,IF(AF633=AF632,AH633,IF(AF634=AF632,AH633,IF(AF633=AF634,AH633,SUM(U632:X632)))))) -> 3 | AJ634: =IF(E634="NB",AJ633,IF(E634="",0,IF(E634="l",AJ633+1,IF(E634="w",IF($P$2=0,0,IF(AND($P$2>0,AJ633>$P$2),AJ633-$P$2,0)))))) -> 0 | AK634: =VLOOKUP(AJ634,$R$2:S653,2,0) -> 1 | AM634: =IF(I634<=AM633,AM633,I634) -> 246 | AO634: =IF(E634="l",AO633+1,IF(E634="w",0,0)) -> 0 | AP634: =IF(AND(AO634=1,AO635=0),1,"") | AQ634: =IF(AND(AO634=2,AO635=0),1,"") | AR634: =IF(AND(AO634=3,AO635=0),1,"") | AS634: =IF(AND(AO634=4,AO635=0),1,"") | AT634: =IF(AND(AO634=5,AO635=0),1,"") | AU634: =IF(AND(AO634=6,AO635=0),1,"") | AV634: =IF(AND(AO634=7,AO635=0),1,"") | AW634: =IF(AND(AO634=8,AO635=0),1,"") | AX634: =IF(AND(AO634=9,AO635=0),1,"") | AY634: =IF(AND(AO634=10,AO635=0),1,"") | AZ634: =IF(AND(AO634=11,AO635=0),1,"") | BA634: =IF(AND(AO634=12,AO635=0),1,"") | BB634: =IF(AND(AO634=13,AO635=0),1,"") | BC634: =IF(AND(AO634=14,AO635=0),1,"") | BD634: =IF(AND(AO634=15,AO635=0),1,"") | BE634: =IF(AND(AO634=16,AO635=0),1,"") | BF634: =IF(AND(AO634=17,AO635=0),1,"") | BG634: =IF(AND(AO634=18,AO635=0),1,"") | BH634: =IF(AND(AO634=19,AO635=0),1,"") | BI634: =IF(AND(AO634=20,AO635=0),1,"") | BJ634: =IF(AND(AO634=21,AO635=0),1,"") | BK634: =IF(AND(AO634=22,AO635=0),1,"") | BL634: =IF(AND(AO634=23,AO635=0),1,"") | BM634: =IF(AND(AO634=24,AO635=0),1,"") | BN634: =IF(AND(AO634=25,AO635=0),1,"") | BO634: =IF(AND(AO634>25,AO635=0),1,"")
... C1000: =IF(B1000="","",VLOOKUP(B1000,Tabelle2!$A$1:$B$37,2,0)) | D1000: =IF(B1000="","",IF(B1000=0,"NB",VLOOKUP(C1000,Tabelle2!$D$1:$E$4,2,0))) | E1000: =IF(B1000="","",IF(D999="NB","NB",IF(D999=C1000,"W","L"))) | F1000: =IF(E1000="","",AK999) | G1000: =IF(E1000="NB",0,IF(E1000="w",2,IF(E1000="l",-1,""))) | H1000: =IF(E1000="","",IF(E1000="NB",0,G1000*F1000)) | I1000: =IF(E1000="",0,I999+H1000) -> 0 | J1000: =IF(B1000="","",IF(B1000=0,"X","")) | U1000: =IF(C1000=1,1,"") | V1000: =IF(C1000=2,2,"") | W1000: =IF(C1000=3,3,"") | X1000: =IF(C1000=4,4,"") | Z1000: =IF(Z999=1,1,IF(U1000=1,1,"")) -> 1 | AA1000: =IF(AA999=1,1,IF(V1000=2,1,"")) -> 1 | AB1000: =IF(AB999=1,1,IF(W1000=3,1,"")) -> 1 | AC1000: =IF(AC999=1,1,IF(X1000=4,1,"")) | AD1000: =IF(OR(AD999=1,AD999=0),0,IF(SUM(Z1000:AC1000)=4,1,"")) | AF1000: =SUM(U1000:X1000) -> 0 | AG1000: =IF(AF999<>AF1000,AF999,IF(AF999=AF1000,AG999,IF(AF999=AF998,AG999,AF999))) -> 1 | AH1000: =IF(AF1000=AG999,AH999,IF(AF1000<>AF999,AG999,IF(AF999=AF998,AH999,IF(AF1000=AF998,AH999,IF(AF999=AF1000,AH999,SUM(U998:X998)))))) -> 3 | AJ1000: =IF(E1000="NB",AJ999,IF(E1000="",0,IF(E1000="l",AJ999+1,IF(E1000="w",IF($P$2=0,0,IF(AND($P$2>0,AJ999>$P$2),AJ999-$P$2,0)))))) -> 0 | AK1000: =VLOOKUP(AJ1000,$R$2:S1019,2,0) -> 1 | AM1000: =IF(I1000<=AM999,AM999,I1000) -> 246 | AO1000: =IF(E1000="l",AO999+1,IF(E1000="w",0,0)) -> 0 | AP1000: =IF(AND(AO1000=1,AO1001=0),1,"") | AQ1000: =IF(AND(AO1000=2,AO1001=0),1,"") | AR1000: =IF(AND(AO1000=3,AO1001=0),1,"") | AS1000: =IF(AND(AO1000=4,AO1001=0),1,"") | AT1000: =IF(AND(AO1000=5,AO1001=0),1,"") | AU1000: =IF(AND(AO1000=6,AO1001=0),1,"") | AV1000: =IF(AND(AO1000=7,AO1001=0),1,"") | AW1000: =IF(AND(AO1000=8,AO1001=0),1,"") | AX1000: =IF(AND(AO1000=9,AO1001=0),1,"") | AY1000: =IF(AND(AO1000=10,AO1001=0),1,"") | AZ1000: =IF(AND(AO1000=11,AO1001=0),1,"") | BA1000: =IF(AND(AO1000=12,AO1001=0),1,"") | BB1000: =IF(AND(AO1000=13,AO1001=0),1,"") | BC1000: =IF(AND(AO1000=14,AO1001=0),1,"") | BD1000: =IF(AND(AO1000=15,AO1001=0),1,"") | BE1000: =IF(AND(AO1000=16,AO1001=0),1,"") | BF1000: =IF(AND(AO1000=17,AO1001=0),1,"") | BG1000: =IF(AND(AO1000=18,AO1001=0),1,"") | BH1000: =IF(AND(AO1000=19,AO1001=0),1,"") | BI1000: =IF(AND(AO1000=20,AO1001=0),1,"") | BJ1000: =IF(AND(AO1000=21,AO1001=0),1,"") | BK1000: =IF(AND(AO1000=22,AO1001=0),1,"") | BL1000: =IF(AND(AO1000=23,AO1001=0),1,"") | BM1000: =IF(AND(AO1000=24,AO1001=0),1,"") | BN1000: =IF(AND(AO1000=25,AO1001=0),1,"") | BO1000: =IF(AND(AO1000>25,AO1001=0),1,"")
AP1001: =SUM(AP2:AP1000) -> 52 | AQ1001: =SUM(AQ2:AQ1000) -> 40 | AR1001: =SUM(AR2:AR1000) -> 20 | AS1001: =SUM(AS2:AS1000) -> 15 | AT1001: =SUM(AT2:AT1000) -> 7 | AU1001: =SUM(AU2:AU1000) -> 3 | AV1001: =SUM(AV2:AV1000) -> 2 | AW1001: =SUM(AW2:AW1000) -> 0 | ... BO1001: =SUM(BO2:BO1000) -> 0
M1048573: =AZ1001 -> 1
