Workbook

Sheet Tabelle2
A1: 0 | B1: 0 | D1: 1 | E1: 3
A2: 1 | B2: 1 | D2: 2 | E2: 2
A3: 2 | B3: 1 | D3: 3 | E3: 1
A4: 3 | B4: 1 | D4: 0 | E4: 0
A5: 4 | B5: 1
A6: 5 | B6: 1
A7: 6 | B7: 1
A8: 7 | B8: 1
A9: 8 | B9: 1
A10: 9 | B10: 1
A11: 10 | B11: 1
A12: 11 | B12: 1
A13: 12 | B13: 1
A14: 13 | B14: 2
A15: 14 | B15: 2
A16: 15 | B16: 2
... A37: 36 | B37: 3

Sheet Tabelle6
A1: Num | C1: DZ | D1: Bet DZ | E1: W/L | F1: Prog | G1: W/L | H1: Win/Loss | I1: Total | J1: Zero | P1: After win | R1: Lvl | S1: Prog | U1: S1 | V1: S2 | W1: S3 | X1: S4 | Z1: CB1 | AA1: CB2 | AB1: CB3 | AC1: CB4 | AD1: BET | AF1: Last | AG1: Bet1 | AH1: Bet2 | AJ1: PLvl | AK1: BetProg | AM1: High | AO1: Loss | AP1: L1 | AQ1: L2 | AR1: L3 | AS1: L4 | AT1: L5 | AU1: L6 | AV1: L7 | AW1: L8 | AX1: L9 | AY1: L10 | AZ1: L11 | BA1: L12 | BB1: L13 | BC1: L14 | BD1: L15 | BE1: L16 | BF1: L17 | BG1: L18 | BH1: L19 | BI1: L20 | BJ1: L21 | BK1: L22 | BL1: L23 | BM1: L24 | BN1: L25 | BO1: L >25
B2: 13 | C2: =IF(B2="","",VLOOKUP(B2,Tabelle2!$A$1:$B$37,2,0)) -> 2 | D2: =IF(B2="","",IF(B2=0,"NB",VLOOKUP(C2,Tabelle2!$D$1:$E$4,2,0))) -> 2 | G2: =IF(E2="w",6,IF(E2="l",-6,"")) | I2: =IF(E2="",0,I1+H2) -> 0 | J2: =IF(B2="","",IF(B2=0,"X","")) | L2: Max | M2: =MAX(I2:I1000) -> 246 | P2: 0 | R2: 0 | S2: 1 | U2: =IF(C2=1,1,"") | V2: =IF(C2=2,2,"") -> 2 | W2: =IF(C2=3,3,"") | X2: =IF(C2=4,4,"") | Z2: =IF(U2=1,1,"") | AA2: =IF(V2=2,1,"") -> 1 | AB2: =IF(W2=3,1,"") | AC2: =IF(X2=4,1,"") | AD2: =IF(AD1=1,1,IF(SUM(Z2:AC2)=4,1,"")) | AF2: =SUM(U2:X2) -> 2 | AJ2: =IF(E2="NB",AJ1,IF(E2="",0,IF(E2="l",AJ1+1,IF(E2="w",IF($P$2=0,0,IF(AND($P$2>0,AJ1>$P$2),AJ1-$P$2,0)))))) -> 0 | AK2: =VLOOKUP(AJ2,$R$2:S21,2,0) -> 1 | AO2: 0 | AP2: =IF(AND(AO2=1,AO3=0),1,"") | AQ2: =IF(AND(AO2=2,AO3=0),1,"") | AR2: =IF(AND(AO2=3,AO3=0),1,"") | AS2: =IF(AND(AO2=4,AO3=0),1,"") | AT2: =IF(AND(AO2=5,AO3=0),1,"") | AU2: =IF(AND(AO2=6,AO3=0),1,"") | AV2: =IF(AND(AO2=7,AO3=0),1,"") | AW2: =IF(AND(AO2=8,AO3=0),1,"") | AX2: =IF(AND(AO2=9,AO3=0),1,"") | AY2: =IF(AND(AO2=10,AO3=0),1,"") | AZ2: =IF(AND(AO2=11,AO3=0),1,"") | BA2: =IF(AND(AO2=12,AO3=0),1,"") | BB2: =IF(AND(AO2=13,AO3=0),1,"") | BC2: =IF(AND(AO2=14,AO3=0),1,"") | BD2: =IF(AND(AO2=15,AO3=0),1,"") | BE2: =IF(AND(AO2=16,AO3=0),1,"") | BF2: =IF(AND(AO2=17,AO3=0),1,"") | BG2: =IF(AND(AO2=18,AO3=0),1,"") | BH2: =IF(AND(AO2=19,AO3=0),1,"") | BI2: =IF(AND(AO2=20,AO3=0),1,"") | BJ2: =IF(AND(AO2=21,AO3=0),1,"") | BK2: =IF(AND(AO2=22,AO3=0),1,"") | BL2: =IF(AND(AO2=23,AO3=0),1,"") | BM2: =IF(AND(AO2=24,AO3=0),1,"") | BN2: =IF(AND(AO2=25,AO3=0),1,"") | BO2: =IF(AND(AO2>25,AO3=0),1,"")
B3: 15 | C3: =IF(B3="","",VLOOKUP(B3,Tabelle2!$A$1:$B$37,2,0)) -> 2 | D3: =IF(B3="","",IF(B3=0,"NB",VLOOKUP(C3,Tabelle2!$D$1:$E$4,2,0))) -> 2 | E3: =IF(B3="","",IF(D2="NB","NB",IF(D2=C3,"W","L"))) -> W | F3: =IF(E3="","",AK2) -> 1 | G3: =IF(E3="NB",0,IF(E3="w",2,IF(E3="l",-1,""))) -> 2 | H3: =IF(E3="","",IF(E3="NB",0,G3*F3)) -> 2 | I3: =IF(E3="",0,I2+H3) -> 2 | J3: =IF(B3="","",IF(B3=0,"X","")) | L3: Min | M3: =MIN(I2:I1000) -> -15 | R3: 1 | S3: 1 | U3: =IF(C3=1,1,"") | V3: =IF(C3=2,2,"") -> 2 | W3: =IF(C3=3,3,"") | X3: =IF(C3=4,4,"") | Z3: =IF(Z2=1,1,IF(U3=1,1,"")) | AA3: =IF(AA2=1,1,IF(V3=2,1,"")) -> 1 | AB3: =IF(AB2=1,1,IF(W3=3,1,"")) | AC3: =IF(AC2=1,1,IF(X3=4,1,"")) | AD3: =IF(AD2=1,1,IF(SUM(Z3:AC3)=4,1,"")) | AF3: =SUM(U3:X3) -> 2 | AG3: =SUM(U2:X2) -> 2 | AJ3: =IF(E3="NB",AJ2,IF(E3="",0,IF(E3="l",AJ2+1,IF(E3="w",IF($P$2=0,0,IF(AND($P$2>0,AJ2>$P$2),AJ2-$P$2,0)))))) -> 0 | AK3: =VLOOKUP(AJ3,$R$2:S22,2,0) -> 1 | AO3: =IF(E3="l",AO2+1,IF(E3="w",0,0)) -> 0 | AP3: =IF(AND(AO3=1,AO4=0),1,"") | AQ3: =IF(AND(AO3=2,AO4=0),1,"") | AR3: =IF(AND(AO3=3,AO4=0),1,"") | AS3: =IF(AND(AO3=4,AO4=0),1,"") | AT3: =IF(AND(AO3=5,AO4=0),1,"") | AU3: =IF(AND(AO3=6,AO4=0),1,"") | AV3: =IF(AND(AO3=7,AO4=0),1,"") | AW3: =IF(AND(AO3=8,AO4=0),1,"") | AX3: =IF(AND(AO3=9,AO4=0),1,"") | AY3: =IF(AND(AO3=10,AO4=0),1,"") | AZ3: =IF(AND(AO3=11,AO4=0),1,"") | BA3: =IF(AND(AO3=12,AO4=0),1,"") | BB3: =IF(AND(AO3=13,AO4=0),1,"") | BC3: =IF(AND(AO3=14,AO4=0),1,"") | BD3: =IF(AND(AO3=15,AO4=0),1,"") | BE3: =IF(AND(AO3=16,AO4=0),1,"") | BF3: =IF(AND(AO3=17,AO4=0),1,"") | BG3: =IF(AND(AO3=18,AO4=0),1,"") | BH3: =IF(AND(AO3=19,AO4=0),1,"") | BI3: =IF(AND(AO3=20,AO4=0),1,"") | BJ3: =IF(AND(AO3=21,AO4=0),1,"") | BK3: =IF(AND(AO3=22,AO4=0),1,"") | BL3: =IF(AND(AO3=23,AO4=0),1,"") | BM3: =IF(AND(AO3=24,AO4=0),1,"") | BN3: =IF(AND(AO3=25,AO4=0),1,"") | BO3: =IF(AND(AO3>25,AO4=0),1,"")
B4: 5 | C4: =IF(B4="","",VLOOKUP(B4,Tabelle2!$A$1:$B$37,2,0)) -> 1 | D4: =IF(B4="","",IF(B4=0,"NB",VLOOKUP(C4,Tabelle2!$D$1:$E$4,2,0))) -> 3 | E4: =IF(B4="","",IF(D3="NB","NB",IF(D3=C4,"W","L"))) -> L | F4: =IF(E4="","",AK3) -> 1 | G4: =IF(E4="NB",0,IF(E4="w",2,IF(E4="l",-1,""))) -> -1 | H4: =IF(E4="","",IF(E4="NB",0,G4*F4)) -> -1 | I4: =IF(E4="",0,I3+H4) -> 1 | J4: =IF(B4="","",IF(B4=0,"X","")) | O4: 0 = Start Lvl 1 | R4: 2 | S4: 2 | U4: =IF(C4=1,1,"") -> 1 | V4: =IF(C4=2,2,"") | W4: =IF(C4=3,3,"") | X4: =IF(C4=4,4,"") | Z4: =IF(Z3=1,1,IF(U4=1,1,"")) -> 1 | AA4: =IF(AA3=1,1,IF(V4=2,1,"")) -> 1 | AB4: =IF(AB3=1,1,IF(W4=3,1,"")) | AC4: =IF(AC3=1,1,IF(X4=4,1,"")) | AD4: =IF(OR(AD3=1,AD3=0),0,IF(SUM(Z4:AC4)=4,1,"")) | AF4: =SUM(U4:X4) -> 1 | AG4: =IF(AF3<>AF4,AF3,IF(AF3=AF4,AG3,IF(AF3=AF2,AG3,AF3))) -> 2 | AH4: =IF(AF4=AG3,AH3,IF(AF4<>AF3,AG3,IF(AF3=AF2,AH3,IF(AF4=AF2,AH3,IF(AF3=AF4,AH3,SUM(U2:X2)))))) -> 2 | AJ4: =IF(E4="NB",AJ3,IF(E4="",0,IF(E4="l",AJ3+1,IF(E4="w",IF($P$2=0,0,IF(AND($P$2>0,AJ3>$P$2),AJ3-$P$2,0)))))) -> 1 | AK4: =VLOOKUP(AJ4,$R$2:S23,2,0) -> 1 | AO4: =IF(E4="l",AO3+1,IF(E4="w",0,0)) -> 1 | AP4: =IF(AND(AO4=1,AO5=0),1,"") | AQ4: =IF(AND(AO4=2,AO5=0),1,"") | AR4: =IF(AND(AO4=3,AO5=0),1,"") | AS4: =IF(AND(AO4=4,AO5=0),1,"") | AT4: =IF(AND(AO4=5,AO5=0),1,"") | AU4: =IF(AND(AO4=6,AO5=0),1,"") | AV4: =IF(AND(AO4=7,AO5=0),1,"") | AW4: =IF(AND(AO4=8,AO5=0),1,"") | AX4: =IF(AND(AO4=9,AO5=0),1,"") | AY4: =IF(AND(AO4=10,AO5=0),1,"") | AZ4: =IF(AND(AO4=11,AO5=0),1,"") | BA4: =IF(AND(AO4=12,AO5=0),1,"") | BB4: =IF(AND(AO4=13,AO5=0),1,"") | BC4: =IF(AND(AO4=14,AO5=0),1,"") | BD4: =IF(AND(AO4=15,AO5=0),1,"") | BE4: =IF(AND(AO4=16,AO5=0),1,"") | BF4: =IF(AND(AO4=17,AO5=0),1,"") | BG4: =IF(AND(AO4=18,AO5=0),1,"") | BH4: =IF(AND(AO4=19,AO5=0),1,"") | BI4: =IF(AND(AO4=20,AO5=0),1,"") | BJ4: =IF(AND(AO4=21,AO5=0),1,"") | BK4: =IF(AND(AO4=22,AO5=0),1,"") | BL4: =IF(AND(AO4=23,AO5=0),1,"") | BM4: =IF(AND(AO4=24,AO5=0),1,"") | BN4: =IF(AND(AO4=25,AO5=0),1,"") | BO4: =IF(AND(AO4>25,AO5=0),1,"")
B5: 17 | C5: =IF(B5="","",VLOOKUP(B5,Tabelle2!$A$1:$B$37,2,0)) -> 2 | D5: =IF(B5="","",IF(B5=0,"NB",VLOOKUP(C5,Tabelle2!$D$1:$E$4,2,0))) -> 2 | E5: =IF(B5="","",IF(D4="NB","NB",IF(D4=C5,"W","L"))) -> L | F5: =IF(E5="","",AK4) -> 1 | G5: =IF(E5="NB",0,IF(E5="w",2,IF(E5="l",-1,""))) -> -1 | H5: =IF(E5="","",IF(E5="NB",0,G5*F5)) -> -1 | I5: =IF(E5="",0,I4+H5) -> 0 | J5: =IF(B5="","",IF(B5=0,"X","")) | L5: Max Loss | M5: =MAX(AO2:AO1000) -> 15 | O5: x = go back x | R5: 3 | S5: 3 | U5: =IF(C5=1,1,"") | V5: =IF(C5=2,2,"") -> 2 | W5: =IF(C5=3,3,"") | X5: =IF(C5=4,4,"") | Z5: =IF(Z4=1,1,IF(U5=1,1,"")) -> 1 | AA5: =IF(AA4=1,1,IF(V5=2,1,"")) -> 1 | AB5: =IF(AB4=1,1,IF(W5=3,1,"")) | AC5: =IF(AC4=1,1,IF(X5=4,1,"")) | AD5: =IF(OR(AD4=1,AD4=0),0,IF(SUM(Z5:AC5)=4,1,"")) | AF5: =SUM(U5:X5) -> 2 | AG5: =IF(AF4<>AF5,AF4,IF(AF4=AF5,AG4,IF(AF4=AF3,AG4,AF4))) -> 1 | AH5: =IF(AF5=AG4,AH4,IF(AF5<>AF4,AG4,IF(AF4=AF3,AH4,IF(AF5=AF3,AH4,IF(AF4=AF5,AH4,SUM(U3:X3)))))) -> 2 | AJ5: =IF(E5="NB",AJ4,IF(E5="",0,IF(E5="l",AJ4+1,IF(E5="w",IF($P$2=0,0,IF(AND($P$2>0,AJ4>$P$2),AJ4-$P$2,0)))))) -> 2 | AK5: =VLOOKUP(AJ5,$R$2:S24,2,0) -> 2 | AO5: =IF(E5="l",AO4+1,IF(E5="w",0,0)) -> 2 | AP5: =IF(AND(AO5=1,AO6=0),1,"") | AQ5: =IF(AND(AO5=2,AO6=0),1,"") | AR5: =IF(AND(AO5=3,AO6=0),1,"") | AS5: =IF(AND(AO5=4,AO6=0),1,"") | AT5: =IF(AND(AO5=5,AO6=0),1,"") | AU5: =IF(AND(AO5=6,AO6=0),1,"") | AV5: =IF(AND(AO5=7,AO6=0),1,"") | AW5: =IF(AND(AO5=8,AO6=0),1,"") | AX5: =IF(AND(AO5=9,AO6=0),1,"") | AY5: =IF(AND(AO5=10,AO6=0),1,"") | AZ5: =IF(AND(AO5=11,AO6=0),1,"") | BA5: =IF(AND(AO5=12,AO6=0),1,"") | BB5: =IF(AND(AO5=13,AO6=0),1,"") | BC5: =IF(AND(AO5=14,AO6=0),1,"") | BD5: =IF(AND(AO5=15,AO6=0),1,"") | BE5: =IF(AND(AO5=16,AO6=0),1,"") | BF5: =IF(AND(AO5=17,AO6=0),1,"") | BG5: =IF(AND(AO5=18,AO6=0),1,"") | BH5: =IF(AND(AO5=19,AO6=0),1,"") | BI5: =IF(AND(AO5=20,AO6=0),1,"") | BJ5: =IF(AND(AO5=21,AO6=0),1,"") | BK5: =IF(AND(AO5=22,AO6=0),1,"") | BL5: =IF(AND(AO5=23,AO6=0),1,"") | BM5: =IF(AND(AO5=24,AO6=0),1,"") | BN5: =IF(AND(AO5=25,AO6=0),1,"") | BO5: =IF(AND(AO5>25,AO6=0),1,"")
B6: 25 | C6: =IF(B6="","",VLOOKUP(B6,Tabelle2!$A$1:$B$37,2,0)) -> 3 | D6: =IF(B6="","",IF(B6=0,"NB",VLOOKUP(C6,Tabelle2!$D$1:$E$4,2,0))) -> 1 | E6: =IF(B6="","",IF(D5="NB","NB",IF(D5=C6,"W","L"))) -> L | F6: =IF(E6="","",AK5) -> 2 | G6: =IF(E6="NB",0,IF(E6="w",2,IF(E6="l",-1,""))) -> -1 | H6: =IF(E6="","",IF(E6="NB",0,G6*F6)) -> -2 | I6: =IF(E6="",0,I5+H6) -> -2 | J6: =IF(B6="","",IF(B6=0,"X","")) | R6: 4 | S6: 7 | U6: =IF(C6=1,1,"") | V6: =IF(C6=2,2,"") | W6: =IF(C6=3,3,"") -> 3 | X6: =IF(C6=4,4,"") | Z6: =IF(Z5=1,1,IF(U6=1,1,"")) -> 1 | AA6: =IF(AA5=1,1,IF(V6=2,1,"")) -> 1 | AB6: =IF(AB5=1,1,IF(W6=3,1,"")) -> 1 | AC6: =IF(AC5=1,1,IF(X6=4,1,"")) | AD6: =IF(OR(AD5=1,AD5=0),0,IF(SUM(Z6:AC6)=4,1,"")) | AF6: =SUM(U6:X6) -> 3 | AG6: =IF(AF5<>AF6,AF5,IF(AF5=AF6,AG5,IF(AF5=AF4,AG5,AF5))) -> 2 | AH6: =IF(AF6=AG5,AH5,IF(AF6<>AF5,AG5,IF(AF5=AF4,AH5,IF(AF6=AF4,AH5,IF(AF5=AF6,AH5,SUM(U4:X4)))))) -> 1 | AJ6: =IF(E6="NB",AJ5,IF(E6="",0,IF(E6="l",AJ5+1,IF(E6="w",IF($P$2=0,0,IF(AND($P$2>0,AJ5>$P$2),AJ5-$P$2,0)))))) -> 3 | AK6: =VLOOKUP(AJ6,$R$2:S25,2,0) -> 3 | AO6: =IF(E6="l",AO5+1,IF(E6="w",0,0)) -> 3 | AP6: =IF(AND(AO6=1,AO7=0),1,"") | AQ6: =IF(AND(AO6=2,AO7=0),1,"") | AR6: =IF(AND(AO6=3,AO7=0),1,"") -> 1 | AS6: =IF(AND(AO6=4,AO7=0),1,"") | AT6: =IF(AND(AO6=5,AO7=0),1,"") | AU6: =IF(AND(AO6=6,AO7=0),1,"") | AV6: =IF(AND(AO6=7,AO7=0),1,"") | AW6: =IF(AND(AO6=8,AO7=0),1,"") | AX6: =IF(AND(AO6=9,AO7=0),1,"") | AY6: =IF(AND(AO6=10,AO7=0),1,"") | AZ6: =IF(AND(AO6=11,AO7=0),1,"") | BA6: =IF(AND(AO6=12,AO7=0),1,"") | BB6: =IF(AND(AO6=13,AO7=0),1,"") | BC6: =IF(AND(AO6=14,AO7=0),1,"") | BD6: =IF(AND(AO6=15,AO7=0),1,"") | BE6: =IF(AND(AO6=16,AO7=0),1,"") | BF6: =IF(AND(AO6=17,AO7=0),1,"") | BG6: =IF(AND(AO6=18,AO7=0),1,"") | BH6: =IF(AND(AO6=19,AO7=0),1,"") | BI6: =IF(AND(AO6=20,AO7=0),1,"") | BJ6: =IF(AND(AO6=21,AO7=0),1,"") | BK6: =IF(AND(AO6=22,AO7=0),1,"") | BL6: =IF(AND(AO6=23,AO7=0),1,"") | BM6: =IF(AND(AO6=24,AO7=0),1,"") | BN6: =IF(AND(AO6=25,AO7=0),1,"") | BO6: =IF(AND(AO6>25,AO7=0),1,"")
B7: 2 | C7: =IF(B7="","",VLOOKUP(B7,Tabelle2!$A$1:$B$37,2,0)) -> 1 | D7: =IF(B7="","",IF(B7=0,"NB",VLOOKUP(C7,Tabelle2!$D$1:$E$4,2,0))) -> 3 | E7: =IF(B7="","",IF(D6="NB","NB",IF(D6=C7,"W","L"))) -> W | F7: =IF(E7="","",AK6) -> 3 | G7: =IF(E7="NB",0,IF(E7="w",2,IF(E7="l",-1,""))) -> 2 | H7: =IF(E7="","",IF(E7="NB",0,G7*F7)) -> 6 | I7: =IF(E7="",0,I6+H7) -> 4 | J7: =IF(B7="","",IF(B7=0,"X","")) | L7: Flat Bet | M7: =SUM(G2:G1000) -> 47 | R7: 5 | S7: 15 | U7: =IF(C7=1,1,"") -> 1 | V7: =IF(C7=2,2,"") | W7: =IF(C7=3,3,"") | X7: =IF(C7=4,4,"") | Z7: =IF(Z6=1,1,IF(U7=1,1,"")) -> 1 | AA7: =IF(AA6=1,1,IF(V7=2,1,"")) -> 1 | AB7: =IF(AB6=1,1,IF(W7=3,1,"")) -> 1 | AC7: =IF(AC6=1,1,IF(X7=4,1,"")) | AD7: =IF(OR(AD6=1,AD6=0),0,IF(SUM(Z7:AC7)=4,1,"")) | AF7: =SUM(U7:X7) -> 1 | AG7: =IF(AF6<>AF7,AF6,IF(AF6=AF7,AG6,IF(AF6=AF5,AG6,AF6))) -> 3 | AH7: =IF(AF7=AG6,AH6,IF(AF7<>AF6,AG6,IF(AF6=AF5,AH6,IF(AF7=AF5,AH6,IF(AF6=AF7,AH6,SUM(U5:X5)))))) -> 2 | AJ7: =IF(E7="NB",AJ6,IF(E7="",0,IF(E7="l",AJ6+1,IF(E7="w",IF($P$2=0,0,IF(AND($P$2>0,AJ6>$P$2),AJ6-$P$2,0)))))) -> 0 | AK7: =VLOOKUP(AJ7,$R$2:S26,2,0) -> 1 | AO7: =IF(E7="l",AO6+1,IF(E7="w",0,0)) -> 0 | AP7: =IF(AND(AO7=1,AO8=0),1,"") | AQ7: =IF(AND(AO7=2,AO8=0),1,"") | AR7: =IF(AND(AO7=3,AO8=0),1,"") | AS7: =IF(AND(AO7=4,AO8=0),1,"") | AT7: =IF(AND(AO7=5,AO8=0),1,"") | AU7: =IF(AND(AO7=6,AO8=0),1,"") | AV7: =IF(AND(AO7=7,AO8=0),1,"") | AW7: =IF(AND(AO7=8,AO8=0),1,"") | AX7: =IF(AND(AO7=9,AO8=0),1,"") | AY7: =IF(AND(AO7=10,AO8=0),1,"") | AZ7: =IF(AND(AO7=11,AO8=0),1,"") | BA7: =IF(AND(AO7=12,AO8=0),1,"") | BB7: =IF(AND(AO7=13,AO8=0),1,"") | BC7: =IF(AND(AO7=14,AO8=0),1,"") | BD7: =IF(AND(AO7=15,AO8=0),1,"") | BE7: =IF(AND(AO7=16,AO8=0),1,"") | BF7: =IF(AND(AO7=17,AO8=0),1,"") | BG7: =IF(AND(AO7=18,AO8=0),1,"") | BH7: =IF(AND(AO7=19,AO8=0),1,"") | BI7: =IF(AND(AO7=20,AO8=0),1,"") | BJ7: =IF(AND(AO7=21,AO8=0),1,"") | BK7: =IF(AND(AO7=22,AO8=0),1,"") | BL7: =IF(AND(AO7=23,AO8=0),1,"") | BM7: =IF(AND(AO7=24,AO8=0),1,"") | BN7: =IF(AND(AO7=25,AO8=0),1,"") | BO7: =IF(AND(AO7>25,AO8=0),1,"")
B8: 13 | C8: =IF(B8="","",VLOOKUP(B8,Tabelle2!$A$1:$B$37,2,0)) -> 2 | D8: =IF(B8="","",IF(B8=0,"NB",VLOOKUP(C8,Tabelle2!$D$1:$E$4,2,0))) -> 2 | E8: =IF(B8="","",IF(D7="NB","NB",IF(D7=C8,"W","L"))) -> L | F8: =IF(E8="","",AK7) -> 1 | G8: =IF(E8="NB",0,IF(E8="w",2,IF(E8="l",-1,""))) -> -1 | H8: =IF(E8="","",IF(E8="NB",0,G8*F8)) -> -1 | I8: =IF(E8="",0,I7+H8) -> 3 | J8: =IF(B8="","",IF(B8=0,"X","")) | R8: 6 | S8: 1 | U8: =IF(C8=1,1,"") | V8: =IF(C8=2,2,"") -> 2 | W8: =IF(C8=3,3,"") | X8: =IF(C8=4,4,"") | Z8: =IF(Z7=1,1,IF(U8=1,1,"")) -> 1 | AA8: =IF(AA7=1,1,IF(V8=2,1,"")) -> 1 | AB8: =IF(AB7=1,1,IF(W8=3,1,"")) -> 1 | AC8: =IF(AC7=1,1,IF(X8=4,1,"")) | AD8: =IF(OR(AD7=1,AD7=0),0,IF(SUM(Z8:AC8)=4,1,"")) | AF8: =SUM(U8:X8) -> 2 | AG8: =IF(AF7<>AF8,AF7,IF(AF7=AF8,AG7,IF(AF7=AF6,AG7,AF7))) -> 1 | AH8: =IF(AF8=AG7,AH7,IF(AF8<>AF7,AG7,IF(AF7=AF6,AH7,IF(AF8=AF6,AH7,IF(AF7=AF8,AH7,SUM(U6:X6)))))) -> 3 | AJ8: =IF(E8="NB",AJ7,IF(E8="",0,IF(E8="l",AJ7+1,IF(E8="w",IF($P$2=0,0,IF(AND($P$2>0,AJ7>$P$2),AJ7-$P$2,0)))))) -> 1 | AK8: =VLOOKUP(AJ8,$R$2:S27,2,0) -> 1 | AM8: =I8 -> 3 | AO8: =IF(E8="l",AO7+1,IF(E8="w",0,0)) -> 1 | AP8: =IF(AND(AO8=1,AO9=0),1,"") -> 1 | AQ8: =IF(AND(AO8=2,AO9=0),1,"") | AR8: =IF(AND(AO8=3,AO9=0),1,"") | AS8: =IF(AND(AO8=4,AO9=0),1,"") | AT8: =IF(AND(AO8=5,AO9=0),1,"") | AU8: =IF(AND(AO8=6,AO9=0),1,"") | AV8: =IF(AND(AO8=7,AO9=0),1,"") | AW8: =IF(AND(AO8=8,AO9=0),1,"") | AX8: =IF(AND(AO8=9,AO9=0),1,"") | AY8: =IF(AND(AO8=10,AO9=0),1,"") | AZ8: =IF(AND(AO8=11,AO9=0),1,"") | BA8: =IF(AND(AO8=12,AO9=0),1,"") | BB8: =IF(AND(AO8=13,AO9=0),1,"") | BC8: =IF(AND(AO8=14,AO9=0),1,"") | BD8: =IF(AND(AO8=15,AO9=0),1,"") | BE8: =IF(AND(AO8=16,AO9=0),1,"") | BF8: =IF(AND(AO8=17,AO9=0),1,"") | BG8: =IF(AND(AO8=18,AO9=0),1,"") | BH8: =IF(AND(AO8=19,AO9=0),1,"") | BI8: =IF(AND(AO8=20,AO9=0),1,"") | BJ8: =IF(AND(AO8=21,AO9=0),1,"") | BK8: =IF(AND(AO8=22,AO9=0),1,"") | BL8: =IF(AND(AO8=23,AO9=0),1,"") | BM8: =IF(AND(AO8=24,AO9=0),1,"") | BN8: =IF(AND(AO8=25,AO9=0),1,"") | BO8: =IF(AND(AO8>25,AO9=0),1,"")
B9: 18 | C9: =IF(B9="","",VLOOKUP(B9,Tabelle2!$A$1:$B$37,2,0)) -> 2 | D9: =IF(B9="","",IF(B9=0,"NB",VLOOKUP(C9,Tabelle2!$D$1:$E$4,2,0))) -> 2 | E9: =IF(B9="","",IF(D8="NB","NB",IF(D8=C9,"W","L"))) -> W | F9: =IF(E9="","",AK8) -> 1 | G9: =IF(E9="NB",0,IF(E9="w",2,IF(E9="l",-1,""))) -> 2 | H9: =IF(E9="","",IF(E9="NB",0,G9*F9)) -> 2 | I9: =IF(E9="",0,I8+H9) -> 5 | J9: =IF(B9="","",IF(B9=0,"X","")) | L9: Losses | R9: 7 | S9: 1 | U9: =IF(C9=1,1,"") | V9: =IF(C9=2,2,"") -> 2 | W9: =IF(C9=3,3,"") | X9: =IF(C9=4,4,"") | Z9: =IF(Z8=1,1,IF(U9=1,1,"")) -> 1 | AA9: =IF(AA8=1,1,IF(V9=2,1,"")) -> 1 | AB9: =IF(AB8=1,1,IF(W9=3,1,"")) -> 1 | AC9: =IF(AC8=1,1,IF(X9=4,1,"")) | AD9: =IF(OR(AD8=1,AD8=0),0,IF(SUM(Z9:AC9)=4,1,"")) | AF9: =SUM(U9:X9) -> 2 | AG9: =IF(AF8<>AF9,AF8,IF(AF8=AF9,AG8,IF(AF8=AF7,AG8,AF8))) -> 1 | AH9: =IF(AF9=AG8,AH8,IF(AF9<>AF8,AG8,IF(AF8=AF7,AH8,IF(AF9=AF7,AH8,IF(AF8=AF9,AH8,SUM(U7:X7)))))) -> 3 | AJ9: =IF(E9="NB",AJ8,IF(E9="",0,IF(E9="l",AJ8+1,IF(E9="w",IF($P$2=0,0,IF(AND($P$2>0,AJ8>$P$2),AJ8-$P$2,0)))))) -> 0 | AK9: =VLOOKUP(AJ9,$R$2:S28,2,0) -> 1 | AM9: =IF(I9<=AM8,AM8,I9) -> 5 | AO9: =IF(E9="l",AO8+1,IF(E9="w",0,0)) -> 0 | AP9: =IF(AND(AO9=1,AO10=0),1,"") | AQ9: =IF(AND(AO9=2,AO10=0),1,"") | AR9: =IF(AND(AO9=3,AO10=0),1,"") | AS9: =IF(AND(AO9=4,AO10=0),1,"") | AT9: =IF(AND(AO9=5,AO10=0),1,"") | AU9: =IF(AND(AO9=6,AO10=0),1,"") | AV9: =IF(AND(AO9=7,AO10=0),1,"") | AW9: =IF(AND(AO9=8,AO10=0),1,"") | AX9: =IF(AND(AO9=9,AO10=0),1,"") | AY9: =IF(AND(AO9=10,AO10=0),1,"") | AZ9: =IF(AND(AO9=11,AO10=0),1,"") | BA9: =IF(AND(AO9=12,AO10=0),1,"") | BB9: =IF(AND(AO9=13,AO10=0),1,"") | BC9: =IF(AND(AO9=14,AO10=0),1,"") | BD9: =IF(AND(AO9=15,AO10=0),1,"") | BE9: =IF(AND(AO9=16,AO10=0),1,"") | BF9: =IF(AND(AO9=17,AO10=0),1,"") | BG9: =IF(AND(AO9=18,AO10=0),1,"") | BH9: =IF(AND(AO9=19,AO10=0),1,"") | BI9: =IF(AND(AO9=20,AO10=0),1,"") | BJ9: =IF(AND(AO9=21,AO10=0),1,"") | BK9: =IF(AND(AO9=22,AO10=0),1,"") | BL9: =IF(AND(AO9=23,AO10=0),1,"") | BM9: =IF(AND(AO9=24,AO10=0),1,"") | BN9: =IF(AND(AO9=25,AO10=0),1,"") | BO9: =IF(AND(AO9>25,AO10=0),1,"")
B10: 14 | C10: =IF(B10="","",VLOOKUP(B10,Tabelle2!$A$1:$B$37,2,0)) -> 2 | D10: =IF(B10="","",IF(B10=0,"NB",VLOOKUP(C10,Tabelle2!$D$1:$E$4,2,0))) -> 2 | E10: =IF(B10="","",IF(D9="NB","NB",IF(D9=C10,"W","L"))) -> W | F10: =IF(E10="","",AK9) -> 1 | G10: =IF(E10="NB",0,IF(E10="w",2,IF(E10="l",-1,""))) -> 2 | H10: =IF(E10="","",IF(E10="NB",0,G10*F10)) -> 2 | I10: =IF(E10="",0,I9+H10) -> 7 | J10: =IF(B10="","",IF(B10=0,"X","")) | L10: 1 | M10: =AP1001 -> 52 | R10: 8 | S10: 1 | U10: =IF(C10=1,1,"") | V10: =IF(C10=2,2,"") -> 2 | W10: =IF(C10=3,3,"") | X10: =IF(C10=4,4,"") | Z10: =IF(Z9=1,1,IF(U10=1,1,"")) -> 1 | AA10: =IF(AA9=1,1,IF(V10=2,1,"")) -> 1 | AB10: =IF(AB9=1,1,IF(W10=3,1,"")) -> 1 | AC10: =IF(AC9=1,1,IF(X10=4,1,"")) | AD10: =IF(OR(AD9=1,AD9=0),0,IF(SUM(Z10:AC10)=4,1,"")) | AF10: =SUM(U10:X10) -> 2 | AG10: =IF(AF9<>AF10,AF9,IF(AF9=AF10,AG9,IF(AF9=AF8,AG9,AF9))) -> 1 | AH10: =IF(AF10=AG9,AH9,IF(AF10<>AF9,AG9,IF(AF9=AF8,AH9,IF(AF10=AF8,AH9,IF(AF9=AF10,AH9,SUM(U8:X8)))))) -> 3 | AJ10: =IF(E10="NB",AJ9,IF(E10="",0,IF(E10="l",AJ9+1,IF(E10="w",IF($P$2=0,0,IF(AND($P$2>0,AJ9>$P$2),AJ9-$P$2,0)))))) -> 0 | AK10: =VLOOKUP(AJ10,$R$2:S29,2,0) -> 1 | AM10: =IF(I10<=AM9,AM9,I10) -> 7 | AO10: =IF(E10="l",AO9+1,IF(E10="w",0,0)) -> 0 | AP10: =IF(AND(AO10=1,AO11=0),1,"") | AQ10: =IF(AND(AO10=2,AO11=0),1,"") | AR10: =IF(AND(AO10=3,AO11=0),1,"") | AS10: =IF(AND(AO10=4,AO11=0),1,"") | AT10: =IF(AND(AO10=5,AO11=0),1,"") | AU10: =IF(AND(AO10=6,AO11=0),1,"") | AV10: =IF(AND(AO10=7,AO11=0),1,"") | AW10: =IF(AND(AO10=8,AO11=0),1,"") | AX10: =IF(AND(AO10=9,AO11=0),1,"") | AY10: =IF(AND(AO10=10,AO11=0),1,"") | AZ10: =IF(AND(AO10=11,AO11=0),1,"") | BA10: =IF(AND(AO10=12,AO11=0),1,"") | BB10: =IF(AND(AO10=13,AO11=0),1,"") | BC10: =IF(AND(AO10=14,AO11=0),1,"") | BD10: =IF(AND(AO10=15,AO11=0),1,"") | BE10: =IF(AND(AO10=16,AO11=0),1,"") | BF10: =IF(AND(AO10=17,AO11=0),1,"") | BG10: =IF(AND(AO10=18,AO11=0),1,"") | BH10: =IF(AND(AO10=19,AO11=0),1,"") | BI10: =IF(AND(AO10=20,AO11=0),1,"") | BJ10: =IF(AND(AO10=21,AO11=0),1,"") | BK10: =IF(AND(AO10=22,AO11=0),1,"") | BL10: =IF(AND(AO10=23,AO11=0),1,"") | BM10: =IF(AND(AO10=24,AO11=0),1,"") | BN10: =IF(AND(AO10=25,AO11=0),1,"") | BO10: =IF(AND(AO10>25,AO11=0),1,"")
B11: 3 | C11: =IF(B11="","",VLOOKUP(B11,Tabelle2!$A$1:$B$37,2,0)) -> 1 | D11: =IF(B11="","",IF(B11=0,"NB",VLOOKUP(C11,Tabelle2!$D$1:$E$4,2,0))) -> 3 | E11: =IF(B11="","",IF(D10="NB","NB",IF(D10=C11,"W","L"))) -> L | F11: =IF(E11="","",AK10) -> 1 | G11: =IF(E11="NB",0,IF(E11="w",2,IF(E11="l",-1,""))) -> -1 | H11: =IF(E11="","",IF(E11="NB",0,G11*F11)) -> -1 | I11: =IF(E11="",0,I10+H11) -> 6 | J11: =IF(B11="","",IF(B11=0,"X","")) | L11: 2 | M11: =AQ1001 -> 40 | R11: 9 | S11: 1 | U11: =IF(C11=1,1,"") -> 1 | V11: =IF(C11=2,2,"") | W11: =IF(C11=3,3,"") | X11: =IF(C11=4,4,"") | Z11: =IF(Z10=1,1,IF(U11=1,1,"")) -> 1 | AA11: =IF(AA10=1,1,IF(V11=2,1,"")) -> 1 | AB11: =IF(AB10=1,1,IF(W11=3,1,"")) -> 1 | AC11: =IF(AC10=1,1,IF(X11=4,1,"")) | AD11: =IF(OR(AD10=1,AD10=0),0,IF(SUM(Z11:AC11)=4,1,"")) | AF11: =SUM(U11:X11) -> 1 | AG11: =IF(AF10<>AF11,AF10,IF(AF10=AF11,AG10,IF(AF10=AF9,AG10,AF10))) -> 2 | AH11: =IF(AF11=AG10,AH10,IF(AF11<>AF10,AG10,IF(AF10=AF9,AH10,IF(AF11=AF9,AH10,IF(AF10=AF11,AH10,SUM(U9:X9)))))) -> 3 | AJ11: =IF(E11="NB",AJ10,IF(E11="",0,IF(E11="l",AJ10+1,IF(E11="w",IF($P$2=0,0,IF(AND($P$2>0,AJ10>$P$2),AJ10-$P$2,0)))))) -> 1 | AK11: =VLOOKUP(AJ11,$R$2:S30,2,0) -> 1 | AM11: =IF(I11<=AM10,AM10,I11) -> 7 | AO11: =IF(E11="l",AO10+1,IF(E11="w",0,0)) -> 1 | AP11: =IF(AND(AO11=1,AO12=0),1,"") -> 1 | AQ11: =IF(AND(AO11=2,AO12=0),1,"") | AR11: =IF(AND(AO11=3,AO12=0),1,"") | AS11: =IF(AND(AO11=4,AO12=0),1,"") | AT11: =IF(AND(AO11=5,AO12=0),1,"") | AU11: =IF(AND(AO11=6,AO12=0),1,"") | AV11: =IF(AND(AO11=7,AO12=0),1,"") | AW11: =IF(AND(AO11=8,AO12=0),1,"") | AX11: =IF(AND(AO11=9,AO12=0),1,"") | AY11: =IF(AND(AO11=10,AO12=0),1,"") | AZ11: =IF(AND(AO11=11,AO12=0),1,"") | BA11: =IF(AND(AO11=12,AO12=0),1,"") | BB11: =IF(AND(AO11=13,AO12=0),1,"") | BC11: =IF(AND(AO11=14,AO12=0),1,"") | BD11: =IF(AND(AO11=15,AO12=0),1,"") | BE11: =IF(AND(AO11=16,AO12=0),1,"") | BF11: =IF(AND(AO11=17,AO12=0),1,"") | BG11: =IF(AND(AO11=18,AO12=0),1,"") | BH11: =IF(AND(AO11=19,AO12=0),1,"") | BI11: =IF(AND(AO11=20,AO12=0),1,"") | BJ11: =IF(AND(AO11=21,AO12=0),1,"") | BK11: =IF(AND(AO11=22,AO12=0),1,"") | BL11: =IF(AND(AO11=23,AO12=0),1,"") | BM11: =IF(AND(AO11=24,AO12=0),1,"") | BN11: =IF(AND(AO11=25,AO12=0),1,"") | BO11: =IF(AND(AO11>25,AO12=0),1,"")
B12: 30 | C12: =IF(B12="","",VLOOKUP(B12,Tabelle2!$A$1:$B$37,2,0)) -> 3 | D12: =IF(B12="","",IF(B12=0,"NB",VLOOKUP(C12,Tabelle2!$D$1:$E$4,2,0))) -> 1 | E12: =IF(B12="","",IF(D11="NB","NB",IF(D11=C12,"W","L"))) -> W | F12: =IF(E12="","",AK11) -> 1 | G12: =IF(E12="NB",0,IF(E12="w",2,IF(E12="l",-1,""))) -> 2 | H12: =IF(E12="","",IF(E12="NB",0,G12*F12)) -> 2 | I12: =IF(E12="",0,I11+H12) -> 8 | J12: =IF(B12="","",IF(B12=0,"X","")) | L12: 3 | M12: =AQ1001 -> 40 | R12: 10 | S12: 1 | U12: =IF(C12=1,1,"") | V12: =IF(C12=2,2,"") | W12: =IF(C12=3,3,"") -> 3 | X12: =IF(C12=4,4,"") | Z12: =IF(Z11=1,1,IF(U12=1,1,"")) -> 1 | AA12: =IF(AA11=1,1,IF(V12=2,1,"")) -> 1 | AB12: =IF(AB11=1,1,IF(W12=3,1,"")) -> 1 | AC12: =IF(AC11=1,1,IF(X12=4,1,"")) | AD12: =IF(OR(AD11=1,AD11=0),0,IF(SUM(Z12:AC12)=4,1,"")) | AF12: =SUM(U12:X12) -> 3 | AG12: =IF(AF11<>AF12,AF11,IF(AF11=AF12,AG11,IF(AF11=AF10,AG11,AF11))) -> 1 | AH12: =IF(AF12=AG11,AH11,IF(AF12<>AF11,AG11,IF(AF11=AF10,AH11,IF(AF12=AF10,AH11,IF(AF11=AF12,AH11,SUM(U10:X10)))))) -> 2 | AJ12: =IF(E12="NB",AJ11,IF(E12="",0,IF(E12="l",AJ11+1,IF(E12="w",IF($P$2=0,0,IF(AND($P$2>0,AJ11>$P$2),AJ11-$P$2,0)))))) -> 0 | AK12: =VLOOKUP(AJ12,$R$2:S31,2,0) -> 1 | AM12: =IF(I12<=AM11,AM11,I12) -> 8 | AO12: =IF(E12="l",AO11+1,IF(E12="w",0,0)) -> 0 | AP12: =IF(AND(AO12=1,AO13=0),1,"") | AQ12: =IF(AND(AO12=2,AO13=0),1,"") | AR12: =IF(AND(AO12=3,AO13=0),1,"") | AS12: =IF(AND(AO12=4,AO13=0),1,"") | AT12: =IF(AND(AO12=5,AO13=0),1,"") | AU12: =IF(AND(AO12=6,AO13=0),1,"") | AV12: =IF(AND(AO12=7,AO13=0),1,"") | AW12: =IF(AND(AO12=8,AO13=0),1,"") | AX12: =IF(AND(AO12=9,AO13=0),1,"") | AY12: =IF(AND(AO12=10,AO13=0),1,"") | AZ12: =IF(AND(AO12=11,AO13=0),1,"") | BA12: =IF(AND(AO12=12,AO13=0),1,"") | BB12: =IF(AND(AO12=13,AO13=0),1,"") | BC12: =IF(AND(AO12=14,AO13=0),1,"") | BD12: =IF(AND(AO12=15,AO13=0),1,"") | BE12: =IF(AND(AO12=16,AO13=0),1,"") | BF12: =IF(AND(AO12=17,AO13=0),1,"") | BG12: =IF(AND(AO12=18,AO13=0),1,"") | BH12: =IF(AND(AO12=19,AO13=0),1,"") | BI12: =IF(AND(AO12=20,AO13=0),1,"") | BJ12: =IF(AND(AO12=21,AO13=0),1,"") | BK12: =IF(AND(AO12=22,AO13=0),1,"") | BL12: =IF(AND(AO12=23,AO13=0),1,"") | BM12: =IF(AND(AO12=24,AO13=0),1,"") | BN12: =IF(AND(AO12=25,AO13=0),1,"") | BO12: =IF(AND(AO12>25,AO13=0),1,"")
B13: 18 | C13: =IF(B13="","",VLOOKUP(B13,Tabelle2!$A$1:$B$37,2,0)) -> 2 | D13: =IF(B13="","",IF(B13=0,"NB",VLOOKUP(C13,Tabelle2!$D$1:$E$4,2,0))) -> 2 | E13: =IF(B13="","",IF(D12="NB","NB",IF(D12=C13,"W","L"))) -> L | F13: =IF(E13="","",AK12) -> 1 | G13: =IF(E13="NB",0,IF(E13="w",2,IF(E13="l",-1,""))) -> -1 | H13: =IF(E13="","",IF(E13="NB",0,G13*F13)) -> -1 | I13: =IF(E13="",0,I12+H13) -> 7 | J13: =IF(B13="","",IF(B13=0,"X","")) | L13: 4 | M13: =AR1001 -> 20 | R13: 11 | S13: 1 | U13: =IF(C13=1,1,"") | V13: =IF(C13=2,2,"") -> 2 | W13: =IF(C13=3,3,"") | X13: =IF(C13=4,4,"") | Z13: =IF(Z12=1,1,IF(U13=1,1,"")) -> 1 | AA13: =IF(AA12=1,1,IF(V13=2,1,"")) -> 1 | AB13: =IF(AB12=1,1,IF(W13=3,1,"")) -> 1 | AC13: =IF(AC12=1,1,IF(X13=4,1,"")) | AD13: =IF(OR(AD12=1,AD12=0),0,IF(SUM(Z13:AC13)=4,1,"")) | AF13: =SUM(U13:X13) -> 2 | AG13: =IF(AF12<>AF13,AF12,IF(AF12=AF13,AG12,IF(AF12=AF11,AG12,AF12))) -> 3 | AH13: =IF(AF13=AG12,AH12,IF(AF13<>AF12,AG12,IF(AF12=AF11,AH12,IF(AF13=AF11,AH12,IF(AF12=AF13,AH12,SUM(U11:X11)))))) -> 1 | AJ13: =IF(E13="NB",AJ12,IF(E13="",0,IF(E13="l",AJ12+1,IF(E13="w",IF($P$2=0,0,IF(AND($P$2>0,AJ12>$P$2),AJ12-$P$2,0)))))) -> 1 | AK13: =VLOOKUP(AJ13,$R$2:S32,2,0) -> 1 | AM13: =IF(I13<=AM12,AM12,I13) -> 8 | AO13: =IF(E13="l",AO12+1,IF(E13="w",0,0)) -> 1 | AP13: =IF(AND(AO13=1,AO14=0),1,"") | AQ13: =IF(AND(AO13=2,AO14=0),1,"") | AR13: =IF(AND(AO13=3,AO14=0),1,"") | AS13: =IF(AND(AO13=4,AO14=0),1,"") | AT13: =IF(AND(AO13=5,AO14=0),1,"") | AU13: =IF(AND(AO13=6,AO14=0),1,"") | AV13: =IF(AND(AO13=7,AO14=0),1,"") | AW13: =IF(AND(AO13=8,AO14=0),1,"") | AX13: =IF(AND(AO13=9,AO14=0),1,"") | AY13: =IF(AND(AO13=10,AO14=0),1,"") | AZ13: =IF(AND(AO13=11,AO14=0),1,"") | BA13: =IF(AND(AO13=12,AO14=0),1,"") | BB13: =IF(AND(AO13=13,AO14=0),1,"") | BC13: =IF(AND(AO13=14,AO14=0),1,"") | BD13: =IF(AND(AO13=15,AO14=0),1,"") | BE13: =IF(AND(AO13=16,AO14=0),1,"") | BF13: =IF(AND(AO13=17,AO14=0),1,"") | BG13: =IF(AND(AO13=18,AO14=0),1,"") | BH13: =IF(AND(AO13=19,AO14=0),1,"") | BI13: =IF(AND(AO13=20,AO14=0),1,"") | BJ13: =IF(AND(AO13=21,AO14=0),1,"") | BK13: =IF(AND(AO13=22,AO14=0),1,"") | BL13: =IF(AND(AO13=23,AO14=0),1,"") | BM13: =IF(AND(AO13=24,AO14=0),1,"") | BN13: =IF(AND(AO13=25,AO14=0),1,"") | BO13: =IF(AND(AO13>25,AO14=0),1,"") | XFC13: =IF(AND(AO13=3,AO14=0),1,"")
B14: 30 | C14: =IF(B14="","",VLOOKUP(B14,Tabelle2!$A$1:$B$37,2,0)) -> 3 | D14: =IF(B14="","",IF(B14=0,"NB",VLOOKUP(C14,Tabelle2!$D$1:$E$4,2,0))) -> 1 | E14: =IF(B14="","",IF(D13="NB","NB",IF(D13=C14,"W","L"))) -> L | F14: =IF(E14="","",AK13) -> 1 | G14: =IF(E14="NB",0,IF(E14="w",2,IF(E14="l",-1,""))) -> -1 | H14: =IF(E14="","",IF(E14="NB",0,G14*F14)) -> -1 | I14: =IF(E14="",0,I13+H14) -> 6 | J14: =IF(B14="","",IF(B14=0,"X","")) | L14: 5 | M14: =AT1001 -> 7 | R14: 12 | S14: 1 | U14: =IF(C14=1,1,"") | V14: =IF(C14=2,2,"") | W14: =IF(C14=3,3,"") -> 3 | X14: =IF(C14=4,4,"") | Z14: =IF(Z13=1,1,IF(U14=1,1,"")) -> 1 | AA14: =IF(AA13=1,1,IF(V14=2,1,"")) -> 1 | AB14: =IF(AB13=1,1,IF(W14=3,1,"")) -> 1 | AC14: =IF(AC13=1,1,IF(X14=4,1,"")) | AD14: =IF(OR(AD13=1,AD13=0),0,IF(SUM(Z14:AC14)=4,1,"")) | AF14: =SUM(U14:X14) -> 3 | AG14: =IF(AF13<>AF14,AF13,IF(AF13=AF14,AG13,IF(AF13=AF12,AG13,AF13))) -> 2 | AH14: =IF(AF14=AG13,AH13,IF(AF14<>AF13,AG13,IF(AF13=AF12,AH13,IF(AF14=AF12,AH13,IF(AF13=AF14,AH13,SUM(U12:X12)))))) -> 1 | AJ14: =IF(E14="NB",AJ13,IF(E14="",0,IF(E14="l",AJ13+1,IF(E14="w",IF($P$2=0,0,IF(AND($P$2>0,AJ13>$P$2),AJ13-$P$2,0)))))) -> 2 | AK14: =VLOOKUP(AJ14,$R$2:S33,2,0) -> 2 | AM14: =IF(I14<=AM13,AM13,I14) -> 8 | AO14: =IF(E14="l",AO13+1,IF(E14="w",0,0)) -> 2 | AP14: =IF(AND(AO14=1,AO15=0),1,"") | AQ14: =IF(AND(AO14=2,AO15=0),1,"") | AR14: =IF(AND(AO14=3,AO15=0),1,"") | AS14: =IF(AND(AO14=4,AO15=0),1,"") | AT14: =IF(AND(AO14=5,AO15=0),1,"") | AU14: =IF(AND(AO14=6,AO15=0),1,"") | AV14: =IF(AND(AO14=7,AO15=0),1,"") | AW14: =IF(AND(AO14=8,AO15=0),1,"") | AX14: =IF(AND(AO14=9,AO15=0),1,"") | AY14: =IF(AND(AO14=10,AO15=0),1,"") | AZ14: =IF(AND(AO14=11,AO15=0),1,"") | BA14: =IF(AND(AO14=12,AO15=0),1,"") | BB14: =IF(AND(AO14=13,AO15=0),1,"") | BC14: =IF(AND(AO14=14,AO15=0),1,"") | BD14: =IF(AND(AO14=15,AO15=0),1,"") | BE14: =IF(AND(AO14=16,AO15=0),1,"") | BF14: =IF(AND(AO14=17,AO15=0),1,"") | BG14: =IF(AND(AO14=18,AO15=0),1,"") | BH14: =IF(AND(AO14=19,AO15=0),1,"") | BI14: =IF(AND(AO14=20,AO15=0),1,"") | BJ14: =IF(AND(AO14=21,AO15=0),1,"") | BK14: =IF(AND(AO14=22,AO15=0),1,"") | BL14: =IF(AND(AO14=23,AO15=0),1,"") | BM14: =IF(AND(AO14=24,AO15=0),1,"") | BN14: =IF(AND(AO14=25,AO15=0),1,"") | BO14: =IF(AND(AO14>25,AO15=0),1,"")
B15: 29 | C15: =IF(B15="","",VLOOKUP(B15,Tabelle2!$A$1:$B$37,2,0)) -> 3 | D15: =IF(B15="","",IF(B15=0,"NB",VLOOKUP(C15,Tabelle2!$D$1:$E$4,2,0))) -> 1 | E15: =IF(B15="","",IF(D14="NB","NB",IF(D14=C15,"W","L"))) -> L | F15: =IF(E15="","",AK14) -> 2 | G15: =IF(E15="NB",0,IF(E15="w",2,IF(E15="l",-1,""))) -> -1 | H15: =IF(E15="","",IF(E15="NB",0,G15*F15)) -> -2 | I15: =IF(E15="",0,I14+H15) -> 4 | J15: =IF(B15="","",IF(B15=0,"X","")) | L15: 6 | M15: =AU1001 -> 3 | R15: 13 | S15: 1 | U15: =IF(C15=1,1,"") | V15: =IF(C15=2,2,"") | W15: =IF(C15=3,3,"") -> 3 | X15: =IF(C15=4,4,"") | Z15: =IF(Z14=1,1,IF(U15=1,1,"")) -> 1 | AA15: =IF(AA14=1,1,IF(V15=2,1,"")) -> 1 | AB15: =IF(AB14=1,1,IF(W15=3,1,"")) -> 1 | AC15: =IF(AC14=1,1,IF(X15=4,1,"")) | AD15: =IF(OR(AD14=1,AD14=0),0,IF(SUM(Z15:AC15)=4,1,"")) | AF15: =SUM(U15:X15) -> 3 | AG15: =IF(AF14<>AF15,AF14,IF(AF14=AF15,AG14,IF(AF14=AF13,AG14,AF14))) -> 2 | AH15: =IF(AF15=AG14,AH14,IF(AF15<>AF14,AG14,IF(AF14=AF13,AH14,IF(AF15=AF13,AH14,IF(AF14=AF15,AH14,SUM(U13:X13)))))) -> 1 | AJ15: =IF(E15="NB",AJ14,IF(E15="",0,IF(E15="l",AJ14+1,IF(E15="w",IF($P$2=0,0,IF(AND($P$2>0,AJ14>$P$2),AJ14-$P$2,0)))))) -> 3 | AK15: =VLOOKUP(AJ15,$R$2:S34,2,0) -> 3 | AM15: =IF(I15<=AM14,AM14,I15) -> 8 | AO15: =IF(E15="l",AO14+1,IF(E15="w",0,0)) -> 3 | AP15: =IF(AND(AO15=1,AO16=0),1,"") | AQ15: =IF(AND(AO15=2,AO16=0),1,"") | AR15: =IF(AND(AO15=3,AO16=0),1,"") -> 1 | AS15: =IF(AND(AO15=4,AO16=0),1,"") | AT15: =IF(AND(AO15=5,AO16=0),1,"") | AU15: =IF(AND(AO15=6,AO16=0),1,"") | AV15: =IF(AND(AO15=7,AO16=0),1,"") | AW15: =IF(AND(AO15=8,AO16=0),1,"") | AX15: =IF(AND(AO15=9,AO16=0),1,"") | AY15: =IF(AND(AO15=10,AO16=0),1,"") | AZ15: =IF(AND(AO15=11,AO16=0),1,"") | BA15: =IF(AND(AO15=12,AO16=0),1,"") | BB15: =IF(AND(AO15=13,AO16=0),1,"") | BC15: =IF(AND(AO15=14,AO16=0),1,"") | BD15: =IF(AND(AO15=15,AO16=0),1,"") | BE15: =IF(AND(AO15=16,AO16=0),1,"") | BF15: =IF(AND(AO15=17,AO16=0),1,"") | BG15: =IF(AND(AO15=18,AO16=0),1,"") | BH15: =IF(AND(AO15=19,AO16=0),1,"") | BI15: =IF(AND(AO15=20,AO16=0),1,"") | BJ15: =IF(AND(AO15=21,AO16=0),1,"") | BK15: =IF(AND(AO15=22,AO16=0),1,"") | BL15: =IF(AND(AO15=23,AO16=0),1,"") | BM15: =IF(AND(AO15=24,AO16=0),1,"") | BN15: =IF(AND(AO15=25,AO16=0),1,"") | BO15: =IF(AND(AO15>25,AO16=0),1,"")
B16: 10 | C16: =IF(B16="","",VLOOKUP(B16,Tabelle2!$A$1:$B$37,2,0)) -> 1 | D16: =IF(B16="","",IF(B16=0,"NB",VLOOKUP(C16,Tabelle2!$D$1:$E$4,2,0))) -> 3 | E16: =IF(B16="","",IF(D15="NB","NB",IF(D15=C16,"W","L"))) -> W | F16: =IF(E16="","",AK15) -> 3 | G16: =IF(E16="NB",0,IF(E16="w",2,IF(E16="l",-1,""))) -> 2 | H16: =IF(E16="","",IF(E16="NB",0,G16*F16)) -> 6 | I16: =IF(E16="",0,I15+H16) -> 10 | J16: =IF(B16="","",IF(B16=0,"X","")) | L16: 7 | M16: =AV1001 -> 2 | R16: 14 | S16: 1 | U16: =IF(C16=1,1,"") -> 1 | V16: =IF(C16=2,2,"") | W16: =IF(C16=3,3,"") | X16: =IF(C16=4,4,"") | Z16: =IF(Z15=1,1,IF(U16=1,1,"")) -> 1 | AA16: =IF(AA15=1,1,IF(V16=2,1,"")) -> 1 | AB16: =IF(AB15=1,1,IF(W16=3,1,"")) -> 1 | AC16: =IF(AC15=1,1,IF(X16=4,1,"")) | AD16: =IF(OR(AD15=1,AD15=0),0,IF(SUM(Z16:AC16)=4,1,"")) | AF16: =SUM(U16:X16) -> 1 | AG16: =IF(AF15<>AF16,AF15,IF(AF15=AF16,AG15,IF(AF15=AF14,AG15,AF15))) -> 3 | AH16: =IF(AF16=AG15,AH15,IF(AF16<>AF15,AG15,IF(AF15=AF14,AH15,IF(AF16=AF14,AH15,IF(AF15=AF16,AH15,SUM(U14:X14)))))) -> 2 | AJ16: =IF(E16="NB",AJ15,IF(E16="",0,IF(E16="l",AJ15+1,IF(E16="w",IF($P$2=0,0,IF(AND($P$2>0,AJ15>$P$2),AJ15-$P$2,0)))))) -> 0 | AK16: =VLOOKUP(AJ16,$R$2:S35,2,0) -> 1 | AM16: =IF(I16<=AM15,AM15,I16) -> 10 | AO16: =IF(E16="l",AO15+1,IF(E16="w",0,0)) -> 0 | AP16: =IF(AND(AO16=1,AO17=0),1,"") | AQ16: =IF(AND(AO16=2,AO17=0),1,"") | AR16: =IF(AND(AO16=3,AO17=0),1,"") | AS16: =IF(AND(AO16=4,AO17=0),1,"") | AT16: =IF(AND(AO16=5,AO17=0),1,"") | AU16: =IF(AND(AO16=6,AO17=0),1,"") | AV16: =IF(AND(AO16=7,AO17=0),1,"") | AW16: =IF(AND(AO16=8,AO17=0),1,"") | AX16: =IF(AND(AO16=9,AO17=0),1,"") | AY16: =IF(AND(AO16=10,AO17=0),1,"") | AZ16: =IF(AND(AO16=11,AO17=0),1,"") | BA16: =IF(AND(AO16=12,AO17=0),1,"") | BB16: =IF(AND(AO16=13,AO17=0),1,"") | BC16: =IF(AND(AO16=14,AO17=0),1,"") | BD16: =IF(AND(AO16=15,AO17=0),1,"") | BE16: =IF(AND(AO16=16,AO17=0),1,"") | BF16: =IF(AND(AO16=17,AO17=0),1,"") | BG16: =IF(AND(AO16=18,AO17=0),1,"") | BH16: =IF(AND(AO16=19,AO17=0),1,"") | BI16: =IF(AND(AO16=20,AO17=0),1,"") | BJ16: =IF(AND(AO16=21,AO17=0),1,"") | BK16: =IF(AND(AO16=22,AO17=0),1,"") | BL16: =IF(AND(AO16=23,AO17=0),1,"") | BM16: =IF(AND(AO16=24,AO17=0),1,"") | BN16: =IF(AND(AO16=25,AO17=0),1,"") | BO16: =IF(AND(AO16>25,AO17=0),1,"")
B17: 15 | C17: =IF(B17="","",VLOOKUP(B17,Tabelle2!$A$1:$B$37,2,0)) -> 2 | D17: =IF(B17="","",IF(B17=0,"NB",VLOOKUP(C17,Tabelle2!$D$1:$E$4,2,0))) -> 2 | E17: =IF(B17="","",IF(D16="NB","NB",IF(D16=C17,"W","L"))) -> L | F17: =IF(E17="","",AK16) -> 1 | G17: =IF(E17="NB",0,IF(E17="w",2,IF(E17="l",-1,""))) -> -1 | H17: =IF(E17="","",IF(E17="NB",0,G17*F17)) -> -1 | I17: =IF(E17="",0,I16+H17) -> 9 | J17: =IF(B17="","",IF(B17=0,"X","")) | L17: 8 | M17: =AW1001 -> 0 | R17: 15 | S17: 1 | U17: =IF(C17=1,1,"") | V17: =IF(C17=2,2,"") -> 2 | W17: =IF(C17=3,3,"") | X17: =IF(C17=4,4,"") | Z17: =IF(Z16=1,1,IF(U17=1,1,"")) -> 1 | AA17: =IF(AA16=1,1,IF(V17=2,1,"")) -> 1 | AB17: =IF(AB16=1,1,IF(W17=3,1,"")) -> 1 | AC17: =IF(AC16=1,1,IF(X17=4,1,"")) | AD17: =IF(OR(AD16=1,AD16=0),0,IF(SUM(Z17:AC17)=4,1,"")) | AF17: =SUM(U17:X17) -> 2 | AG17: =IF(AF16<>AF17,AF16,IF(AF16=AF17,AG16,IF(AF16=AF15,AG16,AF16))) -> 1 | AH17: =IF(AF17=AG16,AH16,IF(AF17<>AF16,AG16,IF(AF16=AF15,AH16,IF(AF17=AF15,AH16,IF(AF16=AF17,AH16,SUM(U15:X15)))))) -> 3 | AJ17: =IF(E17="NB",AJ16,IF(E17="",0,IF(E17="l",AJ16+1,IF(E17="w",IF($P$2=0,0,IF(AND($P$2>0,AJ16>$P$2),AJ16-$P$2,0)))))) -> 1 | AK17: =VLOOKUP(AJ17,$R$2:S36,2,0) -> 1 | AM17: =IF(I17<=AM16,AM16,I17) -> 10 | AO17: =IF(E17="l",AO16+1,IF(E17="w",0,0)) -> 1 | AP17: =IF(AND(AO17=1,AO18=0),1,"") | AQ17: =IF(AND(AO17=2,AO18=0),1,"") | AR17: =IF(AND(AO17=3,AO18=0),1,"") | AS17: =IF(AND(AO17=4,AO18=0),1,"") | AT17: =IF(AND(AO17=5,AO18=0),1,"") | AU17: =IF(AND(AO17=6,AO18=0),1,"") | AV17: =IF(AND(AO17=7,AO18=0),1,"") | AW17: =IF(AND(AO17=8,AO18=0),1,"") | AX17: =IF(AND(AO17=9,AO18=0),1,"") | AY17: =IF(AND(AO17=10,AO18=0),1,"") | AZ17: =IF(AND(AO17=11,AO18=0),1,"") | BA17: =IF(AND(AO17=12,AO18=0),1,"") | BB17: =IF(AND(AO17=13,AO18=0),1,"") | BC17: =IF(AND(AO17=14,AO18=0),1,"") | BD17: =IF(AND(AO17=15,AO18=0),1,"") | BE17: =IF(AND(AO17=16,AO18=0),1,"") | BF17: =IF(AND(AO17=17,AO18=0),1,"") | BG17: =IF(AND(AO17=18,AO18=0),1,"") | BH17: =IF(AND(AO17=19,AO18=0),1,"") | BI17: =IF(AND(AO17=20,AO18=0),1,"") | BJ17: =IF(AND(AO17=21,AO18=0),1,"") | BK17: =IF(AND(AO17=22,AO18=0),1,"") | BL17: =IF(AND(AO17=23,AO18=0),1,"") | BM17: =IF(AND(AO17=24,AO18=0),1,"") | BN17: =IF(AND(AO17=25,AO18=0),1,"") | BO17: =IF(AND(AO17>25,AO18=0),1,"")
B18: 33 | C18: =IF(B18="","",VLOOKUP(B18,Tabelle2!$A$1:$B$37,2,0)) -> 3 | D18: =IF(B18="","",IF(B18=0,"NB",VLOOKUP(C18,Tabelle2!$D$1:$E$4,2,0))) -> 1 | E18: =IF(B18="","",IF(D17="NB","NB",IF(D17=C18,"W","L"))) -> L | F18: =IF(E18="","",AK17) -> 1 | G18: =IF(E18="NB",0,IF(E18="w",2,IF(E18="l",-1,""))) -> -1 | H18: =IF(E18="","",IF(E18="NB",0,G18*F18)) -> -1 | I18: =IF(E18="",0,I17+H18) -> 8 | J18: =IF(B18="","",IF(B18=0,"X","")) | L18: 9 | M18: =AX1001 -> 2 | R18: 16 | S18: 1 | U18: =IF(C18=1,1,"") | V18: =IF(C18=2,2,"") | W18: =IF(C18=3,3,"") -> 3 | X18: =IF(C18=4,4,"") | Z18: =IF(Z17=1,1,IF(U18=1,1,"")) -> 1 | AA18: =IF(AA17=1,1,IF(V18=2,1,"")) -> 1 | AB18: =IF(AB17=1,1,IF(W18=3,1,"")) -> 1 | AC18: =IF(AC17=1,1,IF(X18=4,1,"")) | AD18: =IF(OR(AD17=1,AD17=0),0,IF(SUM(Z18:AC18)=4,1,"")) | AF18: =SUM(U18:X18) -> 3 | AG18: =IF(AF17<>AF18,AF17,IF(AF17=AF18,AG17,IF(AF17=AF16,AG17,AF17))) -> 2 | AH18: =IF(AF18=AG17,AH17,IF(AF18<>AF17,AG17,IF(AF17=AF16,AH17,IF(AF18=AF16,AH17,IF(AF17=AF18,AH17,SUM(U16:X16)))))) -> 1 | AJ18: =IF(E18="NB",AJ17,IF(E18="",0,IF(E18="l",AJ17+1,IF(E18="w",IF($P$2=0,0,IF(AND($P$2>0,AJ17>$P$2),AJ17-$P$2,0)))))) -> 2 | AK18: =VLOOKUP(AJ18,$R$2:S37,2,0) -> 2 | AM18: =IF(I18<=AM17,AM17,I18) -> 10 | AO18: =IF(E18="l",AO17+1,IF(E18="w",0,0)) -> 2 | AP18: =IF(AND(AO18=1,AO19=0),1,"") | AQ18: =IF(AND(AO18=2,AO19=0),1,"") | AR18: =IF(AND(AO18=3,AO19=0),1,"") | AS18: =IF(AND(AO18=4,AO19=0),1,"") | AT18: =IF(AND(AO18=5,AO19=0),1,"") | AU18: =IF(AND(AO18=6,AO19=0),1,"") | AV18: =IF(AND(AO18=7,AO19=0),1,"") | AW18: =IF(AND(AO18=8,AO19=0),1,"") | AX18: =IF(AND(AO18=9,AO19=0),1,"") | AY18: =IF(AND(AO18=10,AO19=0),1,"") | AZ18: =IF(AND(AO18=11,AO19=0),1,"") | BA18: =IF(AND(AO18=12,AO19=0),1,"") | BB18: =IF(AND(AO18=13,AO19=0),1,"") | BC18: =IF(AND(AO18=14,AO19=0),1,"") | BD18: =IF(AND(AO18=15,AO19=0),1,"") | BE18: =IF(AND(AO18=16,AO19=0),1,"") | BF18: =IF(AND(AO18=17,AO19=0),1,"") | BG18: =IF(AND(AO18=18,AO19=0),1,"") | BH18: =IF(AND(AO18=19,AO19=0),1,"") | BI18: =IF(AND(AO18=20,AO19=0),1,"") | BJ18: =IF(AND(AO18=21,AO19=0),1,"") | BK18: =IF(AND(AO18=22,AO19=0),1,"") | BL18: =IF(AND(AO18=23,AO19=0),1,"") | BM18: =IF(AND(AO18=24,AO19=0),1,"") | BN18: =IF(AND(AO18=25,AO19=0),1,"") | BO18: =IF(AND(AO18>25,AO19=0),1,"")
B19: 34 | C19: =IF(B19="","",VLOOKUP(B19,Tabelle2!$A$1:$B$37,2,0)) -> 3 | D19: =IF(B19="","",IF(B19=0,"NB",VLOOKUP(C19,Tabelle2!$D$1:$E$4,2,0))) -> 1 | E19: =IF(B19="","",IF(D18="NB","NB",IF(D18=C19,"W","L"))) -> L | F19: =IF(E19="","",AK18) -> 2 | G19: =IF(E19="NB",0,IF(E19="w",2,IF(E19="l",-1,""))) -> -1 | H19: =IF(E19="","",IF(E19="NB",0,G19*F19)) -> -2 | I19: =IF(E19="",0,I18+H19) -> 6 | J19: =IF(B19="","",IF(B19=0,"X","")) | L19: 10 | M19: =AY1001 -> 0 | R19: 17 | S19: 1 | U19: =IF(C19=1,1,"") | V19: =IF(C19=2,2,"") | W19: =IF(C19=3,3,"") -> 3 | X19: =IF(C19=4,4,"") | Z19: =IF(Z18=1,1,IF(U19=1,1,"")) -> 1 | AA19: =IF(AA18=1,1,IF(V19=2,1,"")) -> 1 | AB19: =IF(AB18=1,1,IF(W19=3,1,"")) -> 1 | AC19: =IF(AC18=1,1,IF(X19=4,1,"")) | AD19: =IF(OR(AD18=1,AD18=0),0,IF(SUM(Z19:AC19)=4,1,"")) | AF19: =SUM(U19:X19) -> 3 | AG19: =IF(AF18<>AF19,AF18,IF(AF18=AF19,AG18,IF(AF18=AF17,AG18,AF18))) -> 2 | AH19: =IF(AF19=AG18,AH18,IF(AF19<>AF18,AG18,IF(AF18=AF17,AH18,IF(AF19=AF17,AH18,IF(AF18=AF19,AH18,SUM(U17:X17)))))) -> 1 | AJ19: =IF(E19="NB",AJ18,IF(E19="",0,IF(E19="l",AJ18+1,IF(E19="w",IF($P$2=0,0,IF(AND($P$2>0,AJ18>$P$2),AJ18-$P$2,0)))))) -> 3 | AK19: =VLOOKUP(AJ19,$R$2:S38,2,0) -> 3 | AM19: =IF(I19<=AM18,AM18,I19) -> 10 | AO19: =IF(E19="l",AO18+1,IF(E19="w",0,0)) -> 3 | AP19: =IF(AND(AO19=1,AO20=0),1,"") | AQ19: =IF(AND(AO19=2,AO20=0),1,"") | AR19: =IF(AND(AO19=3,AO20=0),1,"") | AS19: =IF(AND(AO19=4,AO20=0),1,"") | AT19: =IF(AND(AO19=5,AO20=0),1,"") | AU19: =IF(AND(AO19=6,AO20=0),1,"") | AV19: =IF(AND(AO19=7,AO20=0),1,"") | AW19: =IF(AND(AO19=8,AO20=0),1,"") | AX19: =IF(AND(AO19=9,AO20=0),1,"") | AY19: =IF(AND(AO19=10,AO20=0),1,"") | AZ19: =IF(AND(AO19=11,AO20=0),1,"") | BA19: =IF(AND(AO19=12,AO20=0),1,"") | BB19: =IF(AND(AO19=13,AO20=0),1,"") | BC19: =IF(AND(AO19=14,AO20=0),1,"") | BD19: =IF(AND(AO19=15,AO20=0),1,"") | BE19: =IF(AND(AO19=16,AO20=0),1,"") | BF19: =IF(AND(AO19=17,AO20=0),1,"") | BG19: =IF(AND(AO19=18,AO20=0),1,"") | BH19: =IF(AND(AO19=19,AO20=0),1,"") | BI19: =IF(AND(AO19=20,AO20=0),1,"") | BJ19: =IF(AND(AO19=21,AO20=0),1,"") | BK19: =IF(AND(AO19=22,AO20=0),1,"") | BL19: =IF(AND(AO19=23,AO20=0),1,"") | BM19: =IF(AND(AO19=24,AO20=0),1,"") | BN19: =IF(AND(AO19=25,AO20=0),1,"") | BO19: =IF(AND(AO19>25,AO20=0),1,"")
B20: 23 | C20: =IF(B20="","",VLOOKUP(B20,Tabelle2!$A$1:$B$37,2,0)) -> 2 | D20: =IF(B20="","",IF(B20=0,"NB",VLOOKUP(C20,Tabelle2!$D$1:$E$4,2,0))) -> 2 | E20: =IF(B20="","",IF(D19="NB","NB",IF(D19=C20,"W","L"))) -> L | F20: =IF(E20="","",AK19) -> 3 | G20: =IF(E20="NB",0,IF(E20="w",2,IF(E20="l",-1,""))) -> -1 | H20: =IF(E20="","",IF(E20="NB",0,G20*F20)) -> -3 | I20: =IF(E20="",0,I19+H20) -> 3 | J20: =IF(B20="","",IF(B20=0,"X","")) | L20: 11 | M20: =AZ1001 -> 1 | R20: 18 | S20: 1 | U20: =IF(C20=1,1,"") | V20: =IF(C20=2,2,"") -> 2 | W20: =IF(C20=3,3,"") | X20: =IF(C20=4,4,"") | Z20: =IF(Z19=1,1,IF(U20=1,1,"")) -> 1 | AA20: =IF(AA19=1,1,IF(V20=2,1,"")) -> 1 | AB20: =IF(AB19=1,1,IF(W20=3,1,"")) -> 1 | AC20: =IF(AC19=1,1,IF(X20=4,1,"")) | AD20: =IF(OR(AD19=1,AD19=0),0,IF(SUM(Z20:AC20)=4,1,"")) | AF20: =SUM(U20:X20) -> 2 | AG20: =IF(AF19<>AF20,AF19,IF(AF19=AF20,AG19,IF(AF19=AF18,AG19,AF19))) -> 3 | AH20: =IF(AF20=AG19,AH19,IF(AF20<>AF19,AG19,IF(AF19=AF18,AH19,IF(AF20=AF18,AH19,IF(AF19=AF20,AH19,SUM(U18:X18)))))) -> 1 | AJ20: =IF(E20="NB",AJ19,IF(E20="",0,IF(E20="l",AJ19+1,IF(E20="w",IF($P$2=0,0,IF(AND($P$2>0,AJ19>$P$2),AJ19-$P$2,0)))))) -> 4 | AK20: =VLOOKUP(AJ20,$R$2:S39,2,0) -> 7 | AM20: =IF(I20<=AM19,AM19,I20) -> 10 | AO20: =IF(E20="l",AO19+1,IF(E20="w",0,0)) -> 4 | AP20: =IF(AND(AO20=1,AO21=0),1,"") | AQ20: =IF(AND(AO20=2,AO21=0),1,"") | AR20: =IF(AND(AO20=3,AO21=0),1,"") | AS20: =IF(AND(AO20=4,AO21=0),1,"") -> 1 | AT20: =IF(AND(AO20=5,AO21=0),1,"") | AU20: =IF(AND(AO20=6,AO21=0),1,"") | AV20: =IF(AND(AO20=7,AO21=0),1,"") | AW20: =IF(AND(AO20=8,AO21=0),1,"") | AX20: =IF(AND(AO20=9,AO21=0),1,"") | AY20: =IF(AND(AO20=10,AO21=0),1,"") | AZ20: =IF(AND(AO20=11,AO21=0),1,"") | BA20: =IF(AND(AO20=12,AO21=0),1,"") | BB20: =IF(AND(AO20=13,AO21=0),1,"") | BC20: =IF(AND(AO20=14,AO21=0),1,"") | BD20: =IF(AND(AO20=15,AO21=0),1,"") | BE20: =IF(AND(AO20=16,AO21=0),1,"") | BF20: =IF(AND(AO20=17,AO21=0),1,"") | BG20: =IF(AND(AO20=18,AO21=0),1,"") | BH20: =IF(AND(AO20=19,AO21=0),1,"") | BI20: =IF(AND(AO20=20,AO21=0),1,"") | BJ20: =IF(AND(AO20=21,AO21=0),1,"") | BK20: =IF(AND(AO20=22,AO21=0),1,"") | BL20: =IF(AND(AO20=23,AO21=0),1,"") | BM20: =IF(AND(AO20=24,AO21=0),1,"") | BN20: =IF(AND(AO20=25,AO21=0),1,"") | BO20: =IF(AND(AO20>25,AO21=0),1,"")
B21: 19 | C21: =IF(B21="","",VLOOKUP(B21,Tabelle2!$A$1:$B$37,2,0)) -> 2 | D21: =IF(B21="","",IF(B21=0,"NB",VLOOKUP(C21,Tabelle2!$D$1:$E$4,2,0))) -> 2 | E21: =IF(B21="","",IF(D20="NB","NB",IF(D20=C21,"W","L"))) -> W | F21: =IF(E21="","",AK20) -> 7 | G21: =IF(E21="NB",0,IF(E21="w",2,IF(E21="l",-1,""))) -> 2 | H21: =IF(E21="","",IF(E21="NB",0,G21*F21)) -> 14 | I21: =IF(E21="",0,I20+H21) -> 17 | J21: =IF(B21="","",IF(B21=0,"X","")) | L21: 12 | M21: =BA1001 -> 0 | R21: 19 | S21: 1 | U21: =IF(C21=1,1,"") | V21: =IF(C21=2,2,"") -> 2 | W21: =IF(C21=3,3,"") | X21: =IF(C21=4,4,"") | Z21: =IF(Z20=1,1,IF(U21=1,1,"")) -> 1 | AA21: =IF(AA20=1,1,IF(V21=2,1,"")) -> 1 | AB21: =IF(AB20=1,1,IF(W21=3,1,"")) -> 1 | AC21: =IF(AC20=1,1,IF(X21=4,1,"")) | AD21: =IF(OR(AD20=1,AD20=0),0,IF(SUM(Z21:AC21)=4,1,"")) | AF21: =SUM(U21:X21) -> 2 | AG21: =IF(AF20<>AF21,AF20,IF(AF20=AF21,AG20,IF(AF20=AF19,AG20,AF20))) -> 3 | AH21: =IF(AF21=AG20,AH20,IF(AF21<>AF20,AG20,IF(AF20=AF19,AH20,IF(AF21=AF19,AH20,IF(AF20=AF21,AH20,SUM(U19:X19)))))) -> 1 | AJ21: =IF(E21="NB",AJ20,IF(E21="",0,IF(E21="l",AJ20+1,IF(E21="w",IF($P$2=0,0,IF(AND($P$2>0,AJ20>$P$2),AJ20-$P$2,0)))))) -> 0 | AK21: =VLOOKUP(AJ21,$R$2:S40,2,0) -> 1 | AM21: =IF(I21<=AM20,AM20,I21) -> 17 | AO21: =IF(E21="l",AO20+1,IF(E21="w",0,0)) -> 0 | AP21: =IF(AND(AO21=1,AO22=0),1,"") | AQ21: =IF(AND(AO21=2,AO22=0),1,"") | AR21: =IF(AND(AO21=3,AO22=0),1,"") | AS21: =IF(AND(AO21=4,AO22=0),1,"") | AT21: =IF(AND(AO21=5,AO22=0),1,"") | AU21: =IF(AND(AO21=6,AO22=0),1,"") | AV21: =IF(AND(AO21=7,AO22=0),1,"") | AW21: =IF(AND(AO21=8,AO22=0),1,"") | AX21: =IF(AND(AO21=9,AO22=0),1,"") | AY21: =IF(AND(AO21=10,AO22=0),1,"") | AZ21: =IF(AND(AO21=11,AO22=0),1,"") | BA21: =IF(AND(AO21=12,AO22=0),1,"") | BB21: =IF(AND(AO21=13,AO22=0),1,"") | BC21: =IF(AND(AO21=14,AO22=0),1,"") | BD21: =IF(AND(AO21=15,AO22=0),1,"") | BE21: =IF(AND(AO21=16,AO22=0),1,"") | BF21: =IF(AND(AO21=17,AO22=0),1,"") | BG21: =IF(AND(AO21=18,AO22=0),1,"") | BH21: =IF(AND(AO21=19,AO22=0),1,"") | BI21: =IF(AND(AO21=20,AO22=0),1,"") | BJ21: =IF(AND(AO21=21,AO22=0),1,"") | BK21: =IF(AND(AO21=22,AO22=0),1,"") | BL21: =IF(AND(AO21=23,AO22=0),1,"") | BM21: =IF(AND(AO21=24,AO22=0),1,"") | BN21: =IF(AND(AO21=25,AO22=0),1,"") | BO21: =IF(AND(AO21>25,AO22=0),1,"")
B22: 18 | C22: =IF(B22="","",VLOOKUP(B22,Tabelle2!$A$1:$B$37,2,0)) -> 2 | D22: =IF(B22="","",IF(B22=0,"NB",VLOOKUP(C22,Tabelle2!$D$1:$E$4,2,0))) -> 2 | E22: =IF(B22="","",IF(D21="NB","NB",IF(D21=C22,"W","L"))) -> W | F22: =IF(E22="","",AK21) -> 1 | G22: =IF(E22="NB",0,IF(E22="w",2,IF(E22="l",-1,""))) -> 2 | H22: =IF(E22="","",IF(E22="NB",0,G22*F22)) -> 2 | I22: =IF(E22="",0,I21+H22) -> 19 | J22: =IF(B22="","",IF(B22=0,"X","")) | L22: 13 | M22: =BB1001 -> 2 | R22: 20 | S22: 1 | U22: =IF(C22=1,1,"") | V22: =IF(C22=2,2,"") -> 2 | W22: =IF(C22=3,3,"") | X22: =IF(C22=4,4,"") | Z22: =IF(Z21=1,1,IF(U22=1,1,"")) -> 1 | AA22: =IF(AA21=1,1,IF(V22=2,1,"")) -> 1 | AB22: =IF(AB21=1,1,IF(W22=3,1,"")) -> 1 | AC22: =IF(AC21=1,1,IF(X22=4,1,"")) | AD22: =IF(OR(AD21=1,AD21=0),0,IF(SUM(Z22:AC22)=4,1,"")) | AF22: =SUM(U22:X22) -> 2 | AG22: =IF(AF21<>AF22,AF21,IF(AF21=AF22,AG21,IF(AF21=AF20,AG21,AF21))) -> 3 | AH22: =IF(AF22=AG21,AH21,IF(AF22<>AF21,AG21,IF(AF21=AF20,AH21,IF(AF22=AF20,AH21,IF(AF21=AF22,AH21,SUM(U20:X20)))))) -> 1 | AJ22: =IF(E22="NB",AJ21,IF(E22="",0,IF(E22="l",AJ21+1,IF(E22="w",IF($P$2=0,0,IF(AND($P$2>0,AJ21>$P$2),AJ21-$P$2,0)))))) -> 0 | AK22: =VLOOKUP(AJ22,$R$2:S41,2,0) -> 1 | AM22: =IF(I22<=AM21,AM21,I22) -> 19 | AO22: =IF(E22="l",AO21+1,IF(E22="w",0,0)) -> 0 | AP22: =IF(AND(AO22=1,AO23=0),1,"") | AQ22: =IF(AND(AO22=2,AO23=0),1,"") | AR22: =IF(AND(AO22=3,AO23=0),1,"") | AS22: =IF(AND(AO22=4,AO23=0),1,"") | AT22: =IF(AND(AO22=5,AO23=0),1,"") | AU22: =IF(AND(AO22=6,AO23=0),1,"") | AV22: =IF(AND(AO22=7,AO23=0),1,"") | AW22: =IF(AND(AO22=8,AO23=0),1,"") | AX22: =IF(AND(AO22=9,AO23=0),1,"") | AY22: =IF(AND(AO22=10,AO23=0),1,"") | AZ22: =IF(AND(AO22=11,AO23=0),1,"") | BA22: =IF(AND(AO22=12,AO23=0),1,"") | BB22: =IF(AND(AO22=13,AO23=0),1,"") | BC22: =IF(AND(AO22=14,AO23=0),1,"") | BD22: =IF(AND(AO22=15,AO23=0),1,"") | BE22: =IF(AND(AO22=16,AO23=0),1,"") | BF22: =IF(AND(AO22=17,AO23=0),1,"") | BG22: =IF(AND(AO22=18,AO23=0),1,"") | BH22: =IF(AND(AO22=19,AO23=0),1,"") | BI22: =IF(AND(AO22=20,AO23=0),1,"") | BJ22: =IF(AND(AO22=21,AO23=0),1,"") | BK22: =IF(AND(AO22=22,AO23=0),1,"") | BL22: =IF(AND(AO22=23,AO23=0),1,"") | BM22: =IF(AND(AO22=24,AO23=0),1,"") | BN22: =IF(AND(AO22=25,AO23=0),1,"") | BO22: =IF(AND(AO22>25,AO23=0),1,"")
B23: 31 | C23: =IF(B23="","",VLOOKUP(B23,Tabelle2!$A$1:$B$37,2,0)) -> 3 | D23: =IF(B23="","",IF(B23=0,"NB",VLOOKUP(C23,Tabelle2!$D$1:$E$4,2,0))) -> 1 | E23: =IF(B23="","",IF(D22="NB","NB",IF(D22=C23,"W","L"))) -> L | F23: =IF(E23="","",AK22) -> 1 | G23: =IF(E23="NB",0,IF(E23="w",2,IF(E23="l",-1,""))) -> -1 | H23: =IF(E23="","",IF(E23="NB",0,G23*F23)) -> -1 | I23: =IF(E23="",0,I22+H23) -> 18 | J23: =IF(B23="","",IF(B23=0,"X","")) | L23: 14 | M23: =BC1001 -> 0 | U23: =IF(C23=1,1,"") | V23: =IF(C23=2,2,"") | W23: =IF(C23=3,3,"") -> 3 | X23: =IF(C23=4,4,"") | Z23: =IF(Z22=1,1,IF(U23=1,1,"")) -> 1 | AA23: =IF(AA22=1,1,IF(V23=2,1,"")) -> 1 | AB23: =IF(AB22=1,1,IF(W23=3,1,"")) -> 1 | AC23: =IF(AC22=1,1,IF(X23=4,1,"")) | AD23: =IF(OR(AD22=1,AD22=0),0,IF(SUM(Z23:AC23)=4,1,"")) | AF23: =SUM(U23:X23) -> 3 | AG23: =IF(AF22<>AF23,AF22,IF(AF22=AF23,AG22,IF(AF22=AF21,AG22,AF22))) -> 2 | AH23: =IF(AF23=AG22,AH22,IF(AF23<>AF22,AG22,IF(AF22=AF21,AH22,IF(AF23=AF21,AH22,IF(AF22=AF23,AH22,SUM(U21:X21)))))) -> 1 | AJ23: =IF(E23="NB",AJ22,IF(E23="",0,IF(E23="l",AJ22+1,IF(E23="w",IF($P$2=0,0,IF(AND($P$2>0,AJ22>$P$2),AJ22-$P$2,0)))))) -> 1 | AK23: =VLOOKUP(AJ23,$R$2:S42,2,0) -> 1 | AM23: =IF(I23<=AM22,AM22,I23) -> 19 | AO23: =IF(E23="l",AO22+1,IF(E23="w",0,0)) -> 1 | AP23: =IF(AND(AO23=1,AO24=0),1,"") | AQ23: =IF(AND(AO23=2,AO24=0),1,"") | AR23: =IF(AND(AO23=3,AO24=0),1,"") | AS23: =IF(AND(AO23=4,AO24=0),1,"") | AT23: =IF(AND(AO23=5,AO24=0),1,"") | AU23: =IF(AND(AO23=6,AO24=0),1,"") | AV23: =IF(AND(AO23=7,AO24=0),1,"") | AW23: =IF(AND(AO23=8,AO24=0),1,"") | AX23: =IF(AND(AO23=9,AO24=0),1,"") | AY23: =IF(AND(AO23=10,AO24=0),1,"") | AZ23: =IF(AND(AO23=11,AO24=0),1,"") | BA23: =IF(AND(AO23=12,AO24=0),1,"") | BB23: =IF(AND(AO23=13,AO24=0),1,"") | BC23: =IF(AND(AO23=14,AO24=0),1,"") | BD23: =IF(AND(AO23=15,AO24=0),1,"") | BE23: =IF(AND(AO23=16,AO24=0),1,"") | BF23: =IF(AND(AO23=17,AO24=0),1,"") | BG23: =IF(AND(AO23=18,AO24=0),1,"") | BH23: =IF(AND(AO23=19,AO24=0),1,"") | BI23: =IF(AND(AO23=20,AO24=0),1,"") | BJ23: =IF(AND(AO23=21,AO24=0),1,"") | BK23: =IF(AND(AO23=22,AO24=0),1,"") | BL23: =IF(AND(AO23=23,AO24=0),1,"") | BM23: =IF(AND(AO23=24,AO24=0),1,"") | BN23: =IF(AND(AO23=25,AO24=0),1,"") | BO23: =IF(AND(AO23>25,AO24=0),1,"")
B24: 34 | C24: =IF(B24="","",VLOOKUP(B24,Tabelle2!$A$1:$B$37,2,0)) -> 3 | D24: =IF(B24="","",IF(B24=0,"NB",VLOOKUP(C24,Tabelle2!$D$1:$E$4,2,0))) -> 1 | E24: =IF(B24="","",IF(D23="NB","NB",IF(D23=C24,"W","L"))) -> L | F24: =IF(E24="","",AK23) -> 1 | G24: =IF(E24="NB",0,IF(E24="w",2,IF(E24="l",-1,""))) -> -1 | H24: =IF(E24="","",IF(E24="NB",0,G24*F24)) -> -1 | I24: =IF(E24="",0,I23+H24) -> 17 | J24: =IF(B24="","",IF(B24=0,"X","")) | L24: 15 | M24: =BD1001 -> 1 | U24: =IF(C24=1,1,"") | V24: =IF(C24=2,2,"") | W24: =IF(C24=3,3,"") -> 3 | X24: =IF(C24=4,4,"") | Z24: =IF(Z23=1,1,IF(U24=1,1,"")) -> 1 | AA24: =IF(AA23=1,1,IF(V24=2,1,"")) -> 1 | AB24: =IF(AB23=1,1,IF(W24=3,1,"")) -> 1 | AC24: =IF(AC23=1,1,IF(X24=4,1,"")) | AD24: =IF(OR(AD23=1,AD23=0),0,IF(SUM(Z24:AC24)=4,1,"")) | AF24: =SUM(U24:X24) -> 3 | AG24: =IF(AF23<>AF24,AF23,IF(AF23=AF24,AG23,IF(AF23=AF22,AG23,AF23))) -> 2 | AH24: =IF(AF24=AG23,AH23,IF(AF24<>AF23,AG23,IF(AF23=AF22,AH23,IF(AF24=AF22,AH23,IF(AF23=AF24,AH23,SUM(U22:X22)))))) -> 1 | AJ24: =IF(E24="NB",AJ23,IF(E24="",0,IF(E24="l",AJ23+1,IF(E24="w",IF($P$2=0,0,IF(AND($P$2>0,AJ23>$P$2),AJ23-$P$2,0)))))) -> 2 | AK24: =VLOOKUP(AJ24,$R$2:S43,2,0) -> 2 | AM24: =IF(I24<=AM23,AM23,I24) -> 19 | AO24: =IF(E24="l",AO23+1,IF(E24="w",0,0)) -> 2 | AP24: =IF(AND(AO24=1,AO25=0),1,"") | AQ24: =IF(AND(AO24=2,AO25=0),1,"") -> 1 | AR24: =IF(AND(AO24=3,AO25=0),1,"") | AS24: =IF(AND(AO24=4,AO25=0),1,"") | AT24: =IF(AND(AO24=5,AO25=0),1,"") | AU24: =IF(AND(AO24=6,AO25=0),1,"") | AV24: =IF(AND(AO24=7,AO25=0),1,"") | AW24: =IF(AND(AO24=8,AO25=0),1,"") | AX24: =IF(AND(AO24=9,AO25=0),1,"") | AY24: =IF(AND(AO24=10,AO25=0),1,"") | AZ24: =IF(AND(AO24=11,AO25=0),1,"") | BA24: =IF(AND(AO24=12,AO25=0),1,"") | BB24: =IF(AND(AO24=13,AO25=0),1,"") | BC24: =IF(AND(AO24=14,AO25=0),1,"") | BD24: =IF(AND(AO24=15,AO25=0),1,"") | BE24: =IF(AND(AO24=16,AO25=0),1,"") | BF24: =IF(AND(AO24=17,AO25=0),1,"") | BG24: =IF(AND(AO24=18,AO25=0),1,"") | BH24: =IF(AND(AO24=19,AO25=0),1,"") | BI24: =IF(AND(AO24=20,AO25=0),1,"") | BJ24: =IF(AND(AO24=21,AO25=0),1,"") | BK24: =IF(AND(AO24=22,AO25=0),1,"") | BL24: =IF(AND(AO24=23,AO25=0),1,"") | BM24: =IF(AND(AO24=24,AO25=0),1,"") | BN24: =IF(AND(AO24=25,AO25=0),1,"") | BO24: =IF(AND(AO24>25,AO25=0),1,"")
B25: 6 | C25: =IF(B25="","",VLOOKUP(B25,Tabelle2!$A$1:$B$37,2,0)) -> 1 | D25: =IF(B25="","",IF(B25=0,"NB",VLOOKUP(C25,Tabelle2!$D$1:$E$4,2,0))) -> 3 | E25: =IF(B25="","",IF(D24="NB","NB",IF(D24=C25,"W","L"))) -> W | F25: =IF(E25="","",AK24) -> 2 | G25: =IF(E25="NB",0,IF(E25="w",2,IF(E25="l",-1,""))) -> 2 | H25: =IF(E25="","",IF(E25="NB",0,G25*F25)) -> 4 | I25: =IF(E25="",0,I24+H25) -> 21 | J25: =IF(B25="","",IF(B25=0,"X","")) | L25: 16 | M25: =BE1001 -> 0 | U25: =IF(C25=1,1,"") -> 1 | V25: =IF(C25=2,2,"") | W25: =IF(C25=3,3,"") | X25: =IF(C25=4,4,"") | Z25: =IF(Z24=1,1,IF(U25=1,1,"")) -> 1 | AA25: =IF(AA24=1,1,IF(V25=2,1,"")) -> 1 | AB25: =IF(AB24=1,1,IF(W25=3,1,"")) -> 1 | AC25: =IF(AC24=1,1,IF(X25=4,1,"")) | AD25: =IF(OR(AD24=1,AD24=0),0,IF(SUM(Z25:AC25)=4,1,"")) | AF25: =SUM(U25:X25) -> 1 | AG25: =IF(AF24<>AF25,AF24,IF(AF24=AF25,AG24,IF(AF24=AF23,AG24,AF24))) -> 3 | AH25: =IF(AF25=AG24,AH24,IF(AF25<>AF24,AG24,IF(AF24=AF23,AH24,IF(AF25=AF23,AH24,IF(AF24=AF25,AH24,SUM(U23:X23)))))) -> 2 | AJ25: =IF(E25="NB",AJ24,IF(E25="",0,IF(E25="l",AJ24+1,IF(E25="w",IF($P$2=0,0,IF(AND($P$2>0,AJ24>$P$2),AJ24-$P$2,0)))))) -> 0 | AK25: =VLOOKUP(AJ25,$R$2:S44,2,0) -> 1 | AM25: =IF(I25<=AM24,AM24,I25) -> 21 | AO25: =IF(E25="l",AO24+1,IF(E25="w",0,0)) -> 0 | AP25: =IF(AND(AO25=1,AO26=0),1,"") | AQ25: =IF(AND(AO25=2,AO26=0),1,"") | AR25: =IF(AND(AO25=3,AO26=0),1,"") | AS25: =IF(AND(AO25=4,AO26=0),1,"") | AT25: =IF(AND(AO25=5,AO26=0),1,"") | AU25: =IF(AND(AO25=6,AO26=0),1,"") | AV25: =IF(AND(AO25=7,AO26=0),1,"") | AW25: =IF(AND(AO25=8,AO26=0),1,"") | AX25: =IF(AND(AO25=9,AO26=0),1,"") | AY25: =IF(AND(AO25=10,AO26=0),1,"") | AZ25: =IF(AND(AO25=11,AO26=0),1,"") | BA25: =IF(AND(AO25=12,AO26=0),1,"") | BB25: =IF(AND(AO25=13,AO26=0),1,"") | BC25: =IF(AND(AO25=14,AO26=0),1,"") | BD25: =IF(AND(AO25=15,AO26=0),1,"") | BE25: =IF(AND(AO25=16,AO26=0),1,"") | BF25: =IF(AND(AO25=17,AO26=0),1,"") | BG25: =IF(AND(AO25=18,AO26=0),1,"") | BH25: =IF(AND(AO25=19,AO26=0),1,"") | BI25: =IF(AND(AO25=20,AO26=0),1,"") | BJ25: =IF(AND(AO25=21,AO26=0),1,"") | BK25: =IF(AND(AO25=22,AO26=0),1,"") | BL25: =IF(AND(AO25=23,AO26=0),1,"") | BM25: =IF(AND(AO25=24,AO26=0),1,"") | BN25: =IF(AND(AO25=25,AO26=0),1,"") | BO25: =IF(AND(AO25>25,AO26=0),1,"")
B26: 8 | C26: =IF(B26="","",VLOOKUP(B26,Tabelle2!$A$1:$B$37,2,0)) -> 1 | D26: =IF(B26="","",IF(B26=0,"NB",VLOOKUP(C26,Tabelle2!$D$1:$E$4,2,0))) -> 3 | E26: =IF(B26="","",IF(D25="NB","NB",IF(D25=C26,"W","L"))) -> L | F26: =IF(E26="","",AK25) -> 1 | G26: =IF(E26="NB",0,IF(E26="w",2,IF(E26="l",-1,""))) -> -1 | H26: =IF(E26="","",IF(E26="NB",0,G26*F26)) -> -1 | I26: =IF(E26="",0,I25+H26) -> 20 | J26: =IF(B26="","",IF(B26=0,"X","")) | L26: 17 | M26: =BF1001 -> 0 | U26: =IF(C26=1,1,"") -> 1 | V26: =IF(C26=2,2,"") | W26: =IF(C26=3,3,"") | X26: =IF(C26=4,4,"") | Z26: =IF(Z25=1,1,IF(U26=1,1,"")) -> 1 | AA26: =IF(AA25=1,1,IF(V26=2,1,"")) -> 1 | AB26: =IF(AB25=1,1,IF(W26=3,1,"")) -> 1 | AC26: =IF(AC25=1,1,IF(X26=4,1,"")) | AD26: =IF(OR(AD25=1,AD25=0),0,IF(SUM(Z26:AC26)=4,1,"")) | AF26: =SUM(U26:X26) -> 1 | AG26: =IF(AF25<>AF26,AF25,IF(AF25=AF26,AG25,IF(AF25=AF24,AG25,AF25))) -> 3 | AH26: =IF(AF26=AG25,AH25,IF(AF26<>AF25,AG25,IF(AF25=AF24,AH25,IF(AF26=AF24,AH25,IF(AF25=AF26,AH25,SUM(U24:X24)))))) -> 2 | AJ26: =IF(E26="NB",AJ25,IF(E26="",0,IF(E26="l",AJ25+1,IF(E26="w",IF($P$2=0,0,IF(AND($P$2>0,AJ25>$P$2),AJ25-$P$2,0)))))) -> 1 | AK26: =VLOOKUP(AJ26,$R$2:S45,2,0) -> 1 | AM26: =IF(I26<=AM25,AM25,I26) -> 21 | AO26: =IF(E26="l",AO25+1,IF(E26="w",0,0)) -> 1 | AP26: =IF(AND(AO26=1,AO27=0),1,"") -> 1 | AQ26: =IF(AND(AO26=2,AO27=0),1,"") | AR26: =IF(AND(AO26=3,AO27=0),1,"") | AS26: =IF(AND(AO26=4,AO27=0),1,"") | AT26: =IF(AND(AO26=5,AO27=0),1,"") | AU26: =IF(AND(AO26=6,AO27=0),1,"") | AV26: =IF(AND(AO26=7,AO27=0),1,"") | AW26: =IF(AND(AO26=8,AO27=0),1,"") | AX26: =IF(AND(AO26=9,AO27=0),1,"") | AY26: =IF(AND(AO26=10,AO27=0),1,"") | AZ26: =IF(AND(AO26=11,AO27=0),1,"") | BA26: =IF(AND(AO26=12,AO27=0),1,"") | BB26: =IF(AND(AO26=13,AO27=0),1,"") | BC26: =IF(AND(AO26=14,AO27=0),1,"") | BD26: =IF(AND(AO26=15,AO27=0),1,"") | BE26: =IF(AND(AO26=16,AO27=0),1,"") | BF26: =IF(AND(AO26=17,AO27=0),1,"") | BG26: =IF(AND(AO26=18,AO27=0),1,"") | BH26: =IF(AND(AO26=19,AO27=0),1,"") | BI26: =IF(AND(AO26=20,AO27=0),1,"") | BJ26: =IF(AND(AO26=21,AO27=0),1,"") | BK26: =IF(AND(AO26=22,AO27=0),1,"") | BL26: =IF(AND(AO26=23,AO27=0),1,"") | BM26: =IF(AND(AO26=24,AO27=0),1,"") | BN26: =IF(AND(AO26=25,AO27=0),1,"") | BO26: =IF(AND(AO26>25,AO27=0),1,"")
B27: 27 | C27: =IF(B27="","",VLOOKUP(B27,Tabelle2!$A$1:$B$37,2,0)) -> 3 | D27: =IF(B27="","",IF(B27=0,"NB",VLOOKUP(C27,Tabelle2!$D$1:$E$4,2,0))) -> 1 | E27: =IF(B27="","",IF(D26="NB","NB",IF(D26=C27,"W","L"))) -> W | F27: =IF(E27="","",AK26) -> 1 | G27: =IF(E27="NB",0,IF(E27="w",2,IF(E27="l",-1,""))) -> 2 | H27: =IF(E27="","",IF(E27="NB",0,G27*F27)) -> 2 | I27: =IF(E27="",0,I26+H27) -> 22 | J27: =IF(B27="","",IF(B27=0,"X","")) | L27: 18 | M27: =BG1001 -> 0 | U27: =IF(C27=1,1,"") | V27: =IF(C27=2,2,"") | W27: =IF(C27=3,3,"") -> 3 | X27: =IF(C27=4,4,"") | Z27: =IF(Z26=1,1,IF(U27=1,1,"")) -> 1 | AA27: =IF(AA26=1,1,IF(V27=2,1,"")) -> 1 | AB27: =IF(AB26=1,1,IF(W27=3,1,"")) -> 1 | AC27: =IF(AC26=1,1,IF(X27=4,1,"")) | AD27: =IF(OR(AD26=1,AD26=0),0,IF(SUM(Z27:AC27)=4,1,"")) | AF27: =SUM(U27:X27) -> 3 | AG27: =IF(AF26<>AF27,AF26,IF(AF26=AF27,AG26,IF(AF26=AF25,AG26,AF26))) -> 1 | AH27: =IF(AF27=AG26,AH26,IF(AF27<>AF26,AG26,IF(AF26=AF25,AH26,IF(AF27=AF25,AH26,IF(AF26=AF27,AH26,SUM(U25:X25)))))) -> 2 | AJ27: =IF(E27="NB",AJ26,IF(E27="",0,IF(E27="l",AJ26+1,IF(E27="w",IF($P$2=0,0,IF(AND($P$2>0,AJ26>$P$2),AJ26-$P$2,0)))))) -> 0 | AK27: =VLOOKUP(AJ27,$R$2:S46,2,0) -> 1 | AM27: =IF(I27<=AM26,AM26,I27) -> 22 | AO27: =IF(E27="l",AO26+1,IF(E27="w",0,0)) -> 0 | AP27: =IF(AND(AO27=1,AO28=0),1,"") | AQ27: =IF(AND(AO27=2,AO28=0),1,"") | AR27: =IF(AND(AO27=3,AO28=0),1,"") | AS27: =IF(AND(AO27=4,AO28=0),1,"") | AT27: =IF(AND(AO27=5,AO28=0),1,"") | AU27: =IF(AND(AO27=6,AO28=0),1,"") | AV27: =IF(AND(AO27=7,AO28=0),1,"") | AW27: =IF(AND(AO27=8,AO28=0),1,"") | AX27: =IF(AND(AO27=9,AO28=0),1,"") | AY27: =IF(AND(AO27=10,AO28=0),1,"") | AZ27: =IF(AND(AO27=11,AO28=0),1,"") | BA27: =IF(AND(AO27=12,AO28=0),1,"") | BB27: =IF(AND(AO27=13,AO28=0),1,"") | BC27: =IF(AND(AO27=14,AO28=0),1,"") | BD27: =IF(AND(AO27=15,AO28=0),1,"") | BE27: =IF(AND(AO27=16,AO28=0),1,"") | BF27: =IF(AND(AO27=17,AO28=0),1,"") | BG27: =IF(AND(AO27=18,AO28=0),1,"") | BH27: =IF(AND(AO27=19,AO28=0),1,"") | BI27: =IF(AND(AO27=20,AO28=0),1,"") | BJ27: =IF(AND(AO27=21,AO28=0),1,"") | BK27: =IF(AND(AO27=22,AO28=0),1,"") | BL27: =IF(AND(AO27=23,AO28=0),1,"") | BM27: =IF(AND(AO27=24,AO28=0),1,"") | BN27: =IF(AND(AO27=25,AO28=0),1,"") | BO27: =IF(AND(AO27>25,AO28=0),1,"")
B28: 13 | C28: =IF(B28="","",VLOOKUP(B28,Tabelle2!$A$1:$B$37,2,0)) -> 2 | D28: =IF(B28="","",IF(B28=0,"NB",VLOOKUP(C28,Tabelle2!$D$1:$E$4,2,0))) -> 2 | E28: =IF(B28="","",IF(D27="NB","NB",IF(D27=C28,"W","L"))) -> L | F28: =IF(E28="","",AK27) -> 1 | G28: =IF(E28="NB",0,IF(E28="w",2,IF(E28="l",-1,""))) -> -1 | H28: =IF(E28="","",IF(E28="NB",0,G28*F28)) -> -1 | I28: =IF(E28="",0,I27+H28) -> 21 | J28: =IF(B28="","",IF(B28=0,"X","")) | L28: 19 | M28: =BH1001 -> 0 | U28: =IF(C28=1,1,"") | V28: =IF(C28=2,2,"") -> 2 | W28: =IF(C28=3,3,"") | X28: =IF(C28=4,4,"") | Z28: =IF(Z27=1,1,IF(U28=1,1,"")) -> 1 | AA28: =IF(AA27=1,1,IF(V28=2,1,"")) -> 1 | AB28: =IF(AB27=1,1,IF(W28=3,1,"")) -> 1 | AC28: =IF(AC27=1,1,IF(X28=4,1,"")) | AD28: =IF(OR(AD27=1,AD27=0),0,IF(SUM(Z28:AC28)=4,1,"")) | AF28: =SUM(U28:X28) -> 2 | AG28: =IF(AF27<>AF28,AF27,IF(AF27=AF28,AG27,IF(AF27=AF26,AG27,AF27))) -> 3 | AH28: =IF(AF28=AG27,AH27,IF(AF28<>AF27,AG27,IF(AF27=AF26,AH27,IF(AF28=AF26,AH27,IF(AF27=AF28,AH27,SUM(U26:X26)))))) -> 1 | AJ28: =IF(E28="NB",AJ27,IF(E28="",0,IF(E28="l",AJ27+1,IF(E28="w",IF($P$2=0,0,IF(AND($P$2>0,AJ27>$P$2),AJ27-$P$2,0)))))) -> 1 | AK28: =VLOOKUP(AJ28,$R$2:S47,2,0) -> 1 | AM28: =IF(I28<=AM27,AM27,I28) -> 22 | AO28: =IF(E28="l",AO27+1,IF(E28="w",0,0)) -> 1 | AP28: =IF(AND(AO28=1,AO29=0),1,"") | AQ28: =IF(AND(AO28=2,AO29=0),1,"") | AR28: =IF(AND(AO28=3,AO29=0),1,"") | AS28: =IF(AND(AO28=4,AO29=0),1,"") | AT28: =IF(AND(AO28=5,AO29=0),1,"") | AU28: =IF(AND(AO28=6,AO29=0),1,"") | AV28: =IF(AND(AO28=7,AO29=0),1,"") | AW28: =IF(AND(AO28=8,AO29=0),1,"") | AX28: =IF(AND(AO28=9,AO29=0),1,"") | AY28: =IF(AND(AO28=10,AO29=0),1,"") | AZ28: =IF(AND(AO28=11,AO29=0),1,"") | BA28: =IF(AND(AO28=12,AO29=0),1,"") | BB28: =IF(AND(AO28=13,AO29=0),1,"") | BC28: =IF(AND(AO28=14,AO29=0),1,"") | BD28: =IF(AND(AO28=15,AO29=0),1,"") | BE28: =IF(AND(AO28=16,AO29=0),1,"") | BF28: =IF(AND(AO28=17,AO29=0),1,"") | BG28: =IF(AND(AO28=18,AO29=0),1,"") | BH28: =IF(AND(AO28=19,AO29=0),1,"") | BI28: =IF(AND(AO28=20,AO29=0),1,"") | BJ28: =IF(AND(AO28=21,AO29=0),1,"") | BK28: =IF(AND(AO28=22,AO29=0),1,"") | BL28: =IF(AND(AO28=23,AO29=0),1,"") | BM28: =IF(AND(AO28=24,AO29=0),1,"") | BN28: =IF(AND(AO28=25,AO29=0),1,"") | BO28: =IF(AND(AO28>25,AO29=0),1,"")
