Workbook

Sheet Aktuelles Spiel
B1: --> Num | D1: Doz | E1: Sec | F1: Bet | G1: Bet Numbers | H1: W/L | I1: ProgLvl | J1: Prog | K1: W/L | L1: Total | V1: Lev | W1: Prog | Y1: Bet Selection Dozzen | Z1: 1-2 | AA1: 1-3 | AB1: 2-1 | AC1: 2-3 | AD1: 3-1 | AE1: 3-2 | AG1: Bet Selection Sector | AH1: 1-2 | AI1: 1-3 | AJ1: 2-1 | AK1: 2-3 | AL1: 3-1 | AM1: 3-2 | AO1: Check Bet and DZ/Sec | AP1: Check Bet | AR1: Bet DZ/Sec | AU1: Betting numbers | AV1: BN1 | AW1: BN2 | AX1: BN3 | AY1: BN4 | AZ1: BN5 | BB1: Losses
A2: 1 | C2: 22 | D2: =IF(C2="","",VLOOKUP(C2,'Number-Dozzen'!$A$2:$C$38,3,0)) -> 2 | E2: =IF(C2="","",VLOOKUP(C2,'[1]Number-Dozzen'!$A$2:$B$38,2,0)) -> 3 | F2: =IF(C2="","",IF(AP2="","",AR2)) | G2: =IF(C2="","",IF(F2="","",VLOOKUP(F2,'Number-Dozzen'!$F$2:$L$10,7,0))) | I2: 1 | J2: =IF(C2="","",1) -> 1 | K2: =IF(H2="","",IF(H2="l",-12*J2,IF(H2="w",24*J2))) | O2: Max | P2: =MAX(L2:L601) -> 36 | V2: 1 | W2: 1 | BB2: 0
A3: 2 | C3: 24 | D3: =IF(C3="","",VLOOKUP(C3,'Number-Dozzen'!$A$2:$C$38,3,0)) -> 2 | E3: =IF(C3="","",VLOOKUP(C3,'[1]Number-Dozzen'!$A$2:$B$38,2,0)) -> 2 | F3: =IF(C3="","",IF(AP3="","",AR3)) | G3: =IF(C3="","",IF(F3="","",VLOOKUP(F3,'Number-Dozzen'!$F$2:$L$10,7,0))) | H3: =IF(AP2=1,IF(COUNTIF(AV2:AZ2,C3)=1,"W","L"),"") | I3: =IF(H2="W",1,IF(H2="L",I2+1,I2)) -> 1 | J3: =IF(C2="","",VLOOKUP(I3,$V$2:$W$100,2,0)) -> 1 | K3: =IF(H3="","",IF(H3="l",-12*J3,IF(H3="w",24*J3))) | O3: Min | P3: =MIN(L2:L601) -> -108 | V3: 2 | W3: 1 | Z3: =IF(AND(D2=2,D3=1),3,"") | AA3: =IF(AND(D2=3,D3=1),2,"") | AB3: =IF(AND(D2=1,D3=2),3,"") | AC3: =IF(AND(D2=3,D3=2),1,"") | AD3: =IF(AND(D2=1,D3=3),2,"") | AE3: =IF(AND(D3=2,D3=3),1,"") | AH3: =IF(AND(E2=2,E3=1),3,"") | AI3: =IF(AND(E2=3,E3=1),2,"") | AJ3: =IF(AND(E2=1,E3=2),3,"") | AK3: =IF(AND(E2=3,E3=2),1,"") -> 1 | AL3: =IF(AND(E2=1,E3=3),2,"") | AM3: =IF(AND(E2=2,E3=3),1,"") | AP3: =IF(AND(SUM(AH3:AM3)>0,SUM(Z3:AE3)>0),1,"") | AR3: =IF(AP3=1,SUM(Z3:AE3)*10+SUM(AH3:AM3),"") | AV3: =IF(AP3=1,VLOOKUP(AR3,'Number-Dozzen'!$F$2:$K$10,2,0),"") | AW3: =IF(AP3=1,VLOOKUP(AR3,'Number-Dozzen'!$F$2:$K$10,3,0),"") | AX3: =IF(AP3=1,VLOOKUP(AR3,'Number-Dozzen'!$F$2:$K$10,4,0),"") | AY3: =IF(AP3=1,VLOOKUP(AR3,'Number-Dozzen'!$F$2:$K$10,5,0),"") | AZ3: =IF(AP3=1,VLOOKUP(AR3,'Number-Dozzen'!$F$2:$K$10,6,0),"") | BB3: 0
A4: 3 | C4: 13 | D4: =IF(C4="","",VLOOKUP(C4,'Number-Dozzen'!$A$2:$C$38,3,0)) -> 2 | E4: =IF(C4="","",VLOOKUP(C4,'[1]Number-Dozzen'!$A$2:$B$38,2,0)) -> 1 | F4: =IF(C4="","",IF(AP4="","",AR4)) | G4: =IF(C4="","",IF(F4="","",VLOOKUP(F4,'Number-Dozzen'!$F$2:$L$10,7,0))) | H4: =IF(AP3=1,IF(COUNTIF(AV3:AZ3,C4)=1,"W","L"),"") | I4: =IF(H3="W",1,IF(H3="L",I3+1,I3)) -> 1 | J4: =IF(C3="","",VLOOKUP(I4,$V$2:$W$100,2,0)) -> 1 | K4: =IF(H4="","",IF(H4="l",-4*J4,IF(H4="w",32*J4))) | L4: =IF(C4="","",SUM($K$2:K4)) -> 0 | O4: Max prog. | P4: =MAX(J2:J601) -> 1 | V4: 3 | W4: 1 | Z4: =IF(AND(D3=2,D4=1),3,"") | AA4: =IF(AND(D3=3,D4=1),2,"") | AB4: =IF(AND(D3=1,D4=2),3,"") | AC4: =IF(AND(D3=3,D4=2),1,"") | AD4: =IF(AND(D3=1,D4=3),2,"") | AE4: =IF(AND(D4=2,D4=3),1,"") | AH4: =IF(AND(E3=2,E4=1),3,"") -> 3 | AI4: =IF(AND(E3=3,E4=1),2,"") | AJ4: =IF(AND(E3=1,E4=2),3,"") | AK4: =IF(AND(E3=3,E4=2),1,"") | AL4: =IF(AND(E3=1,E4=3),2,"") | AM4: =IF(AND(E3=2,E4=3),1,"") | AP4: =IF(AND(SUM(AH4:AM4)>0,SUM(Z4:AE4)>0),1,"") | AR4: =IF(AP4=1,SUM(Z4:AE4)*10+SUM(AH4:AM4),"") | AV4: =IF(AP4=1,VLOOKUP(AR4,'Number-Dozzen'!$F$2:$K$10,2,0),"") | AW4: =IF(AP4=1,VLOOKUP(AR4,'Number-Dozzen'!$F$2:$K$10,3,0),"") | AX4: =IF(AP4=1,VLOOKUP(AR4,'Number-Dozzen'!$F$2:$K$10,4,0),"") | AY4: =IF(AP4=1,VLOOKUP(AR4,'Number-Dozzen'!$F$2:$K$10,5,0),"") | AZ4: =IF(AP4=1,VLOOKUP(AR4,'Number-Dozzen'!$F$2:$K$10,6,0),"") | BB4: =IF(H4="L",BB3+1,IF(H4="w",1,BB3)) -> 0
A5: 4 | C5: 24 | D5: =IF(C5="","",VLOOKUP(C5,'Number-Dozzen'!$A$2:$C$38,3,0)) -> 2 | E5: =IF(C5="","",VLOOKUP(C5,'[1]Number-Dozzen'!$A$2:$B$38,2,0)) -> 2 | F5: =IF(C5="","",IF(AP5="","",AR5)) | G5: =IF(C5="","",IF(F5="","",VLOOKUP(F5,'Number-Dozzen'!$F$2:$L$10,7,0))) | H5: =IF(AP4=1,IF(COUNTIF(AV4:AZ4,C5)=1,"W","L"),"") | I5: =IF(H4="W",1,IF(H4="L",I4+1,I4)) -> 1 | J5: =IF(C4="","",VLOOKUP(I5,$V$2:$W$100,2,0)) -> 1 | K5: =IF(H5="","",IF(H5="l",-4*J5,IF(H5="w",32*J5))) | L5: =IF(C5="","",SUM($K$2:K5)) -> 0 | O5: MaxProg Lvl | P5: =MAX(I2:I601) -> 28 | R5: Max Loss | S5: =MAX(BB2:BB601) -> 28 | V5: 4 | W5: 1 | Z5: =IF(AND(D4=2,D5=1),3,"") | AA5: =IF(AND(D4=3,D5=1),2,"") | AB5: =IF(AND(D4=1,D5=2),3,"") | AC5: =IF(AND(D4=3,D5=2),1,"") | AD5: =IF(AND(D4=1,D5=3),2,"") | AE5: =IF(AND(D5=2,D5=3),1,"") | AH5: =IF(AND(E4=2,E5=1),3,"") | AI5: =IF(AND(E4=3,E5=1),2,"") | AJ5: =IF(AND(E4=1,E5=2),3,"") -> 3 | AK5: =IF(AND(E4=3,E5=2),1,"") | AL5: =IF(AND(E4=1,E5=3),2,"") | AM5: =IF(AND(E4=2,E5=3),1,"") | AP5: =IF(AND(SUM(AH5:AM5)>0,SUM(Z5:AE5)>0),1,"") | AR5: =IF(AP5=1,SUM(Z5:AE5)*10+SUM(AH5:AM5),"") | AV5: =IF(AP5=1,VLOOKUP(AR5,'Number-Dozzen'!$F$2:$K$10,2,0),"") | AW5: =IF(AP5=1,VLOOKUP(AR5,'Number-Dozzen'!$F$2:$K$10,3,0),"") | AX5: =IF(AP5=1,VLOOKUP(AR5,'Number-Dozzen'!$F$2:$K$10,4,0),"") | AY5: =IF(AP5=1,VLOOKUP(AR5,'Number-Dozzen'!$F$2:$K$10,5,0),"") | AZ5: =IF(AP5=1,VLOOKUP(AR5,'Number-Dozzen'!$F$2:$K$10,6,0),"") | BB5: =IF(H5="L",BB4+1,IF(H5="w",1,BB4)) -> 0
A6: 5 | C6: 2 | D6: =IF(C6="","",VLOOKUP(C6,'Number-Dozzen'!$A$2:$C$38,3,0)) -> 1 | E6: =IF(C6="","",VLOOKUP(C6,'[1]Number-Dozzen'!$A$2:$B$38,2,0)) -> 1 | F6: =IF(C6="","",IF(AP6="","",AR6)) -> 33 | G6: =IF(C6="","",IF(F6="","",VLOOKUP(F6,'Number-Dozzen'!$F$2:$L$10,7,0))) -> 26-28-29-31-35 | H6: =IF(AP5=1,IF(COUNTIF(AV5:AZ5,C6)=1,"W","L"),"") | I6: =IF(H5="W",1,IF(H5="L",I5+1,I5)) -> 1 | J6: =IF(C5="","",VLOOKUP(I6,$V$2:$W$100,2,0)) -> 1 | K6: =IF(H6="","",IF(H6="l",-4*J6,IF(H6="w",32*J6))) | L6: =IF(C6="","",SUM($K$2:K6)) -> 0 | V6: 5 | W6: 1 | Z6: =IF(AND(D5=2,D6=1),3,"") -> 3 | AA6: =IF(AND(D5=3,D6=1),2,"") | AB6: =IF(AND(D5=1,D6=2),3,"") | AC6: =IF(AND(D5=3,D6=2),1,"") | AD6: =IF(AND(D5=1,D6=3),2,"") | AE6: =IF(AND(D6=2,D6=3),1,"") | AH6: =IF(AND(E5=2,E6=1),3,"") -> 3 | AI6: =IF(AND(E5=3,E6=1),2,"") | AJ6: =IF(AND(E5=1,E6=2),3,"") | AK6: =IF(AND(E5=3,E6=2),1,"") | AL6: =IF(AND(E5=1,E6=3),2,"") | AM6: =IF(AND(E5=2,E6=3),1,"") | AP6: =IF(AND(SUM(AH6:AM6)>0,SUM(Z6:AE6)>0),1,"") -> 1 | AR6: =IF(AP6=1,SUM(Z6:AE6)*10+SUM(AH6:AM6),"") -> 33 | AV6: =IF(AP6=1,VLOOKUP(AR6,'Number-Dozzen'!$F$2:$K$10,2,0),"") -> 26 | AW6: =IF(AP6=1,VLOOKUP(AR6,'Number-Dozzen'!$F$2:$K$10,3,0),"") -> 28 | AX6: =IF(AP6=1,VLOOKUP(AR6,'Number-Dozzen'!$F$2:$K$10,4,0),"") -> 29 | AY6: =IF(AP6=1,VLOOKUP(AR6,'Number-Dozzen'!$F$2:$K$10,5,0),"") -> 31 | AZ6: =IF(AP6=1,VLOOKUP(AR6,'Number-Dozzen'!$F$2:$K$10,6,0),"") -> 35 | BB6: =IF(H6="L",BB5+1,IF(H6="w",1,BB5)) -> 0
A7: 6 | C7: 18 | D7: =IF(C7="","",VLOOKUP(C7,'Number-Dozzen'!$A$2:$C$38,3,0)) -> 2 | E7: =IF(C7="","",VLOOKUP(C7,'[1]Number-Dozzen'!$A$2:$B$38,2,0)) -> 3 | F7: =IF(C7="","",IF(AP7="","",AR7)) -> 32 | G7: =IF(C7="","",IF(F7="","",VLOOKUP(F7,'Number-Dozzen'!$F$2:$L$10,7,0))) -> 30-33-36 | H7: =IF(AP6=1,IF(COUNTIF(AV6:AZ6,C7)=1,"W","L"),"") -> L | I7: =IF(H6="W",1,IF(H6="L",I6+1,I6)) -> 1 | J7: =IF(C6="","",VLOOKUP(I7,$V$2:$W$100,2,0)) -> 1 | K7: =IF(H7="","",IF(H7="l",-4*J7,IF(H7="w",32*J7))) -> -4 | L7: =IF(C7="","",SUM($K$2:K7)) -> -4 | N7: Win Stop | P7: 50 | V7: 6 | W7: 1 | Z7: =IF(AND(D6=2,D7=1),3,"") | AA7: =IF(AND(D6=3,D7=1),2,"") | AB7: =IF(AND(D6=1,D7=2),3,"") -> 3 | AC7: =IF(AND(D6=3,D7=2),1,"") | AD7: =IF(AND(D6=1,D7=3),2,"") | AE7: =IF(AND(D7=2,D7=3),1,"") | AH7: =IF(AND(E6=2,E7=1),3,"") | AI7: =IF(AND(E6=3,E7=1),2,"") | AJ7: =IF(AND(E6=1,E7=2),3,"") | AK7: =IF(AND(E6=3,E7=2),1,"") | AL7: =IF(AND(E6=1,E7=3),2,"") -> 2 | AM7: =IF(AND(E6=2,E7=3),1,"") | AP7: =IF(AND(SUM(AH7:AM7)>0,SUM(Z7:AE7)>0),1,"") -> 1 | AR7: =IF(AP7=1,SUM(Z7:AE7)*10+SUM(AH7:AM7),"") -> 32 | AV7: =IF(AP7=1,VLOOKUP(AR7,'Number-Dozzen'!$F$2:$K$10,2,0),"") -> 30 | AW7: =IF(AP7=1,VLOOKUP(AR7,'Number-Dozzen'!$F$2:$K$10,3,0),"") -> 33 | AX7: =IF(AP7=1,VLOOKUP(AR7,'Number-Dozzen'!$F$2:$K$10,4,0),"") -> 36 | AY7: =IF(AP7=1,VLOOKUP(AR7,'Number-Dozzen'!$F$2:$K$10,5,0),"") | AZ7: =IF(AP7=1,VLOOKUP(AR7,'Number-Dozzen'!$F$2:$K$10,6,0),"") | BB7: =IF(H7="L",BB6+1,IF(H7="w",1,BB6)) -> 1
A8: 7 | C8: 25 | D8: =IF(C8="","",VLOOKUP(C8,'Number-Dozzen'!$A$2:$C$38,3,0)) -> 3 | E8: =IF(C8="","",VLOOKUP(C8,'[1]Number-Dozzen'!$A$2:$B$38,2,0)) -> 1 | F8: =IF(C8="","",IF(AP8="","",AR8)) | G8: =IF(C8="","",IF(F8="","",VLOOKUP(F8,'Number-Dozzen'!$F$2:$L$10,7,0))) | H8: =IF(AP7=1,IF(COUNTIF(AV7:AZ7,C8)=1,"W","L"),"") -> L | I8: =IF(H7="W",1,IF(H7="L",I7+1,I7)) -> 2 | J8: =IF(C7="","",VLOOKUP(I8,$V$2:$W$100,2,0)) -> 1 | K8: =IF(H8="","",IF(H8="l",-4*J8,IF(H8="w",32*J8))) -> -4 | L8: =IF(C8="","",SUM($K$2:K8)) -> -8 | N8: Stop Loss | P8: -100 | Q8: Mit (-)Zeichen !! | V8: 7 | W8: 1 | Z8: =IF(AND(D7=2,D8=1),3,"") | AA8: =IF(AND(D7=3,D8=1),2,"") | AB8: =IF(AND(D7=1,D8=2),3,"") | AC8: =IF(AND(D7=3,D8=2),1,"") | AD8: =IF(AND(D7=1,D8=3),2,"") | AE8: =IF(AND(D8=2,D8=3),1,"") | AH8: =IF(AND(E7=2,E8=1),3,"") | AI8: =IF(AND(E7=3,E8=1),2,"") -> 2 | AJ8: =IF(AND(E7=1,E8=2),3,"") | AK8: =IF(AND(E7=3,E8=2),1,"") | AL8: =IF(AND(E7=1,E8=3),2,"") | AM8: =IF(AND(E7=2,E8=3),1,"") | AP8: =IF(AND(SUM(AH8:AM8)>0,SUM(Z8:AE8)>0),1,"") | AR8: =IF(AP8=1,SUM(Z8:AE8)*10+SUM(AH8:AM8),"") | AV8: =IF(AP8=1,VLOOKUP(AR8,'Number-Dozzen'!$F$2:$K$10,2,0),"") | AW8: =IF(AP8=1,VLOOKUP(AR8,'Number-Dozzen'!$F$2:$K$10,3,0),"") | AX8: =IF(AP8=1,VLOOKUP(AR8,'Number-Dozzen'!$F$2:$K$10,4,0),"") | AY8: =IF(AP8=1,VLOOKUP(AR8,'Number-Dozzen'!$F$2:$K$10,5,0),"") | AZ8: =IF(AP8=1,VLOOKUP(AR8,'Number-Dozzen'!$F$2:$K$10,6,0),"") | BB8: =IF(H8="L",BB7+1,IF(H8="w",1,BB7)) -> 2
A9: 8 | C9: 14 | D9: =IF(C9="","",VLOOKUP(C9,'Number-Dozzen'!$A$2:$C$38,3,0)) -> 2 | E9: =IF(C9="","",VLOOKUP(C9,'[1]Number-Dozzen'!$A$2:$B$38,2,0)) -> 3 | F9: =IF(C9="","",IF(AP9="","",AR9)) -> 12 | G9: =IF(C9="","",IF(F9="","",VLOOKUP(F9,'Number-Dozzen'!$F$2:$L$10,7,0))) -> 1-5-8-10-11 | H9: =IF(AP8=1,IF(COUNTIF(AV8:AZ8,C9)=1,"W","L"),"") | I9: =IF(H8="W",1,IF(H8="L",I8+1,I8)) -> 3 | J9: =IF(C8="","",VLOOKUP(I9,$V$2:$W$100,2,0)) -> 1 | K9: =IF(H9="","",IF(H9="l",-4*J9,IF(H9="w",32*J9))) | L9: =IF(C9="","",SUM($K$2:K9)) -> -8 | V9: 8 | W9: 1 | Z9: =IF(AND(D8=2,D9=1),3,"") | AA9: =IF(AND(D8=3,D9=1),2,"") | AB9: =IF(AND(D8=1,D9=2),3,"") | AC9: =IF(AND(D8=3,D9=2),1,"") -> 1 | AD9: =IF(AND(D8=1,D9=3),2,"") | AE9: =IF(AND(D9=2,D9=3),1,"") | AH9: =IF(AND(E8=2,E9=1),3,"") | AI9: =IF(AND(E8=3,E9=1),2,"") | AJ9: =IF(AND(E8=1,E9=2),3,"") | AK9: =IF(AND(E8=3,E9=2),1,"") | AL9: =IF(AND(E8=1,E9=3),2,"") -> 2 | AM9: =IF(AND(E8=2,E9=3),1,"") | AP9: =IF(AND(SUM(AH9:AM9)>0,SUM(Z9:AE9)>0),1,"") -> 1 | AR9: =IF(AP9=1,SUM(Z9:AE9)*10+SUM(AH9:AM9),"") -> 12 | AV9: =IF(AP9=1,VLOOKUP(AR9,'Number-Dozzen'!$F$2:$K$10,2,0),"") -> 1 | AW9: =IF(AP9=1,VLOOKUP(AR9,'Number-Dozzen'!$F$2:$K$10,3,0),"") -> 5 | AX9: =IF(AP9=1,VLOOKUP(AR9,'Number-Dozzen'!$F$2:$K$10,4,0),"") -> 8 | AY9: =IF(AP9=1,VLOOKUP(AR9,'Number-Dozzen'!$F$2:$K$10,5,0),"") -> 10 | AZ9: =IF(AP9=1,VLOOKUP(AR9,'Number-Dozzen'!$F$2:$K$10,6,0),"") -> 11 | BB9: =IF(H9="L",BB8+1,IF(H9="w",1,BB8)) -> 2
A10: 9 | C10: 29 | D10: =IF(C10="","",VLOOKUP(C10,'Number-Dozzen'!$A$2:$C$38,3,0)) -> 3 | E10: =IF(C10="","",VLOOKUP(C10,'[1]Number-Dozzen'!$A$2:$B$38,2,0)) -> 3 | F10: =IF(C10="","",IF(AP10="","",AR10)) | G10: =IF(C10="","",IF(F10="","",VLOOKUP(F10,'Number-Dozzen'!$F$2:$L$10,7,0))) | H10: =IF(AP9=1,IF(COUNTIF(AV9:AZ9,C10)=1,"W","L"),"") -> L | I10: =IF(H9="W",1,IF(H9="L",I9+1,I9)) -> 3 | J10: =IF(C9="","",VLOOKUP(I10,$V$2:$W$100,2,0)) -> 1 | K10: =IF(H10="","",IF(H10="l",-4*J10,IF(H10="w",32*J10))) -> -4 | L10: =IF(C10="","",SUM($K$2:K10)) -> -12 | N10: Paste Spins in Col. C2 | V10: 9 | W10: 1 | Z10: =IF(AND(D9=2,D10=1),3,"") | AA10: =IF(AND(D9=3,D10=1),2,"") | AB10: =IF(AND(D9=1,D10=2),3,"") | AC10: =IF(AND(D9=3,D10=2),1,"") | AD10: =IF(AND(D9=1,D10=3),2,"") | AE10: =IF(AND(D10=2,D10=3),1,"") | AH10: =IF(AND(E9=2,E10=1),3,"") | AI10: =IF(AND(E9=3,E10=1),2,"") | AJ10: =IF(AND(E9=1,E10=2),3,"") | AK10: =IF(AND(E9=3,E10=2),1,"") | AL10: =IF(AND(E9=1,E10=3),2,"") | AM10: =IF(AND(E9=2,E10=3),1,"") | AP10: =IF(AND(SUM(AH10:AM10)>0,SUM(Z10:AE10)>0),1,"") | AR10: =IF(AP10=1,SUM(Z10:AE10)*10+SUM(AH10:AM10),"") | AV10: =IF(AP10=1,VLOOKUP(AR10,'Number-Dozzen'!$F$2:$K$10,2,0),"") | AW10: =IF(AP10=1,VLOOKUP(AR10,'Number-Dozzen'!$F$2:$K$10,3,0),"") | AX10: =IF(AP10=1,VLOOKUP(AR10,'Number-Dozzen'!$F$2:$K$10,4,0),"") | AY10: =IF(AP10=1,VLOOKUP(AR10,'Number-Dozzen'!$F$2:$K$10,5,0),"") | AZ10: =IF(AP10=1,VLOOKUP(AR10,'Number-Dozzen'!$F$2:$K$10,6,0),"") | BB10: =IF(H10="L",BB9+1,IF(H10="w",1,BB9)) -> 3
A11: 10 | C11: 30 | D11: =IF(C11="","",VLOOKUP(C11,'Number-Dozzen'!$A$2:$C$38,3,0)) -> 3 | E11: =IF(C11="","",VLOOKUP(C11,'[1]Number-Dozzen'!$A$2:$B$38,2,0)) -> 2 | F11: =IF(C11="","",IF(AP11="","",AR11)) | G11: =IF(C11="","",IF(F11="","",VLOOKUP(F11,'Number-Dozzen'!$F$2:$L$10,7,0))) | H11: =IF(AP10=1,IF(COUNTIF(AV10:AZ10,C11)=1,"W","L"),"") | I11: =IF(H10="W",1,IF(H10="L",I10+1,I10)) -> 4 | J11: =IF(C10="","",VLOOKUP(I11,$V$2:$W$100,2,0)) -> 1 | K11: =IF(H11="","",IF(H11="l",-4*J11,IF(H11="w",32*J11))) | L11: =IF(C11="","",SUM($K$2:K11)) -> -12 | V11: 10 | W11: 1 | Z11: =IF(AND(D10=2,D11=1),3,"") | AA11: =IF(AND(D10=3,D11=1),2,"") | AB11: =IF(AND(D10=1,D11=2),3,"") | AC11: =IF(AND(D10=3,D11=2),1,"") | AD11: =IF(AND(D10=1,D11=3),2,"") | AE11: =IF(AND(D11=2,D11=3),1,"") | AH11: =IF(AND(E10=2,E11=1),3,"") | AI11: =IF(AND(E10=3,E11=1),2,"") | AJ11: =IF(AND(E10=1,E11=2),3,"") | AK11: =IF(AND(E10=3,E11=2),1,"") -> 1 | AL11: =IF(AND(E10=1,E11=3),2,"") | AM11: =IF(AND(E10=2,E11=3),1,"") | AP11: =IF(AND(SUM(AH11:AM11)>0,SUM(Z11:AE11)>0),1,"") | AR11: =IF(AP11=1,SUM(Z11:AE11)*10+SUM(AH11:AM11),"") | AV11: =IF(AP11=1,VLOOKUP(AR11,'Number-Dozzen'!$F$2:$K$10,2,0),"") | AW11: =IF(AP11=1,VLOOKUP(AR11,'Number-Dozzen'!$F$2:$K$10,3,0),"") | AX11: =IF(AP11=1,VLOOKUP(AR11,'Number-Dozzen'!$F$2:$K$10,4,0),"") | AY11: =IF(AP11=1,VLOOKUP(AR11,'Number-Dozzen'!$F$2:$K$10,5,0),"") | AZ11: =IF(AP11=1,VLOOKUP(AR11,'Number-Dozzen'!$F$2:$K$10,6,0),"") | BB11: =IF(H11="L",BB10+1,IF(H11="w",1,BB10)) -> 3
A12: 11 | C12: 26 | D12: =IF(C12="","",VLOOKUP(C12,'Number-Dozzen'!$A$2:$C$38,3,0)) -> 3 | E12: =IF(C12="","",VLOOKUP(C12,'[1]Number-Dozzen'!$A$2:$B$38,2,0)) -> 3 | F12: =IF(C12="","",IF(AP12="","",AR12)) | G12: =IF(C12="","",IF(F12="","",VLOOKUP(F12,'Number-Dozzen'!$F$2:$L$10,7,0))) | H12: =IF(AP11=1,IF(COUNTIF(AV11:AZ11,C12)=1,"W","L"),"") | I12: =IF(H11="W",1,IF(H11="L",I11+1,I11)) -> 4 | J12: =IF(C11="","",VLOOKUP(I12,$V$2:$W$100,2,0)) -> 1 | K12: =IF(H12="","",IF(H12="l",-4*J12,IF(H12="w",32*J12))) | L12: =IF(C12="","",SUM($K$2:K12)) -> -12 | V12: 11 | W12: 1 | Z12: =IF(AND(D11=2,D12=1),3,"") | AA12: =IF(AND(D11=3,D12=1),2,"") | AB12: =IF(AND(D11=1,D12=2),3,"") | AC12: =IF(AND(D11=3,D12=2),1,"") | AD12: =IF(AND(D11=1,D12=3),2,"") | AE12: =IF(AND(D12=2,D12=3),1,"") | AH12: =IF(AND(E11=2,E12=1),3,"") | AI12: =IF(AND(E11=3,E12=1),2,"") | AJ12: =IF(AND(E11=1,E12=2),3,"") | AK12: =IF(AND(E11=3,E12=2),1,"") | AL12: =IF(AND(E11=1,E12=3),2,"") | AM12: =IF(AND(E11=2,E12=3),1,"") -> 1 | AP12: =IF(AND(SUM(AH12:AM12)>0,SUM(Z12:AE12)>0),1,"") | AR12: =IF(AP12=1,SUM(Z12:AE12)*10+SUM(AH12:AM12),"") | AV12: =IF(AP12=1,VLOOKUP(AR12,'Number-Dozzen'!$F$2:$K$10,2,0),"") | AW12: =IF(AP12=1,VLOOKUP(AR12,'Number-Dozzen'!$F$2:$K$10,3,0),"") | AX12: =IF(AP12=1,VLOOKUP(AR12,'Number-Dozzen'!$F$2:$K$10,4,0),"") | AY12: =IF(AP12=1,VLOOKUP(AR12,'Number-Dozzen'!$F$2:$K$10,5,0),"") | AZ12: =IF(AP12=1,VLOOKUP(AR12,'Number-Dozzen'!$F$2:$K$10,6,0),"") | BB12: =IF(H12="L",BB11+1,IF(H12="w",1,BB11)) -> 3
A13: 12 | C13: 18 | D13: =IF(C13="","",VLOOKUP(C13,'Number-Dozzen'!$A$2:$C$38,3,0)) -> 2 | E13: =IF(C13="","",VLOOKUP(C13,'[1]Number-Dozzen'!$A$2:$B$38,2,0)) -> 3 | F13: =IF(C13="","",IF(AP13="","",AR13)) | G13: =IF(C13="","",IF(F13="","",VLOOKUP(F13,'Number-Dozzen'!$F$2:$L$10,7,0))) | H13: =IF(AP12=1,IF(COUNTIF(AV12:AZ12,C13)=1,"W","L"),"") | I13: =IF(H12="W",1,IF(H12="L",I12+1,I12)) -> 4 | J13: =IF(C12="","",VLOOKUP(I13,$V$2:$W$100,2,0)) -> 1 | K13: =IF(H13="","",IF(H13="l",-4*J13,IF(H13="w",32*J13))) | L13: =IF(C13="","",SUM($K$2:K13)) -> -12 | N13: Change Progression in Col. V | V13: 12 | W13: 1 | Z13: =IF(AND(D12=2,D13=1),3,"") | AA13: =IF(AND(D12=3,D13=1),2,"") | AB13: =IF(AND(D12=1,D13=2),3,"") | AC13: =IF(AND(D12=3,D13=2),1,"") -> 1 | AD13: =IF(AND(D12=1,D13=3),2,"") | AE13: =IF(AND(D13=2,D13=3),1,"") | AH13: =IF(AND(E12=2,E13=1),3,"") | AI13: =IF(AND(E12=3,E13=1),2,"") | AJ13: =IF(AND(E12=1,E13=2),3,"") | AK13: =IF(AND(E12=3,E13=2),1,"") | AL13: =IF(AND(E12=1,E13=3),2,"") | AM13: =IF(AND(E12=2,E13=3),1,"") | AP13: =IF(AND(SUM(AH13:AM13)>0,SUM(Z13:AE13)>0),1,"") | AR13: =IF(AP13=1,SUM(Z13:AE13)*10+SUM(AH13:AM13),"") | AV13: =IF(AP13=1,VLOOKUP(AR13,'Number-Dozzen'!$F$2:$K$10,2,0),"") | AW13: =IF(AP13=1,VLOOKUP(AR13,'Number-Dozzen'!$F$2:$K$10,3,0),"") | AX13: =IF(AP13=1,VLOOKUP(AR13,'Number-Dozzen'!$F$2:$K$10,4,0),"") | AY13: =IF(AP13=1,VLOOKUP(AR13,'Number-Dozzen'!$F$2:$K$10,5,0),"") | AZ13: =IF(AP13=1,VLOOKUP(AR13,'Number-Dozzen'!$F$2:$K$10,6,0),"") | BB13: =IF(H13="L",BB12+1,IF(H13="w",1,BB12)) -> 3
A14: 13 | C14: 18 | D14: =IF(C14="","",VLOOKUP(C14,'Number-Dozzen'!$A$2:$C$38,3,0)) -> 2 | E14: =IF(C14="","",VLOOKUP(C14,'[1]Number-Dozzen'!$A$2:$B$38,2,0)) -> 3 | F14: =IF(C14="","",IF(AP14="","",AR14)) | G14: =IF(C14="","",IF(F14="","",VLOOKUP(F14,'Number-Dozzen'!$F$2:$L$10,7,0))) | H14: =IF(AP13=1,IF(COUNTIF(AV13:AZ13,C14)=1,"W","L"),"") | I14: =IF(H13="W",1,IF(H13="L",I13+1,I13)) -> 4 | J14: =IF(C13="","",VLOOKUP(I14,$V$2:$W$100,2,0)) -> 1 | K14: =IF(H14="","",IF(H14="l",-4*J14,IF(H14="w",32*J14))) | L14: =IF(C14="","",SUM($K$2:K14)) -> -12 | V14: 13 | W14: 1 | Z14: =IF(AND(D13=2,D14=1),3,"") | AA14: =IF(AND(D13=3,D14=1),2,"") | AB14: =IF(AND(D13=1,D14=2),3,"") | AC14: =IF(AND(D13=3,D14=2),1,"") | AD14: =IF(AND(D13=1,D14=3),2,"") | AE14: =IF(AND(D14=2,D14=3),1,"") | AH14: =IF(AND(E13=2,E14=1),3,"") | AI14: =IF(AND(E13=3,E14=1),2,"") | AJ14: =IF(AND(E13=1,E14=2),3,"") | AK14: =IF(AND(E13=3,E14=2),1,"") | AL14: =IF(AND(E13=1,E14=3),2,"") | AM14: =IF(AND(E13=2,E14=3),1,"") | AP14: =IF(AND(SUM(AH14:AM14)>0,SUM(Z14:AE14)>0),1,"") | AR14: =IF(AP14=1,SUM(Z14:AE14)*10+SUM(AH14:AM14),"") | AV14: =IF(AP14=1,VLOOKUP(AR14,'Number-Dozzen'!$F$2:$K$10,2,0),"") | AW14: =IF(AP14=1,VLOOKUP(AR14,'Number-Dozzen'!$F$2:$K$10,3,0),"") | AX14: =IF(AP14=1,VLOOKUP(AR14,'Number-Dozzen'!$F$2:$K$10,4,0),"") | AY14: =IF(AP14=1,VLOOKUP(AR14,'Number-Dozzen'!$F$2:$K$10,5,0),"") | AZ14: =IF(AP14=1,VLOOKUP(AR14,'Number-Dozzen'!$F$2:$K$10,6,0),"") | BB14: =IF(H14="L",BB13+1,IF(H14="w",1,BB13)) -> 3
A15: 14 | C15: 31 | D15: =IF(C15="","",VLOOKUP(C15,'Number-Dozzen'!$A$2:$C$38,3,0)) -> 3 | E15: =IF(C15="","",VLOOKUP(C15,'[1]Number-Dozzen'!$A$2:$B$38,2,0)) -> 3 | F15: =IF(C15="","",IF(AP15="","",AR15)) | G15: =IF(C15="","",IF(F15="","",VLOOKUP(F15,'Number-Dozzen'!$F$2:$L$10,7,0))) | H15: =IF(AP14=1,IF(COUNTIF(AV14:AZ14,C15)=1,"W","L"),"") | I15: =IF(H14="W",1,IF(H14="L",I14+1,I14)) -> 4 | J15: =IF(C14="","",VLOOKUP(I15,$V$2:$W$100,2,0)) -> 1 | K15: =IF(H15="","",IF(H15="l",-4*J15,IF(H15="w",32*J15))) | L15: =IF(C15="","",SUM($K$2:K15)) -> -12 | V15: 14 | W15: 1 | Z15: =IF(AND(D14=2,D15=1),3,"") | AA15: =IF(AND(D14=3,D15=1),2,"") | AB15: =IF(AND(D14=1,D15=2),3,"") | AC15: =IF(AND(D14=3,D15=2),1,"") | AD15: =IF(AND(D14=1,D15=3),2,"") | AE15: =IF(AND(D15=2,D15=3),1,"") | AH15: =IF(AND(E14=2,E15=1),3,"") | AI15: =IF(AND(E14=3,E15=1),2,"") | AJ15: =IF(AND(E14=1,E15=2),3,"") | AK15: =IF(AND(E14=3,E15=2),1,"") | AL15: =IF(AND(E14=1,E15=3),2,"") | AM15: =IF(AND(E14=2,E15=3),1,"") | AP15: =IF(AND(SUM(AH15:AM15)>0,SUM(Z15:AE15)>0),1,"") | AR15: =IF(AP15=1,SUM(Z15:AE15)*10+SUM(AH15:AM15),"") | AV15: =IF(AP15=1,VLOOKUP(AR15,'Number-Dozzen'!$F$2:$K$10,2,0),"") | AW15: =IF(AP15=1,VLOOKUP(AR15,'Number-Dozzen'!$F$2:$K$10,3,0),"") | AX15: =IF(AP15=1,VLOOKUP(AR15,'Number-Dozzen'!$F$2:$K$10,4,0),"") | AY15: =IF(AP15=1,VLOOKUP(AR15,'Number-Dozzen'!$F$2:$K$10,5,0),"") | AZ15: =IF(AP15=1,VLOOKUP(AR15,'Number-Dozzen'!$F$2:$K$10,6,0),"") | BB15: =IF(H15="L",BB14+1,IF(H15="w",1,BB14)) -> 3
A16: 15 | C16: 26 | D16: =IF(C16="","",VLOOKUP(C16,'Number-Dozzen'!$A$2:$C$38,3,0)) -> 3 | E16: =IF(C16="","",VLOOKUP(C16,'[1]Number-Dozzen'!$A$2:$B$38,2,0)) -> 3 | F16: =IF(C16="","",IF(AP16="","",AR16)) | G16: =IF(C16="","",IF(F16="","",VLOOKUP(F16,'Number-Dozzen'!$F$2:$L$10,7,0))) | H16: =IF(AP15=1,IF(COUNTIF(AV15:AZ15,C16)=1,"W","L"),"") | I16: =IF(H15="W",1,IF(H15="L",I15+1,I15)) -> 4 | J16: =IF(C15="","",VLOOKUP(I16,$V$2:$W$100,2,0)) -> 1 | K16: =IF(H16="","",IF(H16="l",-4*J16,IF(H16="w",32*J16))) | L16: =IF(C16="","",SUM($K$2:K16)) -> -12 | N16: =IF(L34="","",IF(L34>=$P$7,"Win Goal !!",IF(L34<=$P$8,"Stopp Loss !!",""))) | V16: 15 | W16: 1 | Z16: =IF(AND(D15=2,D16=1),3,"") | AA16: =IF(AND(D15=3,D16=1),2,"") | AB16: =IF(AND(D15=1,D16=2),3,"") | AC16: =IF(AND(D15=3,D16=2),1,"") | AD16: =IF(AND(D15=1,D16=3),2,"") | AE16: =IF(AND(D16=2,D16=3),1,"") | AH16: =IF(AND(E15=2,E16=1),3,"") | AI16: =IF(AND(E15=3,E16=1),2,"") | AJ16: =IF(AND(E15=1,E16=2),3,"") | AK16: =IF(AND(E15=3,E16=2),1,"") | AL16: =IF(AND(E15=1,E16=3),2,"") | AM16: =IF(AND(E15=2,E16=3),1,"") | AP16: =IF(AND(SUM(AH16:AM16)>0,SUM(Z16:AE16)>0),1,"") | AR16: =IF(AP16=1,SUM(Z16:AE16)*10+SUM(AH16:AM16),"") | AV16: =IF(AP16=1,VLOOKUP(AR16,'Number-Dozzen'!$F$2:$K$10,2,0),"") | AW16: =IF(AP16=1,VLOOKUP(AR16,'Number-Dozzen'!$F$2:$K$10,3,0),"") | AX16: =IF(AP16=1,VLOOKUP(AR16,'Number-Dozzen'!$F$2:$K$10,4,0),"") | AY16: =IF(AP16=1,VLOOKUP(AR16,'Number-Dozzen'!$F$2:$K$10,5,0),"") | AZ16: =IF(AP16=1,VLOOKUP(AR16,'Number-Dozzen'!$F$2:$K$10,6,0),"") | BB16: =IF(H16="L",BB15+1,IF(H16="w",1,BB15)) -> 3
A17: 16 | C17: 25 | D17: =IF(C17="","",VLOOKUP(C17,'Number-Dozzen'!$A$2:$C$38,3,0)) -> 3 | E17: =IF(C17="","",VLOOKUP(C17,'[1]Number-Dozzen'!$A$2:$B$38,2,0)) -> 1 | F17: =IF(C17="","",IF(AP17="","",AR17)) | G17: =IF(C17="","",IF(F17="","",VLOOKUP(F17,'Number-Dozzen'!$F$2:$L$10,7,0))) | H17: =IF(AP16=1,IF(COUNTIF(AV16:AZ16,C17)=1,"W","L"),"") | I17: =IF(H16="W",1,IF(H16="L",I16+1,I16)) -> 4 | J17: =IF(C16="","",VLOOKUP(I17,$V$2:$W$100,2,0)) -> 1 | K17: =IF(H17="","",IF(H17="l",-4*J17,IF(H17="w",32*J17))) | L17: =IF(C17="","",SUM($K$2:K17)) -> -12 | N17: =IF(L35="","",IF(L35>=$P$7,"Win Goal !!",IF(L35<=$P$8,"Stopp Loss !!",""))) | V17: 16 | W17: 1 | Z17: =IF(AND(D16=2,D17=1),3,"") | AA17: =IF(AND(D16=3,D17=1),2,"") | AB17: =IF(AND(D16=1,D17=2),3,"") | AC17: =IF(AND(D16=3,D17=2),1,"") | AD17: =IF(AND(D16=1,D17=3),2,"") | AE17: =IF(AND(D17=2,D17=3),1,"") | AH17: =IF(AND(E16=2,E17=1),3,"") | AI17: =IF(AND(E16=3,E17=1),2,"") -> 2 | AJ17: =IF(AND(E16=1,E17=2),3,"") | AK17: =IF(AND(E16=3,E17=2),1,"") | AL17: =IF(AND(E16=1,E17=3),2,"") | AM17: =IF(AND(E16=2,E17=3),1,"") | AP17: =IF(AND(SUM(AH17:AM17)>0,SUM(Z17:AE17)>0),1,"") | AR17: =IF(AP17=1,SUM(Z17:AE17)*10+SUM(AH17:AM17),"") | AV17: =IF(AP17=1,VLOOKUP(AR17,'Number-Dozzen'!$F$2:$K$10,2,0),"") | AW17: =IF(AP17=1,VLOOKUP(AR17,'Number-Dozzen'!$F$2:$K$10,3,0),"") | AX17: =IF(AP17=1,VLOOKUP(AR17,'Number-Dozzen'!$F$2:$K$10,4,0),"") | AY17: =IF(AP17=1,VLOOKUP(AR17,'Number-Dozzen'!$F$2:$K$10,5,0),"") | AZ17: =IF(AP17=1,VLOOKUP(AR17,'Number-Dozzen'!$F$2:$K$10,6,0),"") | BB17: =IF(H17="L",BB16+1,IF(H17="w",1,BB16)) -> 3
A18: 17 | C18: 35 | D18: =IF(C18="","",VLOOKUP(C18,'Number-Dozzen'!$A$2:$C$38,3,0)) -> 3 | E18: =IF(C18="","",VLOOKUP(C18,'[1]Number-Dozzen'!$A$2:$B$38,2,0)) -> 3 | F18: =IF(C18="","",IF(AP18="","",AR18)) | G18: =IF(C18="","",IF(F18="","",VLOOKUP(F18,'Number-Dozzen'!$F$2:$L$10,7,0))) | H18: =IF(AP17=1,IF(COUNTIF(AV17:AZ17,C18)=1,"W","L"),"") | I18: =IF(H17="W",1,IF(H17="L",I17+1,I17)) -> 4 | J18: =IF(C17="","",VLOOKUP(I18,$V$2:$W$100,2,0)) -> 1 | K18: =IF(H18="","",IF(H18="l",-4*J18,IF(H18="w",32*J18))) | L18: =IF(C18="","",SUM($K$2:K18)) -> -12 | N18: =IF(L36="","",IF(L36>=$P$7,"Win Goal !!",IF(L36<=$P$8,"Stopp Loss !!",""))) | V18: 17 | W18: 1 | Z18: =IF(AND(D17=2,D18=1),3,"") | AA18: =IF(AND(D17=3,D18=1),2,"") | AB18: =IF(AND(D17=1,D18=2),3,"") | AC18: =IF(AND(D17=3,D18=2),1,"") | AD18: =IF(AND(D17=1,D18=3),2,"") | AE18: =IF(AND(D18=2,D18=3),1,"") | AH18: =IF(AND(E17=2,E18=1),3,"") | AI18: =IF(AND(E17=3,E18=1),2,"") | AJ18: =IF(AND(E17=1,E18=2),3,"") | AK18: =IF(AND(E17=3,E18=2),1,"") | AL18: =IF(AND(E17=1,E18=3),2,"") -> 2 | AM18: =IF(AND(E17=2,E18=3),1,"") | AP18: =IF(AND(SUM(AH18:AM18)>0,SUM(Z18:AE18)>0),1,"") | AR18: =IF(AP18=1,SUM(Z18:AE18)*10+SUM(AH18:AM18),"") | AV18: =IF(AP18=1,VLOOKUP(AR18,'Number-Dozzen'!$F$2:$K$10,2,0),"") | AW18: =IF(AP18=1,VLOOKUP(AR18,'Number-Dozzen'!$F$2:$K$10,3,0),"") | AX18: =IF(AP18=1,VLOOKUP(AR18,'Number-Dozzen'!$F$2:$K$10,4,0),"") | AY18: =IF(AP18=1,VLOOKUP(AR18,'Number-Dozzen'!$F$2:$K$10,5,0),"") | AZ18: =IF(AP18=1,VLOOKUP(AR18,'Number-Dozzen'!$F$2:$K$10,6,0),"") | BB18: =IF(H18="L",BB17+1,IF(H18="w",1,BB17)) -> 3
A19: 18 | C19: 14 | D19: =IF(C19="","",VLOOKUP(C19,'Number-Dozzen'!$A$2:$C$38,3,0)) -> 2 | E19: =IF(C19="","",VLOOKUP(C19,'[1]Number-Dozzen'!$A$2:$B$38,2,0)) -> 3 | F19: =IF(C19="","",IF(AP19="","",AR19)) | G19: =IF(C19="","",IF(F19="","",VLOOKUP(F19,'Number-Dozzen'!$F$2:$L$10,7,0))) | H19: =IF(AP18=1,IF(COUNTIF(AV18:AZ18,C19)=1,"W","L"),"") | I19: =IF(H18="W",1,IF(H18="L",I18+1,I18)) -> 4 | J19: =IF(C18="","",VLOOKUP(I19,$V$2:$W$100,2,0)) -> 1 | K19: =IF(H19="","",IF(H19="l",-4*J19,IF(H19="w",32*J19))) | L19: =IF(C19="","",SUM($K$2:K19)) -> -12 | N19: =IF(L37="","",IF(L37>=$P$7,"Win Goal !!",IF(L37<=$P$8,"Stopp Loss !!",""))) | V19: 18 | W19: 1 | Z19: =IF(AND(D18=2,D19=1),3,"") | AA19: =IF(AND(D18=3,D19=1),2,"") | AB19: =IF(AND(D18=1,D19=2),3,"") | AC19: =IF(AND(D18=3,D19=2),1,"") -> 1 | AD19: =IF(AND(D18=1,D19=3),2,"") | AE19: =IF(AND(D19=2,D19=3),1,"") | AH19: =IF(AND(E18=2,E19=1),3,"") | AI19: =IF(AND(E18=3,E19=1),2,"") | AJ19: =IF(AND(E18=1,E19=2),3,"") | AK19: =IF(AND(E18=3,E19=2),1,"") | AL19: =IF(AND(E18=1,E19=3),2,"") | AM19: =IF(AND(E18=2,E19=3),1,"") | AP19: =IF(AND(SUM(AH19:AM19)>0,SUM(Z19:AE19)>0),1,"") | AR19: =IF(AP19=1,SUM(Z19:AE19)*10+SUM(AH19:AM19),"") | AV19: =IF(AP19=1,VLOOKUP(AR19,'Number-Dozzen'!$F$2:$K$10,2,0),"") | AW19: =IF(AP19=1,VLOOKUP(AR19,'Number-Dozzen'!$F$2:$K$10,3,0),"") | AX19: =IF(AP19=1,VLOOKUP(AR19,'Number-Dozzen'!$F$2:$K$10,4,0),"") | AY19: =IF(AP19=1,VLOOKUP(AR19,'Number-Dozzen'!$F$2:$K$10,5,0),"") | AZ19: =IF(AP19=1,VLOOKUP(AR19,'Number-Dozzen'!$F$2:$K$10,6,0),"") | BB19: =IF(H19="L",BB18+1,IF(H19="w",1,BB18)) -> 3
A20: 19 | C20: 3 | D20: =IF(C20="","",VLOOKUP(C20,'Number-Dozzen'!$A$2:$C$38,3,0)) -> 1 | E20: =IF(C20="","",VLOOKUP(C20,'[1]Number-Dozzen'!$A$2:$B$38,2,0)) -> 3 | F20: =IF(C20="","",IF(AP20="","",AR20)) | G20: =IF(C20="","",IF(F20="","",VLOOKUP(F20,'Number-Dozzen'!$F$2:$L$10,7,0))) | H20: =IF(AP19=1,IF(COUNTIF(AV19:AZ19,C20)=1,"W","L"),"") | I20: =IF(H19="W",1,IF(H19="L",I19+1,I19)) -> 4 | J20: =IF(C19="","",VLOOKUP(I20,$V$2:$W$100,2,0)) -> 1 | K20: =IF(H20="","",IF(H20="l",-4*J20,IF(H20="w",32*J20))) | L20: =IF(C20="","",SUM($K$2:K20)) -> -12 | N20: =IF(L38="","",IF(L38>=$P$7,"Win Goal !!",IF(L38<=$P$8,"Stopp Loss !!",""))) | V20: 19 | W20: 1 | Z20: =IF(AND(D19=2,D20=1),3,"") -> 3 | AA20: =IF(AND(D19=3,D20=1),2,"") | AB20: =IF(AND(D19=1,D20=2),3,"") | AC20: =IF(AND(D19=3,D20=2),1,"") | AD20: =IF(AND(D19=1,D20=3),2,"") | AE20: =IF(AND(D20=2,D20=3),1,"") | AH20: =IF(AND(E19=2,E20=1),3,"") | AI20: =IF(AND(E19=3,E20=1),2,"") | AJ20: =IF(AND(E19=1,E20=2),3,"") | AK20: =IF(AND(E19=3,E20=2),1,"") | AL20: =IF(AND(E19=1,E20=3),2,"") | AM20: =IF(AND(E19=2,E20=3),1,"") | AP20: =IF(AND(SUM(AH20:AM20)>0,SUM(Z20:AE20)>0),1,"") | AR20: =IF(AP20=1,SUM(Z20:AE20)*10+SUM(AH20:AM20),"") | AV20: =IF(AP20=1,VLOOKUP(AR20,'Number-Dozzen'!$F$2:$K$10,2,0),"") | AW20: =IF(AP20=1,VLOOKUP(AR20,'Number-Dozzen'!$F$2:$K$10,3,0),"") | AX20: =IF(AP20=1,VLOOKUP(AR20,'Number-Dozzen'!$F$2:$K$10,4,0),"") | AY20: =IF(AP20=1,VLOOKUP(AR20,'Number-Dozzen'!$F$2:$K$10,5,0),"") | AZ20: =IF(AP20=1,VLOOKUP(AR20,'Number-Dozzen'!$F$2:$K$10,6,0),"") | BB20: =IF(H20="L",BB19+1,IF(H20="w",1,BB19)) -> 3
A21: 20 | C21: 29 | D21: =IF(C21="","",VLOOKUP(C21,'Number-Dozzen'!$A$2:$C$38,3,0)) -> 3 | E21: =IF(C21="","",VLOOKUP(C21,'[1]Number-Dozzen'!$A$2:$B$38,2,0)) -> 3 | F21: =IF(C21="","",IF(AP21="","",AR21)) | G21: =IF(C21="","",IF(F21="","",VLOOKUP(F21,'Number-Dozzen'!$F$2:$L$10,7,0))) | H21: =IF(AP20=1,IF(COUNTIF(AV20:AZ20,C21)=1,"W","L"),"") | I21: =IF(H20="W",1,IF(H20="L",I20+1,I20)) -> 4 | J21: =IF(C20="","",VLOOKUP(I21,$V$2:$W$100,2,0)) -> 1 | K21: =IF(H21="","",IF(H21="l",-4*J21,IF(H21="w",32*J21))) | L21: =IF(C21="","",SUM($K$2:K21)) -> -12 | N21: =IF(L39="","",IF(L39>=$P$7,"Win Goal !!",IF(L39<=$P$8,"Stopp Loss !!",""))) | V21: 20 | W21: 1 | Z21: =IF(AND(D20=2,D21=1),3,"") | AA21: =IF(AND(D20=3,D21=1),2,"") | AB21: =IF(AND(D20=1,D21=2),3,"") | AC21: =IF(AND(D20=3,D21=2),1,"") | AD21: =IF(AND(D20=1,D21=3),2,"") -> 2 | AE21: =IF(AND(D21=2,D21=3),1,"") | AH21: =IF(AND(E20=2,E21=1),3,"") | AI21: =IF(AND(E20=3,E21=1),2,"") | AJ21: =IF(AND(E20=1,E21=2),3,"") | AK21: =IF(AND(E20=3,E21=2),1,"") | AL21: =IF(AND(E20=1,E21=3),2,"") | AM21: =IF(AND(E20=2,E21=3),1,"") | AP21: =IF(AND(SUM(AH21:AM21)>0,SUM(Z21:AE21)>0),1,"") | AR21: =IF(AP21=1,SUM(Z21:AE21)*10+SUM(AH21:AM21),"") | AV21: =IF(AP21=1,VLOOKUP(AR21,'Number-Dozzen'!$F$2:$K$10,2,0),"") | AW21: =IF(AP21=1,VLOOKUP(AR21,'Number-Dozzen'!$F$2:$K$10,3,0),"") | AX21: =IF(AP21=1,VLOOKUP(AR21,'Number-Dozzen'!$F$2:$K$10,4,0),"") | AY21: =IF(AP21=1,VLOOKUP(AR21,'Number-Dozzen'!$F$2:$K$10,5,0),"") | AZ21: =IF(AP21=1,VLOOKUP(AR21,'Number-Dozzen'!$F$2:$K$10,6,0),"") | BB21: =IF(H21="L",BB20+1,IF(H21="w",1,BB20)) -> 3
A22: 21 | C22: 3 | D22: =IF(C22="","",VLOOKUP(C22,'Number-Dozzen'!$A$2:$C$38,3,0)) -> 1 | E22: =IF(C22="","",VLOOKUP(C22,'[1]Number-Dozzen'!$A$2:$B$38,2,0)) -> 3 | F22: =IF(C22="","",IF(AP22="","",AR22)) | G22: =IF(C22="","",IF(F22="","",VLOOKUP(F22,'Number-Dozzen'!$F$2:$L$10,7,0))) | H22: =IF(AP21=1,IF(COUNTIF(AV21:AZ21,C22)=1,"W","L"),"") | I22: =IF(H21="W",1,IF(H21="L",I21+1,I21)) -> 4 | J22: =IF(C21="","",VLOOKUP(I22,$V$2:$W$100,2,0)) -> 1 | K22: =IF(H22="","",IF(H22="l",-4*J22,IF(H22="w",32*J22))) | L22: =IF(C22="","",SUM($K$2:K22)) -> -12 | N22: =IF(L40="","",IF(L40>=$P$7,"Win Goal !!",IF(L40<=$P$8,"Stopp Loss !!",""))) | V22: 21 | W22: 1 | Z22: =IF(AND(D21=2,D22=1),3,"") | AA22: =IF(AND(D21=3,D22=1),2,"") -> 2 | AB22: =IF(AND(D21=1,D22=2),3,"") | AC22: =IF(AND(D21=3,D22=2),1,"") | AD22: =IF(AND(D21=1,D22=3),2,"") | AE22: =IF(AND(D22=2,D22=3),1,"") | AH22: =IF(AND(E21=2,E22=1),3,"") | AI22: =IF(AND(E21=3,E22=1),2,"") | AJ22: =IF(AND(E21=1,E22=2),3,"") | AK22: =IF(AND(E21=3,E22=2),1,"") | AL22: =IF(AND(E21=1,E22=3),2,"") | AM22: =IF(AND(E21=2,E22=3),1,"") | AP22: =IF(AND(SUM(AH22:AM22)>0,SUM(Z22:AE22)>0),1,"") | AR22: =IF(AP22=1,SUM(Z22:AE22)*10+SUM(AH22:AM22),"") | AV22: =IF(AP22=1,VLOOKUP(AR22,'Number-Dozzen'!$F$2:$K$10,2,0),"") | AW22: =IF(AP22=1,VLOOKUP(AR22,'Number-Dozzen'!$F$2:$K$10,3,0),"") | AX22: =IF(AP22=1,VLOOKUP(AR22,'Number-Dozzen'!$F$2:$K$10,4,0),"") | AY22: =IF(AP22=1,VLOOKUP(AR22,'Number-Dozzen'!$F$2:$K$10,5,0),"") | AZ22: =IF(AP22=1,VLOOKUP(AR22,'Number-Dozzen'!$F$2:$K$10,6,0),"") | BB22: =IF(H22="L",BB21+1,IF(H22="w",1,BB21)) -> 3
A23: 22 | C23: 8 | D23: =IF(C23="","",VLOOKUP(C23,'Number-Dozzen'!$A$2:$C$38,3,0)) -> 1 | E23: =IF(C23="","",VLOOKUP(C23,'[1]Number-Dozzen'!$A$2:$B$38,2,0)) -> 2 | F23: =IF(C23="","",IF(AP23="","",AR23)) | G23: =IF(C23="","",IF(F23="","",VLOOKUP(F23,'Number-Dozzen'!$F$2:$L$10,7,0))) | H23: =IF(AP22=1,IF(COUNTIF(AV22:AZ22,C23)=1,"W","L"),"") | I23: =IF(H22="W",1,IF(H22="L",I22+1,I22)) -> 4 | J23: =IF(C22="","",VLOOKUP(I23,$V$2:$W$100,2,0)) -> 1 | K23: =IF(H23="","",IF(H23="l",-4*J23,IF(H23="w",32*J23))) | L23: =IF(C23="","",SUM($K$2:K23)) -> -12 | N23: =IF(L41="","",IF(L41>=$P$7,"Win Goal !!",IF(L41<=$P$8,"Stopp Loss !!",""))) | V23: 22 | W23: 1 | Z23: =IF(AND(D22=2,D23=1),3,"") | AA23: =IF(AND(D22=3,D23=1),2,"") | AB23: =IF(AND(D22=1,D23=2),3,"") | AC23: =IF(AND(D22=3,D23=2),1,"") | AD23: =IF(AND(D22=1,D23=3),2,"") | AE23: =IF(AND(D23=2,D23=3),1,"") | AH23: =IF(AND(E22=2,E23=1),3,"") | AI23: =IF(AND(E22=3,E23=1),2,"") | AJ23: =IF(AND(E22=1,E23=2),3,"") | AK23: =IF(AND(E22=3,E23=2),1,"") -> 1 | AL23: =IF(AND(E22=1,E23=3),2,"") | AM23: =IF(AND(E22=2,E23=3),1,"") | AP23: =IF(AND(SUM(AH23:AM23)>0,SUM(Z23:AE23)>0),1,"") | AR23: =IF(AP23=1,SUM(Z23:AE23)*10+SUM(AH23:AM23),"") | AV23: =IF(AP23=1,VLOOKUP(AR23,'Number-Dozzen'!$F$2:$K$10,2,0),"") | AW23: =IF(AP23=1,VLOOKUP(AR23,'Number-Dozzen'!$F$2:$K$10,3,0),"") | AX23: =IF(AP23=1,VLOOKUP(AR23,'Number-Dozzen'!$F$2:$K$10,4,0),"") | AY23: =IF(AP23=1,VLOOKUP(AR23,'Number-Dozzen'!$F$2:$K$10,5,0),"") | AZ23: =IF(AP23=1,VLOOKUP(AR23,'Number-Dozzen'!$F$2:$K$10,6,0),"") | BB23: =IF(H23="L",BB22+1,IF(H23="w",1,BB22)) -> 3
A24: 23 | C24: 15 | D24: =IF(C24="","",VLOOKUP(C24,'Number-Dozzen'!$A$2:$C$38,3,0)) -> 2 | E24: =IF(C24="","",VLOOKUP(C24,'[1]Number-Dozzen'!$A$2:$B$38,2,0)) -> 1 | F24: =IF(C24="","",IF(AP24="","",AR24)) -> 33 | G24: =IF(C24="","",IF(F24="","",VLOOKUP(F24,'Number-Dozzen'!$F$2:$L$10,7,0))) -> 26-28-29-31-35 | H24: =IF(AP23=1,IF(COUNTIF(AV23:AZ23,C24)=1,"W","L"),"") | I24: =IF(H23="W",1,IF(H23="L",I23+1,I23)) -> 4 | J24: =IF(C23="","",VLOOKUP(I24,$V$2:$W$100,2,0)) -> 1 | K24: =IF(H24="","",IF(H24="l",-4*J24,IF(H24="w",32*J24))) | L24: =IF(C24="","",SUM($K$2:K24)) -> -12 | N24: =IF(L42="","",IF(L42>=$P$7,"Win Goal !!",IF(L42<=$P$8,"Stopp Loss !!",""))) | V24: 23 | W24: 1 | Z24: =IF(AND(D23=2,D24=1),3,"") | AA24: =IF(AND(D23=3,D24=1),2,"") | AB24: =IF(AND(D23=1,D24=2),3,"") -> 3 | AC24: =IF(AND(D23=3,D24=2),1,"") | AD24: =IF(AND(D23=1,D24=3),2,"") | AE24: =IF(AND(D24=2,D24=3),1,"") | AH24: =IF(AND(E23=2,E24=1),3,"") -> 3 | AI24: =IF(AND(E23=3,E24=1),2,"") | AJ24: =IF(AND(E23=1,E24=2),3,"") | AK24: =IF(AND(E23=3,E24=2),1,"") | AL24: =IF(AND(E23=1,E24=3),2,"") | AM24: =IF(AND(E23=2,E24=3),1,"") | AP24: =IF(AND(SUM(AH24:AM24)>0,SUM(Z24:AE24)>0),1,"") -> 1 | AR24: =IF(AP24=1,SUM(Z24:AE24)*10+SUM(AH24:AM24),"") -> 33 | AV24: =IF(AP24=1,VLOOKUP(AR24,'Number-Dozzen'!$F$2:$K$10,2,0),"") -> 26 | AW24: =IF(AP24=1,VLOOKUP(AR24,'Number-Dozzen'!$F$2:$K$10,3,0),"") -> 28 | AX24: =IF(AP24=1,VLOOKUP(AR24,'Number-Dozzen'!$F$2:$K$10,4,0),"") -> 29 | AY24: =IF(AP24=1,VLOOKUP(AR24,'Number-Dozzen'!$F$2:$K$10,5,0),"") -> 31 | AZ24: =IF(AP24=1,VLOOKUP(AR24,'Number-Dozzen'!$F$2:$K$10,6,0),"") -> 35 | BB24: =IF(H24="L",BB23+1,IF(H24="w",1,BB23)) -> 3
A25: 24 | C25: 3 | D25: =IF(C25="","",VLOOKUP(C25,'Number-Dozzen'!$A$2:$C$38,3,0)) -> 1 | E25: =IF(C25="","",VLOOKUP(C25,'[1]Number-Dozzen'!$A$2:$B$38,2,0)) -> 3 | F25: =IF(C25="","",IF(AP25="","",AR25)) -> 32 | G25: =IF(C25="","",IF(F25="","",VLOOKUP(F25,'Number-Dozzen'!$F$2:$L$10,7,0))) -> 30-33-36 | H25: =IF(AP24=1,IF(COUNTIF(AV24:AZ24,C25)=1,"W","L"),"") -> L | I25: =IF(H24="W",1,IF(H24="L",I24+1,I24)) -> 4 | J25: =IF(C24="","",VLOOKUP(I25,$V$2:$W$100,2,0)) -> 1 | K25: =IF(H25="","",IF(H25="l",-4*J25,IF(H25="w",32*J25))) -> -4 | L25: =IF(C25="","",SUM($K$2:K25)) -> -16 | N25: =IF(L43="","",IF(L43>=$P$7,"Win Goal !!",IF(L43<=$P$8,"Stopp Loss !!",""))) | V25: 24 | W25: 1 | Z25: =IF(AND(D24=2,D25=1),3,"") -> 3 | AA25: =IF(AND(D24=3,D25=1),2,"") | AB25: =IF(AND(D24=1,D25=2),3,"") | AC25: =IF(AND(D24=3,D25=2),1,"") | AD25: =IF(AND(D24=1,D25=3),2,"") | AE25: =IF(AND(D25=2,D25=3),1,"") | AH25: =IF(AND(E24=2,E25=1),3,"") | AI25: =IF(AND(E24=3,E25=1),2,"") | AJ25: =IF(AND(E24=1,E25=2),3,"") | AK25: =IF(AND(E24=3,E25=2),1,"") | AL25: =IF(AND(E24=1,E25=3),2,"") -> 2 | AM25: =IF(AND(E24=2,E25=3),1,"") | AP25: =IF(AND(SUM(AH25:AM25)>0,SUM(Z25:AE25)>0),1,"") -> 1 | AR25: =IF(AP25=1,SUM(Z25:AE25)*10+SUM(AH25:AM25),"") -> 32 | AV25: =IF(AP25=1,VLOOKUP(AR25,'Number-Dozzen'!$F$2:$K$10,2,0),"") -> 30 | AW25: =IF(AP25=1,VLOOKUP(AR25,'Number-Dozzen'!$F$2:$K$10,3,0),"") -> 33 | AX25: =IF(AP25=1,VLOOKUP(AR25,'Number-Dozzen'!$F$2:$K$10,4,0),"") -> 36 | AY25: =IF(AP25=1,VLOOKUP(AR25,'Number-Dozzen'!$F$2:$K$10,5,0),"") | AZ25: =IF(AP25=1,VLOOKUP(AR25,'Number-Dozzen'!$F$2:$K$10,6,0),"") | BB25: =IF(H25="L",BB24+1,IF(H25="w",1,BB24)) -> 4
A26: 25 | C26: 36 | D26: =IF(C26="","",VLOOKUP(C26,'Number-Dozzen'!$A$2:$C$38,3,0)) -> 3 | E26: =IF(C26="","",VLOOKUP(C26,'[1]Number-Dozzen'!$A$2:$B$38,2,0)) -> 2 | F26: =IF(C26="","",IF(AP26="","",AR26)) -> 21 | G26: =IF(C26="","",IF(F26="","",VLOOKUP(F26,'Number-Dozzen'!$F$2:$L$10,7,0))) -> 13-15-17-19-21 | H26: =IF(AP25=1,IF(COUNTIF(AV25:AZ25,C26)=1,"W","L"),"") -> W | I26: =IF(H25="W",1,IF(H25="L",I25+1,I25)) -> 5 | J26: =IF(C25="","",VLOOKUP(I26,$V$2:$W$100,2,0)) -> 1 | K26: =IF(H26="","",IF(H26="l",-4*J26,IF(H26="w",32*J26))) -> 32 | L26: =IF(C26="","",SUM($K$2:K26)) -> 16 | N26: =IF(L44="","",IF(L44>=$P$7,"Win Goal !!",IF(L44<=$P$8,"Stopp Loss !!",""))) | V26: 25 | W26: 1 | Z26: =IF(AND(D25=2,D26=1),3,"") | AA26: =IF(AND(D25=3,D26=1),2,"") | AB26: =IF(AND(D25=1,D26=2),3,"") | AC26: =IF(AND(D25=3,D26=2),1,"") | AD26: =IF(AND(D25=1,D26=3),2,"") -> 2 | AE26: =IF(AND(D26=2,D26=3),1,"") | AH26: =IF(AND(E25=2,E26=1),3,"") | AI26: =IF(AND(E25=3,E26=1),2,"") | AJ26: =IF(AND(E25=1,E26=2),3,"") | AK26: =IF(AND(E25=3,E26=2),1,"") -> 1 | AL26: =IF(AND(E25=1,E26=3),2,"") | AM26: =IF(AND(E25=2,E26=3),1,"") | AP26: =IF(AND(SUM(AH26:AM26)>0,SUM(Z26:AE26)>0),1,"") -> 1 | AR26: =IF(AP26=1,SUM(Z26:AE26)*10+SUM(AH26:AM26),"") -> 21 | AV26: =IF(AP26=1,VLOOKUP(AR26,'Number-Dozzen'!$F$2:$K$10,2,0),"") -> 13 | AW26: =IF(AP26=1,VLOOKUP(AR26,'Number-Dozzen'!$F$2:$K$10,3,0),"") -> 15 | AX26: =IF(AP26=1,VLOOKUP(AR26,'Number-Dozzen'!$F$2:$K$10,4,0),"") -> 17 | AY26: =IF(AP26=1,VLOOKUP(AR26,'Number-Dozzen'!$F$2:$K$10,5,0),"") -> 19 | AZ26: =IF(AP26=1,VLOOKUP(AR26,'Number-Dozzen'!$F$2:$K$10,6,0),"") -> 21 | BB26: =IF(H26="L",BB25+1,IF(H26="w",1,BB25)) -> 1
A27: 26 | C27: 31 | D27: =IF(C27="","",VLOOKUP(C27,'Number-Dozzen'!$A$2:$C$38,3,0)) -> 3 | E27: =IF(C27="","",VLOOKUP(C27,'[1]Number-Dozzen'!$A$2:$B$38,2,0)) -> 3 | F27: =IF(C27="","",IF(AP27="","",AR27)) | G27: =IF(C27="","",IF(F27="","",VLOOKUP(F27,'Number-Dozzen'!$F$2:$L$10,7,0))) | H27: =IF(AP26=1,IF(COUNTIF(AV26:AZ26,C27)=1,"W","L"),"") -> L | I27: =IF(H26="W",1,IF(H26="L",I26+1,I26)) -> 1 | J27: =IF(C26="","",VLOOKUP(I27,$V$2:$W$100,2,0)) -> 1 | K27: =IF(H27="","",IF(H27="l",-4*J27,IF(H27="w",32*J27))) -> -4 | L27: =IF(C27="","",SUM($K$2:K27)) -> 12 | N27: =IF(L45="","",IF(L45>=$P$7,"Win Goal !!",IF(L45<=$P$8,"Stopp Loss !!",""))) | V27: 26 | W27: 1 | Z27: =IF(AND(D26=2,D27=1),3,"") | AA27: =IF(AND(D26=3,D27=1),2,"") | AB27: =IF(AND(D26=1,D27=2),3,"") | AC27: =IF(AND(D26=3,D27=2),1,"") | AD27: =IF(AND(D26=1,D27=3),2,"") | AE27: =IF(AND(D27=2,D27=3),1,"") | AH27: =IF(AND(E26=2,E27=1),3,"") | AI27: =IF(AND(E26=3,E27=1),2,"") | AJ27: =IF(AND(E26=1,E27=2),3,"") | AK27: =IF(AND(E26=3,E27=2),1,"") | AL27: =IF(AND(E26=1,E27=3),2,"") | AM27: =IF(AND(E26=2,E27=3),1,"") -> 1 | AP27: =IF(AND(SUM(AH27:AM27)>0,SUM(Z27:AE27)>0),1,"") | AR27: =IF(AP27=1,SUM(Z27:AE27)*10+SUM(AH27:AM27),"") | AV27: =IF(AP27=1,VLOOKUP(AR27,'Number-Dozzen'!$F$2:$K$10,2,0),"") | AW27: =IF(AP27=1,VLOOKUP(AR27,'Number-Dozzen'!$F$2:$K$10,3,0),"") | AX27: =IF(AP27=1,VLOOKUP(AR27,'Number-Dozzen'!$F$2:$K$10,4,0),"") | AY27: =IF(AP27=1,VLOOKUP(AR27,'Number-Dozzen'!$F$2:$K$10,5,0),"") | AZ27: =IF(AP27=1,VLOOKUP(AR27,'Number-Dozzen'!$F$2:$K$10,6,0),"") | BB27: =IF(H27="L",BB26+1,IF(H27="w",1,BB26)) -> 2
... A107: 106 | C107: 5 | D107: =IF(C107="","",VLOOKUP(C107,'Number-Dozzen'!$A$2:$C$38,3,0)) -> 1 | E107: =IF(C107="","",VLOOKUP(C107,'[1]Number-Dozzen'!$A$2:$B$38,2,0)) -> 2 | F107: =IF(C107="","",IF(AP107="","",AR107)) | G107: =IF(C107="","",IF(F107="","",VLOOKUP(F107,'Number-Dozzen'!$F$2:$L$10,7,0))) | H107: =IF(AP106=1,IF(COUNTIF(AV106:AZ106,C107)=1,"W","L"),"") | I107: =IF(H106="W",1,IF(H106="L",I106+1,I106)) -> 4 | J107: =IF(C106="","",VLOOKUP(I107,$V$2:$W$100,2,0)) -> 1 | K107: =IF(H107="","",IF(H107="l",-4*J107,IF(H107="w",32*J107))) | L107: =IF(C107="","",SUM($K$2:K107)) -> -44 | N107: =IF(L125="","",IF(L125>=$P$7,"Win Goal !!",IF(L125<=$P$8,"Stopp Loss !!",""))) | V107: 106 | W107: 1 | Z107: =IF(AND(D106=2,D107=1),3,"") | AA107: =IF(AND(D106=3,D107=1),2,"") -> 2 | AB107: =IF(AND(D106=1,D107=2),3,"") | AC107: =IF(AND(D106=3,D107=2),1,"") | AD107: =IF(AND(D106=1,D107=3),2,"") | AE107: =IF(AND(D107=2,D107=3),1,"") | AH107: =IF(AND(E106=2,E107=1),3,"") | AI107: =IF(AND(E106=3,E107=1),2,"") | AJ107: =IF(AND(E106=1,E107=2),3,"") | AK107: =IF(AND(E106=3,E107=2),1,"") | AL107: =IF(AND(E106=1,E107=3),2,"") | AM107: =IF(AND(E106=2,E107=3),1,"") | AP107: =IF(AND(SUM(AH107:AM107)>0,SUM(Z107:AE107)>0),1,"") | AR107: =IF(AP107=1,SUM(Z107:AE107)*10+SUM(AH107:AM107),"") | AV107: =IF(AP107=1,VLOOKUP(AR107,'Number-Dozzen'!$F$2:$K$10,2,0),"") | AW107: =IF(AP107=1,VLOOKUP(AR107,'Number-Dozzen'!$F$2:$K$10,3,0),"") | AX107: =IF(AP107=1,VLOOKUP(AR107,'Number-Dozzen'!$F$2:$K$10,4,0),"") | AY107: =IF(AP107=1,VLOOKUP(AR107,'Number-Dozzen'!$F$2:$K$10,5,0),"") | AZ107: =IF(AP107=1,VLOOKUP(AR107,'Number-Dozzen'!$F$2:$K$10,6,0),"") | BB107: =IF(H107="L",BB106+1,IF(H107="w",1,BB106)) -> 4
A108: 107 | C108: 1 | D108: =IF(C108="","",VLOOKUP(C108,'Number-Dozzen'!$A$2:$C$38,3,0)) -> 1 | E108: =IF(C108="","",VLOOKUP(C108,'[1]Number-Dozzen'!$A$2:$B$38,2,0)) -> 2 | F108: =IF(C108="","",IF(AP108="","",AR108)) | G108: =IF(C108="","",IF(F108="","",VLOOKUP(F108,'Number-Dozzen'!$F$2:$L$10,7,0))) | H108: =IF(AP107=1,IF(COUNTIF(AV107:AZ107,C108)=1,"W","L"),"") | I108: =IF(H107="W",1,IF(H107="L",I107+1,I107)) -> 4 | J108: =IF(C107="","",VLOOKUP(I108,$V$2:$W$100,2,0)) -> 1 | K108: =IF(H108="","",IF(H108="l",-4*J108,IF(H108="w",32*J108))) | L108: =IF(C108="","",SUM($K$2:K108)) -> -44 | N108: =IF(L126="","",IF(L126>=$P$7,"Win Goal !!",IF(L126<=$P$8,"Stopp Loss !!",""))) | Z108: =IF(AND(D107=2,D108=1),3,"") | AA108: =IF(AND(D107=3,D108=1),2,"") | AB108: =IF(AND(D107=1,D108=2),3,"") | AC108: =IF(AND(D107=3,D108=2),1,"") | AD108: =IF(AND(D107=1,D108=3),2,"") | AE108: =IF(AND(D108=2,D108=3),1,"") | AH108: =IF(AND(E107=2,E108=1),3,"") | AI108: =IF(AND(E107=3,E108=1),2,"") | AJ108: =IF(AND(E107=1,E108=2),3,"") | AK108: =IF(AND(E107=3,E108=2),1,"") | AL108: =IF(AND(E107=1,E108=3),2,"") | AM108: =IF(AND(E107=2,E108=3),1,"") | AP108: =IF(AND(SUM(AH108:AM108)>0,SUM(Z108:AE108)>0),1,"") | AR108: =IF(AP108=1,SUM(Z108:AE108)*10+SUM(AH108:AM108),"") | AV108: =IF(AP108=1,VLOOKUP(AR108,'Number-Dozzen'!$F$2:$K$10,2,0),"") | AW108: =IF(AP108=1,VLOOKUP(AR108,'Number-Dozzen'!$F$2:$K$10,3,0),"") | AX108: =IF(AP108=1,VLOOKUP(AR108,'Number-Dozzen'!$F$2:$K$10,4,0),"") | AY108: =IF(AP108=1,VLOOKUP(AR108,'Number-Dozzen'!$F$2:$K$10,5,0),"") | AZ108: =IF(AP108=1,VLOOKUP(AR108,'Number-Dozzen'!$F$2:$K$10,6,0),"") | BB108: =IF(H108="L",BB107+1,IF(H108="w",1,BB107)) -> 4
A109: 108 | C109: 4 | D109: =IF(C109="","",VLOOKUP(C109,'Number-Dozzen'!$A$2:$C$38,3,0)) -> 1 | E109: =IF(C109="","",VLOOKUP(C109,'[1]Number-Dozzen'!$A$2:$B$38,2,0)) -> 1 | F109: =IF(C109="","",IF(AP109="","",AR109)) | G109: =IF(C109="","",IF(F109="","",VLOOKUP(F109,'Number-Dozzen'!$F$2:$L$10,7,0))) | H109: =IF(AP108=1,IF(COUNTIF(AV108:AZ108,C109)=1,"W","L"),"") | I109: =IF(H108="W",1,IF(H108="L",I108+1,I108)) -> 4 | J109: =IF(C108="","",VLOOKUP(I109,$V$2:$W$100,2,0)) -> 1 | K109: =IF(H109="","",IF(H109="l",-4*J109,IF(H109="w",32*J109))) | L109: =IF(C109="","",SUM($K$2:K109)) -> -44 | N109: =IF(L127="","",IF(L127>=$P$7,"Win Goal !!",IF(L127<=$P$8,"Stopp Loss !!",""))) | Z109: =IF(AND(D108=2,D109=1),3,"") | AA109: =IF(AND(D108=3,D109=1),2,"") | AB109: =IF(AND(D108=1,D109=2),3,"") | AC109: =IF(AND(D108=3,D109=2),1,"") | AD109: =IF(AND(D108=1,D109=3),2,"") | AE109: =IF(AND(D109=2,D109=3),1,"") | AH109: =IF(AND(E108=2,E109=1),3,"") -> 3 | AI109: =IF(AND(E108=3,E109=1),2,"") | AJ109: =IF(AND(E108=1,E109=2),3,"") | AK109: =IF(AND(E108=3,E109=2),1,"") | AL109: =IF(AND(E108=1,E109=3),2,"") | AM109: =IF(AND(E108=2,E109=3),1,"") | AP109: =IF(AND(SUM(AH109:AM109)>0,SUM(Z109:AE109)>0),1,"") | AR109: =IF(AP109=1,SUM(Z109:AE109)*10+SUM(AH109:AM109),"") | AV109: =IF(AP109=1,VLOOKUP(AR109,'Number-Dozzen'!$F$2:$K$10,2,0),"") | AW109: =IF(AP109=1,VLOOKUP(AR109,'Number-Dozzen'!$F$2:$K$10,3,0),"") | AX109: =IF(AP109=1,VLOOKUP(AR109,'Number-Dozzen'!$F$2:$K$10,4,0),"") | AY109: =IF(AP109=1,VLOOKUP(AR109,'Number-Dozzen'!$F$2:$K$10,5,0),"") | AZ109: =IF(AP109=1,VLOOKUP(AR109,'Number-Dozzen'!$F$2:$K$10,6,0),"") | BB109: =IF(H109="L",BB108+1,IF(H109="w",1,BB108)) -> 4
A110: 109 | C110: 9 | D110: =IF(C110="","",VLOOKUP(C110,'Number-Dozzen'!$A$2:$C$38,3,0)) -> 1 | E110: =IF(C110="","",VLOOKUP(C110,'[1]Number-Dozzen'!$A$2:$B$38,2,0)) -> 3 | F110: =IF(C110="","",IF(AP110="","",AR110)) | G110: =IF(C110="","",IF(F110="","",VLOOKUP(F110,'Number-Dozzen'!$F$2:$L$10,7,0))) | H110: =IF(AP109=1,IF(COUNTIF(AV109:AZ109,C110)=1,"W","L"),"") | I110: =IF(H109="W",1,IF(H109="L",I109+1,I109)) -> 4 | J110: =IF(C109="","",VLOOKUP(I110,$V$2:$W$100,2,0)) -> 1 | K110: =IF(H110="","",IF(H110="l",-4*J110,IF(H110="w",32*J110))) | L110: =IF(C110="","",SUM($K$2:K110)) -> -44 | N110: =IF(L128="","",IF(L128>=$P$7,"Win Goal !!",IF(L128<=$P$8,"Stopp Loss !!",""))) | Z110: =IF(AND(D109=2,D110=1),3,"") | AA110: =IF(AND(D109=3,D110=1),2,"") | AB110: =IF(AND(D109=1,D110=2),3,"") | AC110: =IF(AND(D109=3,D110=2),1,"") | AD110: =IF(AND(D109=1,D110=3),2,"") | AE110: =IF(AND(D110=2,D110=3),1,"") | AH110: =IF(AND(E109=2,E110=1),3,"") | AI110: =IF(AND(E109=3,E110=1),2,"") | AJ110: =IF(AND(E109=1,E110=2),3,"") | AK110: =IF(AND(E109=3,E110=2),1,"") | AL110: =IF(AND(E109=1,E110=3),2,"") -> 2 | AM110: =IF(AND(E109=2,E110=3),1,"") | AP110: =IF(AND(SUM(AH110:AM110)>0,SUM(Z110:AE110)>0),1,"") | AR110: =IF(AP110=1,SUM(Z110:AE110)*10+SUM(AH110:AM110),"") | AV110: =IF(AP110=1,VLOOKUP(AR110,'Number-Dozzen'!$F$2:$K$10,2,0),"") | AW110: =IF(AP110=1,VLOOKUP(AR110,'Number-Dozzen'!$F$2:$K$10,3,0),"") | AX110: =IF(AP110=1,VLOOKUP(AR110,'Number-Dozzen'!$F$2:$K$10,4,0),"") | AY110: =IF(AP110=1,VLOOKUP(AR110,'Number-Dozzen'!$F$2:$K$10,5,0),"") | AZ110: =IF(AP110=1,VLOOKUP(AR110,'Number-Dozzen'!$F$2:$K$10,6,0),"") | BB110: =IF(H110="L",BB109+1,IF(H110="w",1,BB109)) -> 4
A111: 110 | C111: 10 | D111: =IF(C111="","",VLOOKUP(C111,'Number-Dozzen'!$A$2:$C$38,3,0)) -> 1 | E111: =IF(C111="","",VLOOKUP(C111,'[1]Number-Dozzen'!$A$2:$B$38,2,0)) -> 2 | F111: =IF(C111="","",IF(AP111="","",AR111)) | G111: =IF(C111="","",IF(F111="","",VLOOKUP(F111,'Number-Dozzen'!$F$2:$L$10,7,0))) | H111: =IF(AP110=1,IF(COUNTIF(AV110:AZ110,C111)=1,"W","L"),"") | I111: =IF(H110="W",1,IF(H110="L",I110+1,I110)) -> 4 | J111: =IF(C110="","",VLOOKUP(I111,$V$2:$W$100,2,0)) -> 1 | K111: =IF(H111="","",IF(H111="l",-4*J111,IF(H111="w",32*J111))) | L111: =IF(C111="","",SUM($K$2:K111)) -> -44 | N111: =IF(L129="","",IF(L129>=$P$7,"Win Goal !!",IF(L129<=$P$8,"Stopp Loss !!",""))) | Z111: =IF(AND(D110=2,D111=1),3,"") | AA111: =IF(AND(D110=3,D111=1),2,"") | AB111: =IF(AND(D110=1,D111=2),3,"") | AC111: =IF(AND(D110=3,D111=2),1,"") | AD111: =IF(AND(D110=1,D111=3),2,"") | AE111: =IF(AND(D111=2,D111=3),1,"") | AH111: =IF(AND(E110=2,E111=1),3,"") | AI111: =IF(AND(E110=3,E111=1),2,"") | AJ111: =IF(AND(E110=1,E111=2),3,"") | AK111: =IF(AND(E110=3,E111=2),1,"") -> 1 | AL111: =IF(AND(E110=1,E111=3),2,"") | AM111: =IF(AND(E110=2,E111=3),1,"") | AP111: =IF(AND(SUM(AH111:AM111)>0,SUM(Z111:AE111)>0),1,"") | AR111: =IF(AP111=1,SUM(Z111:AE111)*10+SUM(AH111:AM111),"") | AV111: =IF(AP111=1,VLOOKUP(AR111,'Number-Dozzen'!$F$2:$K$10,2,0),"") | AW111: =IF(AP111=1,VLOOKUP(AR111,'Number-Dozzen'!$F$2:$K$10,3,0),"") | AX111: =IF(AP111=1,VLOOKUP(AR111,'Number-Dozzen'!$F$2:$K$10,4,0),"") | AY111: =IF(AP111=1,VLOOKUP(AR111,'Number-Dozzen'!$F$2:$K$10,5,0),"") | AZ111: =IF(AP111=1,VLOOKUP(AR111,'Number-Dozzen'!$F$2:$K$10,6,0),"") | BB111: =IF(H111="L",BB110+1,IF(H111="w",1,BB110)) -> 4
A112: 111 | C112: 6 | D112: =IF(C112="","",VLOOKUP(C112,'Number-Dozzen'!$A$2:$C$38,3,0)) -> 1 | E112: =IF(C112="","",VLOOKUP(C112,'[1]Number-Dozzen'!$A$2:$B$38,2,0)) -> 1 | F112: =IF(C112="","",IF(AP112="","",AR112)) | G112: =IF(C112="","",IF(F112="","",VLOOKUP(F112,'Number-Dozzen'!$F$2:$L$10,7,0))) | H112: =IF(AP111=1,IF(COUNTIF(AV111:AZ111,C112)=1,"W","L"),"") | I112: =IF(H111="W",1,IF(H111="L",I111+1,I111)) -> 4 | J112: =IF(C111="","",VLOOKUP(I112,$V$2:$W$100,2,0)) -> 1 | K112: =IF(H112="","",IF(H112="l",-4*J112,IF(H112="w",32*J112))) | L112: =IF(C112="","",SUM($K$2:K112)) -> -44 | N112: =IF(L130="","",IF(L130>=$P$7,"Win Goal !!",IF(L130<=$P$8,"Stopp Loss !!",""))) | Z112: =IF(AND(D111=2,D112=1),3,"") | AA112: =IF(AND(D111=3,D112=1),2,"") | AB112: =IF(AND(D111=1,D112=2),3,"") | AC112: =IF(AND(D111=3,D112=2),1,"") | AD112: =IF(AND(D111=1,D112=3),2,"") | AE112: =IF(AND(D112=2,D112=3),1,"") | AH112: =IF(AND(E111=2,E112=1),3,"") -> 3 | AI112: =IF(AND(E111=3,E112=1),2,"") | AJ112: =IF(AND(E111=1,E112=2),3,"") | AK112: =IF(AND(E111=3,E112=2),1,"") | AL112: =IF(AND(E111=1,E112=3),2,"") | AM112: =IF(AND(E111=2,E112=3),1,"") | AP112: =IF(AND(SUM(AH112:AM112)>0,SUM(Z112:AE112)>0),1,"") | AR112: =IF(AP112=1,SUM(Z112:AE112)*10+SUM(AH112:AM112),"") | AV112: =IF(AP112=1,VLOOKUP(AR112,'Number-Dozzen'!$F$2:$K$10,2,0),"") | AW112: =IF(AP112=1,VLOOKUP(AR112,'Number-Dozzen'!$F$2:$K$10,3,0),"") | AX112: =IF(AP112=1,VLOOKUP(AR112,'Number-Dozzen'!$F$2:$K$10,4,0),"") | AY112: =IF(AP112=1,VLOOKUP(AR112,'Number-Dozzen'!$F$2:$K$10,5,0),"") | AZ112: =IF(AP112=1,VLOOKUP(AR112,'Number-Dozzen'!$F$2:$K$10,6,0),"") | BB112: =IF(H112="L",BB111+1,IF(H112="w",1,BB111)) -> 4
A113: 112 | C113: 16 | D113: =IF(C113="","",VLOOKUP(C113,'Number-Dozzen'!$A$2:$C$38,3,0)) -> 2 | E113: =IF(C113="","",VLOOKUP(C113,'[1]Number-Dozzen'!$A$2:$B$38,2,0)) -> 2 | F113: =IF(C113="","",IF(AP113="","",AR113)) -> 33 | G113: =IF(C113="","",IF(F113="","",VLOOKUP(F113,'Number-Dozzen'!$F$2:$L$10,7,0))) -> 26-28-29-31-35 | H113: =IF(AP112=1,IF(COUNTIF(AV112:AZ112,C113)=1,"W","L"),"") | I113: =IF(H112="W",1,IF(H112="L",I112+1,I112)) -> 4 | J113: =IF(C112="","",VLOOKUP(I113,$V$2:$W$100,2,0)) -> 1 | K113: =IF(H113="","",IF(H113="l",-4*J113,IF(H113="w",32*J113))) | L113: =IF(C113="","",SUM($K$2:K113)) -> -44 | N113: =IF(L131="","",IF(L131>=$P$7,"Win Goal !!",IF(L131<=$P$8,"Stopp Loss !!",""))) | Z113: =IF(AND(D112=2,D113=1),3,"") | AA113: =IF(AND(D112=3,D113=1),2,"") | AB113: =IF(AND(D112=1,D113=2),3,"") -> 3 | AC113: =IF(AND(D112=3,D113=2),1,"") | AD113: =IF(AND(D112=1,D113=3),2,"") | AE113: =IF(AND(D113=2,D113=3),1,"") | AH113: =IF(AND(E112=2,E113=1),3,"") | AI113: =IF(AND(E112=3,E113=1),2,"") | AJ113: =IF(AND(E112=1,E113=2),3,"") -> 3 | AK113: =IF(AND(E112=3,E113=2),1,"") | AL113: =IF(AND(E112=1,E113=3),2,"") | AM113: =IF(AND(E112=2,E113=3),1,"") | AP113: =IF(AND(SUM(AH113:AM113)>0,SUM(Z113:AE113)>0),1,"") -> 1 | AR113: =IF(AP113=1,SUM(Z113:AE113)*10+SUM(AH113:AM113),"") -> 33 | AV113: =IF(AP113=1,VLOOKUP(AR113,'Number-Dozzen'!$F$2:$K$10,2,0),"") -> 26 | AW113: =IF(AP113=1,VLOOKUP(AR113,'Number-Dozzen'!$F$2:$K$10,3,0),"") -> 28 | AX113: =IF(AP113=1,VLOOKUP(AR113,'Number-Dozzen'!$F$2:$K$10,4,0),"") -> 29 | AY113: =IF(AP113=1,VLOOKUP(AR113,'Number-Dozzen'!$F$2:$K$10,5,0),"") -> 31 | AZ113: =IF(AP113=1,VLOOKUP(AR113,'Number-Dozzen'!$F$2:$K$10,6,0),"") -> 35 | BB113: =IF(H113="L",BB112+1,IF(H113="w",1,BB112)) -> 4
A114: 113 | C114: 18 | D114: =IF(C114="","",VLOOKUP(C114,'Number-Dozzen'!$A$2:$C$38,3,0)) -> 2 | E114: =IF(C114="","",VLOOKUP(C114,'[1]Number-Dozzen'!$A$2:$B$38,2,0)) -> 3 | F114: =IF(C114="","",IF(AP114="","",AR114)) | G114: =IF(C114="","",IF(F114="","",VLOOKUP(F114,'Number-Dozzen'!$F$2:$L$10,7,0))) | H114: =IF(AP113=1,IF(COUNTIF(AV113:AZ113,C114)=1,"W","L"),"") -> L | I114: =IF(H113="W",1,IF(H113="L",I113+1,I113)) -> 4 | J114: =IF(C113="","",VLOOKUP(I114,$V$2:$W$100,2,0)) -> 1 | K114: =IF(H114="","",IF(H114="l",-4*J114,IF(H114="w",32*J114))) -> -4 | L114: =IF(C114="","",SUM($K$2:K114)) -> -48 | N114: =IF(L132="","",IF(L132>=$P$7,"Win Goal !!",IF(L132<=$P$8,"Stopp Loss !!",""))) | Z114: =IF(AND(D113=2,D114=1),3,"") | AA114: =IF(AND(D113=3,D114=1),2,"") | AB114: =IF(AND(D113=1,D114=2),3,"") | AC114: =IF(AND(D113=3,D114=2),1,"") | AD114: =IF(AND(D113=1,D114=3),2,"") | AE114: =IF(AND(D114=2,D114=3),1,"") | AH114: =IF(AND(E113=2,E114=1),3,"") | AI114: =IF(AND(E113=3,E114=1),2,"") | AJ114: =IF(AND(E113=1,E114=2),3,"") | AK114: =IF(AND(E113=3,E114=2),1,"") | AL114: =IF(AND(E113=1,E114=3),2,"") | AM114: =IF(AND(E113=2,E114=3),1,"") -> 1 | AP114: =IF(AND(SUM(AH114:AM114)>0,SUM(Z114:AE114)>0),1,"") | AR114: =IF(AP114=1,SUM(Z114:AE114)*10+SUM(AH114:AM114),"") | AV114: =IF(AP114=1,VLOOKUP(AR114,'Number-Dozzen'!$F$2:$K$10,2,0),"") | AW114: =IF(AP114=1,VLOOKUP(AR114,'Number-Dozzen'!$F$2:$K$10,3,0),"") | AX114: =IF(AP114=1,VLOOKUP(AR114,'Number-Dozzen'!$F$2:$K$10,4,0),"") | AY114: =IF(AP114=1,VLOOKUP(AR114,'Number-Dozzen'!$F$2:$K$10,5,0),"") | AZ114: =IF(AP114=1,VLOOKUP(AR114,'Number-Dozzen'!$F$2:$K$10,6,0),"") | BB114: =IF(H114="L",BB113+1,IF(H114="w",1,BB113)) -> 5
A115: 114 | C115: 33 | D115: =IF(C115="","",VLOOKUP(C115,'Number-Dozzen'!$A$2:$C$38,3,0)) -> 3 | E115: =IF(C115="","",VLOOKUP(C115,'[1]Number-Dozzen'!$A$2:$B$38,2,0)) -> 2 | F115: =IF(C115="","",IF(AP115="","",AR115)) | G115: =IF(C115="","",IF(F115="","",VLOOKUP(F115,'Number-Dozzen'!$F$2:$L$10,7,0))) | H115: =IF(AP114=1,IF(COUNTIF(AV114:AZ114,C115)=1,"W","L"),"") | I115: =IF(H114="W",1,IF(H114="L",I114+1,I114)) -> 5 | J115: =IF(C114="","",VLOOKUP(I115,$V$2:$W$100,2,0)) -> 1 | K115: =IF(H115="","",IF(H115="l",-4*J115,IF(H115="w",32*J115))) | L115: =IF(C115="","",SUM($K$2:K115)) -> -48 | N115: =IF(L133="","",IF(L133>=$P$7,"Win Goal !!",IF(L133<=$P$8,"Stopp Loss !!",""))) | Z115: =IF(AND(D114=2,D115=1),3,"") | AA115: =IF(AND(D114=3,D115=1),2,"") | AB115: =IF(AND(D114=1,D115=2),3,"") | AC115: =IF(AND(D114=3,D115=2),1,"") | AD115: =IF(AND(D114=1,D115=3),2,"") | AE115: =IF(AND(D115=2,D115=3),1,"") | AH115: =IF(AND(E114=2,E115=1),3,"") | AI115: =IF(AND(E114=3,E115=1),2,"") | AJ115: =IF(AND(E114=1,E115=2),3,"") | AK115: =IF(AND(E114=3,E115=2),1,"") -> 1 | AL115: =IF(AND(E114=1,E115=3),2,"") | AM115: =IF(AND(E114=2,E115=3),1,"") | AP115: =IF(AND(SUM(AH115:AM115)>0,SUM(Z115:AE115)>0),1,"") | AR115: =IF(AP115=1,SUM(Z115:AE115)*10+SUM(AH115:AM115),"") | AV115: =IF(AP115=1,VLOOKUP(AR115,'Number-Dozzen'!$F$2:$K$10,2,0),"") | AW115: =IF(AP115=1,VLOOKUP(AR115,'Number-Dozzen'!$F$2:$K$10,3,0),"") | AX115: =IF(AP115=1,VLOOKUP(AR115,'Number-Dozzen'!$F$2:$K$10,4,0),"") | AY115: =IF(AP115=1,VLOOKUP(AR115,'Number-Dozzen'!$F$2:$K$10,5,0),"") | AZ115: =IF(AP115=1,VLOOKUP(AR115,'Number-Dozzen'!$F$2:$K$10,6,0),"") | BB115: =IF(H115="L",BB114+1,IF(H115="w",1,BB114)) -> 5
A116: 115 | C116: 35 | D116: =IF(C116="","",VLOOKUP(C116,'Number-Dozzen'!$A$2:$C$38,3,0)) -> 3 | E116: =IF(C116="","",VLOOKUP(C116,'[1]Number-Dozzen'!$A$2:$B$38,2,0)) -> 3 | F116: =IF(C116="","",IF(AP116="","",AR116)) | G116: =IF(C116="","",IF(F116="","",VLOOKUP(F116,'Number-Dozzen'!$F$2:$L$10,7,0))) | H116: =IF(AP115=1,IF(COUNTIF(AV115:AZ115,C116)=1,"W","L"),"") | I116: =IF(H115="W",1,IF(H115="L",I115+1,I115)) -> 5 | J116: =IF(C115="","",VLOOKUP(I116,$V$2:$W$100,2,0)) -> 1 | K116: =IF(H116="","",IF(H116="l",-4*J116,IF(H116="w",32*J116))) | L116: =IF(C116="","",SUM($K$2:K116)) -> -48 | N116: =IF(L134="","",IF(L134>=$P$7,"Win Goal !!",IF(L134<=$P$8,"Stopp Loss !!",""))) | Z116: =IF(AND(D115=2,D116=1),3,"") | AA116: =IF(AND(D115=3,D116=1),2,"") | AB116: =IF(AND(D115=1,D116=2),3,"") | AC116: =IF(AND(D115=3,D116=2),1,"") | AD116: =IF(AND(D115=1,D116=3),2,"") | AE116: =IF(AND(D116=2,D116=3),1,"") | AH116: =IF(AND(E115=2,E116=1),3,"") | AI116: =IF(AND(E115=3,E116=1),2,"") | AJ116: =IF(AND(E115=1,E116=2),3,"") | AK116: =IF(AND(E115=3,E116=2),1,"") | AL116: =IF(AND(E115=1,E116=3),2,"") | AM116: =IF(AND(E115=2,E116=3),1,"") -> 1 | AP116: =IF(AND(SUM(AH116:AM116)>0,SUM(Z116:AE116)>0),1,"") | AR116: =IF(AP116=1,SUM(Z116:AE116)*10+SUM(AH116:AM116),"") | AV116: =IF(AP116=1,VLOOKUP(AR116,'Number-Dozzen'!$F$2:$K$10,2,0),"") | AW116: =IF(AP116=1,VLOOKUP(AR116,'Number-Dozzen'!$F$2:$K$10,3,0),"") | AX116: =IF(AP116=1,VLOOKUP(AR116,'Number-Dozzen'!$F$2:$K$10,4,0),"") | AY116: =IF(AP116=1,VLOOKUP(AR116,'Number-Dozzen'!$F$2:$K$10,5,0),"") | AZ116: =IF(AP116=1,VLOOKUP(AR116,'Number-Dozzen'!$F$2:$K$10,6,0),"") | BB116: =IF(H116="L",BB115+1,IF(H116="w",1,BB115)) -> 5
A117: 116 | C117: 0 | D117: =IF(C117="","",VLOOKUP(C117,'Number-Dozzen'!$A$2:$C$38,3,0)) -> 0 | E117: =IF(C117="","",VLOOKUP(C117,'[1]Number-Dozzen'!$A$2:$B$38,2,0)) -> 1 | F117: =IF(C117="","",IF(AP117="","",AR117)) | G117: =IF(C117="","",IF(F117="","",VLOOKUP(F117,'Number-Dozzen'!$F$2:$L$10,7,0))) | H117: =IF(AP116=1,IF(COUNTIF(AV116:AZ116,C117)=1,"W","L"),"") | I117: =IF(H116="W",1,IF(H116="L",I116+1,I116)) -> 5 | J117: =IF(C116="","",VLOOKUP(I117,$V$2:$W$100,2,0)) -> 1 | K117: =IF(H117="","",IF(H117="l",-4*J117,IF(H117="w",32*J117))) | L117: =IF(C117="","",SUM($K$2:K117)) -> -48 | N117: =IF(L135="","",IF(L135>=$P$7,"Win Goal !!",IF(L135<=$P$8,"Stopp Loss !!",""))) | Z117: =IF(AND(D116=2,D117=1),3,"") | AA117: =IF(AND(D116=3,D117=1),2,"") | AB117: =IF(AND(D116=1,D117=2),3,"") | AC117: =IF(AND(D116=3,D117=2),1,"") | AD117: =IF(AND(D116=1,D117=3),2,"") | AE117: =IF(AND(D117=2,D117=3),1,"") | AH117: =IF(AND(E116=2,E117=1),3,"") | AI117: =IF(AND(E116=3,E117=1),2,"") -> 2 | AJ117: =IF(AND(E116=1,E117=2),3,"") | AK117: =IF(AND(E116=3,E117=2),1,"") | AL117: =IF(AND(E116=1,E117=3),2,"") | AM117: =IF(AND(E116=2,E117=3),1,"") | AP117: =IF(AND(SUM(AH117:AM117)>0,SUM(Z117:AE117)>0),1,"") | AR117: =IF(AP117=1,SUM(Z117:AE117)*10+SUM(AH117:AM117),"") | AV117: =IF(AP117=1,VLOOKUP(AR117,'Number-Dozzen'!$F$2:$K$10,2,0),"") | AW117: =IF(AP117=1,VLOOKUP(AR117,'Number-Dozzen'!$F$2:$K$10,3,0),"") | AX117: =IF(AP117=1,VLOOKUP(AR117,'Number-Dozzen'!$F$2:$K$10,4,0),"") | AY117: =IF(AP117=1,VLOOKUP(AR117,'Number-Dozzen'!$F$2:$K$10,5,0),"") | AZ117: =IF(AP117=1,VLOOKUP(AR117,'Number-Dozzen'!$F$2:$K$10,6,0),"") | BB117: =IF(H117="L",BB116+1,IF(H117="w",1,BB116)) -> 5
A118: 117 | C118: 24 | D118: =IF(C118="","",VLOOKUP(C118,'Number-Dozzen'!$A$2:$C$38,3,0)) -> 2 | E118: =IF(C118="","",VLOOKUP(C118,'[1]Number-Dozzen'!$A$2:$B$38,2,0)) -> 2 | F118: =IF(C118="","",IF(AP118="","",AR118)) | G118: =IF(C118="","",IF(F118="","",VLOOKUP(F118,'Number-Dozzen'!$F$2:$L$10,7,0))) | H118: =IF(AP117=1,IF(COUNTIF(AV117:AZ117,C118)=1,"W","L"),"") | I118: =IF(H117="W",1,IF(H117="L",I117+1,I117)) -> 5 | J118: =IF(C117="","",VLOOKUP(I118,$V$2:$W$100,2,0)) -> 1 | K118: =IF(H118="","",IF(H118="l",-4*J118,IF(H118="w",32*J118))) | L118: =IF(C118="","",SUM($K$2:K118)) -> -48 | N118: =IF(L136="","",IF(L136>=$P$7,"Win Goal !!",IF(L136<=$P$8,"Stopp Loss !!",""))) | Z118: =IF(AND(D117=2,D118=1),3,"") | AA118: =IF(AND(D117=3,D118=1),2,"") | AB118: =IF(AND(D117=1,D118=2),3,"") | AC118: =IF(AND(D117=3,D118=2),1,"") | AD118: =IF(AND(D117=1,D118=3),2,"") | AE118: =IF(AND(D118=2,D118=3),1,"") | AH118: =IF(AND(E117=2,E118=1),3,"") | AI118: =IF(AND(E117=3,E118=1),2,"") | AJ118: =IF(AND(E117=1,E118=2),3,"") -> 3 | AK118: =IF(AND(E117=3,E118=2),1,"") | AL118: =IF(AND(E117=1,E118=3),2,"") | AM118: =IF(AND(E117=2,E118=3),1,"") | AP118: =IF(AND(SUM(AH118:AM118)>0,SUM(Z118:AE118)>0),1,"") | AR118: =IF(AP118=1,SUM(Z118:AE118)*10+SUM(AH118:AM118),"") | AV118: =IF(AP118=1,VLOOKUP(AR118,'Number-Dozzen'!$F$2:$K$10,2,0),"") | AW118: =IF(AP118=1,VLOOKUP(AR118,'Number-Dozzen'!$F$2:$K$10,3,0),"") | AX118: =IF(AP118=1,VLOOKUP(AR118,'Number-Dozzen'!$F$2:$K$10,4,0),"") | AY118: =IF(AP118=1,VLOOKUP(AR118,'Number-Dozzen'!$F$2:$K$10,5,0),"") | AZ118: =IF(AP118=1,VLOOKUP(AR118,'Number-Dozzen'!$F$2:$K$10,6,0),"") | BB118: =IF(H118="L",BB117+1,IF(H118="w",1,BB117)) -> 5
