Workbook

Sheet Tabelle1
V1: l1 | W1: l2 | X1: l3 | Y1: l4 | Z1: l5 | AA1: l6
C2: Line | G2: Pro | H2: Balance | K2: BET
B3: =RANDBETWEEN(0,36) -> 9 | C3: =IF(B3="","",VLOOKUP(B3,Tabelle2!$D$1:$E$37,2,0)) -> 2
B4: =RANDBETWEEN(0,36) -> 25 | C4: =IF(B4="","",VLOOKUP(B4,Tabelle2!$D$1:$E$37,2,0)) -> 5 | F4: =IF(F3="L2","New",IF(AND(D4="l",D3="w"),"L1",IF(AND(D4="l",D3="l",D2="W"),"L2",""))) | V4: =C4 -> 5 | W4: =C3 -> 2 | X4: =C2 -> Line | Y4: =C1 -> 0 | Z4: =#REF! -> #REF! | AA4: =#REF! -> #REF!
B5: =RANDBETWEEN(0,36) -> 2 | C5: =IF(B5="","",VLOOKUP(B5,Tabelle2!$D$1:$E$37,2,0)) -> 1 | F5: =IF(F4="L2","New",IF(AND(D5="l",D4="w"),"L1",IF(AND(D5="l",D4="l",D3="W"),"L2",""))) | V5: =C5 -> 1 | W5: =C4 -> 5 | X5: =C3 -> 2 | Y5: =C2 -> Line | Z5: =C1 -> 0 | AA5: =#REF! -> #REF! | AC5: Wins | AD5: =COUNTIF(E:E,"W") -> 1547
B6: =RANDBETWEEN(0,36) -> 12 | C6: =IF(B6="","",VLOOKUP(B6,Tabelle2!$D$1:$E$37,2,0)) -> 2 | D6: w | F6: new | P6: =COUNTIF(R6:T6,1)+COUNTIF(R6:T6,2)+COUNTIF(R6:T6,3)+COUNTIF(R6:T6,4)+COUNTIF(R6:T6,5)+COUNTIF(R6:T6,6) -> 3 | R6: =V6 -> 2 | S6: =IF(AND(W6<>0,W6<>V6),W6,IF(AND(X6<>0,X6<>V6),X6,IF(AND(Y6<>0,Y6<>V6),Y6,IF(AND(Z6<>0,Z6<>V6),Z6,IF(AND(AA6<>0,AA6<>V6),AA6))))) -> 1 | T6: =IF(AND(X6<>0,X6<>S6,X6<>R6),X6,IF(AND(Y6<>0,Y6<>R6,Y6<>S6),Y6,IF(AND(Z6<>0,Z6<>R6,Z6<>S6),Z6,IF(AND(AA6<>0,AA6<>R6,AA6<>S6),AA6,"")))) -> 5 | V6: =C6 -> 2 | W6: =C5 -> 1 | X6: =C4 -> 5 | Y6: =C3 -> 2 | Z6: =C2 -> Line | AA6: =C1 -> 0 | AC6: Loses | AD6: =COUNTIF(E:E,"l") -> 1300
B7: =RANDBETWEEN(0,36) -> 21 | C7: =IF(B7="","",VLOOKUP(B7,Tabelle2!$D$1:$E$37,2,0)) -> 4 | D7: =IF(AND(I7=3,OR(C8=K7,C8=L7,C8=M7)),"W",IF(AND(I7=4,OR(C8=K7,C8=L7,C8=M7,C8=N7)),"W","L")) -> L | P7: =COUNTIF(R7:T7,1)+COUNTIF(R7:T7,2)+COUNTIF(R7:T7,3)+COUNTIF(R7:T7,4)+COUNTIF(R7:T7,5)+COUNTIF(R7:T7,6) -> 3 | R7: =V7 -> 4 | S7: =IF(AND(W7<>0,W7<>V7),W7,IF(AND(X7<>0,X7<>V7),X7,IF(AND(Y7<>0,Y7<>V7),Y7,IF(AND(Z7<>0,Z7<>V7),Z7,IF(AND(AA7<>0,AA7<>V7),AA7))))) -> 2 | T7: =IF(AND(X7<>0,X7<>S7,X7<>R7),X7,IF(AND(Y7<>0,Y7<>R7,Y7<>S7),Y7,IF(AND(Z7<>0,Z7<>R7,Z7<>S7),Z7,IF(AND(AA7<>0,AA7<>R7,AA7<>S7),AA7,"")))) -> 1 | V7: =C7 -> 4 | W7: =C6 -> 2 | X7: =C5 -> 1 | Y7: =C4 -> 5 | Z7: =C3 -> 2 | AA7: =C2 -> Line
B8: =RANDBETWEEN(0,36) -> 6 | C8: =IF(B8="","",VLOOKUP(B8,Tabelle2!$D$1:$E$37,2,0)) -> 1 | D8: =IF(AND(I8=3,OR(C9=K8,C9=L8,C9=M8)),"W",IF(AND(I8=4,OR(C9=K8,C9=L8,C9=M8,C9=N8)),"W","L")) -> L | E8: =IF(AND(F7="l1",D8="w"),"w",IF(F7="l2","",IF(AND(J8=1,I8>=3),D8,IF(J8=1,"",D8)))) | G8: =IF(AND(E8="w",F7="l1"),2,IF(E8="",0,IF(AND(E8="w",F8=""),3,IF(AND(E8="l",F8="l1"),-3,IF(AND(E8="l",F8="l2"),-4))))) -> 0 | H8: =H7+G8 -> 0 | I8: =COUNTIF(K8:N8,1)+COUNTIF(K8:N8,2)+COUNTIF(K8:N8,3)+COUNTIF(K8:N8,4)+COUNTIF(K8:N8,5)+COUNTIF(K8:N8,6) -> 0 | J8: =IF(OR(F5="New",F4="New",F3="New",F6="New",F7="New",F8="New"),1,"") -> 1 | P8: =COUNTIF(R8:T8,1)+COUNTIF(R8:T8,2)+COUNTIF(R8:T8,3)+COUNTIF(R8:T8,4)+COUNTIF(R8:T8,5)+COUNTIF(R8:T8,6) -> 3 | R8: =V8 -> 1 | S8: =IF(AND(W8<>0,W8<>V8),W8,IF(AND(X8<>0,X8<>V8),X8,IF(AND(Y8<>0,Y8<>V8),Y8,IF(AND(Z8<>0,Z8<>V8),Z8,IF(AND(AA8<>0,AA8<>V8),AA8))))) -> 4 | T8: =IF(AND(X8<>0,X8<>S8,X8<>R8),X8,IF(AND(Y8<>0,Y8<>R8,Y8<>S8),Y8,IF(AND(Z8<>0,Z8<>R8,Z8<>S8),Z8,IF(AND(AA8<>0,AA8<>R8,AA8<>S8),AA8,"")))) -> 2 | V8: =C8 -> 1 | W8: =C7 -> 4 | X8: =C6 -> 2 | Y8: =C5 -> 1 | Z8: =C4 -> 5 | AA8: =C3 -> 2 | AC8: Wins | AD8: =AD5/(AD5+AD6)*100 -> 54.3379
B9: =RANDBETWEEN(0,36) -> 2 | C9: =IF(B9="","",VLOOKUP(B9,Tabelle2!$D$1:$E$37,2,0)) -> 1 | D9: =IF(AND(I9=3,OR(C10=K9,C10=L9,C10=M9)),"W",IF(AND(I9=4,OR(C10=K9,C10=L9,C10=M9,C10=N9)),"W","L")) -> W | E9: =IF(AND(F8="l1",D9="w"),"w",IF(F8="l2","",IF(AND(J9=1,I9>=3),D9,IF(J9=1,"",D9)))) -> W | F9: =IF(AND(F8="l1",I9>3,D9="l"),"L2",IF(I9<3,"",IF(AND(D9="l",I9=3,F8=""),"l1",IF(F8="L2","New",IF(AND(D9="l",D8="w"),"L1",IF(AND(D9="l",D8="l",D7="W"),"L2","")))))) | G9: =IF(AND(E9="w",F8="l1"),2,IF(E9="",0,IF(AND(E9="w",F9=""),3,IF(AND(E9="l",F9="l1"),-3,IF(AND(E9="l",F9="l2"),-4))))) -> 3 | H9: =H8+G9 -> 3 | I9: =COUNTIF(K9:N9,1)+COUNTIF(K9:N9,2)+COUNTIF(K9:N9,3)+COUNTIF(K9:N9,4)+COUNTIF(K9:N9,5)+COUNTIF(K9:N9,6) -> 3 | J9: =IF(OR(F6="New",F5="New",F4="New",F7="New",F8="New",F9="New"),1,"") -> 1 | K9: =IF(AND(F8="New",P9>=1),R9,IF(AND(F8="l1",I8=3),K8,IF(D7="w",K8,IF(D8="w",K8,IF(V9<>0,V9,IF(W9<>0,W9,IF(X9<>0,X9,IF(Y9<>0,Y9,IF(Z9<>0,Z9,IF(AA9<>0,AA9,"")))))))))) -> 1 | L9: =IF(AND(F8="New",P9=1),"",IF(AND(F8="New",P9>=2),S9,IF(AND(F8="l1",I8=3),L8,IF(D7="w",L8,IF(D8="w",L8,IF(F8="l1",L8,IF(AND(W9<>0,W9<>K9),W9,IF(AND(X9<>0,X9<>K9),X9,IF(AND(Y9<>0,Y9<>K9),Y9,IF(AND(Z9<>0,Z9<>K9),Z9,IF(AND(AA9<>0,AA9<>K9),AA9))))))))))) -> 4 | M9: =IF(AND(F8="New",P9=1),"",IF(AND(F8="New",P9=2),"",IF(AND(F8="New",P9=3),T9,IF(AND(F8="l1",I8=3),M8,IF(D7="w",M8,IF(D8="w",M8,IF(AND(X9<>0,X9<>K9,X9<>L9),X9,IF(AND(Y9<>0,Y9<>K9,Y9<>L9),Y9,IF(AND(Z9<>0,Z9<>K9,Z9<>L9),Z9,IF(AND(AA9<>0,AA9<>K9,AA9<>L9),AA9,"")))))))))) -> 2 | N9: =IF(N8<>"","",IF(AND(R9<>K9,R9<>L9,R9<>M9,R9<>0),R9,"")) | P9: =COUNTIF(R9:T9,1)+COUNTIF(R9:T9,2)+COUNTIF(R9:T9,3)+COUNTIF(R9:T9,4)+COUNTIF(R9:T9,5)+COUNTIF(R9:T9,6) -> 3 | R9: =V9 -> 1 | S9: =IF(AND(W9<>0,W9<>V9),W9,IF(AND(X9<>0,X9<>V9),X9,IF(AND(Y9<>0,Y9<>V9),Y9,IF(AND(Z9<>0,Z9<>V9),Z9,IF(AND(AA9<>0,AA9<>V9),AA9))))) -> 4 | T9: =IF(AND(X9<>0,X9<>S9,X9<>R9),X9,IF(AND(Y9<>0,Y9<>R9,Y9<>S9),Y9,IF(AND(Z9<>0,Z9<>R9,Z9<>S9),Z9,IF(AND(AA9<>0,AA9<>R9,AA9<>S9),AA9,"")))) -> 2 | V9: =C9 -> 1 | W9: =C8 -> 1 | X9: =C7 -> 4 | Y9: =C6 -> 2 | Z9: =C5 -> 1 | AA9: =C4 -> 5 | AC9: %
B10: =RANDBETWEEN(0,36) -> 20 | C10: =IF(B10="","",VLOOKUP(B10,Tabelle2!$D$1:$E$37,2,0)) -> 4 | D10: =IF(AND(I10=3,OR(C11=K10,C11=L10,C11=M10)),"W",IF(AND(I10=4,OR(C11=K10,C11=L10,C11=M10,C11=N10)),"W","L")) -> W | E10: =IF(AND(F9="l1",D10="w"),"w",IF(F9="l2","",IF(AND(J10=1,I10>=3),D10,IF(J10=1,"",D10)))) -> W | F10: =IF(AND(F9="l1",I10>3,D10="l"),"L2",IF(I10<3,"",IF(AND(D10="l",I10=3,F9=""),"l1",IF(F9="L2","New",IF(AND(D10="l",D9="w"),"L1",IF(AND(D10="l",D9="l",D8="W"),"L2","")))))) | G10: =IF(AND(E10="w",F9="l1"),2,IF(E10="",0,IF(AND(E10="w",F10=""),3,IF(AND(E10="l",F10="l1"),-3,IF(AND(E10="l",F10="l2"),-4))))) -> 3 | H10: =H9+G10 -> 6 | I10: =COUNTIF(K10:N10,1)+COUNTIF(K10:N10,2)+COUNTIF(K10:N10,3)+COUNTIF(K10:N10,4)+COUNTIF(K10:N10,5)+COUNTIF(K10:N10,6) -> 3 | J10: =IF(OR(F7="New",F6="New",F5="New",F8="New",F9="New",F10="New"),1,"") -> 1 | K10: =IF(AND(F9="New",P10>=1),R10,IF(AND(F9="l1",I9=3),K9,IF(D8="w",K9,IF(D9="w",K9,IF(V10<>0,V10,IF(W10<>0,W10,IF(X10<>0,X10,IF(Y10<>0,Y10,IF(Z10<>0,Z10,IF(AA10<>0,AA10,"")))))))))) -> 1 | L10: =IF(AND(F9="New",P10=1),"",IF(AND(F9="New",P10>=2),S10,IF(AND(F9="l1",I9=3),L9,IF(D8="w",L9,IF(D9="w",L9,IF(F9="l1",L9,IF(AND(W10<>0,W10<>K10),W10,IF(AND(X10<>0,X10<>K10),X10,IF(AND(Y10<>0,Y10<>K10),Y10,IF(AND(Z10<>0,Z10<>K10),Z10,IF(AND(AA10<>0,AA10<>K10),AA10))))))))))) -> 4 | M10: =IF(AND(F9="New",P10=1),"",IF(AND(F9="New",P10=2),"",IF(AND(F9="New",P10=3),T10,IF(AND(F9="l1",I9=3),M9,IF(D8="w",M9,IF(D9="w",M9,IF(AND(X10<>0,X10<>K10,X10<>L10),X10,IF(AND(Y10<>0,Y10<>K10,Y10<>L10),Y10,IF(AND(Z10<>0,Z10<>K10,Z10<>L10),Z10,IF(AND(AA10<>0,AA10<>K10,AA10<>L10),AA10,"")))))))))) -> 2 | N10: =IF(N9<>"","",IF(AND(R10<>K10,R10<>L10,R10<>M10,R10<>0),R10,"")) | P10: =COUNTIF(R10:T10,1)+COUNTIF(R10:T10,2)+COUNTIF(R10:T10,3)+COUNTIF(R10:T10,4)+COUNTIF(R10:T10,5)+COUNTIF(R10:T10,6) -> 3 | R10: =V10 -> 4 | S10: =IF(AND(W10<>0,W10<>V10),W10,IF(AND(X10<>0,X10<>V10),X10,IF(AND(Y10<>0,Y10<>V10),Y10,IF(AND(Z10<>0,Z10<>V10),Z10,IF(AND(AA10<>0,AA10<>V10),AA10))))) -> 1 | T10: =IF(AND(X10<>0,X10<>S10,X10<>R10),X10,IF(AND(Y10<>0,Y10<>R10,Y10<>S10),Y10,IF(AND(Z10<>0,Z10<>R10,Z10<>S10),Z10,IF(AND(AA10<>0,AA10<>R10,AA10<>S10),AA10,"")))) -> 2 | V10: =C10 -> 4 | W10: =IF(F9="New","",C9) -> 1 | X10: =IF(F9="New","",C8) -> 1 | Y10: =IF(F9="New","",C7) -> 4 | Z10: =IF(F9="New","",C6) -> 2 | AA10: =IF(F9="New","",C5) -> 1 | AC10: Loses | AD10: =AD6/(AD5+AD6)*100 -> 45.6621
B11: =RANDBETWEEN(0,36) -> 19 | C11: =IF(B11="","",VLOOKUP(B11,Tabelle2!$D$1:$E$37,2,0)) -> 4 | D11: =IF(AND(I11=3,OR(C12=K11,C12=L11,C12=M11)),"W",IF(AND(I11=4,OR(C12=K11,C12=L11,C12=M11,C12=N11)),"W","L")) -> L | E11: =IF(AND(F10="l1",D11="w"),"w",IF(F10="l2","",IF(AND(J11=1,I11>=3),D11,IF(J11=1,"",D11)))) -> L | F11: =IF(AND(F10="l1",I11>3,D11="l"),"L2",IF(I11<3,"",IF(AND(D11="l",I11=3,F10=""),"l1",IF(F10="L2","New",IF(AND(D11="l",D10="w"),"L1",IF(AND(D11="l",D10="l",D9="W"),"L2","")))))) -> l1 | G11: =IF(AND(E11="w",F10="l1"),2,IF(E11="",0,IF(AND(E11="w",F11=""),3,IF(AND(E11="l",F11="l1"),-3,IF(AND(E11="l",F11="l2"),-4))))) -> -3 | H11: =H10+G11 -> 3 | I11: =COUNTIF(K11:N11,1)+COUNTIF(K11:N11,2)+COUNTIF(K11:N11,3)+COUNTIF(K11:N11,4)+COUNTIF(K11:N11,5)+COUNTIF(K11:N11,6) -> 3 | J11: =IF(OR(F8="New",F7="New",F6="New",F9="New",F10="New",F11="New"),1,"") -> 1 | K11: =IF(AND(F10="New",P11>=1),R11,IF(AND(F10="l1",I10=3),K10,IF(D9="w",K10,IF(D10="w",K10,IF(V11<>0,V11,IF(W11<>0,W11,IF(X11<>0,X11,IF(Y11<>0,Y11,IF(Z11<>0,Z11,IF(AA11<>0,AA11,"")))))))))) -> 1 | L11: =IF(AND(F10="New",P11=1),"",IF(AND(F10="New",P11>=2),S11,IF(AND(F10="l1",I10=3),L10,IF(D9="w",L10,IF(D10="w",L10,IF(F10="l1",L10,IF(AND(W11<>0,W11<>K11),W11,IF(AND(X11<>0,X11<>K11),X11,IF(AND(Y11<>0,Y11<>K11),Y11,IF(AND(Z11<>0,Z11<>K11),Z11,IF(AND(AA11<>0,AA11<>K11),AA11))))))))))) -> 4 | M11: =IF(AND(F10="New",P11=1),"",IF(AND(F10="New",P11=2),"",IF(AND(F10="New",P11=3),T11,IF(AND(F10="l1",I10=3),M10,IF(D9="w",M10,IF(D10="w",M10,IF(AND(X11<>0,X11<>K11,X11<>L11),X11,IF(AND(Y11<>0,Y11<>K11,Y11<>L11),Y11,IF(AND(Z11<>0,Z11<>K11,Z11<>L11),Z11,IF(AND(AA11<>0,AA11<>K11,AA11<>L11),AA11,"")))))))))) -> 2 | N11: =IF(N10<>"","",IF(AND(R11<>K11,R11<>L11,R11<>M11,R11<>0),R11,"")) | P11: =COUNTIF(R11:T11,1)+COUNTIF(R11:T11,2)+COUNTIF(R11:T11,3)+COUNTIF(R11:T11,4)+COUNTIF(R11:T11,5)+COUNTIF(R11:T11,6) -> 3 | R11: =V11 -> 4 | S11: =IF(AND(W11<>0,W11<>V11),W11,IF(AND(X11<>0,X11<>V11),X11,IF(AND(Y11<>0,Y11<>V11),Y11,IF(AND(Z11<>0,Z11<>V11),Z11,IF(AND(AA11<>0,AA11<>V11),AA11))))) -> 1 | T11: =IF(AND(X11<>0,X11<>S11,X11<>R11),X11,IF(AND(Y11<>0,Y11<>R11,Y11<>S11),Y11,IF(AND(Z11<>0,Z11<>R11,Z11<>S11),Z11,IF(AND(AA11<>0,AA11<>R11,AA11<>S11),AA11,"")))) -> 2 | V11: =C11 -> 4 | W11: =IF(F10="New","",C10) -> 4 | X11: =IF(F9="New","",IF(F10="New","",C9)) -> 1 | Y11: =IF(F9="New","",IF(F10="New","",C8)) -> 1 | Z11: =IF(F9="New","",IF(F10="New","",C7)) -> 4 | AA11: =IF(F9="New","",IF(F10="New","",C6)) -> 2 | AC11: %
B12: =RANDBETWEEN(0,36) -> 26 | C12: =IF(B12="","",VLOOKUP(B12,Tabelle2!$D$1:$E$37,2,0)) -> 5 | D12: =IF(AND(I12=3,OR(C13=K12,C13=L12,C13=M12)),"W",IF(AND(I12=4,OR(C13=K12,C13=L12,C13=M12,C13=N12)),"W","L")) -> L | E12: =IF(AND(F11="l1",D12="w"),"w",IF(F11="l2","",IF(AND(J12=1,I12>=3),D12,IF(J12=1,"",D12)))) -> L | F12: =IF(AND(F11="l1",I12>3,D12="l"),"L2",IF(I12<3,"",IF(AND(D12="l",I12=3,F11=""),"l1",IF(F11="L2","New",IF(AND(D12="l",D11="w"),"L1",IF(AND(D12="l",D11="l",D10="W"),"L2","")))))) -> L2 | G12: =IF(AND(E12="w",F11="l1"),2,IF(E12="",0,IF(AND(E12="w",F12=""),3,IF(AND(E12="l",F12="l1"),-3,IF(AND(E12="l",F12="l2"),-4))))) -> -4 | H12: =H11+G12 -> -1 | I12: =COUNTIF(K12:N12,1)+COUNTIF(K12:N12,2)+COUNTIF(K12:N12,3)+COUNTIF(K12:N12,4)+COUNTIF(K12:N12,5)+COUNTIF(K12:N12,6) -> 4 | J12: =IF(OR(F9="New",F8="New",F7="New",F10="New",F11="New",F12="New"),1,"") | K12: =IF(AND(F11="New",P12>=1),R12,IF(AND(F11="l1",I11=3),K11,IF(D10="w",K11,IF(D11="w",K11,IF(V12<>0,V12,IF(W12<>0,W12,IF(X12<>0,X12,IF(Y12<>0,Y12,IF(Z12<>0,Z12,IF(AA12<>0,AA12,"")))))))))) -> 1 | L12: =IF(AND(F11="New",P12=1),"",IF(AND(F11="New",P12>=2),S12,IF(AND(F11="l1",I11=3),L11,IF(D10="w",L11,IF(D11="w",L11,IF(F11="l1",L11,IF(AND(W12<>0,W12<>K12),W12,IF(AND(X12<>0,X12<>K12),X12,IF(AND(Y12<>0,Y12<>K12),Y12,IF(AND(Z12<>0,Z12<>K12),Z12,IF(AND(AA12<>0,AA12<>K12),AA12))))))))))) -> 4 | M12: =IF(AND(F11="New",P12=1),"",IF(AND(F11="New",P12=2),"",IF(AND(F11="New",P12=3),T12,IF(AND(F11="l1",I11=3),M11,IF(D10="w",M11,IF(D11="w",M11,IF(AND(X12<>0,X12<>K12,X12<>L12),X12,IF(AND(Y12<>0,Y12<>K12,Y12<>L12),Y12,IF(AND(Z12<>0,Z12<>K12,Z12<>L12),Z12,IF(AND(AA12<>0,AA12<>K12,AA12<>L12),AA12,"")))))))))) -> 2 | N12: =IF(N11<>"","",IF(AND(R12<>K12,R12<>L12,R12<>M12,R12<>0),R12,"")) -> 5 | P12: =COUNTIF(R12:T12,1)+COUNTIF(R12:T12,2)+COUNTIF(R12:T12,3)+COUNTIF(R12:T12,4)+COUNTIF(R12:T12,5)+COUNTIF(R12:T12,6) -> 3 | R12: =V12 -> 5 | S12: =IF(AND(W12<>0,W12<>V12),W12,IF(AND(X12<>0,X12<>V12),X12,IF(AND(Y12<>0,Y12<>V12),Y12,IF(AND(Z12<>0,Z12<>V12),Z12,IF(AND(AA12<>0,AA12<>V12),AA12))))) -> 4 | T12: =IF(AND(X12<>0,X12<>S12,X12<>R12),X12,IF(AND(Y12<>0,Y12<>R12,Y12<>S12),Y12,IF(AND(Z12<>0,Z12<>R12,Z12<>S12),Z12,IF(AND(AA12<>0,AA12<>R12,AA12<>S12),AA12,"")))) -> 1 | V12: =C12 -> 5 | W12: =IF(F11="New","",C11) -> 4 | X12: =IF(F10="New","",IF(F11="New","",C10)) -> 4 | Y12: =IF(F9="New","",IF(F10="New","",IF(F11="New","",C9))) -> 1 | Z12: =IF(F9="New","",IF(F10="New","",IF(F11="New","",C8))) -> 1 | AA12: =IF(F9="New","",IF(F10="New","",IF(F11="New","",C7))) -> 4
B13: =RANDBETWEEN(0,36) -> 18 | C13: =IF(B13="","",VLOOKUP(B13,Tabelle2!$D$1:$E$37,2,0)) -> 3 | D13: =IF(AND(I13=3,OR(C14=K13,C14=L13,C14=M13)),"W",IF(AND(I13=4,OR(C14=K13,C14=L13,C14=M13,C14=N13)),"W","L")) -> L | E13: =IF(AND(F12="l1",D13="w"),"w",IF(F12="l2","",IF(AND(J13=1,I13>=3),D13,IF(J13=1,"",D13)))) | F13: =IF(AND(F12="l1",I13>3,D13="l"),"L2",IF(I13<3,"",IF(AND(D13="l",I13=3,F12=""),"l1",IF(F12="L2","New",IF(AND(D13="l",D12="w"),"L1",IF(AND(D13="l",D12="l",D11="W"),"L2","")))))) -> New | G13: =IF(AND(E13="w",F12="l1"),2,IF(E13="",0,IF(AND(E13="w",F13=""),3,IF(AND(E13="l",F13="l1"),-3,IF(AND(E13="l",F13="l2"),-4))))) -> 0 | H13: =H12+G13 -> -1 | I13: =COUNTIF(K13:N13,1)+COUNTIF(K13:N13,2)+COUNTIF(K13:N13,3)+COUNTIF(K13:N13,4)+COUNTIF(K13:N13,5)+COUNTIF(K13:N13,6) -> 3 | J13: =IF(OR(F10="New",F9="New",F8="New",F11="New",F12="New",F13="New"),1,"") -> 1 | K13: =IF(AND(F12="New",P13>=1),R13,IF(AND(F12="l1",I12=3),K12,IF(D11="w",K12,IF(D12="w",K12,IF(V13<>0,V13,IF(W13<>0,W13,IF(X13<>0,X13,IF(Y13<>0,Y13,IF(Z13<>0,Z13,IF(AA13<>0,AA13,"")))))))))) -> 3 | L13: =IF(AND(F12="New",P13=1),"",IF(AND(F12="New",P13>=2),S13,IF(AND(F12="l1",I12=3),L12,IF(D11="w",L12,IF(D12="w",L12,IF(F12="l1",L12,IF(AND(W13<>0,W13<>K13),W13,IF(AND(X13<>0,X13<>K13),X13,IF(AND(Y13<>0,Y13<>K13),Y13,IF(AND(Z13<>0,Z13<>K13),Z13,IF(AND(AA13<>0,AA13<>K13),AA13))))))))))) -> 5 | M13: =IF(AND(F12="New",P13=1),"",IF(AND(F12="New",P13=2),"",IF(AND(F12="New",P13=3),T13,IF(AND(F12="l1",I12=3),M12,IF(D11="w",M12,IF(D12="w",M12,IF(AND(X13<>0,X13<>K13,X13<>L13),X13,IF(AND(Y13<>0,Y13<>K13,Y13<>L13),Y13,IF(AND(Z13<>0,Z13<>K13,Z13<>L13),Z13,IF(AND(AA13<>0,AA13<>K13,AA13<>L13),AA13,"")))))))))) -> 4 | N13: =IF(N12<>"","",IF(AND(R13<>K13,R13<>L13,R13<>M13,R13<>0),R13,"")) | P13: =COUNTIF(R13:T13,1)+COUNTIF(R13:T13,2)+COUNTIF(R13:T13,3)+COUNTIF(R13:T13,4)+COUNTIF(R13:T13,5)+COUNTIF(R13:T13,6) -> 3 | R13: =V13 -> 3 | S13: =IF(AND(W13<>0,W13<>V13),W13,IF(AND(X13<>0,X13<>V13),X13,IF(AND(Y13<>0,Y13<>V13),Y13,IF(AND(Z13<>0,Z13<>V13),Z13,IF(AND(AA13<>0,AA13<>V13),AA13))))) -> 5 | T13: =IF(AND(X13<>0,X13<>S13,X13<>R13),X13,IF(AND(Y13<>0,Y13<>R13,Y13<>S13),Y13,IF(AND(Z13<>0,Z13<>R13,Z13<>S13),Z13,IF(AND(AA13<>0,AA13<>R13,AA13<>S13),AA13,"")))) -> 4 | V13: =C13 -> 3 | W13: =IF(F12="New","",C12) -> 5 | X13: =IF(F11="New","",IF(F12="New","",C11)) -> 4 | Y13: =IF(F10="New","",IF(F11="New","",IF(F12="New","",C10))) -> 4 | Z13: =IF(F9="New","",IF(F10="New","",IF(F11="New","",IF(F12="New","",C9)))) -> 1 | AA13: =IF(F9="New","",IF(F10="New","",IF(F11="New","",IF(F12="New","",C8)))) -> 1 | AC13: Max | AD13: =MAX(H:H) -> 84
B14: =RANDBETWEEN(0,36) -> 35 | C14: =IF(B14="","",VLOOKUP(B14,Tabelle2!$D$1:$E$37,2,0)) -> 6 | D14: =IF(AND(I14=3,OR(C15=K14,C15=L14,C15=M14)),"W",IF(AND(I14=4,OR(C15=K14,C15=L14,C15=M14,C15=N14)),"W","L")) -> L | E14: =IF(AND(F13="l1",D14="w"),"w",IF(F13="l2","",IF(AND(J14=1,I14>=3),D14,IF(J14=1,"",D14)))) | F14: =IF(AND(F13="l1",I14>3,D14="l"),"L2",IF(I14<3,"",IF(AND(D14="l",I14=3,F13=""),"l1",IF(F13="L2","New",IF(AND(D14="l",D13="w"),"L1",IF(AND(D14="l",D13="l",D12="W"),"L2","")))))) | G14: =IF(AND(E14="w",F13="l1"),2,IF(E14="",0,IF(AND(E14="w",F14=""),3,IF(AND(E14="l",F14="l1"),-3,IF(AND(E14="l",F14="l2"),-4))))) -> 0 | H14: =H13+G14 -> -1 | I14: =COUNTIF(K14:N14,1)+COUNTIF(K14:N14,2)+COUNTIF(K14:N14,3)+COUNTIF(K14:N14,4)+COUNTIF(K14:N14,5)+COUNTIF(K14:N14,6) -> 1 | J14: =IF(OR(F11="New",F10="New",F9="New",F12="New",F13="New",F14="New"),1,"") -> 1 | K14: =IF(AND(F13="New",P14>=1),R14,IF(AND(F13="l1",I13=3),K13,IF(D12="w",K13,IF(D13="w",K13,IF(V14<>0,V14,IF(W14<>0,W14,IF(X14<>0,X14,IF(Y14<>0,Y14,IF(Z14<>0,Z14,IF(AA14<>0,AA14,"")))))))))) -> 6 | L14: =IF(AND(F13="New",P14=1),"",IF(AND(F13="New",P14>=2),S14,IF(AND(F13="l1",I13=3),L13,IF(D12="w",L13,IF(D13="w",L13,IF(F13="l1",L13,IF(AND(W14<>0,W14<>K14),W14,IF(AND(X14<>0,X14<>K14),X14,IF(AND(Y14<>0,Y14<>K14),Y14,IF(AND(Z14<>0,Z14<>K14),Z14,IF(AND(AA14<>0,AA14<>K14),AA14))))))))))) | M14: =IF(AND(F13="New",P14=1),"",IF(AND(F13="New",P14=2),"",IF(AND(F13="New",P14=3),T14,IF(AND(F13="l1",I13=3),M13,IF(D12="w",M13,IF(D13="w",M13,IF(AND(X14<>0,X14<>K14,X14<>L14),X14,IF(AND(Y14<>0,Y14<>K14,Y14<>L14),Y14,IF(AND(Z14<>0,Z14<>K14,Z14<>L14),Z14,IF(AND(AA14<>0,AA14<>K14,AA14<>L14),AA14,"")))))))))) | N14: =IF(N13<>"","",IF(AND(R14<>K14,R14<>L14,R14<>M14,R14<>0),R14,"")) | P14: =COUNTIF(R14:T14,1)+COUNTIF(R14:T14,2)+COUNTIF(R14:T14,3)+COUNTIF(R14:T14,4)+COUNTIF(R14:T14,5)+COUNTIF(R14:T14,6) -> 1 | R14: =V14 -> 6 | S14: =IF(AND(W14<>0,W14<>V14),W14,IF(AND(X14<>0,X14<>V14),X14,IF(AND(Y14<>0,Y14<>V14),Y14,IF(AND(Z14<>0,Z14<>V14),Z14,IF(AND(AA14<>0,AA14<>V14),AA14))))) | T14: =IF(AND(X14<>0,X14<>S14,X14<>R14),X14,IF(AND(Y14<>0,Y14<>R14,Y14<>S14),Y14,IF(AND(Z14<>0,Z14<>R14,Z14<>S14),Z14,IF(AND(AA14<>0,AA14<>R14,AA14<>S14),AA14,"")))) | V14: =C14 -> 6 | W14: =IF(F13="New","",C13) | X14: =IF(F12="New","",IF(F13="New","",C12)) | Y14: =IF(F11="New","",IF(F12="New","",IF(F13="New","",C11))) | Z14: =IF(F10="New","",IF(F11="New","",IF(F12="New","",IF(F13="New","",C10)))) | AA14: =IF(F9="New","",IF(F10="New","",IF(F11="New","",IF(F12="New","",IF(F13="New","",C9))))) | AC14: Min | AD14: =MIN(H:H) -> -163
B15: =RANDBETWEEN(0,36) -> 7 | C15: =IF(B15="","",VLOOKUP(B15,Tabelle2!$D$1:$E$37,2,0)) -> 2 | D15: =IF(AND(I15=3,OR(C16=K15,C16=L15,C16=M15)),"W",IF(AND(I15=4,OR(C16=K15,C16=L15,C16=M15,C16=N15)),"W","L")) -> L | E15: =IF(AND(F14="l1",D15="w"),"w",IF(F14="l2","",IF(AND(J15=1,I15>=3),D15,IF(J15=1,"",D15)))) | F15: =IF(AND(F14="l1",I15>3,D15="l"),"L2",IF(I15<3,"",IF(AND(D15="l",I15=3,F14=""),"l1",IF(F14="L2","New",IF(AND(D15="l",D14="w"),"L1",IF(AND(D15="l",D14="l",D13="W"),"L2","")))))) | G15: =IF(AND(E15="w",F14="l1"),2,IF(E15="",0,IF(AND(E15="w",F15=""),3,IF(AND(E15="l",F15="l1"),-3,IF(AND(E15="l",F15="l2"),-4))))) -> 0 | H15: =H14+G15 -> -1 | I15: =COUNTIF(K15:N15,1)+COUNTIF(K15:N15,2)+COUNTIF(K15:N15,3)+COUNTIF(K15:N15,4)+COUNTIF(K15:N15,5)+COUNTIF(K15:N15,6) -> 2 | J15: =IF(OR(F12="New",F11="New",F10="New",F13="New",F14="New",F15="New"),1,"") -> 1 | K15: =IF(AND(F14="New",P15>=1),R15,IF(AND(F14="l1",I14=3),K14,IF(D13="w",K14,IF(D14="w",K14,IF(V15<>0,V15,IF(W15<>0,W15,IF(X15<>0,X15,IF(Y15<>0,Y15,IF(Z15<>0,Z15,IF(AA15<>0,AA15,"")))))))))) -> 2 | L15: =IF(AND(F14="New",P15=1),"",IF(AND(F14="New",P15>=2),S15,IF(AND(F14="l1",I14=3),L14,IF(D13="w",L14,IF(D14="w",L14,IF(F14="l1",L14,IF(AND(W15<>0,W15<>K15),W15,IF(AND(X15<>0,X15<>K15),X15,IF(AND(Y15<>0,Y15<>K15),Y15,IF(AND(Z15<>0,Z15<>K15),Z15,IF(AND(AA15<>0,AA15<>K15),AA15))))))))))) -> 6 | M15: =IF(AND(F14="New",P15=1),"",IF(AND(F14="New",P15=2),"",IF(AND(F14="New",P15=3),T15,IF(AND(F14="l1",I14=3),M14,IF(D13="w",M14,IF(D14="w",M14,IF(AND(X15<>0,X15<>K15,X15<>L15),X15,IF(AND(Y15<>0,Y15<>K15,Y15<>L15),Y15,IF(AND(Z15<>0,Z15<>K15,Z15<>L15),Z15,IF(AND(AA15<>0,AA15<>K15,AA15<>L15),AA15,"")))))))))) | N15: =IF(N14<>"","",IF(AND(R15<>K15,R15<>L15,R15<>M15,R15<>0),R15,"")) | P15: =COUNTIF(R15:T15,1)+COUNTIF(R15:T15,2)+COUNTIF(R15:T15,3)+COUNTIF(R15:T15,4)+COUNTIF(R15:T15,5)+COUNTIF(R15:T15,6) -> 2 | R15: =V15 -> 2 | S15: =IF(AND(W15<>0,W15<>V15),W15,IF(AND(X15<>0,X15<>V15),X15,IF(AND(Y15<>0,Y15<>V15),Y15,IF(AND(Z15<>0,Z15<>V15),Z15,IF(AND(AA15<>0,AA15<>V15),AA15))))) -> 6 | T15: =IF(AND(X15<>0,X15<>S15,X15<>R15),X15,IF(AND(Y15<>0,Y15<>R15,Y15<>S15),Y15,IF(AND(Z15<>0,Z15<>R15,Z15<>S15),Z15,IF(AND(AA15<>0,AA15<>R15,AA15<>S15),AA15,"")))) | V15: =C15 -> 2 | W15: =IF(F14="New","",C14) -> 6 | X15: =IF(F13="New","",IF(F14="New","",C13)) | Y15: =IF(F12="New","",IF(F13="New","",IF(F14="New","",C12))) | Z15: =IF(F11="New","",IF(F12="New","",IF(F13="New","",IF(F14="New","",C11)))) | AA15: =IF(F10="New","",IF(F11="New","",IF(F12="New","",IF(F13="New","",IF(F14="New","",C10)))))
B16: =RANDBETWEEN(0,36) -> 36 | C16: =IF(B16="","",VLOOKUP(B16,Tabelle2!$D$1:$E$37,2,0)) -> 6 | D16: =IF(AND(I16=3,OR(C17=K16,C17=L16,C17=M16)),"W",IF(AND(I16=4,OR(C17=K16,C17=L16,C17=M16,C17=N16)),"W","L")) -> L | E16: =IF(AND(F15="l1",D16="w"),"w",IF(F15="l2","",IF(AND(J16=1,I16>=3),D16,IF(J16=1,"",D16)))) | F16: =IF(AND(F15="l1",I16>3,D16="l"),"L2",IF(I16<3,"",IF(AND(D16="l",I16=3,F15=""),"l1",IF(F15="L2","New",IF(AND(D16="l",D15="w"),"L1",IF(AND(D16="l",D15="l",D14="W"),"L2","")))))) | G16: =IF(AND(E16="w",F15="l1"),2,IF(E16="",0,IF(AND(E16="w",F16=""),3,IF(AND(E16="l",F16="l1"),-3,IF(AND(E16="l",F16="l2"),-4))))) -> 0 | H16: =H15+G16 -> -1 | I16: =COUNTIF(K16:N16,1)+COUNTIF(K16:N16,2)+COUNTIF(K16:N16,3)+COUNTIF(K16:N16,4)+COUNTIF(K16:N16,5)+COUNTIF(K16:N16,6) -> 2 | J16: =IF(OR(F13="New",F12="New",F11="New",F14="New",F15="New",F16="New"),1,"") -> 1 | K16: =IF(AND(F15="New",P16>=1),R16,IF(AND(F15="l1",I15=3),K15,IF(D14="w",K15,IF(D15="w",K15,IF(V16<>0,V16,IF(W16<>0,W16,IF(X16<>0,X16,IF(Y16<>0,Y16,IF(Z16<>0,Z16,IF(AA16<>0,AA16,"")))))))))) -> 6 | L16: =IF(AND(F15="New",P16=1),"",IF(AND(F15="New",P16>=2),S16,IF(AND(F15="l1",I15=3),L15,IF(D14="w",L15,IF(D15="w",L15,IF(F15="l1",L15,IF(AND(W16<>0,W16<>K16),W16,IF(AND(X16<>0,X16<>K16),X16,IF(AND(Y16<>0,Y16<>K16),Y16,IF(AND(Z16<>0,Z16<>K16),Z16,IF(AND(AA16<>0,AA16<>K16),AA16))))))))))) -> 2 | M16: =IF(AND(F15="New",P16=1),"",IF(AND(F15="New",P16=2),"",IF(AND(F15="New",P16=3),T16,IF(AND(F15="l1",I15=3),M15,IF(D14="w",M15,IF(D15="w",M15,IF(AND(X16<>0,X16<>K16,X16<>L16),X16,IF(AND(Y16<>0,Y16<>K16,Y16<>L16),Y16,IF(AND(Z16<>0,Z16<>K16,Z16<>L16),Z16,IF(AND(AA16<>0,AA16<>K16,AA16<>L16),AA16,"")))))))))) | N16: =IF(N15<>"","",IF(AND(R16<>K16,R16<>L16,R16<>M16,R16<>0),R16,"")) | P16: =COUNTIF(R16:T16,1)+COUNTIF(R16:T16,2)+COUNTIF(R16:T16,3)+COUNTIF(R16:T16,4)+COUNTIF(R16:T16,5)+COUNTIF(R16:T16,6) -> 2 | R16: =V16 -> 6 | S16: =IF(AND(W16<>0,W16<>V16),W16,IF(AND(X16<>0,X16<>V16),X16,IF(AND(Y16<>0,Y16<>V16),Y16,IF(AND(Z16<>0,Z16<>V16),Z16,IF(AND(AA16<>0,AA16<>V16),AA16))))) -> 2 | T16: =IF(AND(X16<>0,X16<>S16,X16<>R16),X16,IF(AND(Y16<>0,Y16<>R16,Y16<>S16),Y16,IF(AND(Z16<>0,Z16<>R16,Z16<>S16),Z16,IF(AND(AA16<>0,AA16<>R16,AA16<>S16),AA16,"")))) | V16: =C16 -> 6 | W16: =IF(F15="New","",C15) -> 2 | X16: =IF(F14="New","",IF(F15="New","",C14)) -> 6 | Y16: =IF(F13="New","",IF(F14="New","",IF(F15="New","",C13))) | Z16: =IF(F12="New","",IF(F13="New","",IF(F14="New","",IF(F15="New","",C12)))) | AA16: =IF(F11="New","",IF(F12="New","",IF(F13="New","",IF(F14="New","",IF(F15="New","",C11)))))
B17: =RANDBETWEEN(0,36) -> 36 | C17: =IF(B17="","",VLOOKUP(B17,Tabelle2!$D$1:$E$37,2,0)) -> 6 | D17: =IF(AND(I17=3,OR(C18=K17,C18=L17,C18=M17)),"W",IF(AND(I17=4,OR(C18=K17,C18=L17,C18=M17,C18=N17)),"W","L")) -> L | E17: =IF(AND(F16="l1",D17="w"),"w",IF(F16="l2","",IF(AND(J17=1,I17>=3),D17,IF(J17=1,"",D17)))) | F17: =IF(AND(F16="l1",I17>3,D17="l"),"L2",IF(I17<3,"",IF(AND(D17="l",I17=3,F16=""),"l1",IF(F16="L2","New",IF(AND(D17="l",D16="w"),"L1",IF(AND(D17="l",D16="l",D15="W"),"L2","")))))) | G17: =IF(AND(E17="w",F16="l1"),2,IF(E17="",0,IF(AND(E17="w",F17=""),3,IF(AND(E17="l",F17="l1"),-3,IF(AND(E17="l",F17="l2"),-4))))) -> 0 | H17: =H16+G17 -> -1 | I17: =COUNTIF(K17:N17,1)+COUNTIF(K17:N17,2)+COUNTIF(K17:N17,3)+COUNTIF(K17:N17,4)+COUNTIF(K17:N17,5)+COUNTIF(K17:N17,6) -> 2 | J17: =IF(OR(F14="New",F13="New",F12="New",F15="New",F16="New",F17="New"),1,"") -> 1 | K17: =IF(AND(F16="New",P17>=1),R17,IF(AND(F16="l1",I16=3),K16,IF(D15="w",K16,IF(D16="w",K16,IF(V17<>0,V17,IF(W17<>0,W17,IF(X17<>0,X17,IF(Y17<>0,Y17,IF(Z17<>0,Z17,IF(AA17<>0,AA17,"")))))))))) -> 6 | L17: =IF(AND(F16="New",P17=1),"",IF(AND(F16="New",P17>=2),S17,IF(AND(F16="l1",I16=3),L16,IF(D15="w",L16,IF(D16="w",L16,IF(F16="l1",L16,IF(AND(W17<>0,W17<>K17),W17,IF(AND(X17<>0,X17<>K17),X17,IF(AND(Y17<>0,Y17<>K17),Y17,IF(AND(Z17<>0,Z17<>K17),Z17,IF(AND(AA17<>0,AA17<>K17),AA17))))))))))) -> 2 | M17: =IF(AND(F16="New",P17=1),"",IF(AND(F16="New",P17=2),"",IF(AND(F16="New",P17=3),T17,IF(AND(F16="l1",I16=3),M16,IF(D15="w",M16,IF(D16="w",M16,IF(AND(X17<>0,X17<>K17,X17<>L17),X17,IF(AND(Y17<>0,Y17<>K17,Y17<>L17),Y17,IF(AND(Z17<>0,Z17<>K17,Z17<>L17),Z17,IF(AND(AA17<>0,AA17<>K17,AA17<>L17),AA17,"")))))))))) | N17: =IF(N16<>"","",IF(AND(R17<>K17,R17<>L17,R17<>M17,R17<>0),R17,"")) | P17: =COUNTIF(R17:T17,1)+COUNTIF(R17:T17,2)+COUNTIF(R17:T17,3)+COUNTIF(R17:T17,4)+COUNTIF(R17:T17,5)+COUNTIF(R17:T17,6) -> 2 | R17: =V17 -> 6 | S17: =IF(AND(W17<>0,W17<>V17),W17,IF(AND(X17<>0,X17<>V17),X17,IF(AND(Y17<>0,Y17<>V17),Y17,IF(AND(Z17<>0,Z17<>V17),Z17,IF(AND(AA17<>0,AA17<>V17),AA17))))) -> 2 | T17: =IF(AND(X17<>0,X17<>S17,X17<>R17),X17,IF(AND(Y17<>0,Y17<>R17,Y17<>S17),Y17,IF(AND(Z17<>0,Z17<>R17,Z17<>S17),Z17,IF(AND(AA17<>0,AA17<>R17,AA17<>S17),AA17,"")))) | V17: =C17 -> 6 | W17: =IF(F16="New","",C16) -> 6 | X17: =IF(F15="New","",IF(F16="New","",C15)) -> 2 | Y17: =IF(F14="New","",IF(F15="New","",IF(F16="New","",C14))) -> 6 | Z17: =IF(F13="New","",IF(F14="New","",IF(F15="New","",IF(F16="New","",C13)))) | AA17: =IF(F12="New","",IF(F13="New","",IF(F14="New","",IF(F15="New","",IF(F16="New","",C12)))))
B18: =RANDBETWEEN(0,36) -> 1 | C18: =IF(B18="","",VLOOKUP(B18,Tabelle2!$D$1:$E$37,2,0)) -> 1 | D18: =IF(AND(I18=3,OR(C19=K18,C19=L18,C19=M18)),"W",IF(AND(I18=4,OR(C19=K18,C19=L18,C19=M18,C19=N18)),"W","L")) -> L | E18: =IF(AND(F17="l1",D18="w"),"w",IF(F17="l2","",IF(AND(J18=1,I18>=3),D18,IF(J18=1,"",D18)))) -> L | F18: =IF(AND(F17="l1",I18>3,D18="l"),"L2",IF(I18<3,"",IF(AND(D18="l",I18=3,F17=""),"l1",IF(F17="L2","New",IF(AND(D18="l",D17="w"),"L1",IF(AND(D18="l",D17="l",D16="W"),"L2","")))))) -> l1 | G18: =IF(AND(E18="w",F17="l1"),2,IF(E18="",0,IF(AND(E18="w",F18=""),3,IF(AND(E18="l",F18="l1"),-3,IF(AND(E18="l",F18="l2"),-4))))) -> -3 | H18: =H17+G18 -> -4 | I18: =COUNTIF(K18:N18,1)+COUNTIF(K18:N18,2)+COUNTIF(K18:N18,3)+COUNTIF(K18:N18,4)+COUNTIF(K18:N18,5)+COUNTIF(K18:N18,6) -> 3 | J18: =IF(OR(F15="New",F14="New",F13="New",F16="New",F17="New",F18="New"),1,"") -> 1 | K18: =IF(AND(F17="New",P18>=1),R18,IF(AND(F17="l1",I17=3),K17,IF(D16="w",K17,IF(D17="w",K17,IF(V18<>0,V18,IF(W18<>0,W18,IF(X18<>0,X18,IF(Y18<>0,Y18,IF(Z18<>0,Z18,IF(AA18<>0,AA18,"")))))))))) -> 1 | L18: =IF(AND(F17="New",P18=1),"",IF(AND(F17="New",P18>=2),S18,IF(AND(F17="l1",I17=3),L17,IF(D16="w",L17,IF(D17="w",L17,IF(F17="l1",L17,IF(AND(W18<>0,W18<>K18),W18,IF(AND(X18<>0,X18<>K18),X18,IF(AND(Y18<>0,Y18<>K18),Y18,IF(AND(Z18<>0,Z18<>K18),Z18,IF(AND(AA18<>0,AA18<>K18),AA18))))))))))) -> 6 | M18: =IF(AND(F17="New",P18=1),"",IF(AND(F17="New",P18=2),"",IF(AND(F17="New",P18=3),T18,IF(AND(F17="l1",I17=3),M17,IF(D16="w",M17,IF(D17="w",M17,IF(AND(X18<>0,X18<>K18,X18<>L18),X18,IF(AND(Y18<>0,Y18<>K18,Y18<>L18),Y18,IF(AND(Z18<>0,Z18<>K18,Z18<>L18),Z18,IF(AND(AA18<>0,AA18<>K18,AA18<>L18),AA18,"")))))))))) -> 2 | N18: =IF(N17<>"","",IF(AND(R18<>K18,R18<>L18,R18<>M18,R18<>0),R18,"")) | P18: =COUNTIF(R18:T18,1)+COUNTIF(R18:T18,2)+COUNTIF(R18:T18,3)+COUNTIF(R18:T18,4)+COUNTIF(R18:T18,5)+COUNTIF(R18:T18,6) -> 3 | R18: =V18 -> 1 | S18: =IF(AND(W18<>0,W18<>V18),W18,IF(AND(X18<>0,X18<>V18),X18,IF(AND(Y18<>0,Y18<>V18),Y18,IF(AND(Z18<>0,Z18<>V18),Z18,IF(AND(AA18<>0,AA18<>V18),AA18))))) -> 6 | T18: =IF(AND(X18<>0,X18<>S18,X18<>R18),X18,IF(AND(Y18<>0,Y18<>R18,Y18<>S18),Y18,IF(AND(Z18<>0,Z18<>R18,Z18<>S18),Z18,IF(AND(AA18<>0,AA18<>R18,AA18<>S18),AA18,"")))) -> 2 | V18: =C18 -> 1 | W18: =IF(F17="New","",C17) -> 6 | X18: =IF(F16="New","",IF(F17="New","",C16)) -> 6 | Y18: =IF(F15="New","",IF(F16="New","",IF(F17="New","",C15))) -> 2 | Z18: =IF(F14="New","",IF(F15="New","",IF(F16="New","",IF(F17="New","",C14)))) -> 6 | AA18: =IF(F13="New","",IF(F14="New","",IF(F15="New","",IF(F16="New","",IF(F17="New","",C13)))))
B19: =RANDBETWEEN(0,36) -> 23 | C19: =IF(B19="","",VLOOKUP(B19,Tabelle2!$D$1:$E$37,2,0)) -> 4 | D19: =IF(AND(I19=3,OR(C20=K19,C20=L19,C20=M19)),"W",IF(AND(I19=4,OR(C20=K19,C20=L19,C20=M19,C20=N19)),"W","L")) -> W | E19: =IF(AND(F18="l1",D19="w"),"w",IF(F18="l2","",IF(AND(J19=1,I19>=3),D19,IF(J19=1,"",D19)))) -> w | F19: =IF(AND(F18="l1",I19>3,D19="l"),"L2",IF(I19<3,"",IF(AND(D19="l",I19=3,F18=""),"l1",IF(F18="L2","New",IF(AND(D19="l",D18="w"),"L1",IF(AND(D19="l",D18="l",D17="W"),"L2","")))))) | G19: =IF(AND(E19="w",F18="l1"),2,IF(E19="",0,IF(AND(E19="w",F19=""),3,IF(AND(E19="l",F19="l1"),-3,IF(AND(E19="l",F19="l2"),-4))))) -> 2 | H19: =H18+G19 -> -2 | I19: =COUNTIF(K19:N19,1)+COUNTIF(K19:N19,2)+COUNTIF(K19:N19,3)+COUNTIF(K19:N19,4)+COUNTIF(K19:N19,5)+COUNTIF(K19:N19,6) -> 4 | J19: =IF(OR(F16="New",F15="New",F14="New",F17="New",F18="New",F19="New"),1,"") | K19: =IF(AND(F18="New",P19>=1),R19,IF(AND(F18="l1",I18=3),K18,IF(D17="w",K18,IF(D18="w",K18,IF(V19<>0,V19,IF(W19<>0,W19,IF(X19<>0,X19,IF(Y19<>0,Y19,IF(Z19<>0,Z19,IF(AA19<>0,AA19,"")))))))))) -> 1 | L19: =IF(AND(F18="New",P19=1),"",IF(AND(F18="New",P19>=2),S19,IF(AND(F18="l1",I18=3),L18,IF(D17="w",L18,IF(D18="w",L18,IF(F18="l1",L18,IF(AND(W19<>0,W19<>K19),W19,IF(AND(X19<>0,X19<>K19),X19,IF(AND(Y19<>0,Y19<>K19),Y19,IF(AND(Z19<>0,Z19<>K19),Z19,IF(AND(AA19<>0,AA19<>K19),AA19))))))))))) -> 6 | M19: =IF(AND(F18="New",P19=1),"",IF(AND(F18="New",P19=2),"",IF(AND(F18="New",P19=3),T19,IF(AND(F18="l1",I18=3),M18,IF(D17="w",M18,IF(D18="w",M18,IF(AND(X19<>0,X19<>K19,X19<>L19),X19,IF(AND(Y19<>0,Y19<>K19,Y19<>L19),Y19,IF(AND(Z19<>0,Z19<>K19,Z19<>L19),Z19,IF(AND(AA19<>0,AA19<>K19,AA19<>L19),AA19,"")))))))))) -> 2 | N19: =IF(N18<>"","",IF(AND(R19<>K19,R19<>L19,R19<>M19,R19<>0),R19,"")) -> 4 | P19: =COUNTIF(R19:T19,1)+COUNTIF(R19:T19,2)+COUNTIF(R19:T19,3)+COUNTIF(R19:T19,4)+COUNTIF(R19:T19,5)+COUNTIF(R19:T19,6) -> 3 | R19: =V19 -> 4 | S19: =IF(AND(W19<>0,W19<>V19),W19,IF(AND(X19<>0,X19<>V19),X19,IF(AND(Y19<>0,Y19<>V19),Y19,IF(AND(Z19<>0,Z19<>V19),Z19,IF(AND(AA19<>0,AA19<>V19),AA19))))) -> 1 | T19: =IF(AND(X19<>0,X19<>S19,X19<>R19),X19,IF(AND(Y19<>0,Y19<>R19,Y19<>S19),Y19,IF(AND(Z19<>0,Z19<>R19,Z19<>S19),Z19,IF(AND(AA19<>0,AA19<>R19,AA19<>S19),AA19,"")))) -> 6 | V19: =C19 -> 4 | W19: =IF(F18="New","",C18) -> 1 | X19: =IF(F17="New","",IF(F18="New","",C17)) -> 6 | Y19: =IF(F16="New","",IF(F17="New","",IF(F18="New","",C16))) -> 6 | Z19: =IF(F15="New","",IF(F16="New","",IF(F17="New","",IF(F18="New","",C15)))) -> 2 | AA19: =IF(F14="New","",IF(F15="New","",IF(F16="New","",IF(F17="New","",IF(F18="New","",C14))))) -> 6
B20: =RANDBETWEEN(0,36) -> 7 | C20: =IF(B20="","",VLOOKUP(B20,Tabelle2!$D$1:$E$37,2,0)) -> 2 | D20: =IF(AND(I20=3,OR(C21=K20,C21=L20,C21=M20)),"W",IF(AND(I20=4,OR(C21=K20,C21=L20,C21=M20,C21=N20)),"W","L")) -> W | E20: =IF(AND(F19="l1",D20="w"),"w",IF(F19="l2","",IF(AND(J20=1,I20>=3),D20,IF(J20=1,"",D20)))) -> W | F20: =IF(AND(F19="l1",I20>3,D20="l"),"L2",IF(I20<3,"",IF(AND(D20="l",I20=3,F19=""),"l1",IF(F19="L2","New",IF(AND(D20="l",D19="w"),"L1",IF(AND(D20="l",D19="l",D18="W"),"L2","")))))) | G20: =IF(AND(E20="w",F19="l1"),2,IF(E20="",0,IF(AND(E20="w",F20=""),3,IF(AND(E20="l",F20="l1"),-3,IF(AND(E20="l",F20="l2"),-4))))) -> 3 | H20: =H19+G20 -> 1 | I20: =COUNTIF(K20:N20,1)+COUNTIF(K20:N20,2)+COUNTIF(K20:N20,3)+COUNTIF(K20:N20,4)+COUNTIF(K20:N20,5)+COUNTIF(K20:N20,6) -> 3 | J20: =IF(OR(F17="New",F16="New",F15="New",F18="New",F19="New",F20="New"),1,"") | K20: =IF(AND(F19="New",P20>=1),R20,IF(AND(F19="l1",I19=3),K19,IF(D18="w",K19,IF(D19="w",K19,IF(V20<>0,V20,IF(W20<>0,W20,IF(X20<>0,X20,IF(Y20<>0,Y20,IF(Z20<>0,Z20,IF(AA20<>0,AA20,"")))))))))) -> 1 | L20: =IF(AND(F19="New",P20=1),"",IF(AND(F19="New",P20>=2),S20,IF(AND(F19="l1",I19=3),L19,IF(D18="w",L19,IF(D19="w",L19,IF(F19="l1",L19,IF(AND(W20<>0,W20<>K20),W20,IF(AND(X20<>0,X20<>K20),X20,IF(AND(Y20<>0,Y20<>K20),Y20,IF(AND(Z20<>0,Z20<>K20),Z20,IF(AND(AA20<>0,AA20<>K20),AA20))))))))))) -> 6 | M20: =IF(AND(F19="New",P20=1),"",IF(AND(F19="New",P20=2),"",IF(AND(F19="New",P20=3),T20,IF(AND(F19="l1",I19=3),M19,IF(D18="w",M19,IF(D19="w",M19,IF(AND(X20<>0,X20<>K20,X20<>L20),X20,IF(AND(Y20<>0,Y20<>K20,Y20<>L20),Y20,IF(AND(Z20<>0,Z20<>K20,Z20<>L20),Z20,IF(AND(AA20<>0,AA20<>K20,AA20<>L20),AA20,"")))))))))) -> 2 | N20: =IF(N19<>"","",IF(AND(R20<>K20,R20<>L20,R20<>M20,R20<>0),R20,"")) | P20: =COUNTIF(R20:T20,1)+COUNTIF(R20:T20,2)+COUNTIF(R20:T20,3)+COUNTIF(R20:T20,4)+COUNTIF(R20:T20,5)+COUNTIF(R20:T20,6) -> 3 | R20: =V20 -> 2 | S20: =IF(AND(W20<>0,W20<>V20),W20,IF(AND(X20<>0,X20<>V20),X20,IF(AND(Y20<>0,Y20<>V20),Y20,IF(AND(Z20<>0,Z20<>V20),Z20,IF(AND(AA20<>0,AA20<>V20),AA20))))) -> 4 | T20: =IF(AND(X20<>0,X20<>S20,X20<>R20),X20,IF(AND(Y20<>0,Y20<>R20,Y20<>S20),Y20,IF(AND(Z20<>0,Z20<>R20,Z20<>S20),Z20,IF(AND(AA20<>0,AA20<>R20,AA20<>S20),AA20,"")))) -> 1 | V20: =C20 -> 2 | W20: =IF(F19="New","",C19) -> 4 | X20: =IF(F18="New","",IF(F19="New","",C18)) -> 1 | Y20: =IF(F17="New","",IF(F18="New","",IF(F19="New","",C17))) -> 6 | Z20: =IF(F16="New","",IF(F17="New","",IF(F18="New","",IF(F19="New","",C16)))) -> 6 | AA20: =IF(F15="New","",IF(F16="New","",IF(F17="New","",IF(F18="New","",IF(F19="New","",C15))))) -> 2 | AF20: EGO`s Win Or Break
B21: =RANDBETWEEN(0,36) -> 33 | C21: =IF(B21="","",VLOOKUP(B21,Tabelle2!$D$1:$E$37,2,0)) -> 6 | D21: =IF(AND(I21=3,OR(C22=K21,C22=L21,C22=M21)),"W",IF(AND(I21=4,OR(C22=K21,C22=L21,C22=M21,C22=N21)),"W","L")) -> L | E21: =IF(AND(F20="l1",D21="w"),"w",IF(F20="l2","",IF(AND(J21=1,I21>=3),D21,IF(J21=1,"",D21)))) -> L | F21: =IF(AND(F20="l1",I21>3,D21="l"),"L2",IF(I21<3,"",IF(AND(D21="l",I21=3,F20=""),"l1",IF(F20="L2","New",IF(AND(D21="l",D20="w"),"L1",IF(AND(D21="l",D20="l",D19="W"),"L2","")))))) -> l1 | G21: =IF(AND(E21="w",F20="l1"),2,IF(E21="",0,IF(AND(E21="w",F21=""),3,IF(AND(E21="l",F21="l1"),-3,IF(AND(E21="l",F21="l2"),-4))))) -> -3 | H21: =H20+G21 -> -2 | I21: =COUNTIF(K21:N21,1)+COUNTIF(K21:N21,2)+COUNTIF(K21:N21,3)+COUNTIF(K21:N21,4)+COUNTIF(K21:N21,5)+COUNTIF(K21:N21,6) -> 3 | J21: =IF(OR(F18="New",F17="New",F16="New",F19="New",F20="New",F21="New"),1,"") | K21: =IF(AND(F20="New",P21>=1),R21,IF(AND(F20="l1",I20=3),K20,IF(D19="w",K20,IF(D20="w",K20,IF(V21<>0,V21,IF(W21<>0,W21,IF(X21<>0,X21,IF(Y21<>0,Y21,IF(Z21<>0,Z21,IF(AA21<>0,AA21,"")))))))))) -> 1 | L21: =IF(AND(F20="New",P21=1),"",IF(AND(F20="New",P21>=2),S21,IF(AND(F20="l1",I20=3),L20,IF(D19="w",L20,IF(D20="w",L20,IF(F20="l1",L20,IF(AND(W21<>0,W21<>K21),W21,IF(AND(X21<>0,X21<>K21),X21,IF(AND(Y21<>0,Y21<>K21),Y21,IF(AND(Z21<>0,Z21<>K21),Z21,IF(AND(AA21<>0,AA21<>K21),AA21))))))))))) -> 6 | M21: =IF(AND(F20="New",P21=1),"",IF(AND(F20="New",P21=2),"",IF(AND(F20="New",P21=3),T21,IF(AND(F20="l1",I20=3),M20,IF(D19="w",M20,IF(D20="w",M20,IF(AND(X21<>0,X21<>K21,X21<>L21),X21,IF(AND(Y21<>0,Y21<>K21,Y21<>L21),Y21,IF(AND(Z21<>0,Z21<>K21,Z21<>L21),Z21,IF(AND(AA21<>0,AA21<>K21,AA21<>L21),AA21,"")))))))))) -> 2 | N21: =IF(N20<>"","",IF(AND(R21<>K21,R21<>L21,R21<>M21,R21<>0),R21,"")) | P21: =COUNTIF(R21:T21,1)+COUNTIF(R21:T21,2)+COUNTIF(R21:T21,3)+COUNTIF(R21:T21,4)+COUNTIF(R21:T21,5)+COUNTIF(R21:T21,6) -> 3 | R21: =V21 -> 6 | S21: =IF(AND(W21<>0,W21<>V21),W21,IF(AND(X21<>0,X21<>V21),X21,IF(AND(Y21<>0,Y21<>V21),Y21,IF(AND(Z21<>0,Z21<>V21),Z21,IF(AND(AA21<>0,AA21<>V21),AA21))))) -> 2 | T21: =IF(AND(X21<>0,X21<>S21,X21<>R21),X21,IF(AND(Y21<>0,Y21<>R21,Y21<>S21),Y21,IF(AND(Z21<>0,Z21<>R21,Z21<>S21),Z21,IF(AND(AA21<>0,AA21<>R21,AA21<>S21),AA21,"")))) -> 4 | V21: =C21 -> 6 | W21: =IF(F20="New","",C20) -> 2 | X21: =IF(F19="New","",IF(F20="New","",C19)) -> 4 | Y21: =IF(F18="New","",IF(F19="New","",IF(F20="New","",C18))) -> 1 | Z21: =IF(F17="New","",IF(F18="New","",IF(F19="New","",IF(F20="New","",C17)))) -> 6 | AA21: =IF(F16="New","",IF(F17="New","",IF(F18="New","",IF(F19="New","",IF(F20="New","",C16))))) -> 6 | AF21: by PROBASAH
B22: =RANDBETWEEN(0,36) -> 25 | C22: =IF(B22="","",VLOOKUP(B22,Tabelle2!$D$1:$E$37,2,0)) -> 5 | D22: =IF(AND(I22=3,OR(C23=K22,C23=L22,C23=M22)),"W",IF(AND(I22=4,OR(C23=K22,C23=L22,C23=M22,C23=N22)),"W","L")) -> L | E22: =IF(AND(F21="l1",D22="w"),"w",IF(F21="l2","",IF(AND(J22=1,I22>=3),D22,IF(J22=1,"",D22)))) -> L | F22: =IF(AND(F21="l1",I22>3,D22="l"),"L2",IF(I22<3,"",IF(AND(D22="l",I22=3,F21=""),"l1",IF(F21="L2","New",IF(AND(D22="l",D21="w"),"L1",IF(AND(D22="l",D21="l",D20="W"),"L2","")))))) -> L2 | G22: =IF(AND(E22="w",F21="l1"),2,IF(E22="",0,IF(AND(E22="w",F22=""),3,IF(AND(E22="l",F22="l1"),-3,IF(AND(E22="l",F22="l2"),-4))))) -> -4 | H22: =H21+G22 -> -6 | I22: =COUNTIF(K22:N22,1)+COUNTIF(K22:N22,2)+COUNTIF(K22:N22,3)+COUNTIF(K22:N22,4)+COUNTIF(K22:N22,5)+COUNTIF(K22:N22,6) -> 4 | J22: =IF(OR(F19="New",F18="New",F17="New",F20="New",F21="New",F22="New"),1,"") | K22: =IF(AND(F21="New",P22>=1),R22,IF(AND(F21="l1",I21=3),K21,IF(D20="w",K21,IF(D21="w",K21,IF(V22<>0,V22,IF(W22<>0,W22,IF(X22<>0,X22,IF(Y22<>0,Y22,IF(Z22<>0,Z22,IF(AA22<>0,AA22,"")))))))))) -> 1 | L22: =IF(AND(F21="New",P22=1),"",IF(AND(F21="New",P22>=2),S22,IF(AND(F21="l1",I21=3),L21,IF(D20="w",L21,IF(D21="w",L21,IF(F21="l1",L21,IF(AND(W22<>0,W22<>K22),W22,IF(AND(X22<>0,X22<>K22),X22,IF(AND(Y22<>0,Y22<>K22),Y22,IF(AND(Z22<>0,Z22<>K22),Z22,IF(AND(AA22<>0,AA22<>K22),AA22))))))))))) -> 6 | M22: =IF(AND(F21="New",P22=1),"",IF(AND(F21="New",P22=2),"",IF(AND(F21="New",P22=3),T22,IF(AND(F21="l1",I21=3),M21,IF(D20="w",M21,IF(D21="w",M21,IF(AND(X22<>0,X22<>K22,X22<>L22),X22,IF(AND(Y22<>0,Y22<>K22,Y22<>L22),Y22,IF(AND(Z22<>0,Z22<>K22,Z22<>L22),Z22,IF(AND(AA22<>0,AA22<>K22,AA22<>L22),AA22,"")))))))))) -> 2 | N22: =IF(N21<>"","",IF(AND(R22<>K22,R22<>L22,R22<>M22,R22<>0),R22,"")) -> 5 | P22: =COUNTIF(R22:T22,1)+COUNTIF(R22:T22,2)+COUNTIF(R22:T22,3)+COUNTIF(R22:T22,4)+COUNTIF(R22:T22,5)+COUNTIF(R22:T22,6) -> 3 | R22: =V22 -> 5 | S22: =IF(AND(W22<>0,W22<>V22),W22,IF(AND(X22<>0,X22<>V22),X22,IF(AND(Y22<>0,Y22<>V22),Y22,IF(AND(Z22<>0,Z22<>V22),Z22,IF(AND(AA22<>0,AA22<>V22),AA22))))) -> 6 | T22: =IF(AND(X22<>0,X22<>S22,X22<>R22),X22,IF(AND(Y22<>0,Y22<>R22,Y22<>S22),Y22,IF(AND(Z22<>0,Z22<>R22,Z22<>S22),Z22,IF(AND(AA22<>0,AA22<>R22,AA22<>S22),AA22,"")))) -> 2 | V22: =C22 -> 5 | W22: =IF(F21="New","",C21) -> 6 | X22: =IF(F20="New","",IF(F21="New","",C20)) -> 2 | Y22: =IF(F19="New","",IF(F20="New","",IF(F21="New","",C19))) -> 4 | Z22: =IF(F18="New","",IF(F19="New","",IF(F20="New","",IF(F21="New","",C18)))) -> 1 | AA22: =IF(F17="New","",IF(F18="New","",IF(F19="New","",IF(F20="New","",IF(F21="New","",C17))))) -> 6 | AH22: http://www.rouletteforum.cc/index.php?action=profile;u=4599
B23: =RANDBETWEEN(0,36) -> 23 | C23: =IF(B23="","",VLOOKUP(B23,Tabelle2!$D$1:$E$37,2,0)) -> 4 | D23: =IF(AND(I23=3,OR(C24=K23,C24=L23,C24=M23)),"W",IF(AND(I23=4,OR(C24=K23,C24=L23,C24=M23,C24=N23)),"W","L")) -> L | E23: =IF(AND(F22="l1",D23="w"),"w",IF(F22="l2","",IF(AND(J23=1,I23>=3),D23,IF(J23=1,"",D23)))) | F23: =IF(AND(F22="l1",I23>3,D23="l"),"L2",IF(I23<3,"",IF(AND(D23="l",I23=3,F22=""),"l1",IF(F22="L2","New",IF(AND(D23="l",D22="w"),"L1",IF(AND(D23="l",D22="l",D21="W"),"L2","")))))) -> New | G23: =IF(AND(E23="w",F22="l1"),2,IF(E23="",0,IF(AND(E23="w",F23=""),3,IF(AND(E23="l",F23="l1"),-3,IF(AND(E23="l",F23="l2"),-4))))) -> 0 | H23: =H22+G23 -> -6 | I23: =COUNTIF(K23:N23,1)+COUNTIF(K23:N23,2)+COUNTIF(K23:N23,3)+COUNTIF(K23:N23,4)+COUNTIF(K23:N23,5)+COUNTIF(K23:N23,6) -> 3 | J23: =IF(OR(F20="New",F19="New",F18="New",F21="New",F22="New",F23="New"),1,"") -> 1 | K23: =IF(AND(F22="New",P23>=1),R23,IF(AND(F22="l1",I22=3),K22,IF(D21="w",K22,IF(D22="w",K22,IF(V23<>0,V23,IF(W23<>0,W23,IF(X23<>0,X23,IF(Y23<>0,Y23,IF(Z23<>0,Z23,IF(AA23<>0,AA23,"")))))))))) -> 4 | L23: =IF(AND(F22="New",P23=1),"",IF(AND(F22="New",P23>=2),S23,IF(AND(F22="l1",I22=3),L22,IF(D21="w",L22,IF(D22="w",L22,IF(F22="l1",L22,IF(AND(W23<>0,W23<>K23),W23,IF(AND(X23<>0,X23<>K23),X23,IF(AND(Y23<>0,Y23<>K23),Y23,IF(AND(Z23<>0,Z23<>K23),Z23,IF(AND(AA23<>0,AA23<>K23),AA23))))))))))) -> 5 | M23: =IF(AND(F22="New",P23=1),"",IF(AND(F22="New",P23=2),"",IF(AND(F22="New",P23=3),T23,IF(AND(F22="l1",I22=3),M22,IF(D21="w",M22,IF(D22="w",M22,IF(AND(X23<>0,X23<>K23,X23<>L23),X23,IF(AND(Y23<>0,Y23<>K23,Y23<>L23),Y23,IF(AND(Z23<>0,Z23<>K23,Z23<>L23),Z23,IF(AND(AA23<>0,AA23<>K23,AA23<>L23),AA23,"")))))))))) -> 6 | N23: =IF(N22<>"","",IF(AND(R23<>K23,R23<>L23,R23<>M23,R23<>0),R23,"")) | P23: =COUNTIF(R23:T23,1)+COUNTIF(R23:T23,2)+COUNTIF(R23:T23,3)+COUNTIF(R23:T23,4)+COUNTIF(R23:T23,5)+COUNTIF(R23:T23,6) -> 3 | R23: =V23 -> 4 | S23: =IF(AND(W23<>0,W23<>V23),W23,IF(AND(X23<>0,X23<>V23),X23,IF(AND(Y23<>0,Y23<>V23),Y23,IF(AND(Z23<>0,Z23<>V23),Z23,IF(AND(AA23<>0,AA23<>V23),AA23))))) -> 5 | T23: =IF(AND(X23<>0,X23<>S23,X23<>R23),X23,IF(AND(Y23<>0,Y23<>R23,Y23<>S23),Y23,IF(AND(Z23<>0,Z23<>R23,Z23<>S23),Z23,IF(AND(AA23<>0,AA23<>R23,AA23<>S23),AA23,"")))) -> 6 | V23: =C23 -> 4 | W23: =IF(F22="New","",C22) -> 5 | X23: =IF(F21="New","",IF(F22="New","",C21)) -> 6 | Y23: =IF(F20="New","",IF(F21="New","",IF(F22="New","",C20))) -> 2 | Z23: =IF(F19="New","",IF(F20="New","",IF(F21="New","",IF(F22="New","",C19)))) -> 4 | AA23: =IF(F18="New","",IF(F19="New","",IF(F20="New","",IF(F21="New","",IF(F22="New","",C18))))) -> 1
B24: =RANDBETWEEN(0,36) -> 18 | C24: =IF(B24="","",VLOOKUP(B24,Tabelle2!$D$1:$E$37,2,0)) -> 3 | D24: =IF(AND(I24=3,OR(C25=K24,C25=L24,C25=M24)),"W",IF(AND(I24=4,OR(C25=K24,C25=L24,C25=M24,C25=N24)),"W","L")) -> L | E24: =IF(AND(F23="l1",D24="w"),"w",IF(F23="l2","",IF(AND(J24=1,I24>=3),D24,IF(J24=1,"",D24)))) | F24: =IF(AND(F23="l1",I24>3,D24="l"),"L2",IF(I24<3,"",IF(AND(D24="l",I24=3,F23=""),"l1",IF(F23="L2","New",IF(AND(D24="l",D23="w"),"L1",IF(AND(D24="l",D23="l",D22="W"),"L2","")))))) | G24: =IF(AND(E24="w",F23="l1"),2,IF(E24="",0,IF(AND(E24="w",F24=""),3,IF(AND(E24="l",F24="l1"),-3,IF(AND(E24="l",F24="l2"),-4))))) -> 0 | H24: =H23+G24 -> -6 | I24: =COUNTIF(K24:N24,1)+COUNTIF(K24:N24,2)+COUNTIF(K24:N24,3)+COUNTIF(K24:N24,4)+COUNTIF(K24:N24,5)+COUNTIF(K24:N24,6) -> 1 | J24: =IF(OR(F21="New",F20="New",F19="New",F22="New",F23="New",F24="New"),1,"") -> 1 | K24: =IF(AND(F23="New",P24>=1),R24,IF(AND(F23="l1",I23=3),K23,IF(D22="w",K23,IF(D23="w",K23,IF(V24<>0,V24,IF(W24<>0,W24,IF(X24<>0,X24,IF(Y24<>0,Y24,IF(Z24<>0,Z24,IF(AA24<>0,AA24,"")))))))))) -> 3 | L24: =IF(AND(F23="New",P24=1),"",IF(AND(F23="New",P24>=2),S24,IF(AND(F23="l1",I23=3),L23,IF(D22="w",L23,IF(D23="w",L23,IF(F23="l1",L23,IF(AND(W24<>0,W24<>K24),W24,IF(AND(X24<>0,X24<>K24),X24,IF(AND(Y24<>0,Y24<>K24),Y24,IF(AND(Z24<>0,Z24<>K24),Z24,IF(AND(AA24<>0,AA24<>K24),AA24))))))))))) | M24: =IF(AND(F23="New",P24=1),"",IF(AND(F23="New",P24=2),"",IF(AND(F23="New",P24=3),T24,IF(AND(F23="l1",I23=3),M23,IF(D22="w",M23,IF(D23="w",M23,IF(AND(X24<>0,X24<>K24,X24<>L24),X24,IF(AND(Y24<>0,Y24<>K24,Y24<>L24),Y24,IF(AND(Z24<>0,Z24<>K24,Z24<>L24),Z24,IF(AND(AA24<>0,AA24<>K24,AA24<>L24),AA24,"")))))))))) | N24: =IF(N23<>"","",IF(AND(R24<>K24,R24<>L24,R24<>M24,R24<>0),R24,"")) | P24: =COUNTIF(R24:T24,1)+COUNTIF(R24:T24,2)+COUNTIF(R24:T24,3)+COUNTIF(R24:T24,4)+COUNTIF(R24:T24,5)+COUNTIF(R24:T24,6) -> 1 | R24: =V24 -> 3 | S24: =IF(AND(W24<>0,W24<>V24),W24,IF(AND(X24<>0,X24<>V24),X24,IF(AND(Y24<>0,Y24<>V24),Y24,IF(AND(Z24<>0,Z24<>V24),Z24,IF(AND(AA24<>0,AA24<>V24),AA24))))) | T24: =IF(AND(X24<>0,X24<>S24,X24<>R24),X24,IF(AND(Y24<>0,Y24<>R24,Y24<>S24),Y24,IF(AND(Z24<>0,Z24<>R24,Z24<>S24),Z24,IF(AND(AA24<>0,AA24<>R24,AA24<>S24),AA24,"")))) | V24: =C24 -> 3 | W24: =IF(F23="New","",C23) | X24: =IF(F22="New","",IF(F23="New","",C22)) | Y24: =IF(F21="New","",IF(F22="New","",IF(F23="New","",C21))) | Z24: =IF(F20="New","",IF(F21="New","",IF(F22="New","",IF(F23="New","",C20)))) | AA24: =IF(F19="New","",IF(F20="New","",IF(F21="New","",IF(F22="New","",IF(F23="New","",C19)))))
B25: =RANDBETWEEN(0,36) -> 10 | C25: =IF(B25="","",VLOOKUP(B25,Tabelle2!$D$1:$E$37,2,0)) -> 2 | D25: =IF(AND(I25=3,OR(C26=K25,C26=L25,C26=M25)),"W",IF(AND(I25=4,OR(C26=K25,C26=L25,C26=M25,C26=N25)),"W","L")) -> L | E25: =IF(AND(F24="l1",D25="w"),"w",IF(F24="l2","",IF(AND(J25=1,I25>=3),D25,IF(J25=1,"",D25)))) | F25: =IF(AND(F24="l1",I25>3,D25="l"),"L2",IF(I25<3,"",IF(AND(D25="l",I25=3,F24=""),"l1",IF(F24="L2","New",IF(AND(D25="l",D24="w"),"L1",IF(AND(D25="l",D24="l",D23="W"),"L2","")))))) | G25: =IF(AND(E25="w",F24="l1"),2,IF(E25="",0,IF(AND(E25="w",F25=""),3,IF(AND(E25="l",F25="l1"),-3,IF(AND(E25="l",F25="l2"),-4))))) -> 0 | H25: =H24+G25 -> -6 | I25: =COUNTIF(K25:N25,1)+COUNTIF(K25:N25,2)+COUNTIF(K25:N25,3)+COUNTIF(K25:N25,4)+COUNTIF(K25:N25,5)+COUNTIF(K25:N25,6) -> 2 | J25: =IF(OR(F22="New",F21="New",F20="New",F23="New",F24="New",F25="New"),1,"") -> 1 | K25: =IF(AND(F24="New",P25>=1),R25,IF(AND(F24="l1",I24=3),K24,IF(D23="w",K24,IF(D24="w",K24,IF(V25<>0,V25,IF(W25<>0,W25,IF(X25<>0,X25,IF(Y25<>0,Y25,IF(Z25<>0,Z25,IF(AA25<>0,AA25,"")))))))))) -> 2 | L25: =IF(AND(F24="New",P25=1),"",IF(AND(F24="New",P25>=2),S25,IF(AND(F24="l1",I24=3),L24,IF(D23="w",L24,IF(D24="w",L24,IF(F24="l1",L24,IF(AND(W25<>0,W25<>K25),W25,IF(AND(X25<>0,X25<>K25),X25,IF(AND(Y25<>0,Y25<>K25),Y25,IF(AND(Z25<>0,Z25<>K25),Z25,IF(AND(AA25<>0,AA25<>K25),AA25))))))))))) -> 3 | M25: =IF(AND(F24="New",P25=1),"",IF(AND(F24="New",P25=2),"",IF(AND(F24="New",P25=3),T25,IF(AND(F24="l1",I24=3),M24,IF(D23="w",M24,IF(D24="w",M24,IF(AND(X25<>0,X25<>K25,X25<>L25),X25,IF(AND(Y25<>0,Y25<>K25,Y25<>L25),Y25,IF(AND(Z25<>0,Z25<>K25,Z25<>L25),Z25,IF(AND(AA25<>0,AA25<>K25,AA25<>L25),AA25,"")))))))))) | N25: =IF(N24<>"","",IF(AND(R25<>K25,R25<>L25,R25<>M25,R25<>0),R25,"")) | P25: =COUNTIF(R25:T25,1)+COUNTIF(R25:T25,2)+COUNTIF(R25:T25,3)+COUNTIF(R25:T25,4)+COUNTIF(R25:T25,5)+COUNTIF(R25:T25,6) -> 2 | R25: =V25 -> 2 | S25: =IF(AND(W25<>0,W25<>V25),W25,IF(AND(X25<>0,X25<>V25),X25,IF(AND(Y25<>0,Y25<>V25),Y25,IF(AND(Z25<>0,Z25<>V25),Z25,IF(AND(AA25<>0,AA25<>V25),AA25))))) -> 3 | T25: =IF(AND(X25<>0,X25<>S25,X25<>R25),X25,IF(AND(Y25<>0,Y25<>R25,Y25<>S25),Y25,IF(AND(Z25<>0,Z25<>R25,Z25<>S25),Z25,IF(AND(AA25<>0,AA25<>R25,AA25<>S25),AA25,"")))) | V25: =C25 -> 2 | W25: =IF(F24="New","",C24) -> 3 | X25: =IF(F23="New","",IF(F24="New","",C23)) | Y25: =IF(F22="New","",IF(F23="New","",IF(F24="New","",C22))) | Z25: =IF(F21="New","",IF(F22="New","",IF(F23="New","",IF(F24="New","",C21)))) | AA25: =IF(F20="New","",IF(F21="New","",IF(F22="New","",IF(F23="New","",IF(F24="New","",C20))))) | AE25: Method here:
B26: =RANDBETWEEN(0,36) -> 0 | C26: =IF(B26="","",VLOOKUP(B26,Tabelle2!$D$1:$E$37,2,0)) -> 0 | D26: =IF(AND(I26=3,OR(C27=K26,C27=L26,C27=M26)),"W",IF(AND(I26=4,OR(C27=K26,C27=L26,C27=M26,C27=N26)),"W","L")) -> L | E26: =IF(AND(F25="l1",D26="w"),"w",IF(F25="l2","",IF(AND(J26=1,I26>=3),D26,IF(J26=1,"",D26)))) | F26: =IF(AND(F25="l1",I26>3,D26="l"),"L2",IF(I26<3,"",IF(AND(D26="l",I26=3,F25=""),"l1",IF(F25="L2","New",IF(AND(D26="l",D25="w"),"L1",IF(AND(D26="l",D25="l",D24="W"),"L2","")))))) | G26: =IF(AND(E26="w",F25="l1"),2,IF(E26="",0,IF(AND(E26="w",F26=""),3,IF(AND(E26="l",F26="l1"),-3,IF(AND(E26="l",F26="l2"),-4))))) -> 0 | H26: =H25+G26 -> -6 | I26: =COUNTIF(K26:N26,1)+COUNTIF(K26:N26,2)+COUNTIF(K26:N26,3)+COUNTIF(K26:N26,4)+COUNTIF(K26:N26,5)+COUNTIF(K26:N26,6) -> 2 | J26: =IF(OR(F23="New",F22="New",F21="New",F24="New",F25="New",F26="New"),1,"") -> 1 | K26: =IF(AND(F25="New",P26>=1),R26,IF(AND(F25="l1",I25=3),K25,IF(D24="w",K25,IF(D25="w",K25,IF(V26<>0,V26,IF(W26<>0,W26,IF(X26<>0,X26,IF(Y26<>0,Y26,IF(Z26<>0,Z26,IF(AA26<>0,AA26,"")))))))))) -> 2 | L26: =IF(AND(F25="New",P26=1),"",IF(AND(F25="New",P26>=2),S26,IF(AND(F25="l1",I25=3),L25,IF(D24="w",L25,IF(D25="w",L25,IF(F25="l1",L25,IF(AND(W26<>0,W26<>K26),W26,IF(AND(X26<>0,X26<>K26),X26,IF(AND(Y26<>0,Y26<>K26),Y26,IF(AND(Z26<>0,Z26<>K26),Z26,IF(AND(AA26<>0,AA26<>K26),AA26))))))))))) -> 3 | M26: =IF(AND(F25="New",P26=1),"",IF(AND(F25="New",P26=2),"",IF(AND(F25="New",P26=3),T26,IF(AND(F25="l1",I25=3),M25,IF(D24="w",M25,IF(D25="w",M25,IF(AND(X26<>0,X26<>K26,X26<>L26),X26,IF(AND(Y26<>0,Y26<>K26,Y26<>L26),Y26,IF(AND(Z26<>0,Z26<>K26,Z26<>L26),Z26,IF(AND(AA26<>0,AA26<>K26,AA26<>L26),AA26,"")))))))))) | N26: =IF(N25<>"","",IF(AND(R26<>K26,R26<>L26,R26<>M26,R26<>0),R26,"")) | P26: =COUNTIF(R26:T26,1)+COUNTIF(R26:T26,2)+COUNTIF(R26:T26,3)+COUNTIF(R26:T26,4)+COUNTIF(R26:T26,5)+COUNTIF(R26:T26,6) -> 2 | R26: =V26 -> 0 | S26: =IF(AND(W26<>0,W26<>V26),W26,IF(AND(X26<>0,X26<>V26),X26,IF(AND(Y26<>0,Y26<>V26),Y26,IF(AND(Z26<>0,Z26<>V26),Z26,IF(AND(AA26<>0,AA26<>V26),AA26))))) -> 2 | T26: =IF(AND(X26<>0,X26<>S26,X26<>R26),X26,IF(AND(Y26<>0,Y26<>R26,Y26<>S26),Y26,IF(AND(Z26<>0,Z26<>R26,Z26<>S26),Z26,IF(AND(AA26<>0,AA26<>R26,AA26<>S26),AA26,"")))) -> 3 | V26: =C26 -> 0 | W26: =IF(F25="New","",C25) -> 2 | X26: =IF(F24="New","",IF(F25="New","",C24)) -> 3 | Y26: =IF(F23="New","",IF(F24="New","",IF(F25="New","",C23))) | Z26: =IF(F22="New","",IF(F23="New","",IF(F24="New","",IF(F25="New","",C22)))) | AA26: =IF(F21="New","",IF(F22="New","",IF(F23="New","",IF(F24="New","",IF(F25="New","",C21))))) | AE26: http://www.rouletteforum.cc/index.php?topic=12613.0
B27: =RANDBETWEEN(0,36) -> 2 | C27: =IF(B27="","",VLOOKUP(B27,Tabelle2!$D$1:$E$37,2,0)) -> 1 | D27: =IF(AND(I27=3,OR(C28=K27,C28=L27,C28=M27)),"W",IF(AND(I27=4,OR(C28=K27,C28=L27,C28=M27,C28=N27)),"W","L")) -> L | E27: =IF(AND(F26="l1",D27="w"),"w",IF(F26="l2","",IF(AND(J27=1,I27>=3),D27,IF(J27=1,"",D27)))) -> L | F27: =IF(AND(F26="l1",I27>3,D27="l"),"L2",IF(I27<3,"",IF(AND(D27="l",I27=3,F26=""),"l1",IF(F26="L2","New",IF(AND(D27="l",D26="w"),"L1",IF(AND(D27="l",D26="l",D25="W"),"L2","")))))) -> l1 | G27: =IF(AND(E27="w",F26="l1"),2,IF(E27="",0,IF(AND(E27="w",F27=""),3,IF(AND(E27="l",F27="l1"),-3,IF(AND(E27="l",F27="l2"),-4))))) -> -3 | H27: =H26+G27 -> -9 | I27: =COUNTIF(K27:N27,1)+COUNTIF(K27:N27,2)+COUNTIF(K27:N27,3)+COUNTIF(K27:N27,4)+COUNTIF(K27:N27,5)+COUNTIF(K27:N27,6) -> 3 | J27: =IF(OR(F24="New",F23="New",F22="New",F25="New",F26="New",F27="New"),1,"") -> 1 | K27: =IF(AND(F26="New",P27>=1),R27,IF(AND(F26="l1",I26=3),K26,IF(D25="w",K26,IF(D26="w",K26,IF(V27<>0,V27,IF(W27<>0,W27,IF(X27<>0,X27,IF(Y27<>0,Y27,IF(Z27<>0,Z27,IF(AA27<>0,AA27,"")))))))))) -> 1 | L27: =IF(AND(F26="New",P27=1),"",IF(AND(F26="New",P27>=2),S27,IF(AND(F26="l1",I26=3),L26,IF(D25="w",L26,IF(D26="w",L26,IF(F26="l1",L26,IF(AND(W27<>0,W27<>K27),W27,IF(AND(X27<>0,X27<>K27),X27,IF(AND(Y27<>0,Y27<>K27),Y27,IF(AND(Z27<>0,Z27<>K27),Z27,IF(AND(AA27<>0,AA27<>K27),AA27))))))))))) -> 2 | M27: =IF(AND(F26="New",P27=1),"",IF(AND(F26="New",P27=2),"",IF(AND(F26="New",P27=3),T27,IF(AND(F26="l1",I26=3),M26,IF(D25="w",M26,IF(D26="w",M26,IF(AND(X27<>0,X27<>K27,X27<>L27),X27,IF(AND(Y27<>0,Y27<>K27,Y27<>L27),Y27,IF(AND(Z27<>0,Z27<>K27,Z27<>L27),Z27,IF(AND(AA27<>0,AA27<>K27,AA27<>L27),AA27,"")))))))))) -> 3 | N27: =IF(N26<>"","",IF(AND(R27<>K27,R27<>L27,R27<>M27,R27<>0),R27,"")) | P27: =COUNTIF(R27:T27,1)+COUNTIF(R27:T27,2)+COUNTIF(R27:T27,3)+COUNTIF(R27:T27,4)+COUNTIF(R27:T27,5)+COUNTIF(R27:T27,6) -> 3 | R27: =V27 -> 1 | S27: =IF(AND(W27<>0,W27<>V27),W27,IF(AND(X27<>0,X27<>V27),X27,IF(AND(Y27<>0,Y27<>V27),Y27,IF(AND(Z27<>0,Z27<>V27),Z27,IF(AND(AA27<>0,AA27<>V27),AA27))))) -> 2 | T27: =IF(AND(X27<>0,X27<>S27,X27<>R27),X27,IF(AND(Y27<>0,Y27<>R27,Y27<>S27),Y27,IF(AND(Z27<>0,Z27<>R27,Z27<>S27),Z27,IF(AND(AA27<>0,AA27<>R27,AA27<>S27),AA27,"")))) -> 3 | V27: =C27 -> 1 | W27: =IF(F26="New","",C26) -> 0 | X27: =IF(F25="New","",IF(F26="New","",C25)) -> 2 | Y27: =IF(F24="New","",IF(F25="New","",IF(F26="New","",C24))) -> 3 | Z27: =IF(F23="New","",IF(F24="New","",IF(F25="New","",IF(F26="New","",C23)))) | AA27: =IF(F22="New","",IF(F23="New","",IF(F24="New","",IF(F25="New","",IF(F26="New","",C22)))))
B28: =RANDBETWEEN(0,36) -> 23 | C28: =IF(B28="","",VLOOKUP(B28,Tabelle2!$D$1:$E$37,2,0)) -> 4 | D28: =IF(AND(I28=3,OR(C29=K28,C29=L28,C29=M28)),"W",IF(AND(I28=4,OR(C29=K28,C29=L28,C29=M28,C29=N28)),"W","L")) -> W | E28: =IF(AND(F27="l1",D28="w"),"w",IF(F27="l2","",IF(AND(J28=1,I28>=3),D28,IF(J28=1,"",D28)))) -> w | F28: =IF(AND(F27="l1",I28>3,D28="l"),"L2",IF(I28<3,"",IF(AND(D28="l",I28=3,F27=""),"l1",IF(F27="L2","New",IF(AND(D28="l",D27="w"),"L1",IF(AND(D28="l",D27="l",D26="W"),"L2","")))))) | G28: =IF(AND(E28="w",F27="l1"),2,IF(E28="",0,IF(AND(E28="w",F28=""),3,IF(AND(E28="l",F28="l1"),-3,IF(AND(E28="l",F28="l2"),-4))))) -> 2 | H28: =H27+G28 -> -7 | I28: =COUNTIF(K28:N28,1)+COUNTIF(K28:N28,2)+COUNTIF(K28:N28,3)+COUNTIF(K28:N28,4)+COUNTIF(K28:N28,5)+COUNTIF(K28:N28,6) -> 4 | J28: =IF(OR(F25="New",F24="New",F23="New",F26="New",F27="New",F28="New"),1,"") -> 1 | K28: =IF(AND(F27="New",P28>=1),R28,IF(AND(F27="l1",I27=3),K27,IF(D26="w",K27,IF(D27="w",K27,IF(V28<>0,V28,IF(W28<>0,W28,IF(X28<>0,X28,IF(Y28<>0,Y28,IF(Z28<>0,Z28,IF(AA28<>0,AA28,"")))))))))) -> 1 | L28: =IF(AND(F27="New",P28=1),"",IF(AND(F27="New",P28>=2),S28,IF(AND(F27="l1",I27=3),L27,IF(D26="w",L27,IF(D27="w",L27,IF(F27="l1",L27,IF(AND(W28<>0,W28<>K28),W28,IF(AND(X28<>0,X28<>K28),X28,IF(AND(Y28<>0,Y28<>K28),Y28,IF(AND(Z28<>0,Z28<>K28),Z28,IF(AND(AA28<>0,AA28<>K28),AA28))))))))))) -> 2 | M28: =IF(AND(F27="New",P28=1),"",IF(AND(F27="New",P28=2),"",IF(AND(F27="New",P28=3),T28,IF(AND(F27="l1",I27=3),M27,IF(D26="w",M27,IF(D27="w",M27,IF(AND(X28<>0,X28<>K28,X28<>L28),X28,IF(AND(Y28<>0,Y28<>K28,Y28<>L28),Y28,IF(AND(Z28<>0,Z28<>K28,Z28<>L28),Z28,IF(AND(AA28<>0,AA28<>K28,AA28<>L28),AA28,"")))))))))) -> 3 | N28: =IF(N27<>"","",IF(AND(R28<>K28,R28<>L28,R28<>M28,R28<>0),R28,"")) -> 4 | P28: =COUNTIF(R28:T28,1)+COUNTIF(R28:T28,2)+COUNTIF(R28:T28,3)+COUNTIF(R28:T28,4)+COUNTIF(R28:T28,5)+COUNTIF(R28:T28,6) -> 3 | R28: =V28 -> 4 | S28: =IF(AND(W28<>0,W28<>V28),W28,IF(AND(X28<>0,X28<>V28),X28,IF(AND(Y28<>0,Y28<>V28),Y28,IF(AND(Z28<>0,Z28<>V28),Z28,IF(AND(AA28<>0,AA28<>V28),AA28))))) -> 1 | T28: =IF(AND(X28<>0,X28<>S28,X28<>R28),X28,IF(AND(Y28<>0,Y28<>R28,Y28<>S28),Y28,IF(AND(Z28<>0,Z28<>R28,Z28<>S28),Z28,IF(AND(AA28<>0,AA28<>R28,AA28<>S28),AA28,"")))) -> 2 | V28: =C28 -> 4 | W28: =IF(F27="New","",C27) -> 1 | X28: =IF(F26="New","",IF(F27="New","",C26)) -> 0 | Y28: =IF(F25="New","",IF(F26="New","",IF(F27="New","",C25))) -> 2 | Z28: =IF(F24="New","",IF(F25="New","",IF(F26="New","",IF(F27="New","",C24)))) -> 3 | AA28: =IF(F23="New","",IF(F24="New","",IF(F25="New","",IF(F26="New","",IF(F27="New","",C23)))))
B29: =RANDBETWEEN(0,36) -> 13 | C29: =IF(B29="","",VLOOKUP(B29,Tabelle2!$D$1:$E$37,2,0)) -> 3 | D29: =IF(AND(I29=3,OR(C30=K29,C30=L29,C30=M29)),"W",IF(AND(I29=4,OR(C30=K29,C30=L29,C30=M29,C30=N29)),"W","L")) -> L | E29: =IF(AND(F28="l1",D29="w"),"w",IF(F28="l2","",IF(AND(J29=1,I29>=3),D29,IF(J29=1,"",D29)))) -> L | F29: =IF(AND(F28="l1",I29>3,D29="l"),"L2",IF(I29<3,"",IF(AND(D29="l",I29=3,F28=""),"l1",IF(F28="L2","New",IF(AND(D29="l",D28="w"),"L1",IF(AND(D29="l",D28="l",D27="W"),"L2","")))))) -> l1 | G29: =IF(AND(E29="w",F28="l1"),2,IF(E29="",0,IF(AND(E29="w",F29=""),3,IF(AND(E29="l",F29="l1"),-3,IF(AND(E29="l",F29="l2"),-4))))) -> -3 | H29: =H28+G29 -> -10 | I29: =COUNTIF(K29:N29,1)+COUNTIF(K29:N29,2)+COUNTIF(K29:N29,3)+COUNTIF(K29:N29,4)+COUNTIF(K29:N29,5)+COUNTIF(K29:N29,6) -> 3 | J29: =IF(OR(F26="New",F25="New",F24="New",F27="New",F28="New",F29="New"),1,"") | K29: =IF(AND(F28="New",P29>=1),R29,IF(AND(F28="l1",I28=3),K28,IF(D27="w",K28,IF(D28="w",K28,IF(V29<>0,V29,IF(W29<>0,W29,IF(X29<>0,X29,IF(Y29<>0,Y29,IF(Z29<>0,Z29,IF(AA29<>0,AA29,"")))))))))) -> 1 | L29: =IF(AND(F28="New",P29=1),"",IF(AND(F28="New",P29>=2),S29,IF(AND(F28="l1",I28=3),L28,IF(D27="w",L28,IF(D28="w",L28,IF(F28="l1",L28,IF(AND(W29<>0,W29<>K29),W29,IF(AND(X29<>0,X29<>K29),X29,IF(AND(Y29<>0,Y29<>K29),Y29,IF(AND(Z29<>0,Z29<>K29),Z29,IF(AND(AA29<>0,AA29<>K29),AA29))))))))))) -> 2 | M29: =IF(AND(F28="New",P29=1),"",IF(AND(F28="New",P29=2),"",IF(AND(F28="New",P29=3),T29,IF(AND(F28="l1",I28=3),M28,IF(D27="w",M28,IF(D28="w",M28,IF(AND(X29<>0,X29<>K29,X29<>L29),X29,IF(AND(Y29<>0,Y29<>K29,Y29<>L29),Y29,IF(AND(Z29<>0,Z29<>K29,Z29<>L29),Z29,IF(AND(AA29<>0,AA29<>K29,AA29<>L29),AA29,"")))))))))) -> 3 | N29: =IF(N28<>"","",IF(AND(R29<>K29,R29<>L29,R29<>M29,R29<>0),R29,"")) | P29: =COUNTIF(R29:T29,1)+COUNTIF(R29:T29,2)+COUNTIF(R29:T29,3)+COUNTIF(R29:T29,4)+COUNTIF(R29:T29,5)+COUNTIF(R29:T29,6) -> 3 | R29: =V29 -> 3 | S29: =IF(AND(W29<>0,W29<>V29),W29,IF(AND(X29<>0,X29<>V29),X29,IF(AND(Y29<>0,Y29<>V29),Y29,IF(AND(Z29<>0,Z29<>V29),Z29,IF(AND(AA29<>0,AA29<>V29),AA29))))) -> 4 | T29: =IF(AND(X29<>0,X29<>S29,X29<>R29),X29,IF(AND(Y29<>0,Y29<>R29,Y29<>S29),Y29,IF(AND(Z29<>0,Z29<>R29,Z29<>S29),Z29,IF(AND(AA29<>0,AA29<>R29,AA29<>S29),AA29,"")))) -> 1 | V29: =C29 -> 3 | W29: =IF(F28="New","",C28) -> 4 | X29: =IF(F27="New","",IF(F28="New","",C27)) -> 1 | Y29: =IF(F26="New","",IF(F27="New","",IF(F28="New","",C26))) -> 0 | Z29: =IF(F25="New","",IF(F26="New","",IF(F27="New","",IF(F28="New","",C25)))) -> 2 | AA29: =IF(F24="New","",IF(F25="New","",IF(F26="New","",IF(F27="New","",IF(F28="New","",C24))))) -> 3
B30: =RANDBETWEEN(0,36) -> 34 | C30: =IF(B30="","",VLOOKUP(B30,Tabelle2!$D$1:$E$37,2,0)) -> 6 | D30: =IF(AND(I30=3,OR(C31=K30,C31=L30,C31=M30)),"W",IF(AND(I30=4,OR(C31=K30,C31=L30,C31=M30,C31=N30)),"W","L")) -> L | E30: =IF(AND(F29="l1",D30="w"),"w",IF(F29="l2","",IF(AND(J30=1,I30>=3),D30,IF(J30=1,"",D30)))) -> L | F30: =IF(AND(F29="l1",I30>3,D30="l"),"L2",IF(I30<3,"",IF(AND(D30="l",I30=3,F29=""),"l1",IF(F29="L2","New",IF(AND(D30="l",D29="w"),"L1",IF(AND(D30="l",D29="l",D28="W"),"L2","")))))) -> L2 | G30: =IF(AND(E30="w",F29="l1"),2,IF(E30="",0,IF(AND(E30="w",F30=""),3,IF(AND(E30="l",F30="l1"),-3,IF(AND(E30="l",F30="l2"),-4))))) -> -4 | H30: =H29+G30 -> -14 | I30: =COUNTIF(K30:N30,1)+COUNTIF(K30:N30,2)+COUNTIF(K30:N30,3)+COUNTIF(K30:N30,4)+COUNTIF(K30:N30,5)+COUNTIF(K30:N30,6) -> 4 | J30: =IF(OR(F27="New",F26="New",F25="New",F28="New",F29="New",F30="New"),1,"") | K30: =IF(AND(F29="New",P30>=1),R30,IF(AND(F29="l1",I29=3),K29,IF(D28="w",K29,IF(D29="w",K29,IF(V30<>0,V30,IF(W30<>0,W30,IF(X30<>0,X30,IF(Y30<>0,Y30,IF(Z30<>0,Z30,IF(AA30<>0,AA30,"")))))))))) -> 1 | L30: =IF(AND(F29="New",P30=1),"",IF(AND(F29="New",P30>=2),S30,IF(AND(F29="l1",I29=3),L29,IF(D28="w",L29,IF(D29="w",L29,IF(F29="l1",L29,IF(AND(W30<>0,W30<>K30),W30,IF(AND(X30<>0,X30<>K30),X30,IF(AND(Y30<>0,Y30<>K30),Y30,IF(AND(Z30<>0,Z30<>K30),Z30,IF(AND(AA30<>0,AA30<>K30),AA30))))))))))) -> 2 | M30: =IF(AND(F29="New",P30=1),"",IF(AND(F29="New",P30=2),"",IF(AND(F29="New",P30=3),T30,IF(AND(F29="l1",I29=3),M29,IF(D28="w",M29,IF(D29="w",M29,IF(AND(X30<>0,X30<>K30,X30<>L30),X30,IF(AND(Y30<>0,Y30<>K30,Y30<>L30),Y30,IF(AND(Z30<>0,Z30<>K30,Z30<>L30),Z30,IF(AND(AA30<>0,AA30<>K30,AA30<>L30),AA30,"")))))))))) -> 3 | N30: =IF(N29<>"","",IF(AND(R30<>K30,R30<>L30,R30<>M30,R30<>0),R30,"")) -> 6 | P30: =COUNTIF(R30:T30,1)+COUNTIF(R30:T30,2)+COUNTIF(R30:T30,3)+COUNTIF(R30:T30,4)+COUNTIF(R30:T30,5)+COUNTIF(R30:T30,6) -> 3 | R30: =V30 -> 6 | S30: =IF(AND(W30<>0,W30<>V30),W30,IF(AND(X30<>0,X30<>V30),X30,IF(AND(Y30<>0,Y30<>V30),Y30,IF(AND(Z30<>0,Z30<>V30),Z30,IF(AND(AA30<>0,AA30<>V30),AA30))))) -> 3 | T30: =IF(AND(X30<>0,X30<>S30,X30<>R30),X30,IF(AND(Y30<>0,Y30<>R30,Y30<>S30),Y30,IF(AND(Z30<>0,Z30<>R30,Z30<>S30),Z30,IF(AND(AA30<>0,AA30<>R30,AA30<>S30),AA30,"")))) -> 4 | V30: =C30 -> 6 | W30: =IF(F29="New","",C29) -> 3 | X30: =IF(F28="New","",IF(F29="New","",C28)) -> 4 | Y30: =IF(F27="New","",IF(F28="New","",IF(F29="New","",C27))) -> 1 | Z30: =IF(F26="New","",IF(F27="New","",IF(F28="New","",IF(F29="New","",C26)))) -> 0 | AA30: =IF(F25="New","",IF(F26="New","",IF(F27="New","",IF(F28="New","",IF(F29="New","",C25))))) -> 2
