Workbook

Sheet Tabelle1
V1: l1 | W1: l2 | X1: l3 | Y1: l4 | Z1: l5 | AA1: l6
C2: Line | G2: Pro | H2: Balance | K2: BET
B3: =RANDBETWEEN(0,36) -> 9 | C3: =IF(B3="","",VLOOKUP(B3,Tabelle2!$D$1:$E$37,2,0)) -> 2
B4: =RANDBETWEEN(0,36) -> 25 | C4: =IF(B4="","",VLOOKUP(B4,Tabelle2!$D$1:$E$37,2,0)) -> 5 | F4: =IF(F3="L2","New",IF(AND(D4="l",D3="w"),"L1",IF(AND(D4="l",D3="l",D2="W"),"L2",""))) | V4: =C4 -> 5 | W4: =C3 -> 2 | X4: =C2 -> Line | Y4: =C1 -> 0 | Z4: =#REF! -> #REF! | AA4: =#REF! -> #REF!
B5: =RANDBETWEEN(0,36) -> 2 | C5: =IF(B5="","",VLOOKUP(B5,Tabelle2!$D$1:$E$37,2,0)) -> 1 | F5: =IF(F4="L2","New",IF(AND(D5="l",D4="w"),"L1",IF(AND(D5="l",D4="l",D3="W"),"L2",""))) | V5: =C5 -> 1 | W5: =C4 -> 5 | X5: =C3 -> 2 | Y5: =C2 -> Line | Z5: =C1 -> 0 | AA5: =#REF! -> #REF! | AC5: Wins | AD5: =COUNTIF(E:E,"W") -> 1547
B6: =RANDBETWEEN(0,36) -> 12 | C6: =IF(B6="","",VLOOKUP(B6,Tabelle2!$D$1:$E$37,2,0)) -> 2 | D6: w | F6: new | P6: =COUNTIF(R6:T6,1)+COUNTIF(R6:T6,2)+COUNTIF(R6:T6,3)+COUNTIF(R6:T6,4)+COUNTIF(R6:T6,5)+COUNTIF(R6:T6,6) -> 3 | R6: =V6 -> 2 | S6: =IF(AND(W6<>0,W6<>V6),W6,IF(AND(X6<>0,X6<>V6),X6,IF(AND(Y6<>0,Y6<>V6),Y6,IF(AND(Z6<>0,Z6<>V6),Z6,IF(AND(AA6<>0,AA6<>V6),AA6))))) -> 1 | T6: =IF(AND(X6<>0,X6<>S6,X6<>R6),X6,IF(AND(Y6<>0,Y6<>R6,Y6<>S6),Y6,IF(AND(Z6<>0,Z6<>R6,Z6<>S6),Z6,IF(AND(AA6<>0,AA6<>R6,AA6<>S6),AA6,"")))) -> 5 | V6: =C6 -> 2 | W6: =C5 -> 1 | X6: =C4 -> 5 | Y6: =C3 -> 2 | Z6: =C2 -> Line | AA6: =C1 -> 0 | AC6: Loses | AD6: =COUNTIF(E:E,"l") -> 1300
B7: =RANDBETWEEN(0,36) -> 21 | C7: =IF(B7="","",VLOOKUP(B7,Tabelle2!$D$1:$E$37,2,0)) -> 4 | D7: =IF(AND(I7=3,OR(C8=K7,C8=L7,C8=M7)),"W",IF(AND(I7=4,OR(C8=K7,C8=L7,C8=M7,C8=N7)),"W","L")) -> L | P7: =COUNTIF(R7:T7,1)+COUNTIF(R7:T7,2)+COUNTIF(R7:T7,3)+COUNTIF(R7:T7,4)+COUNTIF(R7:T7,5)+COUNTIF(R7:T7,6) -> 3 | R7: =V7 -> 4 | S7: =IF(AND(W7<>0,W7<>V7),W7,IF(AND(X7<>0,X7<>V7),X7,IF(AND(Y7<>0,Y7<>V7),Y7,IF(AND(Z7<>0,Z7<>V7),Z7,IF(AND(AA7<>0,AA7<>V7),AA7))))) -> 2 | T7: =IF(AND(X7<>0,X7<>S7,X7<>R7),X7,IF(AND(Y7<>0,Y7<>R7,Y7<>S7),Y7,IF(AND(Z7<>0,Z7<>R7,Z7<>S7),Z7,IF(AND(AA7<>0,AA7<>R7,AA7<>S7),AA7,"")))) -> 1 | V7: =C7 -> 4 | W7: =C6 -> 2 | X7: =C5 -> 1 | Y7: =C4 -> 5 | Z7: =C3 -> 2 | AA7: =C2 -> Line
B8: =RANDBETWEEN(0,36) -> 6 | C8: =IF(B8="","",VLOOKUP(B8,Tabelle2!$D$1:$E$37,2,0)) -> 1 | D8: =IF(AND(I8=3,OR(C9=K8,C9=L8,C9=M8)),"W",IF(AND(I8=4,OR(C9=K8,C9=L8,C9=M8,C9=N8)),"W","L")) -> L | E8: =IF(AND(F7="l1",D8="w"),"w",IF(F7="l2","",IF(AND(J8=1,I8>=3),D8,IF(J8=1,"",D8)))) | G8: =IF(AND(E8="w",F7="l1"),2,IF(E8="",0,IF(AND(E8="w",F8=""),3,IF(AND(E8="l",F8="l1"),-3,IF(AND(E8="l",F8="l2"),-4))))) -> 0 | H8: =H7+G8 -> 0 | I8: =COUNTIF(K8:N8,1)+COUNTIF(K8:N8,2)+COUNTIF(K8:N8,3)+COUNTIF(K8:N8,4)+COUNTIF(K8:N8,5)+COUNTIF(K8:N8,6) -> 0 | J8: =IF(OR(F5="New",F4="New",F3="New",F6="New",F7="New",F8="New"),1,"") -> 1 | P8: =COUNTIF(R8:T8,1)+COUNTIF(R8:T8,2)+COUNTIF(R8:T8,3)+COUNTIF(R8:T8,4)+COUNTIF(R8:T8,5)+COUNTIF(R8:T8,6) -> 3 | R8: =V8 -> 1 | S8: =IF(AND(W8<>0,W8<>V8),W8,IF(AND(X8<>0,X8<>V8),X8,IF(AND(Y8<>0,Y8<>V8),Y8,IF(AND(Z8<>0,Z8<>V8),Z8,IF(AND(AA8<>0,AA8<>V8),AA8))))) -> 4 | T8: =IF(AND(X8<>0,X8<>S8,X8<>R8),X8,IF(AND(Y8<>0,Y8<>R8,Y8<>S8),Y8,IF(AND(Z8<>0,Z8<>R8,Z8<>S8),Z8,IF(AND(AA8<>0,AA8<>R8,AA8<>S8),AA8,"")))) -> 2 | V8: =C8 -> 1 | W8: =C7 -> 4 | X8: =C6 -> 2 | Y8: =C5 -> 1 | Z8: =C4 -> 5 | AA8: =C3 -> 2 | AC8: Wins | AD8: =AD5/(AD5+AD6)*100 -> 54.3379
B9: =RANDBETWEEN(0,36) -> 2 | C9: =IF(B9="","",VLOOKUP(B9,Tabelle2!$D$1:$E$37,2,0)) -> 1 | D9: =IF(AND(I9=3,OR(C10=K9,C10=L9,C10=M9)),"W",IF(AND(I9=4,OR(C10=K9,C10=L9,C10=M9,C10=N9)),"W","L")) -> W | E9: =IF(AND(F8="l1",D9="w"),"w",IF(F8="l2","",IF(AND(J9=1,I9>=3),D9,IF(J9=1,"",D9)))) -> W | F9: =IF(AND(F8="l1",I9>3,D9="l"),"L2",IF(I9<3,"",IF(AND(D9="l",I9=3,F8=""),"l1",IF(F8="L2","New",IF(AND(D9="l",D8="w"),"L1",IF(AND(D9="l",D8="l",D7="W"),"L2","")))))) | G9: =IF(AND(E9="w",F8="l1"),2,IF(E9="",0,IF(AND(E9="w",F9=""),3,IF(AND(E9="l",F9="l1"),-3,IF(AND(E9="l",F9="l2"),-4))))) -> 3 | H9: =H8+G9 -> 3 | I9: =COUNTIF(K9:N9,1)+COUNTIF(K9:N9,2)+COUNTIF(K9:N9,3)+COUNTIF(K9:N9,4)+COUNTIF(K9:N9,5)+COUNTIF(K9:N9,6) -> 3 | J9: =IF(OR(F6="New",F5="New",F4="New",F7="New",F8="New",F9="New"),1,"") -> 1 | K9: =IF(AND(F8="New",P9>=1),R9,IF(AND(F8="l1",I8=3),K8,IF(D7="w",K8,IF(D8="w",K8,IF(V9<>0,V9,IF(W9<>0,W9,IF(X9<>0,X9,IF(Y9<>0,Y9,IF(Z9<>0,Z9,IF(AA9<>0,AA9,"")))))))))) -> 1 | L9: =IF(AND(F8="New",P9=1),"",IF(AND(F8="New",P9>=2),S9,IF(AND(F8="l1",I8=3),L8,IF(D7="w",L8,IF(D8="w",L8,IF(F8="l1",L8,IF(AND(W9<>0,W9<>K9),W9,IF(AND(X9<>0,X9<>K9),X9,IF(AND(Y9<>0,Y9<>K9),Y9,IF(AND(Z9<>0,Z9<>K9),Z9,IF(AND(AA9<>0,AA9<>K9),AA9))))))))))) -> 4 | M9: =IF(AND(F8="New",P9=1),"",IF(AND(F8="New",P9=2),"",IF(AND(F8="New",P9=3),T9,IF(AND(F8="l1",I8=3),M8,IF(D7="w",M8,IF(D8="w",M8,IF(AND(X9<>0,X9<>K9,X9<>L9),X9,IF(AND(Y9<>0,Y9<>K9,Y9<>L9),Y9,IF(AND(Z9<>0,Z9<>K9,Z9<>L9),Z9,IF(AND(AA9<>0,AA9<>K9,AA9<>L9),AA9,"")))))))))) -> 2 | N9: =IF(N8<>"","",IF(AND(R9<>K9,R9<>L9,R9<>M9,R9<>0),R9,"")) | P9: =COUNTIF(R9:T9,1)+COUNTIF(R9:T9,2)+COUNTIF(R9:T9,3)+COUNTIF(R9:T9,4)+COUNTIF(R9:T9,5)+COUNTIF(R9:T9,6) -> 3 | R9: =V9 -> 1 | S9: =IF(AND(W9<>0,W9<>V9),W9,IF(AND(X9<>0,X9<>V9),X9,IF(AND(Y9<>0,Y9<>V9),Y9,IF(AND(Z9<>0,Z9<>V9),Z9,IF(AND(AA9<>0,AA9<>V9),AA9))))) -> 4 | T9: =IF(AND(X9<>0,X9<>S9,X9<>R9),X9,IF(AND(Y9<>0,Y9<>R9,Y9<>S9),Y9,IF(AND(Z9<>0,Z9<>R9,Z9<>S9),Z9,IF(AND(AA9<>0,AA9<>R9,AA9<>S9),AA9,"")))) -> 2 | V9: =C9 -> 1 | W9: =C8 -> 1 | X9: =C7 -> 4 | Y9: =C6 -> 2 | Z9: =C5 -> 1 | AA9: =C4 -> 5 | AC9: %
B10: =RANDBETWEEN(0,36) -> 20 | C10: =IF(B10="","",VLOOKUP(B10,Tabelle2!$D$1:$E$37,2,0)) -> 4 | D10: =IF(AND(I10=3,OR(C11=K10,C11=L10,C11=M10)),"W",IF(AND(I10=4,OR(C11=K10,C11=L10,C11=M10,C11=N10)),"W","L")) -> W | E10: =IF(AND(F9="l1",D10="w"),"w",IF(F9="l2","",IF(AND(J10=1,I10>=3),D10,IF(J10=1,"",D10)))) -> W | F10: =IF(AND(F9="l1",I10>3,D10="l"),"L2",IF(I10<3,"",IF(AND(D10="l",I10=3,F9=""),"l1",IF(F9="L2","New",IF(AND(D10="l",D9="w"),"L1",IF(AND(D10="l",D9="l",D8="W"),"L2","")))))) | G10: =IF(AND(E10="w",F9="l1"),2,IF(E10="",0,IF(AND(E10="w",F10=""),3,IF(AND(E10="l",F10="l1"),-3,IF(AND(E10="l",F10="l2"),-4))))) -> 3 | H10: =H9+G10 -> 6 | I10: =COUNTIF(K10:N10,1)+COUNTIF(K10:N10,2)+COUNTIF(K10:N10,3)+COUNTIF(K10:N10,4)+COUNTIF(K10:N10,5)+COUNTIF(K10:N10,6) -> 3 | J10: =IF(OR(F7="New",F6="New",F5="New",F8="New",F9="New",F10="New"),1,"") -> 1 | K10: =IF(AND(F9="New",P10>=1),R10,IF(AND(F9="l1",I9=3),K9,IF(D8="w",K9,IF(D9="w",K9,IF(V10<>0,V10,IF(W10<>0,W10,IF(X10<>0,X10,IF(Y10<>0,Y10,IF(Z10<>0,Z10,IF(AA10<>0,AA10,"")))))))))) -> 1 | L10: =IF(AND(F9="New",P10=1),"",IF(AND(F9="New",P10>=2),S10,IF(AND(F9="l1",I9=3),L9,IF(D8="w",L9,IF(D9="w",L9,IF(F9="l1",L9,IF(AND(W10<>0,W10<>K10),W10,IF(AND(X10<>0,X10<>K10),X10,IF(AND(Y10<>0,Y10<>K10),Y10,IF(AND(Z10<>0,Z10<>K10),Z10,IF(AND(AA10<>0,AA10<>K10),AA10))))))))))) -> 4 | M10: =IF(AND(F9="New",P10=1),"",IF(AND(F9="New",P10=2),"",IF(AND(F9="New",P10=3),T10,IF(AND(F9="l1",I9=3),M9,IF(D8="w",M9,IF(D9="w",M9,IF(AND(X10<>0,X10<>K10,X10<>L10),X10,IF(AND(Y10<>0,Y10<>K10,Y10<>L10),Y10,IF(AND(Z10<>0,Z10<>K10,Z10<>L10),Z10,IF(AND(AA10<>0,AA10<>K10,AA10<>L10),AA10,"")))))))))) -> 2 | N10: =IF(N9<>"","",IF(AND(R10<>K10,R10<>L10,R10<>M10,R10<>0),R10,"")) | P10: =COUNTIF(R10:T10,1)+COUNTIF(R10:T10,2)+COUNTIF(R10:T10,3)+COUNTIF(R10:T10,4)+COUNTIF(R10:T10,5)+COUNTIF(R10:T10,6) -> 3 | R10: =V10 -> 4 | S10: =IF(AND(W10<>0,W10<>V10),W10,IF(AND(X10<>0,X10<>V10),X10,IF(AND(Y10<>0,Y10<>V10),Y10,IF(AND(Z10<>0,Z10<>V10),Z10,IF(AND(AA10<>0,AA10<>V10),AA10))))) -> 1 | T10: =IF(AND(X10<>0,X10<>S10,X10<>R10),X10,IF(AND(Y10<>0,Y10<>R10,Y10<>S10),Y10,IF(AND(Z10<>0,Z10<>R10,Z10<>S10),Z10,IF(AND(AA10<>0,AA10<>R10,AA10<>S10),AA10,"")))) -> 2 | V10: =C10 -> 4 | W10: =IF(F9="New","",C9) -> 1 | X10: =IF(F9="New","",C8) -> 1 | Y10: =IF(F9="New","",C7) -> 4 | Z10: =IF(F9="New","",C6) -> 2 | AA10: =IF(F9="New","",C5) -> 1 | AC10: Loses | AD10: =AD6/(AD5+AD6)*100 -> 45.6621
B11: =RANDBETWEEN(0,36) -> 19 | C11: =IF(B11="","",VLOOKUP(B11,Tabelle2!$D$1:$E$37,2,0)) -> 4 | D11: =IF(AND(I11=3,OR(C12=K11,C12=L11,C12=M11)),"W",IF(AND(I11=4,OR(C12=K11,C12=L11,C12=M11,C12=N11)),"W","L")) -> L | E11: =IF(AND(F10="l1",D11="w"),"w",IF(F10="l2","",IF(AND(J11=1,I11>=3),D11,IF(J11=1,"",D11)))) -> L | F11: =IF(AND(F10="l1",I11>3,D11="l"),"L2",IF(I11<3,"",IF(AND(D11="l",I11=3,F10=""),"l1",IF(F10="L2","New",IF(AND(D11="l",D10="w"),"L1",IF(AND(D11="l",D10="l",D9="W"),"L2","")))))) -> l1 | G11: =IF(AND(E11="w",F10="l1"),2,IF(E11="",0,IF(AND(E11="w",F11=""),3,IF(AND(E11="l",F11="l1"),-3,IF(AND(E11="l",F11="l2"),-4))))) -> -3 | H11: =H10+G11 -> 3 | I11: =COUNTIF(K11:N11,1)+COUNTIF(K11:N11,2)+COUNTIF(K11:N11,3)+COUNTIF(K11:N11,4)+COUNTIF(K11:N11,5)+COUNTIF(K11:N11,6) -> 3 | J11: =IF(OR(F8="New",F7="New",F6="New",F9="New",F10="New",F11="New"),1,"") -> 1 | K11: =IF(AND(F10="New",P11>=1),R11,IF(AND(F10="l1",I10=3),K10,IF(D9="w",K10,IF(D10="w",K10,IF(V11<>0,V11,IF(W11<>0,W11,IF(X11<>0,X11,IF(Y11<>0,Y11,IF(Z11<>0,Z11,IF(AA11<>0,AA11,"")))))))))) -> 1 | L11: =IF(AND(F10="New",P11=1),"",IF(AND(F10="New",P11>=2),S11,IF(AND(F10="l1",I10=3),L10,IF(D9="w",L10,IF(D10="w",L10,IF(F10="l1",L10,IF(AND(W11<>0,W11<>K11),W11,IF(AND(X11<>0,X11<>K11),X11,IF(AND(Y11<>0,Y11<>K11),Y11,IF(AND(Z11<>0,Z11<>K11),Z11,IF(AND(AA11<>0,AA11<>K11),AA11))))))))))) -> 4 | M11: =IF(AND(F10="New",P11=1),"",IF(AND(F10="New",P11=2),"",IF(AND(F10="New",P11=3),T11,IF(AND(F10="l1",I10=3),M10,IF(D9="w",M10,IF(D10="w",M10,IF(AND(X11<>0,X11<>K11,X11<>L11),X11,IF(AND(Y11<>0,Y11<>K11,Y11<>L11),Y11,IF(AND(Z11<>0,Z11<>K11,Z11<>L11),Z11,IF(AND(AA11<>0,AA11<>K11,AA11<>L11),AA11,"")))))))))) -> 2 | N11: =IF(N10<>"","",IF(AND(R11<>K11,R11<>L11,R11<>M11,R11<>0),R11,"")) | P11: =COUNTIF(R11:T11,1)+COUNTIF(R11:T11,2)+COUNTIF(R11:T11,3)+COUNTIF(R11:T11,4)+COUNTIF(R11:T11,5)+COUNTIF(R11:T11,6) -> 3 | R11: =V11 -> 4 | S11: =IF(AND(W11<>0,W11<>V11),W11,IF(AND(X11<>0,X11<>V11),X11,IF(AND(Y11<>0,Y11<>V11),Y11,IF(AND(Z11<>0,Z11<>V11),Z11,IF(AND(AA11<>0,AA11<>V11),AA11))))) -> 1 | T11: =IF(AND(X11<>0,X11<>S11,X11<>R11),X11,IF(AND(Y11<>0,Y11<>R11,Y11<>S11),Y11,IF(AND(Z11<>0,Z11<>R11,Z11<>S11),Z11,IF(AND(AA11<>0,AA11<>R11,AA11<>S11),AA11,"")))) -> 2 | V11: =C11 -> 4 | W11: =IF(F10="New","",C10) -> 4 | X11: =IF(F9="New","",IF(F10="New","",C9)) -> 1 | Y11: =IF(F9="New","",IF(F10="New","",C8)) -> 1 | Z11: =IF(F9="New","",IF(F10="New","",C7)) -> 4 | AA11: =IF(F9="New","",IF(F10="New","",C6)) -> 2 | AC11: %
B12: =RANDBETWEEN(0,36) -> 26 | C12: =IF(B12="","",VLOOKUP(B12,Tabelle2!$D$1:$E$37,2,0)) -> 5 | D12: =IF(AND(I12=3,OR(C13=K12,C13=L12,C13=M12)),"W",IF(AND(I12=4,OR(C13=K12,C13=L12,C13=M12,C13=N12)),"W","L")) -> L | E12: =IF(AND(F11="l1",D12="w"),"w",IF(F11="l2","",IF(AND(J12=1,I12>=3),D12,IF(J12=1,"",D12)))) -> L | F12: =IF(AND(F11="l1",I12>3,D12="l"),"L2",IF(I12<3,"",IF(AND(D12="l",I12=3,F11=""),"l1",IF(F11="L2","New",IF(AND(D12="l",D11="w"),"L1",IF(AND(D12="l",D11="l",D10="W"),"L2","")))))) -> L2 | G12: =IF(AND(E12="w",F11="l1"),2,IF(E12="",0,IF(AND(E12="w",F12=""),3,IF(AND(E12="l",F12="l1"),-3,IF(AND(E12="l",F12="l2"),-4))))) -> -4 | H12: =H11+G12 -> -1 | I12: =COUNTIF(K12:N12,1)+COUNTIF(K12:N12,2)+COUNTIF(K12:N12,3)+COUNTIF(K12:N12,4)+COUNTIF(K12:N12,5)+COUNTIF(K12:N12,6) -> 4 | J12: =IF(OR(F9="New",F8="New",F7="New",F10="New",F11="New",F12="New"),1,"") | K12: =IF(AND(F11="New",P12>=1),R12,IF(AND(F11="l1",I11=3),K11,IF(D10="w",K11,IF(D11="w",K11,IF(V12<>0,V12,IF(W12<>0,W12,IF(X12<>0,X12,IF(Y12<>0,Y12,IF(Z12<>0,Z12,IF(AA12<>0,AA12,"")))))))))) -> 1 | L12: =IF(AND(F11="New",P12=1),"",IF(AND(F11="New",P12>=2),S12,IF(AND(F11="l1",I11=3),L11,IF(D10="w",L11,IF(D11="w",L11,IF(F11="l1",L11,IF(AND(W12<>0,W12<>K12),W12,IF(AND(X12<>0,X12<>K12),X12,IF(AND(Y12<>0,Y12<>K12),Y12,IF(AND(Z12<>0,Z12<>K12),Z12,IF(AND(AA12<>0,AA12<>K12),AA12))))))))))) -> 4 | M12: =IF(AND(F11="New",P12=1),"",IF(AND(F11="New",P12=2),"",IF(AND(F11="New",P12=3),T12,IF(AND(F11="l1",I11=3),M11,IF(D10="w",M11,IF(D11="w",M11,IF(AND(X12<>0,X12<>K12,X12<>L12),X12,IF(AND(Y12<>0,Y12<>K12,Y12<>L12),Y12,IF(AND(Z12<>0,Z12<>K12,Z12<>L12),Z12,IF(AND(AA12<>0,AA12<>K12,AA12<>L12),AA12,"")))))))))) -> 2 | N12: =IF(N11<>"","",IF(AND(R12<>K12,R12<>L12,R12<>M12,R12<>0),R12,"")) -> 5 | P12: =COUNTIF(R12:T12,1)+COUNTIF(R12:T12,2)+COUNTIF(R12:T12,3)+COUNTIF(R12:T12,4)+COUNTIF(R12:T12,5)+COUNTIF(R12:T12,6) -> 3 | R12: =V12 -> 5 | S12: =IF(AND(W12<>0,W12<>V12),W12,IF(AND(X12<>0,X12<>V12),X12,IF(AND(Y12<>0,Y12<>V12),Y12,IF(AND(Z12<>0,Z12<>V12),Z12,IF(AND(AA12<>0,AA12<>V12),AA12))))) -> 4 | T12: =IF(AND(X12<>0,X12<>S12,X12<>R12),X12,IF(AND(Y12<>0,Y12<>R12,Y12<>S12),Y12,IF(AND(Z12<>0,Z12<>R12,Z12<>S12),Z12,IF(AND(AA12<>0,AA12<>R12,AA12<>S12),AA12,"")))) -> 1 | V12: =C12 -> 5 | W12: =IF(F11="New","",C11) -> 4 | X12: =IF(F10="New","",IF(F11="New","",C10)) -> 4 | Y12: =IF(F9="New","",IF(F10="New","",IF(F11="New","",C9))) -> 1 | Z12: =IF(F9="New","",IF(F10="New","",IF(F11="New","",C8))) -> 1 | AA12: =IF(F9="New","",IF(F10="New","",IF(F11="New","",C7))) -> 4
B13: =RANDBETWEEN(0,36) -> 18 | C13: =IF(B13="","",VLOOKUP(B13,Tabelle2!$D$1:$E$37,2,0)) -> 3 | D13: =IF(AND(I13=3,OR(C14=K13,C14=L13,C14=M13)),"W",IF(AND(I13=4,OR(C14=K13,C14=L13,C14=M13,C14=N13)),"W","L")) -> L | E13: =IF(AND(F12="l1",D13="w"),"w",IF(F12="l2","",IF(AND(J13=1,I13>=3),D13,IF(J13=1,"",D13)))) | F13: =IF(AND(F12="l1",I13>3,D13="l"),"L2",IF(I13<3,"",IF(AND(D13="l",I13=3,F12=""),"l1",IF(F12="L2","New",IF(AND(D13="l",D12="w"),"L1",IF(AND(D13="l",D12="l",D11="W"),"L2","")))))) -> New | G13: =IF(AND(E13="w",F12="l1"),2,IF(E13="",0,IF(AND(E13="w",F13=""),3,IF(AND(E13="l",F13="l1"),-3,IF(AND(E13="l",F13="l2"),-4))))) -> 0 | H13: =H12+G13 -> -1 | I13: =COUNTIF(K13:N13,1)+COUNTIF(K13:N13,2)+COUNTIF(K13:N13,3)+COUNTIF(K13:N13,4)+COUNTIF(K13:N13,5)+COUNTIF(K13:N13,6) -> 3 | J13: =IF(OR(F10="New",F9="New",F8="New",F11="New",F12="New",F13="New"),1,"") -> 1 | K13: =IF(AND(F12="New",P13>=1),R13,IF(AND(F12="l1",I12=3),K12,IF(D11="w",K12,IF(D12="w",K12,IF(V13<>0,V13,IF(W13<>0,W13,IF(X13<>0,X13,IF(Y13<>0,Y13,IF(Z13<>0,Z13,IF(AA13<>0,AA13,"")))))))))) -> 3 | L13: =IF(AND(F12="New",P13=1),"",IF(AND(F12="New",P13>=2),S13,IF(AND(F12="l1",I12=3),L12,IF(D11="w",L12,IF(D12="w",L12,IF(F12="l1",L12,IF(AND(W13<>0,W13<>K13),W13,IF(AND(X13<>0,X13<>K13),X13,IF(AND(Y13<>0,Y13<>K13),Y13,IF(AND(Z13<>0,Z13<>K13),Z13,IF(AND(AA13<>0,AA13<>K13),AA13))))))))))) -> 5 | M13: =IF(AND(F12="New",P13=1),"",IF(AND(F12="New",P13=2),"",IF(AND(F12="New",P13=3),T13,IF(AND(F12="l1",I12=3),M12,IF(D11="w",M12,IF(D12="w",M12,IF(AND(X13<>0,X13<>K13,X13<>L13),X13,IF(AND(Y13<>0,Y13<>K13,Y13<>L13),Y13,IF(AND(Z13<>0,Z13<>K13,Z13<>L13),Z13,IF(AND(AA13<>0,AA13<>K13,AA13<>L13),AA13,"")))))))))) -> 4 | N13: =IF(N12<>"","",IF(AND(R13<>K13,R13<>L13,R13<>M13,R13<>0),R13,"")) | P13: =COUNTIF(R13:T13,1)+COUNTIF(R13:T13,2)+COUNTIF(R13:T13,3)+COUNTIF(R13:T13,4)+COUNTIF(R13:T13,5)+COUNTIF(R13:T13,6) -> 3 | R13: =V13 -> 3 | S13: =IF(AND(W13<>0,W13<>V13),W13,IF(AND(X13<>0,X13<>V13),X13,IF(AND(Y13<>0,Y13<>V13),Y13,IF(AND(Z13<>0,Z13<>V13),Z13,IF(AND(AA13<>0,AA13<>V13),AA13))))) -> 5 | T13: =IF(AND(X13<>0,X13<>S13,X13<>R13),X13,IF(AND(Y13<>0,Y13<>R13,Y13<>S13),Y13,IF(AND(Z13<>0,Z13<>R13,Z13<>S13),Z13,IF(AND(AA13<>0,AA13<>R13,AA13<>S13),AA13,"")))) -> 4 | V13: =C13 -> 3 | W13: =IF(F12="New","",C12) -> 5 | X13: =IF(F11="New","",IF(F12="New","",C11)) -> 4 | Y13: =IF(F10="New","",IF(F11="New","",IF(F12="New","",C10))) -> 4 | Z13: =IF(F9="New","",IF(F10="New","",IF(F11="New","",IF(F12="New","",C9)))) -> 1 | AA13: =IF(F9="New","",IF(F10="New","",IF(F11="New","",IF(F12="New","",C8)))) -> 1 | AC13: Max | AD13: =MAX(H:H) -> 84
B14: =RANDBETWEEN(0,36) -> 35 | C14: =IF(B14="","",VLOOKUP(B14,Tabelle2!$D$1:$E$37,2,0)) -> 6 | D14: =IF(AND(I14=3,OR(C15=K14,C15=L14,C15=M14)),"W",IF(AND(I14=4,OR(C15=K14,C15=L14,C15=M14,C15=N14)),"W","L")) -> L | E14: =IF(AND(F13="l1",D14="w"),"w",IF(F13="l2","",IF(AND(J14=1,I14>=3),D14,IF(J14=1,"",D14)))) | F14: =IF(AND(F13="l1",I14>3,D14="l"),"L2",IF(I14<3,"",IF(AND(D14="l",I14=3,F13=""),"l1",IF(F13="L2","New",IF(AND(D14="l",D13="w"),"L1",IF(AND(D14="l",D13="l",D12="W"),"L2","")))))) | G14: =IF(AND(E14="w",F13="l1"),2,IF(E14="",0,IF(AND(E14="w",F14=""),3,IF(AND(E14="l",F14="l1"),-3,IF(AND(E14="l",F14="l2"),-4))))) -> 0 | H14: =H13+G14 -> -1 | I14: =COUNTIF(K14:N14,1)+COUNTIF(K14:N14,2)+COUNTIF(K14:N14,3)+COUNTIF(K14:N14,4)+COUNTIF(K14:N14,5)+COUNTIF(K14:N14,6) -> 1 | J14: =IF(OR(F11="New",F10="New",F9="New",F12="New",F13="New",F14="New"),1,"") -> 1 | K14: =IF(AND(F13="New",P14>=1),R14,IF(AND(F13="l1",I13=3),K13,IF(D12="w",K13,IF(D13="w",K13,IF(V14<>0,V14,IF(W14<>0,W14,IF(X14<>0,X14,IF(Y14<>0,Y14,IF(Z14<>0,Z14,IF(AA14<>0,AA14,"")))))))))) -> 6 | L14: =IF(AND(F13="New",P14=1),"",IF(AND(F13="New",P14>=2),S14,IF(AND(F13="l1",I13=3),L13,IF(D12="w",L13,IF(D13="w",L13,IF(F13="l1",L13,IF(AND(W14<>0,W14<>K14),W14,IF(AND(X14<>0,X14<>K14),X14,IF(AND(Y14<>0,Y14<>K14),Y14,IF(AND(Z14<>0,Z14<>K14),Z14,IF(AND(AA14<>0,AA14<>K14),AA14))))))))))) | M14: =IF(AND(F13="New",P14=1),"",IF(AND(F13="New",P14=2),"",IF(AND(F13="New",P14=3),T14,IF(AND(F13="l1",I13=3),M13,IF(D12="w",M13,IF(D13="w",M13,IF(AND(X14<>0,X14<>K14,X14<>L14),X14,IF(AND(Y14<>0,Y14<>K14,Y14<>L14),Y14,IF(AND(Z14<>0,Z14<>K14,Z14<>L14),Z14,IF(AND(AA14<>0,AA14<>K14,AA14<>L14),AA14,"")))))))))) | N14: =IF(N13<>"","",IF(AND(R14<>K14,R14<>L14,R14<>M14,R14<>0),R14,"")) | P14: =COUNTIF(R14:T14,1)+COUNTIF(R14:T14,2)+COUNTIF(R14:T14,3)+COUNTIF(R14:T14,4)+COUNTIF(R14:T14,5)+COUNTIF(R14:T14,6) -> 1 | R14: =V14 -> 6 | S14: =IF(AND(W14<>0,W14<>V14),W14,IF(AND(X14<>0,X14<>V14),X14,IF(AND(Y14<>0,Y14<>V14),Y14,IF(AND(Z14<>0,Z14<>V14),Z14,IF(AND(AA14<>0,AA14<>V14),AA14))))) | T14: =IF(AND(X14<>0,X14<>S14,X14<>R14),X14,IF(AND(Y14<>0,Y14<>R14,Y14<>S14),Y14,IF(AND(Z14<>0,Z14<>R14,Z14<>S14),Z14,IF(AND(AA14<>0,AA14<>R14,AA14<>S14),AA14,"")))) | V14: =C14 -> 6 | W14: =IF(F13="New","",C13) | X14: =IF(F12="New","",IF(F13="New","",C12)) | Y14: =IF(F11="New","",IF(F12="New","",IF(F13="New","",C11))) | Z14: =IF(F10="New","",IF(F11="New","",IF(F12="New","",IF(F13="New","",C10)))) | AA14: =IF(F9="New","",IF(F10="New","",IF(F11="New","",IF(F12="New","",IF(F13="New","",C9))))) | AC14: Min | AD14: =MIN(H:H) -> -163
B15: =RANDBETWEEN(0,36) -> 7 | C15: =IF(B15="","",VLOOKUP(B15,Tabelle2!$D$1:$E$37,2,0)) -> 2 | D15: =IF(AND(I15=3,OR(C16=K15,C16=L15,C16=M15)),"W",IF(AND(I15=4,OR(C16=K15,C16=L15,C16=M15,C16=N15)),"W","L")) -> L | E15: =IF(AND(F14="l1",D15="w"),"w",IF(F14="l2","",IF(AND(J15=1,I15>=3),D15,IF(J15=1,"",D15)))) | F15: =IF(AND(F14="l1",I15>3,D15="l"),"L2",IF(I15<3,"",IF(AND(D15="l",I15=3,F14=""),"l1",IF(F14="L2","New",IF(AND(D15="l",D14="w"),"L1",IF(AND(D15="l",D14="l",D13="W"),"L2","")))))) | G15: =IF(AND(E15="w",F14="l1"),2,IF(E15="",0,IF(AND(E15="w",F15=""),3,IF(AND(E15="l",F15="l1"),-3,IF(AND(E15="l",F15="l2"),-4))))) -> 0 | H15: =H14+G15 -> -1 | I15: =COUNTIF(K15:N15,1)+COUNTIF(K15:N15,2)+COUNTIF(K15:N15,3)+COUNTIF(K15:N15,4)+COUNTIF(K15:N15,5)+COUNTIF(K15:N15,6) -> 2 | J15: =IF(OR(F12="New",F11="New",F10="New",F13="New",F14="New",F15="New"),1,"") -> 1 | K15: =IF(AND(F14="New",P15>=1),R15,IF(AND(F14="l1",I14=3),K14,IF(D13="w",K14,IF(D14="w",K14,IF(V15<>0,V15,IF(W15<>0,W15,IF(X15<>0,X15,IF(Y15<>0,Y15,IF(Z15<>0,Z15,IF(AA15<>0,AA15,"")))))))))) -> 2 | L15: =IF(AND(F14="New",P15=1),"",IF(AND(F14="New",P15>=2),S15,IF(AND(F14="l1",I14=3),L14,IF(D13="w",L14,IF(D14="w",L14,IF(F14="l1",L14,IF(AND(W15<>0,W15<>K15),W15,IF(AND(X15<>0,X15<>K15),X15,IF(AND(Y15<>0,Y15<>K15),Y15,IF(AND(Z15<>0,Z15<>K15),Z15,IF(AND(AA15<>0,AA15<>K15),AA15))))))))))) -> 6 | M15: =IF(AND(F14="New",P15=1),"",IF(AND(F14="New",P15=2),"",IF(AND(F14="New",P15=3),T15,IF(AND(F14="l1",I14=3),M14,IF(D13="w",M14,IF(D14="w",M14,IF(AND(X15<>0,X15<>K15,X15<>L15),X15,IF(AND(Y15<>0,Y15<>K15,Y15<>L15),Y15,IF(AND(Z15<>0,Z15<>K15,Z15<>L15),Z15,IF(AND(AA15<>0,AA15<>K15,AA15<>L15),AA15,"")))))))))) | N15: =IF(N14<>"","",IF(AND(R15<>K15,R15<>L15,R15<>M15,R15<>0),R15,"")) | P15: =COUNTIF(R15:T15,1)+COUNTIF(R15:T15,2)+COUNTIF(R15:T15,3)+COUNTIF(R15:T15,4)+COUNTIF(R15:T15,5)+COUNTIF(R15:T15,6) -> 2 | R15: =V15 -> 2 | S15: =IF(AND(W15<>0,W15<>V15),W15,IF(AND(X15<>0,X15<>V15),X15,IF(AND(Y15<>0,Y15<>V15),Y15,IF(AND(Z15<>0,Z15<>V15),Z15,IF(AND(AA15<>0,AA15<>V15),AA15))))) -> 6 | T15: =IF(AND(X15<>0,X15<>S15,X15<>R15),X15,IF(AND(Y15<>0,Y15<>R15,Y15<>S15),Y15,IF(AND(Z15<>0,Z15<>R15,Z15<>S15),Z15,IF(AND(AA15<>0,AA15<>R15,AA15<>S15),AA15,"")))) | V15: =C15 -> 2 | W15: =IF(F14="New","",C14) -> 6 | X15: =IF(F13="New","",IF(F14="New","",C13)) | Y15: =IF(F12="New","",IF(F13="New","",IF(F14="New","",C12))) | Z15: =IF(F11="New","",IF(F12="New","",IF(F13="New","",IF(F14="New","",C11)))) | AA15: =IF(F10="New","",IF(F11="New","",IF(F12="New","",IF(F13="New","",IF(F14="New","",C10)))))
B16: =RANDBETWEEN(0,36) -> 36 | C16: =IF(B16="","",VLOOKUP(B16,Tabelle2!$D$1:$E$37,2,0)) -> 6 | D16: =IF(AND(I16=3,OR(C17=K16,C17=L16,C17=M16)),"W",IF(AND(I16=4,OR(C17=K16,C17=L16,C17=M16,C17=N16)),"W","L")) -> L | E16: =IF(AND(F15="l1",D16="w"),"w",IF(F15="l2","",IF(AND(J16=1,I16>=3),D16,IF(J16=1,"",D16)))) | F16: =IF(AND(F15="l1",I16>3,D16="l"),"L2",IF(I16<3,"",IF(AND(D16="l",I16=3,F15=""),"l1",IF(F15="L2","New",IF(AND(D16="l",D15="w"),"L1",IF(AND(D16="l",D15="l",D14="W"),"L2","")))))) | G16: =IF(AND(E16="w",F15="l1"),2,IF(E16="",0,IF(AND(E16="w",F16=""),3,IF(AND(E16="l",F16="l1"),-3,IF(AND(E16="l",F16="l2"),-4))))) -> 0 | H16: =H15+G16 -> -1 | I16: =COUNTIF(K16:N16,1)+COUNTIF(K16:N16,2)+COUNTIF(K16:N16,3)+COUNTIF(K16:N16,4)+COUNTIF(K16:N16,5)+COUNTIF(K16:N16,6) -> 2 | J16: =IF(OR(F13="New",F12="New",F11="New",F14="New",F15="New",F16="New"),1,"") -> 1 | K16: =IF(AND(F15="New",P16>=1),R16,IF(AND(F15="l1",I15=3),K15,IF(D14="w",K15,IF(D15="w",K15,IF(V16<>0,V16,IF(W16<>0,W16,IF(X16<>0,X16,IF(Y16<>0,Y16,IF(Z16<>0,Z16,IF(AA16<>0,AA16,"")))))))))) -> 6 | L16: =IF(AND(F15="New",P16=1),"",IF(AND(F15="New",P16>=2),S16,IF(AND(F15="l1",I15=3),L15,IF(D14="w",L15,IF(D15="w",L15,IF(F15="l1",L15,IF(AND(W16<>0,W16<>K16),W16,IF(AND(X16<>0,X16<>K16),X16,IF(AND(Y16<>0,Y16<>K16),Y16,IF(AND(Z16<>0,Z16<>K16),Z16,IF(AND(AA16<>0,AA16<>K16),AA16))))))))))) -> 2 | M16: =IF(AND(F15="New",P16=1),"",IF(AND(F15="New",P16=2),"",IF(AND(F15="New",P16=3),T16,IF(AND(F15="l1",I15=3),M15,IF(D14="w",M15,IF(D15="w",M15,IF(AND(X16<>0,X16<>K16,X16<>L16),X16,IF(AND(Y16<>0,Y16<>K16,Y16<>L16),Y16,IF(AND(Z16<>0,Z16<>K16,Z16<>L16),Z16,IF(AND(AA16<>0,AA16<>K16,AA16<>L16),AA16,"")))))))))) | N16: =IF(N15<>"","",IF(AND(R16<>K16,R16<>L16,R16<>M16,R16<>0),R16,"")) | P16: =COUNTIF(R16:T16,1)+COUNTIF(R16:T16,2)+COUNTIF(R16:T16,3)+COUNTIF(R16:T16,4)+COUNTIF(R16:T16,5)+COUNTIF(R16:T16,6) -> 2 | R16: =V16 -> 6 | S16: =IF(AND(W16<>0,W16<>V16),W16,IF(AND(X16<>0,X16<>V16),X16,IF(AND(Y16<>0,Y16<>V16),Y16,IF(AND(Z16<>0,Z16<>V16),Z16,IF(AND(AA16<>0,AA16<>V16),AA16))))) -> 2 | T16: =IF(AND(X16<>0,X16<>S16,X16<>R16),X16,IF(AND(Y16<>0,Y16<>R16,Y16<>S16),Y16,IF(AND(Z16<>0,Z16<>R16,Z16<>S16),Z16,IF(AND(AA16<>0,AA16<>R16,AA16<>S16),AA16,"")))) | V16: =C16 -> 6 | W16: =IF(F15="New","",C15) -> 2 | X16: =IF(F14="New","",IF(F15="New","",C14)) -> 6 | Y16: =IF(F13="New","",IF(F14="New","",IF(F15="New","",C13))) | Z16: =IF(F12="New","",IF(F13="New","",IF(F14="New","",IF(F15="New","",C12)))) | AA16: =IF(F11="New","",IF(F12="New","",IF(F13="New","",IF(F14="New","",IF(F15="New","",C11)))))
B17: =RANDBETWEEN(0,36) -> 36 | C17: =IF(B17="","",VLOOKUP(B17,Tabelle2!$D$1:$E$37,2,0)) -> 6 | D17: =IF(AND(I17=3,OR(C18=K17,C18=L17,C18=M17)),"W",IF(AND(I17=4,OR(C18=K17,C18=L17,C18=M17,C18=N17)),"W","L")) -> L | E17: =IF(AND(F16="l1",D17="w"),"w",IF(F16="l2","",IF(AND(J17=1,I17>=3),D17,IF(J17=1,"",D17)))) | F17: =IF(AND(F16="l1",I17>3,D17="l"),"L2",IF(I17<3,"",IF(AND(D17="l",I17=3,F16=""),"l1",IF(F16="L2","New",IF(AND(D17="l",D16="w"),"L1",IF(AND(D17="l",D16="l",D15="W"),"L2","")))))) | G17: =IF(AND(E17="w",F16="l1"),2,IF(E17="",0,IF(AND(E17="w",F17=""),3,IF(AND(E17="l",F17="l1"),-3,IF(AND(E17="l",F17="l2"),-4))))) -> 0 | H17: =H16+G17 -> -1 | I17: =COUNTIF(K17:N17,1)+COUNTIF(K17:N17,2)+COUNTIF(K17:N17,3)+COUNTIF(K17:N17,4)+COUNTIF(K17:N17,5)+COUNTIF(K17:N17,6) -> 2 | J17: =IF(OR(F14="New",F13="New",F12="New",F15="New",F16="New",F17="New"),1,"") -> 1 | K17: =IF(AND(F16="New",P17>=1),R17,IF(AND(F16="l1",I16=3),K16,IF(D15="w",K16,IF(D16="w",K16,IF(V17<>0,V17,IF(W17<>0,W17,IF(X17<>0,X17,IF(Y17<>0,Y17,IF(Z17<>0,Z17,IF(AA17<>0,AA17,"")))))))))) -> 6 | L17: =IF(AND(F16="New",P17=1),"",IF(AND(F16="New",P17>=2),S17,IF(AND(F16="l1",I16=3),L16,IF(D15="w",L16,IF(D16="w",L16,IF(F16="l1",L16,IF(AND(W17<>0,W17<>K17),W17,IF(AND(X17<>0,X17<>K17),X17,IF(AND(Y17<>0,Y17<>K17),Y17,IF(AND(Z17<>0,Z17<>K17),Z17,IF(AND(AA17<>0,AA17<>K17),AA17))))))))))) -> 2 | M17: =IF(AND(F16="New",P17=1),"",IF(AND(F16="New",P17=2),"",IF(AND(F16="New",P17=3),T17,IF(AND(F16="l1",I16=3),M16,IF(D15="w",M16,IF(D16="w",M16,IF(AND(X17<>0,X17<>K17,X17<>L17),X17,IF(AND(Y17<>0,Y17<>K17,Y17<>L17),Y17,IF(AND(Z17<>0,Z17<>K17,Z17<>L17),Z17,IF(AND(AA17<>0,AA17<>K17,AA17<>L17),AA17,"")))))))))) | N17: =IF(N16<>"","",IF(AND(R17<>K17,R17<>L17,R17<>M17,R17<>0),R17,"")) | P17: =COUNTIF(R17:T17,1)+COUNTIF(R17:T17,2)+COUNTIF(R17:T17,3)+COUNTIF(R17:T17,4)+COUNTIF(R17:T17,5)+COUNTIF(R17:T17,6) -> 2 | R17: =V17 -> 6 | S17: =IF(AND(W17<>0,W17<>V17),W17,IF(AND(X17<>0,X17<>V17),X17,IF(AND(Y17<>0,Y17<>V17),Y17,IF(AND(Z17<>0,Z17<>V17),Z17,IF(AND(AA17<>0,AA17<>V17),AA17))))) -> 2 | T17: =IF(AND(X17<>0,X17<>S17,X17<>R17),X17,IF(AND(Y17<>0,Y17<>R17,Y17<>S17),Y17,IF(AND(Z17<>0,Z17<>R17,Z17<>S17),Z17,IF(AND(AA17<>0,AA17<>R17,AA17<>S17),AA17,"")))) | V17: =C17 -> 6 | W17: =IF(F16="New","",C16) -> 6 | X17: =IF(F15="New","",IF(F16="New","",C15)) -> 2 | Y17: =IF(F14="New","",IF(F15="New","",IF(F16="New","",C14))) -> 6 | Z17: =IF(F13="New","",IF(F14="New","",IF(F15="New","",IF(F16="New","",C13)))) | AA17: =IF(F12="New","",IF(F13="New","",IF(F14="New","",IF(F15="New","",IF(F16="New","",C12)))))
B18: =RANDBETWEEN(0,36) -> 1 | C18: =IF(B18="","",VLOOKUP(B18,Tabelle2!$D$1:$E$37,2,0)) -> 1 | D18: =IF(AND(I18=3,OR(C19=K18,C19=L18,C19=M18)),"W",IF(AND(I18=4,OR(C19=K18,C19=L18,C19=M18,C19=N18)),"W","L")) -> L | E18: =IF(AND(F17="l1",D18="w"),"w",IF(F17="l2","",IF(AND(J18=1,I18>=3),D18,IF(J18=1,"",D18)))) -> L | F18: =IF(AND(F17="l1",I18>3,D18="l"),"L2",IF(I18<3,"",IF(AND(D18="l",I18=3,F17=""),"l1",IF(F17="L2","New",IF(AND(D18="l",D17="w"),"L1",IF(AND(D18="l",D17="l",D16="W"),"L2","")))))) -> l1 | G18: =IF(AND(E18="w",F17="l1"),2,IF(E18="",0,IF(AND(E18="w",F18=""),3,IF(AND(E18="l",F18="l1"),-3,IF(AND(E18="l",F18="l2"),-4))))) -> -3 | H18: =H17+G18 -> -4 | I18: =COUNTIF(K18:N18,1)+COUNTIF(K18:N18,2)+COUNTIF(K18:N18,3)+COUNTIF(K18:N18,4)+COUNTIF(K18:N18,5)+COUNTIF(K18:N18,6) -> 3 | J18: =IF(OR(F15="New",F14="New",F13="New",F16="New",F17="New",F18="New"),1,"") -> 1 | K18: =IF(AND(F17="New",P18>=1),R18,IF(AND(F17="l1",I17=3),K17,IF(D16="w",K17,IF(D17="w",K17,IF(V18<>0,V18,IF(W18<>0,W18,IF(X18<>0,X18,IF(Y18<>0,Y18,IF(Z18<>0,Z18,IF(AA18<>0,AA18,"")))))))))) -> 1 | L18: =IF(AND(F17="New",P18=1),"",IF(AND(F17="New",P18>=2),S18,IF(AND(F17="l1",I17=3),L17,IF(D16="w",L17,IF(D17="w",L17,IF(F17="l1",L17,IF(AND(W18<>0,W18<>K18),W18,IF(AND(X18<>0,X18<>K18),X18,IF(AND(Y18<>0,Y18<>K18),Y18,IF(AND(Z18<>0,Z18<>K18),Z18,IF(AND(AA18<>0,AA18<>K18),AA18))))))))))) -> 6 | M18: =IF(AND(F17="New",P18=1),"",IF(AND(F17="New",P18=2),"",IF(AND(F17="New",P18=3),T18,IF(AND(F17="l1",I17=3),M17,IF(D16="w",M17,IF(D17="w",M17,IF(AND(X18<>0,X18<>K18,X18<>L18),X18,IF(AND(Y18<>0,Y18<>K18,Y18<>L18),Y18,IF(AND(Z18<>0,Z18<>K18,Z18<>L18),Z18,IF(AND(AA18<>0,AA18<>K18,AA18<>L18),AA18,"")))))))))) -> 2 | N18: =IF(N17<>"","",IF(AND(R18<>K18,R18<>L18,R18<>M18,R18<>0),R18,"")) | P18: =COUNTIF(R18:T18,1)+COUNTIF(R18:T18,2)+COUNTIF(R18:T18,3)+COUNTIF(R18:T18,4)+COUNTIF(R18:T18,5)+COUNTIF(R18:T18,6) -> 3 | R18: =V18 -> 1 | S18: =IF(AND(W18<>0,W18<>V18),W18,IF(AND(X18<>0,X18<>V18),X18,IF(AND(Y18<>0,Y18<>V18),Y18,IF(AND(Z18<>0,Z18<>V18),Z18,IF(AND(AA18<>0,AA18<>V18),AA18))))) -> 6 | T18: =IF(AND(X18<>0,X18<>S18,X18<>R18),X18,IF(AND(Y18<>0,Y18<>R18,Y18<>S18),Y18,IF(AND(Z18<>0,Z18<>R18,Z18<>S18),Z18,IF(AND(AA18<>0,AA18<>R18,AA18<>S18),AA18,"")))) -> 2 | V18: =C18 -> 1 | W18: =IF(F17="New","",C17) -> 6 | X18: =IF(F16="New","",IF(F17="New","",C16)) -> 6 | Y18: =IF(F15="New","",IF(F16="New","",IF(F17="New","",C15))) -> 2 | Z18: =IF(F14="New","",IF(F15="New","",IF(F16="New","",IF(F17="New","",C14)))) -> 6 | AA18: =IF(F13="New","",IF(F14="New","",IF(F15="New","",IF(F16="New","",IF(F17="New","",C13)))))
B19: =RANDBETWEEN(0,36) -> 23 | C19: =IF(B19="","",VLOOKUP(B19,Tabelle2!$D$1:$E$37,2,0)) -> 4 | D19: =IF(AND(I19=3,OR(C20=K19,C20=L19,C20=M19)),"W",IF(AND(I19=4,OR(C20=K19,C20=L19,C20=M19,C20=N19)),"W","L")) -> W | E19: =IF(AND(F18="l1",D19="w"),"w",IF(F18="l2","",IF(AND(J19=1,I19>=3),D19,IF(J19=1,"",D19)))) -> w | F19: =IF(AND(F18="l1",I19>3,D19="l"),"L2",IF(I19<3,"",IF(AND(D19="l",I19=3,F18=""),"l1",IF(F18="L2","New",IF(AND(D19="l",D18="w"),"L1",IF(AND(D19="l",D18="l",D17="W"),"L2","")))))) | G19: =IF(AND(E19="w",F18="l1"),2,IF(E19="",0,IF(AND(E19="w",F19=""),3,IF(AND(E19="l",F19="l1"),-3,IF(AND(E19="l",F19="l2"),-4))))) -> 2 | H19: =H18+G19 -> -2 | I19: =COUNTIF(K19:N19,1)+COUNTIF(K19:N19,2)+COUNTIF(K19:N19,3)+COUNTIF(K19:N19,4)+COUNTIF(K19:N19,5)+COUNTIF(K19:N19,6) -> 4 | J19: =IF(OR(F16="New",F15="New",F14="New",F17="New",F18="New",F19="New"),1,"") | K19: =IF(AND(F18="New",P19>=1),R19,IF(AND(F18="l1",I18=3),K18,IF(D17="w",K18,IF(D18="w",K18,IF(V19<>0,V19,IF(W19<>0,W19,IF(X19<>0,X19,IF(Y19<>0,Y19,IF(Z19<>0,Z19,IF(AA19<>0,AA19,"")))))))))) -> 1 | L19: =IF(AND(F18="New",P19=1),"",IF(AND(F18="New",P19>=2),S19,IF(AND(F18="l1",I18=3),L18,IF(D17="w",L18,IF(D18="w",L18,IF(F18="l1",L18,IF(AND(W19<>0,W19<>K19),W19,IF(AND(X19<>0,X19<>K19),X19,IF(AND(Y19<>0,Y19<>K19),Y19,IF(AND(Z19<>0,Z19<>K19),Z19,IF(AND(AA19<>0,AA19<>K19),AA19))))))))))) -> 6 | M19: =IF(AND(F18="New",P19=1),"",IF(AND(F18="New",P19=2),"",IF(AND(F18="New",P19=3),T19,IF(AND(F18="l1",I18=3),M18,IF(D17="w",M18,IF(D18="w",M18,IF(AND(X19<>0,X19<>K19,X19<>L19),X19,IF(AND(Y19<>0,Y19<>K19,Y19<>L19),Y19,IF(AND(Z19<>0,Z19<>K19,Z19<>L19),Z19,IF(AND(AA19<>0,AA19<>K19,AA19<>L19),AA19,"")))))))))) -> 2 | N19: =IF(N18<>"","",IF(AND(R19<>K19,R19<>L19,R19<>M19,R19<>0),R19,"")) -> 4 | P19: =COUNTIF(R19:T19,1)+COUNTIF(R19:T19,2)+COUNTIF(R19:T19,3)+COUNTIF(R19:T19,4)+COUNTIF(R19:T19,5)+COUNTIF(R19:T19,6) -> 3 | R19: =V19 -> 4 | S19: =IF(AND(W19<>0,W19<>V19),W19,IF(AND(X19<>0,X19<>V19),X19,IF(AND(Y19<>0,Y19<>V19),Y19,IF(AND(Z19<>0,Z19<>V19),Z19,IF(AND(AA19<>0,AA19<>V19),AA19))))) -> 1 | T19: =IF(AND(X19<>0,X19<>S19,X19<>R19),X19,IF(AND(Y19<>0,Y19<>R19,Y19<>S19),Y19,IF(AND(Z19<>0,Z19<>R19,Z19<>S19),Z19,IF(AND(AA19<>0,AA19<>R19,AA19<>S19),AA19,"")))) -> 6 | V19: =C19 -> 4 | W19: =IF(F18="New","",C18) -> 1 | X19: =IF(F17="New","",IF(F18="New","",C17)) -> 6 | Y19: =IF(F16="New","",IF(F17="New","",IF(F18="New","",C16))) -> 6 | Z19: =IF(F15="New","",IF(F16="New","",IF(F17="New","",IF(F18="New","",C15)))) -> 2 | AA19: =IF(F14="New","",IF(F15="New","",IF(F16="New","",IF(F17="New","",IF(F18="New","",C14))))) -> 6
B20: =RANDBETWEEN(0,36) -> 7 | C20: =IF(B20="","",VLOOKUP(B20,Tabelle2!$D$1:$E$37,2,0)) -> 2 | D20: =IF(AND(I20=3,OR(C21=K20,C21=L20,C21=M20)),"W",IF(AND(I20=4,OR(C21=K20,C21=L20,C21=M20,C21=N20)),"W","L")) -> W | E20: =IF(AND(F19="l1",D20="w"),"w",IF(F19="l2","",IF(AND(J20=1,I20>=3),D20,IF(J20=1,"",D20)))) -> W | F20: =IF(AND(F19="l1",I20>3,D20="l"),"L2",IF(I20<3,"",IF(AND(D20="l",I20=3,F19=""),"l1",IF(F19="L2","New",IF(AND(D20="l",D19="w"),"L1",IF(AND(D20="l",D19="l",D18="W"),"L2","")))))) | G20: =IF(AND(E20="w",F19="l1"),2,IF(E20="",0,IF(AND(E20="w",F20=""),3,IF(AND(E20="l",F20="l1"),-3,IF(AND(E20="l",F20="l2"),-4))))) -> 3 | H20: =H19+G20 -> 1 | I20: =COUNTIF(K20:N20,1)+COUNTIF(K20:N20,2)+COUNTIF(K20:N20,3)+COUNTIF(K20:N20,4)+COUNTIF(K20:N20,5)+COUNTIF(K20:N20,6) -> 3 | J20: =IF(OR(F17="New",F16="New",F15="New",F18="New",F19="New",F20="New"),1,"") | K20: =IF(AND(F19="New",P20>=1),R20,IF(AND(F19="l1",I19=3),K19,IF(D18="w",K19,IF(D19="w",K19,IF(V20<>0,V20,IF(W20<>0,W20,IF(X20<>0,X20,IF(Y20<>0,Y20,IF(Z20<>0,Z20,IF(AA20<>0,AA20,"")))))))))) -> 1 | L20: =IF(AND(F19="New",P20=1),"",IF(AND(F19="New",P20>=2),S20,IF(AND(F19="l1",I19=3),L19,IF(D18="w",L19,IF(D19="w",L19,IF(F19="l1",L19,IF(AND(W20<>0,W20<>K20),W20,IF(AND(X20<>0,X20<>K20),X20,IF(AND(Y20<>0,Y20<>K20),Y20,IF(AND(Z20<>0,Z20<>K20),Z20,IF(AND(AA20<>0,AA20<>K20),AA20))))))))))) -> 6 | M20: =IF(AND(F19="New",P20=1),"",IF(AND(F19="New",P20=2),"",IF(AND(F19="New",P20=3),T20,IF(AND(F19="l1",I19=3),M19,IF(D18="w",M19,IF(D19="w",M19,IF(AND(X20<>0,X20<>K20,X20<>L20),X20,IF(AND(Y20<>0,Y20<>K20,Y20<>L20),Y20,IF(AND(Z20<>0,Z20<>K20,Z20<>L20),Z20,IF(AND(AA20<>0,AA20<>K20,AA20<>L20),AA20,"")))))))))) -> 2 | N20: =IF(N19<>"","",IF(AND(R20<>K20,R20<>L20,R20<>M20,R20<>0),R20,"")) | P20: =COUNTIF(R20:T20,1)+COUNTIF(R20:T20,2)+COUNTIF(R20:T20,3)+COUNTIF(R20:T20,4)+COUNTIF(R20:T20,5)+COUNTIF(R20:T20,6) -> 3 | R20: =V20 -> 2 | S20: =IF(AND(W20<>0,W20<>V20),W20,IF(AND(X20<>0,X20<>V20),X20,IF(AND(Y20<>0,Y20<>V20),Y20,IF(AND(Z20<>0,Z20<>V20),Z20,IF(AND(AA20<>0,AA20<>V20),AA20))))) -> 4 | T20: =IF(AND(X20<>0,X20<>S20,X20<>R20),X20,IF(AND(Y20<>0,Y20<>R20,Y20<>S20),Y20,IF(AND(Z20<>0,Z20<>R20,Z20<>S20),Z20,IF(AND(AA20<>0,AA20<>R20,AA20<>S20),AA20,"")))) -> 1 | V20: =C20 -> 2 | W20: =IF(F19="New","",C19) -> 4 | X20: =IF(F18="New","",IF(F19="New","",C18)) -> 1 | Y20: =IF(F17="New","",IF(F18="New","",IF(F19="New","",C17))) -> 6 | Z20: =IF(F16="New","",IF(F17="New","",IF(F18="New","",IF(F19="New","",C16)))) -> 6 | AA20: =IF(F15="New","",IF(F16="New","",IF(F17="New","",IF(F18="New","",IF(F19="New","",C15))))) -> 2 | AF20: EGO`s Win Or Break
B21: =RANDBETWEEN(0,36) -> 33 | C21: =IF(B21="","",VLOOKUP(B21,Tabelle2!$D$1:$E$37,2,0)) -> 6 | D21: =IF(AND(I21=3,OR(C22=K21,C22=L21,C22=M21)),"W",IF(AND(I21=4,OR(C22=K21,C22=L21,C22=M21,C22=N21)),"W","L")) -> L | E21: =IF(AND(F20="l1",D21="w"),"w",IF(F20="l2","",IF(AND(J21=1,I21>=3),D21,IF(J21=1,"",D21)))) -> L | F21: =IF(AND(F20="l1",I21>3,D21="l"),"L2",IF(I21<3,"",IF(AND(D21="l",I21=3,F20=""),"l1",IF(F20="L2","New",IF(AND(D21="l",D20="w"),"L1",IF(AND(D21="l",D20="l",D19="W"),"L2","")))))) -> l1 | G21: =IF(AND(E21="w",F20="l1"),2,IF(E21="",0,IF(AND(E21="w",F21=""),3,IF(AND(E21="l",F21="l1"),-3,IF(AND(E21="l",F21="l2"),-4))))) -> -3 | H21: =H20+G21 -> -2 | I21: =COUNTIF(K21:N21,1)+COUNTIF(K21:N21,2)+COUNTIF(K21:N21,3)+COUNTIF(K21:N21,4)+COUNTIF(K21:N21,5)+COUNTIF(K21:N21,6) -> 3 | J21: =IF(OR(F18="New",F17="New",F16="New",F19="New",F20="New",F21="New"),1,"") | K21: =IF(AND(F20="New",P21>=1),R21,IF(AND(F20="l1",I20=3),K20,IF(D19="w",K20,IF(D20="w",K20,IF(V21<>0,V21,IF(W21<>0,W21,IF(X21<>0,X21,IF(Y21<>0,Y21,IF(Z21<>0,Z21,IF(AA21<>0,AA21,"")))))))))) -> 1 | L21: =IF(AND(F20="New",P21=1),"",IF(AND(F20="New",P21>=2),S21,IF(AND(F20="l1",I20=3),L20,IF(D19="w",L20,IF(D20="w",L20,IF(F20="l1",L20,IF(AND(W21<>0,W21<>K21),W21,IF(AND(X21<>0,X21<>K21),X21,IF(AND(Y21<>0,Y21<>K21),Y21,IF(AND(Z21<>0,Z21<>K21),Z21,IF(AND(AA21<>0,AA21<>K21),AA21))))))))))) -> 6 | M21: =IF(AND(F20="New",P21=1),"",IF(AND(F20="New",P21=2),"",IF(AND(F20="New",P21=3),T21,IF(AND(F20="l1",I20=3),M20,IF(D19="w",M20,IF(D20="w",M20,IF(AND(X21<>0,X21<>K21,X21<>L21),X21,IF(AND(Y21<>0,Y21<>K21,Y21<>L21),Y21,IF(AND(Z21<>0,Z21<>K21,Z21<>L21),Z21,IF(AND(AA21<>0,AA21<>K21,AA21<>L21),AA21,"")))))))))) -> 2 | N21: =IF(N20<>"","",IF(AND(R21<>K21,R21<>L21,R21<>M21,R21<>0),R21,"")) | P21: =COUNTIF(R21:T21,1)+COUNTIF(R21:T21,2)+COUNTIF(R21:T21,3)+COUNTIF(R21:T21,4)+COUNTIF(R21:T21,5)+COUNTIF(R21:T21,6) -> 3 | R21: =V21 -> 6 | S21: =IF(AND(W21<>0,W21<>V21),W21,IF(AND(X21<>0,X21<>V21),X21,IF(AND(Y21<>0,Y21<>V21),Y21,IF(AND(Z21<>0,Z21<>V21),Z21,IF(AND(AA21<>0,AA21<>V21),AA21))))) -> 2 | T21: =IF(AND(X21<>0,X21<>S21,X21<>R21),X21,IF(AND(Y21<>0,Y21<>R21,Y21<>S21),Y21,IF(AND(Z21<>0,Z21<>R21,Z21<>S21),Z21,IF(AND(AA21<>0,AA21<>R21,AA21<>S21),AA21,"")))) -> 4 | V21: =C21 -> 6 | W21: =IF(F20="New","",C20) -> 2 | X21: =IF(F19="New","",IF(F20="New","",C19)) -> 4 | Y21: =IF(F18="New","",IF(F19="New","",IF(F20="New","",C18))) -> 1 | Z21: =IF(F17="New","",IF(F18="New","",IF(F19="New","",IF(F20="New","",C17)))) -> 6 | AA21: =IF(F16="New","",IF(F17="New","",IF(F18="New","",IF(F19="New","",IF(F20="New","",C16))))) -> 6 | AF21: by PROBASAH
B22: =RANDBETWEEN(0,36) -> 25 | C22: =IF(B22="","",VLOOKUP(B22,Tabelle2!$D$1:$E$37,2,0)) -> 5 | D22: =IF(AND(I22=3,OR(C23=K22,C23=L22,C23=M22)),"W",IF(AND(I22=4,OR(C23=K22,C23=L22,C23=M22,C23=N22)),"W","L")) -> L | E22: =IF(AND(F21="l1",D22="w"),"w",IF(F21="l2","",IF(AND(J22=1,I22>=3),D22,IF(J22=1,"",D22)))) -> L | F22: =IF(AND(F21="l1",I22>3,D22="l"),"L2",IF(I22<3,"",IF(AND(D22="l",I22=3,F21=""),"l1",IF(F21="L2","New",IF(AND(D22="l",D21="w"),"L1",IF(AND(D22="l",D21="l",D20="W"),"L2","")))))) -> L2 | G22: =IF(AND(E22="w",F21="l1"),2,IF(E22="",0,IF(AND(E22="w",F22=""),3,IF(AND(E22="l",F22="l1"),-3,IF(AND(E22="l",F22="l2"),-4))))) -> -4 | H22: =H21+G22 -> -6 | I22: =COUNTIF(K22:N22,1)+COUNTIF(K22:N22,2)+COUNTIF(K22:N22,3)+COUNTIF(K22:N22,4)+COUNTIF(K22:N22,5)+COUNTIF(K22:N22,6) -> 4 | J22: =IF(OR(F19="New",F18="New",F17="New",F20="New",F21="New",F22="New"),1,"") | K22: =IF(AND(F21="New",P22>=1),R22,IF(AND(F21="l1",I21=3),K21,IF(D20="w",K21,IF(D21="w",K21,IF(V22<>0,V22,IF(W22<>0,W22,IF(X22<>0,X22,IF(Y22<>0,Y22,IF(Z22<>0,Z22,IF(AA22<>0,AA22,"")))))))))) -> 1 | L22: =IF(AND(F21="New",P22=1),"",IF(AND(F21="New",P22>=2),S22,IF(AND(F21="l1",I21=3),L21,IF(D20="w",L21,IF(D21="w",L21,IF(F21="l1",L21,IF(AND(W22<>0,W22<>K22),W22,IF(AND(X22<>0,X22<>K22),X22,IF(AND(Y22<>0,Y22<>K22),Y22,IF(AND(Z22<>0,Z22<>K22),Z22,IF(AND(AA22<>0,AA22<>K22),AA22))))))))))) -> 6 | M22: =IF(AND(F21="New",P22=1),"",IF(AND(F21="New",P22=2),"",IF(AND(F21="New",P22=3),T22,IF(AND(F21="l1",I21=3),M21,IF(D20="w",M21,IF(D21="w",M21,IF(AND(X22<>0,X22<>K22,X22<>L22),X22,IF(AND(Y22<>0,Y22<>K22,Y22<>L22),Y22,IF(AND(Z22<>0,Z22<>K22,Z22<>L22),Z22,IF(AND(AA22<>0,AA22<>K22,AA22<>L22),AA22,"")))))))))) -> 2 | N22: =IF(N21<>"","",IF(AND(R22<>K22,R22<>L22,R22<>M22,R22<>0),R22,"")) -> 5 | P22: =COUNTIF(R22:T22,1)+COUNTIF(R22:T22,2)+COUNTIF(R22:T22,3)+COUNTIF(R22:T22,4)+COUNTIF(R22:T22,5)+COUNTIF(R22:T22,6) -> 3 | R22: =V22 -> 5 | S22: =IF(AND(W22<>0,W22<>V22),W22,IF(AND(X22<>0,X22<>V22),X22,IF(AND(Y22<>0,Y22<>V22),Y22,IF(AND(Z22<>0,Z22<>V22),Z22,IF(AND(AA22<>0,AA22<>V22),AA22))))) -> 6 | T22: =IF(AND(X22<>0,X22<>S22,X22<>R22),X22,IF(AND(Y22<>0,Y22<>R22,Y22<>S22),Y22,IF(AND(Z22<>0,Z22<>R22,Z22<>S22),Z22,IF(AND(AA22<>0,AA22<>R22,AA22<>S22),AA22,"")))) -> 2 | V22: =C22 -> 5 | W22: =IF(F21="New","",C21) -> 6 | X22: =IF(F20="New","",IF(F21="New","",C20)) -> 2 | Y22: =IF(F19="New","",IF(F20="New","",IF(F21="New","",C19))) -> 4 | Z22: =IF(F18="New","",IF(F19="New","",IF(F20="New","",IF(F21="New","",C18)))) -> 1 | AA22: =IF(F17="New","",IF(F18="New","",IF(F19="New","",IF(F20="New","",IF(F21="New","",C17))))) -> 6 | AH22: http://www.rouletteforum.cc/index.php?action=profile;u=4599
B23: =RANDBETWEEN(0,36) -> 23 | C23: =IF(B23="","",VLOOKUP(B23,Tabelle2!$D$1:$E$37,2,0)) -> 4 | D23: =IF(AND(I23=3,OR(C24=K23,C24=L23,C24=M23)),"W",IF(AND(I23=4,OR(C24=K23,C24=L23,C24=M23,C24=N23)),"W","L")) -> L | E23: =IF(AND(F22="l1",D23="w"),"w",IF(F22="l2","",IF(AND(J23=1,I23>=3),D23,IF(J23=1,"",D23)))) | F23: =IF(AND(F22="l1",I23>3,D23="l"),"L2",IF(I23<3,"",IF(AND(D23="l",I23=3,F22=""),"l1",IF(F22="L2","New",IF(AND(D23="l",D22="w"),"L1",IF(AND(D23="l",D22="l",D21="W"),"L2","")))))) -> New | G23: =IF(AND(E23="w",F22="l1"),2,IF(E23="",0,IF(AND(E23="w",F23=""),3,IF(AND(E23="l",F23="l1"),-3,IF(AND(E23="l",F23="l2"),-4))))) -> 0 | H23: =H22+G23 -> -6 | I23: =COUNTIF(K23:N23,1)+COUNTIF(K23:N23,2)+COUNTIF(K23:N23,3)+COUNTIF(K23:N23,4)+COUNTIF(K23:N23,5)+COUNTIF(K23:N23,6) -> 3 | J23: =IF(OR(F20="New",F19="New",F18="New",F21="New",F22="New",F23="New"),1,"") -> 1 | K23: =IF(AND(F22="New",P23>=1),R23,IF(AND(F22="l1",I22=3),K22,IF(D21="w",K22,IF(D22="w",K22,IF(V23<>0,V23,IF(W23<>0,W23,IF(X23<>0,X23,IF(Y23<>0,Y23,IF(Z23<>0,Z23,IF(AA23<>0,AA23,"")))))))))) -> 4 | L23: =IF(AND(F22="New",P23=1),"",IF(AND(F22="New",P23>=2),S23,IF(AND(F22="l1",I22=3),L22,IF(D21="w",L22,IF(D22="w",L22,IF(F22="l1",L22,IF(AND(W23<>0,W23<>K23),W23,IF(AND(X23<>0,X23<>K23),X23,IF(AND(Y23<>0,Y23<>K23),Y23,IF(AND(Z23<>0,Z23<>K23),Z23,IF(AND(AA23<>0,AA23<>K23),AA23))))))))))) -> 5 | M23: =IF(AND(F22="New",P23=1),"",IF(AND(F22="New",P23=2),"",IF(AND(F22="New",P23=3),T23,IF(AND(F22="l1",I22=3),M22,IF(D21="w",M22,IF(D22="w",M22,IF(AND(X23<>0,X23<>K23,X23<>L23),X23,IF(AND(Y23<>0,Y23<>K23,Y23<>L23),Y23,IF(AND(Z23<>0,Z23<>K23,Z23<>L23),Z23,IF(AND(AA23<>0,AA23<>K23,AA23<>L23),AA23,"")))))))))) -> 6 | N23: =IF(N22<>"","",IF(AND(R23<>K23,R23<>L23,R23<>M23,R23<>0),R23,"")) | P23: =COUNTIF(R23:T23,1)+COUNTIF(R23:T23,2)+COUNTIF(R23:T23,3)+COUNTIF(R23:T23,4)+COUNTIF(R23:T23,5)+COUNTIF(R23:T23,6) -> 3 | R23: =V23 -> 4 | S23: =IF(AND(W23<>0,W23<>V23),W23,IF(AND(X23<>0,X23<>V23),X23,IF(AND(Y23<>0,Y23<>V23),Y23,IF(AND(Z23<>0,Z23<>V23),Z23,IF(AND(AA23<>0,AA23<>V23),AA23))))) -> 5 | T23: =IF(AND(X23<>0,X23<>S23,X23<>R23),X23,IF(AND(Y23<>0,Y23<>R23,Y23<>S23),Y23,IF(AND(Z23<>0,Z23<>R23,Z23<>S23),Z23,IF(AND(AA23<>0,AA23<>R23,AA23<>S23),AA23,"")))) -> 6 | V23: =C23 -> 4 | W23: =IF(F22="New","",C22) -> 5 | X23: =IF(F21="New","",IF(F22="New","",C21)) -> 6 | Y23: =IF(F20="New","",IF(F21="New","",IF(F22="New","",C20))) -> 2 | Z23: =IF(F19="New","",IF(F20="New","",IF(F21="New","",IF(F22="New","",C19)))) -> 4 | AA23: =IF(F18="New","",IF(F19="New","",IF(F20="New","",IF(F21="New","",IF(F22="New","",C18))))) -> 1
B24: =RANDBETWEEN(0,36) -> 18 | C24: =IF(B24="","",VLOOKUP(B24,Tabelle2!$D$1:$E$37,2,0)) -> 3 | D24: =IF(AND(I24=3,OR(C25=K24,C25=L24,C25=M24)),"W",IF(AND(I24=4,OR(C25=K24,C25=L24,C25=M24,C25=N24)),"W","L")) -> L | E24: =IF(AND(F23="l1",D24="w"),"w",IF(F23="l2","",IF(AND(J24=1,I24>=3),D24,IF(J24=1,"",D24)))) | F24: =IF(AND(F23="l1",I24>3,D24="l"),"L2",IF(I24<3,"",IF(AND(D24="l",I24=3,F23=""),"l1",IF(F23="L2","New",IF(AND(D24="l",D23="w"),"L1",IF(AND(D24="l",D23="l",D22="W"),"L2","")))))) | G24: =IF(AND(E24="w",F23="l1"),2,IF(E24="",0,IF(AND(E24="w",F24=""),3,IF(AND(E24="l",F24="l1"),-3,IF(AND(E24="l",F24="l2"),-4))))) -> 0 | H24: =H23+G24 -> -6 | I24: =COUNTIF(K24:N24,1)+COUNTIF(K24:N24,2)+COUNTIF(K24:N24,3)+COUNTIF(K24:N24,4)+COUNTIF(K24:N24,5)+COUNTIF(K24:N24,6) -> 1 | J24: =IF(OR(F21="New",F20="New",F19="New",F22="New",F23="New",F24="New"),1,"") -> 1 | K24: =IF(AND(F23="New",P24>=1),R24,IF(AND(F23="l1",I23=3),K23,IF(D22="w",K23,IF(D23="w",K23,IF(V24<>0,V24,IF(W24<>0,W24,IF(X24<>0,X24,IF(Y24<>0,Y24,IF(Z24<>0,Z24,IF(AA24<>0,AA24,"")))))))))) -> 3 | L24: =IF(AND(F23="New",P24=1),"",IF(AND(F23="New",P24>=2),S24,IF(AND(F23="l1",I23=3),L23,IF(D22="w",L23,IF(D23="w",L23,IF(F23="l1",L23,IF(AND(W24<>0,W24<>K24),W24,IF(AND(X24<>0,X24<>K24),X24,IF(AND(Y24<>0,Y24<>K24),Y24,IF(AND(Z24<>0,Z24<>K24),Z24,IF(AND(AA24<>0,AA24<>K24),AA24))))))))))) | M24: =IF(AND(F23="New",P24=1),"",IF(AND(F23="New",P24=2),"",IF(AND(F23="New",P24=3),T24,IF(AND(F23="l1",I23=3),M23,IF(D22="w",M23,IF(D23="w",M23,IF(AND(X24<>0,X24<>K24,X24<>L24),X24,IF(AND(Y24<>0,Y24<>K24,Y24<>L24),Y24,IF(AND(Z24<>0,Z24<>K24,Z24<>L24),Z24,IF(AND(AA24<>0,AA24<>K24,AA24<>L24),AA24,"")))))))))) | N24: =IF(N23<>"","",IF(AND(R24<>K24,R24<>L24,R24<>M24,R24<>0),R24,"")) | P24: =COUNTIF(R24:T24,1)+COUNTIF(R24:T24,2)+COUNTIF(R24:T24,3)+COUNTIF(R24:T24,4)+COUNTIF(R24:T24,5)+COUNTIF(R24:T24,6) -> 1 | R24: =V24 -> 3 | S24: =IF(AND(W24<>0,W24<>V24),W24,IF(AND(X24<>0,X24<>V24),X24,IF(AND(Y24<>0,Y24<>V24),Y24,IF(AND(Z24<>0,Z24<>V24),Z24,IF(AND(AA24<>0,AA24<>V24),AA24))))) | T24: =IF(AND(X24<>0,X24<>S24,X24<>R24),X24,IF(AND(Y24<>0,Y24<>R24,Y24<>S24),Y24,IF(AND(Z24<>0,Z24<>R24,Z24<>S24),Z24,IF(AND(AA24<>0,AA24<>R24,AA24<>S24),AA24,"")))) | V24: =C24 -> 3 | W24: =IF(F23="New","",C23) | X24: =IF(F22="New","",IF(F23="New","",C22)) | Y24: =IF(F21="New","",IF(F22="New","",IF(F23="New","",C21))) | Z24: =IF(F20="New","",IF(F21="New","",IF(F22="New","",IF(F23="New","",C20)))) | AA24: =IF(F19="New","",IF(F20="New","",IF(F21="New","",IF(F22="New","",IF(F23="New","",C19)))))
B25: =RANDBETWEEN(0,36) -> 10 | C25: =IF(B25="","",VLOOKUP(B25,Tabelle2!$D$1:$E$37,2,0)) -> 2 | D25: =IF(AND(I25=3,OR(C26=K25,C26=L25,C26=M25)),"W",IF(AND(I25=4,OR(C26=K25,C26=L25,C26=M25,C26=N25)),"W","L")) -> L | E25: =IF(AND(F24="l1",D25="w"),"w",IF(F24="l2","",IF(AND(J25=1,I25>=3),D25,IF(J25=1,"",D25)))) | F25: =IF(AND(F24="l1",I25>3,D25="l"),"L2",IF(I25<3,"",IF(AND(D25="l",I25=3,F24=""),"l1",IF(F24="L2","New",IF(AND(D25="l",D24="w"),"L1",IF(AND(D25="l",D24="l",D23="W"),"L2","")))))) | G25: =IF(AND(E25="w",F24="l1"),2,IF(E25="",0,IF(AND(E25="w",F25=""),3,IF(AND(E25="l",F25="l1"),-3,IF(AND(E25="l",F25="l2"),-4))))) -> 0 | H25: =H24+G25 -> -6 | I25: =COUNTIF(K25:N25,1)+COUNTIF(K25:N25,2)+COUNTIF(K25:N25,3)+COUNTIF(K25:N25,4)+COUNTIF(K25:N25,5)+COUNTIF(K25:N25,6) -> 2 | J25: =IF(OR(F22="New",F21="New",F20="New",F23="New",F24="New",F25="New"),1,"") -> 1 | K25: =IF(AND(F24="New",P25>=1),R25,IF(AND(F24="l1",I24=3),K24,IF(D23="w",K24,IF(D24="w",K24,IF(V25<>0,V25,IF(W25<>0,W25,IF(X25<>0,X25,IF(Y25<>0,Y25,IF(Z25<>0,Z25,IF(AA25<>0,AA25,"")))))))))) -> 2 | L25: =IF(AND(F24="New",P25=1),"",IF(AND(F24="New",P25>=2),S25,IF(AND(F24="l1",I24=3),L24,IF(D23="w",L24,IF(D24="w",L24,IF(F24="l1",L24,IF(AND(W25<>0,W25<>K25),W25,IF(AND(X25<>0,X25<>K25),X25,IF(AND(Y25<>0,Y25<>K25),Y25,IF(AND(Z25<>0,Z25<>K25),Z25,IF(AND(AA25<>0,AA25<>K25),AA25))))))))))) -> 3 | M25: =IF(AND(F24="New",P25=1),"",IF(AND(F24="New",P25=2),"",IF(AND(F24="New",P25=3),T25,IF(AND(F24="l1",I24=3),M24,IF(D23="w",M24,IF(D24="w",M24,IF(AND(X25<>0,X25<>K25,X25<>L25),X25,IF(AND(Y25<>0,Y25<>K25,Y25<>L25),Y25,IF(AND(Z25<>0,Z25<>K25,Z25<>L25),Z25,IF(AND(AA25<>0,AA25<>K25,AA25<>L25),AA25,"")))))))))) | N25: =IF(N24<>"","",IF(AND(R25<>K25,R25<>L25,R25<>M25,R25<>0),R25,"")) | P25: =COUNTIF(R25:T25,1)+COUNTIF(R25:T25,2)+COUNTIF(R25:T25,3)+COUNTIF(R25:T25,4)+COUNTIF(R25:T25,5)+COUNTIF(R25:T25,6) -> 2 | R25: =V25 -> 2 | S25: =IF(AND(W25<>0,W25<>V25),W25,IF(AND(X25<>0,X25<>V25),X25,IF(AND(Y25<>0,Y25<>V25),Y25,IF(AND(Z25<>0,Z25<>V25),Z25,IF(AND(AA25<>0,AA25<>V25),AA25))))) -> 3 | T25: =IF(AND(X25<>0,X25<>S25,X25<>R25),X25,IF(AND(Y25<>0,Y25<>R25,Y25<>S25),Y25,IF(AND(Z25<>0,Z25<>R25,Z25<>S25),Z25,IF(AND(AA25<>0,AA25<>R25,AA25<>S25),AA25,"")))) | V25: =C25 -> 2 | W25: =IF(F24="New","",C24) -> 3 | X25: =IF(F23="New","",IF(F24="New","",C23)) | Y25: =IF(F22="New","",IF(F23="New","",IF(F24="New","",C22))) | Z25: =IF(F21="New","",IF(F22="New","",IF(F23="New","",IF(F24="New","",C21)))) | AA25: =IF(F20="New","",IF(F21="New","",IF(F22="New","",IF(F23="New","",IF(F24="New","",C20))))) | AE25: Method here:
B26: =RANDBETWEEN(0,36) -> 0 | C26: =IF(B26="","",VLOOKUP(B26,Tabelle2!$D$1:$E$37,2,0)) -> 0 | D26: =IF(AND(I26=3,OR(C27=K26,C27=L26,C27=M26)),"W",IF(AND(I26=4,OR(C27=K26,C27=L26,C27=M26,C27=N26)),"W","L")) -> L | E26: =IF(AND(F25="l1",D26="w"),"w",IF(F25="l2","",IF(AND(J26=1,I26>=3),D26,IF(J26=1,"",D26)))) | F26: =IF(AND(F25="l1",I26>3,D26="l"),"L2",IF(I26<3,"",IF(AND(D26="l",I26=3,F25=""),"l1",IF(F25="L2","New",IF(AND(D26="l",D25="w"),"L1",IF(AND(D26="l",D25="l",D24="W"),"L2","")))))) | G26: =IF(AND(E26="w",F25="l1"),2,IF(E26="",0,IF(AND(E26="w",F26=""),3,IF(AND(E26="l",F26="l1"),-3,IF(AND(E26="l",F26="l2"),-4))))) -> 0 | H26: =H25+G26 -> -6 | I26: =COUNTIF(K26:N26,1)+COUNTIF(K26:N26,2)+COUNTIF(K26:N26,3)+COUNTIF(K26:N26,4)+COUNTIF(K26:N26,5)+COUNTIF(K26:N26,6) -> 2 | J26: =IF(OR(F23="New",F22="New",F21="New",F24="New",F25="New",F26="New"),1,"") -> 1 | K26: =IF(AND(F25="New",P26>=1),R26,IF(AND(F25="l1",I25=3),K25,IF(D24="w",K25,IF(D25="w",K25,IF(V26<>0,V26,IF(W26<>0,W26,IF(X26<>0,X26,IF(Y26<>0,Y26,IF(Z26<>0,Z26,IF(AA26<>0,AA26,"")))))))))) -> 2 | L26: =IF(AND(F25="New",P26=1),"",IF(AND(F25="New",P26>=2),S26,IF(AND(F25="l1",I25=3),L25,IF(D24="w",L25,IF(D25="w",L25,IF(F25="l1",L25,IF(AND(W26<>0,W26<>K26),W26,IF(AND(X26<>0,X26<>K26),X26,IF(AND(Y26<>0,Y26<>K26),Y26,IF(AND(Z26<>0,Z26<>K26),Z26,IF(AND(AA26<>0,AA26<>K26),AA26))))))))))) -> 3 | M26: =IF(AND(F25="New",P26=1),"",IF(AND(F25="New",P26=2),"",IF(AND(F25="New",P26=3),T26,IF(AND(F25="l1",I25=3),M25,IF(D24="w",M25,IF(D25="w",M25,IF(AND(X26<>0,X26<>K26,X26<>L26),X26,IF(AND(Y26<>0,Y26<>K26,Y26<>L26),Y26,IF(AND(Z26<>0,Z26<>K26,Z26<>L26),Z26,IF(AND(AA26<>0,AA26<>K26,AA26<>L26),AA26,"")))))))))) | N26: =IF(N25<>"","",IF(AND(R26<>K26,R26<>L26,R26<>M26,R26<>0),R26,"")) | P26: =COUNTIF(R26:T26,1)+COUNTIF(R26:T26,2)+COUNTIF(R26:T26,3)+COUNTIF(R26:T26,4)+COUNTIF(R26:T26,5)+COUNTIF(R26:T26,6) -> 2 | R26: =V26 -> 0 | S26: =IF(AND(W26<>0,W26<>V26),W26,IF(AND(X26<>0,X26<>V26),X26,IF(AND(Y26<>0,Y26<>V26),Y26,IF(AND(Z26<>0,Z26<>V26),Z26,IF(AND(AA26<>0,AA26<>V26),AA26))))) -> 2 | T26: =IF(AND(X26<>0,X26<>S26,X26<>R26),X26,IF(AND(Y26<>0,Y26<>R26,Y26<>S26),Y26,IF(AND(Z26<>0,Z26<>R26,Z26<>S26),Z26,IF(AND(AA26<>0,AA26<>R26,AA26<>S26),AA26,"")))) -> 3 | V26: =C26 -> 0 | W26: =IF(F25="New","",C25) -> 2 | X26: =IF(F24="New","",IF(F25="New","",C24)) -> 3 | Y26: =IF(F23="New","",IF(F24="New","",IF(F25="New","",C23))) | Z26: =IF(F22="New","",IF(F23="New","",IF(F24="New","",IF(F25="New","",C22)))) | AA26: =IF(F21="New","",IF(F22="New","",IF(F23="New","",IF(F24="New","",IF(F25="New","",C21))))) | AE26: http://www.rouletteforum.cc/index.php?topic=12613.0
B27: =RANDBETWEEN(0,36) -> 2 | C27: =IF(B27="","",VLOOKUP(B27,Tabelle2!$D$1:$E$37,2,0)) -> 1 | D27: =IF(AND(I27=3,OR(C28=K27,C28=L27,C28=M27)),"W",IF(AND(I27=4,OR(C28=K27,C28=L27,C28=M27,C28=N27)),"W","L")) -> L | E27: =IF(AND(F26="l1",D27="w"),"w",IF(F26="l2","",IF(AND(J27=1,I27>=3),D27,IF(J27=1,"",D27)))) -> L | F27: =IF(AND(F26="l1",I27>3,D27="l"),"L2",IF(I27<3,"",IF(AND(D27="l",I27=3,F26=""),"l1",IF(F26="L2","New",IF(AND(D27="l",D26="w"),"L1",IF(AND(D27="l",D26="l",D25="W"),"L2","")))))) -> l1 | G27: =IF(AND(E27="w",F26="l1"),2,IF(E27="",0,IF(AND(E27="w",F27=""),3,IF(AND(E27="l",F27="l1"),-3,IF(AND(E27="l",F27="l2"),-4))))) -> -3 | H27: =H26+G27 -> -9 | I27: =COUNTIF(K27:N27,1)+COUNTIF(K27:N27,2)+COUNTIF(K27:N27,3)+COUNTIF(K27:N27,4)+COUNTIF(K27:N27,5)+COUNTIF(K27:N27,6) -> 3 | J27: =IF(OR(F24="New",F23="New",F22="New",F25="New",F26="New",F27="New"),1,"") -> 1 | K27: =IF(AND(F26="New",P27>=1),R27,IF(AND(F26="l1",I26=3),K26,IF(D25="w",K26,IF(D26="w",K26,IF(V27<>0,V27,IF(W27<>0,W27,IF(X27<>0,X27,IF(Y27<>0,Y27,IF(Z27<>0,Z27,IF(AA27<>0,AA27,"")))))))))) -> 1 | L27: =IF(AND(F26="New",P27=1),"",IF(AND(F26="New",P27>=2),S27,IF(AND(F26="l1",I26=3),L26,IF(D25="w",L26,IF(D26="w",L26,IF(F26="l1",L26,IF(AND(W27<>0,W27<>K27),W27,IF(AND(X27<>0,X27<>K27),X27,IF(AND(Y27<>0,Y27<>K27),Y27,IF(AND(Z27<>0,Z27<>K27),Z27,IF(AND(AA27<>0,AA27<>K27),AA27))))))))))) -> 2 | M27: =IF(AND(F26="New",P27=1),"",IF(AND(F26="New",P27=2),"",IF(AND(F26="New",P27=3),T27,IF(AND(F26="l1",I26=3),M26,IF(D25="w",M26,IF(D26="w",M26,IF(AND(X27<>0,X27<>K27,X27<>L27),X27,IF(AND(Y27<>0,Y27<>K27,Y27<>L27),Y27,IF(AND(Z27<>0,Z27<>K27,Z27<>L27),Z27,IF(AND(AA27<>0,AA27<>K27,AA27<>L27),AA27,"")))))))))) -> 3 | N27: =IF(N26<>"","",IF(AND(R27<>K27,R27<>L27,R27<>M27,R27<>0),R27,"")) | P27: =COUNTIF(R27:T27,1)+COUNTIF(R27:T27,2)+COUNTIF(R27:T27,3)+COUNTIF(R27:T27,4)+COUNTIF(R27:T27,5)+COUNTIF(R27:T27,6) -> 3 | R27: =V27 -> 1 | S27: =IF(AND(W27<>0,W27<>V27),W27,IF(AND(X27<>0,X27<>V27),X27,IF(AND(Y27<>0,Y27<>V27),Y27,IF(AND(Z27<>0,Z27<>V27),Z27,IF(AND(AA27<>0,AA27<>V27),AA27))))) -> 2 | T27: =IF(AND(X27<>0,X27<>S27,X27<>R27),X27,IF(AND(Y27<>0,Y27<>R27,Y27<>S27),Y27,IF(AND(Z27<>0,Z27<>R27,Z27<>S27),Z27,IF(AND(AA27<>0,AA27<>R27,AA27<>S27),AA27,"")))) -> 3 | V27: =C27 -> 1 | W27: =IF(F26="New","",C26) -> 0 | X27: =IF(F25="New","",IF(F26="New","",C25)) -> 2 | Y27: =IF(F24="New","",IF(F25="New","",IF(F26="New","",C24))) -> 3 | Z27: =IF(F23="New","",IF(F24="New","",IF(F25="New","",IF(F26="New","",C23)))) | AA27: =IF(F22="New","",IF(F23="New","",IF(F24="New","",IF(F25="New","",IF(F26="New","",C22)))))
B28: =RANDBETWEEN(0,36) -> 23 | C28: =IF(B28="","",VLOOKUP(B28,Tabelle2!$D$1:$E$37,2,0)) -> 4 | D28: =IF(AND(I28=3,OR(C29=K28,C29=L28,C29=M28)),"W",IF(AND(I28=4,OR(C29=K28,C29=L28,C29=M28,C29=N28)),"W","L")) -> W | E28: =IF(AND(F27="l1",D28="w"),"w",IF(F27="l2","",IF(AND(J28=1,I28>=3),D28,IF(J28=1,"",D28)))) -> w | F28: =IF(AND(F27="l1",I28>3,D28="l"),"L2",IF(I28<3,"",IF(AND(D28="l",I28=3,F27=""),"l1",IF(F27="L2","New",IF(AND(D28="l",D27="w"),"L1",IF(AND(D28="l",D27="l",D26="W"),"L2","")))))) | G28: =IF(AND(E28="w",F27="l1"),2,IF(E28="",0,IF(AND(E28="w",F28=""),3,IF(AND(E28="l",F28="l1"),-3,IF(AND(E28="l",F28="l2"),-4))))) -> 2 | H28: =H27+G28 -> -7 | I28: =COUNTIF(K28:N28,1)+COUNTIF(K28:N28,2)+COUNTIF(K28:N28,3)+COUNTIF(K28:N28,4)+COUNTIF(K28:N28,5)+COUNTIF(K28:N28,6) -> 4 | J28: =IF(OR(F25="New",F24="New",F23="New",F26="New",F27="New",F28="New"),1,"") -> 1 | K28: =IF(AND(F27="New",P28>=1),R28,IF(AND(F27="l1",I27=3),K27,IF(D26="w",K27,IF(D27="w",K27,IF(V28<>0,V28,IF(W28<>0,W28,IF(X28<>0,X28,IF(Y28<>0,Y28,IF(Z28<>0,Z28,IF(AA28<>0,AA28,"")))))))))) -> 1 | L28: =IF(AND(F27="New",P28=1),"",IF(AND(F27="New",P28>=2),S28,IF(AND(F27="l1",I27=3),L27,IF(D26="w",L27,IF(D27="w",L27,IF(F27="l1",L27,IF(AND(W28<>0,W28<>K28),W28,IF(AND(X28<>0,X28<>K28),X28,IF(AND(Y28<>0,Y28<>K28),Y28,IF(AND(Z28<>0,Z28<>K28),Z28,IF(AND(AA28<>0,AA28<>K28),AA28))))))))))) -> 2 | M28: =IF(AND(F27="New",P28=1),"",IF(AND(F27="New",P28=2),"",IF(AND(F27="New",P28=3),T28,IF(AND(F27="l1",I27=3),M27,IF(D26="w",M27,IF(D27="w",M27,IF(AND(X28<>0,X28<>K28,X28<>L28),X28,IF(AND(Y28<>0,Y28<>K28,Y28<>L28),Y28,IF(AND(Z28<>0,Z28<>K28,Z28<>L28),Z28,IF(AND(AA28<>0,AA28<>K28,AA28<>L28),AA28,"")))))))))) -> 3 | N28: =IF(N27<>"","",IF(AND(R28<>K28,R28<>L28,R28<>M28,R28<>0),R28,"")) -> 4 | P28: =COUNTIF(R28:T28,1)+COUNTIF(R28:T28,2)+COUNTIF(R28:T28,3)+COUNTIF(R28:T28,4)+COUNTIF(R28:T28,5)+COUNTIF(R28:T28,6) -> 3 | R28: =V28 -> 4 | S28: =IF(AND(W28<>0,W28<>V28),W28,IF(AND(X28<>0,X28<>V28),X28,IF(AND(Y28<>0,Y28<>V28),Y28,IF(AND(Z28<>0,Z28<>V28),Z28,IF(AND(AA28<>0,AA28<>V28),AA28))))) -> 1 | T28: =IF(AND(X28<>0,X28<>S28,X28<>R28),X28,IF(AND(Y28<>0,Y28<>R28,Y28<>S28),Y28,IF(AND(Z28<>0,Z28<>R28,Z28<>S28),Z28,IF(AND(AA28<>0,AA28<>R28,AA28<>S28),AA28,"")))) -> 2 | V28: =C28 -> 4 | W28: =IF(F27="New","",C27) -> 1 | X28: =IF(F26="New","",IF(F27="New","",C26)) -> 0 | Y28: =IF(F25="New","",IF(F26="New","",IF(F27="New","",C25))) -> 2 | Z28: =IF(F24="New","",IF(F25="New","",IF(F26="New","",IF(F27="New","",C24)))) -> 3 | AA28: =IF(F23="New","",IF(F24="New","",IF(F25="New","",IF(F26="New","",IF(F27="New","",C23)))))
B29: =RANDBETWEEN(0,36) -> 13 | C29: =IF(B29="","",VLOOKUP(B29,Tabelle2!$D$1:$E$37,2,0)) -> 3 | D29: =IF(AND(I29=3,OR(C30=K29,C30=L29,C30=M29)),"W",IF(AND(I29=4,OR(C30=K29,C30=L29,C30=M29,C30=N29)),"W","L")) -> L | E29: =IF(AND(F28="l1",D29="w"),"w",IF(F28="l2","",IF(AND(J29=1,I29>=3),D29,IF(J29=1,"",D29)))) -> L | F29: =IF(AND(F28="l1",I29>3,D29="l"),"L2",IF(I29<3,"",IF(AND(D29="l",I29=3,F28=""),"l1",IF(F28="L2","New",IF(AND(D29="l",D28="w"),"L1",IF(AND(D29="l",D28="l",D27="W"),"L2","")))))) -> l1 | G29: =IF(AND(E29="w",F28="l1"),2,IF(E29="",0,IF(AND(E29="w",F29=""),3,IF(AND(E29="l",F29="l1"),-3,IF(AND(E29="l",F29="l2"),-4))))) -> -3 | H29: =H28+G29 -> -10 | I29: =COUNTIF(K29:N29,1)+COUNTIF(K29:N29,2)+COUNTIF(K29:N29,3)+COUNTIF(K29:N29,4)+COUNTIF(K29:N29,5)+COUNTIF(K29:N29,6) -> 3 | J29: =IF(OR(F26="New",F25="New",F24="New",F27="New",F28="New",F29="New"),1,"") | K29: =IF(AND(F28="New",P29>=1),R29,IF(AND(F28="l1",I28=3),K28,IF(D27="w",K28,IF(D28="w",K28,IF(V29<>0,V29,IF(W29<>0,W29,IF(X29<>0,X29,IF(Y29<>0,Y29,IF(Z29<>0,Z29,IF(AA29<>0,AA29,"")))))))))) -> 1 | L29: =IF(AND(F28="New",P29=1),"",IF(AND(F28="New",P29>=2),S29,IF(AND(F28="l1",I28=3),L28,IF(D27="w",L28,IF(D28="w",L28,IF(F28="l1",L28,IF(AND(W29<>0,W29<>K29),W29,IF(AND(X29<>0,X29<>K29),X29,IF(AND(Y29<>0,Y29<>K29),Y29,IF(AND(Z29<>0,Z29<>K29),Z29,IF(AND(AA29<>0,AA29<>K29),AA29))))))))))) -> 2 | M29: =IF(AND(F28="New",P29=1),"",IF(AND(F28="New",P29=2),"",IF(AND(F28="New",P29=3),T29,IF(AND(F28="l1",I28=3),M28,IF(D27="w",M28,IF(D28="w",M28,IF(AND(X29<>0,X29<>K29,X29<>L29),X29,IF(AND(Y29<>0,Y29<>K29,Y29<>L29),Y29,IF(AND(Z29<>0,Z29<>K29,Z29<>L29),Z29,IF(AND(AA29<>0,AA29<>K29,AA29<>L29),AA29,"")))))))))) -> 3 | N29: =IF(N28<>"","",IF(AND(R29<>K29,R29<>L29,R29<>M29,R29<>0),R29,"")) | P29: =COUNTIF(R29:T29,1)+COUNTIF(R29:T29,2)+COUNTIF(R29:T29,3)+COUNTIF(R29:T29,4)+COUNTIF(R29:T29,5)+COUNTIF(R29:T29,6) -> 3 | R29: =V29 -> 3 | S29: =IF(AND(W29<>0,W29<>V29),W29,IF(AND(X29<>0,X29<>V29),X29,IF(AND(Y29<>0,Y29<>V29),Y29,IF(AND(Z29<>0,Z29<>V29),Z29,IF(AND(AA29<>0,AA29<>V29),AA29))))) -> 4 | T29: =IF(AND(X29<>0,X29<>S29,X29<>R29),X29,IF(AND(Y29<>0,Y29<>R29,Y29<>S29),Y29,IF(AND(Z29<>0,Z29<>R29,Z29<>S29),Z29,IF(AND(AA29<>0,AA29<>R29,AA29<>S29),AA29,"")))) -> 1 | V29: =C29 -> 3 | W29: =IF(F28="New","",C28) -> 4 | X29: =IF(F27="New","",IF(F28="New","",C27)) -> 1 | Y29: =IF(F26="New","",IF(F27="New","",IF(F28="New","",C26))) -> 0 | Z29: =IF(F25="New","",IF(F26="New","",IF(F27="New","",IF(F28="New","",C25)))) -> 2 | AA29: =IF(F24="New","",IF(F25="New","",IF(F26="New","",IF(F27="New","",IF(F28="New","",C24))))) -> 3
B30: =RANDBETWEEN(0,36) -> 34 | C30: =IF(B30="","",VLOOKUP(B30,Tabelle2!$D$1:$E$37,2,0)) -> 6 | D30: =IF(AND(I30=3,OR(C31=K30,C31=L30,C31=M30)),"W",IF(AND(I30=4,OR(C31=K30,C31=L30,C31=M30,C31=N30)),"W","L")) -> L | E30: =IF(AND(F29="l1",D30="w"),"w",IF(F29="l2","",IF(AND(J30=1,I30>=3),D30,IF(J30=1,"",D30)))) -> L | F30: =IF(AND(F29="l1",I30>3,D30="l"),"L2",IF(I30<3,"",IF(AND(D30="l",I30=3,F29=""),"l1",IF(F29="L2","New",IF(AND(D30="l",D29="w"),"L1",IF(AND(D30="l",D29="l",D28="W"),"L2","")))))) -> L2 | G30: =IF(AND(E30="w",F29="l1"),2,IF(E30="",0,IF(AND(E30="w",F30=""),3,IF(AND(E30="l",F30="l1"),-3,IF(AND(E30="l",F30="l2"),-4))))) -> -4 | H30: =H29+G30 -> -14 | I30: =COUNTIF(K30:N30,1)+COUNTIF(K30:N30,2)+COUNTIF(K30:N30,3)+COUNTIF(K30:N30,4)+COUNTIF(K30:N30,5)+COUNTIF(K30:N30,6) -> 4 | J30: =IF(OR(F27="New",F26="New",F25="New",F28="New",F29="New",F30="New"),1,"") | K30: =IF(AND(F29="New",P30>=1),R30,IF(AND(F29="l1",I29=3),K29,IF(D28="w",K29,IF(D29="w",K29,IF(V30<>0,V30,IF(W30<>0,W30,IF(X30<>0,X30,IF(Y30<>0,Y30,IF(Z30<>0,Z30,IF(AA30<>0,AA30,"")))))))))) -> 1 | L30: =IF(AND(F29="New",P30=1),"",IF(AND(F29="New",P30>=2),S30,IF(AND(F29="l1",I29=3),L29,IF(D28="w",L29,IF(D29="w",L29,IF(F29="l1",L29,IF(AND(W30<>0,W30<>K30),W30,IF(AND(X30<>0,X30<>K30),X30,IF(AND(Y30<>0,Y30<>K30),Y30,IF(AND(Z30<>0,Z30<>K30),Z30,IF(AND(AA30<>0,AA30<>K30),AA30))))))))))) -> 2 | M30: =IF(AND(F29="New",P30=1),"",IF(AND(F29="New",P30=2),"",IF(AND(F29="New",P30=3),T30,IF(AND(F29="l1",I29=3),M29,IF(D28="w",M29,IF(D29="w",M29,IF(AND(X30<>0,X30<>K30,X30<>L30),X30,IF(AND(Y30<>0,Y30<>K30,Y30<>L30),Y30,IF(AND(Z30<>0,Z30<>K30,Z30<>L30),Z30,IF(AND(AA30<>0,AA30<>K30,AA30<>L30),AA30,"")))))))))) -> 3 | N30: =IF(N29<>"","",IF(AND(R30<>K30,R30<>L30,R30<>M30,R30<>0),R30,"")) -> 6 | P30: =COUNTIF(R30:T30,1)+COUNTIF(R30:T30,2)+COUNTIF(R30:T30,3)+COUNTIF(R30:T30,4)+COUNTIF(R30:T30,5)+COUNTIF(R30:T30,6) -> 3 | R30: =V30 -> 6 | S30: =IF(AND(W30<>0,W30<>V30),W30,IF(AND(X30<>0,X30<>V30),X30,IF(AND(Y30<>0,Y30<>V30),Y30,IF(AND(Z30<>0,Z30<>V30),Z30,IF(AND(AA30<>0,AA30<>V30),AA30))))) -> 3 | T30: =IF(AND(X30<>0,X30<>S30,X30<>R30),X30,IF(AND(Y30<>0,Y30<>R30,Y30<>S30),Y30,IF(AND(Z30<>0,Z30<>R30,Z30<>S30),Z30,IF(AND(AA30<>0,AA30<>R30,AA30<>S30),AA30,"")))) -> 4 | V30: =C30 -> 6 | W30: =IF(F29="New","",C29) -> 3 | X30: =IF(F28="New","",IF(F29="New","",C28)) -> 4 | Y30: =IF(F27="New","",IF(F28="New","",IF(F29="New","",C27))) -> 1 | Z30: =IF(F26="New","",IF(F27="New","",IF(F28="New","",IF(F29="New","",C26)))) -> 0 | AA30: =IF(F25="New","",IF(F26="New","",IF(F27="New","",IF(F28="New","",IF(F29="New","",C25))))) -> 2
B31: =RANDBETWEEN(0,36) -> 28 | C31: =IF(B31="","",VLOOKUP(B31,Tabelle2!$D$1:$E$37,2,0)) -> 5 | D31: =IF(AND(I31=3,OR(C32=K31,C32=L31,C32=M31)),"W",IF(AND(I31=4,OR(C32=K31,C32=L31,C32=M31,C32=N31)),"W","L")) -> L | E31: =IF(AND(F30="l1",D31="w"),"w",IF(F30="l2","",IF(AND(J31=1,I31>=3),D31,IF(J31=1,"",D31)))) | F31: =IF(AND(F30="l1",I31>3,D31="l"),"L2",IF(I31<3,"",IF(AND(D31="l",I31=3,F30=""),"l1",IF(F30="L2","New",IF(AND(D31="l",D30="w"),"L1",IF(AND(D31="l",D30="l",D29="W"),"L2","")))))) -> New | G31: =IF(AND(E31="w",F30="l1"),2,IF(E31="",0,IF(AND(E31="w",F31=""),3,IF(AND(E31="l",F31="l1"),-3,IF(AND(E31="l",F31="l2"),-4))))) -> 0 | H31: =H30+G31 -> -14 | I31: =COUNTIF(K31:N31,1)+COUNTIF(K31:N31,2)+COUNTIF(K31:N31,3)+COUNTIF(K31:N31,4)+COUNTIF(K31:N31,5)+COUNTIF(K31:N31,6) -> 3 | J31: =IF(OR(F28="New",F27="New",F26="New",F29="New",F30="New",F31="New"),1,"") -> 1 | K31: =IF(AND(F30="New",P31>=1),R31,IF(AND(F30="l1",I30=3),K30,IF(D29="w",K30,IF(D30="w",K30,IF(V31<>0,V31,IF(W31<>0,W31,IF(X31<>0,X31,IF(Y31<>0,Y31,IF(Z31<>0,Z31,IF(AA31<>0,AA31,"")))))))))) -> 5 | L31: =IF(AND(F30="New",P31=1),"",IF(AND(F30="New",P31>=2),S31,IF(AND(F30="l1",I30=3),L30,IF(D29="w",L30,IF(D30="w",L30,IF(F30="l1",L30,IF(AND(W31<>0,W31<>K31),W31,IF(AND(X31<>0,X31<>K31),X31,IF(AND(Y31<>0,Y31<>K31),Y31,IF(AND(Z31<>0,Z31<>K31),Z31,IF(AND(AA31<>0,AA31<>K31),AA31))))))))))) -> 6 | M31: =IF(AND(F30="New",P31=1),"",IF(AND(F30="New",P31=2),"",IF(AND(F30="New",P31=3),T31,IF(AND(F30="l1",I30=3),M30,IF(D29="w",M30,IF(D30="w",M30,IF(AND(X31<>0,X31<>K31,X31<>L31),X31,IF(AND(Y31<>0,Y31<>K31,Y31<>L31),Y31,IF(AND(Z31<>0,Z31<>K31,Z31<>L31),Z31,IF(AND(AA31<>0,AA31<>K31,AA31<>L31),AA31,"")))))))))) -> 3 | N31: =IF(N30<>"","",IF(AND(R31<>K31,R31<>L31,R31<>M31,R31<>0),R31,"")) | P31: =COUNTIF(R31:T31,1)+COUNTIF(R31:T31,2)+COUNTIF(R31:T31,3)+COUNTIF(R31:T31,4)+COUNTIF(R31:T31,5)+COUNTIF(R31:T31,6) -> 3 | R31: =V31 -> 5 | S31: =IF(AND(W31<>0,W31<>V31),W31,IF(AND(X31<>0,X31<>V31),X31,IF(AND(Y31<>0,Y31<>V31),Y31,IF(AND(Z31<>0,Z31<>V31),Z31,IF(AND(AA31<>0,AA31<>V31),AA31))))) -> 6 | T31: =IF(AND(X31<>0,X31<>S31,X31<>R31),X31,IF(AND(Y31<>0,Y31<>R31,Y31<>S31),Y31,IF(AND(Z31<>0,Z31<>R31,Z31<>S31),Z31,IF(AND(AA31<>0,AA31<>R31,AA31<>S31),AA31,"")))) -> 3 | V31: =C31 -> 5 | W31: =IF(F30="New","",C30) -> 6 | X31: =IF(F29="New","",IF(F30="New","",C29)) -> 3 | Y31: =IF(F28="New","",IF(F29="New","",IF(F30="New","",C28))) -> 4 | Z31: =IF(F27="New","",IF(F28="New","",IF(F29="New","",IF(F30="New","",C27)))) -> 1 | AA31: =IF(F26="New","",IF(F27="New","",IF(F28="New","",IF(F29="New","",IF(F30="New","",C26))))) -> 0
B32: =RANDBETWEEN(0,36) -> 1 | C32: =IF(B32="","",VLOOKUP(B32,Tabelle2!$D$1:$E$37,2,0)) -> 1 | D32: =IF(AND(I32=3,OR(C33=K32,C33=L32,C33=M32)),"W",IF(AND(I32=4,OR(C33=K32,C33=L32,C33=M32,C33=N32)),"W","L")) -> L | E32: =IF(AND(F31="l1",D32="w"),"w",IF(F31="l2","",IF(AND(J32=1,I32>=3),D32,IF(J32=1,"",D32)))) | F32: =IF(AND(F31="l1",I32>3,D32="l"),"L2",IF(I32<3,"",IF(AND(D32="l",I32=3,F31=""),"l1",IF(F31="L2","New",IF(AND(D32="l",D31="w"),"L1",IF(AND(D32="l",D31="l",D30="W"),"L2","")))))) | G32: =IF(AND(E32="w",F31="l1"),2,IF(E32="",0,IF(AND(E32="w",F32=""),3,IF(AND(E32="l",F32="l1"),-3,IF(AND(E32="l",F32="l2"),-4))))) -> 0 | H32: =H31+G32 -> -14 | I32: =COUNTIF(K32:N32,1)+COUNTIF(K32:N32,2)+COUNTIF(K32:N32,3)+COUNTIF(K32:N32,4)+COUNTIF(K32:N32,5)+COUNTIF(K32:N32,6) -> 1 | J32: =IF(OR(F29="New",F28="New",F27="New",F30="New",F31="New",F32="New"),1,"") -> 1 | K32: =IF(AND(F31="New",P32>=1),R32,IF(AND(F31="l1",I31=3),K31,IF(D30="w",K31,IF(D31="w",K31,IF(V32<>0,V32,IF(W32<>0,W32,IF(X32<>0,X32,IF(Y32<>0,Y32,IF(Z32<>0,Z32,IF(AA32<>0,AA32,"")))))))))) -> 1 | L32: =IF(AND(F31="New",P32=1),"",IF(AND(F31="New",P32>=2),S32,IF(AND(F31="l1",I31=3),L31,IF(D30="w",L31,IF(D31="w",L31,IF(F31="l1",L31,IF(AND(W32<>0,W32<>K32),W32,IF(AND(X32<>0,X32<>K32),X32,IF(AND(Y32<>0,Y32<>K32),Y32,IF(AND(Z32<>0,Z32<>K32),Z32,IF(AND(AA32<>0,AA32<>K32),AA32))))))))))) | M32: =IF(AND(F31="New",P32=1),"",IF(AND(F31="New",P32=2),"",IF(AND(F31="New",P32=3),T32,IF(AND(F31="l1",I31=3),M31,IF(D30="w",M31,IF(D31="w",M31,IF(AND(X32<>0,X32<>K32,X32<>L32),X32,IF(AND(Y32<>0,Y32<>K32,Y32<>L32),Y32,IF(AND(Z32<>0,Z32<>K32,Z32<>L32),Z32,IF(AND(AA32<>0,AA32<>K32,AA32<>L32),AA32,"")))))))))) | N32: =IF(N31<>"","",IF(AND(R32<>K32,R32<>L32,R32<>M32,R32<>0),R32,"")) | P32: =COUNTIF(R32:T32,1)+COUNTIF(R32:T32,2)+COUNTIF(R32:T32,3)+COUNTIF(R32:T32,4)+COUNTIF(R32:T32,5)+COUNTIF(R32:T32,6) -> 1 | R32: =V32 -> 1 | S32: =IF(AND(W32<>0,W32<>V32),W32,IF(AND(X32<>0,X32<>V32),X32,IF(AND(Y32<>0,Y32<>V32),Y32,IF(AND(Z32<>0,Z32<>V32),Z32,IF(AND(AA32<>0,AA32<>V32),AA32))))) | T32: =IF(AND(X32<>0,X32<>S32,X32<>R32),X32,IF(AND(Y32<>0,Y32<>R32,Y32<>S32),Y32,IF(AND(Z32<>0,Z32<>R32,Z32<>S32),Z32,IF(AND(AA32<>0,AA32<>R32,AA32<>S32),AA32,"")))) | V32: =C32 -> 1 | W32: =IF(F31="New","",C31) | X32: =IF(F30="New","",IF(F31="New","",C30)) | Y32: =IF(F29="New","",IF(F30="New","",IF(F31="New","",C29))) | Z32: =IF(F28="New","",IF(F29="New","",IF(F30="New","",IF(F31="New","",C28)))) | AA32: =IF(F27="New","",IF(F28="New","",IF(F29="New","",IF(F30="New","",IF(F31="New","",C27)))))
B33: =RANDBETWEEN(0,36) -> 32 | C33: =IF(B33="","",VLOOKUP(B33,Tabelle2!$D$1:$E$37,2,0)) -> 6 | D33: =IF(AND(I33=3,OR(C34=K33,C34=L33,C34=M33)),"W",IF(AND(I33=4,OR(C34=K33,C34=L33,C34=M33,C34=N33)),"W","L")) -> L | E33: =IF(AND(F32="l1",D33="w"),"w",IF(F32="l2","",IF(AND(J33=1,I33>=3),D33,IF(J33=1,"",D33)))) | F33: =IF(AND(F32="l1",I33>3,D33="l"),"L2",IF(I33<3,"",IF(AND(D33="l",I33=3,F32=""),"l1",IF(F32="L2","New",IF(AND(D33="l",D32="w"),"L1",IF(AND(D33="l",D32="l",D31="W"),"L2","")))))) | G33: =IF(AND(E33="w",F32="l1"),2,IF(E33="",0,IF(AND(E33="w",F33=""),3,IF(AND(E33="l",F33="l1"),-3,IF(AND(E33="l",F33="l2"),-4))))) -> 0 | H33: =H32+G33 -> -14 | I33: =COUNTIF(K33:N33,1)+COUNTIF(K33:N33,2)+COUNTIF(K33:N33,3)+COUNTIF(K33:N33,4)+COUNTIF(K33:N33,5)+COUNTIF(K33:N33,6) -> 2 | J33: =IF(OR(F30="New",F29="New",F28="New",F31="New",F32="New",F33="New"),1,"") -> 1 | K33: =IF(AND(F32="New",P33>=1),R33,IF(AND(F32="l1",I32=3),K32,IF(D31="w",K32,IF(D32="w",K32,IF(V33<>0,V33,IF(W33<>0,W33,IF(X33<>0,X33,IF(Y33<>0,Y33,IF(Z33<>0,Z33,IF(AA33<>0,AA33,"")))))))))) -> 6 | L33: =IF(AND(F32="New",P33=1),"",IF(AND(F32="New",P33>=2),S33,IF(AND(F32="l1",I32=3),L32,IF(D31="w",L32,IF(D32="w",L32,IF(F32="l1",L32,IF(AND(W33<>0,W33<>K33),W33,IF(AND(X33<>0,X33<>K33),X33,IF(AND(Y33<>0,Y33<>K33),Y33,IF(AND(Z33<>0,Z33<>K33),Z33,IF(AND(AA33<>0,AA33<>K33),AA33))))))))))) -> 1 | M33: =IF(AND(F32="New",P33=1),"",IF(AND(F32="New",P33=2),"",IF(AND(F32="New",P33=3),T33,IF(AND(F32="l1",I32=3),M32,IF(D31="w",M32,IF(D32="w",M32,IF(AND(X33<>0,X33<>K33,X33<>L33),X33,IF(AND(Y33<>0,Y33<>K33,Y33<>L33),Y33,IF(AND(Z33<>0,Z33<>K33,Z33<>L33),Z33,IF(AND(AA33<>0,AA33<>K33,AA33<>L33),AA33,"")))))))))) | N33: =IF(N32<>"","",IF(AND(R33<>K33,R33<>L33,R33<>M33,R33<>0),R33,"")) | P33: =COUNTIF(R33:T33,1)+COUNTIF(R33:T33,2)+COUNTIF(R33:T33,3)+COUNTIF(R33:T33,4)+COUNTIF(R33:T33,5)+COUNTIF(R33:T33,6) -> 2 | R33: =V33 -> 6 | S33: =IF(AND(W33<>0,W33<>V33),W33,IF(AND(X33<>0,X33<>V33),X33,IF(AND(Y33<>0,Y33<>V33),Y33,IF(AND(Z33<>0,Z33<>V33),Z33,IF(AND(AA33<>0,AA33<>V33),AA33))))) -> 1 | T33: =IF(AND(X33<>0,X33<>S33,X33<>R33),X33,IF(AND(Y33<>0,Y33<>R33,Y33<>S33),Y33,IF(AND(Z33<>0,Z33<>R33,Z33<>S33),Z33,IF(AND(AA33<>0,AA33<>R33,AA33<>S33),AA33,"")))) | V33: =C33 -> 6 | W33: =IF(F32="New","",C32) -> 1 | X33: =IF(F31="New","",IF(F32="New","",C31)) | Y33: =IF(F30="New","",IF(F31="New","",IF(F32="New","",C30))) | Z33: =IF(F29="New","",IF(F30="New","",IF(F31="New","",IF(F32="New","",C29)))) | AA33: =IF(F28="New","",IF(F29="New","",IF(F30="New","",IF(F31="New","",IF(F32="New","",C28)))))
B34: =RANDBETWEEN(0,36) -> 25 | C34: =IF(B34="","",VLOOKUP(B34,Tabelle2!$D$1:$E$37,2,0)) -> 5 | D34: =IF(AND(I34=3,OR(C35=K34,C35=L34,C35=M34)),"W",IF(AND(I34=4,OR(C35=K34,C35=L34,C35=M34,C35=N34)),"W","L")) -> W | E34: =IF(AND(F33="l1",D34="w"),"w",IF(F33="l2","",IF(AND(J34=1,I34>=3),D34,IF(J34=1,"",D34)))) -> W | F34: =IF(AND(F33="l1",I34>3,D34="l"),"L2",IF(I34<3,"",IF(AND(D34="l",I34=3,F33=""),"l1",IF(F33="L2","New",IF(AND(D34="l",D33="w"),"L1",IF(AND(D34="l",D33="l",D32="W"),"L2","")))))) | G34: =IF(AND(E34="w",F33="l1"),2,IF(E34="",0,IF(AND(E34="w",F34=""),3,IF(AND(E34="l",F34="l1"),-3,IF(AND(E34="l",F34="l2"),-4))))) -> 3 | H34: =H33+G34 -> -11 | I34: =COUNTIF(K34:N34,1)+COUNTIF(K34:N34,2)+COUNTIF(K34:N34,3)+COUNTIF(K34:N34,4)+COUNTIF(K34:N34,5)+COUNTIF(K34:N34,6) -> 3 | J34: =IF(OR(F31="New",F30="New",F29="New",F32="New",F33="New",F34="New"),1,"") -> 1 | K34: =IF(AND(F33="New",P34>=1),R34,IF(AND(F33="l1",I33=3),K33,IF(D32="w",K33,IF(D33="w",K33,IF(V34<>0,V34,IF(W34<>0,W34,IF(X34<>0,X34,IF(Y34<>0,Y34,IF(Z34<>0,Z34,IF(AA34<>0,AA34,"")))))))))) -> 5 | L34: =IF(AND(F33="New",P34=1),"",IF(AND(F33="New",P34>=2),S34,IF(AND(F33="l1",I33=3),L33,IF(D32="w",L33,IF(D33="w",L33,IF(F33="l1",L33,IF(AND(W34<>0,W34<>K34),W34,IF(AND(X34<>0,X34<>K34),X34,IF(AND(Y34<>0,Y34<>K34),Y34,IF(AND(Z34<>0,Z34<>K34),Z34,IF(AND(AA34<>0,AA34<>K34),AA34))))))))))) -> 6 | M34: =IF(AND(F33="New",P34=1),"",IF(AND(F33="New",P34=2),"",IF(AND(F33="New",P34=3),T34,IF(AND(F33="l1",I33=3),M33,IF(D32="w",M33,IF(D33="w",M33,IF(AND(X34<>0,X34<>K34,X34<>L34),X34,IF(AND(Y34<>0,Y34<>K34,Y34<>L34),Y34,IF(AND(Z34<>0,Z34<>K34,Z34<>L34),Z34,IF(AND(AA34<>0,AA34<>K34,AA34<>L34),AA34,"")))))))))) -> 1 | N34: =IF(N33<>"","",IF(AND(R34<>K34,R34<>L34,R34<>M34,R34<>0),R34,"")) | P34: =COUNTIF(R34:T34,1)+COUNTIF(R34:T34,2)+COUNTIF(R34:T34,3)+COUNTIF(R34:T34,4)+COUNTIF(R34:T34,5)+COUNTIF(R34:T34,6) -> 3 | R34: =V34 -> 5 | S34: =IF(AND(W34<>0,W34<>V34),W34,IF(AND(X34<>0,X34<>V34),X34,IF(AND(Y34<>0,Y34<>V34),Y34,IF(AND(Z34<>0,Z34<>V34),Z34,IF(AND(AA34<>0,AA34<>V34),AA34))))) -> 6 | T34: =IF(AND(X34<>0,X34<>S34,X34<>R34),X34,IF(AND(Y34<>0,Y34<>R34,Y34<>S34),Y34,IF(AND(Z34<>0,Z34<>R34,Z34<>S34),Z34,IF(AND(AA34<>0,AA34<>R34,AA34<>S34),AA34,"")))) -> 1 | V34: =C34 -> 5 | W34: =IF(F33="New","",C33) -> 6 | X34: =IF(F32="New","",IF(F33="New","",C32)) -> 1 | Y34: =IF(F31="New","",IF(F32="New","",IF(F33="New","",C31))) | Z34: =IF(F30="New","",IF(F31="New","",IF(F32="New","",IF(F33="New","",C30)))) | AA34: =IF(F29="New","",IF(F30="New","",IF(F31="New","",IF(F32="New","",IF(F33="New","",C29)))))
B35: =RANDBETWEEN(0,36) -> 28 | C35: =IF(B35="","",VLOOKUP(B35,Tabelle2!$D$1:$E$37,2,0)) -> 5 | D35: =IF(AND(I35=3,OR(C36=K35,C36=L35,C36=M35)),"W",IF(AND(I35=4,OR(C36=K35,C36=L35,C36=M35,C36=N35)),"W","L")) -> L | E35: =IF(AND(F34="l1",D35="w"),"w",IF(F34="l2","",IF(AND(J35=1,I35>=3),D35,IF(J35=1,"",D35)))) -> L | F35: =IF(AND(F34="l1",I35>3,D35="l"),"L2",IF(I35<3,"",IF(AND(D35="l",I35=3,F34=""),"l1",IF(F34="L2","New",IF(AND(D35="l",D34="w"),"L1",IF(AND(D35="l",D34="l",D33="W"),"L2","")))))) -> l1 | G35: =IF(AND(E35="w",F34="l1"),2,IF(E35="",0,IF(AND(E35="w",F35=""),3,IF(AND(E35="l",F35="l1"),-3,IF(AND(E35="l",F35="l2"),-4))))) -> -3 | H35: =H34+G35 -> -14 | I35: =COUNTIF(K35:N35,1)+COUNTIF(K35:N35,2)+COUNTIF(K35:N35,3)+COUNTIF(K35:N35,4)+COUNTIF(K35:N35,5)+COUNTIF(K35:N35,6) -> 3 | J35: =IF(OR(F32="New",F31="New",F30="New",F33="New",F34="New",F35="New"),1,"") -> 1 | K35: =IF(AND(F34="New",P35>=1),R35,IF(AND(F34="l1",I34=3),K34,IF(D33="w",K34,IF(D34="w",K34,IF(V35<>0,V35,IF(W35<>0,W35,IF(X35<>0,X35,IF(Y35<>0,Y35,IF(Z35<>0,Z35,IF(AA35<>0,AA35,"")))))))))) -> 5 | L35: =IF(AND(F34="New",P35=1),"",IF(AND(F34="New",P35>=2),S35,IF(AND(F34="l1",I34=3),L34,IF(D33="w",L34,IF(D34="w",L34,IF(F34="l1",L34,IF(AND(W35<>0,W35<>K35),W35,IF(AND(X35<>0,X35<>K35),X35,IF(AND(Y35<>0,Y35<>K35),Y35,IF(AND(Z35<>0,Z35<>K35),Z35,IF(AND(AA35<>0,AA35<>K35),AA35))))))))))) -> 6 | M35: =IF(AND(F34="New",P35=1),"",IF(AND(F34="New",P35=2),"",IF(AND(F34="New",P35=3),T35,IF(AND(F34="l1",I34=3),M34,IF(D33="w",M34,IF(D34="w",M34,IF(AND(X35<>0,X35<>K35,X35<>L35),X35,IF(AND(Y35<>0,Y35<>K35,Y35<>L35),Y35,IF(AND(Z35<>0,Z35<>K35,Z35<>L35),Z35,IF(AND(AA35<>0,AA35<>K35,AA35<>L35),AA35,"")))))))))) -> 1 | N35: =IF(N34<>"","",IF(AND(R35<>K35,R35<>L35,R35<>M35,R35<>0),R35,"")) | P35: =COUNTIF(R35:T35,1)+COUNTIF(R35:T35,2)+COUNTIF(R35:T35,3)+COUNTIF(R35:T35,4)+COUNTIF(R35:T35,5)+COUNTIF(R35:T35,6) -> 3 | R35: =V35 -> 5 | S35: =IF(AND(W35<>0,W35<>V35),W35,IF(AND(X35<>0,X35<>V35),X35,IF(AND(Y35<>0,Y35<>V35),Y35,IF(AND(Z35<>0,Z35<>V35),Z35,IF(AND(AA35<>0,AA35<>V35),AA35))))) -> 6 | T35: =IF(AND(X35<>0,X35<>S35,X35<>R35),X35,IF(AND(Y35<>0,Y35<>R35,Y35<>S35),Y35,IF(AND(Z35<>0,Z35<>R35,Z35<>S35),Z35,IF(AND(AA35<>0,AA35<>R35,AA35<>S35),AA35,"")))) -> 1 | V35: =C35 -> 5 | W35: =IF(F34="New","",C34) -> 5 | X35: =IF(F33="New","",IF(F34="New","",C33)) -> 6 | Y35: =IF(F32="New","",IF(F33="New","",IF(F34="New","",C32))) -> 1 | Z35: =IF(F31="New","",IF(F32="New","",IF(F33="New","",IF(F34="New","",C31)))) | AA35: =IF(F30="New","",IF(F31="New","",IF(F32="New","",IF(F33="New","",IF(F34="New","",C30)))))
B36: =RANDBETWEEN(0,36) -> 16 | C36: =IF(B36="","",VLOOKUP(B36,Tabelle2!$D$1:$E$37,2,0)) -> 3 | D36: =IF(AND(I36=3,OR(C37=K36,C37=L36,C37=M36)),"W",IF(AND(I36=4,OR(C37=K36,C37=L36,C37=M36,C37=N36)),"W","L")) -> W | E36: =IF(AND(F35="l1",D36="w"),"w",IF(F35="l2","",IF(AND(J36=1,I36>=3),D36,IF(J36=1,"",D36)))) -> w | F36: =IF(AND(F35="l1",I36>3,D36="l"),"L2",IF(I36<3,"",IF(AND(D36="l",I36=3,F35=""),"l1",IF(F35="L2","New",IF(AND(D36="l",D35="w"),"L1",IF(AND(D36="l",D35="l",D34="W"),"L2","")))))) | G36: =IF(AND(E36="w",F35="l1"),2,IF(E36="",0,IF(AND(E36="w",F36=""),3,IF(AND(E36="l",F36="l1"),-3,IF(AND(E36="l",F36="l2"),-4))))) -> 2 | H36: =H35+G36 -> -12 | I36: =COUNTIF(K36:N36,1)+COUNTIF(K36:N36,2)+COUNTIF(K36:N36,3)+COUNTIF(K36:N36,4)+COUNTIF(K36:N36,5)+COUNTIF(K36:N36,6) -> 4 | J36: =IF(OR(F33="New",F32="New",F31="New",F34="New",F35="New",F36="New"),1,"") -> 1 | K36: =IF(AND(F35="New",P36>=1),R36,IF(AND(F35="l1",I35=3),K35,IF(D34="w",K35,IF(D35="w",K35,IF(V36<>0,V36,IF(W36<>0,W36,IF(X36<>0,X36,IF(Y36<>0,Y36,IF(Z36<>0,Z36,IF(AA36<>0,AA36,"")))))))))) -> 5 | L36: =IF(AND(F35="New",P36=1),"",IF(AND(F35="New",P36>=2),S36,IF(AND(F35="l1",I35=3),L35,IF(D34="w",L35,IF(D35="w",L35,IF(F35="l1",L35,IF(AND(W36<>0,W36<>K36),W36,IF(AND(X36<>0,X36<>K36),X36,IF(AND(Y36<>0,Y36<>K36),Y36,IF(AND(Z36<>0,Z36<>K36),Z36,IF(AND(AA36<>0,AA36<>K36),AA36))))))))))) -> 6 | M36: =IF(AND(F35="New",P36=1),"",IF(AND(F35="New",P36=2),"",IF(AND(F35="New",P36=3),T36,IF(AND(F35="l1",I35=3),M35,IF(D34="w",M35,IF(D35="w",M35,IF(AND(X36<>0,X36<>K36,X36<>L36),X36,IF(AND(Y36<>0,Y36<>K36,Y36<>L36),Y36,IF(AND(Z36<>0,Z36<>K36,Z36<>L36),Z36,IF(AND(AA36<>0,AA36<>K36,AA36<>L36),AA36,"")))))))))) -> 1 | N36: =IF(N35<>"","",IF(AND(R36<>K36,R36<>L36,R36<>M36,R36<>0),R36,"")) -> 3 | P36: =COUNTIF(R36:T36,1)+COUNTIF(R36:T36,2)+COUNTIF(R36:T36,3)+COUNTIF(R36:T36,4)+COUNTIF(R36:T36,5)+COUNTIF(R36:T36,6) -> 3 | R36: =V36 -> 3 | S36: =IF(AND(W36<>0,W36<>V36),W36,IF(AND(X36<>0,X36<>V36),X36,IF(AND(Y36<>0,Y36<>V36),Y36,IF(AND(Z36<>0,Z36<>V36),Z36,IF(AND(AA36<>0,AA36<>V36),AA36))))) -> 5 | T36: =IF(AND(X36<>0,X36<>S36,X36<>R36),X36,IF(AND(Y36<>0,Y36<>R36,Y36<>S36),Y36,IF(AND(Z36<>0,Z36<>R36,Z36<>S36),Z36,IF(AND(AA36<>0,AA36<>R36,AA36<>S36),AA36,"")))) -> 6 | V36: =C36 -> 3 | W36: =IF(F35="New","",C35) -> 5 | X36: =IF(F34="New","",IF(F35="New","",C34)) -> 5 | Y36: =IF(F33="New","",IF(F34="New","",IF(F35="New","",C33))) -> 6 | Z36: =IF(F32="New","",IF(F33="New","",IF(F34="New","",IF(F35="New","",C32)))) -> 1 | AA36: =IF(F31="New","",IF(F32="New","",IF(F33="New","",IF(F34="New","",IF(F35="New","",C31)))))
B37: =RANDBETWEEN(0,36) -> 35 | C37: =IF(B37="","",VLOOKUP(B37,Tabelle2!$D$1:$E$37,2,0)) -> 6 | D37: =IF(AND(I37=3,OR(C38=K37,C38=L37,C38=M37)),"W",IF(AND(I37=4,OR(C38=K37,C38=L37,C38=M37,C38=N37)),"W","L")) -> W | E37: =IF(AND(F36="l1",D37="w"),"w",IF(F36="l2","",IF(AND(J37=1,I37>=3),D37,IF(J37=1,"",D37)))) -> W | F37: =IF(AND(F36="l1",I37>3,D37="l"),"L2",IF(I37<3,"",IF(AND(D37="l",I37=3,F36=""),"l1",IF(F36="L2","New",IF(AND(D37="l",D36="w"),"L1",IF(AND(D37="l",D36="l",D35="W"),"L2","")))))) | G37: =IF(AND(E37="w",F36="l1"),2,IF(E37="",0,IF(AND(E37="w",F37=""),3,IF(AND(E37="l",F37="l1"),-3,IF(AND(E37="l",F37="l2"),-4))))) -> 3 | H37: =H36+G37 -> -9 | I37: =COUNTIF(K37:N37,1)+COUNTIF(K37:N37,2)+COUNTIF(K37:N37,3)+COUNTIF(K37:N37,4)+COUNTIF(K37:N37,5)+COUNTIF(K37:N37,6) -> 3 | J37: =IF(OR(F34="New",F33="New",F32="New",F35="New",F36="New",F37="New"),1,"") | K37: =IF(AND(F36="New",P37>=1),R37,IF(AND(F36="l1",I36=3),K36,IF(D35="w",K36,IF(D36="w",K36,IF(V37<>0,V37,IF(W37<>0,W37,IF(X37<>0,X37,IF(Y37<>0,Y37,IF(Z37<>0,Z37,IF(AA37<>0,AA37,"")))))))))) -> 5 | L37: =IF(AND(F36="New",P37=1),"",IF(AND(F36="New",P37>=2),S37,IF(AND(F36="l1",I36=3),L36,IF(D35="w",L36,IF(D36="w",L36,IF(F36="l1",L36,IF(AND(W37<>0,W37<>K37),W37,IF(AND(X37<>0,X37<>K37),X37,IF(AND(Y37<>0,Y37<>K37),Y37,IF(AND(Z37<>0,Z37<>K37),Z37,IF(AND(AA37<>0,AA37<>K37),AA37))))))))))) -> 6 | M37: =IF(AND(F36="New",P37=1),"",IF(AND(F36="New",P37=2),"",IF(AND(F36="New",P37=3),T37,IF(AND(F36="l1",I36=3),M36,IF(D35="w",M36,IF(D36="w",M36,IF(AND(X37<>0,X37<>K37,X37<>L37),X37,IF(AND(Y37<>0,Y37<>K37,Y37<>L37),Y37,IF(AND(Z37<>0,Z37<>K37,Z37<>L37),Z37,IF(AND(AA37<>0,AA37<>K37,AA37<>L37),AA37,"")))))))))) -> 1 | N37: =IF(N36<>"","",IF(AND(R37<>K37,R37<>L37,R37<>M37,R37<>0),R37,"")) | P37: =COUNTIF(R37:T37,1)+COUNTIF(R37:T37,2)+COUNTIF(R37:T37,3)+COUNTIF(R37:T37,4)+COUNTIF(R37:T37,5)+COUNTIF(R37:T37,6) -> 3 | R37: =V37 -> 6 | S37: =IF(AND(W37<>0,W37<>V37),W37,IF(AND(X37<>0,X37<>V37),X37,IF(AND(Y37<>0,Y37<>V37),Y37,IF(AND(Z37<>0,Z37<>V37),Z37,IF(AND(AA37<>0,AA37<>V37),AA37))))) -> 3 | T37: =IF(AND(X37<>0,X37<>S37,X37<>R37),X37,IF(AND(Y37<>0,Y37<>R37,Y37<>S37),Y37,IF(AND(Z37<>0,Z37<>R37,Z37<>S37),Z37,IF(AND(AA37<>0,AA37<>R37,AA37<>S37),AA37,"")))) -> 5 | V37: =C37 -> 6 | W37: =IF(F36="New","",C36) -> 3 | X37: =IF(F35="New","",IF(F36="New","",C35)) -> 5 | Y37: =IF(F34="New","",IF(F35="New","",IF(F36="New","",C34))) -> 5 | Z37: =IF(F33="New","",IF(F34="New","",IF(F35="New","",IF(F36="New","",C33)))) -> 6 | AA37: =IF(F32="New","",IF(F33="New","",IF(F34="New","",IF(F35="New","",IF(F36="New","",C32))))) -> 1
B38: =RANDBETWEEN(0,36) -> 29 | C38: =IF(B38="","",VLOOKUP(B38,Tabelle2!$D$1:$E$37,2,0)) -> 5 | D38: =IF(AND(I38=3,OR(C39=K38,C39=L38,C39=M38)),"W",IF(AND(I38=4,OR(C39=K38,C39=L38,C39=M38,C39=N38)),"W","L")) -> W | E38: =IF(AND(F37="l1",D38="w"),"w",IF(F37="l2","",IF(AND(J38=1,I38>=3),D38,IF(J38=1,"",D38)))) -> W | F38: =IF(AND(F37="l1",I38>3,D38="l"),"L2",IF(I38<3,"",IF(AND(D38="l",I38=3,F37=""),"l1",IF(F37="L2","New",IF(AND(D38="l",D37="w"),"L1",IF(AND(D38="l",D37="l",D36="W"),"L2","")))))) | G38: =IF(AND(E38="w",F37="l1"),2,IF(E38="",0,IF(AND(E38="w",F38=""),3,IF(AND(E38="l",F38="l1"),-3,IF(AND(E38="l",F38="l2"),-4))))) -> 3 | H38: =H37+G38 -> -6 | I38: =COUNTIF(K38:N38,1)+COUNTIF(K38:N38,2)+COUNTIF(K38:N38,3)+COUNTIF(K38:N38,4)+COUNTIF(K38:N38,5)+COUNTIF(K38:N38,6) -> 3 | J38: =IF(OR(F35="New",F34="New",F33="New",F36="New",F37="New",F38="New"),1,"") | K38: =IF(AND(F37="New",P38>=1),R38,IF(AND(F37="l1",I37=3),K37,IF(D36="w",K37,IF(D37="w",K37,IF(V38<>0,V38,IF(W38<>0,W38,IF(X38<>0,X38,IF(Y38<>0,Y38,IF(Z38<>0,Z38,IF(AA38<>0,AA38,"")))))))))) -> 5 | L38: =IF(AND(F37="New",P38=1),"",IF(AND(F37="New",P38>=2),S38,IF(AND(F37="l1",I37=3),L37,IF(D36="w",L37,IF(D37="w",L37,IF(F37="l1",L37,IF(AND(W38<>0,W38<>K38),W38,IF(AND(X38<>0,X38<>K38),X38,IF(AND(Y38<>0,Y38<>K38),Y38,IF(AND(Z38<>0,Z38<>K38),Z38,IF(AND(AA38<>0,AA38<>K38),AA38))))))))))) -> 6 | M38: =IF(AND(F37="New",P38=1),"",IF(AND(F37="New",P38=2),"",IF(AND(F37="New",P38=3),T38,IF(AND(F37="l1",I37=3),M37,IF(D36="w",M37,IF(D37="w",M37,IF(AND(X38<>0,X38<>K38,X38<>L38),X38,IF(AND(Y38<>0,Y38<>K38,Y38<>L38),Y38,IF(AND(Z38<>0,Z38<>K38,Z38<>L38),Z38,IF(AND(AA38<>0,AA38<>K38,AA38<>L38),AA38,"")))))))))) -> 1 | N38: =IF(N37<>"","",IF(AND(R38<>K38,R38<>L38,R38<>M38,R38<>0),R38,"")) | P38: =COUNTIF(R38:T38,1)+COUNTIF(R38:T38,2)+COUNTIF(R38:T38,3)+COUNTIF(R38:T38,4)+COUNTIF(R38:T38,5)+COUNTIF(R38:T38,6) -> 3 | R38: =V38 -> 5 | S38: =IF(AND(W38<>0,W38<>V38),W38,IF(AND(X38<>0,X38<>V38),X38,IF(AND(Y38<>0,Y38<>V38),Y38,IF(AND(Z38<>0,Z38<>V38),Z38,IF(AND(AA38<>0,AA38<>V38),AA38))))) -> 6 | T38: =IF(AND(X38<>0,X38<>S38,X38<>R38),X38,IF(AND(Y38<>0,Y38<>R38,Y38<>S38),Y38,IF(AND(Z38<>0,Z38<>R38,Z38<>S38),Z38,IF(AND(AA38<>0,AA38<>R38,AA38<>S38),AA38,"")))) -> 3 | V38: =C38 -> 5 | W38: =IF(F37="New","",C37) -> 6 | X38: =IF(F36="New","",IF(F37="New","",C36)) -> 3 | Y38: =IF(F35="New","",IF(F36="New","",IF(F37="New","",C35))) -> 5 | Z38: =IF(F34="New","",IF(F35="New","",IF(F36="New","",IF(F37="New","",C34)))) -> 5 | AA38: =IF(F33="New","",IF(F34="New","",IF(F35="New","",IF(F36="New","",IF(F37="New","",C33))))) -> 6
... B159: =RANDBETWEEN(0,36) -> 23 | C159: =IF(B159="","",VLOOKUP(B159,Tabelle2!$D$1:$E$37,2,0)) -> 4 | D159: =IF(AND(I159=3,OR(C160=K159,C160=L159,C160=M159)),"W",IF(AND(I159=4,OR(C160=K159,C160=L159,C160=M159,C160=N159)),"W","L")) -> L | E159: =IF(AND(F158="l1",D159="w"),"w",IF(F158="l2","",IF(AND(J159=1,I159>=3),D159,IF(J159=1,"",D159)))) -> L | F159: =IF(AND(F158="l1",I159>3,D159="l"),"L2",IF(I159<3,"",IF(AND(D159="l",I159=3,F158=""),"l1",IF(F158="L2","New",IF(AND(D159="l",D158="w"),"L1",IF(AND(D159="l",D158="l",D157="W"),"L2","")))))) -> l1 | G159: =IF(AND(E159="w",F158="l1"),2,IF(E159="",0,IF(AND(E159="w",F159=""),3,IF(AND(E159="l",F159="l1"),-3,IF(AND(E159="l",F159="l2"),-4))))) -> -3 | H159: =H158+G159 -> 13 | I159: =COUNTIF(K159:N159,1)+COUNTIF(K159:N159,2)+COUNTIF(K159:N159,3)+COUNTIF(K159:N159,4)+COUNTIF(K159:N159,5)+COUNTIF(K159:N159,6) -> 3 | J159: =IF(OR(F156="New",F155="New",F154="New",F157="New",F158="New",F159="New"),1,"") | K159: =IF(AND(F158="New",P159>=1),R159,IF(AND(F158="l1",I158=3),K158,IF(D157="w",K158,IF(D158="w",K158,IF(V159<>0,V159,IF(W159<>0,W159,IF(X159<>0,X159,IF(Y159<>0,Y159,IF(Z159<>0,Z159,IF(AA159<>0,AA159,"")))))))))) -> 4 | L159: =IF(AND(F158="New",P159=1),"",IF(AND(F158="New",P159>=2),S159,IF(AND(F158="l1",I158=3),L158,IF(D157="w",L158,IF(D158="w",L158,IF(F158="l1",L158,IF(AND(W159<>0,W159<>K159),W159,IF(AND(X159<>0,X159<>K159),X159,IF(AND(Y159<>0,Y159<>K159),Y159,IF(AND(Z159<>0,Z159<>K159),Z159,IF(AND(AA159<>0,AA159<>K159),AA159))))))))))) -> 1 | M159: =IF(AND(F158="New",P159=1),"",IF(AND(F158="New",P159=2),"",IF(AND(F158="New",P159=3),T159,IF(AND(F158="l1",I158=3),M158,IF(D157="w",M158,IF(D158="w",M158,IF(AND(X159<>0,X159<>K159,X159<>L159),X159,IF(AND(Y159<>0,Y159<>K159,Y159<>L159),Y159,IF(AND(Z159<>0,Z159<>K159,Z159<>L159),Z159,IF(AND(AA159<>0,AA159<>K159,AA159<>L159),AA159,"")))))))))) -> 6 | N159: =IF(N158<>"","",IF(AND(R159<>K159,R159<>L159,R159<>M159,R159<>0),R159,"")) | P159: =COUNTIF(R159:T159,1)+COUNTIF(R159:T159,2)+COUNTIF(R159:T159,3)+COUNTIF(R159:T159,4)+COUNTIF(R159:T159,5)+COUNTIF(R159:T159,6) -> 3 | R159: =V159 -> 4 | S159: =IF(AND(W159<>0,W159<>V159),W159,IF(AND(X159<>0,X159<>V159),X159,IF(AND(Y159<>0,Y159<>V159),Y159,IF(AND(Z159<>0,Z159<>V159),Z159,IF(AND(AA159<>0,AA159<>V159),AA159))))) -> 2 | T159: =IF(AND(X159<>0,X159<>S159,X159<>R159),X159,IF(AND(Y159<>0,Y159<>R159,Y159<>S159),Y159,IF(AND(Z159<>0,Z159<>R159,Z159<>S159),Z159,IF(AND(AA159<>0,AA159<>R159,AA159<>S159),AA159,"")))) -> 1 | V159: =C159 -> 4 | W159: =IF(F158="New","",C158) -> 2 | X159: =IF(F157="New","",IF(F158="New","",C157)) -> 2 | Y159: =IF(F156="New","",IF(F157="New","",IF(F158="New","",C156))) -> 4 | Z159: =IF(F155="New","",IF(F156="New","",IF(F157="New","",IF(F158="New","",C155)))) -> 1 | AA159: =IF(F154="New","",IF(F155="New","",IF(F156="New","",IF(F157="New","",IF(F158="New","",C154))))) -> 6
B160: =RANDBETWEEN(0,36) -> 0 | C160: =IF(B160="","",VLOOKUP(B160,Tabelle2!$D$1:$E$37,2,0)) -> 0 | D160: =IF(AND(I160=3,OR(C161=K160,C161=L160,C161=M160)),"W",IF(AND(I160=4,OR(C161=K160,C161=L160,C161=M160,C161=N160)),"W","L")) -> L | E160: =IF(I160=2,"DAAA",IF(AND(F159="l1",D160="w"),"w",IF(F159="l2","",IF(AND(J160=1,I160>=3),D160,IF(J160=1,"",D160))))) -> L | F160: =IF(AND(F159="l1",I160>3,D160="l"),"L2",IF(I160<3,"",IF(AND(D160="l",I160=3,F159=""),"l1",IF(F159="L2","New",IF(AND(D160="l",D159="w"),"L1",IF(AND(D160="l",D159="l",D158="W"),"L2","")))))) -> L2 | G160: =IF(AND(E160="w",F159="l1"),2,IF(E160="",0,IF(AND(E160="w",F160=""),3,IF(AND(E160="l",F160="l1"),-3,IF(AND(E160="l",F160="l2"),-4))))) -> -4 | H160: =H159+G160 -> 9 | I160: =COUNTIF(K160:N160,1)+COUNTIF(K160:N160,2)+COUNTIF(K160:N160,3)+COUNTIF(K160:N160,4)+COUNTIF(K160:N160,5)+COUNTIF(K160:N160,6) -> 3 | J160: =IF(OR(F157="New",F156="New",F155="New",F158="New",F159="New",F160="New"),1,"") | K160: =IF(AND(F159="New",P160>=1),R160,IF(AND(F159="l1",I159=3),K159,IF(D158="w",K159,IF(D159="w",K159,IF(V160<>0,V160,IF(W160<>0,W160,IF(X160<>0,X160,IF(Y160<>0,Y160,IF(Z160<>0,Z160,IF(AA160<>0,AA160,"")))))))))) -> 4 | L160: =IF(AND(F159="New",P160=1),"",IF(AND(F159="New",P160>=2),S160,IF(AND(F159="l1",I159=3),L159,IF(D158="w",L159,IF(D159="w",L159,IF(F159="l1",L159,IF(AND(W160<>0,W160<>K160),W160,IF(AND(X160<>0,X160<>K160),X160,IF(AND(Y160<>0,Y160<>K160),Y160,IF(AND(Z160<>0,Z160<>K160),Z160,IF(AND(AA160<>0,AA160<>K160),AA160))))))))))) -> 1 | M160: =IF(AND(F159="New",P160=1),"",IF(AND(F159="New",P160=2),"",IF(AND(F159="New",P160=3),T160,IF(AND(F159="l1",I159=3),M159,IF(D158="w",M159,IF(D159="w",M159,IF(AND(X160<>0,X160<>K160,X160<>L160),X160,IF(AND(Y160<>0,Y160<>K160,Y160<>L160),Y160,IF(AND(Z160<>0,Z160<>K160,Z160<>L160),Z160,IF(AND(AA160<>0,AA160<>K160,AA160<>L160),AA160,"")))))))))) -> 6 | N160: =IF(N159<>"","",IF(AND(R160<>K160,R160<>L160,R160<>M160,R160<>0),R160,"")) | P160: =COUNTIF(R160:T160,1)+COUNTIF(R160:T160,2)+COUNTIF(R160:T160,3)+COUNTIF(R160:T160,4)+COUNTIF(R160:T160,5)+COUNTIF(R160:T160,6) -> 2 | R160: =V160 -> 0 | S160: =IF(AND(W160<>0,W160<>V160),W160,IF(AND(X160<>0,X160<>V160),X160,IF(AND(Y160<>0,Y160<>V160),Y160,IF(AND(Z160<>0,Z160<>V160),Z160,IF(AND(AA160<>0,AA160<>V160),AA160))))) -> 4 | T160: =IF(AND(X160<>0,X160<>S160,X160<>R160),X160,IF(AND(Y160<>0,Y160<>R160,Y160<>S160),Y160,IF(AND(Z160<>0,Z160<>R160,Z160<>S160),Z160,IF(AND(AA160<>0,AA160<>R160,AA160<>S160),AA160,"")))) -> 2 | V160: =C160 -> 0 | W160: =IF(F159="New","",C159) -> 4 | X160: =IF(F158="New","",IF(F159="New","",C158)) -> 2 | Y160: =IF(F157="New","",IF(F158="New","",IF(F159="New","",C157))) -> 2 | Z160: =IF(F156="New","",IF(F157="New","",IF(F158="New","",IF(F159="New","",C156)))) -> 4 | AA160: =IF(F155="New","",IF(F156="New","",IF(F157="New","",IF(F158="New","",IF(F159="New","",C155))))) -> 1
B161: =RANDBETWEEN(0,36) -> 13 | C161: =IF(B161="","",VLOOKUP(B161,Tabelle2!$D$1:$E$37,2,0)) -> 3 | D161: =IF(AND(I161=3,OR(C162=K161,C162=L161,C162=M161)),"W",IF(AND(I161=4,OR(C162=K161,C162=L161,C162=M161,C162=N161)),"W","L")) -> L | E161: =IF(AND(F160="l1",D161="w"),"w",IF(F160="l2","",IF(AND(J161=1,I161>=3),D161,IF(J161=1,"",D161)))) | F161: =IF(AND(F160="l1",I161>3,D161="l"),"L2",IF(I161<3,"",IF(AND(D161="l",I161=3,F160=""),"l1",IF(F160="L2","New",IF(AND(D161="l",D160="w"),"L1",IF(AND(D161="l",D160="l",D159="W"),"L2","")))))) -> New | G161: =IF(AND(E161="w",F160="l1"),2,IF(E161="",0,IF(AND(E161="w",F161=""),3,IF(AND(E161="l",F161="l1"),-3,IF(AND(E161="l",F161="l2"),-4))))) -> 0 | H161: =H160+G161 -> 9 | I161: =COUNTIF(K161:N161,1)+COUNTIF(K161:N161,2)+COUNTIF(K161:N161,3)+COUNTIF(K161:N161,4)+COUNTIF(K161:N161,5)+COUNTIF(K161:N161,6) -> 3 | J161: =IF(OR(F158="New",F157="New",F156="New",F159="New",F160="New",F161="New"),1,"") -> 1 | K161: =IF(AND(F160="New",P161>=1),R161,IF(AND(F160="l1",I160=3),K160,IF(D159="w",K160,IF(D160="w",K160,IF(V161<>0,V161,IF(W161<>0,W161,IF(X161<>0,X161,IF(Y161<>0,Y161,IF(Z161<>0,Z161,IF(AA161<>0,AA161,"")))))))))) -> 3 | L161: =IF(AND(F160="New",P161=1),"",IF(AND(F160="New",P161>=2),S161,IF(AND(F160="l1",I160=3),L160,IF(D159="w",L160,IF(D160="w",L160,IF(F160="l1",L160,IF(AND(W161<>0,W161<>K161),W161,IF(AND(X161<>0,X161<>K161),X161,IF(AND(Y161<>0,Y161<>K161),Y161,IF(AND(Z161<>0,Z161<>K161),Z161,IF(AND(AA161<>0,AA161<>K161),AA161))))))))))) -> 4 | M161: =IF(AND(F160="New",P161=1),"",IF(AND(F160="New",P161=2),"",IF(AND(F160="New",P161=3),T161,IF(AND(F160="l1",I160=3),M160,IF(D159="w",M160,IF(D160="w",M160,IF(AND(X161<>0,X161<>K161,X161<>L161),X161,IF(AND(Y161<>0,Y161<>K161,Y161<>L161),Y161,IF(AND(Z161<>0,Z161<>K161,Z161<>L161),Z161,IF(AND(AA161<>0,AA161<>K161,AA161<>L161),AA161,"")))))))))) -> 2 | N161: =IF(N160<>"","",IF(AND(R161<>K161,R161<>L161,R161<>M161,R161<>0),R161,"")) | P161: =COUNTIF(R161:T161,1)+COUNTIF(R161:T161,2)+COUNTIF(R161:T161,3)+COUNTIF(R161:T161,4)+COUNTIF(R161:T161,5)+COUNTIF(R161:T161,6) -> 3 | R161: =V161 -> 3 | S161: =IF(AND(W161<>0,W161<>V161),W161,IF(AND(X161<>0,X161<>V161),X161,IF(AND(Y161<>0,Y161<>V161),Y161,IF(AND(Z161<>0,Z161<>V161),Z161,IF(AND(AA161<>0,AA161<>V161),AA161))))) -> 4 | T161: =IF(AND(X161<>0,X161<>S161,X161<>R161),X161,IF(AND(Y161<>0,Y161<>R161,Y161<>S161),Y161,IF(AND(Z161<>0,Z161<>R161,Z161<>S161),Z161,IF(AND(AA161<>0,AA161<>R161,AA161<>S161),AA161,"")))) -> 2 | V161: =C161 -> 3 | W161: =IF(F160="New","",C160) -> 0 | X161: =IF(F159="New","",IF(F160="New","",C159)) -> 4 | Y161: =IF(F158="New","",IF(F159="New","",IF(F160="New","",C158))) -> 2 | Z161: =IF(F157="New","",IF(F158="New","",IF(F159="New","",IF(F160="New","",C157)))) -> 2 | AA161: =IF(F156="New","",IF(F157="New","",IF(F158="New","",IF(F159="New","",IF(F160="New","",C156))))) -> 4
B162: =RANDBETWEEN(0,36) -> 28 | C162: =IF(B162="","",VLOOKUP(B162,Tabelle2!$D$1:$E$37,2,0)) -> 5 | D162: =IF(AND(I162=3,OR(C163=K162,C163=L162,C163=M162)),"W",IF(AND(I162=4,OR(C163=K162,C163=L162,C163=M162,C163=N162)),"W","L")) -> L | E162: =IF(AND(F161="l1",D162="w"),"w",IF(F161="l2","",IF(AND(J162=1,I162>=3),D162,IF(J162=1,"",D162)))) | F162: =IF(AND(F161="l1",I162>3,D162="l"),"L2",IF(I162<3,"",IF(AND(D162="l",I162=3,F161=""),"l1",IF(F161="L2","New",IF(AND(D162="l",D161="w"),"L1",IF(AND(D162="l",D161="l",D160="W"),"L2","")))))) | G162: =IF(AND(E162="w",F161="l1"),2,IF(E162="",0,IF(AND(E162="w",F162=""),3,IF(AND(E162="l",F162="l1"),-3,IF(AND(E162="l",F162="l2"),-4))))) -> 0 | H162: =H161+G162 -> 9 | I162: =COUNTIF(K162:N162,1)+COUNTIF(K162:N162,2)+COUNTIF(K162:N162,3)+COUNTIF(K162:N162,4)+COUNTIF(K162:N162,5)+COUNTIF(K162:N162,6) -> 1 | J162: =IF(OR(F159="New",F158="New",F157="New",F160="New",F161="New",F162="New"),1,"") -> 1 | K162: =IF(AND(F161="New",P162>=1),R162,IF(AND(F161="l1",I161=3),K161,IF(D160="w",K161,IF(D161="w",K161,IF(V162<>0,V162,IF(W162<>0,W162,IF(X162<>0,X162,IF(Y162<>0,Y162,IF(Z162<>0,Z162,IF(AA162<>0,AA162,"")))))))))) -> 5 | L162: =IF(AND(F161="New",P162=1),"",IF(AND(F161="New",P162>=2),S162,IF(AND(F161="l1",I161=3),L161,IF(D160="w",L161,IF(D161="w",L161,IF(F161="l1",L161,IF(AND(W162<>0,W162<>K162),W162,IF(AND(X162<>0,X162<>K162),X162,IF(AND(Y162<>0,Y162<>K162),Y162,IF(AND(Z162<>0,Z162<>K162),Z162,IF(AND(AA162<>0,AA162<>K162),AA162))))))))))) | M162: =IF(AND(F161="New",P162=1),"",IF(AND(F161="New",P162=2),"",IF(AND(F161="New",P162=3),T162,IF(AND(F161="l1",I161=3),M161,IF(D160="w",M161,IF(D161="w",M161,IF(AND(X162<>0,X162<>K162,X162<>L162),X162,IF(AND(Y162<>0,Y162<>K162,Y162<>L162),Y162,IF(AND(Z162<>0,Z162<>K162,Z162<>L162),Z162,IF(AND(AA162<>0,AA162<>K162,AA162<>L162),AA162,"")))))))))) | N162: =IF(N161<>"","",IF(AND(R162<>K162,R162<>L162,R162<>M162,R162<>0),R162,"")) | P162: =COUNTIF(R162:T162,1)+COUNTIF(R162:T162,2)+COUNTIF(R162:T162,3)+COUNTIF(R162:T162,4)+COUNTIF(R162:T162,5)+COUNTIF(R162:T162,6) -> 1 | R162: =V162 -> 5 | S162: =IF(AND(W162<>0,W162<>V162),W162,IF(AND(X162<>0,X162<>V162),X162,IF(AND(Y162<>0,Y162<>V162),Y162,IF(AND(Z162<>0,Z162<>V162),Z162,IF(AND(AA162<>0,AA162<>V162),AA162))))) | T162: =IF(AND(X162<>0,X162<>S162,X162<>R162),X162,IF(AND(Y162<>0,Y162<>R162,Y162<>S162),Y162,IF(AND(Z162<>0,Z162<>R162,Z162<>S162),Z162,IF(AND(AA162<>0,AA162<>R162,AA162<>S162),AA162,"")))) | V162: =C162 -> 5 | W162: =IF(F161="New","",C161) | X162: =IF(F160="New","",IF(F161="New","",C160)) | Y162: =IF(F159="New","",IF(F160="New","",IF(F161="New","",C159))) | Z162: =IF(F158="New","",IF(F159="New","",IF(F160="New","",IF(F161="New","",C158)))) | AA162: =IF(F157="New","",IF(F158="New","",IF(F159="New","",IF(F160="New","",IF(F161="New","",C157)))))
B163: =RANDBETWEEN(0,36) -> 16 | C163: =IF(B163="","",VLOOKUP(B163,Tabelle2!$D$1:$E$37,2,0)) -> 3 | D163: =IF(AND(I163=3,OR(C164=K163,C164=L163,C164=M163)),"W",IF(AND(I163=4,OR(C164=K163,C164=L163,C164=M163,C164=N163)),"W","L")) -> L | E163: =IF(AND(F162="l1",D163="w"),"w",IF(F162="l2","",IF(AND(J163=1,I163>=3),D163,IF(J163=1,"",D163)))) | F163: =IF(AND(F162="l1",I163>3,D163="l"),"L2",IF(I163<3,"",IF(AND(D163="l",I163=3,F162=""),"l1",IF(F162="L2","New",IF(AND(D163="l",D162="w"),"L1",IF(AND(D163="l",D162="l",D161="W"),"L2","")))))) | G163: =IF(AND(E163="w",F162="l1"),2,IF(E163="",0,IF(AND(E163="w",F163=""),3,IF(AND(E163="l",F163="l1"),-3,IF(AND(E163="l",F163="l2"),-4))))) -> 0 | H163: =H162+G163 -> 9 | I163: =COUNTIF(K163:N163,1)+COUNTIF(K163:N163,2)+COUNTIF(K163:N163,3)+COUNTIF(K163:N163,4)+COUNTIF(K163:N163,5)+COUNTIF(K163:N163,6) -> 2 | J163: =IF(OR(F160="New",F159="New",F158="New",F161="New",F162="New",F163="New"),1,"") -> 1 | K163: =IF(AND(F162="New",P163>=1),R163,IF(AND(F162="l1",I162=3),K162,IF(D161="w",K162,IF(D162="w",K162,IF(V163<>0,V163,IF(W163<>0,W163,IF(X163<>0,X163,IF(Y163<>0,Y163,IF(Z163<>0,Z163,IF(AA163<>0,AA163,"")))))))))) -> 3 | L163: =IF(AND(F162="New",P163=1),"",IF(AND(F162="New",P163>=2),S163,IF(AND(F162="l1",I162=3),L162,IF(D161="w",L162,IF(D162="w",L162,IF(F162="l1",L162,IF(AND(W163<>0,W163<>K163),W163,IF(AND(X163<>0,X163<>K163),X163,IF(AND(Y163<>0,Y163<>K163),Y163,IF(AND(Z163<>0,Z163<>K163),Z163,IF(AND(AA163<>0,AA163<>K163),AA163))))))))))) -> 5 | M163: =IF(AND(F162="New",P163=1),"",IF(AND(F162="New",P163=2),"",IF(AND(F162="New",P163=3),T163,IF(AND(F162="l1",I162=3),M162,IF(D161="w",M162,IF(D162="w",M162,IF(AND(X163<>0,X163<>K163,X163<>L163),X163,IF(AND(Y163<>0,Y163<>K163,Y163<>L163),Y163,IF(AND(Z163<>0,Z163<>K163,Z163<>L163),Z163,IF(AND(AA163<>0,AA163<>K163,AA163<>L163),AA163,"")))))))))) | N163: =IF(N162<>"","",IF(AND(R163<>K163,R163<>L163,R163<>M163,R163<>0),R163,"")) | P163: =COUNTIF(R163:T163,1)+COUNTIF(R163:T163,2)+COUNTIF(R163:T163,3)+COUNTIF(R163:T163,4)+COUNTIF(R163:T163,5)+COUNTIF(R163:T163,6) -> 2 | R163: =V163 -> 3 | S163: =IF(AND(W163<>0,W163<>V163),W163,IF(AND(X163<>0,X163<>V163),X163,IF(AND(Y163<>0,Y163<>V163),Y163,IF(AND(Z163<>0,Z163<>V163),Z163,IF(AND(AA163<>0,AA163<>V163),AA163))))) -> 5 | T163: =IF(AND(X163<>0,X163<>S163,X163<>R163),X163,IF(AND(Y163<>0,Y163<>R163,Y163<>S163),Y163,IF(AND(Z163<>0,Z163<>R163,Z163<>S163),Z163,IF(AND(AA163<>0,AA163<>R163,AA163<>S163),AA163,"")))) | V163: =C163 -> 3 | W163: =IF(F162="New","",C162) -> 5 | X163: =IF(F161="New","",IF(F162="New","",C161)) | Y163: =IF(F160="New","",IF(F161="New","",IF(F162="New","",C160))) | Z163: =IF(F159="New","",IF(F160="New","",IF(F161="New","",IF(F162="New","",C159)))) | AA163: =IF(F158="New","",IF(F159="New","",IF(F160="New","",IF(F161="New","",IF(F162="New","",C158)))))
B164: =RANDBETWEEN(0,36) -> 0 | C164: =IF(B164="","",VLOOKUP(B164,Tabelle2!$D$1:$E$37,2,0)) -> 0 | D164: =IF(AND(I164=3,OR(C165=K164,C165=L164,C165=M164)),"W",IF(AND(I164=4,OR(C165=K164,C165=L164,C165=M164,C165=N164)),"W","L")) -> L | E164: =IF(AND(F163="l1",D164="w"),"w",IF(F163="l2","",IF(AND(J164=1,I164>=3),D164,IF(J164=1,"",D164)))) | F164: =IF(AND(F163="l1",I164>3,D164="l"),"L2",IF(I164<3,"",IF(AND(D164="l",I164=3,F163=""),"l1",IF(F163="L2","New",IF(AND(D164="l",D163="w"),"L1",IF(AND(D164="l",D163="l",D162="W"),"L2","")))))) | G164: =IF(AND(E164="w",F163="l1"),2,IF(E164="",0,IF(AND(E164="w",F164=""),3,IF(AND(E164="l",F164="l1"),-3,IF(AND(E164="l",F164="l2"),-4))))) -> 0 | H164: =H163+G164 -> 9 | I164: =COUNTIF(K164:N164,1)+COUNTIF(K164:N164,2)+COUNTIF(K164:N164,3)+COUNTIF(K164:N164,4)+COUNTIF(K164:N164,5)+COUNTIF(K164:N164,6) -> 2 | J164: =IF(OR(F161="New",F160="New",F159="New",F162="New",F163="New",F164="New"),1,"") -> 1 | K164: =IF(AND(F163="New",P164>=1),R164,IF(AND(F163="l1",I163=3),K163,IF(D162="w",K163,IF(D163="w",K163,IF(V164<>0,V164,IF(W164<>0,W164,IF(X164<>0,X164,IF(Y164<>0,Y164,IF(Z164<>0,Z164,IF(AA164<>0,AA164,"")))))))))) -> 3 | L164: =IF(AND(F163="New",P164=1),"",IF(AND(F163="New",P164>=2),S164,IF(AND(F163="l1",I163=3),L163,IF(D162="w",L163,IF(D163="w",L163,IF(F163="l1",L163,IF(AND(W164<>0,W164<>K164),W164,IF(AND(X164<>0,X164<>K164),X164,IF(AND(Y164<>0,Y164<>K164),Y164,IF(AND(Z164<>0,Z164<>K164),Z164,IF(AND(AA164<>0,AA164<>K164),AA164))))))))))) -> 5 | M164: =IF(AND(F163="New",P164=1),"",IF(AND(F163="New",P164=2),"",IF(AND(F163="New",P164=3),T164,IF(AND(F163="l1",I163=3),M163,IF(D162="w",M163,IF(D163="w",M163,IF(AND(X164<>0,X164<>K164,X164<>L164),X164,IF(AND(Y164<>0,Y164<>K164,Y164<>L164),Y164,IF(AND(Z164<>0,Z164<>K164,Z164<>L164),Z164,IF(AND(AA164<>0,AA164<>K164,AA164<>L164),AA164,"")))))))))) | N164: =IF(N163<>"","",IF(AND(R164<>K164,R164<>L164,R164<>M164,R164<>0),R164,"")) | P164: =COUNTIF(R164:T164,1)+COUNTIF(R164:T164,2)+COUNTIF(R164:T164,3)+COUNTIF(R164:T164,4)+COUNTIF(R164:T164,5)+COUNTIF(R164:T164,6) -> 2 | R164: =V164 -> 0 | S164: =IF(AND(W164<>0,W164<>V164),W164,IF(AND(X164<>0,X164<>V164),X164,IF(AND(Y164<>0,Y164<>V164),Y164,IF(AND(Z164<>0,Z164<>V164),Z164,IF(AND(AA164<>0,AA164<>V164),AA164))))) -> 3 | T164: =IF(AND(X164<>0,X164<>S164,X164<>R164),X164,IF(AND(Y164<>0,Y164<>R164,Y164<>S164),Y164,IF(AND(Z164<>0,Z164<>R164,Z164<>S164),Z164,IF(AND(AA164<>0,AA164<>R164,AA164<>S164),AA164,"")))) -> 5 | V164: =C164 -> 0 | W164: =IF(F163="New","",C163) -> 3 | X164: =IF(F162="New","",IF(F163="New","",C162)) -> 5 | Y164: =IF(F161="New","",IF(F162="New","",IF(F163="New","",C161))) | Z164: =IF(F160="New","",IF(F161="New","",IF(F162="New","",IF(F163="New","",C160)))) | AA164: =IF(F159="New","",IF(F160="New","",IF(F161="New","",IF(F162="New","",IF(F163="New","",C159)))))
B165: =RANDBETWEEN(0,36) -> 3 | C165: =IF(B165="","",VLOOKUP(B165,Tabelle2!$D$1:$E$37,2,0)) -> 1 | D165: =IF(AND(I165=3,OR(C166=K165,C166=L165,C166=M165)),"W",IF(AND(I165=4,OR(C166=K165,C166=L165,C166=M165,C166=N165)),"W","L")) -> L | E165: =IF(AND(F164="l1",D165="w"),"w",IF(F164="l2","",IF(AND(J165=1,I165>=3),D165,IF(J165=1,"",D165)))) -> L | F165: =IF(AND(F164="l1",I165>3,D165="l"),"L2",IF(I165<3,"",IF(AND(D165="l",I165=3,F164=""),"l1",IF(F164="L2","New",IF(AND(D165="l",D164="w"),"L1",IF(AND(D165="l",D164="l",D163="W"),"L2","")))))) -> l1 | G165: =IF(AND(E165="w",F164="l1"),2,IF(E165="",0,IF(AND(E165="w",F165=""),3,IF(AND(E165="l",F165="l1"),-3,IF(AND(E165="l",F165="l2"),-4))))) -> -3 | H165: =H164+G165 -> 6 | I165: =COUNTIF(K165:N165,1)+COUNTIF(K165:N165,2)+COUNTIF(K165:N165,3)+COUNTIF(K165:N165,4)+COUNTIF(K165:N165,5)+COUNTIF(K165:N165,6) -> 3 | J165: =IF(OR(F162="New",F161="New",F160="New",F163="New",F164="New",F165="New"),1,"") -> 1 | K165: =IF(AND(F164="New",P165>=1),R165,IF(AND(F164="l1",I164=3),K164,IF(D163="w",K164,IF(D164="w",K164,IF(V165<>0,V165,IF(W165<>0,W165,IF(X165<>0,X165,IF(Y165<>0,Y165,IF(Z165<>0,Z165,IF(AA165<>0,AA165,"")))))))))) -> 1 | L165: =IF(AND(F164="New",P165=1),"",IF(AND(F164="New",P165>=2),S165,IF(AND(F164="l1",I164=3),L164,IF(D163="w",L164,IF(D164="w",L164,IF(F164="l1",L164,IF(AND(W165<>0,W165<>K165),W165,IF(AND(X165<>0,X165<>K165),X165,IF(AND(Y165<>0,Y165<>K165),Y165,IF(AND(Z165<>0,Z165<>K165),Z165,IF(AND(AA165<>0,AA165<>K165),AA165))))))))))) -> 3 | M165: =IF(AND(F164="New",P165=1),"",IF(AND(F164="New",P165=2),"",IF(AND(F164="New",P165=3),T165,IF(AND(F164="l1",I164=3),M164,IF(D163="w",M164,IF(D164="w",M164,IF(AND(X165<>0,X165<>K165,X165<>L165),X165,IF(AND(Y165<>0,Y165<>K165,Y165<>L165),Y165,IF(AND(Z165<>0,Z165<>K165,Z165<>L165),Z165,IF(AND(AA165<>0,AA165<>K165,AA165<>L165),AA165,"")))))))))) -> 5 | N165: =IF(N164<>"","",IF(AND(R165<>K165,R165<>L165,R165<>M165,R165<>0),R165,"")) | P165: =COUNTIF(R165:T165,1)+COUNTIF(R165:T165,2)+COUNTIF(R165:T165,3)+COUNTIF(R165:T165,4)+COUNTIF(R165:T165,5)+COUNTIF(R165:T165,6) -> 3 | R165: =V165 -> 1 | S165: =IF(AND(W165<>0,W165<>V165),W165,IF(AND(X165<>0,X165<>V165),X165,IF(AND(Y165<>0,Y165<>V165),Y165,IF(AND(Z165<>0,Z165<>V165),Z165,IF(AND(AA165<>0,AA165<>V165),AA165))))) -> 3 | T165: =IF(AND(X165<>0,X165<>S165,X165<>R165),X165,IF(AND(Y165<>0,Y165<>R165,Y165<>S165),Y165,IF(AND(Z165<>0,Z165<>R165,Z165<>S165),Z165,IF(AND(AA165<>0,AA165<>R165,AA165<>S165),AA165,"")))) -> 5 | V165: =C165 -> 1 | W165: =IF(F164="New","",C164) -> 0 | X165: =IF(F163="New","",IF(F164="New","",C163)) -> 3 | Y165: =IF(F162="New","",IF(F163="New","",IF(F164="New","",C162))) -> 5 | Z165: =IF(F161="New","",IF(F162="New","",IF(F163="New","",IF(F164="New","",C161)))) | AA165: =IF(F160="New","",IF(F161="New","",IF(F162="New","",IF(F163="New","",IF(F164="New","",C160)))))
B166: =RANDBETWEEN(0,36) -> 35 | C166: =IF(B166="","",VLOOKUP(B166,Tabelle2!$D$1:$E$37,2,0)) -> 6 | D166: =IF(AND(I166=3,OR(C167=K166,C167=L166,C167=M166)),"W",IF(AND(I166=4,OR(C167=K166,C167=L166,C167=M166,C167=N166)),"W","L")) -> W | E166: =IF(AND(F165="l1",D166="w"),"w",IF(F165="l2","",IF(AND(J166=1,I166>=3),D166,IF(J166=1,"",D166)))) -> w | F166: =IF(AND(F165="l1",I166>3,D166="l"),"L2",IF(I166<3,"",IF(AND(D166="l",I166=3,F165=""),"l1",IF(F165="L2","New",IF(AND(D166="l",D165="w"),"L1",IF(AND(D166="l",D165="l",D164="W"),"L2","")))))) | G166: =IF(AND(E166="w",F165="l1"),2,IF(E166="",0,IF(AND(E166="w",F166=""),3,IF(AND(E166="l",F166="l1"),-3,IF(AND(E166="l",F166="l2"),-4))))) -> 2 | H166: =H165+G166 -> 8 | I166: =COUNTIF(K166:N166,1)+COUNTIF(K166:N166,2)+COUNTIF(K166:N166,3)+COUNTIF(K166:N166,4)+COUNTIF(K166:N166,5)+COUNTIF(K166:N166,6) -> 4 | J166: =IF(OR(F163="New",F162="New",F161="New",F164="New",F165="New",F166="New"),1,"") -> 1 | K166: =IF(AND(F165="New",P166>=1),R166,IF(AND(F165="l1",I165=3),K165,IF(D164="w",K165,IF(D165="w",K165,IF(V166<>0,V166,IF(W166<>0,W166,IF(X166<>0,X166,IF(Y166<>0,Y166,IF(Z166<>0,Z166,IF(AA166<>0,AA166,"")))))))))) -> 1 | L166: =IF(AND(F165="New",P166=1),"",IF(AND(F165="New",P166>=2),S166,IF(AND(F165="l1",I165=3),L165,IF(D164="w",L165,IF(D165="w",L165,IF(F165="l1",L165,IF(AND(W166<>0,W166<>K166),W166,IF(AND(X166<>0,X166<>K166),X166,IF(AND(Y166<>0,Y166<>K166),Y166,IF(AND(Z166<>0,Z166<>K166),Z166,IF(AND(AA166<>0,AA166<>K166),AA166))))))))))) -> 3 | M166: =IF(AND(F165="New",P166=1),"",IF(AND(F165="New",P166=2),"",IF(AND(F165="New",P166=3),T166,IF(AND(F165="l1",I165=3),M165,IF(D164="w",M165,IF(D165="w",M165,IF(AND(X166<>0,X166<>K166,X166<>L166),X166,IF(AND(Y166<>0,Y166<>K166,Y166<>L166),Y166,IF(AND(Z166<>0,Z166<>K166,Z166<>L166),Z166,IF(AND(AA166<>0,AA166<>K166,AA166<>L166),AA166,"")))))))))) -> 5 | N166: =IF(N165<>"","",IF(AND(R166<>K166,R166<>L166,R166<>M166,R166<>0),R166,"")) -> 6 | P166: =COUNTIF(R166:T166,1)+COUNTIF(R166:T166,2)+COUNTIF(R166:T166,3)+COUNTIF(R166:T166,4)+COUNTIF(R166:T166,5)+COUNTIF(R166:T166,6) -> 3 | R166: =V166 -> 6 | S166: =IF(AND(W166<>0,W166<>V166),W166,IF(AND(X166<>0,X166<>V166),X166,IF(AND(Y166<>0,Y166<>V166),Y166,IF(AND(Z166<>0,Z166<>V166),Z166,IF(AND(AA166<>0,AA166<>V166),AA166))))) -> 1 | T166: =IF(AND(X166<>0,X166<>S166,X166<>R166),X166,IF(AND(Y166<>0,Y166<>R166,Y166<>S166),Y166,IF(AND(Z166<>0,Z166<>R166,Z166<>S166),Z166,IF(AND(AA166<>0,AA166<>R166,AA166<>S166),AA166,"")))) -> 3 | V166: =C166 -> 6 | W166: =IF(F165="New","",C165) -> 1 | X166: =IF(F164="New","",IF(F165="New","",C164)) -> 0 | Y166: =IF(F163="New","",IF(F164="New","",IF(F165="New","",C163))) -> 3 | Z166: =IF(F162="New","",IF(F163="New","",IF(F164="New","",IF(F165="New","",C162)))) -> 5 | AA166: =IF(F161="New","",IF(F162="New","",IF(F163="New","",IF(F164="New","",IF(F165="New","",C161)))))
B167: =RANDBETWEEN(0,36) -> 14 | C167: =IF(B167="","",VLOOKUP(B167,Tabelle2!$D$1:$E$37,2,0)) -> 3 | D167: =IF(AND(I167=3,OR(C168=K167,C168=L167,C168=M167)),"W",IF(AND(I167=4,OR(C168=K167,C168=L167,C168=M167,C168=N167)),"W","L")) -> W | E167: =IF(AND(F166="l1",D167="w"),"w",IF(F166="l2","",IF(AND(J167=1,I167>=3),D167,IF(J167=1,"",D167)))) -> W | F167: =IF(AND(F166="l1",I167>3,D167="l"),"L2",IF(I167<3,"",IF(AND(D167="l",I167=3,F166=""),"l1",IF(F166="L2","New",IF(AND(D167="l",D166="w"),"L1",IF(AND(D167="l",D166="l",D165="W"),"L2","")))))) | G167: =IF(AND(E167="w",F166="l1"),2,IF(E167="",0,IF(AND(E167="w",F167=""),3,IF(AND(E167="l",F167="l1"),-3,IF(AND(E167="l",F167="l2"),-4))))) -> 3 | H167: =H166+G167 -> 11 | I167: =COUNTIF(K167:N167,1)+COUNTIF(K167:N167,2)+COUNTIF(K167:N167,3)+COUNTIF(K167:N167,4)+COUNTIF(K167:N167,5)+COUNTIF(K167:N167,6) -> 3 | J167: =IF(OR(F164="New",F163="New",F162="New",F165="New",F166="New",F167="New"),1,"") | K167: =IF(AND(F166="New",P167>=1),R167,IF(AND(F166="l1",I166=3),K166,IF(D165="w",K166,IF(D166="w",K166,IF(V167<>0,V167,IF(W167<>0,W167,IF(X167<>0,X167,IF(Y167<>0,Y167,IF(Z167<>0,Z167,IF(AA167<>0,AA167,"")))))))))) -> 1 | L167: =IF(AND(F166="New",P167=1),"",IF(AND(F166="New",P167>=2),S167,IF(AND(F166="l1",I166=3),L166,IF(D165="w",L166,IF(D166="w",L166,IF(F166="l1",L166,IF(AND(W167<>0,W167<>K167),W167,IF(AND(X167<>0,X167<>K167),X167,IF(AND(Y167<>0,Y167<>K167),Y167,IF(AND(Z167<>0,Z167<>K167),Z167,IF(AND(AA167<>0,AA167<>K167),AA167))))))))))) -> 3 | M167: =IF(AND(F166="New",P167=1),"",IF(AND(F166="New",P167=2),"",IF(AND(F166="New",P167=3),T167,IF(AND(F166="l1",I166=3),M166,IF(D165="w",M166,IF(D166="w",M166,IF(AND(X167<>0,X167<>K167,X167<>L167),X167,IF(AND(Y167<>0,Y167<>K167,Y167<>L167),Y167,IF(AND(Z167<>0,Z167<>K167,Z167<>L167),Z167,IF(AND(AA167<>0,AA167<>K167,AA167<>L167),AA167,"")))))))))) -> 5 | N167: =IF(N166<>"","",IF(AND(R167<>K167,R167<>L167,R167<>M167,R167<>0),R167,"")) | P167: =COUNTIF(R167:T167,1)+COUNTIF(R167:T167,2)+COUNTIF(R167:T167,3)+COUNTIF(R167:T167,4)+COUNTIF(R167:T167,5)+COUNTIF(R167:T167,6) -> 3 | R167: =V167 -> 3 | S167: =IF(AND(W167<>0,W167<>V167),W167,IF(AND(X167<>0,X167<>V167),X167,IF(AND(Y167<>0,Y167<>V167),Y167,IF(AND(Z167<>0,Z167<>V167),Z167,IF(AND(AA167<>0,AA167<>V167),AA167))))) -> 6 | T167: =IF(AND(X167<>0,X167<>S167,X167<>R167),X167,IF(AND(Y167<>0,Y167<>R167,Y167<>S167),Y167,IF(AND(Z167<>0,Z167<>R167,Z167<>S167),Z167,IF(AND(AA167<>0,AA167<>R167,AA167<>S167),AA167,"")))) -> 1 | V167: =C167 -> 3 | W167: =IF(F166="New","",C166) -> 6 | X167: =IF(F165="New","",IF(F166="New","",C165)) -> 1 | Y167: =IF(F164="New","",IF(F165="New","",IF(F166="New","",C164))) -> 0 | Z167: =IF(F163="New","",IF(F164="New","",IF(F165="New","",IF(F166="New","",C163)))) -> 3 | AA167: =IF(F162="New","",IF(F163="New","",IF(F164="New","",IF(F165="New","",IF(F166="New","",C162))))) -> 5
B168: =RANDBETWEEN(0,36) -> 13 | C168: =IF(B168="","",VLOOKUP(B168,Tabelle2!$D$1:$E$37,2,0)) -> 3 | D168: =IF(AND(I168=3,OR(C169=K168,C169=L168,C169=M168)),"W",IF(AND(I168=4,OR(C169=K168,C169=L168,C169=M168,C169=N168)),"W","L")) -> W | E168: =IF(AND(F167="l1",D168="w"),"w",IF(F167="l2","",IF(AND(J168=1,I168>=3),D168,IF(J168=1,"",D168)))) -> W | F168: =IF(AND(F167="l1",I168>3,D168="l"),"L2",IF(I168<3,"",IF(AND(D168="l",I168=3,F167=""),"l1",IF(F167="L2","New",IF(AND(D168="l",D167="w"),"L1",IF(AND(D168="l",D167="l",D166="W"),"L2","")))))) | G168: =IF(AND(E168="w",F167="l1"),2,IF(E168="",0,IF(AND(E168="w",F168=""),3,IF(AND(E168="l",F168="l1"),-3,IF(AND(E168="l",F168="l2"),-4))))) -> 3 | H168: =H167+G168 -> 14 | I168: =COUNTIF(K168:N168,1)+COUNTIF(K168:N168,2)+COUNTIF(K168:N168,3)+COUNTIF(K168:N168,4)+COUNTIF(K168:N168,5)+COUNTIF(K168:N168,6) -> 3 | J168: =IF(OR(F165="New",F164="New",F163="New",F166="New",F167="New",F168="New"),1,"") | K168: =IF(AND(F167="New",P168>=1),R168,IF(AND(F167="l1",I167=3),K167,IF(D166="w",K167,IF(D167="w",K167,IF(V168<>0,V168,IF(W168<>0,W168,IF(X168<>0,X168,IF(Y168<>0,Y168,IF(Z168<>0,Z168,IF(AA168<>0,AA168,"")))))))))) -> 1 | L168: =IF(AND(F167="New",P168=1),"",IF(AND(F167="New",P168>=2),S168,IF(AND(F167="l1",I167=3),L167,IF(D166="w",L167,IF(D167="w",L167,IF(F167="l1",L167,IF(AND(W168<>0,W168<>K168),W168,IF(AND(X168<>0,X168<>K168),X168,IF(AND(Y168<>0,Y168<>K168),Y168,IF(AND(Z168<>0,Z168<>K168),Z168,IF(AND(AA168<>0,AA168<>K168),AA168))))))))))) -> 3 | M168: =IF(AND(F167="New",P168=1),"",IF(AND(F167="New",P168=2),"",IF(AND(F167="New",P168=3),T168,IF(AND(F167="l1",I167=3),M167,IF(D166="w",M167,IF(D167="w",M167,IF(AND(X168<>0,X168<>K168,X168<>L168),X168,IF(AND(Y168<>0,Y168<>K168,Y168<>L168),Y168,IF(AND(Z168<>0,Z168<>K168,Z168<>L168),Z168,IF(AND(AA168<>0,AA168<>K168,AA168<>L168),AA168,"")))))))))) -> 5 | N168: =IF(N167<>"","",IF(AND(R168<>K168,R168<>L168,R168<>M168,R168<>0),R168,"")) | P168: =COUNTIF(R168:T168,1)+COUNTIF(R168:T168,2)+COUNTIF(R168:T168,3)+COUNTIF(R168:T168,4)+COUNTIF(R168:T168,5)+COUNTIF(R168:T168,6) -> 3 | R168: =V168 -> 3 | S168: =IF(AND(W168<>0,W168<>V168),W168,IF(AND(X168<>0,X168<>V168),X168,IF(AND(Y168<>0,Y168<>V168),Y168,IF(AND(Z168<>0,Z168<>V168),Z168,IF(AND(AA168<>0,AA168<>V168),AA168))))) -> 6 | T168: =IF(AND(X168<>0,X168<>S168,X168<>R168),X168,IF(AND(Y168<>0,Y168<>R168,Y168<>S168),Y168,IF(AND(Z168<>0,Z168<>R168,Z168<>S168),Z168,IF(AND(AA168<>0,AA168<>R168,AA168<>S168),AA168,"")))) -> 1 | V168: =C168 -> 3 | W168: =IF(F167="New","",C167) -> 3 | X168: =IF(F166="New","",IF(F167="New","",C166)) -> 6 | Y168: =IF(F165="New","",IF(F166="New","",IF(F167="New","",C165))) -> 1 | Z168: =IF(F164="New","",IF(F165="New","",IF(F166="New","",IF(F167="New","",C164)))) -> 0 | AA168: =IF(F163="New","",IF(F164="New","",IF(F165="New","",IF(F166="New","",IF(F167="New","",C163))))) -> 3
B169: =RANDBETWEEN(0,36) -> 25 | C169: =IF(B169="","",VLOOKUP(B169,Tabelle2!$D$1:$E$37,2,0)) -> 5 | D169: =IF(AND(I169=3,OR(C170=K169,C170=L169,C170=M169)),"W",IF(AND(I169=4,OR(C170=K169,C170=L169,C170=M169,C170=N169)),"W","L")) -> W | E169: =IF(AND(F168="l1",D169="w"),"w",IF(F168="l2","",IF(AND(J169=1,I169>=3),D169,IF(J169=1,"",D169)))) -> W | F169: =IF(AND(F168="l1",I169>3,D169="l"),"L2",IF(I169<3,"",IF(AND(D169="l",I169=3,F168=""),"l1",IF(F168="L2","New",IF(AND(D169="l",D168="w"),"L1",IF(AND(D169="l",D168="l",D167="W"),"L2","")))))) | G169: =IF(AND(E169="w",F168="l1"),2,IF(E169="",0,IF(AND(E169="w",F169=""),3,IF(AND(E169="l",F169="l1"),-3,IF(AND(E169="l",F169="l2"),-4))))) -> 3 | H169: =H168+G169 -> 17 | I169: =COUNTIF(K169:N169,1)+COUNTIF(K169:N169,2)+COUNTIF(K169:N169,3)+COUNTIF(K169:N169,4)+COUNTIF(K169:N169,5)+COUNTIF(K169:N169,6) -> 3 | J169: =IF(OR(F166="New",F165="New",F164="New",F167="New",F168="New",F169="New"),1,"") | K169: =IF(AND(F168="New",P169>=1),R169,IF(AND(F168="l1",I168=3),K168,IF(D167="w",K168,IF(D168="w",K168,IF(V169<>0,V169,IF(W169<>0,W169,IF(X169<>0,X169,IF(Y169<>0,Y169,IF(Z169<>0,Z169,IF(AA169<>0,AA169,"")))))))))) -> 1 | L169: =IF(AND(F168="New",P169=1),"",IF(AND(F168="New",P169>=2),S169,IF(AND(F168="l1",I168=3),L168,IF(D167="w",L168,IF(D168="w",L168,IF(F168="l1",L168,IF(AND(W169<>0,W169<>K169),W169,IF(AND(X169<>0,X169<>K169),X169,IF(AND(Y169<>0,Y169<>K169),Y169,IF(AND(Z169<>0,Z169<>K169),Z169,IF(AND(AA169<>0,AA169<>K169),AA169))))))))))) -> 3 | M169: =IF(AND(F168="New",P169=1),"",IF(AND(F168="New",P169=2),"",IF(AND(F168="New",P169=3),T169,IF(AND(F168="l1",I168=3),M168,IF(D167="w",M168,IF(D168="w",M168,IF(AND(X169<>0,X169<>K169,X169<>L169),X169,IF(AND(Y169<>0,Y169<>K169,Y169<>L169),Y169,IF(AND(Z169<>0,Z169<>K169,Z169<>L169),Z169,IF(AND(AA169<>0,AA169<>K169,AA169<>L169),AA169,"")))))))))) -> 5 | N169: =IF(N168<>"","",IF(AND(R169<>K169,R169<>L169,R169<>M169,R169<>0),R169,"")) | P169: =COUNTIF(R169:T169,1)+COUNTIF(R169:T169,2)+COUNTIF(R169:T169,3)+COUNTIF(R169:T169,4)+COUNTIF(R169:T169,5)+COUNTIF(R169:T169,6) -> 3 | R169: =V169 -> 5 | S169: =IF(AND(W169<>0,W169<>V169),W169,IF(AND(X169<>0,X169<>V169),X169,IF(AND(Y169<>0,Y169<>V169),Y169,IF(AND(Z169<>0,Z169<>V169),Z169,IF(AND(AA169<>0,AA169<>V169),AA169))))) -> 3 | T169: =IF(AND(X169<>0,X169<>S169,X169<>R169),X169,IF(AND(Y169<>0,Y169<>R169,Y169<>S169),Y169,IF(AND(Z169<>0,Z169<>R169,Z169<>S169),Z169,IF(AND(AA169<>0,AA169<>R169,AA169<>S169),AA169,"")))) -> 6 | V169: =C169 -> 5 | W169: =IF(F168="New","",C168) -> 3 | X169: =IF(F167="New","",IF(F168="New","",C167)) -> 3 | Y169: =IF(F166="New","",IF(F167="New","",IF(F168="New","",C166))) -> 6 | Z169: =IF(F165="New","",IF(F166="New","",IF(F167="New","",IF(F168="New","",C165)))) -> 1 | AA169: =IF(F164="New","",IF(F165="New","",IF(F166="New","",IF(F167="New","",IF(F168="New","",C164))))) -> 0
B170: =RANDBETWEEN(0,36) -> 17 | C170: =IF(B170="","",VLOOKUP(B170,Tabelle2!$D$1:$E$37,2,0)) -> 3 | D170: =IF(AND(I170=3,OR(C171=K170,C171=L170,C171=M170)),"W",IF(AND(I170=4,OR(C171=K170,C171=L170,C171=M170,C171=N170)),"W","L")) -> L | E170: =IF(AND(F169="l1",D170="w"),"w",IF(F169="l2","",IF(AND(J170=1,I170>=3),D170,IF(J170=1,"",D170)))) -> L | F170: =IF(AND(F169="l1",I170>3,D170="l"),"L2",IF(I170<3,"",IF(AND(D170="l",I170=3,F169=""),"l1",IF(F169="L2","New",IF(AND(D170="l",D169="w"),"L1",IF(AND(D170="l",D169="l",D168="W"),"L2","")))))) -> l1 | G170: =IF(AND(E170="w",F169="l1"),2,IF(E170="",0,IF(AND(E170="w",F170=""),3,IF(AND(E170="l",F170="l1"),-3,IF(AND(E170="l",F170="l2"),-4))))) -> -3 | H170: =H169+G170 -> 14 | I170: =COUNTIF(K170:N170,1)+COUNTIF(K170:N170,2)+COUNTIF(K170:N170,3)+COUNTIF(K170:N170,4)+COUNTIF(K170:N170,5)+COUNTIF(K170:N170,6) -> 3 | J170: =IF(OR(F167="New",F166="New",F165="New",F168="New",F169="New",F170="New"),1,"") | K170: =IF(AND(F169="New",P170>=1),R170,IF(AND(F169="l1",I169=3),K169,IF(D168="w",K169,IF(D169="w",K169,IF(V170<>0,V170,IF(W170<>0,W170,IF(X170<>0,X170,IF(Y170<>0,Y170,IF(Z170<>0,Z170,IF(AA170<>0,AA170,"")))))))))) -> 1 | L170: =IF(AND(F169="New",P170=1),"",IF(AND(F169="New",P170>=2),S170,IF(AND(F169="l1",I169=3),L169,IF(D168="w",L169,IF(D169="w",L169,IF(F169="l1",L169,IF(AND(W170<>0,W170<>K170),W170,IF(AND(X170<>0,X170<>K170),X170,IF(AND(Y170<>0,Y170<>K170),Y170,IF(AND(Z170<>0,Z170<>K170),Z170,IF(AND(AA170<>0,AA170<>K170),AA170))))))))))) -> 3 | M170: =IF(AND(F169="New",P170=1),"",IF(AND(F169="New",P170=2),"",IF(AND(F169="New",P170=3),T170,IF(AND(F169="l1",I169=3),M169,IF(D168="w",M169,IF(D169="w",M169,IF(AND(X170<>0,X170<>K170,X170<>L170),X170,IF(AND(Y170<>0,Y170<>K170,Y170<>L170),Y170,IF(AND(Z170<>0,Z170<>K170,Z170<>L170),Z170,IF(AND(AA170<>0,AA170<>K170,AA170<>L170),AA170,"")))))))))) -> 5 | N170: =IF(N169<>"","",IF(AND(R170<>K170,R170<>L170,R170<>M170,R170<>0),R170,"")) | P170: =COUNTIF(R170:T170,1)+COUNTIF(R170:T170,2)+COUNTIF(R170:T170,3)+COUNTIF(R170:T170,4)+COUNTIF(R170:T170,5)+COUNTIF(R170:T170,6) -> 3 | R170: =V170 -> 3 | S170: =IF(AND(W170<>0,W170<>V170),W170,IF(AND(X170<>0,X170<>V170),X170,IF(AND(Y170<>0,Y170<>V170),Y170,IF(AND(Z170<>0,Z170<>V170),Z170,IF(AND(AA170<>0,AA170<>V170),AA170))))) -> 5 | T170: =IF(AND(X170<>0,X170<>S170,X170<>R170),X170,IF(AND(Y170<>0,Y170<>R170,Y170<>S170),Y170,IF(AND(Z170<>0,Z170<>R170,Z170<>S170),Z170,IF(AND(AA170<>0,AA170<>R170,AA170<>S170),AA170,"")))) -> 6 | V170: =C170 -> 3 | W170: =IF(F169="New","",C169) -> 5 | X170: =IF(F168="New","",IF(F169="New","",C168)) -> 3 | Y170: =IF(F167="New","",IF(F168="New","",IF(F169="New","",C167))) -> 3 | Z170: =IF(F166="New","",IF(F167="New","",IF(F168="New","",IF(F169="New","",C166)))) -> 6 | AA170: =IF(F165="New","",IF(F166="New","",IF(F167="New","",IF(F168="New","",IF(F169="New","",C165))))) -> 1
B171: =RANDBETWEEN(0,36) -> 11 | C171: =IF(B171="","",VLOOKUP(B171,Tabelle2!$D$1:$E$37,2,0)) -> 2 | D171: =IF(AND(I171=3,OR(C172=K171,C172=L171,C172=M171)),"W",IF(AND(I171=4,OR(C172=K171,C172=L171,C172=M171,C172=N171)),"W","L")) -> L | E171: =IF(AND(F170="l1",D171="w"),"w",IF(F170="l2","",IF(AND(J171=1,I171>=3),D171,IF(J171=1,"",D171)))) -> L | F171: =IF(AND(F170="l1",I171>3,D171="l"),"L2",IF(I171<3,"",IF(AND(D171="l",I171=3,F170=""),"l1",IF(F170="L2","New",IF(AND(D171="l",D170="w"),"L1",IF(AND(D171="l",D170="l",D169="W"),"L2","")))))) -> L2 | G171: =IF(AND(E171="w",F170="l1"),2,IF(E171="",0,IF(AND(E171="w",F171=""),3,IF(AND(E171="l",F171="l1"),-3,IF(AND(E171="l",F171="l2"),-4))))) -> -4 | H171: =H170+G171 -> 10 | I171: =COUNTIF(K171:N171,1)+COUNTIF(K171:N171,2)+COUNTIF(K171:N171,3)+COUNTIF(K171:N171,4)+COUNTIF(K171:N171,5)+COUNTIF(K171:N171,6) -> 4 | J171: =IF(OR(F168="New",F167="New",F166="New",F169="New",F170="New",F171="New"),1,"") | K171: =IF(AND(F170="New",P171>=1),R171,IF(AND(F170="l1",I170=3),K170,IF(D169="w",K170,IF(D170="w",K170,IF(V171<>0,V171,IF(W171<>0,W171,IF(X171<>0,X171,IF(Y171<>0,Y171,IF(Z171<>0,Z171,IF(AA171<>0,AA171,"")))))))))) -> 1 | L171: =IF(AND(F170="New",P171=1),"",IF(AND(F170="New",P171>=2),S171,IF(AND(F170="l1",I170=3),L170,IF(D169="w",L170,IF(D170="w",L170,IF(F170="l1",L170,IF(AND(W171<>0,W171<>K171),W171,IF(AND(X171<>0,X171<>K171),X171,IF(AND(Y171<>0,Y171<>K171),Y171,IF(AND(Z171<>0,Z171<>K171),Z171,IF(AND(AA171<>0,AA171<>K171),AA171))))))))))) -> 3 | M171: =IF(AND(F170="New",P171=1),"",IF(AND(F170="New",P171=2),"",IF(AND(F170="New",P171=3),T171,IF(AND(F170="l1",I170=3),M170,IF(D169="w",M170,IF(D170="w",M170,IF(AND(X171<>0,X171<>K171,X171<>L171),X171,IF(AND(Y171<>0,Y171<>K171,Y171<>L171),Y171,IF(AND(Z171<>0,Z171<>K171,Z171<>L171),Z171,IF(AND(AA171<>0,AA171<>K171,AA171<>L171),AA171,"")))))))))) -> 5 | N171: =IF(N170<>"","",IF(AND(R171<>K171,R171<>L171,R171<>M171,R171<>0),R171,"")) -> 2 | P171: =COUNTIF(R171:T171,1)+COUNTIF(R171:T171,2)+COUNTIF(R171:T171,3)+COUNTIF(R171:T171,4)+COUNTIF(R171:T171,5)+COUNTIF(R171:T171,6) -> 3 | R171: =V171 -> 2 | S171: =IF(AND(W171<>0,W171<>V171),W171,IF(AND(X171<>0,X171<>V171),X171,IF(AND(Y171<>0,Y171<>V171),Y171,IF(AND(Z171<>0,Z171<>V171),Z171,IF(AND(AA171<>0,AA171<>V171),AA171))))) -> 3 | T171: =IF(AND(X171<>0,X171<>S171,X171<>R171),X171,IF(AND(Y171<>0,Y171<>R171,Y171<>S171),Y171,IF(AND(Z171<>0,Z171<>R171,Z171<>S171),Z171,IF(AND(AA171<>0,AA171<>R171,AA171<>S171),AA171,"")))) -> 5 | V171: =C171 -> 2 | W171: =IF(F170="New","",C170) -> 3 | X171: =IF(F169="New","",IF(F170="New","",C169)) -> 5 | Y171: =IF(F168="New","",IF(F169="New","",IF(F170="New","",C168))) -> 3 | Z171: =IF(F167="New","",IF(F168="New","",IF(F169="New","",IF(F170="New","",C167)))) -> 3 | AA171: =IF(F166="New","",IF(F167="New","",IF(F168="New","",IF(F169="New","",IF(F170="New","",C166))))) -> 6
B172: =RANDBETWEEN(0,36) -> 21 | C172: =IF(B172="","",VLOOKUP(B172,Tabelle2!$D$1:$E$37,2,0)) -> 4 | D172: =IF(AND(I172=3,OR(C173=K172,C173=L172,C173=M172)),"W",IF(AND(I172=4,OR(C173=K172,C173=L172,C173=M172,C173=N172)),"W","L")) -> L | E172: =IF(AND(F171="l1",D172="w"),"w",IF(F171="l2","",IF(AND(J172=1,I172>=3),D172,IF(J172=1,"",D172)))) | F172: =IF(AND(F171="l1",I172>3,D172="l"),"L2",IF(I172<3,"",IF(AND(D172="l",I172=3,F171=""),"l1",IF(F171="L2","New",IF(AND(D172="l",D171="w"),"L1",IF(AND(D172="l",D171="l",D170="W"),"L2","")))))) -> New | G172: =IF(AND(E172="w",F171="l1"),2,IF(E172="",0,IF(AND(E172="w",F172=""),3,IF(AND(E172="l",F172="l1"),-3,IF(AND(E172="l",F172="l2"),-4))))) -> 0 | H172: =H171+G172 -> 10 | I172: =COUNTIF(K172:N172,1)+COUNTIF(K172:N172,2)+COUNTIF(K172:N172,3)+COUNTIF(K172:N172,4)+COUNTIF(K172:N172,5)+COUNTIF(K172:N172,6) -> 3 | J172: =IF(OR(F169="New",F168="New",F167="New",F170="New",F171="New",F172="New"),1,"") -> 1 | K172: =IF(AND(F171="New",P172>=1),R172,IF(AND(F171="l1",I171=3),K171,IF(D170="w",K171,IF(D171="w",K171,IF(V172<>0,V172,IF(W172<>0,W172,IF(X172<>0,X172,IF(Y172<>0,Y172,IF(Z172<>0,Z172,IF(AA172<>0,AA172,"")))))))))) -> 4 | L172: =IF(AND(F171="New",P172=1),"",IF(AND(F171="New",P172>=2),S172,IF(AND(F171="l1",I171=3),L171,IF(D170="w",L171,IF(D171="w",L171,IF(F171="l1",L171,IF(AND(W172<>0,W172<>K172),W172,IF(AND(X172<>0,X172<>K172),X172,IF(AND(Y172<>0,Y172<>K172),Y172,IF(AND(Z172<>0,Z172<>K172),Z172,IF(AND(AA172<>0,AA172<>K172),AA172))))))))))) -> 2 | M172: =IF(AND(F171="New",P172=1),"",IF(AND(F171="New",P172=2),"",IF(AND(F171="New",P172=3),T172,IF(AND(F171="l1",I171=3),M171,IF(D170="w",M171,IF(D171="w",M171,IF(AND(X172<>0,X172<>K172,X172<>L172),X172,IF(AND(Y172<>0,Y172<>K172,Y172<>L172),Y172,IF(AND(Z172<>0,Z172<>K172,Z172<>L172),Z172,IF(AND(AA172<>0,AA172<>K172,AA172<>L172),AA172,"")))))))))) -> 3 | N172: =IF(N171<>"","",IF(AND(R172<>K172,R172<>L172,R172<>M172,R172<>0),R172,"")) | P172: =COUNTIF(R172:T172,1)+COUNTIF(R172:T172,2)+COUNTIF(R172:T172,3)+COUNTIF(R172:T172,4)+COUNTIF(R172:T172,5)+COUNTIF(R172:T172,6) -> 3 | R172: =V172 -> 4 | S172: =IF(AND(W172<>0,W172<>V172),W172,IF(AND(X172<>0,X172<>V172),X172,IF(AND(Y172<>0,Y172<>V172),Y172,IF(AND(Z172<>0,Z172<>V172),Z172,IF(AND(AA172<>0,AA172<>V172),AA172))))) -> 2 | T172: =IF(AND(X172<>0,X172<>S172,X172<>R172),X172,IF(AND(Y172<>0,Y172<>R172,Y172<>S172),Y172,IF(AND(Z172<>0,Z172<>R172,Z172<>S172),Z172,IF(AND(AA172<>0,AA172<>R172,AA172<>S172),AA172,"")))) -> 3 | V172: =C172 -> 4 | W172: =IF(F171="New","",C171) -> 2 | X172: =IF(F170="New","",IF(F171="New","",C170)) -> 3 | Y172: =IF(F169="New","",IF(F170="New","",IF(F171="New","",C169))) -> 5 | Z172: =IF(F168="New","",IF(F169="New","",IF(F170="New","",IF(F171="New","",C168)))) -> 3 | AA172: =IF(F167="New","",IF(F168="New","",IF(F169="New","",IF(F170="New","",IF(F171="New","",C167))))) -> 3
... B2679: =RANDBETWEEN(0,36) -> 6 | C2679: =IF(B2679="","",VLOOKUP(B2679,Tabelle2!$D$1:$E$37,2,0)) -> 1 | D2679: =IF(AND(I2679=3,OR(C2680=K2679,C2680=L2679,C2680=M2679)),"W",IF(AND(I2679=4,OR(C2680=K2679,C2680=L2679,C2680=M2679,C2680=N2679)),"W","L")) -> L | E2679: =IF(AND(F2678="l1",D2679="w"),"w",IF(F2678="l2","",IF(AND(J2679=1,I2679>=3),D2679,IF(J2679=1,"",D2679)))) -> L | F2679: =IF(AND(F2678="l1",I2679>3,D2679="l"),"L2",IF(I2679<3,"",IF(AND(D2679="l",I2679=3,F2678=""),"l1",IF(F2678="L2","New",IF(AND(D2679="l",D2678="w"),"L1",IF(AND(D2679="l",D2678="l",D2677="W"),"L2","")))))) -> l1 | G2679: =IF(AND(E2679="w",F2678="l1"),2,IF(E2679="",0,IF(AND(E2679="w",F2679=""),3,IF(AND(E2679="l",F2679="l1"),-3,IF(AND(E2679="l",F2679="l2"),-4))))) -> -3 | H2679: =H2678+G2679 -> -44 | I2679: =COUNTIF(K2679:N2679,1)+COUNTIF(K2679:N2679,2)+COUNTIF(K2679:N2679,3)+COUNTIF(K2679:N2679,4)+COUNTIF(K2679:N2679,5)+COUNTIF(K2679:N2679,6) -> 3 | J2679: =IF(OR(F2676="New",F2675="New",F2674="New",F2677="New",F2678="New",F2679="New"),1,"") | K2679: =IF(AND(F2678="New",P2679>=1),R2679,IF(AND(F2678="l1",I2678=3),K2678,IF(D2677="w",K2678,IF(D2678="w",K2678,IF(V2679<>0,V2679,IF(W2679<>0,W2679,IF(X2679<>0,X2679,IF(Y2679<>0,Y2679,IF(Z2679<>0,Z2679,IF(AA2679<>0,AA2679,"")))))))))) -> 3 | L2679: =IF(AND(F2678="New",P2679=1),"",IF(AND(F2678="New",P2679>=2),S2679,IF(AND(F2678="l1",I2678=3),L2678,IF(D2677="w",L2678,IF(D2678="w",L2678,IF(F2678="l1",L2678,IF(AND(W2679<>0,W2679<>K2679),W2679,IF(AND(X2679<>0,X2679<>K2679),X2679,IF(AND(Y2679<>0,Y2679<>K2679),Y2679,IF(AND(Z2679<>0,Z2679<>K2679),Z2679,IF(AND(AA2679<>0,AA2679<>K2679),AA2679))))))))))) -> 5 | M2679: =IF(AND(F2678="New",P2679=1),"",IF(AND(F2678="New",P2679=2),"",IF(AND(F2678="New",P2679=3),T2679,IF(AND(F2678="l1",I2678=3),M2678,IF(D2677="w",M2678,IF(D2678="w",M2678,IF(AND(X2679<>0,X2679<>K2679,X2679<>L2679),X2679,IF(AND(Y2679<>0,Y2679<>K2679,Y2679<>L2679),Y2679,IF(AND(Z2679<>0,Z2679<>K2679,Z2679<>L2679),Z2679,IF(AND(AA2679<>0,AA2679<>K2679,AA2679<>L2679),AA2679,"")))))))))) -> 1 | N2679: =IF(N2678<>"","",IF(AND(R2679<>K2679,R2679<>L2679,R2679<>M2679,R2679<>0),R2679,"")) | P2679: =COUNTIF(R2679:T2679,1)+COUNTIF(R2679:T2679,2)+COUNTIF(R2679:T2679,3)+COUNTIF(R2679:T2679,4)+COUNTIF(R2679:T2679,5)+COUNTIF(R2679:T2679,6) -> 3 | R2679: =V2679 -> 1 | S2679: =IF(AND(W2679<>0,W2679<>V2679),W2679,IF(AND(X2679<>0,X2679<>V2679),X2679,IF(AND(Y2679<>0,Y2679<>V2679),Y2679,IF(AND(Z2679<>0,Z2679<>V2679),Z2679,IF(AND(AA2679<>0,AA2679<>V2679),AA2679))))) -> 5 | T2679: =IF(AND(X2679<>0,X2679<>S2679,X2679<>R2679),X2679,IF(AND(Y2679<>0,Y2679<>R2679,Y2679<>S2679),Y2679,IF(AND(Z2679<>0,Z2679<>R2679,Z2679<>S2679),Z2679,IF(AND(AA2679<>0,AA2679<>R2679,AA2679<>S2679),AA2679,"")))) -> 4 | V2679: =C2679 -> 1 | W2679: =IF(F2678="New","",C2678) -> 5 | X2679: =IF(F2677="New","",IF(F2678="New","",C2677)) -> 4 | Y2679: =IF(F2676="New","",IF(F2677="New","",IF(F2678="New","",C2676))) -> 5 | Z2679: =IF(F2675="New","",IF(F2676="New","",IF(F2677="New","",IF(F2678="New","",C2675)))) -> 6 | AA2679: =IF(F2674="New","",IF(F2675="New","",IF(F2676="New","",IF(F2677="New","",IF(F2678="New","",C2674))))) -> 3
B2680: =RANDBETWEEN(0,36) -> 9 | C2680: =IF(B2680="","",VLOOKUP(B2680,Tabelle2!$D$1:$E$37,2,0)) -> 2 | D2680: =IF(AND(I2680=3,OR(C2681=K2680,C2681=L2680,C2681=M2680)),"W",IF(AND(I2680=4,OR(C2681=K2680,C2681=L2680,C2681=M2680,C2681=N2680)),"W","L")) -> W | E2680: =IF(AND(F2679="l1",D2680="w"),"w",IF(F2679="l2","",IF(AND(J2680=1,I2680>=3),D2680,IF(J2680=1,"",D2680)))) -> w | F2680: =IF(AND(F2679="l1",I2680>3,D2680="l"),"L2",IF(I2680<3,"",IF(AND(D2680="l",I2680=3,F2679=""),"l1",IF(F2679="L2","New",IF(AND(D2680="l",D2679="w"),"L1",IF(AND(D2680="l",D2679="l",D2678="W"),"L2","")))))) | G2680: =IF(AND(E2680="w",F2679="l1"),2,IF(E2680="",0,IF(AND(E2680="w",F2680=""),3,IF(AND(E2680="l",F2680="l1"),-3,IF(AND(E2680="l",F2680="l2"),-4))))) -> 2 | H2680: =H2679+G2680 -> -42 | I2680: =COUNTIF(K2680:N2680,1)+COUNTIF(K2680:N2680,2)+COUNTIF(K2680:N2680,3)+COUNTIF(K2680:N2680,4)+COUNTIF(K2680:N2680,5)+COUNTIF(K2680:N2680,6) -> 4 | J2680: =IF(OR(F2677="New",F2676="New",F2675="New",F2678="New",F2679="New",F2680="New"),1,"") | K2680: =IF(AND(F2679="New",P2680>=1),R2680,IF(AND(F2679="l1",I2679=3),K2679,IF(D2678="w",K2679,IF(D2679="w",K2679,IF(V2680<>0,V2680,IF(W2680<>0,W2680,IF(X2680<>0,X2680,IF(Y2680<>0,Y2680,IF(Z2680<>0,Z2680,IF(AA2680<>0,AA2680,"")))))))))) -> 3 | L2680: =IF(AND(F2679="New",P2680=1),"",IF(AND(F2679="New",P2680>=2),S2680,IF(AND(F2679="l1",I2679=3),L2679,IF(D2678="w",L2679,IF(D2679="w",L2679,IF(F2679="l1",L2679,IF(AND(W2680<>0,W2680<>K2680),W2680,IF(AND(X2680<>0,X2680<>K2680),X2680,IF(AND(Y2680<>0,Y2680<>K2680),Y2680,IF(AND(Z2680<>0,Z2680<>K2680),Z2680,IF(AND(AA2680<>0,AA2680<>K2680),AA2680))))))))))) -> 5 | M2680: =IF(AND(F2679="New",P2680=1),"",IF(AND(F2679="New",P2680=2),"",IF(AND(F2679="New",P2680=3),T2680,IF(AND(F2679="l1",I2679=3),M2679,IF(D2678="w",M2679,IF(D2679="w",M2679,IF(AND(X2680<>0,X2680<>K2680,X2680<>L2680),X2680,IF(AND(Y2680<>0,Y2680<>K2680,Y2680<>L2680),Y2680,IF(AND(Z2680<>0,Z2680<>K2680,Z2680<>L2680),Z2680,IF(AND(AA2680<>0,AA2680<>K2680,AA2680<>L2680),AA2680,"")))))))))) -> 1 | N2680: =IF(N2679<>"","",IF(AND(R2680<>K2680,R2680<>L2680,R2680<>M2680,R2680<>0),R2680,"")) -> 2 | P2680: =COUNTIF(R2680:T2680,1)+COUNTIF(R2680:T2680,2)+COUNTIF(R2680:T2680,3)+COUNTIF(R2680:T2680,4)+COUNTIF(R2680:T2680,5)+COUNTIF(R2680:T2680,6) -> 2 | R2680: =V2680 -> 2 | T2680: =IF(AND(X2680<>0,X2680<>S2680,X2680<>R2680),X2680,IF(AND(Y2680<>0,Y2680<>R2680,Y2680<>S2680),Y2680,IF(AND(Z2680<>0,Z2680<>R2680,Z2680<>S2680),Z2680,IF(AND(AA2680<>0,AA2680<>R2680,AA2680<>S2680),AA2680,"")))) -> 5 | V2680: =C2680 -> 2 | W2680: =IF(F2679="New","",C2679) -> 1 | X2680: =IF(F2678="New","",IF(F2679="New","",C2678)) -> 5 | Y2680: =IF(F2677="New","",IF(F2678="New","",IF(F2679="New","",C2677))) -> 4 | Z2680: =IF(F2676="New","",IF(F2677="New","",IF(F2678="New","",IF(F2679="New","",C2676)))) -> 5 | AA2680: =IF(F2675="New","",IF(F2676="New","",IF(F2677="New","",IF(F2678="New","",IF(F2679="New","",C2675))))) -> 6
B2681: =RANDBETWEEN(0,36) -> 7 | C2681: =IF(B2681="","",VLOOKUP(B2681,Tabelle2!$D$1:$E$37,2,0)) -> 2 | D2681: =IF(AND(I2681=3,OR(C2682=K2681,C2682=L2681,C2682=M2681)),"W",IF(AND(I2681=4,OR(C2682=K2681,C2682=L2681,C2682=M2681,C2682=N2681)),"W","L")) -> L | E2681: =IF(AND(F2680="l1",D2681="w"),"w",IF(F2680="l2","",IF(AND(J2681=1,I2681>=3),D2681,IF(J2681=1,"",D2681)))) -> L | F2681: =IF(AND(F2680="l1",I2681>3,D2681="l"),"L2",IF(I2681<3,"",IF(AND(D2681="l",I2681=3,F2680=""),"l1",IF(F2680="L2","New",IF(AND(D2681="l",D2680="w"),"L1",IF(AND(D2681="l",D2680="l",D2679="W"),"L2","")))))) -> l1 | G2681: =IF(AND(E2681="w",F2680="l1"),2,IF(E2681="",0,IF(AND(E2681="w",F2681=""),3,IF(AND(E2681="l",F2681="l1"),-3,IF(AND(E2681="l",F2681="l2"),-4))))) -> -3 | H2681: =H2680+G2681 -> -45 | I2681: =COUNTIF(K2681:N2681,1)+COUNTIF(K2681:N2681,2)+COUNTIF(K2681:N2681,3)+COUNTIF(K2681:N2681,4)+COUNTIF(K2681:N2681,5)+COUNTIF(K2681:N2681,6) -> 3 | J2681: =IF(OR(F2678="New",F2677="New",F2676="New",F2679="New",F2680="New",F2681="New"),1,"") | K2681: =IF(AND(F2680="New",P2681>=1),R2681,IF(AND(F2680="l1",I2680=3),K2680,IF(D2679="w",K2680,IF(D2680="w",K2680,IF(V2681<>0,V2681,IF(W2681<>0,W2681,IF(X2681<>0,X2681,IF(Y2681<>0,Y2681,IF(Z2681<>0,Z2681,IF(AA2681<>0,AA2681,"")))))))))) -> 3 | L2681: =IF(AND(F2680="New",P2681=1),"",IF(AND(F2680="New",P2681>=2),S2681,IF(AND(F2680="l1",I2680=3),L2680,IF(D2679="w",L2680,IF(D2680="w",L2680,IF(F2680="l1",L2680,IF(AND(W2681<>0,W2681<>K2681),W2681,IF(AND(X2681<>0,X2681<>K2681),X2681,IF(AND(Y2681<>0,Y2681<>K2681),Y2681,IF(AND(Z2681<>0,Z2681<>K2681),Z2681,IF(AND(AA2681<>0,AA2681<>K2681),AA2681))))))))))) -> 5 | M2681: =IF(AND(F2680="New",P2681=1),"",IF(AND(F2680="New",P2681=2),"",IF(AND(F2680="New",P2681=3),T2681,IF(AND(F2680="l1",I2680=3),M2680,IF(D2679="w",M2680,IF(D2680="w",M2680,IF(AND(X2681<>0,X2681<>K2681,X2681<>L2681),X2681,IF(AND(Y2681<>0,Y2681<>K2681,Y2681<>L2681),Y2681,IF(AND(Z2681<>0,Z2681<>K2681,Z2681<>L2681),Z2681,IF(AND(AA2681<>0,AA2681<>K2681,AA2681<>L2681),AA2681,"")))))))))) -> 1 | N2681: =IF(N2680<>"","",IF(AND(R2681<>K2681,R2681<>L2681,R2681<>M2681,R2681<>0),R2681,"")) | P2681: =COUNTIF(R2681:T2681,1)+COUNTIF(R2681:T2681,2)+COUNTIF(R2681:T2681,3)+COUNTIF(R2681:T2681,4)+COUNTIF(R2681:T2681,5)+COUNTIF(R2681:T2681,6) -> 2 | R2681: =V2681 -> 2 | T2681: =IF(AND(X2681<>0,X2681<>S2681,X2681<>R2681),X2681,IF(AND(Y2681<>0,Y2681<>R2681,Y2681<>S2681),Y2681,IF(AND(Z2681<>0,Z2681<>R2681,Z2681<>S2681),Z2681,IF(AND(AA2681<>0,AA2681<>R2681,AA2681<>S2681),AA2681,"")))) -> 1 | V2681: =C2681 -> 2 | W2681: =IF(F2680="New","",C2680) -> 2 | X2681: =IF(F2679="New","",IF(F2680="New","",C2679)) -> 1 | Y2681: =IF(F2678="New","",IF(F2679="New","",IF(F2680="New","",C2678))) -> 5 | Z2681: =IF(F2677="New","",IF(F2678="New","",IF(F2679="New","",IF(F2680="New","",C2677)))) -> 4 | AA2681: =IF(F2676="New","",IF(F2677="New","",IF(F2678="New","",IF(F2679="New","",IF(F2680="New","",C2676))))) -> 5
B2682: =RANDBETWEEN(0,36) -> 20 | C2682: =IF(B2682="","",VLOOKUP(B2682,Tabelle2!$D$1:$E$37,2,0)) -> 4 | D2682: =IF(AND(I2682=3,OR(C2683=K2682,C2683=L2682,C2683=M2682)),"W",IF(AND(I2682=4,OR(C2683=K2682,C2683=L2682,C2683=M2682,C2683=N2682)),"W","L")) -> W | E2682: =IF(AND(F2681="l1",D2682="w"),"w",IF(F2681="l2","",IF(AND(J2682=1,I2682>=3),D2682,IF(J2682=1,"",D2682)))) -> w | F2682: =IF(AND(F2681="l1",I2682>3,D2682="l"),"L2",IF(I2682<3,"",IF(AND(D2682="l",I2682=3,F2681=""),"l1",IF(F2681="L2","New",IF(AND(D2682="l",D2681="w"),"L1",IF(AND(D2682="l",D2681="l",D2680="W"),"L2","")))))) | G2682: =IF(AND(E2682="w",F2681="l1"),2,IF(E2682="",0,IF(AND(E2682="w",F2682=""),3,IF(AND(E2682="l",F2682="l1"),-3,IF(AND(E2682="l",F2682="l2"),-4))))) -> 2 | H2682: =H2681+G2682 -> -43 | I2682: =COUNTIF(K2682:N2682,1)+COUNTIF(K2682:N2682,2)+COUNTIF(K2682:N2682,3)+COUNTIF(K2682:N2682,4)+COUNTIF(K2682:N2682,5)+COUNTIF(K2682:N2682,6) -> 4 | J2682: =IF(OR(F2679="New",F2678="New",F2677="New",F2680="New",F2681="New",F2682="New"),1,"") | K2682: =IF(AND(F2681="New",P2682>=1),R2682,IF(AND(F2681="l1",I2681=3),K2681,IF(D2680="w",K2681,IF(D2681="w",K2681,IF(V2682<>0,V2682,IF(W2682<>0,W2682,IF(X2682<>0,X2682,IF(Y2682<>0,Y2682,IF(Z2682<>0,Z2682,IF(AA2682<>0,AA2682,"")))))))))) -> 3 | L2682: =IF(AND(F2681="New",P2682=1),"",IF(AND(F2681="New",P2682>=2),S2682,IF(AND(F2681="l1",I2681=3),L2681,IF(D2680="w",L2681,IF(D2681="w",L2681,IF(F2681="l1",L2681,IF(AND(W2682<>0,W2682<>K2682),W2682,IF(AND(X2682<>0,X2682<>K2682),X2682,IF(AND(Y2682<>0,Y2682<>K2682),Y2682,IF(AND(Z2682<>0,Z2682<>K2682),Z2682,IF(AND(AA2682<>0,AA2682<>K2682),AA2682))))))))))) -> 5 | M2682: =IF(AND(F2681="New",P2682=1),"",IF(AND(F2681="New",P2682=2),"",IF(AND(F2681="New",P2682=3),T2682,IF(AND(F2681="l1",I2681=3),M2681,IF(D2680="w",M2681,IF(D2681="w",M2681,IF(AND(X2682<>0,X2682<>K2682,X2682<>L2682),X2682,IF(AND(Y2682<>0,Y2682<>K2682,Y2682<>L2682),Y2682,IF(AND(Z2682<>0,Z2682<>K2682,Z2682<>L2682),Z2682,IF(AND(AA2682<>0,AA2682<>K2682,AA2682<>L2682),AA2682,"")))))))))) -> 1 | N2682: =IF(N2681<>"","",IF(AND(R2682<>K2682,R2682<>L2682,R2682<>M2682,R2682<>0),R2682,"")) -> 4 | P2682: =COUNTIF(R2682:T2682,1)+COUNTIF(R2682:T2682,2)+COUNTIF(R2682:T2682,3)+COUNTIF(R2682:T2682,4)+COUNTIF(R2682:T2682,5)+COUNTIF(R2682:T2682,6) -> 2 | R2682: =V2682 -> 4 | T2682: =IF(AND(X2682<>0,X2682<>S2682,X2682<>R2682),X2682,IF(AND(Y2682<>0,Y2682<>R2682,Y2682<>S2682),Y2682,IF(AND(Z2682<>0,Z2682<>R2682,Z2682<>S2682),Z2682,IF(AND(AA2682<>0,AA2682<>R2682,AA2682<>S2682),AA2682,"")))) -> 2 | V2682: =C2682 -> 4 | W2682: =IF(F2681="New","",C2681) -> 2 | X2682: =IF(F2680="New","",IF(F2681="New","",C2680)) -> 2 | Y2682: =IF(F2679="New","",IF(F2680="New","",IF(F2681="New","",C2679))) -> 1 | Z2682: =IF(F2678="New","",IF(F2679="New","",IF(F2680="New","",IF(F2681="New","",C2678)))) -> 5 | AA2682: =IF(F2677="New","",IF(F2678="New","",IF(F2679="New","",IF(F2680="New","",IF(F2681="New","",C2677))))) -> 4
B2683: =RANDBETWEEN(0,36) -> 24 | C2683: =IF(B2683="","",VLOOKUP(B2683,Tabelle2!$D$1:$E$37,2,0)) -> 4 | D2683: =IF(AND(I2683=3,OR(C2684=K2683,C2684=L2683,C2684=M2683)),"W",IF(AND(I2683=4,OR(C2684=K2683,C2684=L2683,C2684=M2683,C2684=N2683)),"W","L")) -> L | E2683: =IF(AND(F2682="l1",D2683="w"),"w",IF(F2682="l2","",IF(AND(J2683=1,I2683>=3),D2683,IF(J2683=1,"",D2683)))) -> L | F2683: =IF(AND(F2682="l1",I2683>3,D2683="l"),"L2",IF(I2683<3,"",IF(AND(D2683="l",I2683=3,F2682=""),"l1",IF(F2682="L2","New",IF(AND(D2683="l",D2682="w"),"L1",IF(AND(D2683="l",D2682="l",D2681="W"),"L2","")))))) -> l1 | G2683: =IF(AND(E2683="w",F2682="l1"),2,IF(E2683="",0,IF(AND(E2683="w",F2683=""),3,IF(AND(E2683="l",F2683="l1"),-3,IF(AND(E2683="l",F2683="l2"),-4))))) -> -3 | H2683: =H2682+G2683 -> -46 | I2683: =COUNTIF(K2683:N2683,1)+COUNTIF(K2683:N2683,2)+COUNTIF(K2683:N2683,3)+COUNTIF(K2683:N2683,4)+COUNTIF(K2683:N2683,5)+COUNTIF(K2683:N2683,6) -> 3 | J2683: =IF(OR(F2680="New",F2679="New",F2678="New",F2681="New",F2682="New",F2683="New"),1,"") | K2683: =IF(AND(F2682="New",P2683>=1),R2683,IF(AND(F2682="l1",I2682=3),K2682,IF(D2681="w",K2682,IF(D2682="w",K2682,IF(V2683<>0,V2683,IF(W2683<>0,W2683,IF(X2683<>0,X2683,IF(Y2683<>0,Y2683,IF(Z2683<>0,Z2683,IF(AA2683<>0,AA2683,"")))))))))) -> 3 | L2683: =IF(AND(F2682="New",P2683=1),"",IF(AND(F2682="New",P2683>=2),S2683,IF(AND(F2682="l1",I2682=3),L2682,IF(D2681="w",L2682,IF(D2682="w",L2682,IF(F2682="l1",L2682,IF(AND(W2683<>0,W2683<>K2683),W2683,IF(AND(X2683<>0,X2683<>K2683),X2683,IF(AND(Y2683<>0,Y2683<>K2683),Y2683,IF(AND(Z2683<>0,Z2683<>K2683),Z2683,IF(AND(AA2683<>0,AA2683<>K2683),AA2683))))))))))) -> 5 | M2683: =IF(AND(F2682="New",P2683=1),"",IF(AND(F2682="New",P2683=2),"",IF(AND(F2682="New",P2683=3),T2683,IF(AND(F2682="l1",I2682=3),M2682,IF(D2681="w",M2682,IF(D2682="w",M2682,IF(AND(X2683<>0,X2683<>K2683,X2683<>L2683),X2683,IF(AND(Y2683<>0,Y2683<>K2683,Y2683<>L2683),Y2683,IF(AND(Z2683<>0,Z2683<>K2683,Z2683<>L2683),Z2683,IF(AND(AA2683<>0,AA2683<>K2683,AA2683<>L2683),AA2683,"")))))))))) -> 1 | N2683: =IF(N2682<>"","",IF(AND(R2683<>K2683,R2683<>L2683,R2683<>M2683,R2683<>0),R2683,"")) | P2683: =COUNTIF(R2683:T2683,1)+COUNTIF(R2683:T2683,2)+COUNTIF(R2683:T2683,3)+COUNTIF(R2683:T2683,4)+COUNTIF(R2683:T2683,5)+COUNTIF(R2683:T2683,6) -> 2 | R2683: =V2683 -> 4 | T2683: =IF(AND(X2683<>0,X2683<>S2683,X2683<>R2683),X2683,IF(AND(Y2683<>0,Y2683<>R2683,Y2683<>S2683),Y2683,IF(AND(Z2683<>0,Z2683<>R2683,Z2683<>S2683),Z2683,IF(AND(AA2683<>0,AA2683<>R2683,AA2683<>S2683),AA2683,"")))) -> 2 | V2683: =C2683 -> 4 | W2683: =IF(F2682="New","",C2682) -> 4 | X2683: =IF(F2681="New","",IF(F2682="New","",C2681)) -> 2 | Y2683: =IF(F2680="New","",IF(F2681="New","",IF(F2682="New","",C2680))) -> 2 | Z2683: =IF(F2679="New","",IF(F2680="New","",IF(F2681="New","",IF(F2682="New","",C2679)))) -> 1 | AA2683: =IF(F2678="New","",IF(F2679="New","",IF(F2680="New","",IF(F2681="New","",IF(F2682="New","",C2678))))) -> 5
B2684: =RANDBETWEEN(0,36) -> 32 | C2684: =IF(B2684="","",VLOOKUP(B2684,Tabelle2!$D$1:$E$37,2,0)) -> 6 | D2684: =IF(AND(I2684=3,OR(C2685=K2684,C2685=L2684,C2685=M2684)),"W",IF(AND(I2684=4,OR(C2685=K2684,C2685=L2684,C2685=M2684,C2685=N2684)),"W","L")) -> W | E2684: =IF(AND(F2683="l1",D2684="w"),"w",IF(F2683="l2","",IF(AND(J2684=1,I2684>=3),D2684,IF(J2684=1,"",D2684)))) -> w | F2684: =IF(AND(F2683="l1",I2684>3,D2684="l"),"L2",IF(I2684<3,"",IF(AND(D2684="l",I2684=3,F2683=""),"l1",IF(F2683="L2","New",IF(AND(D2684="l",D2683="w"),"L1",IF(AND(D2684="l",D2683="l",D2682="W"),"L2","")))))) | G2684: =IF(AND(E2684="w",F2683="l1"),2,IF(E2684="",0,IF(AND(E2684="w",F2684=""),3,IF(AND(E2684="l",F2684="l1"),-3,IF(AND(E2684="l",F2684="l2"),-4))))) -> 2 | H2684: =H2683+G2684 -> -44 | I2684: =COUNTIF(K2684:N2684,1)+COUNTIF(K2684:N2684,2)+COUNTIF(K2684:N2684,3)+COUNTIF(K2684:N2684,4)+COUNTIF(K2684:N2684,5)+COUNTIF(K2684:N2684,6) -> 4 | J2684: =IF(OR(F2681="New",F2680="New",F2679="New",F2682="New",F2683="New",F2684="New"),1,"") | K2684: =IF(AND(F2683="New",P2684>=1),R2684,IF(AND(F2683="l1",I2683=3),K2683,IF(D2682="w",K2683,IF(D2683="w",K2683,IF(V2684<>0,V2684,IF(W2684<>0,W2684,IF(X2684<>0,X2684,IF(Y2684<>0,Y2684,IF(Z2684<>0,Z2684,IF(AA2684<>0,AA2684,"")))))))))) -> 3 | L2684: =IF(AND(F2683="New",P2684=1),"",IF(AND(F2683="New",P2684>=2),S2684,IF(AND(F2683="l1",I2683=3),L2683,IF(D2682="w",L2683,IF(D2683="w",L2683,IF(F2683="l1",L2683,IF(AND(W2684<>0,W2684<>K2684),W2684,IF(AND(X2684<>0,X2684<>K2684),X2684,IF(AND(Y2684<>0,Y2684<>K2684),Y2684,IF(AND(Z2684<>0,Z2684<>K2684),Z2684,IF(AND(AA2684<>0,AA2684<>K2684),AA2684))))))))))) -> 5 | M2684: =IF(AND(F2683="New",P2684=1),"",IF(AND(F2683="New",P2684=2),"",IF(AND(F2683="New",P2684=3),T2684,IF(AND(F2683="l1",I2683=3),M2683,IF(D2682="w",M2683,IF(D2683="w",M2683,IF(AND(X2684<>0,X2684<>K2684,X2684<>L2684),X2684,IF(AND(Y2684<>0,Y2684<>K2684,Y2684<>L2684),Y2684,IF(AND(Z2684<>0,Z2684<>K2684,Z2684<>L2684),Z2684,IF(AND(AA2684<>0,AA2684<>K2684,AA2684<>L2684),AA2684,"")))))))))) -> 1 | N2684: =IF(N2683<>"","",IF(AND(R2684<>K2684,R2684<>L2684,R2684<>M2684,R2684<>0),R2684,"")) -> 6 | P2684: =COUNTIF(R2684:T2684,1)+COUNTIF(R2684:T2684,2)+COUNTIF(R2684:T2684,3)+COUNTIF(R2684:T2684,4)+COUNTIF(R2684:T2684,5)+COUNTIF(R2684:T2684,6) -> 2 | R2684: =V2684 -> 6 | T2684: =IF(AND(X2684<>0,X2684<>S2684,X2684<>R2684),X2684,IF(AND(Y2684<>0,Y2684<>R2684,Y2684<>S2684),Y2684,IF(AND(Z2684<>0,Z2684<>R2684,Z2684<>S2684),Z2684,IF(AND(AA2684<>0,AA2684<>R2684,AA2684<>S2684),AA2684,"")))) -> 4 | V2684: =C2684 -> 6 | W2684: =IF(F2683="New","",C2683) -> 4 | X2684: =IF(F2682="New","",IF(F2683="New","",C2682)) -> 4 | Y2684: =IF(F2681="New","",IF(F2682="New","",IF(F2683="New","",C2681))) -> 2 | Z2684: =IF(F2680="New","",IF(F2681="New","",IF(F2682="New","",IF(F2683="New","",C2680)))) -> 2 | AA2684: =IF(F2679="New","",IF(F2680="New","",IF(F2681="New","",IF(F2682="New","",IF(F2683="New","",C2679))))) -> 1
B2685: =RANDBETWEEN(0,36) -> 2 | C2685: =IF(B2685="","",VLOOKUP(B2685,Tabelle2!$D$1:$E$37,2,0)) -> 1 | D2685: =IF(AND(I2685=3,OR(C2686=K2685,C2686=L2685,C2686=M2685)),"W",IF(AND(I2685=4,OR(C2686=K2685,C2686=L2685,C2686=M2685,C2686=N2685)),"W","L")) -> W | E2685: =IF(AND(F2684="l1",D2685="w"),"w",IF(F2684="l2","",IF(AND(J2685=1,I2685>=3),D2685,IF(J2685=1,"",D2685)))) -> W | F2685: =IF(AND(F2684="l1",I2685>3,D2685="l"),"L2",IF(I2685<3,"",IF(AND(D2685="l",I2685=3,F2684=""),"l1",IF(F2684="L2","New",IF(AND(D2685="l",D2684="w"),"L1",IF(AND(D2685="l",D2684="l",D2683="W"),"L2","")))))) | G2685: =IF(AND(E2685="w",F2684="l1"),2,IF(E2685="",0,IF(AND(E2685="w",F2685=""),3,IF(AND(E2685="l",F2685="l1"),-3,IF(AND(E2685="l",F2685="l2"),-4))))) -> 3 | H2685: =H2684+G2685 -> -41 | I2685: =COUNTIF(K2685:N2685,1)+COUNTIF(K2685:N2685,2)+COUNTIF(K2685:N2685,3)+COUNTIF(K2685:N2685,4)+COUNTIF(K2685:N2685,5)+COUNTIF(K2685:N2685,6) -> 3 | J2685: =IF(OR(F2682="New",F2681="New",F2680="New",F2683="New",F2684="New",F2685="New"),1,"") | K2685: =IF(AND(F2684="New",P2685>=1),R2685,IF(AND(F2684="l1",I2684=3),K2684,IF(D2683="w",K2684,IF(D2684="w",K2684,IF(V2685<>0,V2685,IF(W2685<>0,W2685,IF(X2685<>0,X2685,IF(Y2685<>0,Y2685,IF(Z2685<>0,Z2685,IF(AA2685<>0,AA2685,"")))))))))) -> 3 | L2685: =IF(AND(F2684="New",P2685=1),"",IF(AND(F2684="New",P2685>=2),S2685,IF(AND(F2684="l1",I2684=3),L2684,IF(D2683="w",L2684,IF(D2684="w",L2684,IF(F2684="l1",L2684,IF(AND(W2685<>0,W2685<>K2685),W2685,IF(AND(X2685<>0,X2685<>K2685),X2685,IF(AND(Y2685<>0,Y2685<>K2685),Y2685,IF(AND(Z2685<>0,Z2685<>K2685),Z2685,IF(AND(AA2685<>0,AA2685<>K2685),AA2685))))))))))) -> 5 | M2685: =IF(AND(F2684="New",P2685=1),"",IF(AND(F2684="New",P2685=2),"",IF(AND(F2684="New",P2685=3),T2685,IF(AND(F2684="l1",I2684=3),M2684,IF(D2683="w",M2684,IF(D2684="w",M2684,IF(AND(X2685<>0,X2685<>K2685,X2685<>L2685),X2685,IF(AND(Y2685<>0,Y2685<>K2685,Y2685<>L2685),Y2685,IF(AND(Z2685<>0,Z2685<>K2685,Z2685<>L2685),Z2685,IF(AND(AA2685<>0,AA2685<>K2685,AA2685<>L2685),AA2685,"")))))))))) -> 1 | N2685: =IF(N2684<>"","",IF(AND(R2685<>K2685,R2685<>L2685,R2685<>M2685,R2685<>0),R2685,"")) | P2685: =COUNTIF(R2685:T2685,1)+COUNTIF(R2685:T2685,2)+COUNTIF(R2685:T2685,3)+COUNTIF(R2685:T2685,4)+COUNTIF(R2685:T2685,5)+COUNTIF(R2685:T2685,6) -> 2 | R2685: =V2685 -> 1 | T2685: =IF(AND(X2685<>0,X2685<>S2685,X2685<>R2685),X2685,IF(AND(Y2685<>0,Y2685<>R2685,Y2685<>S2685),Y2685,IF(AND(Z2685<>0,Z2685<>R2685,Z2685<>S2685),Z2685,IF(AND(AA2685<>0,AA2685<>R2685,AA2685<>S2685),AA2685,"")))) -> 4 | V2685: =C2685 -> 1 | W2685: =IF(F2684="New","",C2684) -> 6 | X2685: =IF(F2683="New","",IF(F2684="New","",C2683)) -> 4 | Y2685: =IF(F2682="New","",IF(F2683="New","",IF(F2684="New","",C2682))) -> 4 | Z2685: =IF(F2681="New","",IF(F2682="New","",IF(F2683="New","",IF(F2684="New","",C2681)))) -> 2 | AA2685: =IF(F2680="New","",IF(F2681="New","",IF(F2682="New","",IF(F2683="New","",IF(F2684="New","",C2680))))) -> 2
B2686: =RANDBETWEEN(0,36) -> 1 | C2686: =IF(B2686="","",VLOOKUP(B2686,Tabelle2!$D$1:$E$37,2,0)) -> 1 | D2686: =IF(AND(I2686=3,OR(C2687=K2686,C2687=L2686,C2687=M2686)),"W",IF(AND(I2686=4,OR(C2687=K2686,C2687=L2686,C2687=M2686,C2687=N2686)),"W","L")) -> W | E2686: =IF(AND(F2685="l1",D2686="w"),"w",IF(F2685="l2","",IF(AND(J2686=1,I2686>=3),D2686,IF(J2686=1,"",D2686)))) -> W | F2686: =IF(AND(F2685="l1",I2686>3,D2686="l"),"L2",IF(I2686<3,"",IF(AND(D2686="l",I2686=3,F2685=""),"l1",IF(F2685="L2","New",IF(AND(D2686="l",D2685="w"),"L1",IF(AND(D2686="l",D2685="l",D2684="W"),"L2","")))))) | G2686: =IF(AND(E2686="w",F2685="l1"),2,IF(E2686="",0,IF(AND(E2686="w",F2686=""),3,IF(AND(E2686="l",F2686="l1"),-3,IF(AND(E2686="l",F2686="l2"),-4))))) -> 3 | H2686: =H2685+G2686 -> -38 | I2686: =COUNTIF(K2686:N2686,1)+COUNTIF(K2686:N2686,2)+COUNTIF(K2686:N2686,3)+COUNTIF(K2686:N2686,4)+COUNTIF(K2686:N2686,5)+COUNTIF(K2686:N2686,6) -> 3 | J2686: =IF(OR(F2683="New",F2682="New",F2681="New",F2684="New",F2685="New",F2686="New"),1,"") | K2686: =IF(AND(F2685="New",P2686>=1),R2686,IF(AND(F2685="l1",I2685=3),K2685,IF(D2684="w",K2685,IF(D2685="w",K2685,IF(V2686<>0,V2686,IF(W2686<>0,W2686,IF(X2686<>0,X2686,IF(Y2686<>0,Y2686,IF(Z2686<>0,Z2686,IF(AA2686<>0,AA2686,"")))))))))) -> 3 | L2686: =IF(AND(F2685="New",P2686=1),"",IF(AND(F2685="New",P2686>=2),S2686,IF(AND(F2685="l1",I2685=3),L2685,IF(D2684="w",L2685,IF(D2685="w",L2685,IF(F2685="l1",L2685,IF(AND(W2686<>0,W2686<>K2686),W2686,IF(AND(X2686<>0,X2686<>K2686),X2686,IF(AND(Y2686<>0,Y2686<>K2686),Y2686,IF(AND(Z2686<>0,Z2686<>K2686),Z2686,IF(AND(AA2686<>0,AA2686<>K2686),AA2686))))))))))) -> 5 | M2686: =IF(AND(F2685="New",P2686=1),"",IF(AND(F2685="New",P2686=2),"",IF(AND(F2685="New",P2686=3),T2686,IF(AND(F2685="l1",I2685=3),M2685,IF(D2684="w",M2685,IF(D2685="w",M2685,IF(AND(X2686<>0,X2686<>K2686,X2686<>L2686),X2686,IF(AND(Y2686<>0,Y2686<>K2686,Y2686<>L2686),Y2686,IF(AND(Z2686<>0,Z2686<>K2686,Z2686<>L2686),Z2686,IF(AND(AA2686<>0,AA2686<>K2686,AA2686<>L2686),AA2686,"")))))))))) -> 1 | N2686: =IF(N2685<>"","",IF(AND(R2686<>K2686,R2686<>L2686,R2686<>M2686,R2686<>0),R2686,"")) | P2686: =COUNTIF(R2686:T2686,1)+COUNTIF(R2686:T2686,2)+COUNTIF(R2686:T2686,3)+COUNTIF(R2686:T2686,4)+COUNTIF(R2686:T2686,5)+COUNTIF(R2686:T2686,6) -> 2 | R2686: =V2686 -> 1 | T2686: =IF(AND(X2686<>0,X2686<>S2686,X2686<>R2686),X2686,IF(AND(Y2686<>0,Y2686<>R2686,Y2686<>S2686),Y2686,IF(AND(Z2686<>0,Z2686<>R2686,Z2686<>S2686),Z2686,IF(AND(AA2686<>0,AA2686<>R2686,AA2686<>S2686),AA2686,"")))) -> 6 | V2686: =C2686 -> 1 | W2686: =IF(F2685="New","",C2685) -> 1 | X2686: =IF(F2684="New","",IF(F2685="New","",C2684)) -> 6 | Y2686: =IF(F2683="New","",IF(F2684="New","",IF(F2685="New","",C2683))) -> 4 | Z2686: =IF(F2682="New","",IF(F2683="New","",IF(F2684="New","",IF(F2685="New","",C2682)))) -> 4 | AA2686: =IF(F2681="New","",IF(F2682="New","",IF(F2683="New","",IF(F2684="New","",IF(F2685="New","",C2681))))) -> 2
B2687: =RANDBETWEEN(0,36) -> 4 | C2687: =IF(B2687="","",VLOOKUP(B2687,Tabelle2!$D$1:$E$37,2,0)) -> 1 | D2687: =IF(AND(I2687=3,OR(C2688=K2687,C2688=L2687,C2688=M2687)),"W",IF(AND(I2687=4,OR(C2688=K2687,C2688=L2687,C2688=M2687,C2688=N2687)),"W","L")) -> L | E2687: =IF(AND(F2686="l1",D2687="w"),"w",IF(F2686="l2","",IF(AND(J2687=1,I2687>=3),D2687,IF(J2687=1,"",D2687)))) -> L | F2687: =IF(AND(F2686="l1",I2687>3,D2687="l"),"L2",IF(I2687<3,"",IF(AND(D2687="l",I2687=3,F2686=""),"l1",IF(F2686="L2","New",IF(AND(D2687="l",D2686="w"),"L1",IF(AND(D2687="l",D2686="l",D2685="W"),"L2","")))))) -> l1 | G2687: =IF(AND(E2687="w",F2686="l1"),2,IF(E2687="",0,IF(AND(E2687="w",F2687=""),3,IF(AND(E2687="l",F2687="l1"),-3,IF(AND(E2687="l",F2687="l2"),-4))))) -> -3 | H2687: =H2686+G2687 -> -41 | I2687: =COUNTIF(K2687:N2687,1)+COUNTIF(K2687:N2687,2)+COUNTIF(K2687:N2687,3)+COUNTIF(K2687:N2687,4)+COUNTIF(K2687:N2687,5)+COUNTIF(K2687:N2687,6) -> 3 | J2687: =IF(OR(F2684="New",F2683="New",F2682="New",F2685="New",F2686="New",F2687="New"),1,"") | K2687: =IF(AND(F2686="New",P2687>=1),R2687,IF(AND(F2686="l1",I2686=3),K2686,IF(D2685="w",K2686,IF(D2686="w",K2686,IF(V2687<>0,V2687,IF(W2687<>0,W2687,IF(X2687<>0,X2687,IF(Y2687<>0,Y2687,IF(Z2687<>0,Z2687,IF(AA2687<>0,AA2687,"")))))))))) -> 3 | L2687: =IF(AND(F2686="New",P2687=1),"",IF(AND(F2686="New",P2687>=2),S2687,IF(AND(F2686="l1",I2686=3),L2686,IF(D2685="w",L2686,IF(D2686="w",L2686,IF(F2686="l1",L2686,IF(AND(W2687<>0,W2687<>K2687),W2687,IF(AND(X2687<>0,X2687<>K2687),X2687,IF(AND(Y2687<>0,Y2687<>K2687),Y2687,IF(AND(Z2687<>0,Z2687<>K2687),Z2687,IF(AND(AA2687<>0,AA2687<>K2687),AA2687))))))))))) -> 5 | M2687: =IF(AND(F2686="New",P2687=1),"",IF(AND(F2686="New",P2687=2),"",IF(AND(F2686="New",P2687=3),T2687,IF(AND(F2686="l1",I2686=3),M2686,IF(D2685="w",M2686,IF(D2686="w",M2686,IF(AND(X2687<>0,X2687<>K2687,X2687<>L2687),X2687,IF(AND(Y2687<>0,Y2687<>K2687,Y2687<>L2687),Y2687,IF(AND(Z2687<>0,Z2687<>K2687,Z2687<>L2687),Z2687,IF(AND(AA2687<>0,AA2687<>K2687,AA2687<>L2687),AA2687,"")))))))))) -> 1 | N2687: =IF(N2686<>"","",IF(AND(R2687<>K2687,R2687<>L2687,R2687<>M2687,R2687<>0),R2687,"")) | P2687: =COUNTIF(R2687:T2687,1)+COUNTIF(R2687:T2687,2)+COUNTIF(R2687:T2687,3)+COUNTIF(R2687:T2687,4)+COUNTIF(R2687:T2687,5)+COUNTIF(R2687:T2687,6) -> 2 | R2687: =V2687 -> 1 | T2687: =IF(AND(X2687<>0,X2687<>S2687,X2687<>R2687),X2687,IF(AND(Y2687<>0,Y2687<>R2687,Y2687<>S2687),Y2687,IF(AND(Z2687<>0,Z2687<>R2687,Z2687<>S2687),Z2687,IF(AND(AA2687<>0,AA2687<>R2687,AA2687<>S2687),AA2687,"")))) -> 6 | V2687: =C2687 -> 1 | W2687: =IF(F2686="New","",C2686) -> 1 | X2687: =IF(F2685="New","",IF(F2686="New","",C2685)) -> 1 | Y2687: =IF(F2684="New","",IF(F2685="New","",IF(F2686="New","",C2684))) -> 6 | Z2687: =IF(F2683="New","",IF(F2684="New","",IF(F2685="New","",IF(F2686="New","",C2683)))) -> 4 | AA2687: =IF(F2682="New","",IF(F2683="New","",IF(F2684="New","",IF(F2685="New","",IF(F2686="New","",C2682))))) -> 4
B2688: =RANDBETWEEN(0,36) -> 11 | C2688: =IF(B2688="","",VLOOKUP(B2688,Tabelle2!$D$1:$E$37,2,0)) -> 2 | D2688: =IF(AND(I2688=3,OR(C2689=K2688,C2689=L2688,C2689=M2688)),"W",IF(AND(I2688=4,OR(C2689=K2688,C2689=L2688,C2689=M2688,C2689=N2688)),"W","L")) -> W | E2688: =IF(AND(F2687="l1",D2688="w"),"w",IF(F2687="l2","",IF(AND(J2688=1,I2688>=3),D2688,IF(J2688=1,"",D2688)))) -> w | F2688: =IF(AND(F2687="l1",I2688>3,D2688="l"),"L2",IF(I2688<3,"",IF(AND(D2688="l",I2688=3,F2687=""),"l1",IF(F2687="L2","New",IF(AND(D2688="l",D2687="w"),"L1",IF(AND(D2688="l",D2687="l",D2686="W"),"L2","")))))) | G2688: =IF(AND(E2688="w",F2687="l1"),2,IF(E2688="",0,IF(AND(E2688="w",F2688=""),3,IF(AND(E2688="l",F2688="l1"),-3,IF(AND(E2688="l",F2688="l2"),-4))))) -> 2 | H2688: =H2687+G2688 -> -39 | I2688: =COUNTIF(K2688:N2688,1)+COUNTIF(K2688:N2688,2)+COUNTIF(K2688:N2688,3)+COUNTIF(K2688:N2688,4)+COUNTIF(K2688:N2688,5)+COUNTIF(K2688:N2688,6) -> 4 | J2688: =IF(OR(F2685="New",F2684="New",F2683="New",F2686="New",F2687="New",F2688="New"),1,"") | K2688: =IF(AND(F2687="New",P2688>=1),R2688,IF(AND(F2687="l1",I2687=3),K2687,IF(D2686="w",K2687,IF(D2687="w",K2687,IF(V2688<>0,V2688,IF(W2688<>0,W2688,IF(X2688<>0,X2688,IF(Y2688<>0,Y2688,IF(Z2688<>0,Z2688,IF(AA2688<>0,AA2688,"")))))))))) -> 3 | L2688: =IF(AND(F2687="New",P2688=1),"",IF(AND(F2687="New",P2688>=2),S2688,IF(AND(F2687="l1",I2687=3),L2687,IF(D2686="w",L2687,IF(D2687="w",L2687,IF(F2687="l1",L2687,IF(AND(W2688<>0,W2688<>K2688),W2688,IF(AND(X2688<>0,X2688<>K2688),X2688,IF(AND(Y2688<>0,Y2688<>K2688),Y2688,IF(AND(Z2688<>0,Z2688<>K2688),Z2688,IF(AND(AA2688<>0,AA2688<>K2688),AA2688))))))))))) -> 5 | M2688: =IF(AND(F2687="New",P2688=1),"",IF(AND(F2687="New",P2688=2),"",IF(AND(F2687="New",P2688=3),T2688,IF(AND(F2687="l1",I2687=3),M2687,IF(D2686="w",M2687,IF(D2687="w",M2687,IF(AND(X2688<>0,X2688<>K2688,X2688<>L2688),X2688,IF(AND(Y2688<>0,Y2688<>K2688,Y2688<>L2688),Y2688,IF(AND(Z2688<>0,Z2688<>K2688,Z2688<>L2688),Z2688,IF(AND(AA2688<>0,AA2688<>K2688,AA2688<>L2688),AA2688,"")))))))))) -> 1 | N2688: =IF(N2687<>"","",IF(AND(R2688<>K2688,R2688<>L2688,R2688<>M2688,R2688<>0),R2688,"")) -> 2 | P2688: =COUNTIF(R2688:T2688,1)+COUNTIF(R2688:T2688,2)+COUNTIF(R2688:T2688,3)+COUNTIF(R2688:T2688,4)+COUNTIF(R2688:T2688,5)+COUNTIF(R2688:T2688,6) -> 2 | R2688: =V2688 -> 2 | T2688: =IF(AND(X2688<>0,X2688<>S2688,X2688<>R2688),X2688,IF(AND(Y2688<>0,Y2688<>R2688,Y2688<>S2688),Y2688,IF(AND(Z2688<>0,Z2688<>R2688,Z2688<>S2688),Z2688,IF(AND(AA2688<>0,AA2688<>R2688,AA2688<>S2688),AA2688,"")))) -> 1 | V2688: =C2688 -> 2 | W2688: =IF(F2687="New","",C2687) -> 1 | X2688: =IF(F2686="New","",IF(F2687="New","",C2686)) -> 1 | Y2688: =IF(F2685="New","",IF(F2686="New","",IF(F2687="New","",C2685))) -> 1 | Z2688: =IF(F2684="New","",IF(F2685="New","",IF(F2686="New","",IF(F2687="New","",C2684)))) -> 6 | AA2688: =IF(F2683="New","",IF(F2684="New","",IF(F2685="New","",IF(F2686="New","",IF(F2687="New","",C2683))))) -> 4
B2689: =RANDBETWEEN(0,36) -> 11 | C2689: =IF(B2689="","",VLOOKUP(B2689,Tabelle2!$D$1:$E$37,2,0)) -> 2 | D2689: =IF(AND(I2689=3,OR(C2690=K2689,C2690=L2689,C2690=M2689)),"W",IF(AND(I2689=4,OR(C2690=K2689,C2690=L2689,C2690=M2689,C2690=N2689)),"W","L")) -> W | E2689: =IF(AND(F2688="l1",D2689="w"),"w",IF(F2688="l2","",IF(AND(J2689=1,I2689>=3),D2689,IF(J2689=1,"",D2689)))) -> W | F2689: =IF(AND(F2688="l1",I2689>3,D2689="l"),"L2",IF(I2689<3,"",IF(AND(D2689="l",I2689=3,F2688=""),"l1",IF(F2688="L2","New",IF(AND(D2689="l",D2688="w"),"L1",IF(AND(D2689="l",D2688="l",D2687="W"),"L2","")))))) | G2689: =IF(AND(E2689="w",F2688="l1"),2,IF(E2689="",0,IF(AND(E2689="w",F2689=""),3,IF(AND(E2689="l",F2689="l1"),-3,IF(AND(E2689="l",F2689="l2"),-4))))) -> 3 | H2689: =H2688+G2689 -> -36 | I2689: =COUNTIF(K2689:N2689,1)+COUNTIF(K2689:N2689,2)+COUNTIF(K2689:N2689,3)+COUNTIF(K2689:N2689,4)+COUNTIF(K2689:N2689,5)+COUNTIF(K2689:N2689,6) -> 3 | J2689: =IF(OR(F2686="New",F2685="New",F2684="New",F2687="New",F2688="New",F2689="New"),1,"") | K2689: =IF(AND(F2688="New",P2689>=1),R2689,IF(AND(F2688="l1",I2688=3),K2688,IF(D2687="w",K2688,IF(D2688="w",K2688,IF(V2689<>0,V2689,IF(W2689<>0,W2689,IF(X2689<>0,X2689,IF(Y2689<>0,Y2689,IF(Z2689<>0,Z2689,IF(AA2689<>0,AA2689,"")))))))))) -> 3 | L2689: =IF(AND(F2688="New",P2689=1),"",IF(AND(F2688="New",P2689>=2),S2689,IF(AND(F2688="l1",I2688=3),L2688,IF(D2687="w",L2688,IF(D2688="w",L2688,IF(F2688="l1",L2688,IF(AND(W2689<>0,W2689<>K2689),W2689,IF(AND(X2689<>0,X2689<>K2689),X2689,IF(AND(Y2689<>0,Y2689<>K2689),Y2689,IF(AND(Z2689<>0,Z2689<>K2689),Z2689,IF(AND(AA2689<>0,AA2689<>K2689),AA2689))))))))))) -> 5 | M2689: =IF(AND(F2688="New",P2689=1),"",IF(AND(F2688="New",P2689=2),"",IF(AND(F2688="New",P2689=3),T2689,IF(AND(F2688="l1",I2688=3),M2688,IF(D2687="w",M2688,IF(D2688="w",M2688,IF(AND(X2689<>0,X2689<>K2689,X2689<>L2689),X2689,IF(AND(Y2689<>0,Y2689<>K2689,Y2689<>L2689),Y2689,IF(AND(Z2689<>0,Z2689<>K2689,Z2689<>L2689),Z2689,IF(AND(AA2689<>0,AA2689<>K2689,AA2689<>L2689),AA2689,"")))))))))) -> 1 | N2689: =IF(N2688<>"","",IF(AND(R2689<>K2689,R2689<>L2689,R2689<>M2689,R2689<>0),R2689,"")) | P2689: =COUNTIF(R2689:T2689,1)+COUNTIF(R2689:T2689,2)+COUNTIF(R2689:T2689,3)+COUNTIF(R2689:T2689,4)+COUNTIF(R2689:T2689,5)+COUNTIF(R2689:T2689,6) -> 2 | R2689: =V2689 -> 2 | T2689: =IF(AND(X2689<>0,X2689<>S2689,X2689<>R2689),X2689,IF(AND(Y2689<>0,Y2689<>R2689,Y2689<>S2689),Y2689,IF(AND(Z2689<>0,Z2689<>R2689,Z2689<>S2689),Z2689,IF(AND(AA2689<>0,AA2689<>R2689,AA2689<>S2689),AA2689,"")))) -> 1 | V2689: =C2689 -> 2 | W2689: =IF(F2688="New","",C2688) -> 2 | X2689: =IF(F2687="New","",IF(F2688="New","",C2687)) -> 1 | Y2689: =IF(F2686="New","",IF(F2687="New","",IF(F2688="New","",C2686))) -> 1 | Z2689: =IF(F2685="New","",IF(F2686="New","",IF(F2687="New","",IF(F2688="New","",C2685)))) -> 1 | AA2689: =IF(F2684="New","",IF(F2685="New","",IF(F2686="New","",IF(F2687="New","",IF(F2688="New","",C2684))))) -> 6
B2690: =RANDBETWEEN(0,36) -> 3 | C2690: =IF(B2690="","",VLOOKUP(B2690,Tabelle2!$D$1:$E$37,2,0)) -> 1 | D2690: =IF(AND(I2690=3,OR(C2691=K2690,C2691=L2690,C2691=M2690)),"W",IF(AND(I2690=4,OR(C2691=K2690,C2691=L2690,C2691=M2690,C2691=N2690)),"W","L")) -> L | E2690: =IF(AND(F2689="l1",D2690="w"),"w",IF(F2689="l2","",IF(AND(J2690=1,I2690>=3),D2690,IF(J2690=1,"",D2690)))) -> L | F2690: =IF(AND(F2689="l1",I2690>3,D2690="l"),"L2",IF(I2690<3,"",IF(AND(D2690="l",I2690=3,F2689=""),"l1",IF(F2689="L2","New",IF(AND(D2690="l",D2689="w"),"L1",IF(AND(D2690="l",D2689="l",D2688="W"),"L2","")))))) -> l1 | G2690: =IF(AND(E2690="w",F2689="l1"),2,IF(E2690="",0,IF(AND(E2690="w",F2690=""),3,IF(AND(E2690="l",F2690="l1"),-3,IF(AND(E2690="l",F2690="l2"),-4))))) -> -3 | H2690: =H2689+G2690 -> -39 | I2690: =COUNTIF(K2690:N2690,1)+COUNTIF(K2690:N2690,2)+COUNTIF(K2690:N2690,3)+COUNTIF(K2690:N2690,4)+COUNTIF(K2690:N2690,5)+COUNTIF(K2690:N2690,6) -> 3 | J2690: =IF(OR(F2687="New",F2686="New",F2685="New",F2688="New",F2689="New",F2690="New"),1,"") | K2690: =IF(AND(F2689="New",P2690>=1),R2690,IF(AND(F2689="l1",I2689=3),K2689,IF(D2688="w",K2689,IF(D2689="w",K2689,IF(V2690<>0,V2690,IF(W2690<>0,W2690,IF(X2690<>0,X2690,IF(Y2690<>0,Y2690,IF(Z2690<>0,Z2690,IF(AA2690<>0,AA2690,"")))))))))) -> 3 | L2690: =IF(AND(F2689="New",P2690=1),"",IF(AND(F2689="New",P2690>=2),S2690,IF(AND(F2689="l1",I2689=3),L2689,IF(D2688="w",L2689,IF(D2689="w",L2689,IF(F2689="l1",L2689,IF(AND(W2690<>0,W2690<>K2690),W2690,IF(AND(X2690<>0,X2690<>K2690),X2690,IF(AND(Y2690<>0,Y2690<>K2690),Y2690,IF(AND(Z2690<>0,Z2690<>K2690),Z2690,IF(AND(AA2690<>0,AA2690<>K2690),AA2690))))))))))) -> 5 | M2690: =IF(AND(F2689="New",P2690=1),"",IF(AND(F2689="New",P2690=2),"",IF(AND(F2689="New",P2690=3),T2690,IF(AND(F2689="l1",I2689=3),M2689,IF(D2688="w",M2689,IF(D2689="w",M2689,IF(AND(X2690<>0,X2690<>K2690,X2690<>L2690),X2690,IF(AND(Y2690<>0,Y2690<>K2690,Y2690<>L2690),Y2690,IF(AND(Z2690<>0,Z2690<>K2690,Z2690<>L2690),Z2690,IF(AND(AA2690<>0,AA2690<>K2690,AA2690<>L2690),AA2690,"")))))))))) -> 1 | N2690: =IF(N2689<>"","",IF(AND(R2690<>K2690,R2690<>L2690,R2690<>M2690,R2690<>0),R2690,"")) | P2690: =COUNTIF(R2690:T2690,1)+COUNTIF(R2690:T2690,2)+COUNTIF(R2690:T2690,3)+COUNTIF(R2690:T2690,4)+COUNTIF(R2690:T2690,5)+COUNTIF(R2690:T2690,6) -> 2 | R2690: =V2690 -> 1 | T2690: =IF(AND(X2690<>0,X2690<>S2690,X2690<>R2690),X2690,IF(AND(Y2690<>0,Y2690<>R2690,Y2690<>S2690),Y2690,IF(AND(Z2690<>0,Z2690<>R2690,Z2690<>S2690),Z2690,IF(AND(AA2690<>0,AA2690<>R2690,AA2690<>S2690),AA2690,"")))) -> 2 | V2690: =C2690 -> 1 | W2690: =IF(F2689="New","",C2689) -> 2 | X2690: =IF(F2688="New","",IF(F2689="New","",C2688)) -> 2 | Y2690: =IF(F2687="New","",IF(F2688="New","",IF(F2689="New","",C2687))) -> 1 | Z2690: =IF(F2686="New","",IF(F2687="New","",IF(F2688="New","",IF(F2689="New","",C2686)))) -> 1 | AA2690: =IF(F2685="New","",IF(F2686="New","",IF(F2687="New","",IF(F2688="New","",IF(F2689="New","",C2685))))) -> 1
B2691: =RANDBETWEEN(0,36) -> 0 | C2691: =IF(B2691="","",VLOOKUP(B2691,Tabelle2!$D$1:$E$37,2,0)) -> 0 | D2691: =IF(AND(I2691=3,OR(C2692=K2691,C2692=L2691,C2692=M2691)),"W",IF(AND(I2691=4,OR(C2692=K2691,C2692=L2691,C2692=M2691,C2692=N2691)),"W","L")) -> W | E2691: =IF(AND(F2690="l1",D2691="w"),"w",IF(F2690="l2","",IF(AND(J2691=1,I2691>=3),D2691,IF(J2691=1,"",D2691)))) -> w | F2691: =IF(AND(F2690="l1",I2691>3,D2691="l"),"L2",IF(I2691<3,"",IF(AND(D2691="l",I2691=3,F2690=""),"l1",IF(F2690="L2","New",IF(AND(D2691="l",D2690="w"),"L1",IF(AND(D2691="l",D2690="l",D2689="W"),"L2","")))))) | G2691: =IF(AND(E2691="w",F2690="l1"),2,IF(E2691="",0,IF(AND(E2691="w",F2691=""),3,IF(AND(E2691="l",F2691="l1"),-3,IF(AND(E2691="l",F2691="l2"),-4))))) -> 2 | H2691: =H2690+G2691 -> -37 | I2691: =COUNTIF(K2691:N2691,1)+COUNTIF(K2691:N2691,2)+COUNTIF(K2691:N2691,3)+COUNTIF(K2691:N2691,4)+COUNTIF(K2691:N2691,5)+COUNTIF(K2691:N2691,6) -> 3 | J2691: =IF(OR(F2688="New",F2687="New",F2686="New",F2689="New",F2690="New",F2691="New"),1,"") | K2691: =IF(AND(F2690="New",P2691>=1),R2691,IF(AND(F2690="l1",I2690=3),K2690,IF(D2689="w",K2690,IF(D2690="w",K2690,IF(V2691<>0,V2691,IF(W2691<>0,W2691,IF(X2691<>0,X2691,IF(Y2691<>0,Y2691,IF(Z2691<>0,Z2691,IF(AA2691<>0,AA2691,"")))))))))) -> 3 | L2691: =IF(AND(F2690="New",P2691=1),"",IF(AND(F2690="New",P2691>=2),S2691,IF(AND(F2690="l1",I2690=3),L2690,IF(D2689="w",L2690,IF(D2690="w",L2690,IF(F2690="l1",L2690,IF(AND(W2691<>0,W2691<>K2691),W2691,IF(AND(X2691<>0,X2691<>K2691),X2691,IF(AND(Y2691<>0,Y2691<>K2691),Y2691,IF(AND(Z2691<>0,Z2691<>K2691),Z2691,IF(AND(AA2691<>0,AA2691<>K2691),AA2691))))))))))) -> 5 | M2691: =IF(AND(F2690="New",P2691=1),"",IF(AND(F2690="New",P2691=2),"",IF(AND(F2690="New",P2691=3),T2691,IF(AND(F2690="l1",I2690=3),M2690,IF(D2689="w",M2690,IF(D2690="w",M2690,IF(AND(X2691<>0,X2691<>K2691,X2691<>L2691),X2691,IF(AND(Y2691<>0,Y2691<>K2691,Y2691<>L2691),Y2691,IF(AND(Z2691<>0,Z2691<>K2691,Z2691<>L2691),Z2691,IF(AND(AA2691<>0,AA2691<>K2691,AA2691<>L2691),AA2691,"")))))))))) -> 1 | N2691: =IF(N2690<>"","",IF(AND(R2691<>K2691,R2691<>L2691,R2691<>M2691,R2691<>0),R2691,"")) | P2691: =COUNTIF(R2691:T2691,1)+COUNTIF(R2691:T2691,2)+COUNTIF(R2691:T2691,3)+COUNTIF(R2691:T2691,4)+COUNTIF(R2691:T2691,5)+COUNTIF(R2691:T2691,6) -> 1 | R2691: =V2691 -> 0 | T2691: =IF(AND(X2691<>0,X2691<>S2691,X2691<>R2691),X2691,IF(AND(Y2691<>0,Y2691<>R2691,Y2691<>S2691),Y2691,IF(AND(Z2691<>0,Z2691<>R2691,Z2691<>S2691),Z2691,IF(AND(AA2691<>0,AA2691<>R2691,AA2691<>S2691),AA2691,"")))) -> 2 | V2691: =C2691 -> 0 | W2691: =IF(F2690="New","",C2690) -> 1 | X2691: =IF(F2689="New","",IF(F2690="New","",C2689)) -> 2 | Y2691: =IF(F2688="New","",IF(F2689="New","",IF(F2690="New","",C2688))) -> 2 | Z2691: =IF(F2687="New","",IF(F2688="New","",IF(F2689="New","",IF(F2690="New","",C2687)))) -> 1 | AA2691: =IF(F2686="New","",IF(F2687="New","",IF(F2688="New","",IF(F2689="New","",IF(F2690="New","",C2686))))) -> 1
... B4086: =RANDBETWEEN(0,36) -> 12 | C4086: =IF(B4086="","",VLOOKUP(B4086,Tabelle2!$D$1:$E$37,2,0)) -> 2 | D4086: =IF(AND(I4086=3,OR(C4087=K4086,C4087=L4086,C4087=M4086)),"W",IF(AND(I4086=4,OR(C4087=K4086,C4087=L4086,C4087=M4086,C4087=N4086)),"W","L")) -> L | E4086: =IF(AND(F4085="l1",D4086="w"),"w",IF(F4085="l2","",IF(AND(J4086=1,I4086>=3),D4086,IF(J4086=1,"",D4086)))) -> L | F4086: =IF(AND(F4085="l1",I4086>3,D4086="l"),"L2",IF(I4086<3,"",IF(AND(D4086="l",I4086=3,F4085=""),"l1",IF(F4085="L2","New",IF(AND(D4086="l",D4085="w"),"L1",IF(AND(D4086="l",D4085="l",D4084="W"),"L2","")))))) -> l1 | G4086: =IF(AND(E4086="w",F4085="l1"),2,IF(E4086="",0,IF(AND(E4086="w",F4086=""),3,IF(AND(E4086="l",F4086="l1"),-3,IF(AND(E4086="l",F4086="l2"),-4))))) -> -3 | H4086: =H4085+G4086 -> -163 | I4086: =COUNTIF(K4086:N4086,1)+COUNTIF(K4086:N4086,2)+COUNTIF(K4086:N4086,3)+COUNTIF(K4086:N4086,4)+COUNTIF(K4086:N4086,5)+COUNTIF(K4086:N4086,6) -> 3 | J4086: =IF(OR(F4083="New",F4082="New",F4081="New",F4084="New",F4085="New",F4086="New"),1,"") -> 1 | K4086: =IF(AND(F4085="New",P4086>=1),R4086,IF(AND(F4085="l1",I4085=3),K4085,IF(D4084="w",K4085,IF(D4085="w",K4085,IF(V4086<>0,V4086,IF(W4086<>0,W4086,IF(X4086<>0,X4086,IF(Y4086<>0,Y4086,IF(Z4086<>0,Z4086,IF(AA4086<>0,AA4086,"")))))))))) -> 2 | L4086: =IF(AND(F4085="New",P4086=1),"",IF(AND(F4085="New",P4086>=2),S4086,IF(AND(F4085="l1",I4085=3),L4085,IF(D4084="w",L4085,IF(D4085="w",L4085,IF(F4085="l1",L4085,IF(AND(W4086<>0,W4086<>K4086),W4086,IF(AND(X4086<>0,X4086<>K4086),X4086,IF(AND(Y4086<>0,Y4086<>K4086),Y4086,IF(AND(Z4086<>0,Z4086<>K4086),Z4086,IF(AND(AA4086<>0,AA4086<>K4086),AA4086))))))))))) -> 6 | M4086: =IF(AND(F4085="New",P4086=1),"",IF(AND(F4085="New",P4086=2),"",IF(AND(F4085="New",P4086=3),T4086,IF(AND(F4085="l1",I4085=3),M4085,IF(D4084="w",M4085,IF(D4085="w",M4085,IF(AND(X4086<>0,X4086<>K4086,X4086<>L4086),X4086,IF(AND(Y4086<>0,Y4086<>K4086,Y4086<>L4086),Y4086,IF(AND(Z4086<>0,Z4086<>K4086,Z4086<>L4086),Z4086,IF(AND(AA4086<>0,AA4086<>K4086,AA4086<>L4086),AA4086,"")))))))))) -> 5 | N4086: =IF(N4085<>"","",IF(AND(R4086<>K4086,R4086<>L4086,R4086<>M4086,R4086<>0),R4086,"")) | P4086: =COUNTIF(R4086:T4086,1)+COUNTIF(R4086:T4086,2)+COUNTIF(R4086:T4086,3)+COUNTIF(R4086:T4086,4)+COUNTIF(R4086:T4086,5)+COUNTIF(R4086:T4086,6) -> 2 | R4086: =V4086 -> 2 | T4086: =IF(AND(X4086<>0,X4086<>S4086,X4086<>R4086),X4086,IF(AND(Y4086<>0,Y4086<>R4086,Y4086<>S4086),Y4086,IF(AND(Z4086<>0,Z4086<>R4086,Z4086<>S4086),Z4086,IF(AND(AA4086<>0,AA4086<>R4086,AA4086<>S4086),AA4086,"")))) -> 5 | V4086: =C4086 -> 2 | W4086: =IF(F4085="New","",C4085) -> 6 | X4086: =IF(F4084="New","",IF(F4085="New","",C4084)) -> 0 | Y4086: =IF(F4083="New","",IF(F4084="New","",IF(F4085="New","",C4083))) -> 5 | Z4086: =IF(F4082="New","",IF(F4083="New","",IF(F4084="New","",IF(F4085="New","",C4082)))) | AA4086: =IF(F4081="New","",IF(F4082="New","",IF(F4083="New","",IF(F4084="New","",IF(F4085="New","",C4081)))))

Sheet Tabelle2
A1: 0 | B1: 0 | D1: 0 | E1: 0 | F1: 1 | H1: 1 | I1: 2
A2: 1 | B2: R | D2: 1 | E2: 1 | F2: 1 | H2: 2 | I2: 3
A3: 2 | B3: B | D3: 2 | E3: 1 | F3: 1 | H3: 3 | I3: 4
A4: 3 | B4: R | D4: 3 | E4: 1 | F4: 2 | H4: 4 | I4: 3
A5: 4 | B5: B | D5: 4 | E5: 1 | F5: 2 | H5: 5 | I5: 4
A6: 5 | B6: R | D6: 5 | E6: 1 | F6: 3 | H6: 6 | I6: 4
A7: 6 | B7: B | D7: 6 | E7: 1
A8: 7 | B8: R | D8: 7 | E8: 2
A9: 8 | B9: B | D9: 8 | E9: 2
A10: 9 | B10: R | D10: 9 | E10: 2
A11: 10 | B11: B | D11: 10 | E11: 2
A12: 11 | B12: B | D12: 11 | E12: 2
A13: 12 | B13: R | D13: 12 | E13: 2
A14: 13 | B14: B | D14: 13 | E14: 3
A15: 14 | B15: R | D15: 14 | E15: 3
A16: 15 | B16: B | D16: 15 | E16: 3
A17: 16 | B17: R | D17: 16 | E17: 3
A18: 17 | B18: B | D18: 17 | E18: 3
... A37: 36 | B37: R | D37: 36 | E37: 6

Sheet Tabelle3
A1: 4
A2: 5
A3: 2
A5: 6 | B5: L
A6: 2 | B6: W
A7: 2 | B7: W
A8: 4 | B8: W
A9: 1 | B9: L
A10: 5 | B10: W
A11: 5 | B11: W
A12: 4 | B12: W
A13: 3 | B13: L
A14: 2 | B14: W
A15: 4 | B15: W
A16: 4 | B16: W
... A29: 6 | B29: L
A30: 5
A31: 5
A32: 3
A33: 3
A34: 4
A35: 3
A36: 6
A37: 6
A38: 3
A39: 3
A40: 3
A41: 3
... A301: 3
