Workbook
Name DB5200__1: ORIGINAL!$A$1:$A$220
Name DB5200__1: Sheet1!$A$1:$A$220

Sheet Sheet1
D1: Distance | F1: x | G1: 0 | H1: 1 | I1: 2 | J1: 3 | K1: 4 | L1: 5 | M1: 6 | N1: 7 | O1: 8 | P1: 9 | Q1: 10 | R1: 11 | S1: 12 | T1: 13 | U1: 14 | V1: 15 | W1: 16 | X1: 17 | Y1: 18 | Z1: 19 | AA1: 20 | AB1: 21 | AC1: 22 | AD1: 23 | AE1: 24 | AF1: 25 | AG1: 26 | AH1: 27 | AI1: 28 | AJ1: 29 | AK1: 30 | AL1: 31 | AM1: 32 | AN1: 33 | AO1: 34 | AP1: 35 | AQ1: 36 | AR1: x
A2: 1 | F2: 0 | G2: 0 | H2: 14 | I2: 6 | J2: 2 | K2: 4 | L2: 18 | M2: 10 | N2: 6 | O2: 16 | P2: 10 | Q2: 18 | R2: 14 | S2: 4 | T2: 12 | U2: 12 | V2: 2 | W2: 16 | X2: 8 | Y2: 8 | Z2: 3 | AA2: 13 | AB2: 5 | AC2: 9 | AD2: 17 | AE2: 17 | AF2: 7 | AG2: 1 | AH2: 11 | AI2: 5 | AJ2: 7 | AK2: 15 | AL2: 11 | AM2: 1 | AN2: 15 | AO2: 9 | AP2: 3 | AQ2: 13 | AR2: 0 | AT2: THREE | AU2: W/L | BB2: four | BC2: wl | BJ2: five | BR2: SIX | BS2: W/L | BZ2: seven | CH2: eight | CP2: NINE | CQ2: w/l | CX2: ten | DF2: eleven | DN2: twelve | DV2: thirteen
A3: 22 | C3: =VLOOKUP(A2,$F$1:$AQ$39,A3+2) -> 5 | D3: =IF(ISNA(C3),0,C3) -> 5 | F3: 1 | G3: 14 | H3: 0 | I3: 17 | J3: 12 | K3: 18 | L3: 4 | M3: 13 | N3: 8 | O3: 7 | P3: 4 | Q3: 5 | R3: 9 | S3: 10 | T3: 11 | U3: 2 | V3: 16 | W3: 2 | X3: 15 | Y3: 6 | Z3: 17 | AA3: 1 | AB3: 18 | AC3: 5 | AD3: 6 | AE3: 3 | AF3: 16 | AG3: 13 | AH3: 12 | AI3: 9 | AJ3: 7 | AK3: 8 | AL3: 3 | AM3: 15 | AN3: 1 | AO3: 14 | AP3: 11 | AQ3: 10 | AR3: 1 | AS3: =IF(AND(D3>0,D3<=6),1,IF(AND(D3>6,D3<=12),2,IF(AND(D3>12,D3<=18),3,IF(AND(D3>18,D3<=24),-3,IF(AND(D3>24,D3<=30),-2,IF(AND(D3>30,D3<=36),-1,0)))))) -> 1 | DO3: w/l | EG3: Three | EI3: =COUNTIF(AU6:AU524,"0") -> 9 | EN3: =COUNTIF(AU6:AU524,">=0") -> 20 | EO3: =EI3/EN3 -> 0.45
A4: 34 | C4: =VLOOKUP(A3,$F$1:$AQ$39,A4+2) -> 18 | D4: =IF(ISNA(C4),0,C4) -> 18 | F4: 2 | G4: 6 | H4: 17 | I4: 0 | J4: 8 | K4: 2 | L4: 13 | M4: 4 | N4: 12 | O4: 10 | P4: 16 | Q4: 12 | R4: 8 | S4: 10 | T4: 6 | U4: 18 | V4: 4 | W4: 15 | X4: 2 | Y4: 14 | Z4: 3 | AA4: 18 | AB4: 1 | AC4: 15 | AD4: 11 | AE4: 14 | AF4: 1 | AG4: 7 | AH4: 5 | AI4: 11 | AJ4: 13 | AK4: 9 | AL4: 17 | AM4: 5 | AN4: 16 | AO4: 3 | AP4: 9 | AQ4: 7 | AR4: 2 | AS4: =IF(AND(D4>0,D4<=6),1,IF(AND(D4>6,D4<=12),2,IF(AND(D4>12,D4<=18),3,IF(AND(D4>18,D4<=24),-3,IF(AND(D4>24,D4<=30),-2,IF(AND(D4>30,D4<=36),-1,0)))))) -> 3 | EG4: FOUR | EI4: =COUNTIF(BC7:BC524,"0") -> 12 | EN4: =COUNTIF(BC7:BC524,">=0") -> 25 | EO4: =EI4/EN4 -> 0.48
A5: 8 | C5: =VLOOKUP(A4,$F$1:$AQ$39,A5+2) -> 7 | D5: =IF(ISNA(C5),0,C5) -> 7 | F5: 3 | G5: 2 | H5: 12 | I5: 8 | J5: 0 | K5: 6 | L5: 16 | M5: 12 | N5: 4 | O5: 18 | P5: 8 | Q5: 17 | R5: 16 | S5: 2 | T5: 14 | U5: 10 | V5: 4 | W5: 14 | X5: 10 | Y5: 6 | Z5: 5 | AA5: 11 | AB5: 7 | AC5: 7 | AD5: 18 | AE5: 15 | AF5: 9 | AG5: 1 | AH5: 13 | AI5: 3 | AJ5: 5 | AK5: 17 | AL5: 9 | AM5: 3 | AN5: 13 | AO5: 11 | AP5: 1 | AQ5: 15 | AR5: 3 | AS5: =IF(AND(D5>0,D5<=6),1,IF(AND(D5>6,D5<=12),2,IF(AND(D5>12,D5<=18),3,IF(AND(D5>18,D5<=24),-3,IF(AND(D5>24,D5<=30),-2,IF(AND(D5>30,D5<=36),-1,0)))))) -> 2 | AT5: =MODE(AS3:AS5) -> #N/A | EG5: FIVE | EI5: =COUNTIF(BK8:BK524,"0") -> 10 | EN5: =COUNTIF(BK8:BK524,">=0") -> 24 | EO5: =EI5/EN5 -> 0.41666667
A6: 20 | C6: =VLOOKUP(A5,$F$1:$AQ$39,A6+2) -> 8 | D6: =IF(ISNA(C6),0,C6) -> 8 | F6: 4 | G6: 4 | H6: 18 | I6: 2 | J6: 6 | K6: 0 | L6: 15 | M6: 6 | N6: 10 | O6: 12 | P6: 14 | Q6: 14 | R6: 10 | S6: 8 | T6: 8 | U6: 16 | V6: 2 | W6: 17 | X6: 4 | Y6: 12 | Z6: 1 | AA6: 17 | AB6: 1 | AC6: 13 | AD6: 13 | AE6: 16 | AF6: 3 | AG6: 5 | AH6: 7 | AI6: 9 | AJ6: 11 | AK6: 11 | AL6: 15 | AM6: 3 | AN6: 18 | AO6: 5 | AP6: 7 | AQ6: 9 | AR6: 4 | AS6: =IF(AND(D6>0,D6<=6),1,IF(AND(D6>6,D6<=12),2,IF(AND(D6>12,D6<=18),3,IF(AND(D6>18,D6<=24),-3,IF(AND(D6>24,D6<=30),-2,IF(AND(D6>30,D6<=36),-1,0)))))) -> 2 | AT6: =MODE(AS4:AS6) -> 2 | AU6: =ABS(AS6-AT5) -> #N/A | BB6: =MODE(AS3:AS6) -> 2 | EG6: Six | EI6: =COUNTIF(BS9:BS524,"0") -> 9 | EN6: =COUNTIF(BS9:BS524,">=0") -> 23 | EO6: =EI6/EN6 -> 0.39130435
A7: 29 | C7: =VLOOKUP(A6,$F$1:$AQ$39,A7+2) -> 6 | D7: =IF(ISNA(C7),0,C7) -> 6 | F7: 5 | G7: 18 | H7: 4 | I7: 13 | J7: 16 | K7: 15 | L7: 0 | M7: 9 | N7: 12 | O7: 3 | P7: 8 | Q7: 1 | R7: 5 | S7: 14 | T7: 7 | U7: 6 | V7: 17 | W7: 2 | X7: 11 | Y7: 10 | Z7: 16 | AA7: 5 | AB7: 14 | AC7: 9 | AD7: 2 | AE7: 1 | AF7: 12 | AG7: 17 | AH7: 8 | AI7: 13 | AJ7: 11 | AK7: 4 | AL7: 7 | AM7: 18 | AN7: 3 | AO7: 10 | AP7: 15 | AQ7: 6 | AR7: 5 | AS7: =IF(AND(D7>0,D7<=6),1,IF(AND(D7>6,D7<=12),2,IF(AND(D7>12,D7<=18),3,IF(AND(D7>18,D7<=24),-3,IF(AND(D7>24,D7<=30),-2,IF(AND(D7>30,D7<=36),-1,0)))))) -> 1 | AT7: =MODE(AS5:AS7) -> 2 | AU7: =ABS(AS7-AT6) -> 1 | BB7: =MODE(AS4:AS7) -> 2 | BC7: =ABS(AS7-BB6) -> 1 | BJ7: =MODE(AS3:AS7) -> 1 | EG7: SEVEN | EI7: =COUNTIF(CA10:CA524,"0") -> 7 | EN7: =COUNTIF(CA10:CA524,">=0") -> 22 | EO7: =EI7/EN7 -> 0.31818182
A8: 33 | C8: =VLOOKUP(A7,$F$1:$AQ$39,A8+2) -> 8 | D8: =IF(ISNA(C8),0,C8) -> 8 | F8: 6 | G8: 10 | H8: 13 | I8: 4 | J8: 12 | K8: 6 | L8: 9 | M8: 0 | N8: 16 | O8: 6 | P8: 17 | Q8: 8 | R8: 4 | S8: 14 | T8: 2 | U8: 15 | V8: 8 | W8: 11 | X8: 2 | Y8: 18 | Z8: 7 | AA8: 14 | AB8: 5 | AC8: 18 | AD8: 7 | AE8: 10 | AF8: 3 | AG8: 11 | AH8: 1 | AI8: 15 | AJ8: 17 | AK8: 5 | AL8: 16 | AM8: 9 | AN8: 12 | AO8: 1 | AP8: 13 | AQ8: 3 | AR8: 6 | AS8: =IF(AND(D8>0,D8<=6),1,IF(AND(D8>6,D8<=12),2,IF(AND(D8>12,D8<=18),3,IF(AND(D8>18,D8<=24),-3,IF(AND(D8>24,D8<=30),-2,IF(AND(D8>30,D8<=36),-1,0)))))) -> 2 | AT8: =MODE(AS6:AS8) -> 2 | AU8: =ABS(AS8-AT7) -> 0 | BB8: =MODE(AS5:AS8) -> 2 | BC8: =ABS(AS8-BB7) -> 0 | BJ8: =MODE(AS4:AS8) -> 2 | BK8: =ABS(AS8-BJ7) -> 1 | BR8: =MODE(AS3:AS8) -> 2 | EG8: Eight | EI8: =COUNTIF(CI11:CI524,"0") -> 8 | EN8: =COUNTIF(CI11:CI524,">=0") -> 21 | EO8: =EI8/EN8 -> 0.38095238
A9: 29 | C9: =VLOOKUP(A8,$F$1:$AQ$39,A9+2) -> 8 | D9: =IF(ISNA(C9),0,C9) -> 8 | F9: 7 | G9: 6 | H9: 8 | I9: 12 | J9: 4 | K9: 10 | L9: 12 | M9: 16 | N9: 0 | O9: 15 | P9: 4 | Q9: 13 | R9: 17 | S9: 2 | T9: 18 | U9: 6 | V9: 8 | W9: 10 | X9: 14 | Y9: 2 | Z9: 9 | AA9: 7 | AB9: 11 | AC9: 3 | AD9: 14 | AE9: 11 | AF9: 13 | AG9: 5 | AH9: 17 | AI9: 1 | AJ9: 1 | AK9: 16 | AL9: 5 | AM9: 7 | AN9: 9 | AO9: 15 | AP9: 3 | AQ9: 19 | AR9: 7 | AS9: =IF(AND(D9>0,D9<=6),1,IF(AND(D9>6,D9<=12),2,IF(AND(D9>12,D9<=18),3,IF(AND(D9>18,D9<=24),-3,IF(AND(D9>24,D9<=30),-2,IF(AND(D9>30,D9<=36),-1,0)))))) -> 2 | AT9: =MODE(AS7:AS9) -> 2 | AU9: =ABS(AS9-AT8) -> 0 | BB9: =MODE(AS6:AS9) -> 2 | BC9: =ABS(AS9-BB8) -> 0 | BJ9: =MODE(AS5:AS9) -> 2 | BK9: =ABS(AS9-BJ8) -> 0 | BR9: =MODE(AS4:AS9) -> 2 | BS9: =ABS(AS9-BR8) -> 0 | BZ9: =MODE(AS3:AS9) -> 2 | EG9: nine | EI9: =COUNTIF(CQ12:CQ524,"0") -> 8 | EN9: =COUNTIF(CQ12:CQ524,">=0") -> 20 | EO9: =EI9/EN9 -> 0.4
A10: 24 | C10: =VLOOKUP(A9,$F$1:$AQ$39,A10+2) -> 10 | D10: =IF(ISNA(C10),0,C10) -> 10 | F10: 8 | G10: 16 | H10: 7 | I10: 10 | J10: 18 | K10: 12 | L10: 3 | M10: 6 | N10: 15 | O10: 0 | P10: 11 | Q10: 2 | R10: 2 | S10: 17 | T10: 4 | U10: 9 | V10: 14 | W10: 5 | X10: 8 | Y10: 13 | Z10: 13 | AA10: 8 | AB10: 11 | AC10: 12 | AD10: 1 | AE10: 4 | AF10: 9 | AG10: 17 | AH10: 5 | AI10: 16 | AJ10: 14 | AK10: 1 | AL10: 10 | AM10: 15 | AN10: 6 | AO10: 7 | AP10: 18 | AQ10: 3 | AR10: 8 | AS10: =IF(AND(D10>0,D10<=6),1,IF(AND(D10>6,D10<=12),2,IF(AND(D10>12,D10<=18),3,IF(AND(D10>18,D10<=24),-3,IF(AND(D10>24,D10<=30),-2,IF(AND(D10>30,D10<=36),-1,0)))))) -> 2 | AT10: =MODE(AS8:AS10) -> 2 | AU10: =ABS(AS10-AT9) -> 0 | BB10: =MODE(AS7:AS10) -> 2 | BC10: =ABS(AS10-BB9) -> 0 | BJ10: =MODE(AS6:AS10) -> 2 | BK10: =ABS(AS10-BJ9) -> 0 | BR10: =MODE(AS5:AS10) -> 2 | BS10: =ABS(AS10-BR9) -> 0 | BZ10: =MODE(AS4:AS10) -> 2 | CA10: =ABS(AS10-BZ9) -> 0 | CH10: =MODE(AS3:AS10) -> 2 | EG10: ten | EI10: =COUNTIF(CY13:CY524,"0") -> 7 | EN10: =COUNTIF(CY13:CY524,">=0") -> 19 | EO10: =EI10/EN10 -> 0.36842105
A11: 15 | C11: =VLOOKUP(A10,$F$1:$AQ$39,A11+2) -> 18 | D11: =IF(ISNA(C11),0,C11) -> 18 | F11: 9 | G11: 10 | H11: 4 | I11: 16 | J11: 8 | K11: 14 | L11: 8 | M11: 17 | N11: 4 | O11: 11 | P11: 0 | Q11: 9 | R11: 13 | S11: 6 | T11: 15 | U11: 2 | V11: 12 | W11: 6 | X11: 18 | Y11: 2 | Z11: 13 | AA11: 3 | AB11: 15 | AC11: 1 | AD11: 10 | AE11: 7 | AF11: 17 | AG11: 9 | AH11: 16 | AI11: 5 | AJ11: 3 | AK11: 12 | AL11: 1 | AM11: 11 | AN11: 5 | AO11: 18 | AP11: 7 | AQ11: 14 | AR11: 9 | AS11: =IF(AND(D11>0,D11<=6),1,IF(AND(D11>6,D11<=12),2,IF(AND(D11>12,D11<=18),3,IF(AND(D11>18,D11<=24),-3,IF(AND(D11>24,D11<=30),-2,IF(AND(D11>30,D11<=36),-1,0)))))) -> 3 | AT11: =MODE(AS9:AS11) -> 2 | AU11: =ABS(AS11-AT10) -> 1 | BB11: =MODE(AS8:AS11) -> 2 | BC11: =ABS(AS11-BB10) -> 1 | BJ11: =MODE(AS7:AS11) -> 2 | BK11: =ABS(AS11-BJ10) -> 1 | BR11: =MODE(AS6:AS11) -> 2 | BS11: =ABS(AS11-BR10) -> 1 | BZ11: =MODE(AS5:AS11) -> 2 | CA11: =ABS(AS11-BZ10) -> 1 | CH11: =MODE(AS4:AS11) -> 2 | CI11: =ABS(AS11-CH10) -> 1 | CP11: =MODE(AS3:AS11) -> 2 | EG11: eleven | EI11: =COUNTIF(DG14:DG524,"0") -> 6 | EN11: =COUNTIF(DG14:DG524,">=0") -> 18 | EO11: =EI11/EN11 -> 0.33333333
A12: 18 | C12: =VLOOKUP(A11,$F$1:$AQ$39,A12+2) -> 10 | D12: =IF(ISNA(C12),0,C12) -> 10 | F12: 10 | G12: 18 | H12: 5 | I12: 12 | J12: 17 | K12: 14 | L12: 1 | M12: 8 | N12: 13 | O12: 2 | P12: 9 | Q12: 0 | R12: 4 | S12: 15 | T12: 6 | U12: 7 | V12: 16 | W12: 3 | X12: 10 | Y12: 11 | Z12: 15 | AA12: 6 | AB12: 13 | AC12: 10 | AD12: 1 | AE12: 2 | AF12: 11 | AG12: 18 | AH12: 7 | AI12: 14 | AJ12: 12 | AK12: 3 | AL12: 8 | AM12: 17 | AN12: 4 | AO12: 9 | AP12: 16 | AQ12: 5 | AR12: 10 | AS12: =IF(AND(D12>0,D12<=6),1,IF(AND(D12>6,D12<=12),2,IF(AND(D12>12,D12<=18),3,IF(AND(D12>18,D12<=24),-3,IF(AND(D12>24,D12<=30),-2,IF(AND(D12>30,D12<=36),-1,0)))))) -> 2 | AT12: =MODE(AS10:AS12) -> 2 | AU12: =ABS(AS12-AT11) -> 0 | BB12: =MODE(AS9:AS12) -> 2 | BC12: =ABS(AS12-BB11) -> 0 | BJ12: =MODE(AS8:AS12) -> 2 | BK12: =ABS(AS12-BJ11) -> 0 | BR12: =MODE(AS7:AS12) -> 2 | BS12: =ABS(AS12-BR11) -> 0 | BZ12: =MODE(AS6:AS12) -> 2 | CA12: =ABS(AS12-BZ11) -> 0 | CH12: =MODE(AS5:AS12) -> 2 | CI12: =ABS(AS12-CH11) -> 0 | CP12: =MODE(AS4:AS12) -> 2 | CQ12: =ABS(AS12-CP11) -> 0 | CX12: =MODE(AS3:AS12) -> 2 | EG12: twelve | EI12: =COUNTIF(DO15:DO524,"0") -> 5 | EN12: =COUNTIF(DO15:DO524,">=0") -> 17 | EO12: =EI12/EN12 -> 0.29411765
A13: 26 | C13: =VLOOKUP(A12,$F$1:$AQ$39,A13+2) -> 7 | D13: =IF(ISNA(C13),0,C13) -> 7 | F13: 11 | G13: 14 | H13: 9 | I13: 8 | J13: 16 | K13: 10 | L13: 5 | M13: 4 | N13: 17 | O13: 2 | P13: 13 | Q13: 4 | R13: 0 | S13: 18 | T13: 2 | U13: 11 | V13: 12 | W13: 7 | X13: 6 | Y13: 15 | Z13: 11 | AA13: 10 | AB13: 9 | AC13: 14 | AD13: 3 | AE13: 6 | AF13: 7 | AG13: 15 | AH13: 3 | AI13: 18 | AJ13: 16 | AK13: 1 | AL13: 12 | AM13: 13 | AN13: 8 | AO13: 5 | AP13: 17 | AQ13: 1 | AR13: 11 | AS13: =IF(AND(D13>0,D13<=6),1,IF(AND(D13>6,D13<=12),2,IF(AND(D13>12,D13<=18),3,IF(AND(D13>18,D13<=24),-3,IF(AND(D13>24,D13<=30),-2,IF(AND(D13>30,D13<=36),-1,0)))))) -> 2 | AT13: =MODE(AS11:AS13) -> 2 | AU13: =ABS(AS13-AT12) -> 0 | BB13: =MODE(AS10:AS13) -> 2 | BC13: =ABS(AS13-BB12) -> 0 | BJ13: =MODE(AS9:AS13) -> 2 | BK13: =ABS(AS13-BJ12) -> 0 | BR13: =MODE(AS8:AS13) -> 2 | BS13: =ABS(AS13-BR12) -> 0 | BZ13: =MODE(AS7:AS13) -> 2 | CA13: =ABS(AS13-BZ12) -> 0 | CH13: =MODE(AS6:AS13) -> 2 | CI13: =ABS(AS13-CH12) -> 0 | CP13: =MODE(AS5:AS13) -> 2 | CQ13: =ABS(AS13-CP12) -> 0 | CX13: =MODE(AS4:AS13) -> 2 | CY13: =ABS(AS13-CX12) -> 0 | DF13: =MODE(AS3:AS13) -> 2 | EG13: thirteen | EI13: =COUNTIF(DW16:DW524,"0") -> 6 | EN13: =COUNTIF(DW16:DW524,">=0") -> 16 | EO13: =EI13/EN13 -> 0.375
A14: 6 | C14: =VLOOKUP(A13,$F$1:$AQ$39,A14+2) -> 11 | D14: =IF(ISNA(C14),0,C14) -> 11 | F14: 12 | G14: 4 | H14: 10 | I14: 10 | J14: 2 | K14: 8 | L14: 14 | M14: 14 | N14: 2 | O14: 17 | P14: 6 | Q14: 15 | R14: 18 | S14: 0 | T14: 16 | U14: 8 | V14: 6 | W14: 12 | X14: 12 | Y14: 4 | Z14: 7 | AA14: 9 | AB14: 9 | AC14: 5 | AD14: 16 | AE14: 13 | AF14: 11 | AG14: 3 | AH14: 15 | AI14: 1 | AJ14: 3 | AK14: 18 | AL14: 7 | AM14: 5 | AN14: 11 | AO14: 13 | AP14: 1 | AQ14: 17 | AR14: 12 | AS14: =IF(AND(D14>0,D14<=6),1,IF(AND(D14>6,D14<=12),2,IF(AND(D14>12,D14<=18),3,IF(AND(D14>18,D14<=24),-3,IF(AND(D14>24,D14<=30),-2,IF(AND(D14>30,D14<=36),-1,0)))))) -> 2 | AT14: =MODE(AS12:AS14) -> 2 | AU14: =ABS(AS14-AT13) -> 0 | BB14: =MODE(AS11:AS14) -> 2 | BC14: =ABS(AS14-BB13) -> 0 | BJ14: =MODE(AS10:AS14) -> 2 | BK14: =ABS(AS14-BJ13) -> 0 | BR14: =MODE(AS9:AS14) -> 2 | BS14: =ABS(AS14-BR13) -> 0 | BZ14: =MODE(AS8:AS14) -> 2 | CA14: =ABS(AS14-BZ13) -> 0 | CH14: =MODE(AS7:AS14) -> 2 | CI14: =ABS(AS14-CH13) -> 0 | CP14: =MODE(AS6:AS14) -> 2 | CQ14: =ABS(AS14-CP13) -> 0 | CX14: =MODE(AS5:AS14) -> 2 | CY14: =ABS(AS14-CX13) -> 0 | DF14: =MODE(AS4:AS14) -> 2 | DG14: =ABS(AS14-DF13) -> 0 | DN14: =MODE(AS3:AS14) -> 2
A15: 6 | C15: =VLOOKUP(A14,$F$1:$AQ$39,A15+2) -> 0 | D15: =IF(ISNA(C15),0,C15) -> 0 | F15: 13 | G15: 12 | H15: 11 | I15: 6 | J15: 14 | K15: 8 | L15: 7 | M15: 2 | N15: 18 | O15: 4 | P15: 15 | Q15: 6 | R15: 2 | S15: 16 | T15: 0 | U15: 13 | V15: 10 | W15: 9 | X15: 4 | Y15: 17 | Z15: 9 | AA15: 12 | AB15: 7 | AC15: 16 | AD15: 5 | AE15: 8 | AF15: 5 | AG15: 13 | AH15: 1 | AI15: 17 | AJ15: 18 | AK15: 3 | AL15: 14 | AM15: 11 | AN15: 10 | AO15: 3 | AP15: 15 | AQ15: 1 | AR15: 13 | AS15: =IF(AND(D15>0,D15<=6),1,IF(AND(D15>6,D15<=12),2,IF(AND(D15>12,D15<=18),3,IF(AND(D15>18,D15<=24),-3,IF(AND(D15>24,D15<=30),-2,IF(AND(D15>30,D15<=36),-1,0)))))) -> 0 | AT15: =MODE(AS13:AS15) -> 2 | AU15: =ABS(AS15-AT14) -> 2 | BB15: =MODE(AS12:AS15) -> 2 | BC15: =ABS(AS15-BB14) -> 2 | BJ15: =MODE(AS11:AS15) -> 2 | BK15: =ABS(AS15-BJ14) -> 2 | BR15: =MODE(AS10:AS15) -> 2 | BS15: =ABS(AS15-BR14) -> 2 | BZ15: =MODE(AS9:AS15) -> 2 | CA15: =ABS(AS15-BZ14) -> 2 | CH15: =MODE(AS8:AS15) -> 2 | CI15: =ABS(AS15-CH14) -> 2 | CP15: =MODE(AS7:AS15) -> 2 | CQ15: =ABS(AS15-CP14) -> 2 | CX15: =MODE(AS6:AS15) -> 2 | CY15: =ABS(AS15-CX14) -> 2 | DF15: =MODE(AS5:AS15) -> 2 | DG15: =ABS(AS15-DF14) -> 2 | DN15: =MODE(AS4:AS15) -> 2 | DO15: =ABS(AS15-DN14) -> 2 | DV15: =MODE(AS3:AS15) -> 2
A16: 17 | C16: =VLOOKUP(A15,$F$1:$AQ$39,A16+2) -> 2 | D16: =IF(ISNA(C16),0,C16) -> 2 | F16: 14 | G16: 12 | H16: 2 | I16: 18 | J16: 10 | K16: 16 | L16: 6 | M16: 15 | N16: 6 | O16: 9 | P16: 2 | Q16: 7 | R16: 11 | S16: 8 | T16: 13 | U16: 0 | V16: 14 | W16: 4 | X16: 17 | Y16: 4 | Z16: 15 | AA16: 1 | AB16: 17 | AC16: 3 | AD16: 8 | AE16: 5 | AF16: 18 | AG16: 11 | AH16: 14 | AI16: 7 | AJ16: 5 | AK16: 10 | AL16: 1 | AM16: 13 | AN16: 3 | AO16: 16 | AP16: 9 | AQ16: 12 | AR16: 14 | AS16: =IF(AND(D16>0,D16<=6),1,IF(AND(D16>6,D16<=12),2,IF(AND(D16>12,D16<=18),3,IF(AND(D16>18,D16<=24),-3,IF(AND(D16>24,D16<=30),-2,IF(AND(D16>30,D16<=36),-1,0)))))) -> 1 | AT16: =MODE(AS14:AS16) -> #N/A | AU16: =ABS(AS16-AT15) -> 1 | BB16: =MODE(AS13:AS16) -> 2 | BC16: =ABS(AS16-BB15) -> 1 | BJ16: =MODE(AS12:AS16) -> 2 | BK16: =ABS(AS16-BJ15) -> 1 | BR16: =MODE(AS11:AS16) -> 2 | BS16: =ABS(AS16-BR15) -> 1 | BZ16: =MODE(AS10:AS16) -> 2 | CA16: =ABS(AS16-BZ15) -> 1 | CH16: =MODE(AS9:AS16) -> 2 | CI16: =ABS(AS16-CH15) -> 1 | CP16: =MODE(AS8:AS16) -> 2 | CQ16: =ABS(AS16-CP15) -> 1 | CX16: =MODE(AS7:AS16) -> 2 | CY16: =ABS(AS16-CX15) -> 1 | DF16: =MODE(AS6:AS16) -> 2 | DG16: =ABS(AS16-DF15) -> 1 | DN16: =MODE(AS5:AS16) -> 2 | DO16: =ABS(AS16-DN15) -> 1 | DV16: =MODE(AS4:AS16) -> 2 | DW16: =ABS(AS16-DV15) -> 1
A17: 25 | C17: =VLOOKUP(A16,$F$1:$AQ$39,A17+2) -> 1 | D17: =IF(ISNA(C17),0,C17) -> 1 | F17: 15 | G17: 2 | H17: 16 | I17: 4 | J17: 4 | K17: 2 | L17: 17 | M17: 8 | N17: 8 | O17: 14 | P17: 12 | Q17: 16 | R17: 12 | S17: 6 | T17: 10 | U17: 14 | V17: 0 | W17: 18 | X17: 6 | Y17: 10 | Z17: 1 | AA17: 15 | AB17: 3 | AC17: 11 | AD17: 15 | AE17: 18 | AF17: 5 | AG17: 3 | AH17: 9 | AI17: 7 | AJ17: 9 | AK17: 13 | AL17: 13 | AM17: 1 | AN17: 17 | AO17: 7 | AP17: 5 | AQ17: 11 | AR17: 15 | AS17: =IF(AND(D17>0,D17<=6),1,IF(AND(D17>6,D17<=12),2,IF(AND(D17>12,D17<=18),3,IF(AND(D17>18,D17<=24),-3,IF(AND(D17>24,D17<=30),-2,IF(AND(D17>30,D17<=36),-1,0)))))) -> 1 | AT17: =MODE(AS15:AS17) -> 1 | AU17: =ABS(AS17-AT16) -> #N/A | AV17: =COUNTIF(AU6:AU17,"0") -> 6 | AW17: =COUNTIF(AU6:AU17,">=0") -> 10 | AX17: =AV17/AW17 -> 0.6 | BB17: =MODE(AS14:AS17) -> 1 | BC17: =ABS(AS17-BB16) -> 1 | BJ17: =MODE(AS13:AS17) -> 2 | BK17: =ABS(AS17-BJ16) -> 1 | BR17: =MODE(AS12:AS17) -> 2 | BS17: =ABS(AS17-BR16) -> 1 | BZ17: =MODE(AS11:AS17) -> 2 | CA17: =ABS(AS17-BZ16) -> 1 | CH17: =MODE(AS10:AS17) -> 2 | CI17: =ABS(AS17-CH16) -> 1 | CP17: =MODE(AS9:AS17) -> 2 | CQ17: =ABS(AS17-CP16) -> 1 | CX17: =MODE(AS8:AS17) -> 2 | CY17: =ABS(AS17-CX16) -> 1 | DF17: =MODE(AS7:AS17) -> 2 | DG17: =ABS(AS17-DF16) -> 1 | DN17: =MODE(AS6:AS17) -> 2 | DO17: =ABS(AS17-DN16) -> 1 | DV17: =MODE(AS5:AS17) -> 2 | DW17: =ABS(AS17-DV16) -> 1
A18: 10 | C18: =VLOOKUP(A17,$F$1:$AQ$39,A18+2) -> 11 | D18: =IF(ISNA(C18),0,C18) -> 11 | F18: 16 | G18: 16 | H18: 2 | I18: 15 | J18: 14 | K18: 17 | L18: 2 | M18: 11 | N18: 10 | O18: 5 | P18: 6 | Q18: 3 | R18: 7 | S18: 12 | T18: 9 | U18: 4 | V18: 18 | W18: 0 | X18: 13 | Y18: 8 | Z18: 18 | AA18: 3 | AB18: 16 | AC18: 7 | AD18: 4 | AE18: 1 | AF18: 14 | AG18: 15 | AH18: 10 | AI18: 11 | AJ18: 9 | AK18: 6 | AL18: 5 | AM18: 17 | AN18: 1 | AO18: 12 | AP18: 13 | AQ18: 8 | AR18: 16 | AS18: =IF(AND(D18>0,D18<=6),1,IF(AND(D18>6,D18<=12),2,IF(AND(D18>12,D18<=18),3,IF(AND(D18>18,D18<=24),-3,IF(AND(D18>24,D18<=30),-2,IF(AND(D18>30,D18<=36),-1,0)))))) -> 2 | AT18: =MODE(AS16:AS18) -> 1 | AU18: =ABS(AS18-AT17) -> 1 | AV18: =COUNTIF(AU7:AU18,"0") -> 6 | AW18: =COUNTIF(AU7:AU18,">=0") -> 11 | AX18: =AV18/AW18 -> 0.54545455 | BB18: =MODE(AS15:AS18) -> 1 | BC18: =ABS(AS18-BB17) -> 1 | BD18: =COUNTIF(BC7:BC18,"0") -> 6 | BE18: =COUNTIF(BC7:BC18,">=0") -> 12 | BF18: =BD18/BE18 -> 0.5 | BJ18: =MODE(AS14:AS18) -> 2 | BK18: =ABS(AS18-BJ17) -> 0 | BR18: =MODE(AS13:AS18) -> 2 | BS18: =ABS(AS18-BR17) -> 0 | BZ18: =MODE(AS12:AS18) -> 2 | CA18: =ABS(AS18-BZ17) -> 0 | CH18: =MODE(AS11:AS18) -> 2 | CI18: =ABS(AS18-CH17) -> 0 | CP18: =MODE(AS10:AS18) -> 2 | CQ18: =ABS(AS18-CP17) -> 0 | CX18: =MODE(AS9:AS18) -> 2 | CY18: =ABS(AS18-CX17) -> 0 | DF18: =MODE(AS8:AS18) -> 2 | DG18: =ABS(AS18-DF17) -> 0 | DN18: =MODE(AS7:AS18) -> 2 | DO18: =ABS(AS18-DN17) -> 0 | DV18: =MODE(AS6:AS18) -> 2 | DW18: =ABS(AS18-DV17) -> 0
A19: 28 | C19: =VLOOKUP(A18,$F$1:$AQ$39,A19+2) -> 14 | D19: =IF(ISNA(C19),0,C19) -> 14 | F19: 17 | G19: 8 | H19: 15 | I19: 2 | J19: 10 | K19: 4 | L19: 11 | M19: 2 | N19: 14 | O19: 8 | P19: 18 | Q19: 10 | R19: 6 | S19: 12 | T19: 4 | U19: 17 | V19: 6 | W19: 13 | X19: 0 | Y19: 16 | Z19: 5 | AA19: 16 | AB19: 3 | AC19: 17 | AD19: 9 | AE19: 12 | AF19: 1 | AG19: 9 | AH19: 3 | AI19: 13 | AJ19: 15 | AK19: 7 | AL19: 18 | AM19: 7 | AN19: 14 | AO19: 1 | AP19: 11 | AQ19: 5 | AR19: 17 | AS19: =IF(AND(D19>0,D19<=6),1,IF(AND(D19>6,D19<=12),2,IF(AND(D19>12,D19<=18),3,IF(AND(D19>18,D19<=24),-3,IF(AND(D19>24,D19<=30),-2,IF(AND(D19>30,D19<=36),-1,0)))))) -> 3 | AT19: =MODE(AS17:AS19) -> #N/A | AU19: =ABS(AS19-AT18) -> 2 | AV19: =COUNTIF(AU8:AU19,"0") -> 6 | AW19: =COUNTIF(AU8:AU19,">=0") -> 11 | AX19: =AV19/AW19 -> 0.54545455 | BB19: =MODE(AS16:AS19) -> 1 | BC19: =ABS(AS19-BB18) -> 2 | BD19: =COUNTIF(BC8:BC19,"0") -> 6 | BE19: =COUNTIF(BC8:BC19,">=0") -> 12 | BF19: =BD19/BE19 -> 0.5 | BJ19: =MODE(AS15:AS19) -> 1 | BK19: =ABS(AS19-BJ18) -> 1 | BL19: =COUNTIF(BK8:BK19,"0") -> 6 | BM19: =COUNTIF(BK8:BK19,">=0") -> 12 | BN19: =BL19/BM19 -> 0.5 | BR19: =MODE(AS14:AS19) -> 2 | BS19: =ABS(AS19-BR18) -> 1 | BZ19: =MODE(AS13:AS19) -> 2 | CA19: =ABS(AS19-BZ18) -> 1 | CH19: =MODE(AS12:AS19) -> 2 | CI19: =ABS(AS19-CH18) -> 1 | CP19: =MODE(AS11:AS19) -> 2 | CQ19: =ABS(AS19-CP18) -> 1 | CX19: =MODE(AS10:AS19) -> 2 | CY19: =ABS(AS19-CX18) -> 1 | DF19: =MODE(AS9:AS19) -> 2 | DG19: =ABS(AS19-DF18) -> 1 | DN19: =MODE(AS8:AS19) -> 2 | DO19: =ABS(AS19-DN18) -> 1 | DV19: =MODE(AS7:AS19) -> 2 | DW19: =ABS(AS19-DV18) -> 1
A20: 3 | C20: =VLOOKUP(A19,$F$1:$AQ$39,A20+2) -> 3 | D20: =IF(ISNA(C20),0,C20) -> 3 | F20: 18 | G20: 8 | H20: 6 | I20: 14 | J20: 6 | K20: 12 | L20: 10 | M20: 18 | N20: 2 | O20: 13 | P20: 2 | Q20: 11 | R20: 15 | S20: 4 | T20: 17 | U20: 4 | V20: 10 | W20: 8 | X20: 16 | Y20: 0 | Z20: 11 | AA20: 5 | AB20: 13 | AC20: 1 | AD20: 12 | AE20: 9 | AF20: 15 | AG20: 7 | AH20: 18 | AI20: 3 | AJ20: 1 | AK20: 14 | AL20: 3 | AM20: 9 | AN20: 7 | AO20: 17 | AP20: 5 | AQ20: 16 | AR20: 18 | AS20: =IF(AND(D20>0,D20<=6),1,IF(AND(D20>6,D20<=12),2,IF(AND(D20>12,D20<=18),3,IF(AND(D20>18,D20<=24),-3,IF(AND(D20>24,D20<=30),-2,IF(AND(D20>30,D20<=36),-1,0)))))) -> 1 | AT20: =MODE(AS18:AS20) -> #N/A | AU20: =ABS(AS20-AT19) -> #N/A | AV20: =COUNTIF(AU9:AU20,"0") -> 5 | AW20: =COUNTIF(AU9:AU20,">=0") -> 10 | AX20: =AV20/AW20 -> 0.5 | BB20: =MODE(AS17:AS20) -> 1 | BC20: =ABS(AS20-BB19) -> 0 | BD20: =COUNTIF(BC9:BC20,"0") -> 6 | BE20: =COUNTIF(BC9:BC20,">=0") -> 12 | BF20: =BD20/BE20 -> 0.5 | BJ20: =MODE(AS16:AS20) -> 1 | BK20: =ABS(AS20-BJ19) -> 0 | BL20: =COUNTIF(BK9:BK20,"0") -> 7 | BM20: =COUNTIF(BK9:BK20,">=0") -> 12 | BN20: =BL20/BM20 -> 0.58333333 | BR20: =MODE(AS15:AS20) -> 1 | BS20: =ABS(AS20-BR19) -> 1 | BT20: =COUNTIF(BS9:BS20,"0") -> 6 | BU20: =COUNTIF(BS9:BS20,">=0") -> 12 | BV20: =BT20/BU20 -> 0.5 | BZ20: =MODE(AS14:AS20) -> 1 | CA20: =ABS(AS20-BZ19) -> 1 | CH20: =MODE(AS13:AS20) -> 2 | CI20: =ABS(AS20-CH19) -> 1 | CP20: =MODE(AS12:AS20) -> 2 | CQ20: =ABS(AS20-CP19) -> 1 | CX20: =MODE(AS11:AS20) -> 2 | CY20: =ABS(AS20-CX19) -> 1 | DF20: =MODE(AS10:AS20) -> 2 | DG20: =ABS(AS20-DF19) -> 1 | DN20: =MODE(AS9:AS20) -> 2 | DO20: =ABS(AS20-DN19) -> 1 | DV20: =MODE(AS8:AS20) -> 2 | DW20: =ABS(AS20-DV19) -> 1
A21: 21 | C21: =VLOOKUP(A20,$F$1:$AQ$39,A21+2) -> 7 | D21: =IF(ISNA(C21),0,C21) -> 7 | F21: 19 | G21: 3 | H21: 17 | I21: 3 | J21: 5 | K21: 1 | L21: 16 | M21: 7 | N21: 9 | O21: 13 | P21: 13 | Q21: 15 | R21: 11 | S21: 7 | T21: 9 | U21: 15 | V21: 1 | W21: 18 | X21: 5 | Y21: 11 | Z21: 0 | AA21: 16 | AB21: 2 | AC21: 12 | AD21: 14 | AE21: 17 | AF21: 4 | AG21: 4 | AH21: 8 | AI21: 8 | AJ21: 10 | AK21: 12 | AL21: 14 | AM21: 2 | AN21: 18 | AO21: 6 | AP21: 6 | AQ21: 10 | AR21: 19 | AS21: =IF(AND(D21>0,D21<=6),1,IF(AND(D21>6,D21<=12),2,IF(AND(D21>12,D21<=18),3,IF(AND(D21>18,D21<=24),-3,IF(AND(D21>24,D21<=30),-2,IF(AND(D21>30,D21<=36),-1,0)))))) -> 2 | AT21: =MODE(AS19:AS21) -> #N/A | AU21: =ABS(AS21-AT20) -> #N/A | AV21: =COUNTIF(AU10:AU21,"0") -> 4 | AW21: =COUNTIF(AU10:AU21,">=0") -> 9 | AX21: =AV21/AW21 -> 0.44444444 | BB21: =MODE(AS18:AS21) -> 2 | BC21: =ABS(AS21-BB20) -> 1 | BD21: =COUNTIF(BC10:BC21,"0") -> 5 | BE21: =COUNTIF(BC10:BC21,">=0") -> 12 | BF21: =BD21/BE21 -> 0.41666667 | BJ21: =MODE(AS17:AS21) -> 1 | BK21: =ABS(AS21-BJ20) -> 1 | BL21: =COUNTIF(BK10:BK21,"0") -> 6 | BM21: =COUNTIF(BK10:BK21,">=0") -> 12 | BN21: =BL21/BM21 -> 0.5 | BR21: =MODE(AS16:AS21) -> 1 | BS21: =ABS(AS21-BR20) -> 1 | BT21: =COUNTIF(BS10:BS21,"0") -> 5 | BU21: =COUNTIF(BS10:BS21,">=0") -> 12 | BV21: =BT21/BU21 -> 0.41666667 | BZ21: =MODE(AS15:AS21) -> 1 | CA21: =ABS(AS21-BZ20) -> 1 | CB21: =COUNTIF(CA10:CA21,"0") -> 5 | CC21: =COUNTIF(CA10:CA21,">=0") -> 12 | CD21: =CB21/CC21 -> 0.41666667 | CH21: =MODE(AS14:AS21) -> 2 | CI21: =ABS(AS21-CH20) -> 0 | CP21: =MODE(AS13:AS21) -> 2 | CQ21: =ABS(AS21-CP20) -> 0 | CX21: =MODE(AS12:AS21) -> 2 | CY21: =ABS(AS21-CX20) -> 0 | DF21: =MODE(AS11:AS21) -> 2 | DG21: =ABS(AS21-DF20) -> 0 | DN21: =MODE(AS10:AS21) -> 2 | DO21: =ABS(AS21-DN20) -> 0 | DV21: =MODE(AS9:AS21) -> 2 | DW21: =ABS(AS21-DV20) -> 0
A22: 3 | C22: =VLOOKUP(A21,$F$1:$AQ$39,A22+2) -> 7 | D22: =IF(ISNA(C22),0,C22) -> 7 | F22: 20 | G22: 13 | H22: 1 | I22: 18 | J22: 11 | K22: 17 | L22: 5 | M22: 14 | N22: 7 | O22: 8 | P22: 3 | Q22: 6 | R22: 10 | S22: 9 | T22: 12 | U22: 1 | V22: 15 | W22: 3 | X22: 16 | Y22: 5 | Z22: 16 | AA22: 0 | AB22: 18 | AC22: 4 | AD22: 7 | AE22: 4 | AF22: 17 | AG22: 12 | AH22: 13 | AI22: 8 | AJ22: 6 | AK22: 9 | AL22: 2 | AM22: 14 | AN22: 2 | AO22: 15 | AP22: 10 | AQ22: 11 | AR22: 20 | AS22: =IF(AND(D22>0,D22<=6),1,IF(AND(D22>6,D22<=12),2,IF(AND(D22>12,D22<=18),3,IF(AND(D22>18,D22<=24),-3,IF(AND(D22>24,D22<=30),-2,IF(AND(D22>30,D22<=36),-1,0)))))) -> 2 | AT22: =MODE(AS20:AS22) -> 2 | AU22: =ABS(AS22-AT21) -> #N/A | AV22: =COUNTIF(AU11:AU22,"0") -> 3 | AW22: =COUNTIF(AU11:AU22,">=0") -> 8 | AX22: =AV22/AW22 -> 0.375 | BB22: =MODE(AS19:AS22) -> 2 | BC22: =ABS(AS22-BB21) -> 0 | BD22: =COUNTIF(BC11:BC22,"0") -> 5 | BE22: =COUNTIF(BC11:BC22,">=0") -> 12 | BF22: =BD22/BE22 -> 0.41666667 | BJ22: =MODE(AS18:AS22) -> 2 | BK22: =ABS(AS22-BJ21) -> 1 | BL22: =COUNTIF(BK11:BK22,"0") -> 5 | BM22: =COUNTIF(BK11:BK22,">=0") -> 12 | BN22: =BL22/BM22 -> 0.41666667 | BR22: =MODE(AS17:AS22) -> 2 | BS22: =ABS(AS22-BR21) -> 1 | BT22: =COUNTIF(BS11:BS22,"0") -> 4 | BU22: =COUNTIF(BS11:BS22,">=0") -> 12 | BV22: =BT22/BU22 -> 0.33333333 | BZ22: =MODE(AS16:AS22) -> 1 | CA22: =ABS(AS22-BZ21) -> 1 | CB22: =COUNTIF(CA11:CA22,"0") -> 4 | CC22: =COUNTIF(CA11:CA22,">=0") -> 12 | CD22: =CB22/CC22 -> 0.33333333 | CH22: =MODE(AS15:AS22) -> 1 | CI22: =ABS(AS22-CH21) -> 0 | CJ22: =COUNTIF(CI11:CI22,"0") -> 6 | CK22: =COUNTIF(CI11:CI22,">=0") -> 12 | CL22: =CJ22/CK22 -> 0.5 | CP22: =MODE(AS14:AS22) -> 2 | CQ22: =ABS(AS22-CP21) -> 0 | CX22: =MODE(AS13:AS22) -> 2 | CY22: =ABS(AS22-CX21) -> 0 | DF22: =MODE(AS12:AS22) -> 2 | DG22: =ABS(AS22-DF21) -> 0 | DN22: =MODE(AS11:AS22) -> 2 | DO22: =ABS(AS22-DN21) -> 0 | DV22: =MODE(AS10:AS22) -> 2 | DW22: =ABS(AS22-DV21) -> 0
A23: 34 | C23: =VLOOKUP(A22,$F$1:$AQ$39,A23+2) -> 11 | D23: =IF(ISNA(C23),0,C23) -> 11 | F23: 21 | G23: 5 | H23: 18 | I23: 1 | J23: 7 | K23: 1 | L23: 14 | M23: 5 | N23: 11 | O23: 11 | P23: 15 | Q23: 13 | R23: 9 | S23: 9 | T23: 7 | U23: 17 | V23: 3 | W23: 16 | X23: 3 | Y23: 13 | Z23: 2 | AA23: 18 | AB23: 0 | AC23: 14 | AD23: 12 | AE23: 15 | AF23: 2 | AG23: 6 | AH23: 6 | AI23: 10 | AJ23: 12 | AK23: 10 | AL23: 16 | AM23: 4 | AN23: 17 | AO23: 4 | AP23: 8 | AQ23: 8 | AR23: 21 | AS23: =IF(AND(D23>0,D23<=6),1,IF(AND(D23>6,D23<=12),2,IF(AND(D23>12,D23<=18),3,IF(AND(D23>18,D23<=24),-3,IF(AND(D23>24,D23<=30),-2,IF(AND(D23>30,D23<=36),-1,0)))))) -> 2 | AT23: =MODE(AS21:AS23) -> 2 | AU23: =ABS(AS23-AT22) -> 0 | AV23: =COUNTIF(AU12:AU23,"0") -> 4 | AW23: =COUNTIF(AU12:AU23,">=0") -> 8 | AX23: =AV23/AW23 -> 0.5 | BB23: =MODE(AS20:AS23) -> 2 | BC23: =ABS(AS23-BB22) -> 0 | BD23: =COUNTIF(BC12:BC23,"0") -> 6 | BE23: =COUNTIF(BC12:BC23,">=0") -> 12 | BF23: =BD23/BE23 -> 0.5 | BJ23: =MODE(AS19:AS23) -> 2 | BK23: =ABS(AS23-BJ22) -> 0 | BL23: =COUNTIF(BK12:BK23,"0") -> 6 | BM23: =COUNTIF(BK12:BK23,">=0") -> 12 | BN23: =BL23/BM23 -> 0.5 | BR23: =MODE(AS18:AS23) -> 2 | BS23: =ABS(AS23-BR22) -> 0 | BT23: =COUNTIF(BS12:BS23,"0") -> 5 | BU23: =COUNTIF(BS12:BS23,">=0") -> 12 | BV23: =BT23/BU23 -> 0.41666667 | BZ23: =MODE(AS17:AS23) -> 2 | CA23: =ABS(AS23-BZ22) -> 1 | CB23: =COUNTIF(CA12:CA23,"0") -> 4 | CC23: =COUNTIF(CA12:CA23,">=0") -> 12 | CD23: =CB23/CC23 -> 0.33333333 | CH23: =MODE(AS16:AS23) -> 2 | CI23: =ABS(AS23-CH22) -> 1 | CJ23: =COUNTIF(CI12:CI23,"0") -> 6 | CK23: =COUNTIF(CI12:CI23,">=0") -> 12 | CL23: =CJ23/CK23 -> 0.5 | CP23: =MODE(AS15:AS23) -> 2 | CQ23: =ABS(AS23-CP22) -> 0 | CR23: =COUNTIF(CQ12:CQ23,"0") -> 7 | CS23: =COUNTIF(CQ12:CQ23,">=0") -> 12 | CT23: =CR23/CS23 -> 0.58333333 | CX23: =MODE(AS14:AS23) -> 2 | CY23: =ABS(AS23-CX22) -> 0 | DF23: =MODE(AS13:AS23) -> 2 | DG23: =ABS(AS23-DF22) -> 0 | DN23: =MODE(AS12:AS23) -> 2 | DO23: =ABS(AS23-DN22) -> 0 | DV23: =MODE(AS11:AS23) -> 2 | DW23: =ABS(AS23-DV22) -> 0
A24: 36 | C24: =VLOOKUP(A23,$F$1:$AQ$39,A24+2) -> 4 | D24: =IF(ISNA(C24),0,C24) -> 4 | F24: 22 | G24: 9 | H24: 5 | I24: 15 | J24: 7 | K24: 13 | L24: 9 | M24: 18 | N24: 3 | O24: 12 | P24: 1 | Q24: 10 | R24: 14 | S24: 5 | T24: 16 | U24: 3 | V24: 11 | W24: 7 | X24: 17 | Y24: 1 | Z24: 12 | AA24: 4 | AB24: 14 | AC24: 0 | AD24: 11 | AE24: 8 | AF24: 16 | AG24: 8 | AH24: 17 | AI24: 4 | AJ24: 2 | AK24: 13 | AL24: 2 | AM24: 10 | AN24: 6 | AO24: 18 | AP24: 6 | AQ24: 15 | AR24: 22 | AS24: =IF(AND(D24>0,D24<=6),1,IF(AND(D24>6,D24<=12),2,IF(AND(D24>12,D24<=18),3,IF(AND(D24>18,D24<=24),-3,IF(AND(D24>24,D24<=30),-2,IF(AND(D24>30,D24<=36),-1,0)))))) -> 1 | AT24: =MODE(AS22:AS24) -> 2 | AU24: =ABS(AS24-AT23) -> 1 | AV24: =COUNTIF(AU13:AU24,"0") -> 3 | AW24: =COUNTIF(AU13:AU24,">=0") -> 8 | AX24: =AV24/AW24 -> 0.375 | BB24: =MODE(AS21:AS24) -> 2 | BC24: =ABS(AS24-BB23) -> 1 | BD24: =COUNTIF(BC13:BC24,"0") -> 5 | BE24: =COUNTIF(BC13:BC24,">=0") -> 12 | BF24: =BD24/BE24 -> 0.41666667 | BJ24: =MODE(AS20:AS24) -> 2 | BK24: =ABS(AS24-BJ23) -> 1 | BL24: =COUNTIF(BK13:BK24,"0") -> 5 | BM24: =COUNTIF(BK13:BK24,">=0") -> 12 | BN24: =BL24/BM24 -> 0.41666667 | BR24: =MODE(AS19:AS24) -> 2 | BS24: =ABS(AS24-BR23) -> 1 | BT24: =COUNTIF(BS13:BS24,"0") -> 4 | BU24: =COUNTIF(BS13:BS24,">=0") -> 12 | BV24: =BT24/BU24 -> 0.33333333 | BZ24: =MODE(AS18:AS24) -> 2 | CA24: =ABS(AS24-BZ23) -> 1 | CB24: =COUNTIF(CA13:CA24,"0") -> 3 | CC24: =COUNTIF(CA13:CA24,">=0") -> 12 | CD24: =CB24/CC24 -> 0.25 | CH24: =MODE(AS17:AS24) -> 2 | CI24: =ABS(AS24-CH23) -> 1 | CJ24: =COUNTIF(CI13:CI24,"0") -> 5 | CK24: =COUNTIF(CI13:CI24,">=0") -> 12 | CL24: =CJ24/CK24 -> 0.41666667 | CP24: =MODE(AS16:AS24) -> 1 | CQ24: =ABS(AS24-CP23) -> 1 | CR24: =COUNTIF(CQ13:CQ24,"0") -> 6 | CS24: =COUNTIF(CQ13:CQ24,">=0") -> 12 | CT24: =CR24/CS24 -> 0.5 | CX24: =MODE(AS15:AS24) -> 1 | CY24: =ABS(AS24-CX23) -> 1 | CZ24: =COUNTIF(CY13:CY24,"0") -> 6 | DA24: =COUNTIF(CY13:CY24,">=0") -> 12 | DB24: =CZ24/DA24 -> 0.5 | DF24: =MODE(AS14:AS24) -> 2 | DG24: =ABS(AS24-DF23) -> 1 | DN24: =MODE(AS13:AS24) -> 2 | DO24: =ABS(AS24-DN23) -> 1 | DV24: =MODE(AS12:AS24) -> 2 | DW24: =ABS(AS24-DV23) -> 1
A25: 21 | C25: =VLOOKUP(A24,$F$1:$AQ$39,A25+2) -> 8 | D25: =IF(ISNA(C25),0,C25) -> 8 | F25: 23 | G25: 17 | H25: 6 | I25: 11 | J25: 18 | K25: 13 | L25: 2 | M25: 7 | N25: 14 | O25: 1 | P25: 10 | Q25: 1 | R25: 3 | S25: 16 | T25: 5 | U25: 8 | V25: 15 | W25: 4 | X25: 9 | Y25: 12 | Z25: 14 | AA25: 7 | AB25: 12 | AC25: 11 | AD25: 0 | AE25: 3 | AF25: 10 | AG25: 18 | AH25: 6 | AI25: 15 | AJ25: 13 | AK25: 2 | AL25: 9 | AM25: 16 | AN25: 5 | AO25: 8 | AP25: 17 | AQ25: 4 | AR25: 23 | AS25: =IF(AND(D25>0,D25<=6),1,IF(AND(D25>6,D25<=12),2,IF(AND(D25>12,D25<=18),3,IF(AND(D25>18,D25<=24),-3,IF(AND(D25>24,D25<=30),-2,IF(AND(D25>30,D25<=36),-1,0)))))) -> 2 | AT25: =MODE(AS23:AS25) -> 2 | AU25: =ABS(AS25-AT24) -> 0 | AV25: =COUNTIF(AU14:AU25,"0") -> 3 | AW25: =COUNTIF(AU14:AU25,">=0") -> 8 | AX25: =AV25/AW25 -> 0.375 | BB25: =MODE(AS22:AS25) -> 2 | BC25: =ABS(AS25-BB24) -> 0 | BD25: =COUNTIF(BC14:BC25,"0") -> 5 | BE25: =COUNTIF(BC14:BC25,">=0") -> 12 | BF25: =BD25/BE25 -> 0.41666667 | BJ25: =MODE(AS21:AS25) -> 2 | BK25: =ABS(AS25-BJ24) -> 0 | BL25: =COUNTIF(BK14:BK25,"0") -> 5 | BM25: =COUNTIF(BK14:BK25,">=0") -> 12 | BN25: =BL25/BM25 -> 0.41666667 | BR25: =MODE(AS20:AS25) -> 2 | BS25: =ABS(AS25-BR24) -> 0 | BT25: =COUNTIF(BS14:BS25,"0") -> 4 | BU25: =COUNTIF(BS14:BS25,">=0") -> 12 | BV25: =BT25/BU25 -> 0.33333333 | BZ25: =MODE(AS19:AS25) -> 2 | CA25: =ABS(AS25-BZ24) -> 0 | CB25: =COUNTIF(CA14:CA25,"0") -> 3 | CC25: =COUNTIF(CA14:CA25,">=0") -> 12 | CD25: =CB25/CC25 -> 0.25 | CH25: =MODE(AS18:AS25) -> 2 | CI25: =ABS(AS25-CH24) -> 0 | CJ25: =COUNTIF(CI14:CI25,"0") -> 5 | CK25: =COUNTIF(CI14:CI25,">=0") -> 12 | CL25: =CJ25/CK25 -> 0.41666667 | CP25: =MODE(AS17:AS25) -> 2 | CQ25: =ABS(AS25-CP24) -> 1 | CR25: =COUNTIF(CQ14:CQ25,"0") -> 5 | CS25: =COUNTIF(CQ14:CQ25,">=0") -> 12 | CT25: =CR25/CS25 -> 0.41666667 | CX25: =MODE(AS16:AS25) -> 2 | CY25: =ABS(AS25-CX24) -> 1 | CZ25: =COUNTIF(CY14:CY25,"0") -> 5 | DA25: =COUNTIF(CY14:CY25,">=0") -> 12 | DB25: =CZ25/DA25 -> 0.41666667 | DF25: =MODE(AS15:AS25) -> 2 | DG25: =ABS(AS25-DF24) -> 0 | DH25: =COUNTIF(DG14:DG25,"0") -> 6 | DI25: =COUNTIF(DG14:DG25,">=0") -> 12 | DJ25: =DH25/DI25 -> 0.5 | DN25: =MODE(AS14:AS25) -> 2 | DO25: =ABS(AS25-DN24) -> 0 | DV25: =MODE(AS13:AS25) -> 2 | DW25: =ABS(AS25-DV24) -> 0
A26: 19 | C26: =VLOOKUP(A25,$F$1:$AQ$39,A26+2) -> 2 | D26: =IF(ISNA(C26),0,C26) -> 2 | F26: 24 | G26: 17 | H26: 3 | I26: 14 | J26: 15 | K26: 16 | L26: 1 | M26: 10 | N26: 11 | O26: 4 | P26: 7 | Q26: 2 | R26: 6 | S26: 13 | T26: 8 | U26: 5 | V26: 18 | W26: 1 | X26: 12 | Y26: 9 | Z26: 17 | AA26: 4 | AB26: 15 | AC26: 8 | AD26: 3 | AE26: 0 | AF26: 13 | AG26: 16 | AH26: 9 | AI26: 12 | AJ26: 10 | AK26: 5 | AL26: 6 | AM26: 18 | AN26: 2 | AO26: 11 | AP26: 14 | AQ26: 7 | AR26: 24 | AS26: =IF(AND(D26>0,D26<=6),1,IF(AND(D26>6,D26<=12),2,IF(AND(D26>12,D26<=18),3,IF(AND(D26>18,D26<=24),-3,IF(AND(D26>24,D26<=30),-2,IF(AND(D26>30,D26<=36),-1,0)))))) -> 1 | AT26: =MODE(AS24:AS26) -> 1 | AU26: =ABS(AS26-AT25) -> 1 | AV26: =COUNTIF(AU15:AU26,"0") -> 2 | AW26: =COUNTIF(AU15:AU26,">=0") -> 8 | AX26: =AV26/AW26 -> 0.25 | BB26: =MODE(AS23:AS26) -> 2 | BC26: =ABS(AS26-BB25) -> 1 | BD26: =COUNTIF(BC15:BC26,"0") -> 4 | BE26: =COUNTIF(BC15:BC26,">=0") -> 12 | BF26: =BD26/BE26 -> 0.33333333 | BJ26: =MODE(AS22:AS26) -> 2 | BK26: =ABS(AS26-BJ25) -> 1 | BL26: =COUNTIF(BK15:BK26,"0") -> 4 | BM26: =COUNTIF(BK15:BK26,">=0") -> 12 | BN26: =BL26/BM26 -> 0.33333333 | BR26: =MODE(AS21:AS26) -> 2 | BS26: =ABS(AS26-BR25) -> 1 | BT26: =COUNTIF(BS15:BS26,"0") -> 3 | BU26: =COUNTIF(BS15:BS26,">=0") -> 12 | BV26: =BT26/BU26 -> 0.25 | BZ26: =MODE(AS20:AS26) -> 2 | CA26: =ABS(AS26-BZ25) -> 1 | CB26: =COUNTIF(CA15:CA26,"0") -> 2 | CC26: =COUNTIF(CA15:CA26,">=0") -> 12 | CD26: =CB26/CC26 -> 0.16666667 | CH26: =MODE(AS19:AS26) -> 2 | CI26: =ABS(AS26-CH25) -> 1 | CJ26: =COUNTIF(CI15:CI26,"0") -> 4 | CK26: =COUNTIF(CI15:CI26,">=0") -> 12 | CL26: =CJ26/CK26 -> 0.33333333 | CP26: =MODE(AS18:AS26) -> 2 | CQ26: =ABS(AS26-CP25) -> 1 | CR26: =COUNTIF(CQ15:CQ26,"0") -> 4 | CS26: =COUNTIF(CQ15:CQ26,">=0") -> 12 | CT26: =CR26/CS26 -> 0.33333333 | CX26: =MODE(AS17:AS26) -> 2 | CY26: =ABS(AS26-CX25) -> 1 | CZ26: =COUNTIF(CY15:CY26,"0") -> 4 | DA26: =COUNTIF(CY15:CY26,">=0") -> 12 | DB26: =CZ26/DA26 -> 0.33333333 | DF26: =MODE(AS16:AS26) -> 1 | DG26: =ABS(AS26-DF25) -> 1 | DH26: =COUNTIF(DG15:DG26,"0") -> 5 | DI26: =COUNTIF(DG15:DG26,">=0") -> 12 | DJ26: =DH26/DI26 -> 0.41666667 | DN26: =MODE(AS15:AS26) -> 1 | DO26: =ABS(AS26-DN25) -> 1 | DP26: =COUNTIF(DO15:DO26,"0") -> 5 | DQ26: =COUNTIF(DO15:DO26,">=0") -> 12 | DR26: =DP26/DQ26 -> 0.41666667 | DV26: =MODE(AS14:AS26) -> 2 | DW26: =ABS(AS26-DV25) -> 1
A27: 11 | C27: =VLOOKUP(A26,$F$1:$AQ$39,A27+2) -> 11 | D27: =IF(ISNA(C27),0,C27) -> 11 | F27: 25 | G27: 7 | H27: 16 | I27: 1 | J27: 9 | K27: 3 | L27: 12 | M27: 3 | N27: 13 | O27: 9 | P27: 17 | Q27: 11 | R27: 7 | S27: 11 | T27: 5 | U27: 18 | V27: 5 | W27: 14 | X27: 1 | Y27: 15 | Z27: 4 | AA27: 17 | AB27: 2 | AC27: 16 | AD27: 10 | AE27: 13 | AF27: 0 | AG27: 8 | AH27: 4 | AI27: 12 | AJ27: 14 | AK27: 8 | AL27: 18 | AM27: 6 | AN27: 15 | AO27: 2 | AP27: 10 | AQ27: 6 | AR27: 25 | AS27: =IF(AND(D27>0,D27<=6),1,IF(AND(D27>6,D27<=12),2,IF(AND(D27>12,D27<=18),3,IF(AND(D27>18,D27<=24),-3,IF(AND(D27>24,D27<=30),-2,IF(AND(D27>30,D27<=36),-1,0)))))) -> 2 | AT27: =MODE(AS25:AS27) -> 2 | AU27: =ABS(AS27-AT26) -> 1 | AV27: =COUNTIF(AU16:AU27,"0") -> 2 | AW27: =COUNTIF(AU16:AU27,">=0") -> 8 | AX27: =AV27/AW27 -> 0.25 | BB27: =MODE(AS24:AS27) -> 1 | BC27: =ABS(AS27-BB26) -> 0 | BD27: =COUNTIF(BC16:BC27,"0") -> 5 | BE27: =COUNTIF(BC16:BC27,">=0") -> 12 | BF27: =BD27/BE27 -> 0.41666667 | BJ27: =MODE(AS23:AS27) -> 2 | BK27: =ABS(AS27-BJ26) -> 0 | BL27: =COUNTIF(BK16:BK27,"0") -> 5 | BM27: =COUNTIF(BK16:BK27,">=0") -> 12 | BN27: =BL27/BM27 -> 0.41666667 | BR27: =MODE(AS22:AS27) -> 2 | BS27: =ABS(AS27-BR26) -> 0 | BT27: =COUNTIF(BS16:BS27,"0") -> 4 | BU27: =COUNTIF(BS16:BS27,">=0") -> 12 | BV27: =BT27/BU27 -> 0.33333333 | BZ27: =MODE(AS21:AS27) -> 2 | CA27: =ABS(AS27-BZ26) -> 0 | CB27: =COUNTIF(CA16:CA27,"0") -> 3 | CC27: =COUNTIF(CA16:CA27,">=0") -> 12 | CD27: =CB27/CC27 -> 0.25 | CH27: =MODE(AS20:AS27) -> 2 | CI27: =ABS(AS27-CH26) -> 0 | CJ27: =COUNTIF(CI16:CI27,"0") -> 5 | CK27: =COUNTIF(CI16:CI27,">=0") -> 12 | CL27: =CJ27/CK27 -> 0.41666667 | CP27: =MODE(AS19:AS27) -> 2 | CQ27: =ABS(AS27-CP26) -> 0 | CR27: =COUNTIF(CQ16:CQ27,"0") -> 5 | CS27: =COUNTIF(CQ16:CQ27,">=0") -> 12 | CT27: =CR27/CS27 -> 0.41666667 | CX27: =MODE(AS18:AS27) -> 2 | CY27: =ABS(AS27-CX26) -> 0 | CZ27: =COUNTIF(CY16:CY27,"0") -> 5 | DA27: =COUNTIF(CY16:CY27,">=0") -> 12 | DB27: =CZ27/DA27 -> 0.41666667 | DF27: =MODE(AS17:AS27) -> 2 | DG27: =ABS(AS27-DF26) -> 1 | DH27: =COUNTIF(DG16:DG27,"0") -> 5 | DI27: =COUNTIF(DG16:DG27,">=0") -> 12 | DJ27: =DH27/DI27 -> 0.41666667 | DN27: =MODE(AS16:AS27) -> 2 | DO27: =ABS(AS27-DN26) -> 1 | DP27: =COUNTIF(DO16:DO27,"0") -> 5 | DQ27: =COUNTIF(DO16:DO27,">=0") -> 12 | DR27: =DP27/DQ27 -> 0.41666667 | DV27: =MODE(AS15:AS27) -> 2 | DW27: =ABS(AS27-DV26) -> 0 | DX27: =COUNTIF(DW16:DW27,"0") -> 6 | DY27: =COUNTIF(DW16:DW27,">=0") -> 12 | DZ27: =DX27/DY27 -> 0.5
A28: 26 | C28: =VLOOKUP(A27,$F$1:$AQ$39,A28+2) -> 15 | D28: =IF(ISNA(C28),0,C28) -> 15 | F28: 26 | G28: 1 | H28: 13 | I28: 7 | J28: 1 | K28: 5 | L28: 17 | M28: 11 | N28: 5 | O28: 17 | P28: 9 | Q28: 18 | R28: 15 | S28: 3 | T28: 13 | U28: 11 | V28: 3 | W28: 15 | X28: 9 | Y28: 7 | Z28: 4 | AA28: 12 | AB28: 6 | AC28: 8 | AD28: 18 | AE28: 16 | AF28: 8 | AG28: 0 | AH28: 12 | AI28: 4 | AJ28: 6 | AK28: 16 | AL28: 10 | AM28: 2 | AN28: 14 | AO28: 10 | AP28: 2 | AQ28: 14 | AR28: 26 | AS28: =IF(AND(D28>0,D28<=6),1,IF(AND(D28>6,D28<=12),2,IF(AND(D28>12,D28<=18),3,IF(AND(D28>18,D28<=24),-3,IF(AND(D28>24,D28<=30),-2,IF(AND(D28>30,D28<=36),-1,0)))))) -> 3 | AT28: =MODE(AS26:AS28) -> #N/A | AU28: =ABS(AS28-AT27) -> 1 | AV28: =COUNTIF(AU17:AU28,"0") -> 2 | AW28: =COUNTIF(AU17:AU28,">=0") -> 8 | AX28: =AV28/AW28 -> 0.25 | BB28: =MODE(AS25:AS28) -> 2 | BC28: =ABS(AS28-BB27) -> 2 | BD28: =COUNTIF(BC17:BC28,"0") -> 5 | BE28: =COUNTIF(BC17:BC28,">=0") -> 12 | BF28: =BD28/BE28 -> 0.41666667 | BJ28: =MODE(AS24:AS28) -> 1 | BK28: =ABS(AS28-BJ27) -> 1 | BL28: =COUNTIF(BK17:BK28,"0") -> 5 | BM28: =COUNTIF(BK17:BK28,">=0") -> 12 | BN28: =BL28/BM28 -> 0.41666667 | BR28: =MODE(AS23:AS28) -> 2 | BS28: =ABS(AS28-BR27) -> 1 | BT28: =COUNTIF(BS17:BS28,"0") -> 4 | BU28: =COUNTIF(BS17:BS28,">=0") -> 12 | BV28: =BT28/BU28 -> 0.33333333 | BZ28: =MODE(AS22:AS28) -> 2 | CA28: =ABS(AS28-BZ27) -> 1 | CB28: =COUNTIF(CA17:CA28,"0") -> 3 | CC28: =COUNTIF(CA17:CA28,">=0") -> 12 | CD28: =CB28/CC28 -> 0.25 | CH28: =MODE(AS21:AS28) -> 2 | CI28: =ABS(AS28-CH27) -> 1 | CJ28: =COUNTIF(CI17:CI28,"0") -> 5 | CK28: =COUNTIF(CI17:CI28,">=0") -> 12 | CL28: =CJ28/CK28 -> 0.41666667 | CP28: =MODE(AS20:AS28) -> 2 | CQ28: =ABS(AS28-CP27) -> 1 | CR28: =COUNTIF(CQ17:CQ28,"0") -> 5 | CS28: =COUNTIF(CQ17:CQ28,">=0") -> 12 | CT28: =CR28/CS28 -> 0.41666667 | CX28: =MODE(AS19:AS28) -> 2 | CY28: =ABS(AS28-CX27) -> 1 | CZ28: =COUNTIF(CY17:CY28,"0") -> 5 | DA28: =COUNTIF(CY17:CY28,">=0") -> 12 | DB28: =CZ28/DA28 -> 0.41666667 | DF28: =MODE(AS18:AS28) -> 2 | DG28: =ABS(AS28-DF27) -> 1 | DH28: =COUNTIF(DG17:DG28,"0") -> 5 | DI28: =COUNTIF(DG17:DG28,">=0") -> 12 | DJ28: =DH28/DI28 -> 0.41666667 | DN28: =MODE(AS17:AS28) -> 2 | DO28: =ABS(AS28-DN27) -> 1 | DP28: =COUNTIF(DO17:DO28,"0") -> 5 | DQ28: =COUNTIF(DO17:DO28,">=0") -> 12 | DR28: =DP28/DQ28 -> 0.41666667 | DV28: =MODE(AS16:AS28) -> 2 | DW28: =ABS(AS28-DV27) -> 1 | DX28: =COUNTIF(DW17:DW28,"0") -> 6 | DY28: =COUNTIF(DW17:DW28,">=0") -> 12 | DZ28: =DX28/DY28 -> 0.5
A29: 16 | C29: =VLOOKUP(A28,$F$1:$AQ$39,A29+2) -> 15 | D29: =IF(ISNA(C29),0,C29) -> 15 | F29: 27 | G29: 11 | H29: 12 | I29: 5 | J29: 13 | K29: 7 | L29: 8 | M29: 1 | N29: 17 | O29: 5 | P29: 16 | Q29: 7 | R29: 3 | S29: 15 | T29: 1 | U29: 14 | V29: 9 | W29: 10 | X29: 3 | Y29: 18 | Z29: 8 | AA29: 13 | AB29: 6 | AC29: 17 | AD29: 6 | AE29: 9 | AF29: 4 | AG29: 12 | AH29: 0 | AI29: 16 | AJ29: 18 | AK29: 4 | AL29: 15 | AM29: 10 | AN29: 11 | AO29: 2 | AP29: 14 | AQ29: 2 | AR29: 27 | AS29: =IF(AND(D29>0,D29<=6),1,IF(AND(D29>6,D29<=12),2,IF(AND(D29>12,D29<=18),3,IF(AND(D29>18,D29<=24),-3,IF(AND(D29>24,D29<=30),-2,IF(AND(D29>30,D29<=36),-1,0)))))) -> 3 | AT29: =MODE(AS27:AS29) -> 3 | AU29: =ABS(AS29-AT28) -> #N/A | AV29: =COUNTIF(AU18:AU29,"0") -> 2 | AW29: =COUNTIF(AU18:AU29,">=0") -> 8 | AX29: =AV29/AW29 -> 0.25 | AY29: =COUNTIF(AU6:AU29,"0") -> 8 | AZ29: =COUNTIF(AU6:AU29,">=0") -> 18 | BA29: =AY29/AZ29 -> 0.44444444 | BB29: =MODE(AS26:AS29) -> 3 | BC29: =ABS(AS29-BB28) -> 1 | BD29: =COUNTIF(BC18:BC29,"0") -> 5 | BE29: =COUNTIF(BC18:BC29,">=0") -> 12 | BF29: =BD29/BE29 -> 0.41666667 | BJ29: =MODE(AS25:AS29) -> 2 | BK29: =ABS(AS29-BJ28) -> 2 | BL29: =COUNTIF(BK18:BK29,"0") -> 5 | BM29: =COUNTIF(BK18:BK29,">=0") -> 12 | BN29: =BL29/BM29 -> 0.41666667 | BR29: =MODE(AS24:AS29) -> 1 | BS29: =ABS(AS29-BR28) -> 1 | BT29: =COUNTIF(BS18:BS29,"0") -> 4 | BU29: =COUNTIF(BS18:BS29,">=0") -> 12 | BV29: =BT29/BU29 -> 0.33333333 | BZ29: =MODE(AS23:AS29) -> 2 | CA29: =ABS(AS29-BZ28) -> 1 | CB29: =COUNTIF(CA18:CA29,"0") -> 3 | CC29: =COUNTIF(CA18:CA29,">=0") -> 12 | CD29: =CB29/CC29 -> 0.25 | CH29: =MODE(AS22:AS29) -> 2 | CI29: =ABS(AS29-CH28) -> 1 | CJ29: =COUNTIF(CI18:CI29,"0") -> 5 | CK29: =COUNTIF(CI18:CI29,">=0") -> 12 | CL29: =CJ29/CK29 -> 0.41666667 | CP29: =MODE(AS21:AS29) -> 2 | CQ29: =ABS(AS29-CP28) -> 1 | CR29: =COUNTIF(CQ18:CQ29,"0") -> 5 | CS29: =COUNTIF(CQ18:CQ29,">=0") -> 12 | CT29: =CR29/CS29 -> 0.41666667 | CX29: =MODE(AS20:AS29) -> 2 | CY29: =ABS(AS29-CX28) -> 1 | CZ29: =COUNTIF(CY18:CY29,"0") -> 5 | DA29: =COUNTIF(CY18:CY29,">=0") -> 12 | DB29: =CZ29/DA29 -> 0.41666667 | DF29: =MODE(AS19:AS29) -> 2 | DG29: =ABS(AS29-DF28) -> 1 | DH29: =COUNTIF(DG18:DG29,"0") -> 5 | DI29: =COUNTIF(DG18:DG29,">=0") -> 12 | DJ29: =DH29/DI29 -> 0.41666667 | DN29: =MODE(AS18:AS29) -> 2 | DO29: =ABS(AS29-DN28) -> 1 | DP29: =COUNTIF(DO18:DO29,"0") -> 5 | DQ29: =COUNTIF(DO18:DO29,">=0") -> 12 | DR29: =DP29/DQ29 -> 0.41666667 | DV29: =MODE(AS17:AS29) -> 2 | DW29: =ABS(AS29-DV28) -> 1 | DX29: =COUNTIF(DW18:DW29,"0") -> 6 | DY29: =COUNTIF(DW18:DW29,">=0") -> 12 | DZ29: =DX29/DY29 -> 0.5
A30: 15 | C30: =VLOOKUP(A29,$F$1:$AQ$39,A30+2) -> 18 | D30: =IF(ISNA(C30),0,C30) -> 18 | F30: 28 | G30: 5 | H30: 9 | I30: 11 | J30: 3 | K30: 9 | L30: 13 | M30: 15 | N30: 1 | O30: 16 | P30: 5 | Q30: 14 | R30: 18 | S30: 1 | T30: 17 | U30: 7 | V30: 7 | W30: 11 | X30: 13 | Y30: 3 | Z30: 8 | AA30: 8 | AB30: 10 | AC30: 4 | AD30: 15 | AE30: 12 | AF30: 12 | AG30: 4 | AH30: 16 | AI30: 0 | AJ30: 2 | AK30: 17 | AL30: 6 | AM30: 6 | AN30: 10 | AO30: 14 | AP30: 2 | AQ30: 18 | AR30: 28 | AS30: =IF(AND(D30>0,D30<=6),1,IF(AND(D30>6,D30<=12),2,IF(AND(D30>12,D30<=18),3,IF(AND(D30>18,D30<=24),-3,IF(AND(D30>24,D30<=30),-2,IF(AND(D30>30,D30<=36),-1,0)))))) -> 3 | AT30: =MODE(AS28:AS30) -> 3 | AU30: =ABS(AS30-AT29) -> 0 | AV30: =COUNTIF(AU19:AU30,"0") -> 3 | AW30: =COUNTIF(AU19:AU30,">=0") -> 8 | AX30: =AV30/AW30 -> 0.375 | AY30: =COUNTIF(AU7:AU30,"0") -> 9 | AZ30: =COUNTIF(AU7:AU30,">=0") -> 19 | BA30: =AY30/AZ30 -> 0.47368421 | BB30: =MODE(AS27:AS30) -> 3 | BC30: =ABS(AS30-BB29) -> 0 | BD30: =COUNTIF(BC19:BC30,"0") -> 6 | BE30: =COUNTIF(BC19:BC30,">=0") -> 12 | BF30: =BD30/BE30 -> 0.5 | BG30: =COUNTIF(BC7:BC30,"0") -> 12 | BH30: =COUNTIF(BC7:BC30,">=0") -> 24 | BI30: =BG30/BH30 -> 0.5 | BJ30: =MODE(AS26:AS30) -> 3 | BK30: =ABS(AS30-BJ29) -> 1 | BL30: =COUNTIF(BK19:BK30,"0") -> 4 | BM30: =COUNTIF(BK19:BK30,">=0") -> 12 | BN30: =BL30/BM30 -> 0.33333333 | BR30: =MODE(AS25:AS30) -> 3 | BS30: =ABS(AS30-BR29) -> 2 | BT30: =COUNTIF(BS19:BS30,"0") -> 3 | BU30: =COUNTIF(BS19:BS30,">=0") -> 12 | BV30: =BT30/BU30 -> 0.25 | BZ30: =MODE(AS24:AS30) -> 3 | CA30: =ABS(AS30-BZ29) -> 1 | CB30: =COUNTIF(CA19:CA30,"0") -> 2 | CC30: =COUNTIF(CA19:CA30,">=0") -> 12 | CD30: =CB30/CC30 -> 0.16666667 | CH30: =MODE(AS23:AS30) -> 2 | CI30: =ABS(AS30-CH29) -> 1 | CJ30: =COUNTIF(CI19:CI30,"0") -> 4 | CK30: =COUNTIF(CI19:CI30,">=0") -> 12 | CL30: =CJ30/CK30 -> 0.33333333 | CP30: =MODE(AS22:AS30) -> 2 | CQ30: =ABS(AS30-CP29) -> 1 | CR30: =COUNTIF(CQ19:CQ30,"0") -> 4 | CS30: =COUNTIF(CQ19:CQ30,">=0") -> 12 | CT30: =CR30/CS30 -> 0.33333333 | CX30: =MODE(AS21:AS30) -> 2 | CY30: =ABS(AS30-CX29) -> 1 | CZ30: =COUNTIF(CY19:CY30,"0") -> 4 | DA30: =COUNTIF(CY19:CY30,">=0") -> 12 | DB30: =CZ30/DA30 -> 0.33333333 | DF30: =MODE(AS20:AS30) -> 2 | DG30: =ABS(AS30-DF29) -> 1 | DH30: =COUNTIF(DG19:DG30,"0") -> 4 | DI30: =COUNTIF(DG19:DG30,">=0") -> 12 | DJ30: =DH30/DI30 -> 0.33333333 | DN30: =MODE(AS19:AS30) -> 2 | DO30: =ABS(AS30-DN29) -> 1 | DP30: =COUNTIF(DO19:DO30,"0") -> 4 | DQ30: =COUNTIF(DO19:DO30,">=0") -> 12 | DR30: =DP30/DQ30 -> 0.33333333 | DV30: =MODE(AS18:AS30) -> 2 | DW30: =ABS(AS30-DV29) -> 1 | DX30: =COUNTIF(DW19:DW30,"0") -> 5 | DY30: =COUNTIF(DW19:DW30,">=0") -> 12 | DZ30: =DX30/DY30 -> 0.41666667
A31: 15 | C31: =VLOOKUP(A30,$F$1:$AQ$39,A31+2) -> 0 | D31: =IF(ISNA(C31),0,C31) -> 0 | F31: 29 | G31: 7 | H31: 7 | I31: 13 | J31: 5 | K31: 11 | L31: 11 | M31: 17 | N31: 1 | O31: 14 | P31: 3 | Q31: 12 | R31: 16 | S31: 3 | T31: 18 | U31: 5 | V31: 9 | W31: 9 | X31: 15 | Y31: 1 | Z31: 10 | AA31: 6 | AB31: 12 | AC31: 2 | AD31: 13 | AE31: 10 | AF31: 14 | AG31: 6 | AH31: 18 | AI31: 2 | AJ31: 0 | AK31: 15 | AL31: 4 | AM31: 8 | AN31: 8 | AO31: 16 | AP31: 4 | AQ31: 17 | AR31: 29 | AS31: =IF(AND(D31>0,D31<=6),1,IF(AND(D31>6,D31<=12),2,IF(AND(D31>12,D31<=18),3,IF(AND(D31>18,D31<=24),-3,IF(AND(D31>24,D31<=30),-2,IF(AND(D31>30,D31<=36),-1,0)))))) -> 0 | AT31: =MODE(AS29:AS31) -> 3 | AU31: =ABS(AS31-AT30) -> 3 | AV31: =COUNTIF(AU20:AU31,"0") -> 3 | AW31: =COUNTIF(AU20:AU31,">=0") -> 8 | AX31: =AV31/AW31 -> 0.375 | AY31: =COUNTIF(AU8:AU31,"0") -> 9 | AZ31: =COUNTIF(AU8:AU31,">=0") -> 19 | BA31: =AY31/AZ31 -> 0.47368421 | BB31: =MODE(AS28:AS31) -> 3 | BC31: =ABS(AS31-BB30) -> 3 | BD31: =COUNTIF(BC20:BC31,"0") -> 6 | BE31: =COUNTIF(BC20:BC31,">=0") -> 12 | BF31: =BD31/BE31 -> 0.5 | BG31: =COUNTIF(BC8:BC31,"0") -> 12 | BH31: =COUNTIF(BC8:BC31,">=0") -> 24 | BI31: =BG31/BH31 -> 0.5 | BJ31: =MODE(AS27:AS31) -> 3 | BK31: =ABS(AS31-BJ30) -> 3 | BL31: =COUNTIF(BK20:BK31,"0") -> 4 | BM31: =COUNTIF(BK20:BK31,">=0") -> 12 | BN31: =BL31/BM31 -> 0.33333333 | BO31: =COUNTIF(BK8:BK31,"0") -> 10 | BP31: =COUNTIF(BK8:BK31,">=0") -> 24 | BQ31: =BO31/BP31 -> 0.41666667 | BR31: =MODE(AS26:AS31) -> 3 | BS31: =ABS(AS31-BR30) -> 3 | BT31: =COUNTIF(BS20:BS31,"0") -> 3 | BU31: =COUNTIF(BS20:BS31,">=0") -> 12 | BV31: =BT31/BU31 -> 0.25 | BZ31: =MODE(AS25:AS31) -> 3 | CA31: =ABS(AS31-BZ30) -> 3 | CB31: =COUNTIF(CA20:CA31,"0") -> 2 | CC31: =COUNTIF(CA20:CA31,">=0") -> 12 | CD31: =CB31/CC31 -> 0.16666667 | CH31: =MODE(AS24:AS31) -> 3 | CI31: =ABS(AS31-CH30) -> 2 | CJ31: =COUNTIF(CI20:CI31,"0") -> 4 | CK31: =COUNTIF(CI20:CI31,">=0") -> 12 | CL31: =CJ31/CK31 -> 0.33333333 | CP31: =MODE(AS23:AS31) -> 2 | CQ31: =ABS(AS31-CP30) -> 2 | CR31: =COUNTIF(CQ20:CQ31,"0") -> 4 | CS31: =COUNTIF(CQ20:CQ31,">=0") -> 12 | CT31: =CR31/CS31 -> 0.33333333 | CX31: =MODE(AS22:AS31) -> 2 | CY31: =ABS(AS31-CX30) -> 2 | CZ31: =COUNTIF(CY20:CY31,"0") -> 4 | DA31: =COUNTIF(CY20:CY31,">=0") -> 12 | DB31: =CZ31/DA31 -> 0.33333333 | DF31: =MODE(AS21:AS31) -> 2 | DG31: =ABS(AS31-DF30) -> 2 | DH31: =COUNTIF(DG20:DG31,"0") -> 4 | DI31: =COUNTIF(DG20:DG31,">=0") -> 12 | DJ31: =DH31/DI31 -> 0.33333333 | DN31: =MODE(AS20:AS31) -> 2 | DO31: =ABS(AS31-DN30) -> 2 | DP31: =COUNTIF(DO20:DO31,"0") -> 4 | DQ31: =COUNTIF(DO20:DO31,">=0") -> 12 | DR31: =DP31/DQ31 -> 0.33333333 | DV31: =MODE(AS19:AS31) -> 2 | DW31: =ABS(AS31-DV30) -> 2 | DX31: =COUNTIF(DW20:DW31,"0") -> 5 | DY31: =COUNTIF(DW20:DW31,">=0") -> 12 | DZ31: =DX31/DY31 -> 0.41666667
A32: A | C32: =VLOOKUP(A31,$F$1:$AQ$39,A32+2) -> #VALUE! | D32: =IF(ISNA(C32),0,C32) -> #VALUE! | F32: 30 | G32: 15 | H32: 8 | I32: 9 | J32: 17 | K32: 11 | L32: 4 | M32: 5 | N32: 16 | O32: 1 | P32: 12 | Q32: 3 | R32: 1 | S32: 18 | T32: 3 | U32: 10 | V32: 13 | W32: 6 | X32: 7 | Y32: 14 | Z32: 12 | AA32: 9 | AB32: 10 | AC32: 13 | AD32: 2 | AE32: 5 | AF32: 8 | AG32: 16 | AH32: 4 | AI32: 17 | AJ32: 15 | AK32: 0 | AL32: 11 | AM32: 14 | AN32: 7 | AO32: 6 | AP32: 18 | AQ32: 2 | AR32: 30 | AS32: =IF(AND(D32>0,D32<=6),1,IF(AND(D32>6,D32<=12),2,IF(AND(D32>12,D32<=18),3,IF(AND(D32>18,D32<=24),-3,IF(AND(D32>24,D32<=30),-2,IF(AND(D32>30,D32<=36),-1,0)))))) -> #VALUE! | AT32: =MODE(AS30:AS32) -> #VALUE! | AU32: =ABS(AS32-AT31) -> #VALUE! | AV32: =COUNTIF(AU21:AU32,"0") -> 3 | AW32: =COUNTIF(AU21:AU32,">=0") -> 8 | AX32: =AV32/AW32 -> 0.375 | AY32: =COUNTIF(AU9:AU32,"0") -> 8 | AZ32: =COUNTIF(AU9:AU32,">=0") -> 18 | BA32: =AY32/AZ32 -> 0.44444444 | BB32: =MODE(AS29:AS32) -> #VALUE! | BC32: =ABS(AS32-BB31) -> #VALUE! | BD32: =COUNTIF(BC21:BC32,"0") -> 5 | BE32: =COUNTIF(BC21:BC32,">=0") -> 11 | BF32: =BD32/BE32 -> 0.45454545 | BG32: =COUNTIF(BC9:BC32,"0") -> 11 | BH32: =COUNTIF(BC9:BC32,">=0") -> 23 | BI32: =BG32/BH32 -> 0.47826087 | BJ32: =MODE(AS28:AS32) -> #VALUE! | BK32: =ABS(AS32-BJ31) -> #VALUE! | BL32: =COUNTIF(BK21:BK32,"0") -> 3 | BM32: =COUNTIF(BK21:BK32,">=0") -> 11 | BN32: =BL32/BM32 -> 0.27272727 | BO32: =COUNTIF(BK9:BK32,"0") -> 10 | BP32: =COUNTIF(BK9:BK32,">=0") -> 23 | BQ32: =BO32/BP32 -> 0.43478261 | BR32: =MODE(AS27:AS32) -> #VALUE! | BS32: =ABS(AS32-BR31) -> #VALUE! | BT32: =COUNTIF(BS21:BS32,"0") -> 3 | BU32: =COUNTIF(BS21:BS32,">=0") -> 11 | BV32: =BT32/BU32 -> 0.27272727 | BW32: =COUNTIF(BS9:BS32,"0") -> 9 | BX32: =COUNTIF(BS9:BS32,">=0") -> 23 | BY32: =BW32/BX32 -> 0.39130435 | BZ32: =MODE(AS26:AS32) -> #VALUE! | CA32: =ABS(AS32-BZ31) -> #VALUE! | CB32: =COUNTIF(CA21:CA32,"0") -> 2 | CC32: =COUNTIF(CA21:CA32,">=0") -> 11 | CD32: =CB32/CC32 -> 0.18181818 | CH32: =MODE(AS25:AS32) -> #VALUE! | CI32: =ABS(AS32-CH31) -> #VALUE! | CJ32: =COUNTIF(CI21:CI32,"0") -> 4 | CK32: =COUNTIF(CI21:CI32,">=0") -> 11 | CL32: =CJ32/CK32 -> 0.36363636 | CP32: =MODE(AS24:AS32) -> #VALUE! | CQ32: =ABS(AS32-CP31) -> #VALUE! | CR32: =COUNTIF(CQ21:CQ32,"0") -> 4 | CS32: =COUNTIF(CQ21:CQ32,">=0") -> 11 | CT32: =CR32/CS32 -> 0.36363636 | CX32: =MODE(AS23:AS32) -> #VALUE! | CY32: =ABS(AS32-CX31) -> #VALUE! | CZ32: =COUNTIF(CY21:CY32,"0") -> 4 | DA32: =COUNTIF(CY21:CY32,">=0") -> 11 | DB32: =CZ32/DA32 -> 0.36363636 | DF32: =MODE(AS22:AS32) -> #VALUE! | DG32: =ABS(AS32-DF31) -> #VALUE! | DH32: =COUNTIF(DG21:DG32,"0") -> 4 | DI32: =COUNTIF(DG21:DG32,">=0") -> 11 | DJ32: =DH32/DI32 -> 0.36363636 | DN32: =MODE(AS21:AS32) -> #VALUE! | DO32: =ABS(AS32-DN31) -> #VALUE! | DP32: =COUNTIF(DO21:DO32,"0") -> 4 | DQ32: =COUNTIF(DO21:DO32,">=0") -> 11 | DR32: =DP32/DQ32 -> 0.36363636 | DV32: =MODE(AS20:AS32) -> #VALUE! | DW32: =ABS(AS32-DV31) -> #VALUE! | DX32: =COUNTIF(DW21:DW32,"0") -> 5 | DY32: =COUNTIF(DW21:DW32,">=0") -> 11 | DZ32: =DX32/DY32 -> 0.45454545
A33: A | C33: =VLOOKUP(A32,$F$1:$AQ$39,A33+2) -> #VALUE! | D33: =IF(ISNA(C33),0,C33) -> #VALUE! | F33: 31 | G33: 11 | H33: 3 | I33: 17 | J33: 9 | K33: 15 | L33: 7 | M33: 16 | N33: 5 | O33: 10 | P33: 1 | Q33: 8 | R33: 12 | S33: 7 | T33: 14 | U33: 1 | V33: 13 | W33: 5 | X33: 18 | Y33: 3 | Z33: 14 | AA33: 2 | AB33: 16 | AC33: 2 | AD33: 9 | AE33: 6 | AF33: 18 | AG33: 10 | AH33: 15 | AI33: 6 | AJ33: 4 | AK33: 11 | AL33: 0 | AM33: 12 | AN33: 4 | AO33: 17 | AP33: 8 | AQ33: 13 | AR33: 31 | AS33: =IF(AND(D33>0,D33<=6),1,IF(AND(D33>6,D33<=12),2,IF(AND(D33>12,D33<=18),3,IF(AND(D33>18,D33<=24),-3,IF(AND(D33>24,D33<=30),-2,IF(AND(D33>30,D33<=36),-1,0)))))) -> #VALUE! | AT33: =MODE(AS31:AS33) -> #VALUE! | AU33: =ABS(AS33-AT32) -> #VALUE! | AV33: =COUNTIF(AU22:AU33,"0") -> 3 | AW33: =COUNTIF(AU22:AU33,">=0") -> 8 | AX33: =AV33/AW33 -> 0.375 | AY33: =COUNTIF(AU10:AU33,"0") -> 7 | AZ33: =COUNTIF(AU10:AU33,">=0") -> 17 | BA33: =AY33/AZ33 -> 0.41176471 | BB33: =MODE(AS30:AS33) -> #VALUE! | BC33: =ABS(AS33-BB32) -> #VALUE! | BD33: =COUNTIF(BC22:BC33,"0") -> 5 | BE33: =COUNTIF(BC22:BC33,">=0") -> 10 | BF33: =BD33/BE33 -> 0.5 | BG33: =COUNTIF(BC10:BC33,"0") -> 10 | BH33: =COUNTIF(BC10:BC33,">=0") -> 22 | BI33: =BG33/BH33 -> 0.45454545 | BJ33: =MODE(AS29:AS33) -> #VALUE! | BK33: =ABS(AS33-BJ32) -> #VALUE! | BL33: =COUNTIF(BK22:BK33,"0") -> 3 | BM33: =COUNTIF(BK22:BK33,">=0") -> 10 | BN33: =BL33/BM33 -> 0.3 | BO33: =COUNTIF(BK10:BK33,"0") -> 9 | BP33: =COUNTIF(BK10:BK33,">=0") -> 22 | BQ33: =BO33/BP33 -> 0.40909091 | BR33: =MODE(AS28:AS33) -> #VALUE! | BS33: =ABS(AS33-BR32) -> #VALUE! | BT33: =COUNTIF(BS22:BS33,"0") -> 3 | BU33: =COUNTIF(BS22:BS33,">=0") -> 10 | BV33: =BT33/BU33 -> 0.3 | BW33: =COUNTIF(BS10:BS33,"0") -> 8 | BX33: =COUNTIF(BS10:BS33,">=0") -> 22 | BY33: =BW33/BX33 -> 0.36363636 | BZ33: =MODE(AS27:AS33) -> #VALUE! | CA33: =ABS(AS33-BZ32) -> #VALUE! | CB33: =COUNTIF(CA22:CA33,"0") -> 2 | CC33: =COUNTIF(CA22:CA33,">=0") -> 10 | CD33: =CB33/CC33 -> 0.2 | CE33: =COUNTIF(CA10:CA33,"0") -> 7 | CF33: =COUNTIF(CA10:CA33,">=0") -> 22 | CG33: =CE33/CF33 -> 0.31818182 | CH33: =MODE(AS26:AS33) -> #VALUE! | CI33: =ABS(AS33-CH32) -> #VALUE! | CJ33: =COUNTIF(CI22:CI33,"0") -> 3 | CK33: =COUNTIF(CI22:CI33,">=0") -> 10 | CL33: =CJ33/CK33 -> 0.3 | CP33: =MODE(AS25:AS33) -> #VALUE! | CQ33: =ABS(AS33-CP32) -> #VALUE! | CR33: =COUNTIF(CQ22:CQ33,"0") -> 3 | CS33: =COUNTIF(CQ22:CQ33,">=0") -> 10 | CT33: =CR33/CS33 -> 0.3 | CX33: =MODE(AS24:AS33) -> #VALUE! | CY33: =ABS(AS33-CX32) -> #VALUE! | CZ33: =COUNTIF(CY22:CY33,"0") -> 3 | DA33: =COUNTIF(CY22:CY33,">=0") -> 10 | DB33: =CZ33/DA33 -> 0.3 | DF33: =MODE(AS23:AS33) -> #VALUE! | DG33: =ABS(AS33-DF32) -> #VALUE! | DH33: =COUNTIF(DG22:DG33,"0") -> 3 | DI33: =COUNTIF(DG22:DG33,">=0") -> 10 | DJ33: =DH33/DI33 -> 0.3 | DN33: =MODE(AS22:AS33) -> #VALUE! | DO33: =ABS(AS33-DN32) -> #VALUE! | DP33: =COUNTIF(DO22:DO33,"0") -> 3 | DQ33: =COUNTIF(DO22:DO33,">=0") -> 10 | DR33: =DP33/DQ33 -> 0.3 | DV33: =MODE(AS21:AS33) -> #VALUE! | DW33: =ABS(AS33-DV32) -> #VALUE! | DX33: =COUNTIF(DW22:DW33,"0") -> 4 | DY33: =COUNTIF(DW22:DW33,">=0") -> 10 | DZ33: =DX33/DY33 -> 0.4
A34: A | C34: =VLOOKUP(A33,$F$1:$AQ$39,A34+2) -> #VALUE! | D34: =IF(ISNA(C34),0,C34) -> #VALUE! | F34: 32 | G34: 1 | H34: 15 | I34: 5 | J34: 3 | K34: 3 | L34: 18 | M34: 9 | N34: 7 | O34: 15 | P34: 11 | Q34: 17 | R34: 13 | S34: 5 | T34: 11 | U34: 13 | V34: 1 | W34: 17 | X34: 7 | Y34: 9 | Z34: 2 | AA34: 14 | AB34: 4 | AC34: 10 | AD34: 16 | AE34: 18 | AF34: 6 | AG34: 2 | AH34: 10 | AI34: 6 | AJ34: 8 | AK34: 14 | AL34: 12 | AM34: 0 | AN34: 16 | AO34: 8 | AP34: 4 | AQ34: 12 | AR34: 32 | AS34: =IF(AND(D34>0,D34<=6),1,IF(AND(D34>6,D34<=12),2,IF(AND(D34>12,D34<=18),3,IF(AND(D34>18,D34<=24),-3,IF(AND(D34>24,D34<=30),-2,IF(AND(D34>30,D34<=36),-1,0)))))) -> #VALUE! | AT34: =MODE(AS32:AS34) -> #VALUE! | AU34: =ABS(AS34-AT33) -> #VALUE! | AV34: =COUNTIF(AU23:AU34,"0") -> 3 | AW34: =COUNTIF(AU23:AU34,">=0") -> 8 | AX34: =AV34/AW34 -> 0.375 | AY34: =COUNTIF(AU11:AU34,"0") -> 6 | AZ34: =COUNTIF(AU11:AU34,">=0") -> 16 | BA34: =AY34/AZ34 -> 0.375 | BB34: =MODE(AS31:AS34) -> #VALUE! | BC34: =ABS(AS34-BB33) -> #VALUE! | BD34: =COUNTIF(BC23:BC34,"0") -> 4 | BE34: =COUNTIF(BC23:BC34,">=0") -> 9 | BF34: =BD34/BE34 -> 0.44444444 | BG34: =COUNTIF(BC11:BC34,"0") -> 9 | BH34: =COUNTIF(BC11:BC34,">=0") -> 21 | BI34: =BG34/BH34 -> 0.42857143 | BJ34: =MODE(AS30:AS34) -> #VALUE! | BK34: =ABS(AS34-BJ33) -> #VALUE! | BL34: =COUNTIF(BK23:BK34,"0") -> 3 | BM34: =COUNTIF(BK23:BK34,">=0") -> 9 | BN34: =BL34/BM34 -> 0.33333333 | BO34: =COUNTIF(BK11:BK34,"0") -> 8 | BP34: =COUNTIF(BK11:BK34,">=0") -> 21 | BQ34: =BO34/BP34 -> 0.38095238 | BR34: =MODE(AS29:AS34) -> #VALUE! | BS34: =ABS(AS34-BR33) -> #VALUE! | BT34: =COUNTIF(BS23:BS34,"0") -> 3 | BU34: =COUNTIF(BS23:BS34,">=0") -> 9 | BV34: =BT34/BU34 -> 0.33333333 | BW34: =COUNTIF(BS11:BS34,"0") -> 7 | BX34: =COUNTIF(BS11:BS34,">=0") -> 21 | BY34: =BW34/BX34 -> 0.33333333 | BZ34: =MODE(AS28:AS34) -> #VALUE! | CA34: =ABS(AS34-BZ33) -> #VALUE! | CB34: =COUNTIF(CA23:CA34,"0") -> 2 | CC34: =COUNTIF(CA23:CA34,">=0") -> 9 | CD34: =CB34/CC34 -> 0.22222222 | CE34: =COUNTIF(CA11:CA34,"0") -> 6 | CF34: =COUNTIF(CA11:CA34,">=0") -> 21 | CG34: =CE34/CF34 -> 0.28571429 | CH34: =MODE(AS27:AS34) -> #VALUE! | CI34: =ABS(AS34-CH33) -> #VALUE! | CJ34: =COUNTIF(CI23:CI34,"0") -> 2 | CK34: =COUNTIF(CI23:CI34,">=0") -> 9 | CL34: =CJ34/CK34 -> 0.22222222 | CM34: =COUNTIF(CI11:CI34,"0") -> 8 | CN34: =COUNTIF(CI11:CI34,">=0") -> 21 | CO34: =CM34/CN34 -> 0.38095238 | CP34: =MODE(AS26:AS34) -> #VALUE! | CQ34: =ABS(AS34-CP33) -> #VALUE! | CR34: =COUNTIF(CQ23:CQ34,"0") -> 2 | CS34: =COUNTIF(CQ23:CQ34,">=0") -> 9 | CT34: =CR34/CS34 -> 0.22222222 | CX34: =MODE(AS25:AS34) -> #VALUE! | CY34: =ABS(AS34-CX33) -> #VALUE! | CZ34: =COUNTIF(CY23:CY34,"0") -> 2 | DA34: =COUNTIF(CY23:CY34,">=0") -> 9 | DB34: =CZ34/DA34 -> 0.22222222 | DF34: =MODE(AS24:AS34) -> #VALUE! | DG34: =ABS(AS34-DF33) -> #VALUE! | DH34: =COUNTIF(DG23:DG34,"0") -> 2 | DI34: =COUNTIF(DG23:DG34,">=0") -> 9 | DJ34: =DH34/DI34 -> 0.22222222 | DN34: =MODE(AS23:AS34) -> #VALUE! | DO34: =ABS(AS34-DN33) -> #VALUE! | DP34: =COUNTIF(DO23:DO34,"0") -> 2 | DQ34: =COUNTIF(DO23:DO34,">=0") -> 9 | DR34: =DP34/DQ34 -> 0.22222222 | DV34: =MODE(AS22:AS34) -> #VALUE! | DW34: =ABS(AS34-DV33) -> #VALUE! | DX34: =COUNTIF(DW23:DW34,"0") -> 3 | DY34: =COUNTIF(DW23:DW34,">=0") -> 9 | DZ34: =DX34/DY34 -> 0.33333333
A35: A | C35: =VLOOKUP(A34,$F$1:$AQ$39,A35+2) -> #VALUE! | D35: =IF(ISNA(C35),0,C35) -> #VALUE! | F35: 33 | G35: 15 | H35: 1 | I35: 16 | J35: 13 | K35: 18 | L35: 3 | M35: 12 | N35: 9 | O35: 6 | P35: 5 | Q35: 4 | R35: 8 | S35: 11 | T35: 10 | U35: 3 | V35: 17 | W35: 1 | X35: 14 | Y35: 7 | Z35: 18 | AA35: 2 | AB35: 17 | AC35: 6 | AD35: 5 | AE35: 2 | AF35: 15 | AG35: 14 | AH35: 11 | AI35: 10 | AJ35: 8 | AK35: 7 | AL35: 4 | AM35: 16 | AN35: 0 | AO35: 13 | AP35: 12 | AQ35: 9 | AR35: 33 | AS35: =IF(AND(D35>0,D35<=6),1,IF(AND(D35>6,D35<=12),2,IF(AND(D35>12,D35<=18),3,IF(AND(D35>18,D35<=24),-3,IF(AND(D35>24,D35<=30),-2,IF(AND(D35>30,D35<=36),-1,0)))))) -> #VALUE! | AT35: =MODE(AS33:AS35) -> #VALUE! | AU35: =ABS(AS35-AT34) -> #VALUE! | AV35: =COUNTIF(AU24:AU35,"0") -> 2 | AW35: =COUNTIF(AU24:AU35,">=0") -> 7 | AX35: =AV35/AW35 -> 0.28571429 | AY35: =COUNTIF(AU12:AU35,"0") -> 6 | AZ35: =COUNTIF(AU12:AU35,">=0") -> 15 | BA35: =AY35/AZ35 -> 0.4 | BB35: =MODE(AS32:AS35) -> #VALUE! | BC35: =ABS(AS35-BB34) -> #VALUE! | BD35: =COUNTIF(BC24:BC35,"0") -> 3 | BE35: =COUNTIF(BC24:BC35,">=0") -> 8 | BF35: =BD35/BE35 -> 0.375 | BG35: =COUNTIF(BC12:BC35,"0") -> 9 | BH35: =COUNTIF(BC12:BC35,">=0") -> 20 | BI35: =BG35/BH35 -> 0.45 | BJ35: =MODE(AS31:AS35) -> #VALUE! | BK35: =ABS(AS35-BJ34) -> #VALUE! | BL35: =COUNTIF(BK24:BK35,"0") -> 2 | BM35: =COUNTIF(BK24:BK35,">=0") -> 8 | BN35: =BL35/BM35 -> 0.25 | BO35: =COUNTIF(BK12:BK35,"0") -> 8 | BP35: =COUNTIF(BK12:BK35,">=0") -> 20 | BQ35: =BO35/BP35 -> 0.4 | BR35: =MODE(AS30:AS35) -> #VALUE! | BS35: =ABS(AS35-BR34) -> #VALUE! | BT35: =COUNTIF(BS24:BS35,"0") -> 2 | BU35: =COUNTIF(BS24:BS35,">=0") -> 8 | BV35: =BT35/BU35 -> 0.25 | BW35: =COUNTIF(BS12:BS35,"0") -> 7 | BX35: =COUNTIF(BS12:BS35,">=0") -> 20 | BY35: =BW35/BX35 -> 0.35 | BZ35: =MODE(AS29:AS35) -> #VALUE! | CA35: =ABS(AS35-BZ34) -> #VALUE! | CB35: =COUNTIF(CA24:CA35,"0") -> 2 | CC35: =COUNTIF(CA24:CA35,">=0") -> 8 | CD35: =CB35/CC35 -> 0.25 | CE35: =COUNTIF(CA12:CA35,"0") -> 6 | CF35: =COUNTIF(CA12:CA35,">=0") -> 20 | CG35: =CE35/CF35 -> 0.3 | CH35: =MODE(AS28:AS35) -> #VALUE! | CI35: =ABS(AS35-CH34) -> #VALUE! | CJ35: =COUNTIF(CI24:CI35,"0") -> 2 | CK35: =COUNTIF(CI24:CI35,">=0") -> 8 | CL35: =CJ35/CK35 -> 0.25 | CM35: =COUNTIF(CI12:CI35,"0") -> 8 | CN35: =COUNTIF(CI12:CI35,">=0") -> 20 | CO35: =CM35/CN35 -> 0.4 | CP35: =MODE(AS27:AS35) -> #VALUE! | CQ35: =ABS(AS35-CP34) -> #VALUE! | CR35: =COUNTIF(CQ24:CQ35,"0") -> 1 | CS35: =COUNTIF(CQ24:CQ35,">=0") -> 8 | CT35: =CR35/CS35 -> 0.125 | CU35: =COUNTIF(CQ12:CQ35,"0") -> 8 | CV35: =COUNTIF(CQ12:CQ35,">=0") -> 20 | CW35: =CU35/CV35 -> 0.4 | CX35: =MODE(AS26:AS35) -> #VALUE! | CY35: =ABS(AS35-CX34) -> #VALUE! | CZ35: =COUNTIF(CY24:CY35,"0") -> 1 | DA35: =COUNTIF(CY24:CY35,">=0") -> 8 | DB35: =CZ35/DA35 -> 0.125 | DF35: =MODE(AS25:AS35) -> #VALUE! | DG35: =ABS(AS35-DF34) -> #VALUE! | DH35: =COUNTIF(DG24:DG35,"0") -> 1 | DI35: =COUNTIF(DG24:DG35,">=0") -> 8 | DJ35: =DH35/DI35 -> 0.125 | DN35: =MODE(AS24:AS35) -> #VALUE! | DO35: =ABS(AS35-DN34) -> #VALUE! | DP35: =COUNTIF(DO24:DO35,"0") -> 1 | DQ35: =COUNTIF(DO24:DO35,">=0") -> 8 | DR35: =DP35/DQ35 -> 0.125 | DV35: =MODE(AS23:AS35) -> #VALUE! | DW35: =ABS(AS35-DV34) -> #VALUE! | DX35: =COUNTIF(DW24:DW35,"0") -> 2 | DY35: =COUNTIF(DW24:DW35,">=0") -> 8 | DZ35: =DX35/DY35 -> 0.25
