Workbook
Name DB5200__1: ORIGINAL!$A$1:$A$220
Name DB5200__1: Sheet1!$A$1:$A$220

Sheet Sheet1
D1: Distance | F1: x | G1: 0 | H1: 1 | I1: 2 | J1: 3 | K1: 4 | L1: 5 | M1: 6 | N1: 7 | O1: 8 | P1: 9 | Q1: 10 | R1: 11 | S1: 12 | T1: 13 | U1: 14 | V1: 15 | W1: 16 | X1: 17 | Y1: 18 | Z1: 19 | AA1: 20 | AB1: 21 | AC1: 22 | AD1: 23 | AE1: 24 | AF1: 25 | AG1: 26 | AH1: 27 | AI1: 28 | AJ1: 29 | AK1: 30 | AL1: 31 | AM1: 32 | AN1: 33 | AO1: 34 | AP1: 35 | AQ1: 36 | AR1: x
A2: 1 | F2: 0 | G2: 0 | H2: 14 | I2: 6 | J2: 2 | K2: 4 | L2: 18 | M2: 10 | N2: 6 | O2: 16 | P2: 10 | Q2: 18 | R2: 14 | S2: 4 | T2: 12 | U2: 12 | V2: 2 | W2: 16 | X2: 8 | Y2: 8 | Z2: 3 | AA2: 13 | AB2: 5 | AC2: 9 | AD2: 17 | AE2: 17 | AF2: 7 | AG2: 1 | AH2: 11 | AI2: 5 | AJ2: 7 | AK2: 15 | AL2: 11 | AM2: 1 | AN2: 15 | AO2: 9 | AP2: 3 | AQ2: 13 | AR2: 0 | AT2: THREE | AU2: W/L | BB2: four | BC2: wl | BJ2: five | BR2: SIX | BS2: W/L | BZ2: seven | CH2: eight | CP2: NINE | CQ2: w/l | CX2: ten | DF2: eleven | DN2: twelve | DV2: thirteen
A3: 22 | C3: =VLOOKUP(A2,$F$1:$AQ$39,A3+2) -> 5 | D3: =IF(ISNA(C3),0,C3) -> 5 | F3: 1 | G3: 14 | H3: 0 | I3: 17 | J3: 12 | K3: 18 | L3: 4 | M3: 13 | N3: 8 | O3: 7 | P3: 4 | Q3: 5 | R3: 9 | S3: 10 | T3: 11 | U3: 2 | V3: 16 | W3: 2 | X3: 15 | Y3: 6 | Z3: 17 | AA3: 1 | AB3: 18 | AC3: 5 | AD3: 6 | AE3: 3 | AF3: 16 | AG3: 13 | AH3: 12 | AI3: 9 | AJ3: 7 | AK3: 8 | AL3: 3 | AM3: 15 | AN3: 1 | AO3: 14 | AP3: 11 | AQ3: 10 | AR3: 1 | AS3: =IF(AND(D3>0,D3<=6),1,IF(AND(D3>6,D3<=12),2,IF(AND(D3>12,D3<=18),3,IF(AND(D3>18,D3<=24),-3,IF(AND(D3>24,D3<=30),-2,IF(AND(D3>30,D3<=36),-1,0)))))) -> 1 | DO3: w/l | EG3: Three | EI3: =COUNTIF(AU6:AU524,"0") -> 9 | EN3: =COUNTIF(AU6:AU524,">=0") -> 20 | EO3: =EI3/EN3 -> 0.45
A4: 34 | C4: =VLOOKUP(A3,$F$1:$AQ$39,A4+2) -> 18 | D4: =IF(ISNA(C4),0,C4) -> 18 | F4: 2 | G4: 6 | H4: 17 | I4: 0 | J4: 8 | K4: 2 | L4: 13 | M4: 4 | N4: 12 | O4: 10 | P4: 16 | Q4: 12 | R4: 8 | S4: 10 | T4: 6 | U4: 18 | V4: 4 | W4: 15 | X4: 2 | Y4: 14 | Z4: 3 | AA4: 18 | AB4: 1 | AC4: 15 | AD4: 11 | AE4: 14 | AF4: 1 | AG4: 7 | AH4: 5 | AI4: 11 | AJ4: 13 | AK4: 9 | AL4: 17 | AM4: 5 | AN4: 16 | AO4: 3 | AP4: 9 | AQ4: 7 | AR4: 2 | AS4: =IF(AND(D4>0,D4<=6),1,IF(AND(D4>6,D4<=12),2,IF(AND(D4>12,D4<=18),3,IF(AND(D4>18,D4<=24),-3,IF(AND(D4>24,D4<=30),-2,IF(AND(D4>30,D4<=36),-1,0)))))) -> 3 | EG4: FOUR | EI4: =COUNTIF(BC7:BC524,"0") -> 12 | EN4: =COUNTIF(BC7:BC524,">=0") -> 25 | EO4: =EI4/EN4 -> 0.48
A5: 8 | C5: =VLOOKUP(A4,$F$1:$AQ$39,A5+2) -> 7 | D5: =IF(ISNA(C5),0,C5) -> 7 | F5: 3 | G5: 2 | H5: 12 | I5: 8 | J5: 0 | K5: 6 | L5: 16 | M5: 12 | N5: 4 | O5: 18 | P5: 8 | Q5: 17 | R5: 16 | S5: 2 | T5: 14 | U5: 10 | V5: 4 | W5: 14 | X5: 10 | Y5: 6 | Z5: 5 | AA5: 11 | AB5: 7 | AC5: 7 | AD5: 18 | AE5: 15 | AF5: 9 | AG5: 1 | AH5: 13 | AI5: 3 | AJ5: 5 | AK5: 17 | AL5: 9 | AM5: 3 | AN5: 13 | AO5: 11 | AP5: 1 | AQ5: 15 | AR5: 3 | AS5: =IF(AND(D5>0,D5<=6),1,IF(AND(D5>6,D5<=12),2,IF(AND(D5>12,D5<=18),3,IF(AND(D5>18,D5<=24),-3,IF(AND(D5>24,D5<=30),-2,IF(AND(D5>30,D5<=36),-1,0)))))) -> 2 | AT5: =MODE(AS3:AS5) -> #N/A | EG5: FIVE | EI5: =COUNTIF(BK8:BK524,"0") -> 10 | EN5: =COUNTIF(BK8:BK524,">=0") -> 24 | EO5: =EI5/EN5 -> 0.41666667
A6: 20 | C6: =VLOOKUP(A5,$F$1:$AQ$39,A6+2) -> 8 | D6: =IF(ISNA(C6),0,C6) -> 8 | F6: 4 | G6: 4 | H6: 18 | I6: 2 | J6: 6 | K6: 0 | L6: 15 | M6: 6 | N6: 10 | O6: 12 | P6: 14 | Q6: 14 | R6: 10 | S6: 8 | T6: 8 | U6: 16 | V6: 2 | W6: 17 | X6: 4 | Y6: 12 | Z6: 1 | AA6: 17 | AB6: 1 | AC6: 13 | AD6: 13 | AE6: 16 | AF6: 3 | AG6: 5 | AH6: 7 | AI6: 9 | AJ6: 11 | AK6: 11 | AL6: 15 | AM6: 3 | AN6: 18 | AO6: 5 | AP6: 7 | AQ6: 9 | AR6: 4 | AS6: =IF(AND(D6>0,D6<=6),1,IF(AND(D6>6,D6<=12),2,IF(AND(D6>12,D6<=18),3,IF(AND(D6>18,D6<=24),-3,IF(AND(D6>24,D6<=30),-2,IF(AND(D6>30,D6<=36),-1,0)))))) -> 2 | AT6: =MODE(AS4:AS6) -> 2 | AU6: =ABS(AS6-AT5) -> #N/A | BB6: =MODE(AS3:AS6) -> 2 | EG6: Six | EI6: =COUNTIF(BS9:BS524,"0") -> 9 | EN6: =COUNTIF(BS9:BS524,">=0") -> 23 | EO6: =EI6/EN6 -> 0.39130435
A7: 29 | C7: =VLOOKUP(A6,$F$1:$AQ$39,A7+2) -> 6 | D7: =IF(ISNA(C7),0,C7) -> 6 | F7: 5 | G7: 18 | H7: 4 | I7: 13 | J7: 16 | K7: 15 | L7: 0 | M7: 9 | N7: 12 | O7: 3 | P7: 8 | Q7: 1 | R7: 5 | S7: 14 | T7: 7 | U7: 6 | V7: 17 | W7: 2 | X7: 11 | Y7: 10 | Z7: 16 | AA7: 5 | AB7: 14 | AC7: 9 | AD7: 2 | AE7: 1 | AF7: 12 | AG7: 17 | AH7: 8 | AI7: 13 | AJ7: 11 | AK7: 4 | AL7: 7 | AM7: 18 | AN7: 3 | AO7: 10 | AP7: 15 | AQ7: 6 | AR7: 5 | AS7: =IF(AND(D7>0,D7<=6),1,IF(AND(D7>6,D7<=12),2,IF(AND(D7>12,D7<=18),3,IF(AND(D7>18,D7<=24),-3,IF(AND(D7>24,D7<=30),-2,IF(AND(D7>30,D7<=36),-1,0)))))) -> 1 | AT7: =MODE(AS5:AS7) -> 2 | AU7: =ABS(AS7-AT6) -> 1 | BB7: =MODE(AS4:AS7) -> 2 | BC7: =ABS(AS7-BB6) -> 1 | BJ7: =MODE(AS3:AS7) -> 1 | EG7: SEVEN | EI7: =COUNTIF(CA10:CA524,"0") -> 7 | EN7: =COUNTIF(CA10:CA524,">=0") -> 22 | EO7: =EI7/EN7 -> 0.31818182
A8: 33 | C8: =VLOOKUP(A7,$F$1:$AQ$39,A8+2) -> 8 | D8: =IF(ISNA(C8),0,C8) -> 8 | F8: 6 | G8: 10 | H8: 13 | I8: 4 | J8: 12 | K8: 6 | L8: 9 | M8: 0 | N8: 16 | O8: 6 | P8: 17 | Q8: 8 | R8: 4 | S8: 14 | T8: 2 | U8: 15 | V8: 8 | W8: 11 | X8: 2 | Y8: 18 | Z8: 7 | AA8: 14 | AB8: 5 | AC8: 18 | AD8: 7 | AE8: 10 | AF8: 3 | AG8: 11 | AH8: 1 | AI8: 15 | AJ8: 17 | AK8: 5 | AL8: 16 | AM8: 9 | AN8: 12 | AO8: 1 | AP8: 13 | AQ8: 3 | AR8: 6 | AS8: =IF(AND(D8>0,D8<=6),1,IF(AND(D8>6,D8<=12),2,IF(AND(D8>12,D8<=18),3,IF(AND(D8>18,D8<=24),-3,IF(AND(D8>24,D8<=30),-2,IF(AND(D8>30,D8<=36),-1,0)))))) -> 2 | AT8: =MODE(AS6:AS8) -> 2 | AU8: =ABS(AS8-AT7) -> 0 | BB8: =MODE(AS5:AS8) -> 2 | BC8: =ABS(AS8-BB7) -> 0 | BJ8: =MODE(AS4:AS8) -> 2 | BK8: =ABS(AS8-BJ7) -> 1 | BR8: =MODE(AS3:AS8) -> 2 | EG8: Eight | EI8: =COUNTIF(CI11:CI524,"0") -> 8 | EN8: =COUNTIF(CI11:CI524,">=0") -> 21 | EO8: =EI8/EN8 -> 0.38095238
A9: 29 | C9: =VLOOKUP(A8,$F$1:$AQ$39,A9+2) -> 8 | D9: =IF(ISNA(C9),0,C9) -> 8 | F9: 7 | G9: 6 | H9: 8 | I9: 12 | J9: 4 | K9: 10 | L9: 12 | M9: 16 | N9: 0 | O9: 15 | P9: 4 | Q9: 13 | R9: 17 | S9: 2 | T9: 18 | U9: 6 | V9: 8 | W9: 10 | X9: 14 | Y9: 2 | Z9: 9 | AA9: 7 | AB9: 11 | AC9: 3 | AD9: 14 | AE9: 11 | AF9: 13 | AG9: 5 | AH9: 17 | AI9: 1 | AJ9: 1 | AK9: 16 | AL9: 5 | AM9: 7 | AN9: 9 | AO9: 15 | AP9: 3 | AQ9: 19 | AR9: 7 | AS9: =IF(AND(D9>0,D9<=6),1,IF(AND(D9>6,D9<=12),2,IF(AND(D9>12,D9<=18),3,IF(AND(D9>18,D9<=24),-3,IF(AND(D9>24,D9<=30),-2,IF(AND(D9>30,D9<=36),-1,0)))))) -> 2 | AT9: =MODE(AS7:AS9) -> 2 | AU9: =ABS(AS9-AT8) -> 0 | BB9: =MODE(AS6:AS9) -> 2 | BC9: =ABS(AS9-BB8) -> 0 | BJ9: =MODE(AS5:AS9) -> 2 | BK9: =ABS(AS9-BJ8) -> 0 | BR9: =MODE(AS4:AS9) -> 2 | BS9: =ABS(AS9-BR8) -> 0 | BZ9: =MODE(AS3:AS9) -> 2 | EG9: nine | EI9: =COUNTIF(CQ12:CQ524,"0") -> 8 | EN9: =COUNTIF(CQ12:CQ524,">=0") -> 20 | EO9: =EI9/EN9 -> 0.4
A10: 24 | C10: =VLOOKUP(A9,$F$1:$AQ$39,A10+2) -> 10 | D10: =IF(ISNA(C10),0,C10) -> 10 | F10: 8 | G10: 16 | H10: 7 | I10: 10 | J10: 18 | K10: 12 | L10: 3 | M10: 6 | N10: 15 | O10: 0 | P10: 11 | Q10: 2 | R10: 2 | S10: 17 | T10: 4 | U10: 9 | V10: 14 | W10: 5 | X10: 8 | Y10: 13 | Z10: 13 | AA10: 8 | AB10: 11 | AC10: 12 | AD10: 1 | AE10: 4 | AF10: 9 | AG10: 17 | AH10: 5 | AI10: 16 | AJ10: 14 | AK10: 1 | AL10: 10 | AM10: 15 | AN10: 6 | AO10: 7 | AP10: 18 | AQ10: 3 | AR10: 8 | AS10: =IF(AND(D10>0,D10<=6),1,IF(AND(D10>6,D10<=12),2,IF(AND(D10>12,D10<=18),3,IF(AND(D10>18,D10<=24),-3,IF(AND(D10>24,D10<=30),-2,IF(AND(D10>30,D10<=36),-1,0)))))) -> 2 | AT10: =MODE(AS8:AS10) -> 2 | AU10: =ABS(AS10-AT9) -> 0 | BB10: =MODE(AS7:AS10) -> 2 | BC10: =ABS(AS10-BB9) -> 0 | BJ10: =MODE(AS6:AS10) -> 2 | BK10: =ABS(AS10-BJ9) -> 0 | BR10: =MODE(AS5:AS10) -> 2 | BS10: =ABS(AS10-BR9) -> 0 | BZ10: =MODE(AS4:AS10) -> 2 | CA10: =ABS(AS10-BZ9) -> 0 | CH10: =MODE(AS3:AS10) -> 2 | EG10: ten | EI10: =COUNTIF(CY13:CY524,"0") -> 7 | EN10: =COUNTIF(CY13:CY524,">=0") -> 19 | EO10: =EI10/EN10 -> 0.36842105
A11: 15 | C11: =VLOOKUP(A10,$F$1:$AQ$39,A11+2) -> 18 | D11: =IF(ISNA(C11),0,C11) -> 18 | F11: 9 | G11: 10 | H11: 4 | I11: 16 | J11: 8 | K11: 14 | L11: 8 | M11: 17 | N11: 4 | O11: 11 | P11: 0 | Q11: 9 | R11: 13 | S11: 6 | T11: 15 | U11: 2 | V11: 12 | W11: 6 | X11: 18 | Y11: 2 | Z11: 13 | AA11: 3 | AB11: 15 | AC11: 1 | AD11: 10 | AE11: 7 | AF11: 17 | AG11: 9 | AH11: 16 | AI11: 5 | AJ11: 3 | AK11: 12 | AL11: 1 | AM11: 11 | AN11: 5 | AO11: 18 | AP11: 7 | AQ11: 14 | AR11: 9 | AS11: =IF(AND(D11>0,D11<=6),1,IF(AND(D11>6,D11<=12),2,IF(AND(D11>12,D11<=18),3,IF(AND(D11>18,D11<=24),-3,IF(AND(D11>24,D11<=30),-2,IF(AND(D11>30,D11<=36),-1,0)))))) -> 3 | AT11: =MODE(AS9:AS11) -> 2 | AU11: =ABS(AS11-AT10) -> 1 | BB11: =MODE(AS8:AS11) -> 2 | BC11: =ABS(AS11-BB10) -> 1 | BJ11: =MODE(AS7:AS11) -> 2 | BK11: =ABS(AS11-BJ10) -> 1 | BR11: =MODE(AS6:AS11) -> 2 | BS11: =ABS(AS11-BR10) -> 1 | BZ11: =MODE(AS5:AS11) -> 2 | CA11: =ABS(AS11-BZ10) -> 1 | CH11: =MODE(AS4:AS11) -> 2 | CI11: =ABS(AS11-CH10) -> 1 | CP11: =MODE(AS3:AS11) -> 2 | EG11: eleven | EI11: =COUNTIF(DG14:DG524,"0") -> 6 | EN11: =COUNTIF(DG14:DG524,">=0") -> 18 | EO11: =EI11/EN11 -> 0.33333333
A12: 18 | C12: =VLOOKUP(A11,$F$1:$AQ$39,A12+2) -> 10 | D12: =IF(ISNA(C12),0,C12) -> 10 | F12: 10 | G12: 18 | H12: 5 | I12: 12 | J12: 17 | K12: 14 | L12: 1 | M12: 8 | N12: 13 | O12: 2 | P12: 9 | Q12: 0 | R12: 4 | S12: 15 | T12: 6 | U12: 7 | V12: 16 | W12: 3 | X12: 10 | Y12: 11 | Z12: 15 | AA12: 6 | AB12: 13 | AC12: 10 | AD12: 1 | AE12: 2 | AF12: 11 | AG12: 18 | AH12: 7 | AI12: 14 | AJ12: 12 | AK12: 3 | AL12: 8 | AM12: 17 | AN12: 4 | AO12: 9 | AP12: 16 | AQ12: 5 | AR12: 10 | AS12: =IF(AND(D12>0,D12<=6),1,IF(AND(D12>6,D12<=12),2,IF(AND(D12>12,D12<=18),3,IF(AND(D12>18,D12<=24),-3,IF(AND(D12>24,D12<=30),-2,IF(AND(D12>30,D12<=36),-1,0)))))) -> 2 | AT12: =MODE(AS10:AS12) -> 2 | AU12: =ABS(AS12-AT11) -> 0 | BB12: =MODE(AS9:AS12) -> 2 | BC12: =ABS(AS12-BB11) -> 0 | BJ12: =MODE(AS8:AS12) -> 2 | BK12: =ABS(AS12-BJ11) -> 0 | BR12: =MODE(AS7:AS12) -> 2 | BS12: =ABS(AS12-BR11) -> 0 | BZ12: =MODE(AS6:AS12) -> 2 | CA12: =ABS(AS12-BZ11) -> 0 | CH12: =MODE(AS5:AS12) -> 2 | CI12: =ABS(AS12-CH11) -> 0 | CP12: =MODE(AS4:AS12) -> 2 | CQ12: =ABS(AS12-CP11) -> 0 | CX12: =MODE(AS3:AS12) -> 2 | EG12: twelve | EI12: =COUNTIF(DO15:DO524,"0") -> 5 | EN12: =COUNTIF(DO15:DO524,">=0") -> 17 | EO12: =EI12/EN12 -> 0.29411765
A13: 26 | C13: =VLOOKUP(A12,$F$1:$AQ$39,A13+2) -> 7 | D13: =IF(ISNA(C13),0,C13) -> 7 | F13: 11 | G13: 14 | H13: 9 | I13: 8 | J13: 16 | K13: 10 | L13: 5 | M13: 4 | N13: 17 | O13: 2 | P13: 13 | Q13: 4 | R13: 0 | S13: 18 | T13: 2 | U13: 11 | V13: 12 | W13: 7 | X13: 6 | Y13: 15 | Z13: 11 | AA13: 10 | AB13: 9 | AC13: 14 | AD13: 3 | AE13: 6 | AF13: 7 | AG13: 15 | AH13: 3 | AI13: 18 | AJ13: 16 | AK13: 1 | AL13: 12 | AM13: 13 | AN13: 8 | AO13: 5 | AP13: 17 | AQ13: 1 | AR13: 11 | AS13: =IF(AND(D13>0,D13<=6),1,IF(AND(D13>6,D13<=12),2,IF(AND(D13>12,D13<=18),3,IF(AND(D13>18,D13<=24),-3,IF(AND(D13>24,D13<=30),-2,IF(AND(D13>30,D13<=36),-1,0)))))) -> 2 | AT13: =MODE(AS11:AS13) -> 2 | AU13: =ABS(AS13-AT12) -> 0 | BB13: =MODE(AS10:AS13) -> 2 | BC13: =ABS(AS13-BB12) -> 0 | BJ13: =MODE(AS9:AS13) -> 2 | BK13: =ABS(AS13-BJ12) -> 0 | BR13: =MODE(AS8:AS13) -> 2 | BS13: =ABS(AS13-BR12) -> 0 | BZ13: =MODE(AS7:AS13) -> 2 | CA13: =ABS(AS13-BZ12) -> 0 | CH13: =MODE(AS6:AS13) -> 2 | CI13: =ABS(AS13-CH12) -> 0 | CP13: =MODE(AS5:AS13) -> 2 | CQ13: =ABS(AS13-CP12) -> 0 | CX13: =MODE(AS4:AS13) -> 2 | CY13: =ABS(AS13-CX12) -> 0 | DF13: =MODE(AS3:AS13) -> 2 | EG13: thirteen | EI13: =COUNTIF(DW16:DW524,"0") -> 6 | EN13: =COUNTIF(DW16:DW524,">=0") -> 16 | EO13: =EI13/EN13 -> 0.375
A14: 6 | C14: =VLOOKUP(A13,$F$1:$AQ$39,A14+2) -> 11 | D14: =IF(ISNA(C14),0,C14) -> 11 | F14: 12 | G14: 4 | H14: 10 | I14: 10 | J14: 2 | K14: 8 | L14: 14 | M14: 14 | N14: 2 | O14: 17 | P14: 6 | Q14: 15 | R14: 18 | S14: 0 | T14: 16 | U14: 8 | V14: 6 | W14: 12 | X14: 12 | Y14: 4 | Z14: 7 | AA14: 9 | AB14: 9 | AC14: 5 | AD14: 16 | AE14: 13 | AF14: 11 | AG14: 3 | AH14: 15 | AI14: 1 | AJ14: 3 | AK14: 18 | AL14: 7 | AM14: 5 | AN14: 11 | AO14: 13 | AP14: 1 | AQ14: 17 | AR14: 12 | AS14: =IF(AND(D14>0,D14<=6),1,IF(AND(D14>6,D14<=12),2,IF(AND(D14>12,D14<=18),3,IF(AND(D14>18,D14<=24),-3,IF(AND(D14>24,D14<=30),-2,IF(AND(D14>30,D14<=36),-1,0)))))) -> 2 | AT14: =MODE(AS12:AS14) -> 2 | AU14: =ABS(AS14-AT13) -> 0 | BB14: =MODE(AS11:AS14) -> 2 | BC14: =ABS(AS14-BB13) -> 0 | BJ14: =MODE(AS10:AS14) -> 2 | BK14: =ABS(AS14-BJ13) -> 0 | BR14: =MODE(AS9:AS14) -> 2 | BS14: =ABS(AS14-BR13) -> 0 | BZ14: =MODE(AS8:AS14) -> 2 | CA14: =ABS(AS14-BZ13) -> 0 | CH14: =MODE(AS7:AS14) -> 2 | CI14: =ABS(AS14-CH13) -> 0 | CP14: =MODE(AS6:AS14) -> 2 | CQ14: =ABS(AS14-CP13) -> 0 | CX14: =MODE(AS5:AS14) -> 2 | CY14: =ABS(AS14-CX13) -> 0 | DF14: =MODE(AS4:AS14) -> 2 | DG14: =ABS(AS14-DF13) -> 0 | DN14: =MODE(AS3:AS14) -> 2
A15: 6 | C15: =VLOOKUP(A14,$F$1:$AQ$39,A15+2) -> 0 | D15: =IF(ISNA(C15),0,C15) -> 0 | F15: 13 | G15: 12 | H15: 11 | I15: 6 | J15: 14 | K15: 8 | L15: 7 | M15: 2 | N15: 18 | O15: 4 | P15: 15 | Q15: 6 | R15: 2 | S15: 16 | T15: 0 | U15: 13 | V15: 10 | W15: 9 | X15: 4 | Y15: 17 | Z15: 9 | AA15: 12 | AB15: 7 | AC15: 16 | AD15: 5 | AE15: 8 | AF15: 5 | AG15: 13 | AH15: 1 | AI15: 17 | AJ15: 18 | AK15: 3 | AL15: 14 | AM15: 11 | AN15: 10 | AO15: 3 | AP15: 15 | AQ15: 1 | AR15: 13 | AS15: =IF(AND(D15>0,D15<=6),1,IF(AND(D15>6,D15<=12),2,IF(AND(D15>12,D15<=18),3,IF(AND(D15>18,D15<=24),-3,IF(AND(D15>24,D15<=30),-2,IF(AND(D15>30,D15<=36),-1,0)))))) -> 0 | AT15: =MODE(AS13:AS15) -> 2 | AU15: =ABS(AS15-AT14) -> 2 | BB15: =MODE(AS12:AS15) -> 2 | BC15: =ABS(AS15-BB14) -> 2 | BJ15: =MODE(AS11:AS15) -> 2 | BK15: =ABS(AS15-BJ14) -> 2 | BR15: =MODE(AS10:AS15) -> 2 | BS15: =ABS(AS15-BR14) -> 2 | BZ15: =MODE(AS9:AS15) -> 2 | CA15: =ABS(AS15-BZ14) -> 2 | CH15: =MODE(AS8:AS15) -> 2 | CI15: =ABS(AS15-CH14) -> 2 | CP15: =MODE(AS7:AS15) -> 2 | CQ15: =ABS(AS15-CP14) -> 2 | CX15: =MODE(AS6:AS15) -> 2 | CY15: =ABS(AS15-CX14) -> 2 | DF15: =MODE(AS5:AS15) -> 2 | DG15: =ABS(AS15-DF14) -> 2 | DN15: =MODE(AS4:AS15) -> 2 | DO15: =ABS(AS15-DN14) -> 2 | DV15: =MODE(AS3:AS15) -> 2
A16: 17 | C16: =VLOOKUP(A15,$F$1:$AQ$39,A16+2) -> 2 | D16: =IF(ISNA(C16),0,C16) -> 2 | F16: 14 | G16: 12 | H16: 2 | I16: 18 | J16: 10 | K16: 16 | L16: 6 | M16: 15 | N16: 6 | O16: 9 | P16: 2 | Q16: 7 | R16: 11 | S16: 8 | T16: 13 | U16: 0 | V16: 14 | W16: 4 | X16: 17 | Y16: 4 | Z16: 15 | AA16: 1 | AB16: 17 | AC16: 3 | AD16: 8 | AE16: 5 | AF16: 18 | AG16: 11 | AH16: 14 | AI16: 7 | AJ16: 5 | AK16: 10 | AL16: 1 | AM16: 13 | AN16: 3 | AO16: 16 | AP16: 9 | AQ16: 12 | AR16: 14 | AS16: =IF(AND(D16>0,D16<=6),1,IF(AND(D16>6,D16<=12),2,IF(AND(D16>12,D16<=18),3,IF(AND(D16>18,D16<=24),-3,IF(AND(D16>24,D16<=30),-2,IF(AND(D16>30,D16<=36),-1,0)))))) -> 1 | AT16: =MODE(AS14:AS16) -> #N/A | AU16: =ABS(AS16-AT15) -> 1 | BB16: =MODE(AS13:AS16) -> 2 | BC16: =ABS(AS16-BB15) -> 1 | BJ16: =MODE(AS12:AS16) -> 2 | BK16: =ABS(AS16-BJ15) -> 1 | BR16: =MODE(AS11:AS16) -> 2 | BS16: =ABS(AS16-BR15) -> 1 | BZ16: =MODE(AS10:AS16) -> 2 | CA16: =ABS(AS16-BZ15) -> 1 | CH16: =MODE(AS9:AS16) -> 2 | CI16: =ABS(AS16-CH15) -> 1 | CP16: =MODE(AS8:AS16) -> 2 | CQ16: =ABS(AS16-CP15) -> 1 | CX16: =MODE(AS7:AS16) -> 2 | CY16: =ABS(AS16-CX15) -> 1 | DF16: =MODE(AS6:AS16) -> 2 | DG16: =ABS(AS16-DF15) -> 1 | DN16: =MODE(AS5:AS16) -> 2 | DO16: =ABS(AS16-DN15) -> 1 | DV16: =MODE(AS4:AS16) -> 2 | DW16: =ABS(AS16-DV15) -> 1
A17: 25 | C17: =VLOOKUP(A16,$F$1:$AQ$39,A17+2) -> 1 | D17: =IF(ISNA(C17),0,C17) -> 1 | F17: 15 | G17: 2 | H17: 16 | I17: 4 | J17: 4 | K17: 2 | L17: 17 | M17: 8 | N17: 8 | O17: 14 | P17: 12 | Q17: 16 | R17: 12 | S17: 6 | T17: 10 | U17: 14 | V17: 0 | W17: 18 | X17: 6 | Y17: 10 | Z17: 1 | AA17: 15 | AB17: 3 | AC17: 11 | AD17: 15 | AE17: 18 | AF17: 5 | AG17: 3 | AH17: 9 | AI17: 7 | AJ17: 9 | AK17: 13 | AL17: 13 | AM17: 1 | AN17: 17 | AO17: 7 | AP17: 5 | AQ17: 11 | AR17: 15 | AS17: =IF(AND(D17>0,D17<=6),1,IF(AND(D17>6,D17<=12),2,IF(AND(D17>12,D17<=18),3,IF(AND(D17>18,D17<=24),-3,IF(AND(D17>24,D17<=30),-2,IF(AND(D17>30,D17<=36),-1,0)))))) -> 1 | AT17: =MODE(AS15:AS17) -> 1 | AU17: =ABS(AS17-AT16) -> #N/A | AV17: =COUNTIF(AU6:AU17,"0") -> 6 | AW17: =COUNTIF(AU6:AU17,">=0") -> 10 | AX17: =AV17/AW17 -> 0.6 | BB17: =MODE(AS14:AS17) -> 1 | BC17: =ABS(AS17-BB16) -> 1 | BJ17: =MODE(AS13:AS17) -> 2 | BK17: =ABS(AS17-BJ16) -> 1 | BR17: =MODE(AS12:AS17) -> 2 | BS17: =ABS(AS17-BR16) -> 1 | BZ17: =MODE(AS11:AS17) -> 2 | CA17: =ABS(AS17-BZ16) -> 1 | CH17: =MODE(AS10:AS17) -> 2 | CI17: =ABS(AS17-CH16) -> 1 | CP17: =MODE(AS9:AS17) -> 2 | CQ17: =ABS(AS17-CP16) -> 1 | CX17: =MODE(AS8:AS17) -> 2 | CY17: =ABS(AS17-CX16) -> 1 | DF17: =MODE(AS7:AS17) -> 2 | DG17: =ABS(AS17-DF16) -> 1 | DN17: =MODE(AS6:AS17) -> 2 | DO17: =ABS(AS17-DN16) -> 1 | DV17: =MODE(AS5:AS17) -> 2 | DW17: =ABS(AS17-DV16) -> 1
A18: 10 | C18: =VLOOKUP(A17,$F$1:$AQ$39,A18+2) -> 11 | D18: =IF(ISNA(C18),0,C18) -> 11 | F18: 16 | G18: 16 | H18: 2 | I18: 15 | J18: 14 | K18: 17 | L18: 2 | M18: 11 | N18: 10 | O18: 5 | P18: 6 | Q18: 3 | R18: 7 | S18: 12 | T18: 9 | U18: 4 | V18: 18 | W18: 0 | X18: 13 | Y18: 8 | Z18: 18 | AA18: 3 | AB18: 16 | AC18: 7 | AD18: 4 | AE18: 1 | AF18: 14 | AG18: 15 | AH18: 10 | AI18: 11 | AJ18: 9 | AK18: 6 | AL18: 5 | AM18: 17 | AN18: 1 | AO18: 12 | AP18: 13 | AQ18: 8 | AR18: 16 | AS18: =IF(AND(D18>0,D18<=6),1,IF(AND(D18>6,D18<=12),2,IF(AND(D18>12,D18<=18),3,IF(AND(D18>18,D18<=24),-3,IF(AND(D18>24,D18<=30),-2,IF(AND(D18>30,D18<=36),-1,0)))))) -> 2 | AT18: =MODE(AS16:AS18) -> 1 | AU18: =ABS(AS18-AT17) -> 1 | AV18: =COUNTIF(AU7:AU18,"0") -> 6 | AW18: =COUNTIF(AU7:AU18,">=0") -> 11 | AX18: =AV18/AW18 -> 0.54545455 | BB18: =MODE(AS15:AS18) -> 1 | BC18: =ABS(AS18-BB17) -> 1 | BD18: =COUNTIF(BC7:BC18,"0") -> 6 | BE18: =COUNTIF(BC7:BC18,">=0") -> 12 | BF18: =BD18/BE18 -> 0.5 | BJ18: =MODE(AS14:AS18) -> 2 | BK18: =ABS(AS18-BJ17) -> 0 | BR18: =MODE(AS13:AS18) -> 2 | BS18: =ABS(AS18-BR17) -> 0 | BZ18: =MODE(AS12:AS18) -> 2 | CA18: =ABS(AS18-BZ17) -> 0 | CH18: =MODE(AS11:AS18) -> 2 | CI18: =ABS(AS18-CH17) -> 0 | CP18: =MODE(AS10:AS18) -> 2 | CQ18: =ABS(AS18-CP17) -> 0 | CX18: =MODE(AS9:AS18) -> 2 | CY18: =ABS(AS18-CX17) -> 0 | DF18: =MODE(AS8:AS18) -> 2 | DG18: =ABS(AS18-DF17) -> 0 | DN18: =MODE(AS7:AS18) -> 2 | DO18: =ABS(AS18-DN17) -> 0 | DV18: =MODE(AS6:AS18) -> 2 | DW18: =ABS(AS18-DV17) -> 0
A19: 28 | C19: =VLOOKUP(A18,$F$1:$AQ$39,A19+2) -> 14 | D19: =IF(ISNA(C19),0,C19) -> 14 | F19: 17 | G19: 8 | H19: 15 | I19: 2 | J19: 10 | K19: 4 | L19: 11 | M19: 2 | N19: 14 | O19: 8 | P19: 18 | Q19: 10 | R19: 6 | S19: 12 | T19: 4 | U19: 17 | V19: 6 | W19: 13 | X19: 0 | Y19: 16 | Z19: 5 | AA19: 16 | AB19: 3 | AC19: 17 | AD19: 9 | AE19: 12 | AF19: 1 | AG19: 9 | AH19: 3 | AI19: 13 | AJ19: 15 | AK19: 7 | AL19: 18 | AM19: 7 | AN19: 14 | AO19: 1 | AP19: 11 | AQ19: 5 | AR19: 17 | AS19: =IF(AND(D19>0,D19<=6),1,IF(AND(D19>6,D19<=12),2,IF(AND(D19>12,D19<=18),3,IF(AND(D19>18,D19<=24),-3,IF(AND(D19>24,D19<=30),-2,IF(AND(D19>30,D19<=36),-1,0)))))) -> 3 | AT19: =MODE(AS17:AS19) -> #N/A | AU19: =ABS(AS19-AT18) -> 2 | AV19: =COUNTIF(AU8:AU19,"0") -> 6 | AW19: =COUNTIF(AU8:AU19,">=0") -> 11 | AX19: =AV19/AW19 -> 0.54545455 | BB19: =MODE(AS16:AS19) -> 1 | BC19: =ABS(AS19-BB18) -> 2 | BD19: =COUNTIF(BC8:BC19,"0") -> 6 | BE19: =COUNTIF(BC8:BC19,">=0") -> 12 | BF19: =BD19/BE19 -> 0.5 | BJ19: =MODE(AS15:AS19) -> 1 | BK19: =ABS(AS19-BJ18) -> 1 | BL19: =COUNTIF(BK8:BK19,"0") -> 6 | BM19: =COUNTIF(BK8:BK19,">=0") -> 12 | BN19: =BL19/BM19 -> 0.5 | BR19: =MODE(AS14:AS19) -> 2 | BS19: =ABS(AS19-BR18) -> 1 | BZ19: =MODE(AS13:AS19) -> 2 | CA19: =ABS(AS19-BZ18) -> 1 | CH19: =MODE(AS12:AS19) -> 2 | CI19: =ABS(AS19-CH18) -> 1 | CP19: =MODE(AS11:AS19) -> 2 | CQ19: =ABS(AS19-CP18) -> 1 | CX19: =MODE(AS10:AS19) -> 2 | CY19: =ABS(AS19-CX18) -> 1 | DF19: =MODE(AS9:AS19) -> 2 | DG19: =ABS(AS19-DF18) -> 1 | DN19: =MODE(AS8:AS19) -> 2 | DO19: =ABS(AS19-DN18) -> 1 | DV19: =MODE(AS7:AS19) -> 2 | DW19: =ABS(AS19-DV18) -> 1
A20: 3 | C20: =VLOOKUP(A19,$F$1:$AQ$39,A20+2) -> 3 | D20: =IF(ISNA(C20),0,C20) -> 3 | F20: 18 | G20: 8 | H20: 6 | I20: 14 | J20: 6 | K20: 12 | L20: 10 | M20: 18 | N20: 2 | O20: 13 | P20: 2 | Q20: 11 | R20: 15 | S20: 4 | T20: 17 | U20: 4 | V20: 10 | W20: 8 | X20: 16 | Y20: 0 | Z20: 11 | AA20: 5 | AB20: 13 | AC20: 1 | AD20: 12 | AE20: 9 | AF20: 15 | AG20: 7 | AH20: 18 | AI20: 3 | AJ20: 1 | AK20: 14 | AL20: 3 | AM20: 9 | AN20: 7 | AO20: 17 | AP20: 5 | AQ20: 16 | AR20: 18 | AS20: =IF(AND(D20>0,D20<=6),1,IF(AND(D20>6,D20<=12),2,IF(AND(D20>12,D20<=18),3,IF(AND(D20>18,D20<=24),-3,IF(AND(D20>24,D20<=30),-2,IF(AND(D20>30,D20<=36),-1,0)))))) -> 1 | AT20: =MODE(AS18:AS20) -> #N/A | AU20: =ABS(AS20-AT19) -> #N/A | AV20: =COUNTIF(AU9:AU20,"0") -> 5 | AW20: =COUNTIF(AU9:AU20,">=0") -> 10 | AX20: =AV20/AW20 -> 0.5 | BB20: =MODE(AS17:AS20) -> 1 | BC20: =ABS(AS20-BB19) -> 0 | BD20: =COUNTIF(BC9:BC20,"0") -> 6 | BE20: =COUNTIF(BC9:BC20,">=0") -> 12 | BF20: =BD20/BE20 -> 0.5 | BJ20: =MODE(AS16:AS20) -> 1 | BK20: =ABS(AS20-BJ19) -> 0 | BL20: =COUNTIF(BK9:BK20,"0") -> 7 | BM20: =COUNTIF(BK9:BK20,">=0") -> 12 | BN20: =BL20/BM20 -> 0.58333333 | BR20: =MODE(AS15:AS20) -> 1 | BS20: =ABS(AS20-BR19) -> 1 | BT20: =COUNTIF(BS9:BS20,"0") -> 6 | BU20: =COUNTIF(BS9:BS20,">=0") -> 12 | BV20: =BT20/BU20 -> 0.5 | BZ20: =MODE(AS14:AS20) -> 1 | CA20: =ABS(AS20-BZ19) -> 1 | CH20: =MODE(AS13:AS20) -> 2 | CI20: =ABS(AS20-CH19) -> 1 | CP20: =MODE(AS12:AS20) -> 2 | CQ20: =ABS(AS20-CP19) -> 1 | CX20: =MODE(AS11:AS20) -> 2 | CY20: =ABS(AS20-CX19) -> 1 | DF20: =MODE(AS10:AS20) -> 2 | DG20: =ABS(AS20-DF19) -> 1 | DN20: =MODE(AS9:AS20) -> 2 | DO20: =ABS(AS20-DN19) -> 1 | DV20: =MODE(AS8:AS20) -> 2 | DW20: =ABS(AS20-DV19) -> 1
A21: 21 | C21: =VLOOKUP(A20,$F$1:$AQ$39,A21+2) -> 7 | D21: =IF(ISNA(C21),0,C21) -> 7 | F21: 19 | G21: 3 | H21: 17 | I21: 3 | J21: 5 | K21: 1 | L21: 16 | M21: 7 | N21: 9 | O21: 13 | P21: 13 | Q21: 15 | R21: 11 | S21: 7 | T21: 9 | U21: 15 | V21: 1 | W21: 18 | X21: 5 | Y21: 11 | Z21: 0 | AA21: 16 | AB21: 2 | AC21: 12 | AD21: 14 | AE21: 17 | AF21: 4 | AG21: 4 | AH21: 8 | AI21: 8 | AJ21: 10 | AK21: 12 | AL21: 14 | AM21: 2 | AN21: 18 | AO21: 6 | AP21: 6 | AQ21: 10 | AR21: 19 | AS21: =IF(AND(D21>0,D21<=6),1,IF(AND(D21>6,D21<=12),2,IF(AND(D21>12,D21<=18),3,IF(AND(D21>18,D21<=24),-3,IF(AND(D21>24,D21<=30),-2,IF(AND(D21>30,D21<=36),-1,0)))))) -> 2 | AT21: =MODE(AS19:AS21) -> #N/A | AU21: =ABS(AS21-AT20) -> #N/A | AV21: =COUNTIF(AU10:AU21,"0") -> 4 | AW21: =COUNTIF(AU10:AU21,">=0") -> 9 | AX21: =AV21/AW21 -> 0.44444444 | BB21: =MODE(AS18:AS21) -> 2 | BC21: =ABS(AS21-BB20) -> 1 | BD21: =COUNTIF(BC10:BC21,"0") -> 5 | BE21: =COUNTIF(BC10:BC21,">=0") -> 12 | BF21: =BD21/BE21 -> 0.41666667 | BJ21: =MODE(AS17:AS21) -> 1 | BK21: =ABS(AS21-BJ20) -> 1 | BL21: =COUNTIF(BK10:BK21,"0") -> 6 | BM21: =COUNTIF(BK10:BK21,">=0") -> 12 | BN21: =BL21/BM21 -> 0.5 | BR21: =MODE(AS16:AS21) -> 1 | BS21: =ABS(AS21-BR20) -> 1 | BT21: =COUNTIF(BS10:BS21,"0") -> 5 | BU21: =COUNTIF(BS10:BS21,">=0") -> 12 | BV21: =BT21/BU21 -> 0.41666667 | BZ21: =MODE(AS15:AS21) -> 1 | CA21: =ABS(AS21-BZ20) -> 1 | CB21: =COUNTIF(CA10:CA21,"0") -> 5 | CC21: =COUNTIF(CA10:CA21,">=0") -> 12 | CD21: =CB21/CC21 -> 0.41666667 | CH21: =MODE(AS14:AS21) -> 2 | CI21: =ABS(AS21-CH20) -> 0 | CP21: =MODE(AS13:AS21) -> 2 | CQ21: =ABS(AS21-CP20) -> 0 | CX21: =MODE(AS12:AS21) -> 2 | CY21: =ABS(AS21-CX20) -> 0 | DF21: =MODE(AS11:AS21) -> 2 | DG21: =ABS(AS21-DF20) -> 0 | DN21: =MODE(AS10:AS21) -> 2 | DO21: =ABS(AS21-DN20) -> 0 | DV21: =MODE(AS9:AS21) -> 2 | DW21: =ABS(AS21-DV20) -> 0
A22: 3 | C22: =VLOOKUP(A21,$F$1:$AQ$39,A22+2) -> 7 | D22: =IF(ISNA(C22),0,C22) -> 7 | F22: 20 | G22: 13 | H22: 1 | I22: 18 | J22: 11 | K22: 17 | L22: 5 | M22: 14 | N22: 7 | O22: 8 | P22: 3 | Q22: 6 | R22: 10 | S22: 9 | T22: 12 | U22: 1 | V22: 15 | W22: 3 | X22: 16 | Y22: 5 | Z22: 16 | AA22: 0 | AB22: 18 | AC22: 4 | AD22: 7 | AE22: 4 | AF22: 17 | AG22: 12 | AH22: 13 | AI22: 8 | AJ22: 6 | AK22: 9 | AL22: 2 | AM22: 14 | AN22: 2 | AO22: 15 | AP22: 10 | AQ22: 11 | AR22: 20 | AS22: =IF(AND(D22>0,D22<=6),1,IF(AND(D22>6,D22<=12),2,IF(AND(D22>12,D22<=18),3,IF(AND(D22>18,D22<=24),-3,IF(AND(D22>24,D22<=30),-2,IF(AND(D22>30,D22<=36),-1,0)))))) -> 2 | AT22: =MODE(AS20:AS22) -> 2 | AU22: =ABS(AS22-AT21) -> #N/A | AV22: =COUNTIF(AU11:AU22,"0") -> 3 | AW22: =COUNTIF(AU11:AU22,">=0") -> 8 | AX22: =AV22/AW22 -> 0.375 | BB22: =MODE(AS19:AS22) -> 2 | BC22: =ABS(AS22-BB21) -> 0 | BD22: =COUNTIF(BC11:BC22,"0") -> 5 | BE22: =COUNTIF(BC11:BC22,">=0") -> 12 | BF22: =BD22/BE22 -> 0.41666667 | BJ22: =MODE(AS18:AS22) -> 2 | BK22: =ABS(AS22-BJ21) -> 1 | BL22: =COUNTIF(BK11:BK22,"0") -> 5 | BM22: =COUNTIF(BK11:BK22,">=0") -> 12 | BN22: =BL22/BM22 -> 0.41666667 | BR22: =MODE(AS17:AS22) -> 2 | BS22: =ABS(AS22-BR21) -> 1 | BT22: =COUNTIF(BS11:BS22,"0") -> 4 | BU22: =COUNTIF(BS11:BS22,">=0") -> 12 | BV22: =BT22/BU22 -> 0.33333333 | BZ22: =MODE(AS16:AS22) -> 1 | CA22: =ABS(AS22-BZ21) -> 1 | CB22: =COUNTIF(CA11:CA22,"0") -> 4 | CC22: =COUNTIF(CA11:CA22,">=0") -> 12 | CD22: =CB22/CC22 -> 0.33333333 | CH22: =MODE(AS15:AS22) -> 1 | CI22: =ABS(AS22-CH21) -> 0 | CJ22: =COUNTIF(CI11:CI22,"0") -> 6 | CK22: =COUNTIF(CI11:CI22,">=0") -> 12 | CL22: =CJ22/CK22 -> 0.5 | CP22: =MODE(AS14:AS22) -> 2 | CQ22: =ABS(AS22-CP21) -> 0 | CX22: =MODE(AS13:AS22) -> 2 | CY22: =ABS(AS22-CX21) -> 0 | DF22: =MODE(AS12:AS22) -> 2 | DG22: =ABS(AS22-DF21) -> 0 | DN22: =MODE(AS11:AS22) -> 2 | DO22: =ABS(AS22-DN21) -> 0 | DV22: =MODE(AS10:AS22) -> 2 | DW22: =ABS(AS22-DV21) -> 0
A23: 34 | C23: =VLOOKUP(A22,$F$1:$AQ$39,A23+2) -> 11 | D23: =IF(ISNA(C23),0,C23) -> 11 | F23: 21 | G23: 5 | H23: 18 | I23: 1 | J23: 7 | K23: 1 | L23: 14 | M23: 5 | N23: 11 | O23: 11 | P23: 15 | Q23: 13 | R23: 9 | S23: 9 | T23: 7 | U23: 17 | V23: 3 | W23: 16 | X23: 3 | Y23: 13 | Z23: 2 | AA23: 18 | AB23: 0 | AC23: 14 | AD23: 12 | AE23: 15 | AF23: 2 | AG23: 6 | AH23: 6 | AI23: 10 | AJ23: 12 | AK23: 10 | AL23: 16 | AM23: 4 | AN23: 17 | AO23: 4 | AP23: 8 | AQ23: 8 | AR23: 21 | AS23: =IF(AND(D23>0,D23<=6),1,IF(AND(D23>6,D23<=12),2,IF(AND(D23>12,D23<=18),3,IF(AND(D23>18,D23<=24),-3,IF(AND(D23>24,D23<=30),-2,IF(AND(D23>30,D23<=36),-1,0)))))) -> 2 | AT23: =MODE(AS21:AS23) -> 2 | AU23: =ABS(AS23-AT22) -> 0 | AV23: =COUNTIF(AU12:AU23,"0") -> 4 | AW23: =COUNTIF(AU12:AU23,">=0") -> 8 | AX23: =AV23/AW23 -> 0.5 | BB23: =MODE(AS20:AS23) -> 2 | BC23: =ABS(AS23-BB22) -> 0 | BD23: =COUNTIF(BC12:BC23,"0") -> 6 | BE23: =COUNTIF(BC12:BC23,">=0") -> 12 | BF23: =BD23/BE23 -> 0.5 | BJ23: =MODE(AS19:AS23) -> 2 | BK23: =ABS(AS23-BJ22) -> 0 | BL23: =COUNTIF(BK12:BK23,"0") -> 6 | BM23: =COUNTIF(BK12:BK23,">=0") -> 12 | BN23: =BL23/BM23 -> 0.5 | BR23: =MODE(AS18:AS23) -> 2 | BS23: =ABS(AS23-BR22) -> 0 | BT23: =COUNTIF(BS12:BS23,"0") -> 5 | BU23: =COUNTIF(BS12:BS23,">=0") -> 12 | BV23: =BT23/BU23 -> 0.41666667 | BZ23: =MODE(AS17:AS23) -> 2 | CA23: =ABS(AS23-BZ22) -> 1 | CB23: =COUNTIF(CA12:CA23,"0") -> 4 | CC23: =COUNTIF(CA12:CA23,">=0") -> 12 | CD23: =CB23/CC23 -> 0.33333333 | CH23: =MODE(AS16:AS23) -> 2 | CI23: =ABS(AS23-CH22) -> 1 | CJ23: =COUNTIF(CI12:CI23,"0") -> 6 | CK23: =COUNTIF(CI12:CI23,">=0") -> 12 | CL23: =CJ23/CK23 -> 0.5 | CP23: =MODE(AS15:AS23) -> 2 | CQ23: =ABS(AS23-CP22) -> 0 | CR23: =COUNTIF(CQ12:CQ23,"0") -> 7 | CS23: =COUNTIF(CQ12:CQ23,">=0") -> 12 | CT23: =CR23/CS23 -> 0.58333333 | CX23: =MODE(AS14:AS23) -> 2 | CY23: =ABS(AS23-CX22) -> 0 | DF23: =MODE(AS13:AS23) -> 2 | DG23: =ABS(AS23-DF22) -> 0 | DN23: =MODE(AS12:AS23) -> 2 | DO23: =ABS(AS23-DN22) -> 0 | DV23: =MODE(AS11:AS23) -> 2 | DW23: =ABS(AS23-DV22) -> 0
A24: 36 | C24: =VLOOKUP(A23,$F$1:$AQ$39,A24+2) -> 4 | D24: =IF(ISNA(C24),0,C24) -> 4 | F24: 22 | G24: 9 | H24: 5 | I24: 15 | J24: 7 | K24: 13 | L24: 9 | M24: 18 | N24: 3 | O24: 12 | P24: 1 | Q24: 10 | R24: 14 | S24: 5 | T24: 16 | U24: 3 | V24: 11 | W24: 7 | X24: 17 | Y24: 1 | Z24: 12 | AA24: 4 | AB24: 14 | AC24: 0 | AD24: 11 | AE24: 8 | AF24: 16 | AG24: 8 | AH24: 17 | AI24: 4 | AJ24: 2 | AK24: 13 | AL24: 2 | AM24: 10 | AN24: 6 | AO24: 18 | AP24: 6 | AQ24: 15 | AR24: 22 | AS24: =IF(AND(D24>0,D24<=6),1,IF(AND(D24>6,D24<=12),2,IF(AND(D24>12,D24<=18),3,IF(AND(D24>18,D24<=24),-3,IF(AND(D24>24,D24<=30),-2,IF(AND(D24>30,D24<=36),-1,0)))))) -> 1 | AT24: =MODE(AS22:AS24) -> 2 | AU24: =ABS(AS24-AT23) -> 1 | AV24: =COUNTIF(AU13:AU24,"0") -> 3 | AW24: =COUNTIF(AU13:AU24,">=0") -> 8 | AX24: =AV24/AW24 -> 0.375 | BB24: =MODE(AS21:AS24) -> 2 | BC24: =ABS(AS24-BB23) -> 1 | BD24: =COUNTIF(BC13:BC24,"0") -> 5 | BE24: =COUNTIF(BC13:BC24,">=0") -> 12 | BF24: =BD24/BE24 -> 0.41666667 | BJ24: =MODE(AS20:AS24) -> 2 | BK24: =ABS(AS24-BJ23) -> 1 | BL24: =COUNTIF(BK13:BK24,"0") -> 5 | BM24: =COUNTIF(BK13:BK24,">=0") -> 12 | BN24: =BL24/BM24 -> 0.41666667 | BR24: =MODE(AS19:AS24) -> 2 | BS24: =ABS(AS24-BR23) -> 1 | BT24: =COUNTIF(BS13:BS24,"0") -> 4 | BU24: =COUNTIF(BS13:BS24,">=0") -> 12 | BV24: =BT24/BU24 -> 0.33333333 | BZ24: =MODE(AS18:AS24) -> 2 | CA24: =ABS(AS24-BZ23) -> 1 | CB24: =COUNTIF(CA13:CA24,"0") -> 3 | CC24: =COUNTIF(CA13:CA24,">=0") -> 12 | CD24: =CB24/CC24 -> 0.25 | CH24: =MODE(AS17:AS24) -> 2 | CI24: =ABS(AS24-CH23) -> 1 | CJ24: =COUNTIF(CI13:CI24,"0") -> 5 | CK24: =COUNTIF(CI13:CI24,">=0") -> 12 | CL24: =CJ24/CK24 -> 0.41666667 | CP24: =MODE(AS16:AS24) -> 1 | CQ24: =ABS(AS24-CP23) -> 1 | CR24: =COUNTIF(CQ13:CQ24,"0") -> 6 | CS24: =COUNTIF(CQ13:CQ24,">=0") -> 12 | CT24: =CR24/CS24 -> 0.5 | CX24: =MODE(AS15:AS24) -> 1 | CY24: =ABS(AS24-CX23) -> 1 | CZ24: =COUNTIF(CY13:CY24,"0") -> 6 | DA24: =COUNTIF(CY13:CY24,">=0") -> 12 | DB24: =CZ24/DA24 -> 0.5 | DF24: =MODE(AS14:AS24) -> 2 | DG24: =ABS(AS24-DF23) -> 1 | DN24: =MODE(AS13:AS24) -> 2 | DO24: =ABS(AS24-DN23) -> 1 | DV24: =MODE(AS12:AS24) -> 2 | DW24: =ABS(AS24-DV23) -> 1
A25: 21 | C25: =VLOOKUP(A24,$F$1:$AQ$39,A25+2) -> 8 | D25: =IF(ISNA(C25),0,C25) -> 8 | F25: 23 | G25: 17 | H25: 6 | I25: 11 | J25: 18 | K25: 13 | L25: 2 | M25: 7 | N25: 14 | O25: 1 | P25: 10 | Q25: 1 | R25: 3 | S25: 16 | T25: 5 | U25: 8 | V25: 15 | W25: 4 | X25: 9 | Y25: 12 | Z25: 14 | AA25: 7 | AB25: 12 | AC25: 11 | AD25: 0 | AE25: 3 | AF25: 10 | AG25: 18 | AH25: 6 | AI25: 15 | AJ25: 13 | AK25: 2 | AL25: 9 | AM25: 16 | AN25: 5 | AO25: 8 | AP25: 17 | AQ25: 4 | AR25: 23 | AS25: =IF(AND(D25>0,D25<=6),1,IF(AND(D25>6,D25<=12),2,IF(AND(D25>12,D25<=18),3,IF(AND(D25>18,D25<=24),-3,IF(AND(D25>24,D25<=30),-2,IF(AND(D25>30,D25<=36),-1,0)))))) -> 2 | AT25: =MODE(AS23:AS25) -> 2 | AU25: =ABS(AS25-AT24) -> 0 | AV25: =COUNTIF(AU14:AU25,"0") -> 3 | AW25: =COUNTIF(AU14:AU25,">=0") -> 8 | AX25: =AV25/AW25 -> 0.375 | BB25: =MODE(AS22:AS25) -> 2 | BC25: =ABS(AS25-BB24) -> 0 | BD25: =COUNTIF(BC14:BC25,"0") -> 5 | BE25: =COUNTIF(BC14:BC25,">=0") -> 12 | BF25: =BD25/BE25 -> 0.41666667 | BJ25: =MODE(AS21:AS25) -> 2 | BK25: =ABS(AS25-BJ24) -> 0 | BL25: =COUNTIF(BK14:BK25,"0") -> 5 | BM25: =COUNTIF(BK14:BK25,">=0") -> 12 | BN25: =BL25/BM25 -> 0.41666667 | BR25: =MODE(AS20:AS25) -> 2 | BS25: =ABS(AS25-BR24) -> 0 | BT25: =COUNTIF(BS14:BS25,"0") -> 4 | BU25: =COUNTIF(BS14:BS25,">=0") -> 12 | BV25: =BT25/BU25 -> 0.33333333 | BZ25: =MODE(AS19:AS25) -> 2 | CA25: =ABS(AS25-BZ24) -> 0 | CB25: =COUNTIF(CA14:CA25,"0") -> 3 | CC25: =COUNTIF(CA14:CA25,">=0") -> 12 | CD25: =CB25/CC25 -> 0.25 | CH25: =MODE(AS18:AS25) -> 2 | CI25: =ABS(AS25-CH24) -> 0 | CJ25: =COUNTIF(CI14:CI25,"0") -> 5 | CK25: =COUNTIF(CI14:CI25,">=0") -> 12 | CL25: =CJ25/CK25 -> 0.41666667 | CP25: =MODE(AS17:AS25) -> 2 | CQ25: =ABS(AS25-CP24) -> 1 | CR25: =COUNTIF(CQ14:CQ25,"0") -> 5 | CS25: =COUNTIF(CQ14:CQ25,">=0") -> 12 | CT25: =CR25/CS25 -> 0.41666667 | CX25: =MODE(AS16:AS25) -> 2 | CY25: =ABS(AS25-CX24) -> 1 | CZ25: =COUNTIF(CY14:CY25,"0") -> 5 | DA25: =COUNTIF(CY14:CY25,">=0") -> 12 | DB25: =CZ25/DA25 -> 0.41666667 | DF25: =MODE(AS15:AS25) -> 2 | DG25: =ABS(AS25-DF24) -> 0 | DH25: =COUNTIF(DG14:DG25,"0") -> 6 | DI25: =COUNTIF(DG14:DG25,">=0") -> 12 | DJ25: =DH25/DI25 -> 0.5 | DN25: =MODE(AS14:AS25) -> 2 | DO25: =ABS(AS25-DN24) -> 0 | DV25: =MODE(AS13:AS25) -> 2 | DW25: =ABS(AS25-DV24) -> 0
A26: 19 | C26: =VLOOKUP(A25,$F$1:$AQ$39,A26+2) -> 2 | D26: =IF(ISNA(C26),0,C26) -> 2 | F26: 24 | G26: 17 | H26: 3 | I26: 14 | J26: 15 | K26: 16 | L26: 1 | M26: 10 | N26: 11 | O26: 4 | P26: 7 | Q26: 2 | R26: 6 | S26: 13 | T26: 8 | U26: 5 | V26: 18 | W26: 1 | X26: 12 | Y26: 9 | Z26: 17 | AA26: 4 | AB26: 15 | AC26: 8 | AD26: 3 | AE26: 0 | AF26: 13 | AG26: 16 | AH26: 9 | AI26: 12 | AJ26: 10 | AK26: 5 | AL26: 6 | AM26: 18 | AN26: 2 | AO26: 11 | AP26: 14 | AQ26: 7 | AR26: 24 | AS26: =IF(AND(D26>0,D26<=6),1,IF(AND(D26>6,D26<=12),2,IF(AND(D26>12,D26<=18),3,IF(AND(D26>18,D26<=24),-3,IF(AND(D26>24,D26<=30),-2,IF(AND(D26>30,D26<=36),-1,0)))))) -> 1 | AT26: =MODE(AS24:AS26) -> 1 | AU26: =ABS(AS26-AT25) -> 1 | AV26: =COUNTIF(AU15:AU26,"0") -> 2 | AW26: =COUNTIF(AU15:AU26,">=0") -> 8 | AX26: =AV26/AW26 -> 0.25 | BB26: =MODE(AS23:AS26) -> 2 | BC26: =ABS(AS26-BB25) -> 1 | BD26: =COUNTIF(BC15:BC26,"0") -> 4 | BE26: =COUNTIF(BC15:BC26,">=0") -> 12 | BF26: =BD26/BE26 -> 0.33333333 | BJ26: =MODE(AS22:AS26) -> 2 | BK26: =ABS(AS26-BJ25) -> 1 | BL26: =COUNTIF(BK15:BK26,"0") -> 4 | BM26: =COUNTIF(BK15:BK26,">=0") -> 12 | BN26: =BL26/BM26 -> 0.33333333 | BR26: =MODE(AS21:AS26) -> 2 | BS26: =ABS(AS26-BR25) -> 1 | BT26: =COUNTIF(BS15:BS26,"0") -> 3 | BU26: =COUNTIF(BS15:BS26,">=0") -> 12 | BV26: =BT26/BU26 -> 0.25 | BZ26: =MODE(AS20:AS26) -> 2 | CA26: =ABS(AS26-BZ25) -> 1 | CB26: =COUNTIF(CA15:CA26,"0") -> 2 | CC26: =COUNTIF(CA15:CA26,">=0") -> 12 | CD26: =CB26/CC26 -> 0.16666667 | CH26: =MODE(AS19:AS26) -> 2 | CI26: =ABS(AS26-CH25) -> 1 | CJ26: =COUNTIF(CI15:CI26,"0") -> 4 | CK26: =COUNTIF(CI15:CI26,">=0") -> 12 | CL26: =CJ26/CK26 -> 0.33333333 | CP26: =MODE(AS18:AS26) -> 2 | CQ26: =ABS(AS26-CP25) -> 1 | CR26: =COUNTIF(CQ15:CQ26,"0") -> 4 | CS26: =COUNTIF(CQ15:CQ26,">=0") -> 12 | CT26: =CR26/CS26 -> 0.33333333 | CX26: =MODE(AS17:AS26) -> 2 | CY26: =ABS(AS26-CX25) -> 1 | CZ26: =COUNTIF(CY15:CY26,"0") -> 4 | DA26: =COUNTIF(CY15:CY26,">=0") -> 12 | DB26: =CZ26/DA26 -> 0.33333333 | DF26: =MODE(AS16:AS26) -> 1 | DG26: =ABS(AS26-DF25) -> 1 | DH26: =COUNTIF(DG15:DG26,"0") -> 5 | DI26: =COUNTIF(DG15:DG26,">=0") -> 12 | DJ26: =DH26/DI26 -> 0.41666667 | DN26: =MODE(AS15:AS26) -> 1 | DO26: =ABS(AS26-DN25) -> 1 | DP26: =COUNTIF(DO15:DO26,"0") -> 5 | DQ26: =COUNTIF(DO15:DO26,">=0") -> 12 | DR26: =DP26/DQ26 -> 0.41666667 | DV26: =MODE(AS14:AS26) -> 2 | DW26: =ABS(AS26-DV25) -> 1
A27: 11 | C27: =VLOOKUP(A26,$F$1:$AQ$39,A27+2) -> 11 | D27: =IF(ISNA(C27),0,C27) -> 11 | F27: 25 | G27: 7 | H27: 16 | I27: 1 | J27: 9 | K27: 3 | L27: 12 | M27: 3 | N27: 13 | O27: 9 | P27: 17 | Q27: 11 | R27: 7 | S27: 11 | T27: 5 | U27: 18 | V27: 5 | W27: 14 | X27: 1 | Y27: 15 | Z27: 4 | AA27: 17 | AB27: 2 | AC27: 16 | AD27: 10 | AE27: 13 | AF27: 0 | AG27: 8 | AH27: 4 | AI27: 12 | AJ27: 14 | AK27: 8 | AL27: 18 | AM27: 6 | AN27: 15 | AO27: 2 | AP27: 10 | AQ27: 6 | AR27: 25 | AS27: =IF(AND(D27>0,D27<=6),1,IF(AND(D27>6,D27<=12),2,IF(AND(D27>12,D27<=18),3,IF(AND(D27>18,D27<=24),-3,IF(AND(D27>24,D27<=30),-2,IF(AND(D27>30,D27<=36),-1,0)))))) -> 2 | AT27: =MODE(AS25:AS27) -> 2 | AU27: =ABS(AS27-AT26) -> 1 | AV27: =COUNTIF(AU16:AU27,"0") -> 2 | AW27: =COUNTIF(AU16:AU27,">=0") -> 8 | AX27: =AV27/AW27 -> 0.25 | BB27: =MODE(AS24:AS27) -> 1 | BC27: =ABS(AS27-BB26) -> 0 | BD27: =COUNTIF(BC16:BC27,"0") -> 5 | BE27: =COUNTIF(BC16:BC27,">=0") -> 12 | BF27: =BD27/BE27 -> 0.41666667 | BJ27: =MODE(AS23:AS27) -> 2 | BK27: =ABS(AS27-BJ26) -> 0 | BL27: =COUNTIF(BK16:BK27,"0") -> 5 | BM27: =COUNTIF(BK16:BK27,">=0") -> 12 | BN27: =BL27/BM27 -> 0.41666667 | BR27: =MODE(AS22:AS27) -> 2 | BS27: =ABS(AS27-BR26) -> 0 | BT27: =COUNTIF(BS16:BS27,"0") -> 4 | BU27: =COUNTIF(BS16:BS27,">=0") -> 12 | BV27: =BT27/BU27 -> 0.33333333 | BZ27: =MODE(AS21:AS27) -> 2 | CA27: =ABS(AS27-BZ26) -> 0 | CB27: =COUNTIF(CA16:CA27,"0") -> 3 | CC27: =COUNTIF(CA16:CA27,">=0") -> 12 | CD27: =CB27/CC27 -> 0.25 | CH27: =MODE(AS20:AS27) -> 2 | CI27: =ABS(AS27-CH26) -> 0 | CJ27: =COUNTIF(CI16:CI27,"0") -> 5 | CK27: =COUNTIF(CI16:CI27,">=0") -> 12 | CL27: =CJ27/CK27 -> 0.41666667 | CP27: =MODE(AS19:AS27) -> 2 | CQ27: =ABS(AS27-CP26) -> 0 | CR27: =COUNTIF(CQ16:CQ27,"0") -> 5 | CS27: =COUNTIF(CQ16:CQ27,">=0") -> 12 | CT27: =CR27/CS27 -> 0.41666667 | CX27: =MODE(AS18:AS27) -> 2 | CY27: =ABS(AS27-CX26) -> 0 | CZ27: =COUNTIF(CY16:CY27,"0") -> 5 | DA27: =COUNTIF(CY16:CY27,">=0") -> 12 | DB27: =CZ27/DA27 -> 0.41666667 | DF27: =MODE(AS17:AS27) -> 2 | DG27: =ABS(AS27-DF26) -> 1 | DH27: =COUNTIF(DG16:DG27,"0") -> 5 | DI27: =COUNTIF(DG16:DG27,">=0") -> 12 | DJ27: =DH27/DI27 -> 0.41666667 | DN27: =MODE(AS16:AS27) -> 2 | DO27: =ABS(AS27-DN26) -> 1 | DP27: =COUNTIF(DO16:DO27,"0") -> 5 | DQ27: =COUNTIF(DO16:DO27,">=0") -> 12 | DR27: =DP27/DQ27 -> 0.41666667 | DV27: =MODE(AS15:AS27) -> 2 | DW27: =ABS(AS27-DV26) -> 0 | DX27: =COUNTIF(DW16:DW27,"0") -> 6 | DY27: =COUNTIF(DW16:DW27,">=0") -> 12 | DZ27: =DX27/DY27 -> 0.5
A28: 26 | C28: =VLOOKUP(A27,$F$1:$AQ$39,A28+2) -> 15 | D28: =IF(ISNA(C28),0,C28) -> 15 | F28: 26 | G28: 1 | H28: 13 | I28: 7 | J28: 1 | K28: 5 | L28: 17 | M28: 11 | N28: 5 | O28: 17 | P28: 9 | Q28: 18 | R28: 15 | S28: 3 | T28: 13 | U28: 11 | V28: 3 | W28: 15 | X28: 9 | Y28: 7 | Z28: 4 | AA28: 12 | AB28: 6 | AC28: 8 | AD28: 18 | AE28: 16 | AF28: 8 | AG28: 0 | AH28: 12 | AI28: 4 | AJ28: 6 | AK28: 16 | AL28: 10 | AM28: 2 | AN28: 14 | AO28: 10 | AP28: 2 | AQ28: 14 | AR28: 26 | AS28: =IF(AND(D28>0,D28<=6),1,IF(AND(D28>6,D28<=12),2,IF(AND(D28>12,D28<=18),3,IF(AND(D28>18,D28<=24),-3,IF(AND(D28>24,D28<=30),-2,IF(AND(D28>30,D28<=36),-1,0)))))) -> 3 | AT28: =MODE(AS26:AS28) -> #N/A | AU28: =ABS(AS28-AT27) -> 1 | AV28: =COUNTIF(AU17:AU28,"0") -> 2 | AW28: =COUNTIF(AU17:AU28,">=0") -> 8 | AX28: =AV28/AW28 -> 0.25 | BB28: =MODE(AS25:AS28) -> 2 | BC28: =ABS(AS28-BB27) -> 2 | BD28: =COUNTIF(BC17:BC28,"0") -> 5 | BE28: =COUNTIF(BC17:BC28,">=0") -> 12 | BF28: =BD28/BE28 -> 0.41666667 | BJ28: =MODE(AS24:AS28) -> 1 | BK28: =ABS(AS28-BJ27) -> 1 | BL28: =COUNTIF(BK17:BK28,"0") -> 5 | BM28: =COUNTIF(BK17:BK28,">=0") -> 12 | BN28: =BL28/BM28 -> 0.41666667 | BR28: =MODE(AS23:AS28) -> 2 | BS28: =ABS(AS28-BR27) -> 1 | BT28: =COUNTIF(BS17:BS28,"0") -> 4 | BU28: =COUNTIF(BS17:BS28,">=0") -> 12 | BV28: =BT28/BU28 -> 0.33333333 | BZ28: =MODE(AS22:AS28) -> 2 | CA28: =ABS(AS28-BZ27) -> 1 | CB28: =COUNTIF(CA17:CA28,"0") -> 3 | CC28: =COUNTIF(CA17:CA28,">=0") -> 12 | CD28: =CB28/CC28 -> 0.25 | CH28: =MODE(AS21:AS28) -> 2 | CI28: =ABS(AS28-CH27) -> 1 | CJ28: =COUNTIF(CI17:CI28,"0") -> 5 | CK28: =COUNTIF(CI17:CI28,">=0") -> 12 | CL28: =CJ28/CK28 -> 0.41666667 | CP28: =MODE(AS20:AS28) -> 2 | CQ28: =ABS(AS28-CP27) -> 1 | CR28: =COUNTIF(CQ17:CQ28,"0") -> 5 | CS28: =COUNTIF(CQ17:CQ28,">=0") -> 12 | CT28: =CR28/CS28 -> 0.41666667 | CX28: =MODE(AS19:AS28) -> 2 | CY28: =ABS(AS28-CX27) -> 1 | CZ28: =COUNTIF(CY17:CY28,"0") -> 5 | DA28: =COUNTIF(CY17:CY28,">=0") -> 12 | DB28: =CZ28/DA28 -> 0.41666667 | DF28: =MODE(AS18:AS28) -> 2 | DG28: =ABS(AS28-DF27) -> 1 | DH28: =COUNTIF(DG17:DG28,"0") -> 5 | DI28: =COUNTIF(DG17:DG28,">=0") -> 12 | DJ28: =DH28/DI28 -> 0.41666667 | DN28: =MODE(AS17:AS28) -> 2 | DO28: =ABS(AS28-DN27) -> 1 | DP28: =COUNTIF(DO17:DO28,"0") -> 5 | DQ28: =COUNTIF(DO17:DO28,">=0") -> 12 | DR28: =DP28/DQ28 -> 0.41666667 | DV28: =MODE(AS16:AS28) -> 2 | DW28: =ABS(AS28-DV27) -> 1 | DX28: =COUNTIF(DW17:DW28,"0") -> 6 | DY28: =COUNTIF(DW17:DW28,">=0") -> 12 | DZ28: =DX28/DY28 -> 0.5
A29: 16 | C29: =VLOOKUP(A28,$F$1:$AQ$39,A29+2) -> 15 | D29: =IF(ISNA(C29),0,C29) -> 15 | F29: 27 | G29: 11 | H29: 12 | I29: 5 | J29: 13 | K29: 7 | L29: 8 | M29: 1 | N29: 17 | O29: 5 | P29: 16 | Q29: 7 | R29: 3 | S29: 15 | T29: 1 | U29: 14 | V29: 9 | W29: 10 | X29: 3 | Y29: 18 | Z29: 8 | AA29: 13 | AB29: 6 | AC29: 17 | AD29: 6 | AE29: 9 | AF29: 4 | AG29: 12 | AH29: 0 | AI29: 16 | AJ29: 18 | AK29: 4 | AL29: 15 | AM29: 10 | AN29: 11 | AO29: 2 | AP29: 14 | AQ29: 2 | AR29: 27 | AS29: =IF(AND(D29>0,D29<=6),1,IF(AND(D29>6,D29<=12),2,IF(AND(D29>12,D29<=18),3,IF(AND(D29>18,D29<=24),-3,IF(AND(D29>24,D29<=30),-2,IF(AND(D29>30,D29<=36),-1,0)))))) -> 3 | AT29: =MODE(AS27:AS29) -> 3 | AU29: =ABS(AS29-AT28) -> #N/A | AV29: =COUNTIF(AU18:AU29,"0") -> 2 | AW29: =COUNTIF(AU18:AU29,">=0") -> 8 | AX29: =AV29/AW29 -> 0.25 | AY29: =COUNTIF(AU6:AU29,"0") -> 8 | AZ29: =COUNTIF(AU6:AU29,">=0") -> 18 | BA29: =AY29/AZ29 -> 0.44444444 | BB29: =MODE(AS26:AS29) -> 3 | BC29: =ABS(AS29-BB28) -> 1 | BD29: =COUNTIF(BC18:BC29,"0") -> 5 | BE29: =COUNTIF(BC18:BC29,">=0") -> 12 | BF29: =BD29/BE29 -> 0.41666667 | BJ29: =MODE(AS25:AS29) -> 2 | BK29: =ABS(AS29-BJ28) -> 2 | BL29: =COUNTIF(BK18:BK29,"0") -> 5 | BM29: =COUNTIF(BK18:BK29,">=0") -> 12 | BN29: =BL29/BM29 -> 0.41666667 | BR29: =MODE(AS24:AS29) -> 1 | BS29: =ABS(AS29-BR28) -> 1 | BT29: =COUNTIF(BS18:BS29,"0") -> 4 | BU29: =COUNTIF(BS18:BS29,">=0") -> 12 | BV29: =BT29/BU29 -> 0.33333333 | BZ29: =MODE(AS23:AS29) -> 2 | CA29: =ABS(AS29-BZ28) -> 1 | CB29: =COUNTIF(CA18:CA29,"0") -> 3 | CC29: =COUNTIF(CA18:CA29,">=0") -> 12 | CD29: =CB29/CC29 -> 0.25 | CH29: =MODE(AS22:AS29) -> 2 | CI29: =ABS(AS29-CH28) -> 1 | CJ29: =COUNTIF(CI18:CI29,"0") -> 5 | CK29: =COUNTIF(CI18:CI29,">=0") -> 12 | CL29: =CJ29/CK29 -> 0.41666667 | CP29: =MODE(AS21:AS29) -> 2 | CQ29: =ABS(AS29-CP28) -> 1 | CR29: =COUNTIF(CQ18:CQ29,"0") -> 5 | CS29: =COUNTIF(CQ18:CQ29,">=0") -> 12 | CT29: =CR29/CS29 -> 0.41666667 | CX29: =MODE(AS20:AS29) -> 2 | CY29: =ABS(AS29-CX28) -> 1 | CZ29: =COUNTIF(CY18:CY29,"0") -> 5 | DA29: =COUNTIF(CY18:CY29,">=0") -> 12 | DB29: =CZ29/DA29 -> 0.41666667 | DF29: =MODE(AS19:AS29) -> 2 | DG29: =ABS(AS29-DF28) -> 1 | DH29: =COUNTIF(DG18:DG29,"0") -> 5 | DI29: =COUNTIF(DG18:DG29,">=0") -> 12 | DJ29: =DH29/DI29 -> 0.41666667 | DN29: =MODE(AS18:AS29) -> 2 | DO29: =ABS(AS29-DN28) -> 1 | DP29: =COUNTIF(DO18:DO29,"0") -> 5 | DQ29: =COUNTIF(DO18:DO29,">=0") -> 12 | DR29: =DP29/DQ29 -> 0.41666667 | DV29: =MODE(AS17:AS29) -> 2 | DW29: =ABS(AS29-DV28) -> 1 | DX29: =COUNTIF(DW18:DW29,"0") -> 6 | DY29: =COUNTIF(DW18:DW29,">=0") -> 12 | DZ29: =DX29/DY29 -> 0.5
A30: 15 | C30: =VLOOKUP(A29,$F$1:$AQ$39,A30+2) -> 18 | D30: =IF(ISNA(C30),0,C30) -> 18 | F30: 28 | G30: 5 | H30: 9 | I30: 11 | J30: 3 | K30: 9 | L30: 13 | M30: 15 | N30: 1 | O30: 16 | P30: 5 | Q30: 14 | R30: 18 | S30: 1 | T30: 17 | U30: 7 | V30: 7 | W30: 11 | X30: 13 | Y30: 3 | Z30: 8 | AA30: 8 | AB30: 10 | AC30: 4 | AD30: 15 | AE30: 12 | AF30: 12 | AG30: 4 | AH30: 16 | AI30: 0 | AJ30: 2 | AK30: 17 | AL30: 6 | AM30: 6 | AN30: 10 | AO30: 14 | AP30: 2 | AQ30: 18 | AR30: 28 | AS30: =IF(AND(D30>0,D30<=6),1,IF(AND(D30>6,D30<=12),2,IF(AND(D30>12,D30<=18),3,IF(AND(D30>18,D30<=24),-3,IF(AND(D30>24,D30<=30),-2,IF(AND(D30>30,D30<=36),-1,0)))))) -> 3 | AT30: =MODE(AS28:AS30) -> 3 | AU30: =ABS(AS30-AT29) -> 0 | AV30: =COUNTIF(AU19:AU30,"0") -> 3 | AW30: =COUNTIF(AU19:AU30,">=0") -> 8 | AX30: =AV30/AW30 -> 0.375 | AY30: =COUNTIF(AU7:AU30,"0") -> 9 | AZ30: =COUNTIF(AU7:AU30,">=0") -> 19 | BA30: =AY30/AZ30 -> 0.47368421 | BB30: =MODE(AS27:AS30) -> 3 | BC30: =ABS(AS30-BB29) -> 0 | BD30: =COUNTIF(BC19:BC30,"0") -> 6 | BE30: =COUNTIF(BC19:BC30,">=0") -> 12 | BF30: =BD30/BE30 -> 0.5 | BG30: =COUNTIF(BC7:BC30,"0") -> 12 | BH30: =COUNTIF(BC7:BC30,">=0") -> 24 | BI30: =BG30/BH30 -> 0.5 | BJ30: =MODE(AS26:AS30) -> 3 | BK30: =ABS(AS30-BJ29) -> 1 | BL30: =COUNTIF(BK19:BK30,"0") -> 4 | BM30: =COUNTIF(BK19:BK30,">=0") -> 12 | BN30: =BL30/BM30 -> 0.33333333 | BR30: =MODE(AS25:AS30) -> 3 | BS30: =ABS(AS30-BR29) -> 2 | BT30: =COUNTIF(BS19:BS30,"0") -> 3 | BU30: =COUNTIF(BS19:BS30,">=0") -> 12 | BV30: =BT30/BU30 -> 0.25 | BZ30: =MODE(AS24:AS30) -> 3 | CA30: =ABS(AS30-BZ29) -> 1 | CB30: =COUNTIF(CA19:CA30,"0") -> 2 | CC30: =COUNTIF(CA19:CA30,">=0") -> 12 | CD30: =CB30/CC30 -> 0.16666667 | CH30: =MODE(AS23:AS30) -> 2 | CI30: =ABS(AS30-CH29) -> 1 | CJ30: =COUNTIF(CI19:CI30,"0") -> 4 | CK30: =COUNTIF(CI19:CI30,">=0") -> 12 | CL30: =CJ30/CK30 -> 0.33333333 | CP30: =MODE(AS22:AS30) -> 2 | CQ30: =ABS(AS30-CP29) -> 1 | CR30: =COUNTIF(CQ19:CQ30,"0") -> 4 | CS30: =COUNTIF(CQ19:CQ30,">=0") -> 12 | CT30: =CR30/CS30 -> 0.33333333 | CX30: =MODE(AS21:AS30) -> 2 | CY30: =ABS(AS30-CX29) -> 1 | CZ30: =COUNTIF(CY19:CY30,"0") -> 4 | DA30: =COUNTIF(CY19:CY30,">=0") -> 12 | DB30: =CZ30/DA30 -> 0.33333333 | DF30: =MODE(AS20:AS30) -> 2 | DG30: =ABS(AS30-DF29) -> 1 | DH30: =COUNTIF(DG19:DG30,"0") -> 4 | DI30: =COUNTIF(DG19:DG30,">=0") -> 12 | DJ30: =DH30/DI30 -> 0.33333333 | DN30: =MODE(AS19:AS30) -> 2 | DO30: =ABS(AS30-DN29) -> 1 | DP30: =COUNTIF(DO19:DO30,"0") -> 4 | DQ30: =COUNTIF(DO19:DO30,">=0") -> 12 | DR30: =DP30/DQ30 -> 0.33333333 | DV30: =MODE(AS18:AS30) -> 2 | DW30: =ABS(AS30-DV29) -> 1 | DX30: =COUNTIF(DW19:DW30,"0") -> 5 | DY30: =COUNTIF(DW19:DW30,">=0") -> 12 | DZ30: =DX30/DY30 -> 0.41666667
A31: 15 | C31: =VLOOKUP(A30,$F$1:$AQ$39,A31+2) -> 0 | D31: =IF(ISNA(C31),0,C31) -> 0 | F31: 29 | G31: 7 | H31: 7 | I31: 13 | J31: 5 | K31: 11 | L31: 11 | M31: 17 | N31: 1 | O31: 14 | P31: 3 | Q31: 12 | R31: 16 | S31: 3 | T31: 18 | U31: 5 | V31: 9 | W31: 9 | X31: 15 | Y31: 1 | Z31: 10 | AA31: 6 | AB31: 12 | AC31: 2 | AD31: 13 | AE31: 10 | AF31: 14 | AG31: 6 | AH31: 18 | AI31: 2 | AJ31: 0 | AK31: 15 | AL31: 4 | AM31: 8 | AN31: 8 | AO31: 16 | AP31: 4 | AQ31: 17 | AR31: 29 | AS31: =IF(AND(D31>0,D31<=6),1,IF(AND(D31>6,D31<=12),2,IF(AND(D31>12,D31<=18),3,IF(AND(D31>18,D31<=24),-3,IF(AND(D31>24,D31<=30),-2,IF(AND(D31>30,D31<=36),-1,0)))))) -> 0 | AT31: =MODE(AS29:AS31) -> 3 | AU31: =ABS(AS31-AT30) -> 3 | AV31: =COUNTIF(AU20:AU31,"0") -> 3 | AW31: =COUNTIF(AU20:AU31,">=0") -> 8 | AX31: =AV31/AW31 -> 0.375 | AY31: =COUNTIF(AU8:AU31,"0") -> 9 | AZ31: =COUNTIF(AU8:AU31,">=0") -> 19 | BA31: =AY31/AZ31 -> 0.47368421 | BB31: =MODE(AS28:AS31) -> 3 | BC31: =ABS(AS31-BB30) -> 3 | BD31: =COUNTIF(BC20:BC31,"0") -> 6 | BE31: =COUNTIF(BC20:BC31,">=0") -> 12 | BF31: =BD31/BE31 -> 0.5 | BG31: =COUNTIF(BC8:BC31,"0") -> 12 | BH31: =COUNTIF(BC8:BC31,">=0") -> 24 | BI31: =BG31/BH31 -> 0.5 | BJ31: =MODE(AS27:AS31) -> 3 | BK31: =ABS(AS31-BJ30) -> 3 | BL31: =COUNTIF(BK20:BK31,"0") -> 4 | BM31: =COUNTIF(BK20:BK31,">=0") -> 12 | BN31: =BL31/BM31 -> 0.33333333 | BO31: =COUNTIF(BK8:BK31,"0") -> 10 | BP31: =COUNTIF(BK8:BK31,">=0") -> 24 | BQ31: =BO31/BP31 -> 0.41666667 | BR31: =MODE(AS26:AS31) -> 3 | BS31: =ABS(AS31-BR30) -> 3 | BT31: =COUNTIF(BS20:BS31,"0") -> 3 | BU31: =COUNTIF(BS20:BS31,">=0") -> 12 | BV31: =BT31/BU31 -> 0.25 | BZ31: =MODE(AS25:AS31) -> 3 | CA31: =ABS(AS31-BZ30) -> 3 | CB31: =COUNTIF(CA20:CA31,"0") -> 2 | CC31: =COUNTIF(CA20:CA31,">=0") -> 12 | CD31: =CB31/CC31 -> 0.16666667 | CH31: =MODE(AS24:AS31) -> 3 | CI31: =ABS(AS31-CH30) -> 2 | CJ31: =COUNTIF(CI20:CI31,"0") -> 4 | CK31: =COUNTIF(CI20:CI31,">=0") -> 12 | CL31: =CJ31/CK31 -> 0.33333333 | CP31: =MODE(AS23:AS31) -> 2 | CQ31: =ABS(AS31-CP30) -> 2 | CR31: =COUNTIF(CQ20:CQ31,"0") -> 4 | CS31: =COUNTIF(CQ20:CQ31,">=0") -> 12 | CT31: =CR31/CS31 -> 0.33333333 | CX31: =MODE(AS22:AS31) -> 2 | CY31: =ABS(AS31-CX30) -> 2 | CZ31: =COUNTIF(CY20:CY31,"0") -> 4 | DA31: =COUNTIF(CY20:CY31,">=0") -> 12 | DB31: =CZ31/DA31 -> 0.33333333 | DF31: =MODE(AS21:AS31) -> 2 | DG31: =ABS(AS31-DF30) -> 2 | DH31: =COUNTIF(DG20:DG31,"0") -> 4 | DI31: =COUNTIF(DG20:DG31,">=0") -> 12 | DJ31: =DH31/DI31 -> 0.33333333 | DN31: =MODE(AS20:AS31) -> 2 | DO31: =ABS(AS31-DN30) -> 2 | DP31: =COUNTIF(DO20:DO31,"0") -> 4 | DQ31: =COUNTIF(DO20:DO31,">=0") -> 12 | DR31: =DP31/DQ31 -> 0.33333333 | DV31: =MODE(AS19:AS31) -> 2 | DW31: =ABS(AS31-DV30) -> 2 | DX31: =COUNTIF(DW20:DW31,"0") -> 5 | DY31: =COUNTIF(DW20:DW31,">=0") -> 12 | DZ31: =DX31/DY31 -> 0.41666667
A32: A | C32: =VLOOKUP(A31,$F$1:$AQ$39,A32+2) -> #VALUE! | D32: =IF(ISNA(C32),0,C32) -> #VALUE! | F32: 30 | G32: 15 | H32: 8 | I32: 9 | J32: 17 | K32: 11 | L32: 4 | M32: 5 | N32: 16 | O32: 1 | P32: 12 | Q32: 3 | R32: 1 | S32: 18 | T32: 3 | U32: 10 | V32: 13 | W32: 6 | X32: 7 | Y32: 14 | Z32: 12 | AA32: 9 | AB32: 10 | AC32: 13 | AD32: 2 | AE32: 5 | AF32: 8 | AG32: 16 | AH32: 4 | AI32: 17 | AJ32: 15 | AK32: 0 | AL32: 11 | AM32: 14 | AN32: 7 | AO32: 6 | AP32: 18 | AQ32: 2 | AR32: 30 | AS32: =IF(AND(D32>0,D32<=6),1,IF(AND(D32>6,D32<=12),2,IF(AND(D32>12,D32<=18),3,IF(AND(D32>18,D32<=24),-3,IF(AND(D32>24,D32<=30),-2,IF(AND(D32>30,D32<=36),-1,0)))))) -> #VALUE! | AT32: =MODE(AS30:AS32) -> #VALUE! | AU32: =ABS(AS32-AT31) -> #VALUE! | AV32: =COUNTIF(AU21:AU32,"0") -> 3 | AW32: =COUNTIF(AU21:AU32,">=0") -> 8 | AX32: =AV32/AW32 -> 0.375 | AY32: =COUNTIF(AU9:AU32,"0") -> 8 | AZ32: =COUNTIF(AU9:AU32,">=0") -> 18 | BA32: =AY32/AZ32 -> 0.44444444 | BB32: =MODE(AS29:AS32) -> #VALUE! | BC32: =ABS(AS32-BB31) -> #VALUE! | BD32: =COUNTIF(BC21:BC32,"0") -> 5 | BE32: =COUNTIF(BC21:BC32,">=0") -> 11 | BF32: =BD32/BE32 -> 0.45454545 | BG32: =COUNTIF(BC9:BC32,"0") -> 11 | BH32: =COUNTIF(BC9:BC32,">=0") -> 23 | BI32: =BG32/BH32 -> 0.47826087 | BJ32: =MODE(AS28:AS32) -> #VALUE! | BK32: =ABS(AS32-BJ31) -> #VALUE! | BL32: =COUNTIF(BK21:BK32,"0") -> 3 | BM32: =COUNTIF(BK21:BK32,">=0") -> 11 | BN32: =BL32/BM32 -> 0.27272727 | BO32: =COUNTIF(BK9:BK32,"0") -> 10 | BP32: =COUNTIF(BK9:BK32,">=0") -> 23 | BQ32: =BO32/BP32 -> 0.43478261 | BR32: =MODE(AS27:AS32) -> #VALUE! | BS32: =ABS(AS32-BR31) -> #VALUE! | BT32: =COUNTIF(BS21:BS32,"0") -> 3 | BU32: =COUNTIF(BS21:BS32,">=0") -> 11 | BV32: =BT32/BU32 -> 0.27272727 | BW32: =COUNTIF(BS9:BS32,"0") -> 9 | BX32: =COUNTIF(BS9:BS32,">=0") -> 23 | BY32: =BW32/BX32 -> 0.39130435 | BZ32: =MODE(AS26:AS32) -> #VALUE! | CA32: =ABS(AS32-BZ31) -> #VALUE! | CB32: =COUNTIF(CA21:CA32,"0") -> 2 | CC32: =COUNTIF(CA21:CA32,">=0") -> 11 | CD32: =CB32/CC32 -> 0.18181818 | CH32: =MODE(AS25:AS32) -> #VALUE! | CI32: =ABS(AS32-CH31) -> #VALUE! | CJ32: =COUNTIF(CI21:CI32,"0") -> 4 | CK32: =COUNTIF(CI21:CI32,">=0") -> 11 | CL32: =CJ32/CK32 -> 0.36363636 | CP32: =MODE(AS24:AS32) -> #VALUE! | CQ32: =ABS(AS32-CP31) -> #VALUE! | CR32: =COUNTIF(CQ21:CQ32,"0") -> 4 | CS32: =COUNTIF(CQ21:CQ32,">=0") -> 11 | CT32: =CR32/CS32 -> 0.36363636 | CX32: =MODE(AS23:AS32) -> #VALUE! | CY32: =ABS(AS32-CX31) -> #VALUE! | CZ32: =COUNTIF(CY21:CY32,"0") -> 4 | DA32: =COUNTIF(CY21:CY32,">=0") -> 11 | DB32: =CZ32/DA32 -> 0.36363636 | DF32: =MODE(AS22:AS32) -> #VALUE! | DG32: =ABS(AS32-DF31) -> #VALUE! | DH32: =COUNTIF(DG21:DG32,"0") -> 4 | DI32: =COUNTIF(DG21:DG32,">=0") -> 11 | DJ32: =DH32/DI32 -> 0.36363636 | DN32: =MODE(AS21:AS32) -> #VALUE! | DO32: =ABS(AS32-DN31) -> #VALUE! | DP32: =COUNTIF(DO21:DO32,"0") -> 4 | DQ32: =COUNTIF(DO21:DO32,">=0") -> 11 | DR32: =DP32/DQ32 -> 0.36363636 | DV32: =MODE(AS20:AS32) -> #VALUE! | DW32: =ABS(AS32-DV31) -> #VALUE! | DX32: =COUNTIF(DW21:DW32,"0") -> 5 | DY32: =COUNTIF(DW21:DW32,">=0") -> 11 | DZ32: =DX32/DY32 -> 0.45454545
A33: A | C33: =VLOOKUP(A32,$F$1:$AQ$39,A33+2) -> #VALUE! | D33: =IF(ISNA(C33),0,C33) -> #VALUE! | F33: 31 | G33: 11 | H33: 3 | I33: 17 | J33: 9 | K33: 15 | L33: 7 | M33: 16 | N33: 5 | O33: 10 | P33: 1 | Q33: 8 | R33: 12 | S33: 7 | T33: 14 | U33: 1 | V33: 13 | W33: 5 | X33: 18 | Y33: 3 | Z33: 14 | AA33: 2 | AB33: 16 | AC33: 2 | AD33: 9 | AE33: 6 | AF33: 18 | AG33: 10 | AH33: 15 | AI33: 6 | AJ33: 4 | AK33: 11 | AL33: 0 | AM33: 12 | AN33: 4 | AO33: 17 | AP33: 8 | AQ33: 13 | AR33: 31 | AS33: =IF(AND(D33>0,D33<=6),1,IF(AND(D33>6,D33<=12),2,IF(AND(D33>12,D33<=18),3,IF(AND(D33>18,D33<=24),-3,IF(AND(D33>24,D33<=30),-2,IF(AND(D33>30,D33<=36),-1,0)))))) -> #VALUE! | AT33: =MODE(AS31:AS33) -> #VALUE! | AU33: =ABS(AS33-AT32) -> #VALUE! | AV33: =COUNTIF(AU22:AU33,"0") -> 3 | AW33: =COUNTIF(AU22:AU33,">=0") -> 8 | AX33: =AV33/AW33 -> 0.375 | AY33: =COUNTIF(AU10:AU33,"0") -> 7 | AZ33: =COUNTIF(AU10:AU33,">=0") -> 17 | BA33: =AY33/AZ33 -> 0.41176471 | BB33: =MODE(AS30:AS33) -> #VALUE! | BC33: =ABS(AS33-BB32) -> #VALUE! | BD33: =COUNTIF(BC22:BC33,"0") -> 5 | BE33: =COUNTIF(BC22:BC33,">=0") -> 10 | BF33: =BD33/BE33 -> 0.5 | BG33: =COUNTIF(BC10:BC33,"0") -> 10 | BH33: =COUNTIF(BC10:BC33,">=0") -> 22 | BI33: =BG33/BH33 -> 0.45454545 | BJ33: =MODE(AS29:AS33) -> #VALUE! | BK33: =ABS(AS33-BJ32) -> #VALUE! | BL33: =COUNTIF(BK22:BK33,"0") -> 3 | BM33: =COUNTIF(BK22:BK33,">=0") -> 10 | BN33: =BL33/BM33 -> 0.3 | BO33: =COUNTIF(BK10:BK33,"0") -> 9 | BP33: =COUNTIF(BK10:BK33,">=0") -> 22 | BQ33: =BO33/BP33 -> 0.40909091 | BR33: =MODE(AS28:AS33) -> #VALUE! | BS33: =ABS(AS33-BR32) -> #VALUE! | BT33: =COUNTIF(BS22:BS33,"0") -> 3 | BU33: =COUNTIF(BS22:BS33,">=0") -> 10 | BV33: =BT33/BU33 -> 0.3 | BW33: =COUNTIF(BS10:BS33,"0") -> 8 | BX33: =COUNTIF(BS10:BS33,">=0") -> 22 | BY33: =BW33/BX33 -> 0.36363636 | BZ33: =MODE(AS27:AS33) -> #VALUE! | CA33: =ABS(AS33-BZ32) -> #VALUE! | CB33: =COUNTIF(CA22:CA33,"0") -> 2 | CC33: =COUNTIF(CA22:CA33,">=0") -> 10 | CD33: =CB33/CC33 -> 0.2 | CE33: =COUNTIF(CA10:CA33,"0") -> 7 | CF33: =COUNTIF(CA10:CA33,">=0") -> 22 | CG33: =CE33/CF33 -> 0.31818182 | CH33: =MODE(AS26:AS33) -> #VALUE! | CI33: =ABS(AS33-CH32) -> #VALUE! | CJ33: =COUNTIF(CI22:CI33,"0") -> 3 | CK33: =COUNTIF(CI22:CI33,">=0") -> 10 | CL33: =CJ33/CK33 -> 0.3 | CP33: =MODE(AS25:AS33) -> #VALUE! | CQ33: =ABS(AS33-CP32) -> #VALUE! | CR33: =COUNTIF(CQ22:CQ33,"0") -> 3 | CS33: =COUNTIF(CQ22:CQ33,">=0") -> 10 | CT33: =CR33/CS33 -> 0.3 | CX33: =MODE(AS24:AS33) -> #VALUE! | CY33: =ABS(AS33-CX32) -> #VALUE! | CZ33: =COUNTIF(CY22:CY33,"0") -> 3 | DA33: =COUNTIF(CY22:CY33,">=0") -> 10 | DB33: =CZ33/DA33 -> 0.3 | DF33: =MODE(AS23:AS33) -> #VALUE! | DG33: =ABS(AS33-DF32) -> #VALUE! | DH33: =COUNTIF(DG22:DG33,"0") -> 3 | DI33: =COUNTIF(DG22:DG33,">=0") -> 10 | DJ33: =DH33/DI33 -> 0.3 | DN33: =MODE(AS22:AS33) -> #VALUE! | DO33: =ABS(AS33-DN32) -> #VALUE! | DP33: =COUNTIF(DO22:DO33,"0") -> 3 | DQ33: =COUNTIF(DO22:DO33,">=0") -> 10 | DR33: =DP33/DQ33 -> 0.3 | DV33: =MODE(AS21:AS33) -> #VALUE! | DW33: =ABS(AS33-DV32) -> #VALUE! | DX33: =COUNTIF(DW22:DW33,"0") -> 4 | DY33: =COUNTIF(DW22:DW33,">=0") -> 10 | DZ33: =DX33/DY33 -> 0.4
A34: A | C34: =VLOOKUP(A33,$F$1:$AQ$39,A34+2) -> #VALUE! | D34: =IF(ISNA(C34),0,C34) -> #VALUE! | F34: 32 | G34: 1 | H34: 15 | I34: 5 | J34: 3 | K34: 3 | L34: 18 | M34: 9 | N34: 7 | O34: 15 | P34: 11 | Q34: 17 | R34: 13 | S34: 5 | T34: 11 | U34: 13 | V34: 1 | W34: 17 | X34: 7 | Y34: 9 | Z34: 2 | AA34: 14 | AB34: 4 | AC34: 10 | AD34: 16 | AE34: 18 | AF34: 6 | AG34: 2 | AH34: 10 | AI34: 6 | AJ34: 8 | AK34: 14 | AL34: 12 | AM34: 0 | AN34: 16 | AO34: 8 | AP34: 4 | AQ34: 12 | AR34: 32 | AS34: =IF(AND(D34>0,D34<=6),1,IF(AND(D34>6,D34<=12),2,IF(AND(D34>12,D34<=18),3,IF(AND(D34>18,D34<=24),-3,IF(AND(D34>24,D34<=30),-2,IF(AND(D34>30,D34<=36),-1,0)))))) -> #VALUE! | AT34: =MODE(AS32:AS34) -> #VALUE! | AU34: =ABS(AS34-AT33) -> #VALUE! | AV34: =COUNTIF(AU23:AU34,"0") -> 3 | AW34: =COUNTIF(AU23:AU34,">=0") -> 8 | AX34: =AV34/AW34 -> 0.375 | AY34: =COUNTIF(AU11:AU34,"0") -> 6 | AZ34: =COUNTIF(AU11:AU34,">=0") -> 16 | BA34: =AY34/AZ34 -> 0.375 | BB34: =MODE(AS31:AS34) -> #VALUE! | BC34: =ABS(AS34-BB33) -> #VALUE! | BD34: =COUNTIF(BC23:BC34,"0") -> 4 | BE34: =COUNTIF(BC23:BC34,">=0") -> 9 | BF34: =BD34/BE34 -> 0.44444444 | BG34: =COUNTIF(BC11:BC34,"0") -> 9 | BH34: =COUNTIF(BC11:BC34,">=0") -> 21 | BI34: =BG34/BH34 -> 0.42857143 | BJ34: =MODE(AS30:AS34) -> #VALUE! | BK34: =ABS(AS34-BJ33) -> #VALUE! | BL34: =COUNTIF(BK23:BK34,"0") -> 3 | BM34: =COUNTIF(BK23:BK34,">=0") -> 9 | BN34: =BL34/BM34 -> 0.33333333 | BO34: =COUNTIF(BK11:BK34,"0") -> 8 | BP34: =COUNTIF(BK11:BK34,">=0") -> 21 | BQ34: =BO34/BP34 -> 0.38095238 | BR34: =MODE(AS29:AS34) -> #VALUE! | BS34: =ABS(AS34-BR33) -> #VALUE! | BT34: =COUNTIF(BS23:BS34,"0") -> 3 | BU34: =COUNTIF(BS23:BS34,">=0") -> 9 | BV34: =BT34/BU34 -> 0.33333333 | BW34: =COUNTIF(BS11:BS34,"0") -> 7 | BX34: =COUNTIF(BS11:BS34,">=0") -> 21 | BY34: =BW34/BX34 -> 0.33333333 | BZ34: =MODE(AS28:AS34) -> #VALUE! | CA34: =ABS(AS34-BZ33) -> #VALUE! | CB34: =COUNTIF(CA23:CA34,"0") -> 2 | CC34: =COUNTIF(CA23:CA34,">=0") -> 9 | CD34: =CB34/CC34 -> 0.22222222 | CE34: =COUNTIF(CA11:CA34,"0") -> 6 | CF34: =COUNTIF(CA11:CA34,">=0") -> 21 | CG34: =CE34/CF34 -> 0.28571429 | CH34: =MODE(AS27:AS34) -> #VALUE! | CI34: =ABS(AS34-CH33) -> #VALUE! | CJ34: =COUNTIF(CI23:CI34,"0") -> 2 | CK34: =COUNTIF(CI23:CI34,">=0") -> 9 | CL34: =CJ34/CK34 -> 0.22222222 | CM34: =COUNTIF(CI11:CI34,"0") -> 8 | CN34: =COUNTIF(CI11:CI34,">=0") -> 21 | CO34: =CM34/CN34 -> 0.38095238 | CP34: =MODE(AS26:AS34) -> #VALUE! | CQ34: =ABS(AS34-CP33) -> #VALUE! | CR34: =COUNTIF(CQ23:CQ34,"0") -> 2 | CS34: =COUNTIF(CQ23:CQ34,">=0") -> 9 | CT34: =CR34/CS34 -> 0.22222222 | CX34: =MODE(AS25:AS34) -> #VALUE! | CY34: =ABS(AS34-CX33) -> #VALUE! | CZ34: =COUNTIF(CY23:CY34,"0") -> 2 | DA34: =COUNTIF(CY23:CY34,">=0") -> 9 | DB34: =CZ34/DA34 -> 0.22222222 | DF34: =MODE(AS24:AS34) -> #VALUE! | DG34: =ABS(AS34-DF33) -> #VALUE! | DH34: =COUNTIF(DG23:DG34,"0") -> 2 | DI34: =COUNTIF(DG23:DG34,">=0") -> 9 | DJ34: =DH34/DI34 -> 0.22222222 | DN34: =MODE(AS23:AS34) -> #VALUE! | DO34: =ABS(AS34-DN33) -> #VALUE! | DP34: =COUNTIF(DO23:DO34,"0") -> 2 | DQ34: =COUNTIF(DO23:DO34,">=0") -> 9 | DR34: =DP34/DQ34 -> 0.22222222 | DV34: =MODE(AS22:AS34) -> #VALUE! | DW34: =ABS(AS34-DV33) -> #VALUE! | DX34: =COUNTIF(DW23:DW34,"0") -> 3 | DY34: =COUNTIF(DW23:DW34,">=0") -> 9 | DZ34: =DX34/DY34 -> 0.33333333
A35: A | C35: =VLOOKUP(A34,$F$1:$AQ$39,A35+2) -> #VALUE! | D35: =IF(ISNA(C35),0,C35) -> #VALUE! | F35: 33 | G35: 15 | H35: 1 | I35: 16 | J35: 13 | K35: 18 | L35: 3 | M35: 12 | N35: 9 | O35: 6 | P35: 5 | Q35: 4 | R35: 8 | S35: 11 | T35: 10 | U35: 3 | V35: 17 | W35: 1 | X35: 14 | Y35: 7 | Z35: 18 | AA35: 2 | AB35: 17 | AC35: 6 | AD35: 5 | AE35: 2 | AF35: 15 | AG35: 14 | AH35: 11 | AI35: 10 | AJ35: 8 | AK35: 7 | AL35: 4 | AM35: 16 | AN35: 0 | AO35: 13 | AP35: 12 | AQ35: 9 | AR35: 33 | AS35: =IF(AND(D35>0,D35<=6),1,IF(AND(D35>6,D35<=12),2,IF(AND(D35>12,D35<=18),3,IF(AND(D35>18,D35<=24),-3,IF(AND(D35>24,D35<=30),-2,IF(AND(D35>30,D35<=36),-1,0)))))) -> #VALUE! | AT35: =MODE(AS33:AS35) -> #VALUE! | AU35: =ABS(AS35-AT34) -> #VALUE! | AV35: =COUNTIF(AU24:AU35,"0") -> 2 | AW35: =COUNTIF(AU24:AU35,">=0") -> 7 | AX35: =AV35/AW35 -> 0.28571429 | AY35: =COUNTIF(AU12:AU35,"0") -> 6 | AZ35: =COUNTIF(AU12:AU35,">=0") -> 15 | BA35: =AY35/AZ35 -> 0.4 | BB35: =MODE(AS32:AS35) -> #VALUE! | BC35: =ABS(AS35-BB34) -> #VALUE! | BD35: =COUNTIF(BC24:BC35,"0") -> 3 | BE35: =COUNTIF(BC24:BC35,">=0") -> 8 | BF35: =BD35/BE35 -> 0.375 | BG35: =COUNTIF(BC12:BC35,"0") -> 9 | BH35: =COUNTIF(BC12:BC35,">=0") -> 20 | BI35: =BG35/BH35 -> 0.45 | BJ35: =MODE(AS31:AS35) -> #VALUE! | BK35: =ABS(AS35-BJ34) -> #VALUE! | BL35: =COUNTIF(BK24:BK35,"0") -> 2 | BM35: =COUNTIF(BK24:BK35,">=0") -> 8 | BN35: =BL35/BM35 -> 0.25 | BO35: =COUNTIF(BK12:BK35,"0") -> 8 | BP35: =COUNTIF(BK12:BK35,">=0") -> 20 | BQ35: =BO35/BP35 -> 0.4 | BR35: =MODE(AS30:AS35) -> #VALUE! | BS35: =ABS(AS35-BR34) -> #VALUE! | BT35: =COUNTIF(BS24:BS35,"0") -> 2 | BU35: =COUNTIF(BS24:BS35,">=0") -> 8 | BV35: =BT35/BU35 -> 0.25 | BW35: =COUNTIF(BS12:BS35,"0") -> 7 | BX35: =COUNTIF(BS12:BS35,">=0") -> 20 | BY35: =BW35/BX35 -> 0.35 | BZ35: =MODE(AS29:AS35) -> #VALUE! | CA35: =ABS(AS35-BZ34) -> #VALUE! | CB35: =COUNTIF(CA24:CA35,"0") -> 2 | CC35: =COUNTIF(CA24:CA35,">=0") -> 8 | CD35: =CB35/CC35 -> 0.25 | CE35: =COUNTIF(CA12:CA35,"0") -> 6 | CF35: =COUNTIF(CA12:CA35,">=0") -> 20 | CG35: =CE35/CF35 -> 0.3 | CH35: =MODE(AS28:AS35) -> #VALUE! | CI35: =ABS(AS35-CH34) -> #VALUE! | CJ35: =COUNTIF(CI24:CI35,"0") -> 2 | CK35: =COUNTIF(CI24:CI35,">=0") -> 8 | CL35: =CJ35/CK35 -> 0.25 | CM35: =COUNTIF(CI12:CI35,"0") -> 8 | CN35: =COUNTIF(CI12:CI35,">=0") -> 20 | CO35: =CM35/CN35 -> 0.4 | CP35: =MODE(AS27:AS35) -> #VALUE! | CQ35: =ABS(AS35-CP34) -> #VALUE! | CR35: =COUNTIF(CQ24:CQ35,"0") -> 1 | CS35: =COUNTIF(CQ24:CQ35,">=0") -> 8 | CT35: =CR35/CS35 -> 0.125 | CU35: =COUNTIF(CQ12:CQ35,"0") -> 8 | CV35: =COUNTIF(CQ12:CQ35,">=0") -> 20 | CW35: =CU35/CV35 -> 0.4 | CX35: =MODE(AS26:AS35) -> #VALUE! | CY35: =ABS(AS35-CX34) -> #VALUE! | CZ35: =COUNTIF(CY24:CY35,"0") -> 1 | DA35: =COUNTIF(CY24:CY35,">=0") -> 8 | DB35: =CZ35/DA35 -> 0.125 | DF35: =MODE(AS25:AS35) -> #VALUE! | DG35: =ABS(AS35-DF34) -> #VALUE! | DH35: =COUNTIF(DG24:DG35,"0") -> 1 | DI35: =COUNTIF(DG24:DG35,">=0") -> 8 | DJ35: =DH35/DI35 -> 0.125 | DN35: =MODE(AS24:AS35) -> #VALUE! | DO35: =ABS(AS35-DN34) -> #VALUE! | DP35: =COUNTIF(DO24:DO35,"0") -> 1 | DQ35: =COUNTIF(DO24:DO35,">=0") -> 8 | DR35: =DP35/DQ35 -> 0.125 | DV35: =MODE(AS23:AS35) -> #VALUE! | DW35: =ABS(AS35-DV34) -> #VALUE! | DX35: =COUNTIF(DW24:DW35,"0") -> 2 | DY35: =COUNTIF(DW24:DW35,">=0") -> 8 | DZ35: =DX35/DY35 -> 0.25
A36: A | C36: =VLOOKUP(A35,$F$1:$AQ$39,A36+2) -> #VALUE! | D36: =IF(ISNA(C36),0,C36) -> #VALUE! | F36: 34 | G36: 9 | H36: 14 | I36: 3 | J36: 11 | K36: 5 | L36: 10 | M36: 1 | N36: 15 | O36: 7 | P36: 18 | Q36: 9 | R36: 5 | S36: 13 | T36: 3 | U36: 16 | V36: 7 | W36: 12 | X36: 1 | Y36: 17 | Z36: 6 | AA36: 15 | AB36: 4 | AC36: 18 | AD36: 8 | AE36: 11 | AF36: 2 | AG36: 10 | AH36: 2 | AI36: 14 | AJ36: 16 | AK36: 6 | AL36: 17 | AM36: 8 | AN36: 13 | AO36: 0 | AP36: 12 | AQ36: 4 | AR36: 34 | AS36: =IF(AND(D36>0,D36<=6),1,IF(AND(D36>6,D36<=12),2,IF(AND(D36>12,D36<=18),3,IF(AND(D36>18,D36<=24),-3,IF(AND(D36>24,D36<=30),-2,IF(AND(D36>30,D36<=36),-1,0)))))) -> #VALUE! | AT36: =MODE(AS34:AS36) -> #VALUE! | AU36: =ABS(AS36-AT35) -> #VALUE! | AV36: =COUNTIF(AU25:AU36,"0") -> 2 | AW36: =COUNTIF(AU25:AU36,">=0") -> 6 | AX36: =AV36/AW36 -> 0.33333333 | AY36: =COUNTIF(AU13:AU36,"0") -> 5 | AZ36: =COUNTIF(AU13:AU36,">=0") -> 14 | BA36: =AY36/AZ36 -> 0.35714286 | BB36: =MODE(AS33:AS36) -> #VALUE! | BC36: =ABS(AS36-BB35) -> #VALUE! | BD36: =COUNTIF(BC25:BC36,"0") -> 3 | BE36: =COUNTIF(BC25:BC36,">=0") -> 7 | BF36: =BD36/BE36 -> 0.42857143 | BG36: =COUNTIF(BC13:BC36,"0") -> 8 | BH36: =COUNTIF(BC13:BC36,">=0") -> 19 | BI36: =BG36/BH36 -> 0.42105263 | BJ36: =MODE(AS32:AS36) -> #VALUE! | BK36: =ABS(AS36-BJ35) -> #VALUE! | BL36: =COUNTIF(BK25:BK36,"0") -> 2 | BM36: =COUNTIF(BK25:BK36,">=0") -> 7 | BN36: =BL36/BM36 -> 0.28571429 | BO36: =COUNTIF(BK13:BK36,"0") -> 7 | BP36: =COUNTIF(BK13:BK36,">=0") -> 19 | BQ36: =BO36/BP36 -> 0.36842105 | BR36: =MODE(AS31:AS36) -> #VALUE! | BS36: =ABS(AS36-BR35) -> #VALUE! | BT36: =COUNTIF(BS25:BS36,"0") -> 2 | BU36: =COUNTIF(BS25:BS36,">=0") -> 7 | BV36: =BT36/BU36 -> 0.28571429 | BW36: =COUNTIF(BS13:BS36,"0") -> 6 | BX36: =COUNTIF(BS13:BS36,">=0") -> 19 | BY36: =BW36/BX36 -> 0.31578947 | BZ36: =MODE(AS30:AS36) -> #VALUE! | CA36: =ABS(AS36-BZ35) -> #VALUE! | CB36: =COUNTIF(CA25:CA36,"0") -> 2 | CC36: =COUNTIF(CA25:CA36,">=0") -> 7 | CD36: =CB36/CC36 -> 0.28571429 | CE36: =COUNTIF(CA13:CA36,"0") -> 5 | CF36: =COUNTIF(CA13:CA36,">=0") -> 19 | CG36: =CE36/CF36 -> 0.26315789 | CH36: =MODE(AS29:AS36) -> #VALUE! | CI36: =ABS(AS36-CH35) -> #VALUE! | CJ36: =COUNTIF(CI25:CI36,"0") -> 2 | CK36: =COUNTIF(CI25:CI36,">=0") -> 7 | CL36: =CJ36/CK36 -> 0.28571429 | CM36: =COUNTIF(CI13:CI36,"0") -> 7 | CN36: =COUNTIF(CI13:CI36,">=0") -> 19 | CO36: =CM36/CN36 -> 0.36842105 | CP36: =MODE(AS28:AS36) -> #VALUE! | CQ36: =ABS(AS36-CP35) -> #VALUE! | CR36: =COUNTIF(CQ25:CQ36,"0") -> 1 | CS36: =COUNTIF(CQ25:CQ36,">=0") -> 7 | CT36: =CR36/CS36 -> 0.14285714 | CU36: =COUNTIF(CQ13:CQ36,"0") -> 7 | CV36: =COUNTIF(CQ13:CQ36,">=0") -> 19 | CW36: =CU36/CV36 -> 0.36842105 | CX36: =MODE(AS27:AS36) -> #VALUE! | CY36: =ABS(AS36-CX35) -> #VALUE! | CZ36: =COUNTIF(CY25:CY36,"0") -> 1 | DA36: =COUNTIF(CY25:CY36,">=0") -> 7 | DB36: =CZ36/DA36 -> 0.14285714 | DC36: =COUNTIF(CY13:CY36,"0") -> 7 | DD36: =COUNTIF(CY13:CY36,">=0") -> 19 | DE36: =DC36/DD36 -> 0.36842105 | DF36: =MODE(AS26:AS36) -> #VALUE! | DG36: =ABS(AS36-DF35) -> #VALUE! | DH36: =COUNTIF(DG25:DG36,"0") -> 1 | DI36: =COUNTIF(DG25:DG36,">=0") -> 7 | DJ36: =DH36/DI36 -> 0.14285714 | DN36: =MODE(AS25:AS36) -> #VALUE! | DO36: =ABS(AS36-DN35) -> #VALUE! | DP36: =COUNTIF(DO25:DO36,"0") -> 1 | DQ36: =COUNTIF(DO25:DO36,">=0") -> 7 | DR36: =DP36/DQ36 -> 0.14285714 | DV36: =MODE(AS24:AS36) -> #VALUE! | DW36: =ABS(AS36-DV35) -> #VALUE! | DX36: =COUNTIF(DW25:DW36,"0") -> 2 | DY36: =COUNTIF(DW25:DW36,">=0") -> 7 | DZ36: =DX36/DY36 -> 0.28571429
A37: A | C37: =VLOOKUP(A36,$F$1:$AQ$39,A37+2) -> #VALUE! | D37: =IF(ISNA(C37),0,C37) -> #VALUE! | F37: 35 | G37: 3 | H37: 11 | I37: 9 | J37: 1 | K37: 7 | L37: 15 | M37: 13 | N37: 3 | O37: 18 | P37: 7 | Q37: 16 | R37: 17 | S37: 1 | T37: 15 | U37: 9 | V37: 5 | W37: 13 | X37: 11 | Y37: 5 | Z37: 6 | AA37: 10 | AB37: 8 | AC37: 6 | AD37: 17 | AE37: 14 | AF37: 10 | AG37: 2 | AH37: 14 | AI37: 2 | AJ37: 4 | AK37: 18 | AL37: 8 | AM37: 4 | AN37: 12 | AO37: 12 | AP37: 0 | AQ37: 16 | AR37: 35 | AS37: =IF(AND(D37>0,D37<=6),1,IF(AND(D37>6,D37<=12),2,IF(AND(D37>12,D37<=18),3,IF(AND(D37>18,D37<=24),-3,IF(AND(D37>24,D37<=30),-2,IF(AND(D37>30,D37<=36),-1,0)))))) -> #VALUE! | AT37: =MODE(AS35:AS37) -> #VALUE! | AU37: =ABS(AS37-AT36) -> #VALUE! | AV37: =COUNTIF(AU26:AU37,"0") -> 1 | AW37: =COUNTIF(AU26:AU37,">=0") -> 5 | AX37: =AV37/AW37 -> 0.2 | AY37: =COUNTIF(AU14:AU37,"0") -> 4 | AZ37: =COUNTIF(AU14:AU37,">=0") -> 13 | BA37: =AY37/AZ37 -> 0.30769231 | BB37: =MODE(AS34:AS37) -> #VALUE! | BC37: =ABS(AS37-BB36) -> #VALUE! | BD37: =COUNTIF(BC26:BC37,"0") -> 2 | BE37: =COUNTIF(BC26:BC37,">=0") -> 6 | BF37: =BD37/BE37 -> 0.33333333 | BG37: =COUNTIF(BC14:BC37,"0") -> 7 | BH37: =COUNTIF(BC14:BC37,">=0") -> 18 | BI37: =BG37/BH37 -> 0.38888889 | BJ37: =MODE(AS33:AS37) -> #VALUE! | BK37: =ABS(AS37-BJ36) -> #VALUE! | BL37: =COUNTIF(BK26:BK37,"0") -> 1 | BM37: =COUNTIF(BK26:BK37,">=0") -> 6 | BN37: =BL37/BM37 -> 0.16666667 | BO37: =COUNTIF(BK14:BK37,"0") -> 6 | BP37: =COUNTIF(BK14:BK37,">=0") -> 18 | BQ37: =BO37/BP37 -> 0.33333333 | BR37: =MODE(AS32:AS37) -> #VALUE! | BS37: =ABS(AS37-BR36) -> #VALUE! | BT37: =COUNTIF(BS26:BS37,"0") -> 1 | BU37: =COUNTIF(BS26:BS37,">=0") -> 6 | BV37: =BT37/BU37 -> 0.16666667 | BW37: =COUNTIF(BS14:BS37,"0") -> 5 | BX37: =COUNTIF(BS14:BS37,">=0") -> 18 | BY37: =BW37/BX37 -> 0.27777778 | BZ37: =MODE(AS31:AS37) -> #VALUE! | CA37: =ABS(AS37-BZ36) -> #VALUE! | CB37: =COUNTIF(CA26:CA37,"0") -> 1 | CC37: =COUNTIF(CA26:CA37,">=0") -> 6 | CD37: =CB37/CC37 -> 0.16666667 | CE37: =COUNTIF(CA14:CA37,"0") -> 4 | CF37: =COUNTIF(CA14:CA37,">=0") -> 18 | CG37: =CE37/CF37 -> 0.22222222 | CH37: =MODE(AS30:AS37) -> #VALUE! | CI37: =ABS(AS37-CH36) -> #VALUE! | CJ37: =COUNTIF(CI26:CI37,"0") -> 1 | CK37: =COUNTIF(CI26:CI37,">=0") -> 6 | CL37: =CJ37/CK37 -> 0.16666667 | CM37: =COUNTIF(CI14:CI37,"0") -> 6 | CN37: =COUNTIF(CI14:CI37,">=0") -> 18 | CO37: =CM37/CN37 -> 0.33333333 | CP37: =MODE(AS29:AS37) -> #VALUE! | CQ37: =ABS(AS37-CP36) -> #VALUE! | CR37: =COUNTIF(CQ26:CQ37,"0") -> 1 | CS37: =COUNTIF(CQ26:CQ37,">=0") -> 6 | CT37: =CR37/CS37 -> 0.16666667 | CU37: =COUNTIF(CQ14:CQ37,"0") -> 6 | CV37: =COUNTIF(CQ14:CQ37,">=0") -> 18 | CW37: =CU37/CV37 -> 0.33333333 | CX37: =MODE(AS28:AS37) -> #VALUE! | CY37: =ABS(AS37-CX36) -> #VALUE! | CZ37: =COUNTIF(CY26:CY37,"0") -> 1 | DA37: =COUNTIF(CY26:CY37,">=0") -> 6 | DB37: =CZ37/DA37 -> 0.16666667 | DC37: =COUNTIF(CY14:CY37,"0") -> 6 | DD37: =COUNTIF(CY14:CY37,">=0") -> 18 | DE37: =DC37/DD37 -> 0.33333333 | DF37: =MODE(AS27:AS37) -> #VALUE! | DG37: =ABS(AS37-DF36) -> #VALUE! | DH37: =COUNTIF(DG26:DG37,"0") -> 0 | DI37: =COUNTIF(DG26:DG37,">=0") -> 6 | DJ37: =DH37/DI37 -> 0 | DK37: =COUNTIF(DG14:DG37,"0") -> 6 | DL37: =COUNTIF(DG14:DG37,">=0") -> 18 | DM37: =DK37/DL37 -> 0.33333333 | DN37: =MODE(AS26:AS37) -> #VALUE! | DO37: =ABS(AS37-DN36) -> #VALUE! | DP37: =COUNTIF(DO26:DO37,"0") -> 0 | DQ37: =COUNTIF(DO26:DO37,">=0") -> 6 | DR37: =DP37/DQ37 -> 0 | DV37: =MODE(AS25:AS37) -> #VALUE! | DW37: =ABS(AS37-DV36) -> #VALUE! | DX37: =COUNTIF(DW26:DW37,"0") -> 1 | DY37: =COUNTIF(DW26:DW37,">=0") -> 6 | DZ37: =DX37/DY37 -> 0.16666667
A38: A | C38: =VLOOKUP(A37,$F$1:$AQ$39,A38+2) -> #VALUE! | D38: =IF(ISNA(C38),0,C38) -> #VALUE! | F38: 36 | G38: 13 | H38: 10 | I38: 7 | J38: 15 | K38: 9 | L38: 6 | M38: 3 | N38: 18 | O38: 3 | P38: 14 | Q38: 5 | R38: 1 | S38: 17 | T38: 1 | U38: 12 | V38: 11 | W38: 8 | X38: 5 | Y38: 16 | Z38: 10 | AA38: 11 | AB38: 8 | AC38: 15 | AD38: 4 | AE38: 7 | AF38: 6 | AG38: 14 | AH38: 2 | AI38: 18 | AJ38: 17 | AK38: 2 | AL38: 13 | AM38: 12 | AN38: 9 | AO38: 4 | AP38: 16 | AQ38: 0 | AR38: 36 | AS38: =IF(AND(D38>0,D38<=6),1,IF(AND(D38>6,D38<=12),2,IF(AND(D38>12,D38<=18),3,IF(AND(D38>18,D38<=24),-3,IF(AND(D38>24,D38<=30),-2,IF(AND(D38>30,D38<=36),-1,0)))))) -> #VALUE! | AT38: =MODE(AS36:AS38) -> #VALUE! | AU38: =ABS(AS38-AT37) -> #VALUE! | AV38: =COUNTIF(AU27:AU38,"0") -> 1 | AW38: =COUNTIF(AU27:AU38,">=0") -> 4 | AX38: =AV38/AW38 -> 0.25 | AY38: =COUNTIF(AU15:AU38,"0") -> 3 | AZ38: =COUNTIF(AU15:AU38,">=0") -> 12 | BA38: =AY38/AZ38 -> 0.25 | BB38: =MODE(AS35:AS38) -> #VALUE! | BC38: =ABS(AS38-BB37) -> #VALUE! | BD38: =COUNTIF(BC27:BC38,"0") -> 2 | BE38: =COUNTIF(BC27:BC38,">=0") -> 5 | BF38: =BD38/BE38 -> 0.4 | BG38: =COUNTIF(BC15:BC38,"0") -> 6 | BH38: =COUNTIF(BC15:BC38,">=0") -> 17 | BI38: =BG38/BH38 -> 0.35294118 | BJ38: =MODE(AS34:AS38) -> #VALUE! | BK38: =ABS(AS38-BJ37) -> #VALUE! | BL38: =COUNTIF(BK27:BK38,"0") -> 1 | BM38: =COUNTIF(BK27:BK38,">=0") -> 5 | BN38: =BL38/BM38 -> 0.2 | BO38: =COUNTIF(BK15:BK38,"0") -> 5 | BP38: =COUNTIF(BK15:BK38,">=0") -> 17 | BQ38: =BO38/BP38 -> 0.29411765 | BR38: =MODE(AS33:AS38) -> #VALUE! | BS38: =ABS(AS38-BR37) -> #VALUE! | BT38: =COUNTIF(BS27:BS38,"0") -> 1 | BU38: =COUNTIF(BS27:BS38,">=0") -> 5 | BV38: =BT38/BU38 -> 0.2 | BW38: =COUNTIF(BS15:BS38,"0") -> 4 | BX38: =COUNTIF(BS15:BS38,">=0") -> 17 | BY38: =BW38/BX38 -> 0.23529412 | BZ38: =MODE(AS32:AS38) -> #VALUE! | CA38: =ABS(AS38-BZ37) -> #VALUE! | CB38: =COUNTIF(CA27:CA38,"0") -> 1 | CC38: =COUNTIF(CA27:CA38,">=0") -> 5 | CD38: =CB38/CC38 -> 0.2 | CE38: =COUNTIF(CA15:CA38,"0") -> 3 | CF38: =COUNTIF(CA15:CA38,">=0") -> 17 | CG38: =CE38/CF38 -> 0.17647059 | CH38: =MODE(AS31:AS38) -> #VALUE! | CI38: =ABS(AS38-CH37) -> #VALUE! | CJ38: =COUNTIF(CI27:CI38,"0") -> 1 | CK38: =COUNTIF(CI27:CI38,">=0") -> 5 | CL38: =CJ38/CK38 -> 0.2 | CM38: =COUNTIF(CI15:CI38,"0") -> 5 | CN38: =COUNTIF(CI15:CI38,">=0") -> 17 | CO38: =CM38/CN38 -> 0.29411765 | CP38: =MODE(AS30:AS38) -> #VALUE! | CQ38: =ABS(AS38-CP37) -> #VALUE! | CR38: =COUNTIF(CQ27:CQ38,"0") -> 1 | CS38: =COUNTIF(CQ27:CQ38,">=0") -> 5 | CT38: =CR38/CS38 -> 0.2 | CU38: =COUNTIF(CQ15:CQ38,"0") -> 5 | CV38: =COUNTIF(CQ15:CQ38,">=0") -> 17 | CW38: =CU38/CV38 -> 0.29411765 | CX38: =MODE(AS29:AS38) -> #VALUE! | CY38: =ABS(AS38-CX37) -> #VALUE! | CZ38: =COUNTIF(CY27:CY38,"0") -> 1 | DA38: =COUNTIF(CY27:CY38,">=0") -> 5 | DB38: =CZ38/DA38 -> 0.2 | DC38: =COUNTIF(CY15:CY38,"0") -> 5 | DD38: =COUNTIF(CY15:CY38,">=0") -> 17 | DE38: =DC38/DD38 -> 0.29411765 | DF38: =MODE(AS28:AS38) -> #VALUE! | DG38: =ABS(AS38-DF37) -> #VALUE! | DH38: =COUNTIF(DG27:DG38,"0") -> 0 | DI38: =COUNTIF(DG27:DG38,">=0") -> 5 | DJ38: =DH38/DI38 -> 0 | DK38: =COUNTIF(DG15:DG38,"0") -> 5 | DL38: =COUNTIF(DG15:DG38,">=0") -> 17 | DM38: =DK38/DL38 -> 0.29411765 | DN38: =MODE(AS27:AS38) -> #VALUE! | DO38: =ABS(AS38-DN37) -> #VALUE! | DP38: =COUNTIF(DO27:DO38,"0") -> 0 | DQ38: =COUNTIF(DO27:DO38,">=0") -> 5 | DR38: =DP38/DQ38 -> 0 | DS38: =COUNTIF(DO15:DO38,"0") -> 5 | DT38: =COUNTIF(DO15:DO38,">=0") -> 17 | DU38: =DS38/DT38 -> 0.29411765 | DV38: =MODE(AS26:AS38) -> #VALUE! | DW38: =ABS(AS38-DV37) -> #VALUE! | DX38: =COUNTIF(DW27:DW38,"0") -> 1 | DY38: =COUNTIF(DW27:DW38,">=0") -> 5 | DZ38: =DX38/DY38 -> 0.2
A39: A | C39: =VLOOKUP(A38,$F$1:$AQ$39,A39+2) -> #VALUE! | D39: =IF(ISNA(C39),0,C39) -> #VALUE! | F39: x | G39: 0 | H39: 1 | I39: 2 | J39: 3 | K39: 4 | L39: 5 | M39: 6 | N39: 7 | O39: 8 | P39: 9 | Q39: 10 | R39: 11 | S39: 12 | T39: 13 | U39: 14 | V39: 15 | W39: 16 | X39: 17 | Y39: 18 | Z39: 19 | AA39: 20 | AB39: 21 | AC39: 22 | AD39: 23 | AE39: 24 | AF39: 25 | AG39: 26 | AH39: 27 | AI39: 28 | AJ39: 29 | AK39: 30 | AL39: 31 | AM39: 32 | AN39: 33 | AO39: 34 | AP39: 35 | AQ39: 36 | AR39: x | AS39: =IF(AND(D39>0,D39<=6),1,IF(AND(D39>6,D39<=12),2,IF(AND(D39>12,D39<=18),3,IF(AND(D39>18,D39<=24),-3,IF(AND(D39>24,D39<=30),-2,IF(AND(D39>30,D39<=36),-1,0)))))) -> #VALUE! | AT39: =MODE(AS37:AS39) -> #VALUE! | AU39: =ABS(AS39-AT38) -> #VALUE! | AV39: =COUNTIF(AU28:AU39,"0") -> 1 | AW39: =COUNTIF(AU28:AU39,">=0") -> 3 | AX39: =AV39/AW39 -> 0.33333333 | AY39: =COUNTIF(AU16:AU39,"0") -> 3 | AZ39: =COUNTIF(AU16:AU39,">=0") -> 11 | BA39: =AY39/AZ39 -> 0.27272727 | BB39: =MODE(AS36:AS39) -> #VALUE! | BC39: =ABS(AS39-BB38) -> #VALUE! | BD39: =COUNTIF(BC28:BC39,"0") -> 1 | BE39: =COUNTIF(BC28:BC39,">=0") -> 4 | BF39: =BD39/BE39 -> 0.25 | BG39: =COUNTIF(BC16:BC39,"0") -> 6 | BH39: =COUNTIF(BC16:BC39,">=0") -> 16 | BI39: =BG39/BH39 -> 0.375 | BJ39: =MODE(AS35:AS39) -> #VALUE! | BK39: =ABS(AS39-BJ38) -> #VALUE! | BL39: =COUNTIF(BK28:BK39,"0") -> 0 | BM39: =COUNTIF(BK28:BK39,">=0") -> 4 | BN39: =BL39/BM39 -> 0 | BO39: =COUNTIF(BK16:BK39,"0") -> 5 | BP39: =COUNTIF(BK16:BK39,">=0") -> 16 | BQ39: =BO39/BP39 -> 0.3125 | BR39: =MODE(AS34:AS39) -> #VALUE! | BS39: =ABS(AS39-BR38) -> #VALUE! | BT39: =COUNTIF(BS28:BS39,"0") -> 0 | BU39: =COUNTIF(BS28:BS39,">=0") -> 4 | BV39: =BT39/BU39 -> 0 | BW39: =COUNTIF(BS16:BS39,"0") -> 4 | BX39: =COUNTIF(BS16:BS39,">=0") -> 16 | BY39: =BW39/BX39 -> 0.25 | BZ39: =MODE(AS33:AS39) -> #VALUE! | CA39: =ABS(AS39-BZ38) -> #VALUE! | CB39: =COUNTIF(CA28:CA39,"0") -> 0 | CC39: =COUNTIF(CA28:CA39,">=0") -> 4 | CD39: =CB39/CC39 -> 0 | CE39: =COUNTIF(CA16:CA39,"0") -> 3 | CF39: =COUNTIF(CA16:CA39,">=0") -> 16 | CG39: =CE39/CF39 -> 0.1875 | CH39: =MODE(AS32:AS39) -> #VALUE! | CI39: =ABS(AS39-CH38) -> #VALUE! | CJ39: =COUNTIF(CI28:CI39,"0") -> 0 | CK39: =COUNTIF(CI28:CI39,">=0") -> 4 | CL39: =CJ39/CK39 -> 0 | CM39: =COUNTIF(CI16:CI39,"0") -> 5 | CN39: =COUNTIF(CI16:CI39,">=0") -> 16 | CO39: =CM39/CN39 -> 0.3125 | CP39: =MODE(AS31:AS39) -> #VALUE! | CQ39: =ABS(AS39-CP38) -> #VALUE! | CR39: =COUNTIF(CQ28:CQ39,"0") -> 0 | CS39: =COUNTIF(CQ28:CQ39,">=0") -> 4 | CT39: =CR39/CS39 -> 0 | CU39: =COUNTIF(CQ16:CQ39,"0") -> 5 | CV39: =COUNTIF(CQ16:CQ39,">=0") -> 16 | CW39: =CU39/CV39 -> 0.3125 | CX39: =MODE(AS30:AS39) -> #VALUE! | CY39: =ABS(AS39-CX38) -> #VALUE! | CZ39: =COUNTIF(CY28:CY39,"0") -> 0 | DA39: =COUNTIF(CY28:CY39,">=0") -> 4 | DB39: =CZ39/DA39 -> 0 | DC39: =COUNTIF(CY16:CY39,"0") -> 5 | DD39: =COUNTIF(CY16:CY39,">=0") -> 16 | DE39: =DC39/DD39 -> 0.3125 | DF39: =MODE(AS29:AS39) -> #VALUE! | DG39: =ABS(AS39-DF38) -> #VALUE! | DH39: =COUNTIF(DG28:DG39,"0") -> 0 | DI39: =COUNTIF(DG28:DG39,">=0") -> 4 | DJ39: =DH39/DI39 -> 0 | DK39: =COUNTIF(DG16:DG39,"0") -> 5 | DL39: =COUNTIF(DG16:DG39,">=0") -> 16 | DM39: =DK39/DL39 -> 0.3125 | DN39: =MODE(AS28:AS39) -> #VALUE! | DO39: =ABS(AS39-DN38) -> #VALUE! | DP39: =COUNTIF(DO28:DO39,"0") -> 0 | DQ39: =COUNTIF(DO28:DO39,">=0") -> 4 | DR39: =DP39/DQ39 -> 0 | DS39: =COUNTIF(DO16:DO39,"0") -> 5 | DT39: =COUNTIF(DO16:DO39,">=0") -> 16 | DU39: =DS39/DT39 -> 0.3125 | DV39: =MODE(AS27:AS39) -> #VALUE! | DW39: =ABS(AS39-DV38) -> #VALUE! | DX39: =COUNTIF(DW28:DW39,"0") -> 0 | DY39: =COUNTIF(DW28:DW39,">=0") -> 4 | DZ39: =DX39/DY39 -> 0 | EA39: =COUNTIF(DW16:DW39,"0") -> 6 | EB39: =COUNTIF(DW16:DW39,">=0") -> 16 | EC39: =EA39/EB39 -> 0.375
A40: A | C40: =VLOOKUP(A39,$F$1:$AQ$39,A40+2) -> #VALUE! | D40: =IF(ISNA(C40),0,C40) -> #VALUE! | AS40: =IF(AND(D40>0,D40<=6),1,IF(AND(D40>6,D40<=12),2,IF(AND(D40>12,D40<=18),3,IF(AND(D40>18,D40<=24),-3,IF(AND(D40>24,D40<=30),-2,IF(AND(D40>30,D40<=36),-1,0)))))) -> #VALUE! | AT40: =MODE(AS38:AS40) -> #VALUE! | AU40: =ABS(AS40-AT39) -> #VALUE! | AV40: =COUNTIF(AU29:AU40,"0") -> 1 | AW40: =COUNTIF(AU29:AU40,">=0") -> 2 | AX40: =AV40/AW40 -> 0.5 | AY40: =COUNTIF(AU17:AU40,"0") -> 3 | AZ40: =COUNTIF(AU17:AU40,">=0") -> 10 | BA40: =AY40/AZ40 -> 0.3 | BB40: =MODE(AS37:AS40) -> #VALUE! | BC40: =ABS(AS40-BB39) -> #VALUE! | BD40: =COUNTIF(BC29:BC40,"0") -> 1 | BE40: =COUNTIF(BC29:BC40,">=0") -> 3 | BF40: =BD40/BE40 -> 0.33333333 | BG40: =COUNTIF(BC17:BC40,"0") -> 6 | BH40: =COUNTIF(BC17:BC40,">=0") -> 15 | BI40: =BG40/BH40 -> 0.4 | BJ40: =MODE(AS36:AS40) -> #VALUE! | BK40: =ABS(AS40-BJ39) -> #VALUE! | BL40: =COUNTIF(BK29:BK40,"0") -> 0 | BM40: =COUNTIF(BK29:BK40,">=0") -> 3 | BN40: =BL40/BM40 -> 0 | BO40: =COUNTIF(BK17:BK40,"0") -> 5 | BP40: =COUNTIF(BK17:BK40,">=0") -> 15 | BQ40: =BO40/BP40 -> 0.33333333 | BR40: =MODE(AS35:AS40) -> #VALUE! | BS40: =ABS(AS40-BR39) -> #VALUE! | BT40: =COUNTIF(BS29:BS40,"0") -> 0 | BU40: =COUNTIF(BS29:BS40,">=0") -> 3 | BV40: =BT40/BU40 -> 0 | BW40: =COUNTIF(BS17:BS40,"0") -> 4 | BX40: =COUNTIF(BS17:BS40,">=0") -> 15 | BY40: =BW40/BX40 -> 0.26666667 | BZ40: =MODE(AS34:AS40) -> #VALUE! | CA40: =ABS(AS40-BZ39) -> #VALUE! | CB40: =COUNTIF(CA29:CA40,"0") -> 0 | CC40: =COUNTIF(CA29:CA40,">=0") -> 3 | CD40: =CB40/CC40 -> 0 | CE40: =COUNTIF(CA17:CA40,"0") -> 3 | CF40: =COUNTIF(CA17:CA40,">=0") -> 15 | CG40: =CE40/CF40 -> 0.2 | CH40: =MODE(AS33:AS40) -> #VALUE! | CI40: =ABS(AS40-CH39) -> #VALUE! | CJ40: =COUNTIF(CI29:CI40,"0") -> 0 | CK40: =COUNTIF(CI29:CI40,">=0") -> 3 | CL40: =CJ40/CK40 -> 0 | CM40: =COUNTIF(CI17:CI40,"0") -> 5 | CN40: =COUNTIF(CI17:CI40,">=0") -> 15 | CO40: =CM40/CN40 -> 0.33333333 | CP40: =MODE(AS32:AS40) -> #VALUE! | CQ40: =ABS(AS40-CP39) -> #VALUE! | CR40: =COUNTIF(CQ29:CQ40,"0") -> 0 | CS40: =COUNTIF(CQ29:CQ40,">=0") -> 3 | CT40: =CR40/CS40 -> 0 | CU40: =COUNTIF(CQ17:CQ40,"0") -> 5 | CV40: =COUNTIF(CQ17:CQ40,">=0") -> 15 | CW40: =CU40/CV40 -> 0.33333333 | CX40: =MODE(AS31:AS40) -> #VALUE! | CY40: =ABS(AS40-CX39) -> #VALUE! | CZ40: =COUNTIF(CY29:CY40,"0") -> 0 | DA40: =COUNTIF(CY29:CY40,">=0") -> 3 | DB40: =CZ40/DA40 -> 0 | DC40: =COUNTIF(CY17:CY40,"0") -> 5 | DD40: =COUNTIF(CY17:CY40,">=0") -> 15 | DE40: =DC40/DD40 -> 0.33333333 | DF40: =MODE(AS30:AS40) -> #VALUE! | DG40: =ABS(AS40-DF39) -> #VALUE! | DH40: =COUNTIF(DG29:DG40,"0") -> 0 | DI40: =COUNTIF(DG29:DG40,">=0") -> 3 | DJ40: =DH40/DI40 -> 0 | DK40: =COUNTIF(DG17:DG40,"0") -> 5 | DL40: =COUNTIF(DG17:DG40,">=0") -> 15 | DM40: =DK40/DL40 -> 0.33333333 | DN40: =MODE(AS29:AS40) -> #VALUE! | DO40: =ABS(AS40-DN39) -> #VALUE! | DP40: =COUNTIF(DO29:DO40,"0") -> 0 | DQ40: =COUNTIF(DO29:DO40,">=0") -> 3 | DR40: =DP40/DQ40 -> 0 | DS40: =COUNTIF(DO17:DO40,"0") -> 5 | DT40: =COUNTIF(DO17:DO40,">=0") -> 15 | DU40: =DS40/DT40 -> 0.33333333 | DV40: =MODE(AS28:AS40) -> #VALUE! | DW40: =ABS(AS40-DV39) -> #VALUE! | DX40: =COUNTIF(DW29:DW40,"0") -> 0 | DY40: =COUNTIF(DW29:DW40,">=0") -> 3 | DZ40: =DX40/DY40 -> 0 | EA40: =COUNTIF(DW17:DW40,"0") -> 6 | EB40: =COUNTIF(DW17:DW40,">=0") -> 15 | EC40: =EA40/EB40 -> 0.4
A41: A | C41: =VLOOKUP(A40,$F$1:$AQ$39,A41+2) -> #VALUE! | D41: =IF(ISNA(C41),0,C41) -> #VALUE! | AS41: =IF(AND(D41>0,D41<=6),1,IF(AND(D41>6,D41<=12),2,IF(AND(D41>12,D41<=18),3,IF(AND(D41>18,D41<=24),-3,IF(AND(D41>24,D41<=30),-2,IF(AND(D41>30,D41<=36),-1,0)))))) -> #VALUE! | AT41: =MODE(AS39:AS41) -> #VALUE! | AU41: =ABS(AS41-AT40) -> #VALUE! | AV41: =COUNTIF(AU30:AU41,"0") -> 1 | AW41: =COUNTIF(AU30:AU41,">=0") -> 2 | AX41: =AV41/AW41 -> 0.5 | AY41: =COUNTIF(AU18:AU41,"0") -> 3 | AZ41: =COUNTIF(AU18:AU41,">=0") -> 10 | BA41: =AY41/AZ41 -> 0.3 | BB41: =MODE(AS38:AS41) -> #VALUE! | BC41: =ABS(AS41-BB40) -> #VALUE! | BD41: =COUNTIF(BC30:BC41,"0") -> 1 | BE41: =COUNTIF(BC30:BC41,">=0") -> 2 | BF41: =BD41/BE41 -> 0.5 | BG41: =COUNTIF(BC18:BC41,"0") -> 6 | BH41: =COUNTIF(BC18:BC41,">=0") -> 14 | BI41: =BG41/BH41 -> 0.42857143 | BJ41: =MODE(AS37:AS41) -> #VALUE! | BK41: =ABS(AS41-BJ40) -> #VALUE! | BL41: =COUNTIF(BK30:BK41,"0") -> 0 | BM41: =COUNTIF(BK30:BK41,">=0") -> 2 | BN41: =BL41/BM41 -> 0 | BO41: =COUNTIF(BK18:BK41,"0") -> 5 | BP41: =COUNTIF(BK18:BK41,">=0") -> 14 | BQ41: =BO41/BP41 -> 0.35714286 | BR41: =MODE(AS36:AS41) -> #VALUE! | BS41: =ABS(AS41-BR40) -> #VALUE! | BT41: =COUNTIF(BS30:BS41,"0") -> 0 | BU41: =COUNTIF(BS30:BS41,">=0") -> 2 | BV41: =BT41/BU41 -> 0 | BW41: =COUNTIF(BS18:BS41,"0") -> 4 | BX41: =COUNTIF(BS18:BS41,">=0") -> 14 | BY41: =BW41/BX41 -> 0.28571429 | BZ41: =MODE(AS35:AS41) -> #VALUE! | CA41: =ABS(AS41-BZ40) -> #VALUE! | CB41: =COUNTIF(CA30:CA41,"0") -> 0 | CC41: =COUNTIF(CA30:CA41,">=0") -> 2 | CD41: =CB41/CC41 -> 0 | CE41: =COUNTIF(CA18:CA41,"0") -> 3 | CF41: =COUNTIF(CA18:CA41,">=0") -> 14 | CG41: =CE41/CF41 -> 0.21428571 | CH41: =MODE(AS34:AS41) -> #VALUE! | CI41: =ABS(AS41-CH40) -> #VALUE! | CJ41: =COUNTIF(CI30:CI41,"0") -> 0 | CK41: =COUNTIF(CI30:CI41,">=0") -> 2 | CL41: =CJ41/CK41 -> 0 | CM41: =COUNTIF(CI18:CI41,"0") -> 5 | CN41: =COUNTIF(CI18:CI41,">=0") -> 14 | CO41: =CM41/CN41 -> 0.35714286 | CP41: =MODE(AS33:AS41) -> #VALUE! | CQ41: =ABS(AS41-CP40) -> #VALUE! | CR41: =COUNTIF(CQ30:CQ41,"0") -> 0 | CS41: =COUNTIF(CQ30:CQ41,">=0") -> 2 | CT41: =CR41/CS41 -> 0 | CU41: =COUNTIF(CQ18:CQ41,"0") -> 5 | CV41: =COUNTIF(CQ18:CQ41,">=0") -> 14 | CW41: =CU41/CV41 -> 0.35714286 | CX41: =MODE(AS32:AS41) -> #VALUE! | CY41: =ABS(AS41-CX40) -> #VALUE! | CZ41: =COUNTIF(CY30:CY41,"0") -> 0 | DA41: =COUNTIF(CY30:CY41,">=0") -> 2 | DB41: =CZ41/DA41 -> 0 | DC41: =COUNTIF(CY18:CY41,"0") -> 5 | DD41: =COUNTIF(CY18:CY41,">=0") -> 14 | DE41: =DC41/DD41 -> 0.35714286 | DF41: =MODE(AS31:AS41) -> #VALUE! | DG41: =ABS(AS41-DF40) -> #VALUE! | DH41: =COUNTIF(DG30:DG41,"0") -> 0 | DI41: =COUNTIF(DG30:DG41,">=0") -> 2 | DJ41: =DH41/DI41 -> 0 | DK41: =COUNTIF(DG18:DG41,"0") -> 5 | DL41: =COUNTIF(DG18:DG41,">=0") -> 14 | DM41: =DK41/DL41 -> 0.35714286 | DN41: =MODE(AS30:AS41) -> #VALUE! | DO41: =ABS(AS41-DN40) -> #VALUE! | DP41: =COUNTIF(DO30:DO41,"0") -> 0 | DQ41: =COUNTIF(DO30:DO41,">=0") -> 2 | DR41: =DP41/DQ41 -> 0 | DS41: =COUNTIF(DO18:DO41,"0") -> 5 | DT41: =COUNTIF(DO18:DO41,">=0") -> 14 | DU41: =DS41/DT41 -> 0.35714286 | DV41: =MODE(AS29:AS41) -> #VALUE! | DW41: =ABS(AS41-DV40) -> #VALUE! | DX41: =COUNTIF(DW30:DW41,"0") -> 0 | DY41: =COUNTIF(DW30:DW41,">=0") -> 2 | DZ41: =DX41/DY41 -> 0 | EA41: =COUNTIF(DW18:DW41,"0") -> 6 | EB41: =COUNTIF(DW18:DW41,">=0") -> 14 | EC41: =EA41/EB41 -> 0.42857143
A42: A | C42: =VLOOKUP(A41,$F$1:$AQ$39,A42+2) -> #VALUE! | D42: =IF(ISNA(C42),0,C42) -> #VALUE! | AS42: =IF(AND(D42>0,D42<=6),1,IF(AND(D42>6,D42<=12),2,IF(AND(D42>12,D42<=18),3,IF(AND(D42>18,D42<=24),-3,IF(AND(D42>24,D42<=30),-2,IF(AND(D42>30,D42<=36),-1,0)))))) -> #VALUE! | AT42: =MODE(AS40:AS42) -> #VALUE! | AU42: =ABS(AS42-AT41) -> #VALUE! | AV42: =COUNTIF(AU31:AU42,"0") -> 0 | AW42: =COUNTIF(AU31:AU42,">=0") -> 1 | AX42: =AV42/AW42 -> 0 | AY42: =COUNTIF(AU19:AU42,"0") -> 3 | AZ42: =COUNTIF(AU19:AU42,">=0") -> 9 | BA42: =AY42/AZ42 -> 0.33333333 | BB42: =MODE(AS39:AS42) -> #VALUE! | BC42: =ABS(AS42-BB41) -> #VALUE! | BD42: =COUNTIF(BC31:BC42,"0") -> 0 | BE42: =COUNTIF(BC31:BC42,">=0") -> 1 | BF42: =BD42/BE42 -> 0 | BG42: =COUNTIF(BC19:BC42,"0") -> 6 | BH42: =COUNTIF(BC19:BC42,">=0") -> 13 | BI42: =BG42/BH42 -> 0.46153846 | BJ42: =MODE(AS38:AS42) -> #VALUE! | BK42: =ABS(AS42-BJ41) -> #VALUE! | BL42: =COUNTIF(BK31:BK42,"0") -> 0 | BM42: =COUNTIF(BK31:BK42,">=0") -> 1 | BN42: =BL42/BM42 -> 0 | BO42: =COUNTIF(BK19:BK42,"0") -> 4 | BP42: =COUNTIF(BK19:BK42,">=0") -> 13 | BQ42: =BO42/BP42 -> 0.30769231 | BR42: =MODE(AS37:AS42) -> #VALUE! | BS42: =ABS(AS42-BR41) -> #VALUE! | BT42: =COUNTIF(BS31:BS42,"0") -> 0 | BU42: =COUNTIF(BS31:BS42,">=0") -> 1 | BV42: =BT42/BU42 -> 0 | BW42: =COUNTIF(BS19:BS42,"0") -> 3 | BX42: =COUNTIF(BS19:BS42,">=0") -> 13 | BY42: =BW42/BX42 -> 0.23076923 | BZ42: =MODE(AS36:AS42) -> #VALUE! | CA42: =ABS(AS42-BZ41) -> #VALUE! | CB42: =COUNTIF(CA31:CA42,"0") -> 0 | CC42: =COUNTIF(CA31:CA42,">=0") -> 1 | CD42: =CB42/CC42 -> 0 | CE42: =COUNTIF(CA19:CA42,"0") -> 2 | CF42: =COUNTIF(CA19:CA42,">=0") -> 13 | CG42: =CE42/CF42 -> 0.15384615 | CH42: =MODE(AS35:AS42) -> #VALUE! | CI42: =ABS(AS42-CH41) -> #VALUE! | CJ42: =COUNTIF(CI31:CI42,"0") -> 0 | CK42: =COUNTIF(CI31:CI42,">=0") -> 1 | CL42: =CJ42/CK42 -> 0 | CM42: =COUNTIF(CI19:CI42,"0") -> 4 | CN42: =COUNTIF(CI19:CI42,">=0") -> 13 | CO42: =CM42/CN42 -> 0.30769231 | CP42: =MODE(AS34:AS42) -> #VALUE! | CQ42: =ABS(AS42-CP41) -> #VALUE! | CR42: =COUNTIF(CQ31:CQ42,"0") -> 0 | CS42: =COUNTIF(CQ31:CQ42,">=0") -> 1 | CT42: =CR42/CS42 -> 0 | CU42: =COUNTIF(CQ19:CQ42,"0") -> 4 | CV42: =COUNTIF(CQ19:CQ42,">=0") -> 13 | CW42: =CU42/CV42 -> 0.30769231 | CX42: =MODE(AS33:AS42) -> #VALUE! | CY42: =ABS(AS42-CX41) -> #VALUE! | CZ42: =COUNTIF(CY31:CY42,"0") -> 0 | DA42: =COUNTIF(CY31:CY42,">=0") -> 1 | DB42: =CZ42/DA42 -> 0 | DC42: =COUNTIF(CY19:CY42,"0") -> 4 | DD42: =COUNTIF(CY19:CY42,">=0") -> 13 | DE42: =DC42/DD42 -> 0.30769231 | DF42: =MODE(AS32:AS42) -> #VALUE! | DG42: =ABS(AS42-DF41) -> #VALUE! | DH42: =COUNTIF(DG31:DG42,"0") -> 0 | DI42: =COUNTIF(DG31:DG42,">=0") -> 1 | DJ42: =DH42/DI42 -> 0 | DK42: =COUNTIF(DG19:DG42,"0") -> 4 | DL42: =COUNTIF(DG19:DG42,">=0") -> 13 | DM42: =DK42/DL42 -> 0.30769231 | DN42: =MODE(AS31:AS42) -> #VALUE! | DO42: =ABS(AS42-DN41) -> #VALUE! | DP42: =COUNTIF(DO31:DO42,"0") -> 0 | DQ42: =COUNTIF(DO31:DO42,">=0") -> 1 | DR42: =DP42/DQ42 -> 0 | DS42: =COUNTIF(DO19:DO42,"0") -> 4 | DT42: =COUNTIF(DO19:DO42,">=0") -> 13 | DU42: =DS42/DT42 -> 0.30769231 | DV42: =MODE(AS30:AS42) -> #VALUE! | DW42: =ABS(AS42-DV41) -> #VALUE! | DX42: =COUNTIF(DW31:DW42,"0") -> 0 | DY42: =COUNTIF(DW31:DW42,">=0") -> 1 | DZ42: =DX42/DY42 -> 0 | EA42: =COUNTIF(DW19:DW42,"0") -> 5 | EB42: =COUNTIF(DW19:DW42,">=0") -> 13 | EC42: =EA42/EB42 -> 0.38461538
A43: A | C43: =VLOOKUP(A42,$F$1:$AQ$39,A43+2) -> #VALUE! | D43: =IF(ISNA(C43),0,C43) -> #VALUE! | AS43: =IF(AND(D43>0,D43<=6),1,IF(AND(D43>6,D43<=12),2,IF(AND(D43>12,D43<=18),3,IF(AND(D43>18,D43<=24),-3,IF(AND(D43>24,D43<=30),-2,IF(AND(D43>30,D43<=36),-1,0)))))) -> #VALUE! | AT43: =MODE(AS41:AS43) -> #VALUE! | AU43: =ABS(AS43-AT42) -> #VALUE! | AV43: =COUNTIF(AU32:AU43,"0") -> 0 | AW43: =COUNTIF(AU32:AU43,">=0") -> 0 | AX43: =AV43/AW43 -> #DIV/0! | AY43: =COUNTIF(AU20:AU43,"0") -> 3 | AZ43: =COUNTIF(AU20:AU43,">=0") -> 8 | BA43: =AY43/AZ43 -> 0.375 | BB43: =MODE(AS40:AS43) -> #VALUE! | BC43: =ABS(AS43-BB42) -> #VALUE! | BD43: =COUNTIF(BC32:BC43,"0") -> 0 | BE43: =COUNTIF(BC32:BC43,">=0") -> 0 | BF43: =BD43/BE43 -> #DIV/0! | BG43: =COUNTIF(BC20:BC43,"0") -> 6 | BH43: =COUNTIF(BC20:BC43,">=0") -> 12 | BI43: =BG43/BH43 -> 0.5 | BJ43: =MODE(AS39:AS43) -> #VALUE! | BK43: =ABS(AS43-BJ42) -> #VALUE! | BL43: =COUNTIF(BK32:BK43,"0") -> 0 | BM43: =COUNTIF(BK32:BK43,">=0") -> 0 | BN43: =BL43/BM43 -> #DIV/0! | BO43: =COUNTIF(BK20:BK43,"0") -> 4 | BP43: =COUNTIF(BK20:BK43,">=0") -> 12 | BQ43: =BO43/BP43 -> 0.33333333 | BR43: =MODE(AS38:AS43) -> #VALUE! | BS43: =ABS(AS43-BR42) -> #VALUE! | BT43: =COUNTIF(BS32:BS43,"0") -> 0 | BU43: =COUNTIF(BS32:BS43,">=0") -> 0 | BV43: =BT43/BU43 -> #DIV/0! | BW43: =COUNTIF(BS20:BS43,"0") -> 3 | BX43: =COUNTIF(BS20:BS43,">=0") -> 12 | BY43: =BW43/BX43 -> 0.25 | BZ43: =MODE(AS37:AS43) -> #VALUE! | CA43: =ABS(AS43-BZ42) -> #VALUE! | CB43: =COUNTIF(CA32:CA43,"0") -> 0 | CC43: =COUNTIF(CA32:CA43,">=0") -> 0 | CD43: =CB43/CC43 -> #DIV/0! | CE43: =COUNTIF(CA20:CA43,"0") -> 2 | CF43: =COUNTIF(CA20:CA43,">=0") -> 12 | CG43: =CE43/CF43 -> 0.16666667 | CH43: =MODE(AS36:AS43) -> #VALUE! | CI43: =ABS(AS43-CH42) -> #VALUE! | CJ43: =COUNTIF(CI32:CI43,"0") -> 0 | CK43: =COUNTIF(CI32:CI43,">=0") -> 0 | CL43: =CJ43/CK43 -> #DIV/0! | CM43: =COUNTIF(CI20:CI43,"0") -> 4 | CN43: =COUNTIF(CI20:CI43,">=0") -> 12 | CO43: =CM43/CN43 -> 0.33333333 | CP43: =MODE(AS35:AS43) -> #VALUE! | CQ43: =ABS(AS43-CP42) -> #VALUE! | CR43: =COUNTIF(CQ32:CQ43,"0") -> 0 | CS43: =COUNTIF(CQ32:CQ43,">=0") -> 0 | CT43: =CR43/CS43 -> #DIV/0! | CU43: =COUNTIF(CQ20:CQ43,"0") -> 4 | CV43: =COUNTIF(CQ20:CQ43,">=0") -> 12 | CW43: =CU43/CV43 -> 0.33333333 | CX43: =MODE(AS34:AS43) -> #VALUE! | CY43: =ABS(AS43-CX42) -> #VALUE! | CZ43: =COUNTIF(CY32:CY43,"0") -> 0 | DA43: =COUNTIF(CY32:CY43,">=0") -> 0 | DB43: =CZ43/DA43 -> #DIV/0! | DC43: =COUNTIF(CY20:CY43,"0") -> 4 | DD43: =COUNTIF(CY20:CY43,">=0") -> 12 | DE43: =DC43/DD43 -> 0.33333333 | DF43: =MODE(AS33:AS43) -> #VALUE! | DG43: =ABS(AS43-DF42) -> #VALUE! | DH43: =COUNTIF(DG32:DG43,"0") -> 0 | DI43: =COUNTIF(DG32:DG43,">=0") -> 0 | DJ43: =DH43/DI43 -> #DIV/0! | DK43: =COUNTIF(DG20:DG43,"0") -> 4 | DL43: =COUNTIF(DG20:DG43,">=0") -> 12 | DM43: =DK43/DL43 -> 0.33333333 | DN43: =MODE(AS32:AS43) -> #VALUE! | DO43: =ABS(AS43-DN42) -> #VALUE! | DP43: =COUNTIF(DO32:DO43,"0") -> 0 | DQ43: =COUNTIF(DO32:DO43,">=0") -> 0 | DR43: =DP43/DQ43 -> #DIV/0! | DS43: =COUNTIF(DO20:DO43,"0") -> 4 | DT43: =COUNTIF(DO20:DO43,">=0") -> 12 | DU43: =DS43/DT43 -> 0.33333333 | DV43: =MODE(AS31:AS43) -> #VALUE! | DW43: =ABS(AS43-DV42) -> #VALUE! | DX43: =COUNTIF(DW32:DW43,"0") -> 0 | DY43: =COUNTIF(DW32:DW43,">=0") -> 0 | DZ43: =DX43/DY43 -> #DIV/0! | EA43: =COUNTIF(DW20:DW43,"0") -> 5 | EB43: =COUNTIF(DW20:DW43,">=0") -> 12 | EC43: =EA43/EB43 -> 0.41666667
A44: A | C44: =VLOOKUP(A43,$F$1:$AQ$39,A44+2) -> #VALUE! | D44: =IF(ISNA(C44),0,C44) -> #VALUE! | AS44: =IF(AND(D44>0,D44<=6),1,IF(AND(D44>6,D44<=12),2,IF(AND(D44>12,D44<=18),3,IF(AND(D44>18,D44<=24),-3,IF(AND(D44>24,D44<=30),-2,IF(AND(D44>30,D44<=36),-1,0)))))) -> #VALUE! | AT44: =MODE(AS42:AS44) -> #VALUE! | AU44: =ABS(AS44-AT43) -> #VALUE! | AV44: =COUNTIF(AU33:AU44,"0") -> 0 | AW44: =COUNTIF(AU33:AU44,">=0") -> 0 | AX44: =AV44/AW44 -> #DIV/0! | AY44: =COUNTIF(AU21:AU44,"0") -> 3 | AZ44: =COUNTIF(AU21:AU44,">=0") -> 8 | BA44: =AY44/AZ44 -> 0.375 | BB44: =MODE(AS41:AS44) -> #VALUE! | BC44: =ABS(AS44-BB43) -> #VALUE! | BD44: =COUNTIF(BC33:BC44,"0") -> 0 | BE44: =COUNTIF(BC33:BC44,">=0") -> 0 | BF44: =BD44/BE44 -> #DIV/0! | BG44: =COUNTIF(BC21:BC44,"0") -> 5 | BH44: =COUNTIF(BC21:BC44,">=0") -> 11 | BI44: =BG44/BH44 -> 0.45454545 | BJ44: =MODE(AS40:AS44) -> #VALUE! | BK44: =ABS(AS44-BJ43) -> #VALUE! | BL44: =COUNTIF(BK33:BK44,"0") -> 0 | BM44: =COUNTIF(BK33:BK44,">=0") -> 0 | BN44: =BL44/BM44 -> #DIV/0! | BO44: =COUNTIF(BK21:BK44,"0") -> 3 | BP44: =COUNTIF(BK21:BK44,">=0") -> 11 | BQ44: =BO44/BP44 -> 0.27272727 | BR44: =MODE(AS39:AS44) -> #VALUE! | BS44: =ABS(AS44-BR43) -> #VALUE! | BT44: =COUNTIF(BS33:BS44,"0") -> 0 | BU44: =COUNTIF(BS33:BS44,">=0") -> 0 | BV44: =BT44/BU44 -> #DIV/0! | BW44: =COUNTIF(BS21:BS44,"0") -> 3 | BX44: =COUNTIF(BS21:BS44,">=0") -> 11 | BY44: =BW44/BX44 -> 0.27272727 | BZ44: =MODE(AS38:AS44) -> #VALUE! | CA44: =ABS(AS44-BZ43) -> #VALUE! | CB44: =COUNTIF(CA33:CA44,"0") -> 0 | CC44: =COUNTIF(CA33:CA44,">=0") -> 0 | CD44: =CB44/CC44 -> #DIV/0! | CE44: =COUNTIF(CA21:CA44,"0") -> 2 | CF44: =COUNTIF(CA21:CA44,">=0") -> 11 | CG44: =CE44/CF44 -> 0.18181818 | CH44: =MODE(AS37:AS44) -> #VALUE! | CI44: =ABS(AS44-CH43) -> #VALUE! | CJ44: =COUNTIF(CI33:CI44,"0") -> 0 | CK44: =COUNTIF(CI33:CI44,">=0") -> 0 | CL44: =CJ44/CK44 -> #DIV/0! | CM44: =COUNTIF(CI21:CI44,"0") -> 4 | CN44: =COUNTIF(CI21:CI44,">=0") -> 11 | CO44: =CM44/CN44 -> 0.36363636 | CP44: =MODE(AS36:AS44) -> #VALUE! | CQ44: =ABS(AS44-CP43) -> #VALUE! | CR44: =COUNTIF(CQ33:CQ44,"0") -> 0 | CS44: =COUNTIF(CQ33:CQ44,">=0") -> 0 | CT44: =CR44/CS44 -> #DIV/0! | CU44: =COUNTIF(CQ21:CQ44,"0") -> 4 | CV44: =COUNTIF(CQ21:CQ44,">=0") -> 11 | CW44: =CU44/CV44 -> 0.36363636 | CX44: =MODE(AS35:AS44) -> #VALUE! | CY44: =ABS(AS44-CX43) -> #VALUE! | CZ44: =COUNTIF(CY33:CY44,"0") -> 0 | DA44: =COUNTIF(CY33:CY44,">=0") -> 0 | DB44: =CZ44/DA44 -> #DIV/0! | DC44: =COUNTIF(CY21:CY44,"0") -> 4 | DD44: =COUNTIF(CY21:CY44,">=0") -> 11 | DE44: =DC44/DD44 -> 0.36363636 | DF44: =MODE(AS34:AS44) -> #VALUE! | DG44: =ABS(AS44-DF43) -> #VALUE! | DH44: =COUNTIF(DG33:DG44,"0") -> 0 | DI44: =COUNTIF(DG33:DG44,">=0") -> 0 | DJ44: =DH44/DI44 -> #DIV/0! | DK44: =COUNTIF(DG21:DG44,"0") -> 4 | DL44: =COUNTIF(DG21:DG44,">=0") -> 11 | DM44: =DK44/DL44 -> 0.36363636 | DN44: =MODE(AS33:AS44) -> #VALUE! | DO44: =ABS(AS44-DN43) -> #VALUE! | DP44: =COUNTIF(DO33:DO44,"0") -> 0 | DQ44: =COUNTIF(DO33:DO44,">=0") -> 0 | DR44: =DP44/DQ44 -> #DIV/0! | DS44: =COUNTIF(DO21:DO44,"0") -> 4 | DT44: =COUNTIF(DO21:DO44,">=0") -> 11 | DU44: =DS44/DT44 -> 0.36363636 | DV44: =MODE(AS32:AS44) -> #VALUE! | DW44: =ABS(AS44-DV43) -> #VALUE! | DX44: =COUNTIF(DW33:DW44,"0") -> 0 | DY44: =COUNTIF(DW33:DW44,">=0") -> 0 | DZ44: =DX44/DY44 -> #DIV/0! | EA44: =COUNTIF(DW21:DW44,"0") -> 5 | EB44: =COUNTIF(DW21:DW44,">=0") -> 11 | EC44: =EA44/EB44 -> 0.45454545
A45: A | C45: =VLOOKUP(A44,$F$1:$AQ$39,A45+2) -> #VALUE! | D45: =IF(ISNA(C45),0,C45) -> #VALUE! | AS45: =IF(AND(D45>0,D45<=6),1,IF(AND(D45>6,D45<=12),2,IF(AND(D45>12,D45<=18),3,IF(AND(D45>18,D45<=24),-3,IF(AND(D45>24,D45<=30),-2,IF(AND(D45>30,D45<=36),-1,0)))))) -> #VALUE! | AT45: =MODE(AS43:AS45) -> #VALUE! | AU45: =ABS(AS45-AT44) -> #VALUE! | AV45: =COUNTIF(AU34:AU45,"0") -> 0 | AW45: =COUNTIF(AU34:AU45,">=0") -> 0 | AX45: =AV45/AW45 -> #DIV/0! | AY45: =COUNTIF(AU22:AU45,"0") -> 3 | AZ45: =COUNTIF(AU22:AU45,">=0") -> 8 | BA45: =AY45/AZ45 -> 0.375 | BB45: =MODE(AS42:AS45) -> #VALUE! | BC45: =ABS(AS45-BB44) -> #VALUE! | BD45: =COUNTIF(BC34:BC45,"0") -> 0 | BE45: =COUNTIF(BC34:BC45,">=0") -> 0 | BF45: =BD45/BE45 -> #DIV/0! | BG45: =COUNTIF(BC22:BC45,"0") -> 5 | BH45: =COUNTIF(BC22:BC45,">=0") -> 10 | BI45: =BG45/BH45 -> 0.5 | BJ45: =MODE(AS41:AS45) -> #VALUE! | BK45: =ABS(AS45-BJ44) -> #VALUE! | BL45: =COUNTIF(BK34:BK45,"0") -> 0 | BM45: =COUNTIF(BK34:BK45,">=0") -> 0 | BN45: =BL45/BM45 -> #DIV/0! | BO45: =COUNTIF(BK22:BK45,"0") -> 3 | BP45: =COUNTIF(BK22:BK45,">=0") -> 10 | BQ45: =BO45/BP45 -> 0.3 | BR45: =MODE(AS40:AS45) -> #VALUE! | BS45: =ABS(AS45-BR44) -> #VALUE! | BT45: =COUNTIF(BS34:BS45,"0") -> 0 | BU45: =COUNTIF(BS34:BS45,">=0") -> 0 | BV45: =BT45/BU45 -> #DIV/0! | BW45: =COUNTIF(BS22:BS45,"0") -> 3 | BX45: =COUNTIF(BS22:BS45,">=0") -> 10 | BY45: =BW45/BX45 -> 0.3 | BZ45: =MODE(AS39:AS45) -> #VALUE! | CA45: =ABS(AS45-BZ44) -> #VALUE! | CB45: =COUNTIF(CA34:CA45,"0") -> 0 | CC45: =COUNTIF(CA34:CA45,">=0") -> 0 | CD45: =CB45/CC45 -> #DIV/0! | CE45: =COUNTIF(CA22:CA45,"0") -> 2 | CF45: =COUNTIF(CA22:CA45,">=0") -> 10 | CG45: =CE45/CF45 -> 0.2 | CH45: =MODE(AS38:AS45) -> #VALUE! | CI45: =ABS(AS45-CH44) -> #VALUE! | CJ45: =COUNTIF(CI34:CI45,"0") -> 0 | CK45: =COUNTIF(CI34:CI45,">=0") -> 0 | CL45: =CJ45/CK45 -> #DIV/0! | CM45: =COUNTIF(CI22:CI45,"0") -> 3 | CN45: =COUNTIF(CI22:CI45,">=0") -> 10 | CO45: =CM45/CN45 -> 0.3 | CP45: =MODE(AS37:AS45) -> #VALUE! | CQ45: =ABS(AS45-CP44) -> #VALUE! | CR45: =COUNTIF(CQ34:CQ45,"0") -> 0 | CS45: =COUNTIF(CQ34:CQ45,">=0") -> 0 | CT45: =CR45/CS45 -> #DIV/0! | CU45: =COUNTIF(CQ22:CQ45,"0") -> 3 | CV45: =COUNTIF(CQ22:CQ45,">=0") -> 10 | CW45: =CU45/CV45 -> 0.3 | CX45: =MODE(AS36:AS45) -> #VALUE! | CY45: =ABS(AS45-CX44) -> #VALUE! | CZ45: =COUNTIF(CY34:CY45,"0") -> 0 | DA45: =COUNTIF(CY34:CY45,">=0") -> 0 | DB45: =CZ45/DA45 -> #DIV/0! | DC45: =COUNTIF(CY22:CY45,"0") -> 3 | DD45: =COUNTIF(CY22:CY45,">=0") -> 10 | DE45: =DC45/DD45 -> 0.3 | DF45: =MODE(AS35:AS45) -> #VALUE! | DG45: =ABS(AS45-DF44) -> #VALUE! | DH45: =COUNTIF(DG34:DG45,"0") -> 0 | DI45: =COUNTIF(DG34:DG45,">=0") -> 0 | DJ45: =DH45/DI45 -> #DIV/0! | DK45: =COUNTIF(DG22:DG45,"0") -> 3 | DL45: =COUNTIF(DG22:DG45,">=0") -> 10 | DM45: =DK45/DL45 -> 0.3 | DN45: =MODE(AS34:AS45) -> #VALUE! | DO45: =ABS(AS45-DN44) -> #VALUE! | DP45: =COUNTIF(DO34:DO45,"0") -> 0 | DQ45: =COUNTIF(DO34:DO45,">=0") -> 0 | DR45: =DP45/DQ45 -> #DIV/0! | DS45: =COUNTIF(DO22:DO45,"0") -> 3 | DT45: =COUNTIF(DO22:DO45,">=0") -> 10 | DU45: =DS45/DT45 -> 0.3 | DV45: =MODE(AS33:AS45) -> #VALUE! | DW45: =ABS(AS45-DV44) -> #VALUE! | DX45: =COUNTIF(DW34:DW45,"0") -> 0 | DY45: =COUNTIF(DW34:DW45,">=0") -> 0 | DZ45: =DX45/DY45 -> #DIV/0! | EA45: =COUNTIF(DW22:DW45,"0") -> 4 | EB45: =COUNTIF(DW22:DW45,">=0") -> 10 | EC45: =EA45/EB45 -> 0.4
A46: A | C46: =VLOOKUP(A45,$F$1:$AQ$39,A46+2) -> #VALUE! | D46: =IF(ISNA(C46),0,C46) -> #VALUE! | AS46: =IF(AND(D46>0,D46<=6),1,IF(AND(D46>6,D46<=12),2,IF(AND(D46>12,D46<=18),3,IF(AND(D46>18,D46<=24),-3,IF(AND(D46>24,D46<=30),-2,IF(AND(D46>30,D46<=36),-1,0)))))) -> #VALUE! | AT46: =MODE(AS44:AS46) -> #VALUE! | AU46: =ABS(AS46-AT45) -> #VALUE! | AV46: =COUNTIF(AU35:AU46,"0") -> 0 | AW46: =COUNTIF(AU35:AU46,">=0") -> 0 | AX46: =AV46/AW46 -> #DIV/0! | AY46: =COUNTIF(AU23:AU46,"0") -> 3 | AZ46: =COUNTIF(AU23:AU46,">=0") -> 8 | BA46: =AY46/AZ46 -> 0.375 | BB46: =MODE(AS43:AS46) -> #VALUE! | BC46: =ABS(AS46-BB45) -> #VALUE! | BD46: =COUNTIF(BC35:BC46,"0") -> 0 | BE46: =COUNTIF(BC35:BC46,">=0") -> 0 | BF46: =BD46/BE46 -> #DIV/0! | BG46: =COUNTIF(BC23:BC46,"0") -> 4 | BH46: =COUNTIF(BC23:BC46,">=0") -> 9 | BI46: =BG46/BH46 -> 0.44444444 | BJ46: =MODE(AS42:AS46) -> #VALUE! | BK46: =ABS(AS46-BJ45) -> #VALUE! | BL46: =COUNTIF(BK35:BK46,"0") -> 0 | BM46: =COUNTIF(BK35:BK46,">=0") -> 0 | BN46: =BL46/BM46 -> #DIV/0! | BO46: =COUNTIF(BK23:BK46,"0") -> 3 | BP46: =COUNTIF(BK23:BK46,">=0") -> 9 | BQ46: =BO46/BP46 -> 0.33333333 | BR46: =MODE(AS41:AS46) -> #VALUE! | BS46: =ABS(AS46-BR45) -> #VALUE! | BT46: =COUNTIF(BS35:BS46,"0") -> 0 | BU46: =COUNTIF(BS35:BS46,">=0") -> 0 | BV46: =BT46/BU46 -> #DIV/0! | BW46: =COUNTIF(BS23:BS46,"0") -> 3 | BX46: =COUNTIF(BS23:BS46,">=0") -> 9 | BY46: =BW46/BX46 -> 0.33333333 | BZ46: =MODE(AS40:AS46) -> #VALUE! | CA46: =ABS(AS46-BZ45) -> #VALUE! | CB46: =COUNTIF(CA35:CA46,"0") -> 0 | CC46: =COUNTIF(CA35:CA46,">=0") -> 0 | CD46: =CB46/CC46 -> #DIV/0! | CE46: =COUNTIF(CA23:CA46,"0") -> 2 | CF46: =COUNTIF(CA23:CA46,">=0") -> 9 | CG46: =CE46/CF46 -> 0.22222222 | CH46: =MODE(AS39:AS46) -> #VALUE! | CI46: =ABS(AS46-CH45) -> #VALUE! | CJ46: =COUNTIF(CI35:CI46,"0") -> 0 | CK46: =COUNTIF(CI35:CI46,">=0") -> 0 | CL46: =CJ46/CK46 -> #DIV/0! | CM46: =COUNTIF(CI23:CI46,"0") -> 2 | CN46: =COUNTIF(CI23:CI46,">=0") -> 9 | CO46: =CM46/CN46 -> 0.22222222 | CP46: =MODE(AS38:AS46) -> #VALUE! | CQ46: =ABS(AS46-CP45) -> #VALUE! | CR46: =COUNTIF(CQ35:CQ46,"0") -> 0 | CS46: =COUNTIF(CQ35:CQ46,">=0") -> 0 | CT46: =CR46/CS46 -> #DIV/0! | CU46: =COUNTIF(CQ23:CQ46,"0") -> 2 | CV46: =COUNTIF(CQ23:CQ46,">=0") -> 9 | CW46: =CU46/CV46 -> 0.22222222 | CX46: =MODE(AS37:AS46) -> #VALUE! | CY46: =ABS(AS46-CX45) -> #VALUE! | CZ46: =COUNTIF(CY35:CY46,"0") -> 0 | DA46: =COUNTIF(CY35:CY46,">=0") -> 0 | DB46: =CZ46/DA46 -> #DIV/0! | DC46: =COUNTIF(CY23:CY46,"0") -> 2 | DD46: =COUNTIF(CY23:CY46,">=0") -> 9 | DE46: =DC46/DD46 -> 0.22222222 | DF46: =MODE(AS36:AS46) -> #VALUE! | DG46: =ABS(AS46-DF45) -> #VALUE! | DH46: =COUNTIF(DG35:DG46,"0") -> 0 | DI46: =COUNTIF(DG35:DG46,">=0") -> 0 | DJ46: =DH46/DI46 -> #DIV/0! | DK46: =COUNTIF(DG23:DG46,"0") -> 2 | DL46: =COUNTIF(DG23:DG46,">=0") -> 9 | DM46: =DK46/DL46 -> 0.22222222 | DN46: =MODE(AS35:AS46) -> #VALUE! | DO46: =ABS(AS46-DN45) -> #VALUE! | DP46: =COUNTIF(DO35:DO46,"0") -> 0 | DQ46: =COUNTIF(DO35:DO46,">=0") -> 0 | DR46: =DP46/DQ46 -> #DIV/0! | DS46: =COUNTIF(DO23:DO46,"0") -> 2 | DT46: =COUNTIF(DO23:DO46,">=0") -> 9 | DU46: =DS46/DT46 -> 0.22222222 | DV46: =MODE(AS34:AS46) -> #VALUE! | DW46: =ABS(AS46-DV45) -> #VALUE! | DX46: =COUNTIF(DW35:DW46,"0") -> 0 | DY46: =COUNTIF(DW35:DW46,">=0") -> 0 | DZ46: =DX46/DY46 -> #DIV/0! | EA46: =COUNTIF(DW23:DW46,"0") -> 3 | EB46: =COUNTIF(DW23:DW46,">=0") -> 9 | EC46: =EA46/EB46 -> 0.33333333
A47: A | C47: =VLOOKUP(A46,$F$1:$AQ$39,A47+2) -> #VALUE! | D47: =IF(ISNA(C47),0,C47) -> #VALUE! | AS47: =IF(AND(D47>0,D47<=6),1,IF(AND(D47>6,D47<=12),2,IF(AND(D47>12,D47<=18),3,IF(AND(D47>18,D47<=24),-3,IF(AND(D47>24,D47<=30),-2,IF(AND(D47>30,D47<=36),-1,0)))))) -> #VALUE! | AT47: =MODE(AS45:AS47) -> #VALUE! | AU47: =ABS(AS47-AT46) -> #VALUE! | AV47: =COUNTIF(AU36:AU47,"0") -> 0 | AW47: =COUNTIF(AU36:AU47,">=0") -> 0 | AX47: =AV47/AW47 -> #DIV/0! | AY47: =COUNTIF(AU24:AU47,"0") -> 2 | AZ47: =COUNTIF(AU24:AU47,">=0") -> 7 | BA47: =AY47/AZ47 -> 0.28571429 | BB47: =MODE(AS44:AS47) -> #VALUE! | BC47: =ABS(AS47-BB46) -> #VALUE! | BD47: =COUNTIF(BC36:BC47,"0") -> 0 | BE47: =COUNTIF(BC36:BC47,">=0") -> 0 | BF47: =BD47/BE47 -> #DIV/0! | BG47: =COUNTIF(BC24:BC47,"0") -> 3 | BH47: =COUNTIF(BC24:BC47,">=0") -> 8 | BI47: =BG47/BH47 -> 0.375 | BJ47: =MODE(AS43:AS47) -> #VALUE! | BK47: =ABS(AS47-BJ46) -> #VALUE! | BL47: =COUNTIF(BK36:BK47,"0") -> 0 | BM47: =COUNTIF(BK36:BK47,">=0") -> 0 | BN47: =BL47/BM47 -> #DIV/0! | BO47: =COUNTIF(BK24:BK47,"0") -> 2 | BP47: =COUNTIF(BK24:BK47,">=0") -> 8 | BQ47: =BO47/BP47 -> 0.25 | BR47: =MODE(AS42:AS47) -> #VALUE! | BS47: =ABS(AS47-BR46) -> #VALUE! | BT47: =COUNTIF(BS36:BS47,"0") -> 0 | BU47: =COUNTIF(BS36:BS47,">=0") -> 0 | BV47: =BT47/BU47 -> #DIV/0! | BW47: =COUNTIF(BS24:BS47,"0") -> 2 | BX47: =COUNTIF(BS24:BS47,">=0") -> 8 | BY47: =BW47/BX47 -> 0.25 | BZ47: =MODE(AS41:AS47) -> #VALUE! | CA47: =ABS(AS47-BZ46) -> #VALUE! | CB47: =COUNTIF(CA36:CA47,"0") -> 0 | CC47: =COUNTIF(CA36:CA47,">=0") -> 0 | CD47: =CB47/CC47 -> #DIV/0! | CE47: =COUNTIF(CA24:CA47,"0") -> 2 | CF47: =COUNTIF(CA24:CA47,">=0") -> 8 | CG47: =CE47/CF47 -> 0.25 | CH47: =MODE(AS40:AS47) -> #VALUE! | CI47: =ABS(AS47-CH46) -> #VALUE! | CJ47: =COUNTIF(CI36:CI47,"0") -> 0 | CK47: =COUNTIF(CI36:CI47,">=0") -> 0 | CL47: =CJ47/CK47 -> #DIV/0! | CM47: =COUNTIF(CI24:CI47,"0") -> 2 | CN47: =COUNTIF(CI24:CI47,">=0") -> 8 | CO47: =CM47/CN47 -> 0.25 | CP47: =MODE(AS39:AS47) -> #VALUE! | CQ47: =ABS(AS47-CP46) -> #VALUE! | CR47: =COUNTIF(CQ36:CQ47,"0") -> 0 | CS47: =COUNTIF(CQ36:CQ47,">=0") -> 0 | CT47: =CR47/CS47 -> #DIV/0! | CU47: =COUNTIF(CQ24:CQ47,"0") -> 1 | CV47: =COUNTIF(CQ24:CQ47,">=0") -> 8 | CW47: =CU47/CV47 -> 0.125 | CX47: =MODE(AS38:AS47) -> #VALUE! | CY47: =ABS(AS47-CX46) -> #VALUE! | CZ47: =COUNTIF(CY36:CY47,"0") -> 0 | DA47: =COUNTIF(CY36:CY47,">=0") -> 0 | DB47: =CZ47/DA47 -> #DIV/0! | DC47: =COUNTIF(CY24:CY47,"0") -> 1 | DD47: =COUNTIF(CY24:CY47,">=0") -> 8 | DE47: =DC47/DD47 -> 0.125 | DF47: =MODE(AS37:AS47) -> #VALUE! | DG47: =ABS(AS47-DF46) -> #VALUE! | DH47: =COUNTIF(DG36:DG47,"0") -> 0 | DI47: =COUNTIF(DG36:DG47,">=0") -> 0 | DJ47: =DH47/DI47 -> #DIV/0! | DK47: =COUNTIF(DG24:DG47,"0") -> 1 | DL47: =COUNTIF(DG24:DG47,">=0") -> 8 | DM47: =DK47/DL47 -> 0.125 | DN47: =MODE(AS36:AS47) -> #VALUE! | DO47: =ABS(AS47-DN46) -> #VALUE! | DP47: =COUNTIF(DO36:DO47,"0") -> 0 | DQ47: =COUNTIF(DO36:DO47,">=0") -> 0 | DR47: =DP47/DQ47 -> #DIV/0! | DS47: =COUNTIF(DO24:DO47,"0") -> 1 | DT47: =COUNTIF(DO24:DO47,">=0") -> 8 | DU47: =DS47/DT47 -> 0.125 | DV47: =MODE(AS35:AS47) -> #VALUE! | DW47: =ABS(AS47-DV46) -> #VALUE! | DX47: =COUNTIF(DW36:DW47,"0") -> 0 | DY47: =COUNTIF(DW36:DW47,">=0") -> 0 | DZ47: =DX47/DY47 -> #DIV/0! | EA47: =COUNTIF(DW24:DW47,"0") -> 2 | EB47: =COUNTIF(DW24:DW47,">=0") -> 8 | EC47: =EA47/EB47 -> 0.25
A48: A | C48: =VLOOKUP(A47,$F$1:$AQ$39,A48+2) -> #VALUE! | D48: =IF(ISNA(C48),0,C48) -> #VALUE! | AS48: =IF(AND(D48>0,D48<=6),1,IF(AND(D48>6,D48<=12),2,IF(AND(D48>12,D48<=18),3,IF(AND(D48>18,D48<=24),-3,IF(AND(D48>24,D48<=30),-2,IF(AND(D48>30,D48<=36),-1,0)))))) -> #VALUE! | AT48: =MODE(AS46:AS48) -> #VALUE! | AU48: =ABS(AS48-AT47) -> #VALUE! | AV48: =COUNTIF(AU37:AU48,"0") -> 0 | AW48: =COUNTIF(AU37:AU48,">=0") -> 0 | AX48: =AV48/AW48 -> #DIV/0! | AY48: =COUNTIF(AU25:AU48,"0") -> 2 | AZ48: =COUNTIF(AU25:AU48,">=0") -> 6 | BA48: =AY48/AZ48 -> 0.33333333 | BB48: =MODE(AS45:AS48) -> #VALUE! | BC48: =ABS(AS48-BB47) -> #VALUE! | BD48: =COUNTIF(BC37:BC48,"0") -> 0 | BE48: =COUNTIF(BC37:BC48,">=0") -> 0 | BF48: =BD48/BE48 -> #DIV/0! | BG48: =COUNTIF(BC25:BC48,"0") -> 3 | BH48: =COUNTIF(BC25:BC48,">=0") -> 7 | BI48: =BG48/BH48 -> 0.42857143 | BJ48: =MODE(AS44:AS48) -> #VALUE! | BK48: =ABS(AS48-BJ47) -> #VALUE! | BL48: =COUNTIF(BK37:BK48,"0") -> 0 | BM48: =COUNTIF(BK37:BK48,">=0") -> 0 | BN48: =BL48/BM48 -> #DIV/0! | BO48: =COUNTIF(BK25:BK48,"0") -> 2 | BP48: =COUNTIF(BK25:BK48,">=0") -> 7 | BQ48: =BO48/BP48 -> 0.28571429 | BR48: =MODE(AS43:AS48) -> #VALUE! | BS48: =ABS(AS48-BR47) -> #VALUE! | BT48: =COUNTIF(BS37:BS48,"0") -> 0 | BU48: =COUNTIF(BS37:BS48,">=0") -> 0 | BV48: =BT48/BU48 -> #DIV/0! | BW48: =COUNTIF(BS25:BS48,"0") -> 2 | BX48: =COUNTIF(BS25:BS48,">=0") -> 7 | BY48: =BW48/BX48 -> 0.28571429 | BZ48: =MODE(AS42:AS48) -> #VALUE! | CA48: =ABS(AS48-BZ47) -> #VALUE! | CB48: =COUNTIF(CA37:CA48,"0") -> 0 | CC48: =COUNTIF(CA37:CA48,">=0") -> 0 | CD48: =CB48/CC48 -> #DIV/0! | CE48: =COUNTIF(CA25:CA48,"0") -> 2 | CF48: =COUNTIF(CA25:CA48,">=0") -> 7 | CG48: =CE48/CF48 -> 0.28571429 | CH48: =MODE(AS41:AS48) -> #VALUE! | CI48: =ABS(AS48-CH47) -> #VALUE! | CJ48: =COUNTIF(CI37:CI48,"0") -> 0 | CK48: =COUNTIF(CI37:CI48,">=0") -> 0 | CL48: =CJ48/CK48 -> #DIV/0! | CM48: =COUNTIF(CI25:CI48,"0") -> 2 | CN48: =COUNTIF(CI25:CI48,">=0") -> 7 | CO48: =CM48/CN48 -> 0.28571429 | CP48: =MODE(AS40:AS48) -> #VALUE! | CQ48: =ABS(AS48-CP47) -> #VALUE! | CR48: =COUNTIF(CQ37:CQ48,"0") -> 0 | CS48: =COUNTIF(CQ37:CQ48,">=0") -> 0 | CT48: =CR48/CS48 -> #DIV/0! | CU48: =COUNTIF(CQ25:CQ48,"0") -> 1 | CV48: =COUNTIF(CQ25:CQ48,">=0") -> 7 | CW48: =CU48/CV48 -> 0.14285714 | CX48: =MODE(AS39:AS48) -> #VALUE! | CY48: =ABS(AS48-CX47) -> #VALUE! | CZ48: =COUNTIF(CY37:CY48,"0") -> 0 | DA48: =COUNTIF(CY37:CY48,">=0") -> 0 | DB48: =CZ48/DA48 -> #DIV/0! | DC48: =COUNTIF(CY25:CY48,"0") -> 1 | DD48: =COUNTIF(CY25:CY48,">=0") -> 7 | DE48: =DC48/DD48 -> 0.14285714 | DF48: =MODE(AS38:AS48) -> #VALUE! | DG48: =ABS(AS48-DF47) -> #VALUE! | DH48: =COUNTIF(DG37:DG48,"0") -> 0 | DI48: =COUNTIF(DG37:DG48,">=0") -> 0 | DJ48: =DH48/DI48 -> #DIV/0! | DK48: =COUNTIF(DG25:DG48,"0") -> 1 | DL48: =COUNTIF(DG25:DG48,">=0") -> 7 | DM48: =DK48/DL48 -> 0.14285714 | DN48: =MODE(AS37:AS48) -> #VALUE! | DO48: =ABS(AS48-DN47) -> #VALUE! | DP48: =COUNTIF(DO37:DO48,"0") -> 0 | DQ48: =COUNTIF(DO37:DO48,">=0") -> 0 | DR48: =DP48/DQ48 -> #DIV/0! | DS48: =COUNTIF(DO25:DO48,"0") -> 1 | DT48: =COUNTIF(DO25:DO48,">=0") -> 7 | DU48: =DS48/DT48 -> 0.14285714 | DV48: =MODE(AS36:AS48) -> #VALUE! | DW48: =ABS(AS48-DV47) -> #VALUE! | DX48: =COUNTIF(DW37:DW48,"0") -> 0 | DY48: =COUNTIF(DW37:DW48,">=0") -> 0 | DZ48: =DX48/DY48 -> #DIV/0! | EA48: =COUNTIF(DW25:DW48,"0") -> 2 | EB48: =COUNTIF(DW25:DW48,">=0") -> 7 | EC48: =EA48/EB48 -> 0.28571429
A49: A | C49: =VLOOKUP(A48,$F$1:$AQ$39,A49+2) -> #VALUE! | D49: =IF(ISNA(C49),0,C49) -> #VALUE! | AS49: =IF(AND(D49>0,D49<=6),1,IF(AND(D49>6,D49<=12),2,IF(AND(D49>12,D49<=18),3,IF(AND(D49>18,D49<=24),-3,IF(AND(D49>24,D49<=30),-2,IF(AND(D49>30,D49<=36),-1,0)))))) -> #VALUE! | AT49: =MODE(AS47:AS49) -> #VALUE! | AU49: =ABS(AS49-AT48) -> #VALUE! | AV49: =COUNTIF(AU38:AU49,"0") -> 0 | AW49: =COUNTIF(AU38:AU49,">=0") -> 0 | AX49: =AV49/AW49 -> #DIV/0! | AY49: =COUNTIF(AU26:AU49,"0") -> 1 | AZ49: =COUNTIF(AU26:AU49,">=0") -> 5 | BA49: =AY49/AZ49 -> 0.2 | BB49: =MODE(AS46:AS49) -> #VALUE! | BC49: =ABS(AS49-BB48) -> #VALUE! | BD49: =COUNTIF(BC38:BC49,"0") -> 0 | BE49: =COUNTIF(BC38:BC49,">=0") -> 0 | BF49: =BD49/BE49 -> #DIV/0! | BG49: =COUNTIF(BC26:BC49,"0") -> 2 | BH49: =COUNTIF(BC26:BC49,">=0") -> 6 | BI49: =BG49/BH49 -> 0.33333333 | BJ49: =MODE(AS45:AS49) -> #VALUE! | BK49: =ABS(AS49-BJ48) -> #VALUE! | BL49: =COUNTIF(BK38:BK49,"0") -> 0 | BM49: =COUNTIF(BK38:BK49,">=0") -> 0 | BN49: =BL49/BM49 -> #DIV/0! | BO49: =COUNTIF(BK26:BK49,"0") -> 1 | BP49: =COUNTIF(BK26:BK49,">=0") -> 6 | BQ49: =BO49/BP49 -> 0.16666667 | BR49: =MODE(AS44:AS49) -> #VALUE! | BS49: =ABS(AS49-BR48) -> #VALUE! | BT49: =COUNTIF(BS38:BS49,"0") -> 0 | BU49: =COUNTIF(BS38:BS49,">=0") -> 0 | BV49: =BT49/BU49 -> #DIV/0! | BW49: =COUNTIF(BS26:BS49,"0") -> 1 | BX49: =COUNTIF(BS26:BS49,">=0") -> 6 | BY49: =BW49/BX49 -> 0.16666667 | BZ49: =MODE(AS43:AS49) -> #VALUE! | CA49: =ABS(AS49-BZ48) -> #VALUE! | CB49: =COUNTIF(CA38:CA49,"0") -> 0 | CC49: =COUNTIF(CA38:CA49,">=0") -> 0 | CD49: =CB49/CC49 -> #DIV/0! | CE49: =COUNTIF(CA26:CA49,"0") -> 1 | CF49: =COUNTIF(CA26:CA49,">=0") -> 6 | CG49: =CE49/CF49 -> 0.16666667 | CH49: =MODE(AS42:AS49) -> #VALUE! | CI49: =ABS(AS49-CH48) -> #VALUE! | CJ49: =COUNTIF(CI38:CI49,"0") -> 0 | CK49: =COUNTIF(CI38:CI49,">=0") -> 0 | CL49: =CJ49/CK49 -> #DIV/0! | CM49: =COUNTIF(CI26:CI49,"0") -> 1 | CN49: =COUNTIF(CI26:CI49,">=0") -> 6 | CO49: =CM49/CN49 -> 0.16666667 | CP49: =MODE(AS41:AS49) -> #VALUE! | CQ49: =ABS(AS49-CP48) -> #VALUE! | CR49: =COUNTIF(CQ38:CQ49,"0") -> 0 | CS49: =COUNTIF(CQ38:CQ49,">=0") -> 0 | CT49: =CR49/CS49 -> #DIV/0! | CU49: =COUNTIF(CQ26:CQ49,"0") -> 1 | CV49: =COUNTIF(CQ26:CQ49,">=0") -> 6 | CW49: =CU49/CV49 -> 0.16666667 | CX49: =MODE(AS40:AS49) -> #VALUE! | CY49: =ABS(AS49-CX48) -> #VALUE! | CZ49: =COUNTIF(CY38:CY49,"0") -> 0 | DA49: =COUNTIF(CY38:CY49,">=0") -> 0 | DB49: =CZ49/DA49 -> #DIV/0! | DC49: =COUNTIF(CY26:CY49,"0") -> 1 | DD49: =COUNTIF(CY26:CY49,">=0") -> 6 | DE49: =DC49/DD49 -> 0.16666667 | DF49: =MODE(AS39:AS49) -> #VALUE! | DG49: =ABS(AS49-DF48) -> #VALUE! | DH49: =COUNTIF(DG38:DG49,"0") -> 0 | DI49: =COUNTIF(DG38:DG49,">=0") -> 0 | DJ49: =DH49/DI49 -> #DIV/0! | DK49: =COUNTIF(DG26:DG49,"0") -> 0 | DL49: =COUNTIF(DG26:DG49,">=0") -> 6 | DM49: =DK49/DL49 -> 0 | DN49: =MODE(AS38:AS49) -> #VALUE! | DO49: =ABS(AS49-DN48) -> #VALUE! | DP49: =COUNTIF(DO38:DO49,"0") -> 0 | DQ49: =COUNTIF(DO38:DO49,">=0") -> 0 | DR49: =DP49/DQ49 -> #DIV/0! | DS49: =COUNTIF(DO26:DO49,"0") -> 0 | DT49: =COUNTIF(DO26:DO49,">=0") -> 6 | DU49: =DS49/DT49 -> 0 | DV49: =MODE(AS37:AS49) -> #VALUE! | DW49: =ABS(AS49-DV48) -> #VALUE! | DX49: =COUNTIF(DW38:DW49,"0") -> 0 | DY49: =COUNTIF(DW38:DW49,">=0") -> 0 | DZ49: =DX49/DY49 -> #DIV/0! | EA49: =COUNTIF(DW26:DW49,"0") -> 1 | EB49: =COUNTIF(DW26:DW49,">=0") -> 6 | EC49: =EA49/EB49 -> 0.16666667
A50: A | C50: =VLOOKUP(A49,$F$1:$AQ$39,A50+2) -> #VALUE! | D50: =IF(ISNA(C50),0,C50) -> #VALUE! | AS50: =IF(AND(D50>0,D50<=6),1,IF(AND(D50>6,D50<=12),2,IF(AND(D50>12,D50<=18),3,IF(AND(D50>18,D50<=24),-3,IF(AND(D50>24,D50<=30),-2,IF(AND(D50>30,D50<=36),-1,0)))))) -> #VALUE! | AT50: =MODE(AS48:AS50) -> #VALUE! | AU50: =ABS(AS50-AT49) -> #VALUE! | AV50: =COUNTIF(AU39:AU50,"0") -> 0 | AW50: =COUNTIF(AU39:AU50,">=0") -> 0 | AX50: =AV50/AW50 -> #DIV/0! | AY50: =COUNTIF(AU27:AU50,"0") -> 1 | AZ50: =COUNTIF(AU27:AU50,">=0") -> 4 | BA50: =AY50/AZ50 -> 0.25 | BB50: =MODE(AS47:AS50) -> #VALUE! | BC50: =ABS(AS50-BB49) -> #VALUE! | BD50: =COUNTIF(BC39:BC50,"0") -> 0 | BE50: =COUNTIF(BC39:BC50,">=0") -> 0 | BF50: =BD50/BE50 -> #DIV/0! | BG50: =COUNTIF(BC27:BC50,"0") -> 2 | BH50: =COUNTIF(BC27:BC50,">=0") -> 5 | BI50: =BG50/BH50 -> 0.4 | BJ50: =MODE(AS46:AS50) -> #VALUE! | BK50: =ABS(AS50-BJ49) -> #VALUE! | BL50: =COUNTIF(BK39:BK50,"0") -> 0 | BM50: =COUNTIF(BK39:BK50,">=0") -> 0 | BN50: =BL50/BM50 -> #DIV/0! | BO50: =COUNTIF(BK27:BK50,"0") -> 1 | BP50: =COUNTIF(BK27:BK50,">=0") -> 5 | BQ50: =BO50/BP50 -> 0.2 | BR50: =MODE(AS45:AS50) -> #VALUE! | BS50: =ABS(AS50-BR49) -> #VALUE! | BT50: =COUNTIF(BS39:BS50,"0") -> 0 | BU50: =COUNTIF(BS39:BS50,">=0") -> 0 | BV50: =BT50/BU50 -> #DIV/0! | BW50: =COUNTIF(BS27:BS50,"0") -> 1 | BX50: =COUNTIF(BS27:BS50,">=0") -> 5 | BY50: =BW50/BX50 -> 0.2 | BZ50: =MODE(AS44:AS50) -> #VALUE! | CA50: =ABS(AS50-BZ49) -> #VALUE! | CB50: =COUNTIF(CA39:CA50,"0") -> 0 | CC50: =COUNTIF(CA39:CA50,">=0") -> 0 | CD50: =CB50/CC50 -> #DIV/0! | CE50: =COUNTIF(CA27:CA50,"0") -> 1 | CF50: =COUNTIF(CA27:CA50,">=0") -> 5 | CG50: =CE50/CF50 -> 0.2 | CH50: =MODE(AS43:AS50) -> #VALUE! | CI50: =ABS(AS50-CH49) -> #VALUE! | CJ50: =COUNTIF(CI39:CI50,"0") -> 0 | CK50: =COUNTIF(CI39:CI50,">=0") -> 0 | CL50: =CJ50/CK50 -> #DIV/0! | CM50: =COUNTIF(CI27:CI50,"0") -> 1 | CN50: =COUNTIF(CI27:CI50,">=0") -> 5 | CO50: =CM50/CN50 -> 0.2 | CP50: =MODE(AS42:AS50) -> #VALUE! | CQ50: =ABS(AS50-CP49) -> #VALUE! | CR50: =COUNTIF(CQ39:CQ50,"0") -> 0 | CS50: =COUNTIF(CQ39:CQ50,">=0") -> 0 | CT50: =CR50/CS50 -> #DIV/0! | CU50: =COUNTIF(CQ27:CQ50,"0") -> 1 | CV50: =COUNTIF(CQ27:CQ50,">=0") -> 5 | CW50: =CU50/CV50 -> 0.2 | CX50: =MODE(AS41:AS50) -> #VALUE! | CY50: =ABS(AS50-CX49) -> #VALUE! | CZ50: =COUNTIF(CY39:CY50,"0") -> 0 | DA50: =COUNTIF(CY39:CY50,">=0") -> 0 | DB50: =CZ50/DA50 -> #DIV/0! | DC50: =COUNTIF(CY27:CY50,"0") -> 1 | DD50: =COUNTIF(CY27:CY50,">=0") -> 5 | DE50: =DC50/DD50 -> 0.2 | DF50: =MODE(AS40:AS50) -> #VALUE! | DG50: =ABS(AS50-DF49) -> #VALUE! | DH50: =COUNTIF(DG39:DG50,"0") -> 0 | DI50: =COUNTIF(DG39:DG50,">=0") -> 0 | DJ50: =DH50/DI50 -> #DIV/0! | DK50: =COUNTIF(DG27:DG50,"0") -> 0 | DL50: =COUNTIF(DG27:DG50,">=0") -> 5 | DM50: =DK50/DL50 -> 0 | DN50: =MODE(AS39:AS50) -> #VALUE! | DO50: =ABS(AS50-DN49) -> #VALUE! | DP50: =COUNTIF(DO39:DO50,"0") -> 0 | DQ50: =COUNTIF(DO39:DO50,">=0") -> 0 | DR50: =DP50/DQ50 -> #DIV/0! | DS50: =COUNTIF(DO27:DO50,"0") -> 0 | DT50: =COUNTIF(DO27:DO50,">=0") -> 5 | DU50: =DS50/DT50 -> 0 | DV50: =MODE(AS38:AS50) -> #VALUE! | DW50: =ABS(AS50-DV49) -> #VALUE! | DX50: =COUNTIF(DW39:DW50,"0") -> 0 | DY50: =COUNTIF(DW39:DW50,">=0") -> 0 | DZ50: =DX50/DY50 -> #DIV/0! | EA50: =COUNTIF(DW27:DW50,"0") -> 1 | EB50: =COUNTIF(DW27:DW50,">=0") -> 5 | EC50: =EA50/EB50 -> 0.2
A51: A | C51: =VLOOKUP(A50,$F$1:$AQ$39,A51+2) -> #VALUE! | D51: =IF(ISNA(C51),0,C51) -> #VALUE! | AS51: =IF(AND(D51>0,D51<=6),1,IF(AND(D51>6,D51<=12),2,IF(AND(D51>12,D51<=18),3,IF(AND(D51>18,D51<=24),-3,IF(AND(D51>24,D51<=30),-2,IF(AND(D51>30,D51<=36),-1,0)))))) -> #VALUE! | AT51: =MODE(AS49:AS51) -> #VALUE! | AU51: =ABS(AS51-AT50) -> #VALUE! | AV51: =COUNTIF(AU40:AU51,"0") -> 0 | AW51: =COUNTIF(AU40:AU51,">=0") -> 0 | AX51: =AV51/AW51 -> #DIV/0! | AY51: =COUNTIF(AU28:AU51,"0") -> 1 | AZ51: =COUNTIF(AU28:AU51,">=0") -> 3 | BA51: =AY51/AZ51 -> 0.33333333 | BB51: =MODE(AS48:AS51) -> #VALUE! | BC51: =ABS(AS51-BB50) -> #VALUE! | BD51: =COUNTIF(BC40:BC51,"0") -> 0 | BE51: =COUNTIF(BC40:BC51,">=0") -> 0 | BF51: =BD51/BE51 -> #DIV/0! | BG51: =COUNTIF(BC28:BC51,"0") -> 1 | BH51: =COUNTIF(BC28:BC51,">=0") -> 4 | BI51: =BG51/BH51 -> 0.25 | BJ51: =MODE(AS47:AS51) -> #VALUE! | BK51: =ABS(AS51-BJ50) -> #VALUE! | BL51: =COUNTIF(BK40:BK51,"0") -> 0 | BM51: =COUNTIF(BK40:BK51,">=0") -> 0 | BN51: =BL51/BM51 -> #DIV/0! | BO51: =COUNTIF(BK28:BK51,"0") -> 0 | BP51: =COUNTIF(BK28:BK51,">=0") -> 4 | BQ51: =BO51/BP51 -> 0 | BR51: =MODE(AS46:AS51) -> #VALUE! | BS51: =ABS(AS51-BR50) -> #VALUE! | BT51: =COUNTIF(BS40:BS51,"0") -> 0 | BU51: =COUNTIF(BS40:BS51,">=0") -> 0 | BV51: =BT51/BU51 -> #DIV/0! | BW51: =COUNTIF(BS28:BS51,"0") -> 0 | BX51: =COUNTIF(BS28:BS51,">=0") -> 4 | BY51: =BW51/BX51 -> 0 | BZ51: =MODE(AS45:AS51) -> #VALUE! | CA51: =ABS(AS51-BZ50) -> #VALUE! | CB51: =COUNTIF(CA40:CA51,"0") -> 0 | CC51: =COUNTIF(CA40:CA51,">=0") -> 0 | CD51: =CB51/CC51 -> #DIV/0! | CE51: =COUNTIF(CA28:CA51,"0") -> 0 | CF51: =COUNTIF(CA28:CA51,">=0") -> 4 | CG51: =CE51/CF51 -> 0 | CH51: =MODE(AS44:AS51) -> #VALUE! | CI51: =ABS(AS51-CH50) -> #VALUE! | CJ51: =COUNTIF(CI40:CI51,"0") -> 0 | CK51: =COUNTIF(CI40:CI51,">=0") -> 0 | CL51: =CJ51/CK51 -> #DIV/0! | CM51: =COUNTIF(CI28:CI51,"0") -> 0 | CN51: =COUNTIF(CI28:CI51,">=0") -> 4 | CO51: =CM51/CN51 -> 0 | CP51: =MODE(AS43:AS51) -> #VALUE! | CQ51: =ABS(AS51-CP50) -> #VALUE! | CR51: =COUNTIF(CQ40:CQ51,"0") -> 0 | CS51: =COUNTIF(CQ40:CQ51,">=0") -> 0 | CT51: =CR51/CS51 -> #DIV/0! | CU51: =COUNTIF(CQ28:CQ51,"0") -> 0 | CV51: =COUNTIF(CQ28:CQ51,">=0") -> 4 | CW51: =CU51/CV51 -> 0 | CX51: =MODE(AS42:AS51) -> #VALUE! | CY51: =ABS(AS51-CX50) -> #VALUE! | CZ51: =COUNTIF(CY40:CY51,"0") -> 0 | DA51: =COUNTIF(CY40:CY51,">=0") -> 0 | DB51: =CZ51/DA51 -> #DIV/0! | DC51: =COUNTIF(CY28:CY51,"0") -> 0 | DD51: =COUNTIF(CY28:CY51,">=0") -> 4 | DE51: =DC51/DD51 -> 0 | DF51: =MODE(AS41:AS51) -> #VALUE! | DG51: =ABS(AS51-DF50) -> #VALUE! | DH51: =COUNTIF(DG40:DG51,"0") -> 0 | DI51: =COUNTIF(DG40:DG51,">=0") -> 0 | DJ51: =DH51/DI51 -> #DIV/0! | DK51: =COUNTIF(DG28:DG51,"0") -> 0 | DL51: =COUNTIF(DG28:DG51,">=0") -> 4 | DM51: =DK51/DL51 -> 0 | DN51: =MODE(AS40:AS51) -> #VALUE! | DO51: =ABS(AS51-DN50) -> #VALUE! | DP51: =COUNTIF(DO40:DO51,"0") -> 0 | DQ51: =COUNTIF(DO40:DO51,">=0") -> 0 | DR51: =DP51/DQ51 -> #DIV/0! | DS51: =COUNTIF(DO28:DO51,"0") -> 0 | DT51: =COUNTIF(DO28:DO51,">=0") -> 4 | DU51: =DS51/DT51 -> 0 | DV51: =MODE(AS39:AS51) -> #VALUE! | DW51: =ABS(AS51-DV50) -> #VALUE! | DX51: =COUNTIF(DW40:DW51,"0") -> 0 | DY51: =COUNTIF(DW40:DW51,">=0") -> 0 | DZ51: =DX51/DY51 -> #DIV/0! | EA51: =COUNTIF(DW28:DW51,"0") -> 0 | EB51: =COUNTIF(DW28:DW51,">=0") -> 4 | EC51: =EA51/EB51 -> 0
... A524: A | C524: =VLOOKUP(A523,$F$1:$AQ$39,A524+2) -> #VALUE! | D524: =IF(ISNA(C524),0,C524) -> #VALUE! | AS524: =IF(AND(D524>0,D524<=6),1,IF(AND(D524>6,D524<=12),2,IF(AND(D524>12,D524<=18),3,IF(AND(D524>18,D524<=24),-3,IF(AND(D524>24,D524<=30),-2,IF(AND(D524>30,D524<=36),-1,0)))))) -> #VALUE! | AT524: =MODE(AS522:AS524) -> #VALUE! | AU524: =ABS(AS524-AT523) -> #VALUE! | AV524: =COUNTIF(AU513:AU524,"0") -> 0 | AW524: =COUNTIF(AU513:AU524,">=0") -> 0 | AX524: =AV524/AW524 -> #DIV/0! | AY524: =COUNTIF(AU501:AU524,"0") -> 0 | AZ524: =COUNTIF(AU501:AU524,">=0") -> 0 | BA524: =AY524/AZ524 -> #DIV/0! | BB524: =MODE(AS521:AS524) -> #VALUE! | BC524: =ABS(AS524-BB523) -> #VALUE! | BD524: =COUNTIF(BC513:BC524,"0") -> 0 | BE524: =COUNTIF(BC513:BC524,">=0") -> 0 | BF524: =BD524/BE524 -> #DIV/0! | BG524: =COUNTIF(BC501:BC524,"0") -> 0 | BH524: =COUNTIF(BC501:BC524,">=0") -> 0 | BI524: =BG524/BH524 -> #DIV/0! | BJ524: =MODE(AS520:AS524) -> #VALUE! | BK524: =ABS(AS524-BJ523) -> #VALUE! | BL524: =COUNTIF(BK513:BK524,"0") -> 0 | BM524: =COUNTIF(BK513:BK524,">=0") -> 0 | BN524: =BL524/BM524 -> #DIV/0! | BO524: =COUNTIF(BK501:BK524,"0") -> 0 | BP524: =COUNTIF(BK501:BK524,">=0") -> 0 | BQ524: =BO524/BP524 -> #DIV/0! | BR524: =MODE(AS519:AS524) -> #VALUE! | BS524: =ABS(AS524-BR523) -> #VALUE! | BT524: =COUNTIF(BS513:BS524,"0") -> 0 | BU524: =COUNTIF(BS513:BS524,">=0") -> 0 | BV524: =BT524/BU524 -> #DIV/0! | BW524: =COUNTIF(BS501:BS524,"0") -> 0 | BX524: =COUNTIF(BS501:BS524,">=0") -> 0 | BY524: =BW524/BX524 -> #DIV/0! | BZ524: =MODE(AS518:AS524) -> #VALUE! | CA524: =ABS(AS524-BZ523) -> #VALUE! | CB524: =COUNTIF(CA513:CA524,"0") -> 0 | CC524: =COUNTIF(CA513:CA524,">=0") -> 0 | CD524: =CB524/CC524 -> #DIV/0! | CE524: =COUNTIF(CA501:CA524,"0") -> 0 | CF524: =COUNTIF(CA501:CA524,">=0") -> 0 | CG524: =CE524/CF524 -> #DIV/0! | CH524: =MODE(AS517:AS524) -> #VALUE! | CI524: =ABS(AS524-CH523) -> #VALUE! | CJ524: =COUNTIF(CI513:CI524,"0") -> 0 | CK524: =COUNTIF(CI513:CI524,">=0") -> 0 | CL524: =CJ524/CK524 -> #DIV/0! | CM524: =COUNTIF(CI501:CI524,"0") -> 0 | CN524: =COUNTIF(CI501:CI524,">=0") -> 0 | CO524: =CM524/CN524 -> #DIV/0! | CP524: =MODE(AS516:AS524) -> #VALUE! | CQ524: =ABS(AS524-CP523) -> #VALUE! | CR524: =COUNTIF(CQ513:CQ524,"0") -> 0 | CS524: =COUNTIF(CQ513:CQ524,">=0") -> 0 | CT524: =CR524/CS524 -> #DIV/0! | CU524: =COUNTIF(CQ501:CQ524,"0") -> 0 | CV524: =COUNTIF(CQ501:CQ524,">=0") -> 0 | CW524: =CU524/CV524 -> #DIV/0! | CX524: =MODE(AS515:AS524) -> #VALUE! | CY524: =ABS(AS524-CX523) -> #VALUE! | CZ524: =COUNTIF(CY513:CY524,"0") -> 0 | DA524: =COUNTIF(CY513:CY524,">=0") -> 0 | DB524: =CZ524/DA524 -> #DIV/0! | DC524: =COUNTIF(CY501:CY524,"0") -> 0 | DD524: =COUNTIF(CY501:CY524,">=0") -> 0 | DE524: =DC524/DD524 -> #DIV/0! | DF524: =MODE(AS514:AS524) -> #VALUE! | DG524: =ABS(AS524-DF523) -> #VALUE! | DH524: =COUNTIF(DG513:DG524,"0") -> 0 | DI524: =COUNTIF(DG513:DG524,">=0") -> 0 | DJ524: =DH524/DI524 -> #DIV/0! | DK524: =COUNTIF(DG501:DG524,"0") -> 0 | DL524: =COUNTIF(DG501:DG524,">=0") -> 0 | DM524: =DK524/DL524 -> #DIV/0! | DN524: =MODE(AS513:AS524) -> #VALUE! | DO524: =ABS(AS524-DN523) -> #VALUE! | DP524: =COUNTIF(DO513:DO524,"0") -> 0 | DQ524: =COUNTIF(DO513:DO524,">=0") -> 0 | DR524: =DP524/DQ524 -> #DIV/0! | DS524: =COUNTIF(DO501:DO524,"0") -> 0 | DT524: =COUNTIF(DO501:DO524,">=0") -> 0 | DU524: =DS524/DT524 -> #DIV/0! | DV524: =MODE(AS512:AS524) -> #VALUE! | DW524: =ABS(AS524-DV523) -> #VALUE! | DX524: =COUNTIF(DW513:DW524,"0") -> 0 | DY524: =COUNTIF(DW513:DW524,">=0") -> 0 | DZ524: =DX524/DY524 -> #DIV/0! | EA524: =COUNTIF(DW501:DW524,"0") -> 0 | EB524: =COUNTIF(DW501:DW524,">=0") -> 0 | EC524: =EA524/EB524 -> #DIV/0!

Sheet Sheet2
A1: =Sheet1!EG3 -> Three | B1: =Sheet1!EH3 -> 0 | C1: =Sheet1!EI3 -> 9 | D1: =Sheet1!EJ3 -> 0 | E1: =Sheet1!EK3 -> 0 | F1: =Sheet1!EL3 -> 0 | G1: =Sheet1!EM3 -> 0 | H1: =Sheet1!EN3 -> 20 | I1: =Sheet1!EO3 -> 0.45 | J1: =Sheet1!EY2 -> 0 | K1: =Sheet1!EZ2 -> 0 | L1: =Sheet1!FA2 -> 0
A2: =Sheet1!EG4 -> FOUR | B2: =Sheet1!EH4 -> 0 | C2: =Sheet1!EI4 -> 12 | D2: =Sheet1!EJ4 -> 0 | E2: =Sheet1!EK4 -> 0 | F2: =Sheet1!EL4 -> 0 | G2: =Sheet1!EM4 -> 0 | H2: =Sheet1!EN4 -> 25 | I2: =Sheet1!EO4 -> 0.48 | J2: =Sheet1!EY3 -> 0 | K2: =Sheet1!EZ3 -> 0 | L2: =Sheet1!FA3 -> 0
A3: =Sheet1!EG5 -> FIVE | B3: =Sheet1!EH5 -> 0 | C3: =Sheet1!EI5 -> 10 | D3: =Sheet1!EJ5 -> 0 | E3: =Sheet1!EK5 -> 0 | F3: =Sheet1!EL5 -> 0 | G3: =Sheet1!EM5 -> 0 | H3: =Sheet1!EN5 -> 24 | I3: =Sheet1!EO5 -> 0.41666667 | J3: =Sheet1!EY4 -> 0 | K3: =Sheet1!EZ4 -> 0 | L3: =Sheet1!FA4 -> 0
A4: =Sheet1!EG6 -> Six | B4: =Sheet1!EH6 -> 0 | C4: =Sheet1!EI6 -> 9 | D4: =Sheet1!EJ6 -> 0 | E4: =Sheet1!EK6 -> 0 | F4: =Sheet1!EL6 -> 0 | G4: =Sheet1!EM6 -> 0 | H4: =Sheet1!EN6 -> 23 | I4: =Sheet1!EO6 -> 0.39130435 | J4: =Sheet1!EY5 -> 0 | K4: =Sheet1!EZ5 -> 0 | L4: =Sheet1!FA5 -> 0
A5: =Sheet1!EG7 -> SEVEN | B5: =Sheet1!EH7 -> 0 | C5: =Sheet1!EI7 -> 7 | D5: =Sheet1!EJ7 -> 0 | E5: =Sheet1!EK7 -> 0 | F5: =Sheet1!EL7 -> 0 | G5: =Sheet1!EM7 -> 0 | H5: =Sheet1!EN7 -> 22 | I5: =Sheet1!EO7 -> 0.31818182 | J5: =Sheet1!EY6 -> 0 | K5: =Sheet1!EZ6 -> 0 | L5: =Sheet1!FA6 -> 0
A6: =Sheet1!EG8 -> Eight | B6: =Sheet1!EH8 -> 0 | C6: =Sheet1!EI8 -> 8 | D6: =Sheet1!EJ8 -> 0 | E6: =Sheet1!EK8 -> 0 | F6: =Sheet1!EL8 -> 0 | G6: =Sheet1!EM8 -> 0 | H6: =Sheet1!EN8 -> 21 | I6: =Sheet1!EO8 -> 0.38095238 | J6: =Sheet1!EY7 -> 0 | K6: =Sheet1!EZ7 -> 0 | L6: =Sheet1!FA7 -> 0
A7: =Sheet1!EG9 -> nine | B7: =Sheet1!EH9 -> 0 | C7: =Sheet1!EI9 -> 8 | D7: =Sheet1!EJ9 -> 0 | E7: =Sheet1!EK9 -> 0 | F7: =Sheet1!EL9 -> 0 | G7: =Sheet1!EM9 -> 0 | H7: =Sheet1!EN9 -> 20 | I7: =Sheet1!EO9 -> 0.4 | J7: =Sheet1!EY8 -> 0 | K7: =Sheet1!EZ8 -> 0 | L7: =Sheet1!FA8 -> 0
A8: =Sheet1!EG10 -> ten | B8: =Sheet1!EH10 -> 0 | C8: =Sheet1!EI10 -> 7 | D8: =Sheet1!EJ10 -> 0 | E8: =Sheet1!EK10 -> 0 | F8: =Sheet1!EL10 -> 0 | G8: =Sheet1!EM10 -> 0 | H8: =Sheet1!EN10 -> 19 | I8: =Sheet1!EO10 -> 0.36842105 | J8: =Sheet1!EY9 -> 0 | K8: =Sheet1!EZ9 -> 0 | L8: =Sheet1!FA9 -> 0
A9: =Sheet1!EG11 -> eleven | B9: =Sheet1!EH11 -> 0 | C9: =Sheet1!EI11 -> 6 | D9: =Sheet1!EJ11 -> 0 | E9: =Sheet1!EK11 -> 0 | F9: =Sheet1!EL11 -> 0 | G9: =Sheet1!EM11 -> 0 | H9: =Sheet1!EN11 -> 18 | I9: =Sheet1!EO11 -> 0.33333333 | J9: =Sheet1!EY10 -> 0 | K9: =Sheet1!EZ10 -> 0 | L9: =Sheet1!FA10 -> 0
A10: =Sheet1!EG12 -> twelve | B10: =Sheet1!EH12 -> 0 | C10: =Sheet1!EI12 -> 5 | D10: =Sheet1!EJ12 -> 0 | E10: =Sheet1!EK12 -> 0 | F10: =Sheet1!EL12 -> 0 | G10: =Sheet1!EM12 -> 0 | H10: =Sheet1!EN12 -> 17 | I10: =Sheet1!EO12 -> 0.29411765 | J10: =Sheet1!EY11 -> 0 | K10: =Sheet1!EZ11 -> 0 | L10: =Sheet1!FA11 -> 0
A11: =Sheet1!EG13 -> thirteen | B11: =Sheet1!EH13 -> 0 | C11: =Sheet1!EI13 -> 6 | D11: =Sheet1!EJ13 -> 0 | E11: =Sheet1!EK13 -> 0 | F11: =Sheet1!EL13 -> 0 | G11: =Sheet1!EM13 -> 0 | H11: =Sheet1!EN13 -> 16 | I11: =Sheet1!EO13 -> 0.375 | J11: =Sheet1!EY12 -> 0 | K11: =Sheet1!EZ12 -> 0 | L11: =Sheet1!FA12 -> 0
B12: =Sheet1!EQ13 -> 0 | C12: =Sheet1!ER13 -> 0 | D12: =Sheet1!ES13 -> 0 | E12: =Sheet1!ET13 -> 0 | F12: =Sheet1!EU13 -> 0 | G12: =Sheet1!EV13 -> 0 | H12: =Sheet1!EW13 -> 0 | J12: =Sheet1!EY13 -> 0 | K12: =Sheet1!EZ13 -> 0 | L12: =Sheet1!FA13 -> 0
B13: =Sheet1!EQ14 -> 0 | C13: =Sheet1!ER14 -> 0 | D13: =Sheet1!ES14 -> 0 | E13: =Sheet1!ET14 -> 0 | F13: =Sheet1!EU14 -> 0 | G13: =Sheet1!EV14 -> 0 | H13: =Sheet1!EW14 -> 0 | J13: =Sheet1!EY14 -> 0 | K13: =Sheet1!EZ14 -> 0 | L13: =Sheet1!FA14 -> 0

Sheet ORIGINAL
D1: Distance | F1: x | G1: 0 | H1: 1 | I1: 2 | J1: 3 | K1: 4 | L1: 5 | M1: 6 | N1: 7 | O1: 8 | P1: 9 | Q1: 10 | R1: 11 | S1: 12 | T1: 13 | U1: 14 | V1: 15 | W1: 16 | X1: 17 | Y1: 18 | Z1: 19 | AA1: 20 | AB1: 21 | AC1: 22 | AD1: 23 | AE1: 24 | AF1: 25 | AG1: 26 | AH1: 27 | AI1: 28 | AJ1: 29 | AK1: 30 | AL1: 31 | AM1: 32 | AN1: 33 | AO1: 34 | AP1: 35 | AQ1: 36 | AR1: x
A2: 7 | F2: 0 | G2: 0 | H2: 14 | I2: 6 | J2: 2 | K2: 4 | L2: 18 | M2: 10 | N2: 6 | O2: 16 | P2: 10 | Q2: 18 | R2: 14 | S2: 4 | T2: 12 | U2: 12 | V2: 2 | W2: 16 | X2: 8 | Y2: 8 | Z2: 3 | AA2: 13 | AB2: 5 | AC2: 9 | AD2: 17 | AE2: 17 | AF2: 7 | AG2: 1 | AH2: 11 | AI2: 5 | AJ2: 7 | AK2: 15 | AL2: 11 | AM2: 1 | AN2: 15 | AO2: 9 | AP2: 3 | AQ2: 13 | AR2: 0 | AT2: THREE | AU2: W/L | BB2: four | BC2: wl | BJ2: five | BR2: SIX | BS2: W/L | BZ2: seven | CH2: eight | CP2: NINE | CQ2: w/l | CX2: ten | DF2: eleven | DN2: twelve | DV2: thirteen | EP2: Three | ER2: =COUNTIF(AU6:AU524,"0") -> 0 | EW2: =COUNTIF(AU6:AU524,">=0") -> 0 | EX2: =ER2/EW2 -> #DIV/0!
A3: A | C3: =VLOOKUP(A2,$F$1:$AQ$39,A3+2) -> #VALUE! | D3: =IF(ISNA(C3),0,C3) -> #VALUE! | F3: 1 | G3: 14 | H3: 0 | I3: 17 | J3: 12 | K3: 18 | L3: 4 | M3: 13 | N3: 8 | O3: 7 | P3: 4 | Q3: 5 | R3: 9 | S3: 10 | T3: 11 | U3: 2 | V3: 16 | W3: 2 | X3: 15 | Y3: 6 | Z3: 17 | AA3: 1 | AB3: 18 | AC3: 5 | AD3: 6 | AE3: 3 | AF3: 16 | AG3: 13 | AH3: 12 | AI3: 9 | AJ3: 7 | AK3: 8 | AL3: 3 | AM3: 15 | AN3: 1 | AO3: 14 | AP3: 11 | AQ3: 10 | AR3: 1 | AS3: =IF(AND(D3>0,D3<=6),1,IF(AND(D3>6,D3<=12),2,IF(AND(D3>12,D3<=18),3,IF(AND(D3>18,D3<=24),-3,IF(AND(D3>24,D3<=30),-2,IF(AND(D3>30,D3<=36),-1,0)))))) -> #VALUE! | DO3: w/l | EP3: FOUR | ER3: =COUNTIF(BC7:BC524,"0") -> 0 | EW3: =COUNTIF(BC7:BC524,">=0") -> 0 | EX3: =ER3/EW3 -> #DIV/0!
A4: A | C4: =VLOOKUP(A3,$F$1:$AQ$39,A4+2) -> #VALUE! | D4: =IF(ISNA(C4),0,C4) -> #VALUE! | F4: 2 | G4: 6 | H4: 17 | I4: 0 | J4: 8 | K4: 2 | L4: 13 | M4: 4 | N4: 12 | O4: 10 | P4: 16 | Q4: 12 | R4: 8 | S4: 10 | T4: 6 | U4: 18 | V4: 4 | W4: 15 | X4: 2 | Y4: 14 | Z4: 3 | AA4: 18 | AB4: 1 | AC4: 15 | AD4: 11 | AE4: 14 | AF4: 1 | AG4: 7 | AH4: 5 | AI4: 11 | AJ4: 13 | AK4: 9 | AL4: 17 | AM4: 5 | AN4: 16 | AO4: 3 | AP4: 9 | AQ4: 7 | AR4: 2 | AS4: =IF(AND(D4>0,D4<=6),1,IF(AND(D4>6,D4<=12),2,IF(AND(D4>12,D4<=18),3,IF(AND(D4>18,D4<=24),-3,IF(AND(D4>24,D4<=30),-2,IF(AND(D4>30,D4<=36),-1,0)))))) -> #VALUE! | EP4: FIVE | ER4: =COUNTIF(BK8:BK524,"0") -> 0 | EW4: =COUNTIF(BK8:BK524,">=0") -> 0 | EX4: =ER4/EW4 -> #DIV/0!
A5: A | C5: =VLOOKUP(A4,$F$1:$AQ$39,A5+2) -> #VALUE! | D5: =IF(ISNA(C5),0,C5) -> #VALUE! | F5: 3 | G5: 2 | H5: 12 | I5: 8 | J5: 0 | K5: 6 | L5: 16 | M5: 12 | N5: 4 | O5: 18 | P5: 8 | Q5: 17 | R5: 16 | S5: 2 | T5: 14 | U5: 10 | V5: 4 | W5: 14 | X5: 10 | Y5: 6 | Z5: 5 | AA5: 11 | AB5: 7 | AC5: 7 | AD5: 18 | AE5: 15 | AF5: 9 | AG5: 1 | AH5: 13 | AI5: 3 | AJ5: 5 | AK5: 17 | AL5: 9 | AM5: 3 | AN5: 13 | AO5: 11 | AP5: 1 | AQ5: 15 | AR5: 3 | AS5: =IF(AND(D5>0,D5<=6),1,IF(AND(D5>6,D5<=12),2,IF(AND(D5>12,D5<=18),3,IF(AND(D5>18,D5<=24),-3,IF(AND(D5>24,D5<=30),-2,IF(AND(D5>30,D5<=36),-1,0)))))) -> #VALUE! | AT5: =MODE(AS3:AS5) -> #VALUE! | EP5: Six | ER5: =COUNTIF(BS9:BS524,"0") -> 0 | EW5: =COUNTIF(BS9:BS524,">=0") -> 0 | EX5: =ER5/EW5 -> #DIV/0!
A6: A | C6: =VLOOKUP(A5,$F$1:$AQ$39,A6+2) -> #VALUE! | D6: =IF(ISNA(C6),0,C6) -> #VALUE! | F6: 4 | G6: 4 | H6: 18 | I6: 2 | J6: 6 | K6: 0 | L6: 15 | M6: 6 | N6: 10 | O6: 12 | P6: 14 | Q6: 14 | R6: 10 | S6: 8 | T6: 8 | U6: 16 | V6: 2 | W6: 17 | X6: 4 | Y6: 12 | Z6: 1 | AA6: 17 | AB6: 1 | AC6: 13 | AD6: 13 | AE6: 16 | AF6: 3 | AG6: 5 | AH6: 7 | AI6: 9 | AJ6: 11 | AK6: 11 | AL6: 15 | AM6: 3 | AN6: 18 | AO6: 5 | AP6: 7 | AQ6: 9 | AR6: 4 | AS6: =IF(AND(D6>0,D6<=6),1,IF(AND(D6>6,D6<=12),2,IF(AND(D6>12,D6<=18),3,IF(AND(D6>18,D6<=24),-3,IF(AND(D6>24,D6<=30),-2,IF(AND(D6>30,D6<=36),-1,0)))))) -> #VALUE! | AT6: =MODE(AS4:AS6) -> #VALUE! | AU6: =ABS(AS6-AT5) -> #VALUE! | BB6: =MODE(AS3:AS6) -> #VALUE! | EP6: SEVEN | ER6: =COUNTIF(CA10:CA524,"0") -> 0 | EW6: =COUNTIF(CA10:CA524,">=0") -> 0 | EX6: =ER6/EW6 -> #DIV/0!
A7: A | C7: =VLOOKUP(A6,$F$1:$AQ$39,A7+2) -> #VALUE! | D7: =IF(ISNA(C7),0,C7) -> #VALUE! | F7: 5 | G7: 18 | H7: 4 | I7: 13 | J7: 16 | K7: 15 | L7: 0 | M7: 9 | N7: 12 | O7: 3 | P7: 8 | Q7: 1 | R7: 5 | S7: 14 | T7: 7 | U7: 6 | V7: 17 | W7: 2 | X7: 11 | Y7: 10 | Z7: 16 | AA7: 5 | AB7: 14 | AC7: 9 | AD7: 2 | AE7: 1 | AF7: 12 | AG7: 17 | AH7: 8 | AI7: 13 | AJ7: 11 | AK7: 4 | AL7: 7 | AM7: 18 | AN7: 3 | AO7: 10 | AP7: 15 | AQ7: 6 | AR7: 5 | AS7: =IF(AND(D7>0,D7<=6),1,IF(AND(D7>6,D7<=12),2,IF(AND(D7>12,D7<=18),3,IF(AND(D7>18,D7<=24),-3,IF(AND(D7>24,D7<=30),-2,IF(AND(D7>30,D7<=36),-1,0)))))) -> #VALUE! | AT7: =MODE(AS5:AS7) -> #VALUE! | AU7: =ABS(AS7-AT6) -> #VALUE! | BB7: =MODE(AS4:AS7) -> #VALUE! | BC7: =ABS(AS7-BB6) -> #VALUE! | BJ7: =MODE(AS3:AS7) -> #VALUE! | EP7: Eight | ER7: =COUNTIF(CI11:CI524,"0") -> 0 | EW7: =COUNTIF(CI11:CI524,">=0") -> 0 | EX7: =ER7/EW7 -> #DIV/0!
A8: A | C8: =VLOOKUP(A7,$F$1:$AQ$39,A8+2) -> #VALUE! | D8: =IF(ISNA(C8),0,C8) -> #VALUE! | F8: 6 | G8: 10 | H8: 13 | I8: 4 | J8: 12 | K8: 6 | L8: 9 | M8: 0 | N8: 16 | O8: 6 | P8: 17 | Q8: 8 | R8: 4 | S8: 14 | T8: 2 | U8: 15 | V8: 8 | W8: 11 | X8: 2 | Y8: 18 | Z8: 7 | AA8: 14 | AB8: 5 | AC8: 18 | AD8: 7 | AE8: 10 | AF8: 3 | AG8: 11 | AH8: 1 | AI8: 15 | AJ8: 17 | AK8: 5 | AL8: 16 | AM8: 9 | AN8: 12 | AO8: 1 | AP8: 13 | AQ8: 3 | AR8: 6 | AS8: =IF(AND(D8>0,D8<=6),1,IF(AND(D8>6,D8<=12),2,IF(AND(D8>12,D8<=18),3,IF(AND(D8>18,D8<=24),-3,IF(AND(D8>24,D8<=30),-2,IF(AND(D8>30,D8<=36),-1,0)))))) -> #VALUE! | AT8: =MODE(AS6:AS8) -> #VALUE! | AU8: =ABS(AS8-AT7) -> #VALUE! | BB8: =MODE(AS5:AS8) -> #VALUE! | BC8: =ABS(AS8-BB7) -> #VALUE! | BJ8: =MODE(AS4:AS8) -> #VALUE! | BK8: =ABS(AS8-BJ7) -> #VALUE! | BR8: =MODE(AS3:AS8) -> #VALUE! | EP8: nine | ER8: =COUNTIF(CQ12:CQ524,"0") -> 0 | EW8: =COUNTIF(CQ12:CQ524,">=0") -> 0 | EX8: =ER8/EW8 -> #DIV/0!
A9: A | C9: =VLOOKUP(A8,$F$1:$AQ$39,A9+2) -> #VALUE! | D9: =IF(ISNA(C9),0,C9) -> #VALUE! | F9: 7 | G9: 6 | H9: 8 | I9: 12 | J9: 4 | K9: 10 | L9: 12 | M9: 16 | N9: 0 | O9: 15 | P9: 4 | Q9: 13 | R9: 17 | S9: 2 | T9: 18 | U9: 6 | V9: 8 | W9: 10 | X9: 14 | Y9: 2 | Z9: 9 | AA9: 7 | AB9: 11 | AC9: 3 | AD9: 14 | AE9: 11 | AF9: 13 | AG9: 5 | AH9: 17 | AI9: 1 | AJ9: 1 | AK9: 16 | AL9: 5 | AM9: 7 | AN9: 9 | AO9: 15 | AP9: 3 | AQ9: 19 | AR9: 7 | AS9: =IF(AND(D9>0,D9<=6),1,IF(AND(D9>6,D9<=12),2,IF(AND(D9>12,D9<=18),3,IF(AND(D9>18,D9<=24),-3,IF(AND(D9>24,D9<=30),-2,IF(AND(D9>30,D9<=36),-1,0)))))) -> #VALUE! | AT9: =MODE(AS7:AS9) -> #VALUE! | AU9: =ABS(AS9-AT8) -> #VALUE! | BB9: =MODE(AS6:AS9) -> #VALUE! | BC9: =ABS(AS9-BB8) -> #VALUE! | BJ9: =MODE(AS5:AS9) -> #VALUE! | BK9: =ABS(AS9-BJ8) -> #VALUE! | BR9: =MODE(AS4:AS9) -> #VALUE! | BS9: =ABS(AS9-BR8) -> #VALUE! | BZ9: =MODE(AS3:AS9) -> #VALUE! | EP9: ten | ER9: =COUNTIF(CY13:CY524,"0") -> 0 | EW9: =COUNTIF(CY13:CY524,">=0") -> 0 | EX9: =ER9/EW9 -> #DIV/0!
A10: A | C10: =VLOOKUP(A9,$F$1:$AQ$39,A10+2) -> #VALUE! | D10: =IF(ISNA(C10),0,C10) -> #VALUE! | F10: 8 | G10: 16 | H10: 7 | I10: 10 | J10: 18 | K10: 12 | L10: 3 | M10: 6 | N10: 15 | O10: 0 | P10: 11 | Q10: 2 | R10: 2 | S10: 17 | T10: 4 | U10: 9 | V10: 14 | W10: 5 | X10: 8 | Y10: 13 | Z10: 13 | AA10: 8 | AB10: 11 | AC10: 12 | AD10: 1 | AE10: 4 | AF10: 9 | AG10: 17 | AH10: 5 | AI10: 16 | AJ10: 14 | AK10: 1 | AL10: 10 | AM10: 15 | AN10: 6 | AO10: 7 | AP10: 18 | AQ10: 3 | AR10: 8 | AS10: =IF(AND(D10>0,D10<=6),1,IF(AND(D10>6,D10<=12),2,IF(AND(D10>12,D10<=18),3,IF(AND(D10>18,D10<=24),-3,IF(AND(D10>24,D10<=30),-2,IF(AND(D10>30,D10<=36),-1,0)))))) -> #VALUE! | AT10: =MODE(AS8:AS10) -> #VALUE! | AU10: =ABS(AS10-AT9) -> #VALUE! | BB10: =MODE(AS7:AS10) -> #VALUE! | BC10: =ABS(AS10-BB9) -> #VALUE! | BJ10: =MODE(AS6:AS10) -> #VALUE! | BK10: =ABS(AS10-BJ9) -> #VALUE! | BR10: =MODE(AS5:AS10) -> #VALUE! | BS10: =ABS(AS10-BR9) -> #VALUE! | BZ10: =MODE(AS4:AS10) -> #VALUE! | CA10: =ABS(AS10-BZ9) -> #VALUE! | CH10: =MODE(AS3:AS10) -> #VALUE! | EP10: eleven | ER10: =COUNTIF(DG14:DG524,"0") -> 0 | EW10: =COUNTIF(DG14:DG524,">=0") -> 0 | EX10: =ER10/EW10 -> #DIV/0!
A11: A | C11: =VLOOKUP(A10,$F$1:$AQ$39,A11+2) -> #VALUE! | D11: =IF(ISNA(C11),0,C11) -> #VALUE! | F11: 9 | G11: 10 | H11: 4 | I11: 16 | J11: 8 | K11: 14 | L11: 8 | M11: 17 | N11: 4 | O11: 11 | P11: 0 | Q11: 9 | R11: 13 | S11: 6 | T11: 15 | U11: 2 | V11: 12 | W11: 6 | X11: 18 | Y11: 2 | Z11: 13 | AA11: 3 | AB11: 15 | AC11: 1 | AD11: 10 | AE11: 7 | AF11: 17 | AG11: 9 | AH11: 16 | AI11: 5 | AJ11: 3 | AK11: 12 | AL11: 1 | AM11: 11 | AN11: 5 | AO11: 18 | AP11: 7 | AQ11: 14 | AR11: 9 | AS11: =IF(AND(D11>0,D11<=6),1,IF(AND(D11>6,D11<=12),2,IF(AND(D11>12,D11<=18),3,IF(AND(D11>18,D11<=24),-3,IF(AND(D11>24,D11<=30),-2,IF(AND(D11>30,D11<=36),-1,0)))))) -> #VALUE! | AT11: =MODE(AS9:AS11) -> #VALUE! | AU11: =ABS(AS11-AT10) -> #VALUE! | BB11: =MODE(AS8:AS11) -> #VALUE! | BC11: =ABS(AS11-BB10) -> #VALUE! | BJ11: =MODE(AS7:AS11) -> #VALUE! | BK11: =ABS(AS11-BJ10) -> #VALUE! | BR11: =MODE(AS6:AS11) -> #VALUE! | BS11: =ABS(AS11-BR10) -> #VALUE! | BZ11: =MODE(AS5:AS11) -> #VALUE! | CA11: =ABS(AS11-BZ10) -> #VALUE! | CH11: =MODE(AS4:AS11) -> #VALUE! | CI11: =ABS(AS11-CH10) -> #VALUE! | CP11: =MODE(AS3:AS11) -> #VALUE! | EP11: twelve | ER11: =COUNTIF(DO15:DO524,"0") -> 0 | EW11: =COUNTIF(DO15:DO524,">=0") -> 0 | EX11: =ER11/EW11 -> #DIV/0!
A12: A | C12: =VLOOKUP(A11,$F$1:$AQ$39,A12+2) -> #VALUE! | D12: =IF(ISNA(C12),0,C12) -> #VALUE! | F12: 10 | G12: 18 | H12: 5 | I12: 12 | J12: 17 | K12: 14 | L12: 1 | M12: 8 | N12: 13 | O12: 2 | P12: 9 | Q12: 0 | R12: 4 | S12: 15 | T12: 6 | U12: 7 | V12: 16 | W12: 3 | X12: 10 | Y12: 11 | Z12: 15 | AA12: 6 | AB12: 13 | AC12: 10 | AD12: 1 | AE12: 2 | AF12: 11 | AG12: 18 | AH12: 7 | AI12: 14 | AJ12: 12 | AK12: 3 | AL12: 8 | AM12: 17 | AN12: 4 | AO12: 9 | AP12: 16 | AQ12: 5 | AR12: 10 | AS12: =IF(AND(D12>0,D12<=6),1,IF(AND(D12>6,D12<=12),2,IF(AND(D12>12,D12<=18),3,IF(AND(D12>18,D12<=24),-3,IF(AND(D12>24,D12<=30),-2,IF(AND(D12>30,D12<=36),-1,0)))))) -> #VALUE! | AT12: =MODE(AS10:AS12) -> #VALUE! | AU12: =ABS(AS12-AT11) -> #VALUE! | BB12: =MODE(AS9:AS12) -> #VALUE! | BC12: =ABS(AS12-BB11) -> #VALUE! | BJ12: =MODE(AS8:AS12) -> #VALUE! | BK12: =ABS(AS12-BJ11) -> #VALUE! | BR12: =MODE(AS7:AS12) -> #VALUE! | BS12: =ABS(AS12-BR11) -> #VALUE! | BZ12: =MODE(AS6:AS12) -> #VALUE! | CA12: =ABS(AS12-BZ11) -> #VALUE! | CH12: =MODE(AS5:AS12) -> #VALUE! | CI12: =ABS(AS12-CH11) -> #VALUE! | CP12: =MODE(AS4:AS12) -> #VALUE! | CQ12: =ABS(AS12-CP11) -> #VALUE! | CX12: =MODE(AS3:AS12) -> #VALUE! | EP12: thirteen | ER12: =COUNTIF(DW16:DW524,"0") -> 0 | EW12: =COUNTIF(DW16:DW524,">=0") -> 0 | EX12: =ER12/EW12 -> #DIV/0!
A13: A | C13: =VLOOKUP(A12,$F$1:$AQ$39,A13+2) -> #VALUE! | D13: =IF(ISNA(C13),0,C13) -> #VALUE! | F13: 11 | G13: 14 | H13: 9 | I13: 8 | J13: 16 | K13: 10 | L13: 5 | M13: 4 | N13: 17 | O13: 2 | P13: 13 | Q13: 4 | R13: 0 | S13: 18 | T13: 2 | U13: 11 | V13: 12 | W13: 7 | X13: 6 | Y13: 15 | Z13: 11 | AA13: 10 | AB13: 9 | AC13: 14 | AD13: 3 | AE13: 6 | AF13: 7 | AG13: 15 | AH13: 3 | AI13: 18 | AJ13: 16 | AK13: 1 | AL13: 12 | AM13: 13 | AN13: 8 | AO13: 5 | AP13: 17 | AQ13: 1 | AR13: 11 | AS13: =IF(AND(D13>0,D13<=6),1,IF(AND(D13>6,D13<=12),2,IF(AND(D13>12,D13<=18),3,IF(AND(D13>18,D13<=24),-3,IF(AND(D13>24,D13<=30),-2,IF(AND(D13>30,D13<=36),-1,0)))))) -> #VALUE! | AT13: =MODE(AS11:AS13) -> #VALUE! | AU13: =ABS(AS13-AT12) -> #VALUE! | BB13: =MODE(AS10:AS13) -> #VALUE! | BC13: =ABS(AS13-BB12) -> #VALUE! | BJ13: =MODE(AS9:AS13) -> #VALUE! | BK13: =ABS(AS13-BJ12) -> #VALUE! | BR13: =MODE(AS8:AS13) -> #VALUE! | BS13: =ABS(AS13-BR12) -> #VALUE! | BZ13: =MODE(AS7:AS13) -> #VALUE! | CA13: =ABS(AS13-BZ12) -> #VALUE! | CH13: =MODE(AS6:AS13) -> #VALUE! | CI13: =ABS(AS13-CH12) -> #VALUE! | CP13: =MODE(AS5:AS13) -> #VALUE! | CQ13: =ABS(AS13-CP12) -> #VALUE! | CX13: =MODE(AS4:AS13) -> #VALUE! | CY13: =ABS(AS13-CX12) -> #VALUE! | DF13: =MODE(AS3:AS13) -> #VALUE!
A14: A | C14: =VLOOKUP(A13,$F$1:$AQ$39,A14+2) -> #VALUE! | D14: =IF(ISNA(C14),0,C14) -> #VALUE! | F14: 12 | G14: 4 | H14: 10 | I14: 10 | J14: 2 | K14: 8 | L14: 14 | M14: 14 | N14: 2 | O14: 17 | P14: 6 | Q14: 15 | R14: 18 | S14: 0 | T14: 16 | U14: 8 | V14: 6 | W14: 12 | X14: 12 | Y14: 4 | Z14: 7 | AA14: 9 | AB14: 9 | AC14: 5 | AD14: 16 | AE14: 13 | AF14: 11 | AG14: 3 | AH14: 15 | AI14: 1 | AJ14: 3 | AK14: 18 | AL14: 7 | AM14: 5 | AN14: 11 | AO14: 13 | AP14: 1 | AQ14: 17 | AR14: 12 | AS14: =IF(AND(D14>0,D14<=6),1,IF(AND(D14>6,D14<=12),2,IF(AND(D14>12,D14<=18),3,IF(AND(D14>18,D14<=24),-3,IF(AND(D14>24,D14<=30),-2,IF(AND(D14>30,D14<=36),-1,0)))))) -> #VALUE! | AT14: =MODE(AS12:AS14) -> #VALUE! | AU14: =ABS(AS14-AT13) -> #VALUE! | BB14: =MODE(AS11:AS14) -> #VALUE! | BC14: =ABS(AS14-BB13) -> #VALUE! | BJ14: =MODE(AS10:AS14) -> #VALUE! | BK14: =ABS(AS14-BJ13) -> #VALUE! | BR14: =MODE(AS9:AS14) -> #VALUE! | BS14: =ABS(AS14-BR13) -> #VALUE! | BZ14: =MODE(AS8:AS14) -> #VALUE! | CA14: =ABS(AS14-BZ13) -> #VALUE! | CH14: =MODE(AS7:AS14) -> #VALUE! | CI14: =ABS(AS14-CH13) -> #VALUE! | CP14: =MODE(AS6:AS14) -> #VALUE! | CQ14: =ABS(AS14-CP13) -> #VALUE! | CX14: =MODE(AS5:AS14) -> #VALUE! | CY14: =ABS(AS14-CX13) -> #VALUE! | DF14: =MODE(AS4:AS14) -> #VALUE! | DG14: =ABS(AS14-DF13) -> #VALUE! | DN14: =MODE(AS3:AS14) -> #VALUE!
A15: A | C15: =VLOOKUP(A14,$F$1:$AQ$39,A15+2) -> #VALUE! | D15: =IF(ISNA(C15),0,C15) -> #VALUE! | F15: 13 | G15: 12 | H15: 11 | I15: 6 | J15: 14 | K15: 8 | L15: 7 | M15: 2 | N15: 18 | O15: 4 | P15: 15 | Q15: 6 | R15: 2 | S15: 16 | T15: 0 | U15: 13 | V15: 10 | W15: 9 | X15: 4 | Y15: 17 | Z15: 9 | AA15: 12 | AB15: 7 | AC15: 16 | AD15: 5 | AE15: 8 | AF15: 5 | AG15: 13 | AH15: 1 | AI15: 17 | AJ15: 18 | AK15: 3 | AL15: 14 | AM15: 11 | AN15: 10 | AO15: 3 | AP15: 15 | AQ15: 1 | AR15: 13 | AS15: =IF(AND(D15>0,D15<=6),1,IF(AND(D15>6,D15<=12),2,IF(AND(D15>12,D15<=18),3,IF(AND(D15>18,D15<=24),-3,IF(AND(D15>24,D15<=30),-2,IF(AND(D15>30,D15<=36),-1,0)))))) -> #VALUE! | AT15: =MODE(AS13:AS15) -> #VALUE! | AU15: =ABS(AS15-AT14) -> #VALUE! | BB15: =MODE(AS12:AS15) -> #VALUE! | BC15: =ABS(AS15-BB14) -> #VALUE! | BJ15: =MODE(AS11:AS15) -> #VALUE! | BK15: =ABS(AS15-BJ14) -> #VALUE! | BR15: =MODE(AS10:AS15) -> #VALUE! | BS15: =ABS(AS15-BR14) -> #VALUE! | BZ15: =MODE(AS9:AS15) -> #VALUE! | CA15: =ABS(AS15-BZ14) -> #VALUE! | CH15: =MODE(AS8:AS15) -> #VALUE! | CI15: =ABS(AS15-CH14) -> #VALUE! | CP15: =MODE(AS7:AS15) -> #VALUE! | CQ15: =ABS(AS15-CP14) -> #VALUE! | CX15: =MODE(AS6:AS15) -> #VALUE! | CY15: =ABS(AS15-CX14) -> #VALUE! | DF15: =MODE(AS5:AS15) -> #VALUE! | DG15: =ABS(AS15-DF14) -> #VALUE! | DN15: =MODE(AS4:AS15) -> #VALUE! | DO15: =ABS(AS15-DN14) -> #VALUE! | DV15: =MODE(AS3:AS15) -> #VALUE!
A16: A | C16: =VLOOKUP(A15,$F$1:$AQ$39,A16+2) -> #VALUE! | D16: =IF(ISNA(C16),0,C16) -> #VALUE! | F16: 14 | G16: 12 | H16: 2 | I16: 18 | J16: 10 | K16: 16 | L16: 6 | M16: 15 | N16: 6 | O16: 9 | P16: 2 | Q16: 7 | R16: 11 | S16: 8 | T16: 13 | U16: 0 | V16: 14 | W16: 4 | X16: 17 | Y16: 4 | Z16: 15 | AA16: 1 | AB16: 17 | AC16: 3 | AD16: 8 | AE16: 5 | AF16: 18 | AG16: 11 | AH16: 14 | AI16: 7 | AJ16: 5 | AK16: 10 | AL16: 1 | AM16: 13 | AN16: 3 | AO16: 16 | AP16: 9 | AQ16: 12 | AR16: 14 | AS16: =IF(AND(D16>0,D16<=6),1,IF(AND(D16>6,D16<=12),2,IF(AND(D16>12,D16<=18),3,IF(AND(D16>18,D16<=24),-3,IF(AND(D16>24,D16<=30),-2,IF(AND(D16>30,D16<=36),-1,0)))))) -> #VALUE! | AT16: =MODE(AS14:AS16) -> #VALUE! | AU16: =ABS(AS16-AT15) -> #VALUE! | BB16: =MODE(AS13:AS16) -> #VALUE! | BC16: =ABS(AS16-BB15) -> #VALUE! | BJ16: =MODE(AS12:AS16) -> #VALUE! | BK16: =ABS(AS16-BJ15) -> #VALUE! | BR16: =MODE(AS11:AS16) -> #VALUE! | BS16: =ABS(AS16-BR15) -> #VALUE! | BZ16: =MODE(AS10:AS16) -> #VALUE! | CA16: =ABS(AS16-BZ15) -> #VALUE! | CH16: =MODE(AS9:AS16) -> #VALUE! | CI16: =ABS(AS16-CH15) -> #VALUE! | CP16: =MODE(AS8:AS16) -> #VALUE! | CQ16: =ABS(AS16-CP15) -> #VALUE! | CX16: =MODE(AS7:AS16) -> #VALUE! | CY16: =ABS(AS16-CX15) -> #VALUE! | DF16: =MODE(AS6:AS16) -> #VALUE! | DG16: =ABS(AS16-DF15) -> #VALUE! | DN16: =MODE(AS5:AS16) -> #VALUE! | DO16: =ABS(AS16-DN15) -> #VALUE! | DV16: =MODE(AS4:AS16) -> #VALUE! | DW16: =ABS(AS16-DV15) -> #VALUE! | EF16: =MODE(BB16,BJ16,BR16,BZ16,CH16,CP16,CX16,DF16,DN16,DV16) -> #VALUE! | EG16: =MODE(BC16,BK16,BS16,CA16,CI16,CQ16,CY16,DG16,DO16,DW16) -> #VALUE! | EH16: =IF(AND(EG16=0),0,1) -> #VALUE!
A17: A | C17: =VLOOKUP(A16,$F$1:$AQ$39,A17+2) -> #VALUE! | D17: =IF(ISNA(C17),0,C17) -> #VALUE! | F17: 15 | G17: 2 | H17: 16 | I17: 4 | J17: 4 | K17: 2 | L17: 17 | M17: 8 | N17: 8 | O17: 14 | P17: 12 | Q17: 16 | R17: 12 | S17: 6 | T17: 10 | U17: 14 | V17: 0 | W17: 18 | X17: 6 | Y17: 10 | Z17: 1 | AA17: 15 | AB17: 3 | AC17: 11 | AD17: 15 | AE17: 18 | AF17: 5 | AG17: 3 | AH17: 9 | AI17: 7 | AJ17: 9 | AK17: 13 | AL17: 13 | AM17: 1 | AN17: 17 | AO17: 7 | AP17: 5 | AQ17: 11 | AR17: 15 | AS17: =IF(AND(D17>0,D17<=6),1,IF(AND(D17>6,D17<=12),2,IF(AND(D17>12,D17<=18),3,IF(AND(D17>18,D17<=24),-3,IF(AND(D17>24,D17<=30),-2,IF(AND(D17>30,D17<=36),-1,0)))))) -> #VALUE! | AT17: =MODE(AS15:AS17) -> #VALUE! | AU17: =ABS(AS17-AT16) -> #VALUE! | AV17: =COUNTIF(AU6:AU17,"0") -> 0 | AW17: =COUNTIF(AU6:AU17,">=0") -> 0 | AX17: =AV17/AW17 -> #DIV/0! | BB17: =MODE(AS14:AS17) -> #VALUE! | BC17: =ABS(AS17-BB16) -> #VALUE! | BJ17: =MODE(AS13:AS17) -> #VALUE! | BK17: =ABS(AS17-BJ16) -> #VALUE! | BR17: =MODE(AS12:AS17) -> #VALUE! | BS17: =ABS(AS17-BR16) -> #VALUE! | BZ17: =MODE(AS11:AS17) -> #VALUE! | CA17: =ABS(AS17-BZ16) -> #VALUE! | CH17: =MODE(AS10:AS17) -> #VALUE! | CI17: =ABS(AS17-CH16) -> #VALUE! | CP17: =MODE(AS9:AS17) -> #VALUE! | CQ17: =ABS(AS17-CP16) -> #VALUE! | CX17: =MODE(AS8:AS17) -> #VALUE! | CY17: =ABS(AS17-CX16) -> #VALUE! | DF17: =MODE(AS7:AS17) -> #VALUE! | DG17: =ABS(AS17-DF16) -> #VALUE! | DN17: =MODE(AS6:AS17) -> #VALUE! | DO17: =ABS(AS17-DN16) -> #VALUE! | DV17: =MODE(AS5:AS17) -> #VALUE! | DW17: =ABS(AS17-DV16) -> #VALUE! | EF17: =MODE(BB17,BJ17,BR17,BZ17,CH17,CP17,CX17,DF17,DN17,DV17) -> #VALUE! | EG17: =MODE(BC17,BK17,BS17,CA17,CI17,CQ17,CY17,DG17,DO17,DW17) -> #VALUE! | EH17: =IF(AND(EG17=0),0,1) -> #VALUE! | EI17: =ABS(AS17-EF16) -> #VALUE! | EK17: =SUM(EH16+EH17) -> #VALUE! | EM17: =COUNTIF(EH16:EH524,"0") -> 0
A18: A | C18: =VLOOKUP(A17,$F$1:$AQ$39,A18+2) -> #VALUE! | D18: =IF(ISNA(C18),0,C18) -> #VALUE! | F18: 16 | G18: 16 | H18: 2 | I18: 15 | J18: 14 | K18: 17 | L18: 2 | M18: 11 | N18: 10 | O18: 5 | P18: 6 | Q18: 3 | R18: 7 | S18: 12 | T18: 9 | U18: 4 | V18: 18 | W18: 0 | X18: 13 | Y18: 8 | Z18: 18 | AA18: 3 | AB18: 16 | AC18: 7 | AD18: 4 | AE18: 1 | AF18: 14 | AG18: 15 | AH18: 10 | AI18: 11 | AJ18: 9 | AK18: 6 | AL18: 5 | AM18: 17 | AN18: 1 | AO18: 12 | AP18: 13 | AQ18: 8 | AR18: 16 | AS18: =IF(AND(D18>0,D18<=6),1,IF(AND(D18>6,D18<=12),2,IF(AND(D18>12,D18<=18),3,IF(AND(D18>18,D18<=24),-3,IF(AND(D18>24,D18<=30),-2,IF(AND(D18>30,D18<=36),-1,0)))))) -> #VALUE! | AT18: =MODE(AS16:AS18) -> #VALUE! | AU18: =ABS(AS18-AT17) -> #VALUE! | AV18: =COUNTIF(AU7:AU18,"0") -> 0 | AW18: =COUNTIF(AU7:AU18,">=0") -> 0 | AX18: =AV18/AW18 -> #DIV/0! | BB18: =MODE(AS15:AS18) -> #VALUE! | BC18: =ABS(AS18-BB17) -> #VALUE! | BD18: =COUNTIF(BC7:BC18,"0") -> 0 | BE18: =COUNTIF(BC7:BC18,">=0") -> 0 | BF18: =BD18/BE18 -> #DIV/0! | BJ18: =MODE(AS14:AS18) -> #VALUE! | BK18: =ABS(AS18-BJ17) -> #VALUE! | BR18: =MODE(AS13:AS18) -> #VALUE! | BS18: =ABS(AS18-BR17) -> #VALUE! | BZ18: =MODE(AS12:AS18) -> #VALUE! | CA18: =ABS(AS18-BZ17) -> #VALUE! | CH18: =MODE(AS11:AS18) -> #VALUE! | CI18: =ABS(AS18-CH17) -> #VALUE! | CP18: =MODE(AS10:AS18) -> #VALUE! | CQ18: =ABS(AS18-CP17) -> #VALUE! | CX18: =MODE(AS9:AS18) -> #VALUE! | CY18: =ABS(AS18-CX17) -> #VALUE! | DF18: =MODE(AS8:AS18) -> #VALUE! | DG18: =ABS(AS18-DF17) -> #VALUE! | DN18: =MODE(AS7:AS18) -> #VALUE! | DO18: =ABS(AS18-DN17) -> #VALUE! | DV18: =MODE(AS6:AS18) -> #VALUE! | DW18: =ABS(AS18-DV17) -> #VALUE! | EF18: =MODE(BB18,BJ18,BR18,BZ18,CH18,CP18,CX18,DF18,DN18,DV18) -> #VALUE! | EG18: =MODE(BC18,BK18,BS18,CA18,CI18,CQ18,CY18,DG18,DO18,DW18) -> #VALUE! | EH18: =IF(AND(EG18=0),0,1) -> #VALUE! | EI18: =ABS(AS18-EF17) -> #VALUE! | EK18: =SUM(EH17+EH18) -> #VALUE! | EM18: =COUNTIF(EK17:EK524,"0") -> 0
A19: A | C19: =VLOOKUP(A18,$F$1:$AQ$39,A19+2) -> #VALUE! | D19: =IF(ISNA(C19),0,C19) -> #VALUE! | F19: 17 | G19: 8 | H19: 15 | I19: 2 | J19: 10 | K19: 4 | L19: 11 | M19: 2 | N19: 14 | O19: 8 | P19: 18 | Q19: 10 | R19: 6 | S19: 12 | T19: 4 | U19: 17 | V19: 6 | W19: 13 | X19: 0 | Y19: 16 | Z19: 5 | AA19: 16 | AB19: 3 | AC19: 17 | AD19: 9 | AE19: 12 | AF19: 1 | AG19: 9 | AH19: 3 | AI19: 13 | AJ19: 15 | AK19: 7 | AL19: 18 | AM19: 7 | AN19: 14 | AO19: 1 | AP19: 11 | AQ19: 5 | AR19: 17 | AS19: =IF(AND(D19>0,D19<=6),1,IF(AND(D19>6,D19<=12),2,IF(AND(D19>12,D19<=18),3,IF(AND(D19>18,D19<=24),-3,IF(AND(D19>24,D19<=30),-2,IF(AND(D19>30,D19<=36),-1,0)))))) -> #VALUE! | AT19: =MODE(AS17:AS19) -> #VALUE! | AU19: =ABS(AS19-AT18) -> #VALUE! | AV19: =COUNTIF(AU8:AU19,"0") -> 0 | AW19: =COUNTIF(AU8:AU19,">=0") -> 0 | AX19: =AV19/AW19 -> #DIV/0! | BB19: =MODE(AS16:AS19) -> #VALUE! | BC19: =ABS(AS19-BB18) -> #VALUE! | BD19: =COUNTIF(BC8:BC19,"0") -> 0 | BE19: =COUNTIF(BC8:BC19,">=0") -> 0 | BF19: =BD19/BE19 -> #DIV/0! | BJ19: =MODE(AS15:AS19) -> #VALUE! | BK19: =ABS(AS19-BJ18) -> #VALUE! | BL19: =COUNTIF(BK8:BK19,"0") -> 0 | BM19: =COUNTIF(BK8:BK19,">=0") -> 0 | BN19: =BL19/BM19 -> #DIV/0! | BR19: =MODE(AS14:AS19) -> #VALUE! | BS19: =ABS(AS19-BR18) -> #VALUE! | BZ19: =MODE(AS13:AS19) -> #VALUE! | CA19: =ABS(AS19-BZ18) -> #VALUE! | CH19: =MODE(AS12:AS19) -> #VALUE! | CI19: =ABS(AS19-CH18) -> #VALUE! | CP19: =MODE(AS11:AS19) -> #VALUE! | CQ19: =ABS(AS19-CP18) -> #VALUE! | CX19: =MODE(AS10:AS19) -> #VALUE! | CY19: =ABS(AS19-CX18) -> #VALUE! | DF19: =MODE(AS9:AS19) -> #VALUE! | DG19: =ABS(AS19-DF18) -> #VALUE! | DN19: =MODE(AS8:AS19) -> #VALUE! | DO19: =ABS(AS19-DN18) -> #VALUE! | DV19: =MODE(AS7:AS19) -> #VALUE! | DW19: =ABS(AS19-DV18) -> #VALUE! | EF19: =MODE(BB19,BJ19,BR19,BZ19,CH19,CP19,CX19,DF19,DN19,DV19) -> #VALUE! | EG19: =MODE(BC19,BK19,BS19,CA19,CI19,CQ19,CY19,DG19,DO19,DW19) -> #VALUE! | EH19: =IF(AND(EG19=0),0,1) -> #VALUE! | EI19: =ABS(AS19-EF18) -> #VALUE! | EK19: =SUM(EH18+EH19) -> #VALUE! | EM19: =EM18/EM17 -> #DIV/0!
A20: A | C20: =VLOOKUP(A19,$F$1:$AQ$39,A20+2) -> #VALUE! | D20: =IF(ISNA(C20),0,C20) -> #VALUE! | F20: 18 | G20: 8 | H20: 6 | I20: 14 | J20: 6 | K20: 12 | L20: 10 | M20: 18 | N20: 2 | O20: 13 | P20: 2 | Q20: 11 | R20: 15 | S20: 4 | T20: 17 | U20: 4 | V20: 10 | W20: 8 | X20: 16 | Y20: 0 | Z20: 11 | AA20: 5 | AB20: 13 | AC20: 1 | AD20: 12 | AE20: 9 | AF20: 15 | AG20: 7 | AH20: 18 | AI20: 3 | AJ20: 1 | AK20: 14 | AL20: 3 | AM20: 9 | AN20: 7 | AO20: 17 | AP20: 5 | AQ20: 16 | AR20: 18 | AS20: =IF(AND(D20>0,D20<=6),1,IF(AND(D20>6,D20<=12),2,IF(AND(D20>12,D20<=18),3,IF(AND(D20>18,D20<=24),-3,IF(AND(D20>24,D20<=30),-2,IF(AND(D20>30,D20<=36),-1,0)))))) -> #VALUE! | AT20: =MODE(AS18:AS20) -> #VALUE! | AU20: =ABS(AS20-AT19) -> #VALUE! | AV20: =COUNTIF(AU9:AU20,"0") -> 0 | AW20: =COUNTIF(AU9:AU20,">=0") -> 0 | AX20: =AV20/AW20 -> #DIV/0! | BB20: =MODE(AS17:AS20) -> #VALUE! | BC20: =ABS(AS20-BB19) -> #VALUE! | BD20: =COUNTIF(BC9:BC20,"0") -> 0 | BE20: =COUNTIF(BC9:BC20,">=0") -> 0 | BF20: =BD20/BE20 -> #DIV/0! | BJ20: =MODE(AS16:AS20) -> #VALUE! | BK20: =ABS(AS20-BJ19) -> #VALUE! | BL20: =COUNTIF(BK9:BK20,"0") -> 0 | BM20: =COUNTIF(BK9:BK20,">=0") -> 0 | BN20: =BL20/BM20 -> #DIV/0! | BR20: =MODE(AS15:AS20) -> #VALUE! | BS20: =ABS(AS20-BR19) -> #VALUE! | BT20: =COUNTIF(BS9:BS20,"0") -> 0 | BU20: =COUNTIF(BS9:BS20,">=0") -> 0 | BV20: =BT20/BU20 -> #DIV/0! | BZ20: =MODE(AS14:AS20) -> #VALUE! | CA20: =ABS(AS20-BZ19) -> #VALUE! | CH20: =MODE(AS13:AS20) -> #VALUE! | CI20: =ABS(AS20-CH19) -> #VALUE! | CP20: =MODE(AS12:AS20) -> #VALUE! | CQ20: =ABS(AS20-CP19) -> #VALUE! | CX20: =MODE(AS11:AS20) -> #VALUE! | CY20: =ABS(AS20-CX19) -> #VALUE! | DF20: =MODE(AS10:AS20) -> #VALUE! | DG20: =ABS(AS20-DF19) -> #VALUE! | DN20: =MODE(AS9:AS20) -> #VALUE! | DO20: =ABS(AS20-DN19) -> #VALUE! | DV20: =MODE(AS8:AS20) -> #VALUE! | DW20: =ABS(AS20-DV19) -> #VALUE! | EF20: =MODE(BB20,BJ20,BR20,BZ20,CH20,CP20,CX20,DF20,DN20,DV20) -> #VALUE! | EG20: =MODE(BC20,BK20,BS20,CA20,CI20,CQ20,CY20,DG20,DO20,DW20) -> #VALUE! | EH20: =IF(AND(EG20=0),0,1) -> #VALUE! | EI20: =ABS(AS20-EF19) -> #VALUE! | EK20: =SUM(EH19+EH20) -> #VALUE!
A21: A | C21: =VLOOKUP(A20,$F$1:$AQ$39,A21+2) -> #VALUE! | D21: =IF(ISNA(C21),0,C21) -> #VALUE! | F21: 19 | G21: 3 | H21: 17 | I21: 3 | J21: 5 | K21: 1 | L21: 16 | M21: 7 | N21: 9 | O21: 13 | P21: 13 | Q21: 15 | R21: 11 | S21: 7 | T21: 9 | U21: 15 | V21: 1 | W21: 18 | X21: 5 | Y21: 11 | Z21: 0 | AA21: 16 | AB21: 2 | AC21: 12 | AD21: 14 | AE21: 17 | AF21: 4 | AG21: 4 | AH21: 8 | AI21: 8 | AJ21: 10 | AK21: 12 | AL21: 14 | AM21: 2 | AN21: 18 | AO21: 6 | AP21: 6 | AQ21: 10 | AR21: 19 | AS21: =IF(AND(D21>0,D21<=6),1,IF(AND(D21>6,D21<=12),2,IF(AND(D21>12,D21<=18),3,IF(AND(D21>18,D21<=24),-3,IF(AND(D21>24,D21<=30),-2,IF(AND(D21>30,D21<=36),-1,0)))))) -> #VALUE! | AT21: =MODE(AS19:AS21) -> #VALUE! | AU21: =ABS(AS21-AT20) -> #VALUE! | AV21: =COUNTIF(AU10:AU21,"0") -> 0 | AW21: =COUNTIF(AU10:AU21,">=0") -> 0 | AX21: =AV21/AW21 -> #DIV/0! | BB21: =MODE(AS18:AS21) -> #VALUE! | BC21: =ABS(AS21-BB20) -> #VALUE! | BD21: =COUNTIF(BC10:BC21,"0") -> 0 | BE21: =COUNTIF(BC10:BC21,">=0") -> 0 | BF21: =BD21/BE21 -> #DIV/0! | BJ21: =MODE(AS17:AS21) -> #VALUE! | BK21: =ABS(AS21-BJ20) -> #VALUE! | BL21: =COUNTIF(BK10:BK21,"0") -> 0 | BM21: =COUNTIF(BK10:BK21,">=0") -> 0 | BN21: =BL21/BM21 -> #DIV/0! | BR21: =MODE(AS16:AS21) -> #VALUE! | BS21: =ABS(AS21-BR20) -> #VALUE! | BT21: =COUNTIF(BS10:BS21,"0") -> 0 | BU21: =COUNTIF(BS10:BS21,">=0") -> 0 | BV21: =BT21/BU21 -> #DIV/0! | BZ21: =MODE(AS15:AS21) -> #VALUE! | CA21: =ABS(AS21-BZ20) -> #VALUE! | CB21: =COUNTIF(CA10:CA21,"0") -> 0 | CC21: =COUNTIF(CA10:CA21,">=0") -> 0 | CD21: =CB21/CC21 -> #DIV/0! | CH21: =MODE(AS14:AS21) -> #VALUE! | CI21: =ABS(AS21-CH20) -> #VALUE! | CP21: =MODE(AS13:AS21) -> #VALUE! | CQ21: =ABS(AS21-CP20) -> #VALUE! | CX21: =MODE(AS12:AS21) -> #VALUE! | CY21: =ABS(AS21-CX20) -> #VALUE! | DF21: =MODE(AS11:AS21) -> #VALUE! | DG21: =ABS(AS21-DF20) -> #VALUE! | DN21: =MODE(AS10:AS21) -> #VALUE! | DO21: =ABS(AS21-DN20) -> #VALUE! | DV21: =MODE(AS9:AS21) -> #VALUE! | DW21: =ABS(AS21-DV20) -> #VALUE! | EF21: =MODE(BB21,BJ21,BR21,BZ21,CH21,CP21,CX21,DF21,DN21,DV21) -> #VALUE! | EG21: =MODE(BC21,BK21,BS21,CA21,CI21,CQ21,CY21,DG21,DO21,DW21) -> #VALUE! | EH21: =IF(AND(EG21=0),0,1) -> #VALUE! | EI21: =ABS(AS21-EF20) -> #VALUE! | EK21: =SUM(EH20+EH21) -> #VALUE!
A22: A | C22: =VLOOKUP(A21,$F$1:$AQ$39,A22+2) -> #VALUE! | D22: =IF(ISNA(C22),0,C22) -> #VALUE! | F22: 20 | G22: 13 | H22: 1 | I22: 18 | J22: 11 | K22: 17 | L22: 5 | M22: 14 | N22: 7 | O22: 8 | P22: 3 | Q22: 6 | R22: 10 | S22: 9 | T22: 12 | U22: 1 | V22: 15 | W22: 3 | X22: 16 | Y22: 5 | Z22: 16 | AA22: 0 | AB22: 18 | AC22: 4 | AD22: 7 | AE22: 4 | AF22: 17 | AG22: 12 | AH22: 13 | AI22: 8 | AJ22: 6 | AK22: 9 | AL22: 2 | AM22: 14 | AN22: 2 | AO22: 15 | AP22: 10 | AQ22: 11 | AR22: 20 | AS22: =IF(AND(D22>0,D22<=6),1,IF(AND(D22>6,D22<=12),2,IF(AND(D22>12,D22<=18),3,IF(AND(D22>18,D22<=24),-3,IF(AND(D22>24,D22<=30),-2,IF(AND(D22>30,D22<=36),-1,0)))))) -> #VALUE! | AT22: =MODE(AS20:AS22) -> #VALUE! | AU22: =ABS(AS22-AT21) -> #VALUE! | AV22: =COUNTIF(AU11:AU22,"0") -> 0 | AW22: =COUNTIF(AU11:AU22,">=0") -> 0 | AX22: =AV22/AW22 -> #DIV/0! | BB22: =MODE(AS19:AS22) -> #VALUE! | BC22: =ABS(AS22-BB21) -> #VALUE! | BD22: =COUNTIF(BC11:BC22,"0") -> 0 | BE22: =COUNTIF(BC11:BC22,">=0") -> 0 | BF22: =BD22/BE22 -> #DIV/0! | BJ22: =MODE(AS18:AS22) -> #VALUE! | BK22: =ABS(AS22-BJ21) -> #VALUE! | BL22: =COUNTIF(BK11:BK22,"0") -> 0 | BM22: =COUNTIF(BK11:BK22,">=0") -> 0 | BN22: =BL22/BM22 -> #DIV/0! | BR22: =MODE(AS17:AS22) -> #VALUE! | BS22: =ABS(AS22-BR21) -> #VALUE! | BT22: =COUNTIF(BS11:BS22,"0") -> 0 | BU22: =COUNTIF(BS11:BS22,">=0") -> 0 | BV22: =BT22/BU22 -> #DIV/0! | BZ22: =MODE(AS16:AS22) -> #VALUE! | CA22: =ABS(AS22-BZ21) -> #VALUE! | CB22: =COUNTIF(CA11:CA22,"0") -> 0 | CC22: =COUNTIF(CA11:CA22,">=0") -> 0 | CD22: =CB22/CC22 -> #DIV/0! | CH22: =MODE(AS15:AS22) -> #VALUE! | CI22: =ABS(AS22-CH21) -> #VALUE! | CJ22: =COUNTIF(CI11:CI22,"0") -> 0 | CK22: =COUNTIF(CI11:CI22,">=0") -> 0 | CL22: =CJ22/CK22 -> #DIV/0! | CP22: =MODE(AS14:AS22) -> #VALUE! | CQ22: =ABS(AS22-CP21) -> #VALUE! | CX22: =MODE(AS13:AS22) -> #VALUE! | CY22: =ABS(AS22-CX21) -> #VALUE! | DF22: =MODE(AS12:AS22) -> #VALUE! | DG22: =ABS(AS22-DF21) -> #VALUE! | DN22: =MODE(AS11:AS22) -> #VALUE! | DO22: =ABS(AS22-DN21) -> #VALUE! | DV22: =MODE(AS10:AS22) -> #VALUE! | DW22: =ABS(AS22-DV21) -> #VALUE! | EF22: =MODE(BB22,BJ22,BR22,BZ22,CH22,CP22,CX22,DF22,DN22,DV22) -> #VALUE! | EG22: =MODE(BC22,BK22,BS22,CA22,CI22,CQ22,CY22,DG22,DO22,DW22) -> #VALUE! | EH22: =IF(AND(EG22=0),0,1) -> #VALUE! | EI22: =ABS(AS22-EF21) -> #VALUE! | EK22: =SUM(EH21+EH22) -> #VALUE!
A23: A | C23: =VLOOKUP(A22,$F$1:$AQ$39,A23+2) -> #VALUE! | D23: =IF(ISNA(C23),0,C23) -> #VALUE! | F23: 21 | G23: 5 | H23: 18 | I23: 1 | J23: 7 | K23: 1 | L23: 14 | M23: 5 | N23: 11 | O23: 11 | P23: 15 | Q23: 13 | R23: 9 | S23: 9 | T23: 7 | U23: 17 | V23: 3 | W23: 16 | X23: 3 | Y23: 13 | Z23: 2 | AA23: 18 | AB23: 0 | AC23: 14 | AD23: 12 | AE23: 15 | AF23: 2 | AG23: 6 | AH23: 6 | AI23: 10 | AJ23: 12 | AK23: 10 | AL23: 16 | AM23: 4 | AN23: 17 | AO23: 4 | AP23: 8 | AQ23: 8 | AR23: 21 | AS23: =IF(AND(D23>0,D23<=6),1,IF(AND(D23>6,D23<=12),2,IF(AND(D23>12,D23<=18),3,IF(AND(D23>18,D23<=24),-3,IF(AND(D23>24,D23<=30),-2,IF(AND(D23>30,D23<=36),-1,0)))))) -> #VALUE! | AT23: =MODE(AS21:AS23) -> #VALUE! | AU23: =ABS(AS23-AT22) -> #VALUE! | AV23: =COUNTIF(AU12:AU23,"0") -> 0 | AW23: =COUNTIF(AU12:AU23,">=0") -> 0 | AX23: =AV23/AW23 -> #DIV/0! | BB23: =MODE(AS20:AS23) -> #VALUE! | BC23: =ABS(AS23-BB22) -> #VALUE! | BD23: =COUNTIF(BC12:BC23,"0") -> 0 | BE23: =COUNTIF(BC12:BC23,">=0") -> 0 | BF23: =BD23/BE23 -> #DIV/0! | BJ23: =MODE(AS19:AS23) -> #VALUE! | BK23: =ABS(AS23-BJ22) -> #VALUE! | BL23: =COUNTIF(BK12:BK23,"0") -> 0 | BM23: =COUNTIF(BK12:BK23,">=0") -> 0 | BN23: =BL23/BM23 -> #DIV/0! | BR23: =MODE(AS18:AS23) -> #VALUE! | BS23: =ABS(AS23-BR22) -> #VALUE! | BT23: =COUNTIF(BS12:BS23,"0") -> 0 | BU23: =COUNTIF(BS12:BS23,">=0") -> 0 | BV23: =BT23/BU23 -> #DIV/0! | BZ23: =MODE(AS17:AS23) -> #VALUE! | CA23: =ABS(AS23-BZ22) -> #VALUE! | CB23: =COUNTIF(CA12:CA23,"0") -> 0 | CC23: =COUNTIF(CA12:CA23,">=0") -> 0 | CD23: =CB23/CC23 -> #DIV/0! | CH23: =MODE(AS16:AS23) -> #VALUE! | CI23: =ABS(AS23-CH22) -> #VALUE! | CJ23: =COUNTIF(CI12:CI23,"0") -> 0 | CK23: =COUNTIF(CI12:CI23,">=0") -> 0 | CL23: =CJ23/CK23 -> #DIV/0! | CP23: =MODE(AS15:AS23) -> #VALUE! | CQ23: =ABS(AS23-CP22) -> #VALUE! | CR23: =COUNTIF(CQ12:CQ23,"0") -> 0 | CS23: =COUNTIF(CQ12:CQ23,">=0") -> 0 | CT23: =CR23/CS23 -> #DIV/0! | CX23: =MODE(AS14:AS23) -> #VALUE! | CY23: =ABS(AS23-CX22) -> #VALUE! | DF23: =MODE(AS13:AS23) -> #VALUE! | DG23: =ABS(AS23-DF22) -> #VALUE! | DN23: =MODE(AS12:AS23) -> #VALUE! | DO23: =ABS(AS23-DN22) -> #VALUE! | DV23: =MODE(AS11:AS23) -> #VALUE! | DW23: =ABS(AS23-DV22) -> #VALUE! | EF23: =MODE(BB23,BJ23,BR23,BZ23,CH23,CP23,CX23,DF23,DN23,DV23) -> #VALUE! | EG23: =MODE(BC23,BK23,BS23,CA23,CI23,CQ23,CY23,DG23,DO23,DW23) -> #VALUE! | EH23: =IF(AND(EG23=0),0,1) -> #VALUE! | EI23: =ABS(AS23-EF22) -> #VALUE! | EK23: =SUM(EH22+EH23) -> #VALUE!
A24: A | C24: =VLOOKUP(A23,$F$1:$AQ$39,A24+2) -> #VALUE! | D24: =IF(ISNA(C24),0,C24) -> #VALUE! | F24: 22 | G24: 9 | H24: 5 | I24: 15 | J24: 7 | K24: 13 | L24: 9 | M24: 18 | N24: 3 | O24: 12 | P24: 1 | Q24: 10 | R24: 14 | S24: 5 | T24: 16 | U24: 3 | V24: 11 | W24: 7 | X24: 17 | Y24: 1 | Z24: 12 | AA24: 4 | AB24: 14 | AC24: 0 | AD24: 11 | AE24: 8 | AF24: 16 | AG24: 8 | AH24: 17 | AI24: 4 | AJ24: 2 | AK24: 13 | AL24: 2 | AM24: 10 | AN24: 6 | AO24: 18 | AP24: 6 | AQ24: 15 | AR24: 22 | AS24: =IF(AND(D24>0,D24<=6),1,IF(AND(D24>6,D24<=12),2,IF(AND(D24>12,D24<=18),3,IF(AND(D24>18,D24<=24),-3,IF(AND(D24>24,D24<=30),-2,IF(AND(D24>30,D24<=36),-1,0)))))) -> #VALUE! | AT24: =MODE(AS22:AS24) -> #VALUE! | AU24: =ABS(AS24-AT23) -> #VALUE! | AV24: =COUNTIF(AU13:AU24,"0") -> 0 | AW24: =COUNTIF(AU13:AU24,">=0") -> 0 | AX24: =AV24/AW24 -> #DIV/0! | BB24: =MODE(AS21:AS24) -> #VALUE! | BC24: =ABS(AS24-BB23) -> #VALUE! | BD24: =COUNTIF(BC13:BC24,"0") -> 0 | BE24: =COUNTIF(BC13:BC24,">=0") -> 0 | BF24: =BD24/BE24 -> #DIV/0! | BJ24: =MODE(AS20:AS24) -> #VALUE! | BK24: =ABS(AS24-BJ23) -> #VALUE! | BL24: =COUNTIF(BK13:BK24,"0") -> 0 | BM24: =COUNTIF(BK13:BK24,">=0") -> 0 | BN24: =BL24/BM24 -> #DIV/0! | BR24: =MODE(AS19:AS24) -> #VALUE! | BS24: =ABS(AS24-BR23) -> #VALUE! | BT24: =COUNTIF(BS13:BS24,"0") -> 0 | BU24: =COUNTIF(BS13:BS24,">=0") -> 0 | BV24: =BT24/BU24 -> #DIV/0! | BZ24: =MODE(AS18:AS24) -> #VALUE! | CA24: =ABS(AS24-BZ23) -> #VALUE! | CB24: =COUNTIF(CA13:CA24,"0") -> 0 | CC24: =COUNTIF(CA13:CA24,">=0") -> 0 | CD24: =CB24/CC24 -> #DIV/0! | CH24: =MODE(AS17:AS24) -> #VALUE! | CI24: =ABS(AS24-CH23) -> #VALUE! | CJ24: =COUNTIF(CI13:CI24,"0") -> 0 | CK24: =COUNTIF(CI13:CI24,">=0") -> 0 | CL24: =CJ24/CK24 -> #DIV/0! | CP24: =MODE(AS16:AS24) -> #VALUE! | CQ24: =ABS(AS24-CP23) -> #VALUE! | CR24: =COUNTIF(CQ13:CQ24,"0") -> 0 | CS24: =COUNTIF(CQ13:CQ24,">=0") -> 0 | CT24: =CR24/CS24 -> #DIV/0! | CX24: =MODE(AS15:AS24) -> #VALUE! | CY24: =ABS(AS24-CX23) -> #VALUE! | CZ24: =COUNTIF(CY13:CY24,"0") -> 0 | DA24: =COUNTIF(CY13:CY24,">=0") -> 0 | DB24: =CZ24/DA24 -> #DIV/0! | DF24: =MODE(AS14:AS24) -> #VALUE! | DG24: =ABS(AS24-DF23) -> #VALUE! | DN24: =MODE(AS13:AS24) -> #VALUE! | DO24: =ABS(AS24-DN23) -> #VALUE! | DV24: =MODE(AS12:AS24) -> #VALUE! | DW24: =ABS(AS24-DV23) -> #VALUE! | EF24: =MODE(BB24,BJ24,BR24,BZ24,CH24,CP24,CX24,DF24,DN24,DV24) -> #VALUE! | EG24: =MODE(BC24,BK24,BS24,CA24,CI24,CQ24,CY24,DG24,DO24,DW24) -> #VALUE! | EH24: =IF(AND(EG24=0),0,1) -> #VALUE! | EI24: =ABS(AS24-EF23) -> #VALUE! | EK24: =SUM(EH23+EH24) -> #VALUE!
A25: A | C25: =VLOOKUP(A24,$F$1:$AQ$39,A25+2) -> #VALUE! | D25: =IF(ISNA(C25),0,C25) -> #VALUE! | F25: 23 | G25: 17 | H25: 6 | I25: 11 | J25: 18 | K25: 13 | L25: 2 | M25: 7 | N25: 14 | O25: 1 | P25: 10 | Q25: 1 | R25: 3 | S25: 16 | T25: 5 | U25: 8 | V25: 15 | W25: 4 | X25: 9 | Y25: 12 | Z25: 14 | AA25: 7 | AB25: 12 | AC25: 11 | AD25: 0 | AE25: 3 | AF25: 10 | AG25: 18 | AH25: 6 | AI25: 15 | AJ25: 13 | AK25: 2 | AL25: 9 | AM25: 16 | AN25: 5 | AO25: 8 | AP25: 17 | AQ25: 4 | AR25: 23 | AS25: =IF(AND(D25>0,D25<=6),1,IF(AND(D25>6,D25<=12),2,IF(AND(D25>12,D25<=18),3,IF(AND(D25>18,D25<=24),-3,IF(AND(D25>24,D25<=30),-2,IF(AND(D25>30,D25<=36),-1,0)))))) -> #VALUE! | AT25: =MODE(AS23:AS25) -> #VALUE! | AU25: =ABS(AS25-AT24) -> #VALUE! | AV25: =COUNTIF(AU14:AU25,"0") -> 0 | AW25: =COUNTIF(AU14:AU25,">=0") -> 0 | AX25: =AV25/AW25 -> #DIV/0! | BB25: =MODE(AS22:AS25) -> #VALUE! | BC25: =ABS(AS25-BB24) -> #VALUE! | BD25: =COUNTIF(BC14:BC25,"0") -> 0 | BE25: =COUNTIF(BC14:BC25,">=0") -> 0 | BF25: =BD25/BE25 -> #DIV/0! | BJ25: =MODE(AS21:AS25) -> #VALUE! | BK25: =ABS(AS25-BJ24) -> #VALUE! | BL25: =COUNTIF(BK14:BK25,"0") -> 0 | BM25: =COUNTIF(BK14:BK25,">=0") -> 0 | BN25: =BL25/BM25 -> #DIV/0! | BR25: =MODE(AS20:AS25) -> #VALUE! | BS25: =ABS(AS25-BR24) -> #VALUE! | BT25: =COUNTIF(BS14:BS25,"0") -> 0 | BU25: =COUNTIF(BS14:BS25,">=0") -> 0 | BV25: =BT25/BU25 -> #DIV/0! | BZ25: =MODE(AS19:AS25) -> #VALUE! | CA25: =ABS(AS25-BZ24) -> #VALUE! | CB25: =COUNTIF(CA14:CA25,"0") -> 0 | CC25: =COUNTIF(CA14:CA25,">=0") -> 0 | CD25: =CB25/CC25 -> #DIV/0! | CH25: =MODE(AS18:AS25) -> #VALUE! | CI25: =ABS(AS25-CH24) -> #VALUE! | CJ25: =COUNTIF(CI14:CI25,"0") -> 0 | CK25: =COUNTIF(CI14:CI25,">=0") -> 0 | CL25: =CJ25/CK25 -> #DIV/0! | CP25: =MODE(AS17:AS25) -> #VALUE! | CQ25: =ABS(AS25-CP24) -> #VALUE! | CR25: =COUNTIF(CQ14:CQ25,"0") -> 0 | CS25: =COUNTIF(CQ14:CQ25,">=0") -> 0 | CT25: =CR25/CS25 -> #DIV/0! | CX25: =MODE(AS16:AS25) -> #VALUE! | CY25: =ABS(AS25-CX24) -> #VALUE! | CZ25: =COUNTIF(CY14:CY25,"0") -> 0 | DA25: =COUNTIF(CY14:CY25,">=0") -> 0 | DB25: =CZ25/DA25 -> #DIV/0! | DF25: =MODE(AS15:AS25) -> #VALUE! | DG25: =ABS(AS25-DF24) -> #VALUE! | DH25: =COUNTIF(DG14:DG25,"0") -> 0 | DI25: =COUNTIF(DG14:DG25,">=0") -> 0 | DJ25: =DH25/DI25 -> #DIV/0! | DN25: =MODE(AS14:AS25) -> #VALUE! | DO25: =ABS(AS25-DN24) -> #VALUE! | DV25: =MODE(AS13:AS25) -> #VALUE! | DW25: =ABS(AS25-DV24) -> #VALUE! | EF25: =MODE(BB25,BJ25,BR25,BZ25,CH25,CP25,CX25,DF25,DN25,DV25) -> #VALUE! | EG25: =MODE(BC25,BK25,BS25,CA25,CI25,CQ25,CY25,DG25,DO25,DW25) -> #VALUE! | EH25: =IF(AND(EG25=0),0,1) -> #VALUE! | EI25: =ABS(AS25-EF24) -> #VALUE! | EK25: =SUM(EH24+EH25) -> #VALUE!
A26: A | C26: =VLOOKUP(A25,$F$1:$AQ$39,A26+2) -> #VALUE! | D26: =IF(ISNA(C26),0,C26) -> #VALUE! | F26: 24 | G26: 17 | H26: 3 | I26: 14 | J26: 15 | K26: 16 | L26: 1 | M26: 10 | N26: 11 | O26: 4 | P26: 7 | Q26: 2 | R26: 6 | S26: 13 | T26: 8 | U26: 5 | V26: 18 | W26: 1 | X26: 12 | Y26: 9 | Z26: 17 | AA26: 4 | AB26: 15 | AC26: 8 | AD26: 3 | AE26: 0 | AF26: 13 | AG26: 16 | AH26: 9 | AI26: 12 | AJ26: 10 | AK26: 5 | AL26: 6 | AM26: 18 | AN26: 2 | AO26: 11 | AP26: 14 | AQ26: 7 | AR26: 24 | AS26: =IF(AND(D26>0,D26<=6),1,IF(AND(D26>6,D26<=12),2,IF(AND(D26>12,D26<=18),3,IF(AND(D26>18,D26<=24),-3,IF(AND(D26>24,D26<=30),-2,IF(AND(D26>30,D26<=36),-1,0)))))) -> #VALUE! | AT26: =MODE(AS24:AS26) -> #VALUE! | AU26: =ABS(AS26-AT25) -> #VALUE! | AV26: =COUNTIF(AU15:AU26,"0") -> 0 | AW26: =COUNTIF(AU15:AU26,">=0") -> 0 | AX26: =AV26/AW26 -> #DIV/0! | BB26: =MODE(AS23:AS26) -> #VALUE! | BC26: =ABS(AS26-BB25) -> #VALUE! | BD26: =COUNTIF(BC15:BC26,"0") -> 0 | BE26: =COUNTIF(BC15:BC26,">=0") -> 0 | BF26: =BD26/BE26 -> #DIV/0! | BJ26: =MODE(AS22:AS26) -> #VALUE! | BK26: =ABS(AS26-BJ25) -> #VALUE! | BL26: =COUNTIF(BK15:BK26,"0") -> 0 | BM26: =COUNTIF(BK15:BK26,">=0") -> 0 | BN26: =BL26/BM26 -> #DIV/0! | BR26: =MODE(AS21:AS26) -> #VALUE! | BS26: =ABS(AS26-BR25) -> #VALUE! | BT26: =COUNTIF(BS15:BS26,"0") -> 0 | BU26: =COUNTIF(BS15:BS26,">=0") -> 0 | BV26: =BT26/BU26 -> #DIV/0! | BZ26: =MODE(AS20:AS26) -> #VALUE! | CA26: =ABS(AS26-BZ25) -> #VALUE! | CB26: =COUNTIF(CA15:CA26,"0") -> 0 | CC26: =COUNTIF(CA15:CA26,">=0") -> 0 | CD26: =CB26/CC26 -> #DIV/0! | CH26: =MODE(AS19:AS26) -> #VALUE! | CI26: =ABS(AS26-CH25) -> #VALUE! | CJ26: =COUNTIF(CI15:CI26,"0") -> 0 | CK26: =COUNTIF(CI15:CI26,">=0") -> 0 | CL26: =CJ26/CK26 -> #DIV/0! | CP26: =MODE(AS18:AS26) -> #VALUE! | CQ26: =ABS(AS26-CP25) -> #VALUE! | CR26: =COUNTIF(CQ15:CQ26,"0") -> 0 | CS26: =COUNTIF(CQ15:CQ26,">=0") -> 0 | CT26: =CR26/CS26 -> #DIV/0! | CX26: =MODE(AS17:AS26) -> #VALUE! | CY26: =ABS(AS26-CX25) -> #VALUE! | CZ26: =COUNTIF(CY15:CY26,"0") -> 0 | DA26: =COUNTIF(CY15:CY26,">=0") -> 0 | DB26: =CZ26/DA26 -> #DIV/0! | DF26: =MODE(AS16:AS26) -> #VALUE! | DG26: =ABS(AS26-DF25) -> #VALUE! | DH26: =COUNTIF(DG15:DG26,"0") -> 0 | DI26: =COUNTIF(DG15:DG26,">=0") -> 0 | DJ26: =DH26/DI26 -> #DIV/0! | DN26: =MODE(AS15:AS26) -> #VALUE! | DO26: =ABS(AS26-DN25) -> #VALUE! | DP26: =COUNTIF(DO15:DO26,"0") -> 0 | DQ26: =COUNTIF(DO15:DO26,">=0") -> 0 | DR26: =DP26/DQ26 -> #DIV/0! | DV26: =MODE(AS14:AS26) -> #VALUE! | DW26: =ABS(AS26-DV25) -> #VALUE! | EF26: =MODE(BB26,BJ26,BR26,BZ26,CH26,CP26,CX26,DF26,DN26,DV26) -> #VALUE! | EG26: =MODE(BC26,BK26,BS26,CA26,CI26,CQ26,CY26,DG26,DO26,DW26) -> #VALUE! | EH26: =IF(AND(EG26=0),0,1) -> #VALUE! | EI26: =ABS(AS26-EF25) -> #VALUE! | EK26: =SUM(EH25+EH26) -> #VALUE!
A27: A | C27: =VLOOKUP(A26,$F$1:$AQ$39,A27+2) -> #VALUE! | D27: =IF(ISNA(C27),0,C27) -> #VALUE! | F27: 25 | G27: 7 | H27: 16 | I27: 1 | J27: 9 | K27: 3 | L27: 12 | M27: 3 | N27: 13 | O27: 9 | P27: 17 | Q27: 11 | R27: 7 | S27: 11 | T27: 5 | U27: 18 | V27: 5 | W27: 14 | X27: 1 | Y27: 15 | Z27: 4 | AA27: 17 | AB27: 2 | AC27: 16 | AD27: 10 | AE27: 13 | AF27: 0 | AG27: 8 | AH27: 4 | AI27: 12 | AJ27: 14 | AK27: 8 | AL27: 18 | AM27: 6 | AN27: 15 | AO27: 2 | AP27: 10 | AQ27: 6 | AR27: 25 | AS27: =IF(AND(D27>0,D27<=6),1,IF(AND(D27>6,D27<=12),2,IF(AND(D27>12,D27<=18),3,IF(AND(D27>18,D27<=24),-3,IF(AND(D27>24,D27<=30),-2,IF(AND(D27>30,D27<=36),-1,0)))))) -> #VALUE! | AT27: =MODE(AS25:AS27) -> #VALUE! | AU27: =ABS(AS27-AT26) -> #VALUE! | AV27: =COUNTIF(AU16:AU27,"0") -> 0 | AW27: =COUNTIF(AU16:AU27,">=0") -> 0 | AX27: =AV27/AW27 -> #DIV/0! | BB27: =MODE(AS24:AS27) -> #VALUE! | BC27: =ABS(AS27-BB26) -> #VALUE! | BD27: =COUNTIF(BC16:BC27,"0") -> 0 | BE27: =COUNTIF(BC16:BC27,">=0") -> 0 | BF27: =BD27/BE27 -> #DIV/0! | BJ27: =MODE(AS23:AS27) -> #VALUE! | BK27: =ABS(AS27-BJ26) -> #VALUE! | BL27: =COUNTIF(BK16:BK27,"0") -> 0 | BM27: =COUNTIF(BK16:BK27,">=0") -> 0 | BN27: =BL27/BM27 -> #DIV/0! | BR27: =MODE(AS22:AS27) -> #VALUE! | BS27: =ABS(AS27-BR26) -> #VALUE! | BT27: =COUNTIF(BS16:BS27,"0") -> 0 | BU27: =COUNTIF(BS16:BS27,">=0") -> 0 | BV27: =BT27/BU27 -> #DIV/0! | BZ27: =MODE(AS21:AS27) -> #VALUE! | CA27: =ABS(AS27-BZ26) -> #VALUE! | CB27: =COUNTIF(CA16:CA27,"0") -> 0 | CC27: =COUNTIF(CA16:CA27,">=0") -> 0 | CD27: =CB27/CC27 -> #DIV/0! | CH27: =MODE(AS20:AS27) -> #VALUE! | CI27: =ABS(AS27-CH26) -> #VALUE! | CJ27: =COUNTIF(CI16:CI27,"0") -> 0 | CK27: =COUNTIF(CI16:CI27,">=0") -> 0 | CL27: =CJ27/CK27 -> #DIV/0! | CP27: =MODE(AS19:AS27) -> #VALUE! | CQ27: =ABS(AS27-CP26) -> #VALUE! | CR27: =COUNTIF(CQ16:CQ27,"0") -> 0 | CS27: =COUNTIF(CQ16:CQ27,">=0") -> 0 | CT27: =CR27/CS27 -> #DIV/0! | CX27: =MODE(AS18:AS27) -> #VALUE! | CY27: =ABS(AS27-CX26) -> #VALUE! | CZ27: =COUNTIF(CY16:CY27,"0") -> 0 | DA27: =COUNTIF(CY16:CY27,">=0") -> 0 | DB27: =CZ27/DA27 -> #DIV/0! | DF27: =MODE(AS17:AS27) -> #VALUE! | DG27: =ABS(AS27-DF26) -> #VALUE! | DH27: =COUNTIF(DG16:DG27,"0") -> 0 | DI27: =COUNTIF(DG16:DG27,">=0") -> 0 | DJ27: =DH27/DI27 -> #DIV/0! | DN27: =MODE(AS16:AS27) -> #VALUE! | DO27: =ABS(AS27-DN26) -> #VALUE! | DP27: =COUNTIF(DO16:DO27,"0") -> 0 | DQ27: =COUNTIF(DO16:DO27,">=0") -> 0 | DR27: =DP27/DQ27 -> #DIV/0! | DV27: =MODE(AS15:AS27) -> #VALUE! | DW27: =ABS(AS27-DV26) -> #VALUE! | DX27: =COUNTIF(DW16:DW27,"0") -> 0 | DY27: =COUNTIF(DW16:DW27,">=0") -> 0 | DZ27: =DX27/DY27 -> #DIV/0! | EF27: =MODE(BB27,BJ27,BR27,BZ27,CH27,CP27,CX27,DF27,DN27,DV27) -> #VALUE! | EG27: =MODE(BC27,BK27,BS27,CA27,CI27,CQ27,CY27,DG27,DO27,DW27) -> #VALUE! | EH27: =IF(AND(EG27=0),0,1) -> #VALUE! | EI27: =ABS(AS27-EF26) -> #VALUE! | EK27: =SUM(EH26+EH27) -> #VALUE!
A28: A | C28: =VLOOKUP(A27,$F$1:$AQ$39,A28+2) -> #VALUE! | D28: =IF(ISNA(C28),0,C28) -> #VALUE! | F28: 26 | G28: 1 | H28: 13 | I28: 7 | J28: 1 | K28: 5 | L28: 17 | M28: 11 | N28: 5 | O28: 17 | P28: 9 | Q28: 18 | R28: 15 | S28: 3 | T28: 13 | U28: 11 | V28: 3 | W28: 15 | X28: 9 | Y28: 7 | Z28: 4 | AA28: 12 | AB28: 6 | AC28: 8 | AD28: 18 | AE28: 16 | AF28: 8 | AG28: 0 | AH28: 12 | AI28: 4 | AJ28: 6 | AK28: 16 | AL28: 10 | AM28: 2 | AN28: 14 | AO28: 10 | AP28: 2 | AQ28: 14 | AR28: 26 | AS28: =IF(AND(D28>0,D28<=6),1,IF(AND(D28>6,D28<=12),2,IF(AND(D28>12,D28<=18),3,IF(AND(D28>18,D28<=24),-3,IF(AND(D28>24,D28<=30),-2,IF(AND(D28>30,D28<=36),-1,0)))))) -> #VALUE! | AT28: =MODE(AS26:AS28) -> #VALUE! | AU28: =ABS(AS28-AT27) -> #VALUE! | AV28: =COUNTIF(AU17:AU28,"0") -> 0 | AW28: =COUNTIF(AU17:AU28,">=0") -> 0 | AX28: =AV28/AW28 -> #DIV/0! | BB28: =MODE(AS25:AS28) -> #VALUE! | BC28: =ABS(AS28-BB27) -> #VALUE! | BD28: =COUNTIF(BC17:BC28,"0") -> 0 | BE28: =COUNTIF(BC17:BC28,">=0") -> 0 | BF28: =BD28/BE28 -> #DIV/0! | BJ28: =MODE(AS24:AS28) -> #VALUE! | BK28: =ABS(AS28-BJ27) -> #VALUE! | BL28: =COUNTIF(BK17:BK28,"0") -> 0 | BM28: =COUNTIF(BK17:BK28,">=0") -> 0 | BN28: =BL28/BM28 -> #DIV/0! | BR28: =MODE(AS23:AS28) -> #VALUE! | BS28: =ABS(AS28-BR27) -> #VALUE! | BT28: =COUNTIF(BS17:BS28,"0") -> 0 | BU28: =COUNTIF(BS17:BS28,">=0") -> 0 | BV28: =BT28/BU28 -> #DIV/0! | BZ28: =MODE(AS22:AS28) -> #VALUE! | CA28: =ABS(AS28-BZ27) -> #VALUE! | CB28: =COUNTIF(CA17:CA28,"0") -> 0 | CC28: =COUNTIF(CA17:CA28,">=0") -> 0 | CD28: =CB28/CC28 -> #DIV/0! | CH28: =MODE(AS21:AS28) -> #VALUE! | CI28: =ABS(AS28-CH27) -> #VALUE! | CJ28: =COUNTIF(CI17:CI28,"0") -> 0 | CK28: =COUNTIF(CI17:CI28,">=0") -> 0 | CL28: =CJ28/CK28 -> #DIV/0! | CP28: =MODE(AS20:AS28) -> #VALUE! | CQ28: =ABS(AS28-CP27) -> #VALUE! | CR28: =COUNTIF(CQ17:CQ28,"0") -> 0 | CS28: =COUNTIF(CQ17:CQ28,">=0") -> 0 | CT28: =CR28/CS28 -> #DIV/0! | CX28: =MODE(AS19:AS28) -> #VALUE! | CY28: =ABS(AS28-CX27) -> #VALUE! | CZ28: =COUNTIF(CY17:CY28,"0") -> 0 | DA28: =COUNTIF(CY17:CY28,">=0") -> 0 | DB28: =CZ28/DA28 -> #DIV/0! | DF28: =MODE(AS18:AS28) -> #VALUE! | DG28: =ABS(AS28-DF27) -> #VALUE! | DH28: =COUNTIF(DG17:DG28,"0") -> 0 | DI28: =COUNTIF(DG17:DG28,">=0") -> 0 | DJ28: =DH28/DI28 -> #DIV/0! | DN28: =MODE(AS17:AS28) -> #VALUE! | DO28: =ABS(AS28-DN27) -> #VALUE! | DP28: =COUNTIF(DO17:DO28,"0") -> 0 | DQ28: =COUNTIF(DO17:DO28,">=0") -> 0 | DR28: =DP28/DQ28 -> #DIV/0! | DV28: =MODE(AS16:AS28) -> #VALUE! | DW28: =ABS(AS28-DV27) -> #VALUE! | DX28: =COUNTIF(DW17:DW28,"0") -> 0 | DY28: =COUNTIF(DW17:DW28,">=0") -> 0 | DZ28: =DX28/DY28 -> #DIV/0! | EF28: =MODE(BB28,BJ28,BR28,BZ28,CH28,CP28,CX28,DF28,DN28,DV28) -> #VALUE! | EG28: =MODE(BC28,BK28,BS28,CA28,CI28,CQ28,CY28,DG28,DO28,DW28) -> #VALUE! | EH28: =IF(AND(EG28=0),0,1) -> #VALUE! | EI28: =ABS(AS28-EF27) -> #VALUE! | EK28: =SUM(EH27+EH28) -> #VALUE!
A29: A | C29: =VLOOKUP(A28,$F$1:$AQ$39,A29+2) -> #VALUE! | D29: =IF(ISNA(C29),0,C29) -> #VALUE! | F29: 27 | G29: 11 | H29: 12 | I29: 5 | J29: 13 | K29: 7 | L29: 8 | M29: 1 | N29: 17 | O29: 5 | P29: 16 | Q29: 7 | R29: 3 | S29: 15 | T29: 1 | U29: 14 | V29: 9 | W29: 10 | X29: 3 | Y29: 18 | Z29: 8 | AA29: 13 | AB29: 6 | AC29: 17 | AD29: 6 | AE29: 9 | AF29: 4 | AG29: 12 | AH29: 0 | AI29: 16 | AJ29: 18 | AK29: 4 | AL29: 15 | AM29: 10 | AN29: 11 | AO29: 2 | AP29: 14 | AQ29: 2 | AR29: 27 | AS29: =IF(AND(D29>0,D29<=6),1,IF(AND(D29>6,D29<=12),2,IF(AND(D29>12,D29<=18),3,IF(AND(D29>18,D29<=24),-3,IF(AND(D29>24,D29<=30),-2,IF(AND(D29>30,D29<=36),-1,0)))))) -> #VALUE! | AT29: =MODE(AS27:AS29) -> #VALUE! | AU29: =ABS(AS29-AT28) -> #VALUE! | AV29: =COUNTIF(AU18:AU29,"0") -> 0 | AW29: =COUNTIF(AU18:AU29,">=0") -> 0 | AX29: =AV29/AW29 -> #DIV/0! | AY29: =COUNTIF(AU6:AU29,"0") -> 0 | AZ29: =COUNTIF(AU6:AU29,">=0") -> 0 | BA29: =AY29/AZ29 -> #DIV/0! | BB29: =MODE(AS26:AS29) -> #VALUE! | BC29: =ABS(AS29-BB28) -> #VALUE! | BD29: =COUNTIF(BC18:BC29,"0") -> 0 | BE29: =COUNTIF(BC18:BC29,">=0") -> 0 | BF29: =BD29/BE29 -> #DIV/0! | BJ29: =MODE(AS25:AS29) -> #VALUE! | BK29: =ABS(AS29-BJ28) -> #VALUE! | BL29: =COUNTIF(BK18:BK29,"0") -> 0 | BM29: =COUNTIF(BK18:BK29,">=0") -> 0 | BN29: =BL29/BM29 -> #DIV/0! | BR29: =MODE(AS24:AS29) -> #VALUE! | BS29: =ABS(AS29-BR28) -> #VALUE! | BT29: =COUNTIF(BS18:BS29,"0") -> 0 | BU29: =COUNTIF(BS18:BS29,">=0") -> 0 | BV29: =BT29/BU29 -> #DIV/0! | BZ29: =MODE(AS23:AS29) -> #VALUE! | CA29: =ABS(AS29-BZ28) -> #VALUE! | CB29: =COUNTIF(CA18:CA29,"0") -> 0 | CC29: =COUNTIF(CA18:CA29,">=0") -> 0 | CD29: =CB29/CC29 -> #DIV/0! | CH29: =MODE(AS22:AS29) -> #VALUE! | CI29: =ABS(AS29-CH28) -> #VALUE! | CJ29: =COUNTIF(CI18:CI29,"0") -> 0 | CK29: =COUNTIF(CI18:CI29,">=0") -> 0 | CL29: =CJ29/CK29 -> #DIV/0! | CP29: =MODE(AS21:AS29) -> #VALUE! | CQ29: =ABS(AS29-CP28) -> #VALUE! | CR29: =COUNTIF(CQ18:CQ29,"0") -> 0 | CS29: =COUNTIF(CQ18:CQ29,">=0") -> 0 | CT29: =CR29/CS29 -> #DIV/0! | CX29: =MODE(AS20:AS29) -> #VALUE! | CY29: =ABS(AS29-CX28) -> #VALUE! | CZ29: =COUNTIF(CY18:CY29,"0") -> 0 | DA29: =COUNTIF(CY18:CY29,">=0") -> 0 | DB29: =CZ29/DA29 -> #DIV/0! | DF29: =MODE(AS19:AS29) -> #VALUE! | DG29: =ABS(AS29-DF28) -> #VALUE! | DH29: =COUNTIF(DG18:DG29,"0") -> 0 | DI29: =COUNTIF(DG18:DG29,">=0") -> 0 | DJ29: =DH29/DI29 -> #DIV/0! | DN29: =MODE(AS18:AS29) -> #VALUE! | DO29: =ABS(AS29-DN28) -> #VALUE! | DP29: =COUNTIF(DO18:DO29,"0") -> 0 | DQ29: =COUNTIF(DO18:DO29,">=0") -> 0 | DR29: =DP29/DQ29 -> #DIV/0! | DV29: =MODE(AS17:AS29) -> #VALUE! | DW29: =ABS(AS29-DV28) -> #VALUE! | DX29: =COUNTIF(DW18:DW29,"0") -> 0 | DY29: =COUNTIF(DW18:DW29,">=0") -> 0 | DZ29: =DX29/DY29 -> #DIV/0! | EF29: =MODE(BB29,BJ29,BR29,BZ29,CH29,CP29,CX29,DF29,DN29,DV29) -> #VALUE! | EG29: =MODE(BC29,BK29,BS29,CA29,CI29,CQ29,CY29,DG29,DO29,DW29) -> #VALUE! | EH29: =IF(AND(EG29=0),0,1) -> #VALUE! | EI29: =ABS(AS29-EF28) -> #VALUE! | EK29: =SUM(EH28+EH29) -> #VALUE!
A30: A | C30: =VLOOKUP(A29,$F$1:$AQ$39,A30+2) -> #VALUE! | D30: =IF(ISNA(C30),0,C30) -> #VALUE! | F30: 28 | G30: 5 | H30: 9 | I30: 11 | J30: 3 | K30: 9 | L30: 13 | M30: 15 | N30: 1 | O30: 16 | P30: 5 | Q30: 14 | R30: 18 | S30: 1 | T30: 17 | U30: 7 | V30: 7 | W30: 11 | X30: 13 | Y30: 3 | Z30: 8 | AA30: 8 | AB30: 10 | AC30: 4 | AD30: 15 | AE30: 12 | AF30: 12 | AG30: 4 | AH30: 16 | AI30: 0 | AJ30: 2 | AK30: 17 | AL30: 6 | AM30: 6 | AN30: 10 | AO30: 14 | AP30: 2 | AQ30: 18 | AR30: 28 | AS30: =IF(AND(D30>0,D30<=6),1,IF(AND(D30>6,D30<=12),2,IF(AND(D30>12,D30<=18),3,IF(AND(D30>18,D30<=24),-3,IF(AND(D30>24,D30<=30),-2,IF(AND(D30>30,D30<=36),-1,0)))))) -> #VALUE! | AT30: =MODE(AS28:AS30) -> #VALUE! | AU30: =ABS(AS30-AT29) -> #VALUE! | AV30: =COUNTIF(AU19:AU30,"0") -> 0 | AW30: =COUNTIF(AU19:AU30,">=0") -> 0 | AX30: =AV30/AW30 -> #DIV/0! | AY30: =COUNTIF(AU7:AU30,"0") -> 0 | AZ30: =COUNTIF(AU7:AU30,">=0") -> 0 | BA30: =AY30/AZ30 -> #DIV/0! | BB30: =MODE(AS27:AS30) -> #VALUE! | BC30: =ABS(AS30-BB29) -> #VALUE! | BD30: =COUNTIF(BC19:BC30,"0") -> 0 | BE30: =COUNTIF(BC19:BC30,">=0") -> 0 | BF30: =BD30/BE30 -> #DIV/0! | BG30: =COUNTIF(BC7:BC30,"0") -> 0 | BH30: =COUNTIF(BC7:BC30,">=0") -> 0 | BI30: =BG30/BH30 -> #DIV/0! | BJ30: =MODE(AS26:AS30) -> #VALUE! | BK30: =ABS(AS30-BJ29) -> #VALUE! | BL30: =COUNTIF(BK19:BK30,"0") -> 0 | BM30: =COUNTIF(BK19:BK30,">=0") -> 0 | BN30: =BL30/BM30 -> #DIV/0! | BR30: =MODE(AS25:AS30) -> #VALUE! | BS30: =ABS(AS30-BR29) -> #VALUE! | BT30: =COUNTIF(BS19:BS30,"0") -> 0 | BU30: =COUNTIF(BS19:BS30,">=0") -> 0 | BV30: =BT30/BU30 -> #DIV/0! | BZ30: =MODE(AS24:AS30) -> #VALUE! | CA30: =ABS(AS30-BZ29) -> #VALUE! | CB30: =COUNTIF(CA19:CA30,"0") -> 0 | CC30: =COUNTIF(CA19:CA30,">=0") -> 0 | CD30: =CB30/CC30 -> #DIV/0! | CH30: =MODE(AS23:AS30) -> #VALUE! | CI30: =ABS(AS30-CH29) -> #VALUE! | CJ30: =COUNTIF(CI19:CI30,"0") -> 0 | CK30: =COUNTIF(CI19:CI30,">=0") -> 0 | CL30: =CJ30/CK30 -> #DIV/0! | CP30: =MODE(AS22:AS30) -> #VALUE! | CQ30: =ABS(AS30-CP29) -> #VALUE! | CR30: =COUNTIF(CQ19:CQ30,"0") -> 0 | CS30: =COUNTIF(CQ19:CQ30,">=0") -> 0 | CT30: =CR30/CS30 -> #DIV/0! | CX30: =MODE(AS21:AS30) -> #VALUE! | CY30: =ABS(AS30-CX29) -> #VALUE! | CZ30: =COUNTIF(CY19:CY30,"0") -> 0 | DA30: =COUNTIF(CY19:CY30,">=0") -> 0 | DB30: =CZ30/DA30 -> #DIV/0! | DF30: =MODE(AS20:AS30) -> #VALUE! | DG30: =ABS(AS30-DF29) -> #VALUE! | DH30: =COUNTIF(DG19:DG30,"0") -> 0 | DI30: =COUNTIF(DG19:DG30,">=0") -> 0 | DJ30: =DH30/DI30 -> #DIV/0! | DN30: =MODE(AS19:AS30) -> #VALUE! | DO30: =ABS(AS30-DN29) -> #VALUE! | DP30: =COUNTIF(DO19:DO30,"0") -> 0 | DQ30: =COUNTIF(DO19:DO30,">=0") -> 0 | DR30: =DP30/DQ30 -> #DIV/0! | DV30: =MODE(AS18:AS30) -> #VALUE! | DW30: =ABS(AS30-DV29) -> #VALUE! | DX30: =COUNTIF(DW19:DW30,"0") -> 0 | DY30: =COUNTIF(DW19:DW30,">=0") -> 0 | DZ30: =DX30/DY30 -> #DIV/0! | EF30: =MODE(BB30,BJ30,BR30,BZ30,CH30,CP30,CX30,DF30,DN30,DV30) -> #VALUE! | EG30: =MODE(BC30,BK30,BS30,CA30,CI30,CQ30,CY30,DG30,DO30,DW30) -> #VALUE! | EH30: =IF(AND(EG30=0),0,1) -> #VALUE! | EI30: =ABS(AS30-EF29) -> #VALUE! | EK30: =SUM(EH29+EH30) -> #VALUE!
A31: A | C31: =VLOOKUP(A30,$F$1:$AQ$39,A31+2) -> #VALUE! | D31: =IF(ISNA(C31),0,C31) -> #VALUE! | F31: 29 | G31: 7 | H31: 7 | I31: 13 | J31: 5 | K31: 11 | L31: 11 | M31: 17 | N31: 1 | O31: 14 | P31: 3 | Q31: 12 | R31: 16 | S31: 3 | T31: 18 | U31: 5 | V31: 9 | W31: 9 | X31: 15 | Y31: 1 | Z31: 10 | AA31: 6 | AB31: 12 | AC31: 2 | AD31: 13 | AE31: 10 | AF31: 14 | AG31: 6 | AH31: 18 | AI31: 2 | AJ31: 0 | AK31: 15 | AL31: 4 | AM31: 8 | AN31: 8 | AO31: 16 | AP31: 4 | AQ31: 17 | AR31: 29 | AS31: =IF(AND(D31>0,D31<=6),1,IF(AND(D31>6,D31<=12),2,IF(AND(D31>12,D31<=18),3,IF(AND(D31>18,D31<=24),-3,IF(AND(D31>24,D31<=30),-2,IF(AND(D31>30,D31<=36),-1,0)))))) -> #VALUE! | AT31: =MODE(AS29:AS31) -> #VALUE! | AU31: =ABS(AS31-AT30) -> #VALUE! | AV31: =COUNTIF(AU20:AU31,"0") -> 0 | AW31: =COUNTIF(AU20:AU31,">=0") -> 0 | AX31: =AV31/AW31 -> #DIV/0! | AY31: =COUNTIF(AU8:AU31,"0") -> 0 | AZ31: =COUNTIF(AU8:AU31,">=0") -> 0 | BA31: =AY31/AZ31 -> #DIV/0! | BB31: =MODE(AS28:AS31) -> #VALUE! | BC31: =ABS(AS31-BB30) -> #VALUE! | BD31: =COUNTIF(BC20:BC31,"0") -> 0 | BE31: =COUNTIF(BC20:BC31,">=0") -> 0 | BF31: =BD31/BE31 -> #DIV/0! | BG31: =COUNTIF(BC8:BC31,"0") -> 0 | BH31: =COUNTIF(BC8:BC31,">=0") -> 0 | BI31: =BG31/BH31 -> #DIV/0! | BJ31: =MODE(AS27:AS31) -> #VALUE! | BK31: =ABS(AS31-BJ30) -> #VALUE! | BL31: =COUNTIF(BK20:BK31,"0") -> 0 | BM31: =COUNTIF(BK20:BK31,">=0") -> 0 | BN31: =BL31/BM31 -> #DIV/0! | BO31: =COUNTIF(BK8:BK31,"0") -> 0 | BP31: =COUNTIF(BK8:BK31,">=0") -> 0 | BQ31: =BO31/BP31 -> #DIV/0! | BR31: =MODE(AS26:AS31) -> #VALUE! | BS31: =ABS(AS31-BR30) -> #VALUE! | BT31: =COUNTIF(BS20:BS31,"0") -> 0 | BU31: =COUNTIF(BS20:BS31,">=0") -> 0 | BV31: =BT31/BU31 -> #DIV/0! | BZ31: =MODE(AS25:AS31) -> #VALUE! | CA31: =ABS(AS31-BZ30) -> #VALUE! | CB31: =COUNTIF(CA20:CA31,"0") -> 0 | CC31: =COUNTIF(CA20:CA31,">=0") -> 0 | CD31: =CB31/CC31 -> #DIV/0! | CH31: =MODE(AS24:AS31) -> #VALUE! | CI31: =ABS(AS31-CH30) -> #VALUE! | CJ31: =COUNTIF(CI20:CI31,"0") -> 0 | CK31: =COUNTIF(CI20:CI31,">=0") -> 0 | CL31: =CJ31/CK31 -> #DIV/0! | CP31: =MODE(AS23:AS31) -> #VALUE! | CQ31: =ABS(AS31-CP30) -> #VALUE! | CR31: =COUNTIF(CQ20:CQ31,"0") -> 0 | CS31: =COUNTIF(CQ20:CQ31,">=0") -> 0 | CT31: =CR31/CS31 -> #DIV/0! | CX31: =MODE(AS22:AS31) -> #VALUE! | CY31: =ABS(AS31-CX30) -> #VALUE! | CZ31: =COUNTIF(CY20:CY31,"0") -> 0 | DA31: =COUNTIF(CY20:CY31,">=0") -> 0 | DB31: =CZ31/DA31 -> #DIV/0! | DF31: =MODE(AS21:AS31) -> #VALUE! | DG31: =ABS(AS31-DF30) -> #VALUE! | DH31: =COUNTIF(DG20:DG31,"0") -> 0 | DI31: =COUNTIF(DG20:DG31,">=0") -> 0 | DJ31: =DH31/DI31 -> #DIV/0! | DN31: =MODE(AS20:AS31) -> #VALUE! | DO31: =ABS(AS31-DN30) -> #VALUE! | DP31: =COUNTIF(DO20:DO31,"0") -> 0 | DQ31: =COUNTIF(DO20:DO31,">=0") -> 0 | DR31: =DP31/DQ31 -> #DIV/0! | DV31: =MODE(AS19:AS31) -> #VALUE! | DW31: =ABS(AS31-DV30) -> #VALUE! | DX31: =COUNTIF(DW20:DW31,"0") -> 0 | DY31: =COUNTIF(DW20:DW31,">=0") -> 0 | DZ31: =DX31/DY31 -> #DIV/0! | EF31: =MODE(BB31,BJ31,BR31,BZ31,CH31,CP31,CX31,DF31,DN31,DV31) -> #VALUE! | EG31: =MODE(BC31,BK31,BS31,CA31,CI31,CQ31,CY31,DG31,DO31,DW31) -> #VALUE! | EH31: =IF(AND(EG31=0),0,1) -> #VALUE! | EI31: =ABS(AS31-EF30) -> #VALUE! | EK31: =SUM(EH30+EH31) -> #VALUE!
A32: A | C32: =VLOOKUP(A31,$F$1:$AQ$39,A32+2) -> #VALUE! | D32: =IF(ISNA(C32),0,C32) -> #VALUE! | F32: 30 | G32: 15 | H32: 8 | I32: 9 | J32: 17 | K32: 11 | L32: 4 | M32: 5 | N32: 16 | O32: 1 | P32: 12 | Q32: 3 | R32: 1 | S32: 18 | T32: 3 | U32: 10 | V32: 13 | W32: 6 | X32: 7 | Y32: 14 | Z32: 12 | AA32: 9 | AB32: 10 | AC32: 13 | AD32: 2 | AE32: 5 | AF32: 8 | AG32: 16 | AH32: 4 | AI32: 17 | AJ32: 15 | AK32: 0 | AL32: 11 | AM32: 14 | AN32: 7 | AO32: 6 | AP32: 18 | AQ32: 2 | AR32: 30 | AS32: =IF(AND(D32>0,D32<=6),1,IF(AND(D32>6,D32<=12),2,IF(AND(D32>12,D32<=18),3,IF(AND(D32>18,D32<=24),-3,IF(AND(D32>24,D32<=30),-2,IF(AND(D32>30,D32<=36),-1,0)))))) -> #VALUE! | AT32: =MODE(AS30:AS32) -> #VALUE! | AU32: =ABS(AS32-AT31) -> #VALUE! | AV32: =COUNTIF(AU21:AU32,"0") -> 0 | AW32: =COUNTIF(AU21:AU32,">=0") -> 0 | AX32: =AV32/AW32 -> #DIV/0! | AY32: =COUNTIF(AU9:AU32,"0") -> 0 | AZ32: =COUNTIF(AU9:AU32,">=0") -> 0 | BA32: =AY32/AZ32 -> #DIV/0! | BB32: =MODE(AS29:AS32) -> #VALUE! | BC32: =ABS(AS32-BB31) -> #VALUE! | BD32: =COUNTIF(BC21:BC32,"0") -> 0 | BE32: =COUNTIF(BC21:BC32,">=0") -> 0 | BF32: =BD32/BE32 -> #DIV/0! | BG32: =COUNTIF(BC9:BC32,"0") -> 0 | BH32: =COUNTIF(BC9:BC32,">=0") -> 0 | BI32: =BG32/BH32 -> #DIV/0! | BJ32: =MODE(AS28:AS32) -> #VALUE! | BK32: =ABS(AS32-BJ31) -> #VALUE! | BL32: =COUNTIF(BK21:BK32,"0") -> 0 | BM32: =COUNTIF(BK21:BK32,">=0") -> 0 | BN32: =BL32/BM32 -> #DIV/0! | BO32: =COUNTIF(BK9:BK32,"0") -> 0 | BP32: =COUNTIF(BK9:BK32,">=0") -> 0 | BQ32: =BO32/BP32 -> #DIV/0! | BR32: =MODE(AS27:AS32) -> #VALUE! | BS32: =ABS(AS32-BR31) -> #VALUE! | BT32: =COUNTIF(BS21:BS32,"0") -> 0 | BU32: =COUNTIF(BS21:BS32,">=0") -> 0 | BV32: =BT32/BU32 -> #DIV/0! | BW32: =COUNTIF(BS9:BS32,"0") -> 0 | BX32: =COUNTIF(BS9:BS32,">=0") -> 0 | BY32: =BW32/BX32 -> #DIV/0! | BZ32: =MODE(AS26:AS32) -> #VALUE! | CA32: =ABS(AS32-BZ31) -> #VALUE! | CB32: =COUNTIF(CA21:CA32,"0") -> 0 | CC32: =COUNTIF(CA21:CA32,">=0") -> 0 | CD32: =CB32/CC32 -> #DIV/0! | CH32: =MODE(AS25:AS32) -> #VALUE! | CI32: =ABS(AS32-CH31) -> #VALUE! | CJ32: =COUNTIF(CI21:CI32,"0") -> 0 | CK32: =COUNTIF(CI21:CI32,">=0") -> 0 | CL32: =CJ32/CK32 -> #DIV/0! | CP32: =MODE(AS24:AS32) -> #VALUE! | CQ32: =ABS(AS32-CP31) -> #VALUE! | CR32: =COUNTIF(CQ21:CQ32,"0") -> 0 | CS32: =COUNTIF(CQ21:CQ32,">=0") -> 0 | CT32: =CR32/CS32 -> #DIV/0! | CX32: =MODE(AS23:AS32) -> #VALUE! | CY32: =ABS(AS32-CX31) -> #VALUE! | CZ32: =COUNTIF(CY21:CY32,"0") -> 0 | DA32: =COUNTIF(CY21:CY32,">=0") -> 0 | DB32: =CZ32/DA32 -> #DIV/0! | DF32: =MODE(AS22:AS32) -> #VALUE! | DG32: =ABS(AS32-DF31) -> #VALUE! | DH32: =COUNTIF(DG21:DG32,"0") -> 0 | DI32: =COUNTIF(DG21:DG32,">=0") -> 0 | DJ32: =DH32/DI32 -> #DIV/0! | DN32: =MODE(AS21:AS32) -> #VALUE! | DO32: =ABS(AS32-DN31) -> #VALUE! | DP32: =COUNTIF(DO21:DO32,"0") -> 0 | DQ32: =COUNTIF(DO21:DO32,">=0") -> 0 | DR32: =DP32/DQ32 -> #DIV/0! | DV32: =MODE(AS20:AS32) -> #VALUE! | DW32: =ABS(AS32-DV31) -> #VALUE! | DX32: =COUNTIF(DW21:DW32,"0") -> 0 | DY32: =COUNTIF(DW21:DW32,">=0") -> 0 | DZ32: =DX32/DY32 -> #DIV/0! | EF32: =MODE(BB32,BJ32,BR32,BZ32,CH32,CP32,CX32,DF32,DN32,DV32) -> #VALUE! | EG32: =MODE(BC32,BK32,BS32,CA32,CI32,CQ32,CY32,DG32,DO32,DW32) -> #VALUE! | EH32: =IF(AND(EG32=0),0,1) -> #VALUE! | EI32: =ABS(AS32-EF31) -> #VALUE! | EK32: =SUM(EH31+EH32) -> #VALUE!
A33: A | C33: =VLOOKUP(A32,$F$1:$AQ$39,A33+2) -> #VALUE! | D33: =IF(ISNA(C33),0,C33) -> #VALUE! | F33: 31 | G33: 11 | H33: 3 | I33: 17 | J33: 9 | K33: 15 | L33: 7 | M33: 16 | N33: 5 | O33: 10 | P33: 1 | Q33: 8 | R33: 12 | S33: 7 | T33: 14 | U33: 1 | V33: 13 | W33: 5 | X33: 18 | Y33: 3 | Z33: 14 | AA33: 2 | AB33: 16 | AC33: 2 | AD33: 9 | AE33: 6 | AF33: 18 | AG33: 10 | AH33: 15 | AI33: 6 | AJ33: 4 | AK33: 11 | AL33: 0 | AM33: 12 | AN33: 4 | AO33: 17 | AP33: 8 | AQ33: 13 | AR33: 31 | AS33: =IF(AND(D33>0,D33<=6),1,IF(AND(D33>6,D33<=12),2,IF(AND(D33>12,D33<=18),3,IF(AND(D33>18,D33<=24),-3,IF(AND(D33>24,D33<=30),-2,IF(AND(D33>30,D33<=36),-1,0)))))) -> #VALUE! | AT33: =MODE(AS31:AS33) -> #VALUE! | AU33: =ABS(AS33-AT32) -> #VALUE! | AV33: =COUNTIF(AU22:AU33,"0") -> 0 | AW33: =COUNTIF(AU22:AU33,">=0") -> 0 | AX33: =AV33/AW33 -> #DIV/0! | AY33: =COUNTIF(AU10:AU33,"0") -> 0 | AZ33: =COUNTIF(AU10:AU33,">=0") -> 0 | BA33: =AY33/AZ33 -> #DIV/0! | BB33: =MODE(AS30:AS33) -> #VALUE! | BC33: =ABS(AS33-BB32) -> #VALUE! | BD33: =COUNTIF(BC22:BC33,"0") -> 0 | BE33: =COUNTIF(BC22:BC33,">=0") -> 0 | BF33: =BD33/BE33 -> #DIV/0! | BG33: =COUNTIF(BC10:BC33,"0") -> 0 | BH33: =COUNTIF(BC10:BC33,">=0") -> 0 | BI33: =BG33/BH33 -> #DIV/0! | BJ33: =MODE(AS29:AS33) -> #VALUE! | BK33: =ABS(AS33-BJ32) -> #VALUE! | BL33: =COUNTIF(BK22:BK33,"0") -> 0 | BM33: =COUNTIF(BK22:BK33,">=0") -> 0 | BN33: =BL33/BM33 -> #DIV/0! | BO33: =COUNTIF(BK10:BK33,"0") -> 0 | BP33: =COUNTIF(BK10:BK33,">=0") -> 0 | BQ33: =BO33/BP33 -> #DIV/0! | BR33: =MODE(AS28:AS33) -> #VALUE! | BS33: =ABS(AS33-BR32) -> #VALUE! | BT33: =COUNTIF(BS22:BS33,"0") -> 0 | BU33: =COUNTIF(BS22:BS33,">=0") -> 0 | BV33: =BT33/BU33 -> #DIV/0! | BW33: =COUNTIF(BS10:BS33,"0") -> 0 | BX33: =COUNTIF(BS10:BS33,">=0") -> 0 | BY33: =BW33/BX33 -> #DIV/0! | BZ33: =MODE(AS27:AS33) -> #VALUE! | CA33: =ABS(AS33-BZ32) -> #VALUE! | CB33: =COUNTIF(CA22:CA33,"0") -> 0 | CC33: =COUNTIF(CA22:CA33,">=0") -> 0 | CD33: =CB33/CC33 -> #DIV/0! | CE33: =COUNTIF(CA10:CA33,"0") -> 0 | CF33: =COUNTIF(CA10:CA33,">=0") -> 0 | CG33: =CE33/CF33 -> #DIV/0! | CH33: =MODE(AS26:AS33) -> #VALUE! | CI33: =ABS(AS33-CH32) -> #VALUE! | CJ33: =COUNTIF(CI22:CI33,"0") -> 0 | CK33: =COUNTIF(CI22:CI33,">=0") -> 0 | CL33: =CJ33/CK33 -> #DIV/0! | CP33: =MODE(AS25:AS33) -> #VALUE! | CQ33: =ABS(AS33-CP32) -> #VALUE! | CR33: =COUNTIF(CQ22:CQ33,"0") -> 0 | CS33: =COUNTIF(CQ22:CQ33,">=0") -> 0 | CT33: =CR33/CS33 -> #DIV/0! | CX33: =MODE(AS24:AS33) -> #VALUE! | CY33: =ABS(AS33-CX32) -> #VALUE! | CZ33: =COUNTIF(CY22:CY33,"0") -> 0 | DA33: =COUNTIF(CY22:CY33,">=0") -> 0 | DB33: =CZ33/DA33 -> #DIV/0! | DF33: =MODE(AS23:AS33) -> #VALUE! | DG33: =ABS(AS33-DF32) -> #VALUE! | DH33: =COUNTIF(DG22:DG33,"0") -> 0 | DI33: =COUNTIF(DG22:DG33,">=0") -> 0 | DJ33: =DH33/DI33 -> #DIV/0! | DN33: =MODE(AS22:AS33) -> #VALUE! | DO33: =ABS(AS33-DN32) -> #VALUE! | DP33: =COUNTIF(DO22:DO33,"0") -> 0 | DQ33: =COUNTIF(DO22:DO33,">=0") -> 0 | DR33: =DP33/DQ33 -> #DIV/0! | DV33: =MODE(AS21:AS33) -> #VALUE! | DW33: =ABS(AS33-DV32) -> #VALUE! | DX33: =COUNTIF(DW22:DW33,"0") -> 0 | DY33: =COUNTIF(DW22:DW33,">=0") -> 0 | DZ33: =DX33/DY33 -> #DIV/0! | EF33: =MODE(BB33,BJ33,BR33,BZ33,CH33,CP33,CX33,DF33,DN33,DV33) -> #VALUE! | EG33: =MODE(BC33,BK33,BS33,CA33,CI33,CQ33,CY33,DG33,DO33,DW33) -> #VALUE! | EH33: =IF(AND(EG33=0),0,1) -> #VALUE! | EI33: =ABS(AS33-EF32) -> #VALUE! | EK33: =SUM(EH32+EH33) -> #VALUE!
A34: A | C34: =VLOOKUP(A33,$F$1:$AQ$39,A34+2) -> #VALUE! | D34: =IF(ISNA(C34),0,C34) -> #VALUE! | F34: 32 | G34: 1 | H34: 15 | I34: 5 | J34: 3 | K34: 3 | L34: 18 | M34: 9 | N34: 7 | O34: 15 | P34: 11 | Q34: 17 | R34: 13 | S34: 5 | T34: 11 | U34: 13 | V34: 1 | W34: 17 | X34: 7 | Y34: 9 | Z34: 2 | AA34: 14 | AB34: 4 | AC34: 10 | AD34: 16 | AE34: 18 | AF34: 6 | AG34: 2 | AH34: 10 | AI34: 6 | AJ34: 8 | AK34: 14 | AL34: 12 | AM34: 0 | AN34: 16 | AO34: 8 | AP34: 4 | AQ34: 12 | AR34: 32 | AS34: =IF(AND(D34>0,D34<=6),1,IF(AND(D34>6,D34<=12),2,IF(AND(D34>12,D34<=18),3,IF(AND(D34>18,D34<=24),-3,IF(AND(D34>24,D34<=30),-2,IF(AND(D34>30,D34<=36),-1,0)))))) -> #VALUE! | AT34: =MODE(AS32:AS34) -> #VALUE! | AU34: =ABS(AS34-AT33) -> #VALUE! | AV34: =COUNTIF(AU23:AU34,"0") -> 0 | AW34: =COUNTIF(AU23:AU34,">=0") -> 0 | AX34: =AV34/AW34 -> #DIV/0! | AY34: =COUNTIF(AU11:AU34,"0") -> 0 | AZ34: =COUNTIF(AU11:AU34,">=0") -> 0 | BA34: =AY34/AZ34 -> #DIV/0! | BB34: =MODE(AS31:AS34) -> #VALUE! | BC34: =ABS(AS34-BB33) -> #VALUE! | BD34: =COUNTIF(BC23:BC34,"0") -> 0 | BE34: =COUNTIF(BC23:BC34,">=0") -> 0 | BF34: =BD34/BE34 -> #DIV/0! | BG34: =COUNTIF(BC11:BC34,"0") -> 0 | BH34: =COUNTIF(BC11:BC34,">=0") -> 0 | BI34: =BG34/BH34 -> #DIV/0! | BJ34: =MODE(AS30:AS34) -> #VALUE! | BK34: =ABS(AS34-BJ33) -> #VALUE! | BL34: =COUNTIF(BK23:BK34,"0") -> 0 | BM34: =COUNTIF(BK23:BK34,">=0") -> 0 | BN34: =BL34/BM34 -> #DIV/0! | BO34: =COUNTIF(BK11:BK34,"0") -> 0 | BP34: =COUNTIF(BK11:BK34,">=0") -> 0 | BQ34: =BO34/BP34 -> #DIV/0! | BR34: =MODE(AS29:AS34) -> #VALUE! | BS34: =ABS(AS34-BR33) -> #VALUE! | BT34: =COUNTIF(BS23:BS34,"0") -> 0 | BU34: =COUNTIF(BS23:BS34,">=0") -> 0 | BV34: =BT34/BU34 -> #DIV/0! | BW34: =COUNTIF(BS11:BS34,"0") -> 0 | BX34: =COUNTIF(BS11:BS34,">=0") -> 0 | BY34: =BW34/BX34 -> #DIV/0! | BZ34: =MODE(AS28:AS34) -> #VALUE! | CA34: =ABS(AS34-BZ33) -> #VALUE! | CB34: =COUNTIF(CA23:CA34,"0") -> 0 | CC34: =COUNTIF(CA23:CA34,">=0") -> 0 | CD34: =CB34/CC34 -> #DIV/0! | CE34: =COUNTIF(CA11:CA34,"0") -> 0 | CF34: =COUNTIF(CA11:CA34,">=0") -> 0 | CG34: =CE34/CF34 -> #DIV/0! | CH34: =MODE(AS27:AS34) -> #VALUE! | CI34: =ABS(AS34-CH33) -> #VALUE! | CJ34: =COUNTIF(CI23:CI34,"0") -> 0 | CK34: =COUNTIF(CI23:CI34,">=0") -> 0 | CL34: =CJ34/CK34 -> #DIV/0! | CM34: =COUNTIF(CI11:CI34,"0") -> 0 | CN34: =COUNTIF(CI11:CI34,">=0") -> 0 | CO34: =CM34/CN34 -> #DIV/0! | CP34: =MODE(AS26:AS34) -> #VALUE! | CQ34: =ABS(AS34-CP33) -> #VALUE! | CR34: =COUNTIF(CQ23:CQ34,"0") -> 0 | CS34: =COUNTIF(CQ23:CQ34,">=0") -> 0 | CT34: =CR34/CS34 -> #DIV/0! | CX34: =MODE(AS25:AS34) -> #VALUE! | CY34: =ABS(AS34-CX33) -> #VALUE! | CZ34: =COUNTIF(CY23:CY34,"0") -> 0 | DA34: =COUNTIF(CY23:CY34,">=0") -> 0 | DB34: =CZ34/DA34 -> #DIV/0! | DF34: =MODE(AS24:AS34) -> #VALUE! | DG34: =ABS(AS34-DF33) -> #VALUE! | DH34: =COUNTIF(DG23:DG34,"0") -> 0 | DI34: =COUNTIF(DG23:DG34,">=0") -> 0 | DJ34: =DH34/DI34 -> #DIV/0! | DN34: =MODE(AS23:AS34) -> #VALUE! | DO34: =ABS(AS34-DN33) -> #VALUE! | DP34: =COUNTIF(DO23:DO34,"0") -> 0 | DQ34: =COUNTIF(DO23:DO34,">=0") -> 0 | DR34: =DP34/DQ34 -> #DIV/0! | DV34: =MODE(AS22:AS34) -> #VALUE! | DW34: =ABS(AS34-DV33) -> #VALUE! | DX34: =COUNTIF(DW23:DW34,"0") -> 0 | DY34: =COUNTIF(DW23:DW34,">=0") -> 0 | DZ34: =DX34/DY34 -> #DIV/0! | EF34: =MODE(BB34,BJ34,BR34,BZ34,CH34,CP34,CX34,DF34,DN34,DV34) -> #VALUE! | EG34: =MODE(BC34,BK34,BS34,CA34,CI34,CQ34,CY34,DG34,DO34,DW34) -> #VALUE! | EH34: =IF(AND(EG34=0),0,1) -> #VALUE! | EI34: =ABS(AS34-EF33) -> #VALUE! | EK34: =SUM(EH33+EH34) -> #VALUE!
A35: A | C35: =VLOOKUP(A34,$F$1:$AQ$39,A35+2) -> #VALUE! | D35: =IF(ISNA(C35),0,C35) -> #VALUE! | F35: 33 | G35: 15 | H35: 1 | I35: 16 | J35: 13 | K35: 18 | L35: 3 | M35: 12 | N35: 9 | O35: 6 | P35: 5 | Q35: 4 | R35: 8 | S35: 11 | T35: 10 | U35: 3 | V35: 17 | W35: 1 | X35: 14 | Y35: 7 | Z35: 18 | AA35: 2 | AB35: 17 | AC35: 6 | AD35: 5 | AE35: 2 | AF35: 15 | AG35: 14 | AH35: 11 | AI35: 10 | AJ35: 8 | AK35: 7 | AL35: 4 | AM35: 16 | AN35: 0 | AO35: 13 | AP35: 12 | AQ35: 9 | AR35: 33 | AS35: =IF(AND(D35>0,D35<=6),1,IF(AND(D35>6,D35<=12),2,IF(AND(D35>12,D35<=18),3,IF(AND(D35>18,D35<=24),-3,IF(AND(D35>24,D35<=30),-2,IF(AND(D35>30,D35<=36),-1,0)))))) -> #VALUE! | AT35: =MODE(AS33:AS35) -> #VALUE! | AU35: =ABS(AS35-AT34) -> #VALUE! | AV35: =COUNTIF(AU24:AU35,"0") -> 0 | AW35: =COUNTIF(AU24:AU35,">=0") -> 0 | AX35: =AV35/AW35 -> #DIV/0! | AY35: =COUNTIF(AU12:AU35,"0") -> 0 | AZ35: =COUNTIF(AU12:AU35,">=0") -> 0 | BA35: =AY35/AZ35 -> #DIV/0! | BB35: =MODE(AS32:AS35) -> #VALUE! | BC35: =ABS(AS35-BB34) -> #VALUE! | BD35: =COUNTIF(BC24:BC35,"0") -> 0 | BE35: =COUNTIF(BC24:BC35,">=0") -> 0 | BF35: =BD35/BE35 -> #DIV/0! | BG35: =COUNTIF(BC12:BC35,"0") -> 0 | BH35: =COUNTIF(BC12:BC35,">=0") -> 0 | BI35: =BG35/BH35 -> #DIV/0! | BJ35: =MODE(AS31:AS35) -> #VALUE! | BK35: =ABS(AS35-BJ34) -> #VALUE! | BL35: =COUNTIF(BK24:BK35,"0") -> 0 | BM35: =COUNTIF(BK24:BK35,">=0") -> 0 | BN35: =BL35/BM35 -> #DIV/0! | BO35: =COUNTIF(BK12:BK35,"0") -> 0 | BP35: =COUNTIF(BK12:BK35,">=0") -> 0 | BQ35: =BO35/BP35 -> #DIV/0! | BR35: =MODE(AS30:AS35) -> #VALUE! | BS35: =ABS(AS35-BR34) -> #VALUE! | BT35: =COUNTIF(BS24:BS35,"0") -> 0 | BU35: =COUNTIF(BS24:BS35,">=0") -> 0 | BV35: =BT35/BU35 -> #DIV/0! | BW35: =COUNTIF(BS12:BS35,"0") -> 0 | BX35: =COUNTIF(BS12:BS35,">=0") -> 0 | BY35: =BW35/BX35 -> #DIV/0! | BZ35: =MODE(AS29:AS35) -> #VALUE! | CA35: =ABS(AS35-BZ34) -> #VALUE! | CB35: =COUNTIF(CA24:CA35,"0") -> 0 | CC35: =COUNTIF(CA24:CA35,">=0") -> 0 | CD35: =CB35/CC35 -> #DIV/0! | CE35: =COUNTIF(CA12:CA35,"0") -> 0 | CF35: =COUNTIF(CA12:CA35,">=0") -> 0 | CG35: =CE35/CF35 -> #DIV/0! | CH35: =MODE(AS28:AS35) -> #VALUE! | CI35: =ABS(AS35-CH34) -> #VALUE! | CJ35: =COUNTIF(CI24:CI35,"0") -> 0 | CK35: =COUNTIF(CI24:CI35,">=0") -> 0 | CL35: =CJ35/CK35 -> #DIV/0! | CM35: =COUNTIF(CI12:CI35,"0") -> 0 | CN35: =COUNTIF(CI12:CI35,">=0") -> 0 | CO35: =CM35/CN35 -> #DIV/0! | CP35: =MODE(AS27:AS35) -> #VALUE! | CQ35: =ABS(AS35-CP34) -> #VALUE! | CR35: =COUNTIF(CQ24:CQ35,"0") -> 0 | CS35: =COUNTIF(CQ24:CQ35,">=0") -> 0 | CT35: =CR35/CS35 -> #DIV/0! | CU35: =COUNTIF(CQ12:CQ35,"0") -> 0 | CV35: =COUNTIF(CQ12:CQ35,">=0") -> 0 | CW35: =CU35/CV35 -> #DIV/0! | CX35: =MODE(AS26:AS35) -> #VALUE! | CY35: =ABS(AS35-CX34) -> #VALUE! | CZ35: =COUNTIF(CY24:CY35,"0") -> 0 | DA35: =COUNTIF(CY24:CY35,">=0") -> 0 | DB35: =CZ35/DA35 -> #DIV/0! | DF35: =MODE(AS25:AS35) -> #VALUE! | DG35: =ABS(AS35-DF34) -> #VALUE! | DH35: =COUNTIF(DG24:DG35,"0") -> 0 | DI35: =COUNTIF(DG24:DG35,">=0") -> 0 | DJ35: =DH35/DI35 -> #DIV/0! | DN35: =MODE(AS24:AS35) -> #VALUE! | DO35: =ABS(AS35-DN34) -> #VALUE! | DP35: =COUNTIF(DO24:DO35,"0") -> 0 | DQ35: =COUNTIF(DO24:DO35,">=0") -> 0 | DR35: =DP35/DQ35 -> #DIV/0! | DV35: =MODE(AS23:AS35) -> #VALUE! | DW35: =ABS(AS35-DV34) -> #VALUE! | DX35: =COUNTIF(DW24:DW35,"0") -> 0 | DY35: =COUNTIF(DW24:DW35,">=0") -> 0 | DZ35: =DX35/DY35 -> #DIV/0! | EF35: =MODE(BB35,BJ35,BR35,BZ35,CH35,CP35,CX35,DF35,DN35,DV35) -> #VALUE! | EG35: =MODE(BC35,BK35,BS35,CA35,CI35,CQ35,CY35,DG35,DO35,DW35) -> #VALUE! | EH35: =IF(AND(EG35=0),0,1) -> #VALUE! | EI35: =ABS(AS35-EF34) -> #VALUE! | EK35: =SUM(EH34+EH35) -> #VALUE!
A36: A | C36: =VLOOKUP(A35,$F$1:$AQ$39,A36+2) -> #VALUE! | D36: =IF(ISNA(C36),0,C36) -> #VALUE! | F36: 34 | G36: 9 | H36: 14 | I36: 3 | J36: 11 | K36: 5 | L36: 10 | M36: 1 | N36: 15 | O36: 7 | P36: 18 | Q36: 9 | R36: 5 | S36: 13 | T36: 3 | U36: 16 | V36: 7 | W36: 12 | X36: 1 | Y36: 17 | Z36: 6 | AA36: 15 | AB36: 4 | AC36: 18 | AD36: 8 | AE36: 11 | AF36: 2 | AG36: 10 | AH36: 2 | AI36: 14 | AJ36: 16 | AK36: 6 | AL36: 17 | AM36: 8 | AN36: 13 | AO36: 0 | AP36: 12 | AQ36: 4 | AR36: 34 | AS36: =IF(AND(D36>0,D36<=6),1,IF(AND(D36>6,D36<=12),2,IF(AND(D36>12,D36<=18),3,IF(AND(D36>18,D36<=24),-3,IF(AND(D36>24,D36<=30),-2,IF(AND(D36>30,D36<=36),-1,0)))))) -> #VALUE! | AT36: =MODE(AS34:AS36) -> #VALUE! | AU36: =ABS(AS36-AT35) -> #VALUE! | AV36: =COUNTIF(AU25:AU36,"0") -> 0 | AW36: =COUNTIF(AU25:AU36,">=0") -> 0 | AX36: =AV36/AW36 -> #DIV/0! | AY36: =COUNTIF(AU13:AU36,"0") -> 0 | AZ36: =COUNTIF(AU13:AU36,">=0") -> 0 | BA36: =AY36/AZ36 -> #DIV/0! | BB36: =MODE(AS33:AS36) -> #VALUE! | BC36: =ABS(AS36-BB35) -> #VALUE! | BD36: =COUNTIF(BC25:BC36,"0") -> 0 | BE36: =COUNTIF(BC25:BC36,">=0") -> 0 | BF36: =BD36/BE36 -> #DIV/0! | BG36: =COUNTIF(BC13:BC36,"0") -> 0 | BH36: =COUNTIF(BC13:BC36,">=0") -> 0 | BI36: =BG36/BH36 -> #DIV/0! | BJ36: =MODE(AS32:AS36) -> #VALUE! | BK36: =ABS(AS36-BJ35) -> #VALUE! | BL36: =COUNTIF(BK25:BK36,"0") -> 0 | BM36: =COUNTIF(BK25:BK36,">=0") -> 0 | BN36: =BL36/BM36 -> #DIV/0! | BO36: =COUNTIF(BK13:BK36,"0") -> 0 | BP36: =COUNTIF(BK13:BK36,">=0") -> 0 | BQ36: =BO36/BP36 -> #DIV/0! | BR36: =MODE(AS31:AS36) -> #VALUE! | BS36: =ABS(AS36-BR35) -> #VALUE! | BT36: =COUNTIF(BS25:BS36,"0") -> 0 | BU36: =COUNTIF(BS25:BS36,">=0") -> 0 | BV36: =BT36/BU36 -> #DIV/0! | BW36: =COUNTIF(BS13:BS36,"0") -> 0 | BX36: =COUNTIF(BS13:BS36,">=0") -> 0 | BY36: =BW36/BX36 -> #DIV/0! | BZ36: =MODE(AS30:AS36) -> #VALUE! | CA36: =ABS(AS36-BZ35) -> #VALUE! | CB36: =COUNTIF(CA25:CA36,"0") -> 0 | CC36: =COUNTIF(CA25:CA36,">=0") -> 0 | CD36: =CB36/CC36 -> #DIV/0! | CE36: =COUNTIF(CA13:CA36,"0") -> 0 | CF36: =COUNTIF(CA13:CA36,">=0") -> 0 | CG36: =CE36/CF36 -> #DIV/0! | CH36: =MODE(AS29:AS36) -> #VALUE! | CI36: =ABS(AS36-CH35) -> #VALUE! | CJ36: =COUNTIF(CI25:CI36,"0") -> 0 | CK36: =COUNTIF(CI25:CI36,">=0") -> 0 | CL36: =CJ36/CK36 -> #DIV/0! | CM36: =COUNTIF(CI13:CI36,"0") -> 0 | CN36: =COUNTIF(CI13:CI36,">=0") -> 0 | CO36: =CM36/CN36 -> #DIV/0! | CP36: =MODE(AS28:AS36) -> #VALUE! | CQ36: =ABS(AS36-CP35) -> #VALUE! | CR36: =COUNTIF(CQ25:CQ36,"0") -> 0 | CS36: =COUNTIF(CQ25:CQ36,">=0") -> 0 | CT36: =CR36/CS36 -> #DIV/0! | CU36: =COUNTIF(CQ13:CQ36,"0") -> 0 | CV36: =COUNTIF(CQ13:CQ36,">=0") -> 0 | CW36: =CU36/CV36 -> #DIV/0! | CX36: =MODE(AS27:AS36) -> #VALUE! | CY36: =ABS(AS36-CX35) -> #VALUE! | CZ36: =COUNTIF(CY25:CY36,"0") -> 0 | DA36: =COUNTIF(CY25:CY36,">=0") -> 0 | DB36: =CZ36/DA36 -> #DIV/0! | DC36: =COUNTIF(CY13:CY36,"0") -> 0 | DD36: =COUNTIF(CY13:CY36,">=0") -> 0 | DE36: =DC36/DD36 -> #DIV/0! | DF36: =MODE(AS26:AS36) -> #VALUE! | DG36: =ABS(AS36-DF35) -> #VALUE! | DH36: =COUNTIF(DG25:DG36,"0") -> 0 | DI36: =COUNTIF(DG25:DG36,">=0") -> 0 | DJ36: =DH36/DI36 -> #DIV/0! | DN36: =MODE(AS25:AS36) -> #VALUE! | DO36: =ABS(AS36-DN35) -> #VALUE! | DP36: =COUNTIF(DO25:DO36,"0") -> 0 | DQ36: =COUNTIF(DO25:DO36,">=0") -> 0 | DR36: =DP36/DQ36 -> #DIV/0! | DV36: =MODE(AS24:AS36) -> #VALUE! | DW36: =ABS(AS36-DV35) -> #VALUE! | DX36: =COUNTIF(DW25:DW36,"0") -> 0 | DY36: =COUNTIF(DW25:DW36,">=0") -> 0 | DZ36: =DX36/DY36 -> #DIV/0! | EF36: =MODE(BB36,BJ36,BR36,BZ36,CH36,CP36,CX36,DF36,DN36,DV36) -> #VALUE! | EG36: =MODE(BC36,BK36,BS36,CA36,CI36,CQ36,CY36,DG36,DO36,DW36) -> #VALUE! | EH36: =IF(AND(EG36=0),0,1) -> #VALUE! | EI36: =ABS(AS36-EF35) -> #VALUE! | EK36: =SUM(EH35+EH36) -> #VALUE!
A37: A | C37: =VLOOKUP(A36,$F$1:$AQ$39,A37+2) -> #VALUE! | D37: =IF(ISNA(C37),0,C37) -> #VALUE! | F37: 35 | G37: 3 | H37: 11 | I37: 9 | J37: 1 | K37: 7 | L37: 15 | M37: 13 | N37: 3 | O37: 18 | P37: 7 | Q37: 16 | R37: 17 | S37: 1 | T37: 15 | U37: 9 | V37: 5 | W37: 13 | X37: 11 | Y37: 5 | Z37: 6 | AA37: 10 | AB37: 8 | AC37: 6 | AD37: 17 | AE37: 14 | AF37: 10 | AG37: 2 | AH37: 14 | AI37: 2 | AJ37: 4 | AK37: 18 | AL37: 8 | AM37: 4 | AN37: 12 | AO37: 12 | AP37: 0 | AQ37: 16 | AR37: 35 | AS37: =IF(AND(D37>0,D37<=6),1,IF(AND(D37>6,D37<=12),2,IF(AND(D37>12,D37<=18),3,IF(AND(D37>18,D37<=24),-3,IF(AND(D37>24,D37<=30),-2,IF(AND(D37>30,D37<=36),-1,0)))))) -> #VALUE! | AT37: =MODE(AS35:AS37) -> #VALUE! | AU37: =ABS(AS37-AT36) -> #VALUE! | AV37: =COUNTIF(AU26:AU37,"0") -> 0 | AW37: =COUNTIF(AU26:AU37,">=0") -> 0 | AX37: =AV37/AW37 -> #DIV/0! | AY37: =COUNTIF(AU14:AU37,"0") -> 0 | AZ37: =COUNTIF(AU14:AU37,">=0") -> 0 | BA37: =AY37/AZ37 -> #DIV/0! | BB37: =MODE(AS34:AS37) -> #VALUE! | BC37: =ABS(AS37-BB36) -> #VALUE! | BD37: =COUNTIF(BC26:BC37,"0") -> 0 | BE37: =COUNTIF(BC26:BC37,">=0") -> 0 | BF37: =BD37/BE37 -> #DIV/0! | BG37: =COUNTIF(BC14:BC37,"0") -> 0 | BH37: =COUNTIF(BC14:BC37,">=0") -> 0 | BI37: =BG37/BH37 -> #DIV/0! | BJ37: =MODE(AS33:AS37) -> #VALUE! | BK37: =ABS(AS37-BJ36) -> #VALUE! | BL37: =COUNTIF(BK26:BK37,"0") -> 0 | BM37: =COUNTIF(BK26:BK37,">=0") -> 0 | BN37: =BL37/BM37 -> #DIV/0! | BO37: =COUNTIF(BK14:BK37,"0") -> 0 | BP37: =COUNTIF(BK14:BK37,">=0") -> 0 | BQ37: =BO37/BP37 -> #DIV/0! | BR37: =MODE(AS32:AS37) -> #VALUE! | BS37: =ABS(AS37-BR36) -> #VALUE! | BT37: =COUNTIF(BS26:BS37,"0") -> 0 | BU37: =COUNTIF(BS26:BS37,">=0") -> 0 | BV37: =BT37/BU37 -> #DIV/0! | BW37: =COUNTIF(BS14:BS37,"0") -> 0 | BX37: =COUNTIF(BS14:BS37,">=0") -> 0 | BY37: =BW37/BX37 -> #DIV/0! | BZ37: =MODE(AS31:AS37) -> #VALUE! | CA37: =ABS(AS37-BZ36) -> #VALUE! | CB37: =COUNTIF(CA26:CA37,"0") -> 0 | CC37: =COUNTIF(CA26:CA37,">=0") -> 0 | CD37: =CB37/CC37 -> #DIV/0! | CE37: =COUNTIF(CA14:CA37,"0") -> 0 | CF37: =COUNTIF(CA14:CA37,">=0") -> 0 | CG37: =CE37/CF37 -> #DIV/0! | CH37: =MODE(AS30:AS37) -> #VALUE! | CI37: =ABS(AS37-CH36) -> #VALUE! | CJ37: =COUNTIF(CI26:CI37,"0") -> 0 | CK37: =COUNTIF(CI26:CI37,">=0") -> 0 | CL37: =CJ37/CK37 -> #DIV/0! | CM37: =COUNTIF(CI14:CI37,"0") -> 0 | CN37: =COUNTIF(CI14:CI37,">=0") -> 0 | CO37: =CM37/CN37 -> #DIV/0! | CP37: =MODE(AS29:AS37) -> #VALUE! | CQ37: =ABS(AS37-CP36) -> #VALUE! | CR37: =COUNTIF(CQ26:CQ37,"0") -> 0 | CS37: =COUNTIF(CQ26:CQ37,">=0") -> 0 | CT37: =CR37/CS37 -> #DIV/0! | CU37: =COUNTIF(CQ14:CQ37,"0") -> 0 | CV37: =COUNTIF(CQ14:CQ37,">=0") -> 0 | CW37: =CU37/CV37 -> #DIV/0! | CX37: =MODE(AS28:AS37) -> #VALUE! | CY37: =ABS(AS37-CX36) -> #VALUE! | CZ37: =COUNTIF(CY26:CY37,"0") -> 0 | DA37: =COUNTIF(CY26:CY37,">=0") -> 0 | DB37: =CZ37/DA37 -> #DIV/0! | DC37: =COUNTIF(CY14:CY37,"0") -> 0 | DD37: =COUNTIF(CY14:CY37,">=0") -> 0 | DE37: =DC37/DD37 -> #DIV/0! | DF37: =MODE(AS27:AS37) -> #VALUE! | DG37: =ABS(AS37-DF36) -> #VALUE! | DH37: =COUNTIF(DG26:DG37,"0") -> 0 | DI37: =COUNTIF(DG26:DG37,">=0") -> 0 | DJ37: =DH37/DI37 -> #DIV/0! | DK37: =COUNTIF(DG14:DG37,"0") -> 0 | DL37: =COUNTIF(DG14:DG37,">=0") -> 0 | DM37: =DK37/DL37 -> #DIV/0! | DN37: =MODE(AS26:AS37) -> #VALUE! | DO37: =ABS(AS37-DN36) -> #VALUE! | DP37: =COUNTIF(DO26:DO37,"0") -> 0 | DQ37: =COUNTIF(DO26:DO37,">=0") -> 0 | DR37: =DP37/DQ37 -> #DIV/0! | DV37: =MODE(AS25:AS37) -> #VALUE! | DW37: =ABS(AS37-DV36) -> #VALUE! | DX37: =COUNTIF(DW26:DW37,"0") -> 0 | DY37: =COUNTIF(DW26:DW37,">=0") -> 0 | DZ37: =DX37/DY37 -> #DIV/0! | EF37: =MODE(BB37,BJ37,BR37,BZ37,CH37,CP37,CX37,DF37,DN37,DV37) -> #VALUE! | EG37: =MODE(BC37,BK37,BS37,CA37,CI37,CQ37,CY37,DG37,DO37,DW37) -> #VALUE! | EH37: =IF(AND(EG37=0),0,1) -> #VALUE! | EI37: =ABS(AS37-EF36) -> #VALUE! | EK37: =SUM(EH36+EH37) -> #VALUE!
