Workbook

Sheet Master
A2: NUM | E2: Prog Individual | AB2: Good Prog Results
B3: 1 | E3: R/B | G3: H/L | I3: O/E | K3: Total | AB3: 1 | AC3: 0
B4: 0 | D4: End | E4: ='Prog Individual'!M3 -> 20 | G4: ='Prog Individual'!P3 -> 20 | I4: ='Prog Individual'!S3 -> 20 | K4: =SUM(E4:I4) -> 60 | AB4: 1 | AC4: 0
B5: 27 | D5: Max | E5: ='Prog Individual'!X21 -> 23 | G5: ='Prog Individual'!X22 -> 20 | I5: ='Prog Individual'!X23 -> 20 | AB5: 3 | AC5: 0
B6: 31 | D6: Min | E6: ='Prog Individual'!X26 -> -28 | G6: ='Prog Individual'!X27 -> -19 | I6: ='Prog Individual'!X28 -> -2 | AB6: 5 | AC6: 0
B7: 9 | AB7: 8 | AC7: 0
B8: 28 | E8: Prog +1/-1 | AB8: 13 | AC8: 0
B9: 13 | E9: R/B | G9: H/L | I9: O/E | K9: Total | AB9: 21 | AC9: 0
B10: 12 | D10: End | E10: ='Prog + -'!L3 -> 40 | G10: ='Prog + -'!$P$3 -> 71 | I10: ='Prog + -'!$T$3 -> 35 | K10: =SUM(E10:I10) -> 146 | AB10: 54 | AC10: 0
B11: 32 | D11: Max | E11: ='Prog + -'!AA13 -> 49 | G11: ='Prog + -'!AA14 -> 71 | I11: ='Prog + -'!T3 -> 35 | AB11: 75 | AC11: 0
B12: 11 | D12: Min | E12: ='Prog + -'!AA18 -> -32 | G12: ='Prog + -'!AA19 -> -31 | I12: ='Prog + -'!AA20 -> -34 | AB12: 129 | AC12: 0
B13: 35 | AB13: 0 | AC13: 0
B14: 30 | AB14: 0 | AC14: 0
B15: 21 | E15: Prog | I15: Max Individual | AB15: 0 | AC15: 0
B16: 13 | E16: Lvl. | G16: Prog | I16: R/B | K16: ='Prog Individual'!X10 -> 20 | AB16: 0 | AC16: 0
B17: 0 | E17: 1 | F17: 1 | G17: 1 | I17: H/L | K17: ='Prog Individual'!X11 -> 20 | AB17: 0 | AC17: 0
B18: 0 | E18: 2 | F18: 1 | G18: 1 | I18: O/E | K18: ='Prog Individual'!X12 -> 12
B19: 10 | E19: 3 | F19: 3 | G19: 1
B20: 31 | E20: 4 | F20: 6 | G20: 4 | I20: Max +/-
B21: 29 | E21: 5 | F21: 12 | G21: 8 | I21: R/B | K21: ='Prog + -'!R10 -> 0
B22: 22 | E22: 6 | F22: 24 | G22: 12 | I22: H/L | K22: ='Prog + -'!R11 -> 0
B23: 6 | E23: 7 | F23: 48 | G23: 20 | I23: O/E | K23: ='Prog + -'!R12 -> 0
B24: 34 | E24: 8 | F24: 96 | G24: 35
B25: 13 | E25: 9 | F25: 192 | G25: 55 | I25: Max Repeat
B26: 11 | E26: 10 | F26: 384 | G26: 90 | I26: R/B | K26: ='Prog Individual'!X15 -> 7
B27: 20 | E27: 11 | F27: 0 | G27: 145 | I27: H/L | K27: ='Prog Individual'!X16 -> 7
B28: 31 | E28: 12 | F28: 0 | G28: 235 | I28: O/E | K28: ='Prog Individual'!X17 -> 6
B29: 10 | E29: 13 | F29: 0 | G29: 0
B30: 4 | E30: 14 | F30: 0 | G30: 0
B31: 15 | E31: 15 | F31: 0 | G31: 0 | J31: Change here
B32: 10
B33: 31 | E33: Prog+/-
B34: 1 | E34: win - | G34: 1
B35: 14 | E35: Loss + | G35: 1
B36: 4
B37: 32
B38: 29 | D38: Add your Numbers here
B39: 8
B40: 25
B41: 7
...

Sheet Prog Individual
L1: 12 | O1: 52 | R1: 23 | AH1: ^^ | AS1: Num | AT1: Street | AU1: DS | AV1: DZ | AW1: Col | AX1: R/B | AY1: O/E | AZ1: H/L
A2: NUM | C2: R/B | F2: H/L | I2: O/E | L2: R/B | M2: Total | O2: H/L | P2: Total | R2: O/E | S2: Total | U2: Total EC | Z2: Prog | AC2: Repeat EC | AS2: 0 | AT2: 0 | AU2: 0 | AV2: 0 | AW2: 0 | AX2: Zero | AY2: Zero | AZ2: Zero
B3: =IF(Master!B3="","",Master!B3) -> 1 | C3: =IF(B3="","",VLOOKUP(B3,$AS$1:$AZ$38,6,0)) -> R | F3: =IF(B3="","",VLOOKUP(B3,$AS$1:$AZ$38,8,0)) -> L | I3: =IF(B3="","",VLOOKUP(B3,$AS$1:$AZ$38,7,0)) -> O | M3: =SUM(L6:L1000) -> 20 | P3: =SUM(O6:O1000) -> 20 | S3: =SUM(R6:R1000) -> 20 | T3: Total --> | U3: =SUM(L3:S3) -> 60 | W3: 55 | Z3: Lvl. | AA3: Prog | AC3: R/B | AD3: Bet Lvl | AE3: Prog | AF3: H/L | AG3: Bet Lvl | AH3: Prog | AI3: O/E | AJ3: Bet Lvl | AK3: Prog | AS3: 1 | AT3: 1 | AU3: 1 | AV3: 1 | AW3: 1 | AX3: R | AY3: O | AZ3: L
B4: =IF(Master!B4="","",Master!B4) -> 0 | C4: =IF(B4="","",VLOOKUP(B4,$AS$1:$AZ$38,6,0)) -> Zero | F4: =IF(B4="","",VLOOKUP(B4,$AS$1:$AZ$38,8,0)) -> Zero | I4: =IF(B4="","",VLOOKUP(B4,$AS$1:$AZ$38,7,0)) -> Zero | W4: 141 | Z4: 1 | AA4: =Master!G17 -> 1 | AC4: =IF(B4="","",IF(C4=C3,2,1)) -> 1 | AF4: =IF(B4="","",IF(F4=F3,2,1)) -> 1 | AI4: =IF(B4="","",IF(I4=I3,2,1)) -> 1 | AS4: 2 | AT4: 1 | AU4: 1 | AV4: 1 | AW4: 2 | AX4: B | AY4: E | AZ4: L
B5: =IF(Master!B5="","",Master!B5) -> 27 | C5: =IF(B5="","",VLOOKUP(B5,$AS$1:$AZ$38,6,0)) -> R | F5: =IF(B5="","",VLOOKUP(B5,$AS$1:$AZ$38,8,0)) -> H | I5: =IF(B5="","",VLOOKUP(B5,$AS$1:$AZ$38,7,0)) -> O | W5: 140 | Z5: 2 | AA5: =Master!G18 -> 1 | AC5: =IF(B5="","",IF(C5=C4,AC4+1,1)) -> 1 | AD5: =IF(B5="","",IF(OR(AC4=1,AC4=2),"",IF(AC4>=3,AC4-2))) | AE5: =IF(AD5="","",VLOOKUP(AD5,$Z$4:$AA$18,2,0)) | AF5: =IF(B5="","",IF(F5=F4,AF4+1,1)) -> 1 | AG5: =IF(B5="","",IF(OR(AF4=1,AF4=2),"",IF(AF4>=3,AF4-2))) | AH5: =IF(AG5="","",VLOOKUP(AG5,$Z$4:$AA$18,2,0)) | AI5: =IF(B5="","",IF(I5=I4,AI4+1,1)) -> 1 | AJ5: =IF(B5="","",IF(OR(AI4=1,AI4=2),"",IF(AI4>=3,AI4-2))) | AS5: 3 | AT5: 1 | AU5: 1 | AV5: 1 | AW5: 3 | AX5: R | AY5: O | AZ5: L
B6: =IF(Master!B6="","",Master!B6) -> 31 | C6: =IF(B6="","",VLOOKUP(B6,$AS$1:$AZ$38,6,0)) -> B | D6: =IF(L6="","",IF(L6>=1,"<--Win",IF(L6<0,"<--Bet",""))) | F6: =IF(B6="","",VLOOKUP(B6,$AS$1:$AZ$38,8,0)) -> H | G6: =IF(O6="","",IF(O6>=1,"<--Win",IF(O6<0,"<--Bet",""))) | I6: =IF(B6="","",VLOOKUP(B6,$AS$1:$AZ$38,7,0)) -> O | J6: =IF(R6="","",IF(R6>=1,"<--Win",IF(R6<0,"<--Bet",""))) | L6: =IF(AND(AD6<>"",AD7<>""),-AE6,IF(AND(AD6>=1,AD7=""),AE6,"")) | O6: =IF(AND(AG6<>"",AG7<>""),-AH6,IF(AND(AG6>=1,AG7=""),AH6,"")) | R6: =IF(AND(AJ6<>"",AJ7<>""),-AK6,IF(AND(AJ6>=1,AJ7=""),AK6,"")) | W6: 157 | Z6: 3 | AA6: =Master!G19 -> 1 | AC6: =IF(B6="","",IF(C6=C5,AC5+1,1)) -> 1 | AD6: =IF(B6="","",IF(OR(AC5=1,AC5=2),"",IF(AC5>=3,AC5-2))) | AE6: =IF(AD6="","",VLOOKUP(AD6,$Z$4:$AA$18,2,0)) | AF6: =IF(B6="","",IF(F6=F5,AF5+1,1)) -> 2 | AG6: =IF(B6="","",IF(OR(AF5=1,AF5=2),"",IF(AF5>=3,AF5-2))) | AH6: =IF(AG6="","",VLOOKUP(AG6,$Z$4:$AA$18,2,0)) | AI6: =IF(B6="","",IF(I6=I5,AI5+1,1)) -> 2 | AJ6: =IF(B6="","",IF(OR(AI5=1,AI5=2),"",IF(AI5>=3,AI5-2))) | AK6: =IF(AJ6="","",VLOOKUP(AJ6,$Z$4:$AA$18,2,0)) | AS6: 4 | AT6: 2 | AU6: 1 | AV6: 1 | AW6: 1 | AX6: B | AY6: E | AZ6: L
B7: =IF(Master!B7="","",Master!B7) -> 9 | C7: =IF(B7="","",VLOOKUP(B7,$AS$1:$AZ$38,6,0)) -> R | D7: =IF(L7="","",IF(L7>=1,"<--Win",IF(L7<0,"<--Bet",""))) | F7: =IF(B7="","",VLOOKUP(B7,$AS$1:$AZ$38,8,0)) -> L | G7: =IF(O7="","",IF(O7>=1,"<--Win",IF(O7<0,"<--Bet",""))) | I7: =IF(B7="","",VLOOKUP(B7,$AS$1:$AZ$38,7,0)) -> O | J7: =IF(R7="","",IF(R7>=1,"<--Win",IF(R7<0,"<--Bet",""))) | L7: =IF(AND(AD7<>"",AD8<>""),-AE7,IF(AND(AD7>=1,AD8=""),AE7,"")) | M7: =IF(L7<>"",SUM($L$6:L7),"") | O7: =IF(AND(AG7<>"",AG8<>""),-AH7,IF(AND(AG7>=1,AG8=""),AH7,"")) | P7: =IF(O7<>"",SUM($O$6:O7),"") | R7: =IF(AND(AJ7<>"",AJ8<>""),-AK7,IF(AND(AJ7>=1,AJ8=""),AK7,"")) | S7: =IF(R7<>"",SUM($R$6:R7),"") | U7: =IF(B7="","",SUM($L$7:L7)+SUM($O$7:O7)+SUM($R$7:R7)) -> 0 | W7: =SUM(W3:W6) -> 493 | Z7: 4 | AA7: =Master!G20 -> 4 | AC7: =IF(AND(AC6=2,B7=0),1,IF(AND(AC6=1,B7=0),1,IF(B7="","",IF(AND(C7=C5,B6=0),AC6+1,IF(AND(AC6>1,B7=0),AC6+1,IF(C7=C6,AC6+1,1)))))) -> 1 | AD7: =IF(B7="","",IF(OR(AC6=1,AC6=2),"",IF(AC6>=3,AC6-2))) | AE7: =IF(AD7="","",VLOOKUP(AD7,$Z$4:$AA$18,2,0)) | AF7: =IF(AND(AF6=2,B7=0),1,IF(AND(AF6=1,B7=0),1,IF(B7="","",IF(AND(F7=F5,B6=0),AF6+1,IF(AND(AF6>1,B7=0),AF6+1,IF(F7=F6,AF6+1,1)))))) -> 1 | AG7: =IF(B7="","",IF(OR(AF6=1,AF6=2),"",IF(AF6>=3,AF6-2))) | AH7: =IF(AG7="","",VLOOKUP(AG7,$Z$4:$AA$18,2,0)) | AI7: =IF(AND(AI6=2,B7=0),1,IF(AND(AI6=1,B7=0),1,IF(B7="","",IF(AND(I7=I5,B6=0),AI6+1,IF(AND(AI6>1,B7=0),AI6+1,IF(I7=I6,AI6+1,1)))))) -> 3 | AJ7: =IF(B7="","",IF(OR(AI6=1,AI6=2),"",IF(AI6>=3,AI6-2))) | AK7: =IF(AJ7="","",VLOOKUP(AJ7,$Z$4:$AA$18,2,0)) | AS7: 5 | AT7: 2 | AU7: 1 | AV7: 1 | AW7: 2 | AX7: R | AY7: O | AZ7: L
B8: =IF(Master!B8="","",Master!B8) -> 28 | C8: =IF(B8="","",VLOOKUP(B8,$AS$1:$AZ$38,6,0)) -> B | D8: =IF(L8="","",IF(L8>=1,"<--Win",IF(L8<0,"<--Bet",""))) | F8: =IF(B8="","",VLOOKUP(B8,$AS$1:$AZ$38,8,0)) -> H | G8: =IF(O8="","",IF(O8>=1,"<--Win",IF(O8<0,"<--Bet",""))) | I8: =IF(B8="","",VLOOKUP(B8,$AS$1:$AZ$38,7,0)) -> E | J8: =IF(R8="","",IF(R8>=1,"<--Win",IF(R8<0,"<--Bet",""))) -> <--Win | L8: =IF(AND(AD8<>"",AD9<>""),-AE8,IF(AND(AD8>=1,AD9=""),AE8,"")) | M8: =IF(L8<>"",SUM($L$6:L8),"") | O8: =IF(AND(AG8<>"",AG9<>""),-AH8,IF(AND(AG8>=1,AG9=""),AH8,"")) | P8: =IF(O8<>"",SUM($O$6:O8),"") | R8: =IF(AND(AJ8<>"",AJ9<>""),-AK8,IF(AND(AJ8>=1,AJ9=""),AK8,"")) -> 1 | S8: =IF(R8<>"",SUM($R$6:R8),"") -> 1 | U8: =IF(B8="",U7,SUM($L$7:L8)+SUM($O$7:O8)+SUM($R$7:R8)) -> 1 | Z8: 5 | AA8: =Master!G21 -> 8 | AC8: =IF(AND(AC7=2,B8=0),1,IF(AND(AC7=1,B8=0),1,IF(B8="","",IF(AND(C8=C6,B7=0),AC7+1,IF(AND(AC7>1,B8=0),AC7+1,IF(C8=C7,AC7+1,1)))))) -> 1 | AD8: =IF(B8="","",IF(OR(AC7=1,AC7=2),"",IF(AC7>=3,AC7-2))) | AE8: =IF(AD8="","",VLOOKUP(AD8,$Z$4:$AA$18,2,0)) | AF8: =IF(AND(AF7=2,B8=0),1,IF(AND(AF7=1,B8=0),1,IF(B8="","",IF(AND(F8=F6,B7=0),AF7+1,IF(AND(AF7>1,B8=0),AF7+1,IF(F8=F7,AF7+1,1)))))) -> 1 | AG8: =IF(B8="","",IF(OR(AF7=1,AF7=2),"",IF(AF7>=3,AF7-2))) | AH8: =IF(AG8="","",VLOOKUP(AG8,$Z$4:$AA$18,2,0)) | AI8: =IF(AND(AI7=2,B8=0),1,IF(AND(AI7=1,B8=0),1,IF(B8="","",IF(AND(I8=I6,B7=0),AI7+1,IF(AND(AI7>1,B8=0),AI7+1,IF(I8=I7,AI7+1,1)))))) -> 1 | AJ8: =IF(B8="","",IF(OR(AI7=1,AI7=2),"",IF(AI7>=3,AI7-2))) -> 1 | AK8: =IF(AJ8="","",VLOOKUP(AJ8,$Z$4:$AA$18,2,0)) -> 1 | AS8: 6 | AT8: 2 | AU8: 1 | AV8: 1 | AW8: 3 | AX8: B | AY8: E | AZ8: L
B9: =IF(Master!B9="","",Master!B9) -> 13 | C9: =IF(B9="","",VLOOKUP(B9,$AS$1:$AZ$38,6,0)) -> B | D9: =IF(L9="","",IF(L9>=1,"<--Win",IF(L9<0,"<--Bet",""))) | F9: =IF(B9="","",VLOOKUP(B9,$AS$1:$AZ$38,8,0)) -> L | G9: =IF(O9="","",IF(O9>=1,"<--Win",IF(O9<0,"<--Bet",""))) | I9: =IF(B9="","",VLOOKUP(B9,$AS$1:$AZ$38,7,0)) -> O | J9: =IF(R9="","",IF(R9>=1,"<--Win",IF(R9<0,"<--Bet",""))) | L9: =IF(AND(AD9<>"",AD10<>""),-AE9,IF(AND(AD9>=1,AD10=""),AE9,"")) | M9: =IF(L9<>"",SUM($L$6:L9),"") | O9: =IF(AND(AG9<>"",AG10<>""),-AH9,IF(AND(AG9>=1,AG10=""),AH9,"")) | P9: =IF(O9<>"",SUM($O$6:O9),"") | R9: =IF(AND(AJ9<>"",AJ10<>""),-AK9,IF(AND(AJ9>=1,AJ10=""),AK9,"")) | S9: =IF(R9<>"",SUM($R$6:R9),"") | U9: =IF(B9="",U8,SUM($L$7:L9)+SUM($O$7:O9)+SUM($R$7:R9)) -> 1 | W9: Max | Z9: 6 | AA9: =Master!G22 -> 12 | AC9: =IF(AND(AC8=2,B9=0),1,IF(AND(AC8=1,B9=0),1,IF(B9="","",IF(AND(C9=C7,B8=0),AC8+1,IF(AND(AC8>1,B9=0),AC8+1,IF(C9=C8,AC8+1,1)))))) -> 2 | AD9: =IF(B9="","",IF(OR(AC8=1,AC8=2),"",IF(AC8>=3,AC8-2))) | AE9: =IF(AD9="","",VLOOKUP(AD9,$Z$4:$AA$18,2,0)) | AF9: =IF(AND(AF8=2,B9=0),1,IF(AND(AF8=1,B9=0),1,IF(B9="","",IF(AND(F9=F7,B8=0),AF8+1,IF(AND(AF8>1,B9=0),AF8+1,IF(F9=F8,AF8+1,1)))))) -> 1 | AG9: =IF(B9="","",IF(OR(AF8=1,AF8=2),"",IF(AF8>=3,AF8-2))) | AH9: =IF(AG9="","",VLOOKUP(AG9,$Z$4:$AA$18,2,0)) | AI9: =IF(AND(AI8=2,B9=0),1,IF(AND(AI8=1,B9=0),1,IF(B9="","",IF(AND(I9=I7,B8=0),AI8+1,IF(AND(AI8>1,B9=0),AI8+1,IF(I9=I8,AI8+1,1)))))) -> 1 | AJ9: =IF(B9="","",IF(OR(AI8=1,AI8=2),"",IF(AI8>=3,AI8-2))) | AK9: =IF(AJ9="","",VLOOKUP(AJ9,$Z$4:$AA$18,2,0)) | AS9: 7 | AT9: 3 | AU9: 2 | AV9: 1 | AW9: 1 | AX9: R | AY9: O | AZ9: L
B10: =IF(Master!B10="","",Master!B10) -> 12 | C10: =IF(B10="","",VLOOKUP(B10,$AS$1:$AZ$38,6,0)) -> R | D10: =IF(L10="","",IF(L10>=1,"<--Win",IF(L10<0,"<--Bet",""))) | F10: =IF(B10="","",VLOOKUP(B10,$AS$1:$AZ$38,8,0)) -> L | G10: =IF(O10="","",IF(O10>=1,"<--Win",IF(O10<0,"<--Bet",""))) | I10: =IF(B10="","",VLOOKUP(B10,$AS$1:$AZ$38,7,0)) -> E | J10: =IF(R10="","",IF(R10>=1,"<--Win",IF(R10<0,"<--Bet",""))) | L10: =IF(AND(AD10<>"",AD11<>""),-AE10,IF(AND(AD10>=1,AD11=""),AE10,"")) | M10: =IF(L10<>"",SUM($L$6:L10),"") | O10: =IF(AND(AG10<>"",AG11<>""),-AH10,IF(AND(AG10>=1,AG11=""),AH10,"")) | P10: =IF(O10<>"",SUM($O$6:O10),"") | R10: =IF(AND(AJ10<>"",AJ11<>""),-AK10,IF(AND(AJ10>=1,AJ11=""),AK10,"")) | S10: =IF(R10<>"",SUM($R$6:R10),"") | U10: =IF(B10="",U9,SUM($L$7:L10)+SUM($O$7:O10)+SUM($R$7:R10)) -> 1 | W10: R/B | X10: =MAX(L6:L1000) -> 20 | Z10: 7 | AA10: =Master!G23 -> 20 | AC10: =IF(AND(AC9=2,B10=0),1,IF(AND(AC9=1,B10=0),1,IF(B10="","",IF(AND(C10=C8,B9=0),AC9+1,IF(AND(AC9>1,B10=0),AC9+1,IF(C10=C9,AC9+1,1)))))) -> 1 | AD10: =IF(B10="","",IF(OR(AC9=1,AC9=2),"",IF(AC9>=3,AC9-2))) | AE10: =IF(AD10="","",VLOOKUP(AD10,$Z$4:$AA$18,2,0)) | AF10: =IF(AND(AF9=2,B10=0),1,IF(AND(AF9=1,B10=0),1,IF(B10="","",IF(AND(F10=F8,B9=0),AF9+1,IF(AND(AF9>1,B10=0),AF9+1,IF(F10=F9,AF9+1,1)))))) -> 2 | AG10: =IF(B10="","",IF(OR(AF9=1,AF9=2),"",IF(AF9>=3,AF9-2))) | AH10: =IF(AG10="","",VLOOKUP(AG10,$Z$4:$AA$18,2,0)) | AI10: =IF(AND(AI9=2,B10=0),1,IF(AND(AI9=1,B10=0),1,IF(B10="","",IF(AND(I10=I8,B9=0),AI9+1,IF(AND(AI9>1,B10=0),AI9+1,IF(I10=I9,AI9+1,1)))))) -> 1 | AJ10: =IF(B10="","",IF(OR(AI9=1,AI9=2),"",IF(AI9>=3,AI9-2))) | AK10: =IF(AJ10="","",VLOOKUP(AJ10,$Z$4:$AA$18,2,0)) | AS10: 8 | AT10: 3 | AU10: 2 | AV10: 1 | AW10: 2 | AX10: B | AY10: E | AZ10: L
B11: =IF(Master!B11="","",Master!B11) -> 32 | C11: =IF(B11="","",VLOOKUP(B11,$AS$1:$AZ$38,6,0)) -> R | D11: =IF(L11="","",IF(L11>=1,"<--Win",IF(L11<0,"<--Bet",""))) | F11: =IF(B11="","",VLOOKUP(B11,$AS$1:$AZ$38,8,0)) -> H | G11: =IF(O11="","",IF(O11>=1,"<--Win",IF(O11<0,"<--Bet",""))) | I11: =IF(B11="","",VLOOKUP(B11,$AS$1:$AZ$38,7,0)) -> E | J11: =IF(R11="","",IF(R11>=1,"<--Win",IF(R11<0,"<--Bet",""))) | L11: =IF(AND(AD11<>"",AD12<>""),-AE11,IF(AND(AD11>=1,AD12=""),AE11,"")) | M11: =IF(L11<>"",SUM($L$6:L11),"") | O11: =IF(AND(AG11<>"",AG12<>""),-AH11,IF(AND(AG11>=1,AG12=""),AH11,"")) | P11: =IF(O11<>"",SUM($O$6:O11),"") | R11: =IF(AND(AJ11<>"",AJ12<>""),-AK11,IF(AND(AJ11>=1,AJ12=""),AK11,"")) | S11: =IF(R11<>"",SUM($R$6:R11),"") | U11: =IF(B11="",U10,SUM($L$7:L11)+SUM($O$7:O11)+SUM($R$7:R11)) -> 1 | W11: H/L | X11: =MAX(O6:O1000) -> 20 | Z11: 8 | AA11: =Master!G24 -> 35 | AC11: =IF(AND(AC10=2,B11=0),1,IF(AND(AC10=1,B11=0),1,IF(B11="","",IF(AND(C11=C9,B10=0),AC10+1,IF(AND(AC10>1,B11=0),AC10+1,IF(C11=C10,AC10+1,1)))))) -> 2 | AD11: =IF(B11="","",IF(OR(AC10=1,AC10=2),"",IF(AC10>=3,AC10-2))) | AE11: =IF(AD11="","",VLOOKUP(AD11,$Z$4:$AA$18,2,0)) | AF11: =IF(AND(AF10=2,B11=0),1,IF(AND(AF10=1,B11=0),1,IF(B11="","",IF(AND(F11=F9,B10=0),AF10+1,IF(AND(AF10>1,B11=0),AF10+1,IF(F11=F10,AF10+1,1)))))) -> 1 | AG11: =IF(B11="","",IF(OR(AF10=1,AF10=2),"",IF(AF10>=3,AF10-2))) | AH11: =IF(AG11="","",VLOOKUP(AG11,$Z$4:$AA$18,2,0)) | AI11: =IF(AND(AI10=2,B11=0),1,IF(AND(AI10=1,B11=0),1,IF(B11="","",IF(AND(I11=I9,B10=0),AI10+1,IF(AND(AI10>1,B11=0),AI10+1,IF(I11=I10,AI10+1,1)))))) -> 2 | AJ11: =IF(B11="","",IF(OR(AI10=1,AI10=2),"",IF(AI10>=3,AI10-2))) | AK11: =IF(AJ11="","",VLOOKUP(AJ11,$Z$4:$AA$18,2,0)) | AS11: 9 | AT11: 3 | AU11: 2 | AV11: 1 | AW11: 3 | AX11: R | AY11: O | AZ11: L
B12: =IF(Master!B12="","",Master!B12) -> 11 | C12: =IF(B12="","",VLOOKUP(B12,$AS$1:$AZ$38,6,0)) -> B | D12: =IF(L12="","",IF(L12>=1,"<--Win",IF(L12<0,"<--Bet",""))) | F12: =IF(B12="","",VLOOKUP(B12,$AS$1:$AZ$38,8,0)) -> L | G12: =IF(O12="","",IF(O12>=1,"<--Win",IF(O12<0,"<--Bet",""))) | I12: =IF(B12="","",VLOOKUP(B12,$AS$1:$AZ$38,7,0)) -> O | J12: =IF(R12="","",IF(R12>=1,"<--Win",IF(R12<0,"<--Bet",""))) | L12: =IF(AND(AD12<>"",AD13<>""),-AE12,IF(AND(AD12>=1,AD13=""),AE12,"")) | M12: =IF(L12<>"",SUM($L$6:L12),"") | O12: =IF(AND(AG12<>"",AG13<>""),-AH12,IF(AND(AG12>=1,AG13=""),AH12,"")) | P12: =IF(O12<>"",SUM($O$6:O12),"") | R12: =IF(AND(AJ12<>"",AJ13<>""),-AK12,IF(AND(AJ12>=1,AJ13=""),AK12,"")) | S12: =IF(R12<>"",SUM($R$6:R12),"") | U12: =IF(B12="",U11,SUM($L$7:L12)+SUM($O$7:O12)+SUM($R$7:R12)) -> 1 | W12: O/E | X12: =MAX(R6:R1000) -> 12 | Z12: 9 | AA12: =Master!G25 -> 55 | AC12: =IF(AND(AC11=2,B12=0),1,IF(AND(AC11=1,B12=0),1,IF(B12="","",IF(AND(C12=C10,B11=0),AC11+1,IF(AND(AC11>1,B12=0),AC11+1,IF(C12=C11,AC11+1,1)))))) -> 1 | AD12: =IF(B12="","",IF(OR(AC11=1,AC11=2),"",IF(AC11>=3,AC11-2))) | AE12: =IF(AD12="","",VLOOKUP(AD12,$Z$4:$AA$18,2,0)) | AF12: =IF(AND(AF11=2,B12=0),1,IF(AND(AF11=1,B12=0),1,IF(B12="","",IF(AND(F12=F10,B11=0),AF11+1,IF(AND(AF11>1,B12=0),AF11+1,IF(F12=F11,AF11+1,1)))))) -> 1 | AG12: =IF(B12="","",IF(OR(AF11=1,AF11=2),"",IF(AF11>=3,AF11-2))) | AH12: =IF(AG12="","",VLOOKUP(AG12,$Z$4:$AA$18,2,0)) | AI12: =IF(AND(AI11=2,B12=0),1,IF(AND(AI11=1,B12=0),1,IF(B12="","",IF(AND(I12=I10,B11=0),AI11+1,IF(AND(AI11>1,B12=0),AI11+1,IF(I12=I11,AI11+1,1)))))) -> 1 | AJ12: =IF(B12="","",IF(OR(AI11=1,AI11=2),"",IF(AI11>=3,AI11-2))) | AK12: =IF(AJ12="","",VLOOKUP(AJ12,$Z$4:$AA$18,2,0)) | AS12: 10 | AT12: 4 | AU12: 2 | AV12: 1 | AW12: 1 | AX12: B | AY12: E | AZ12: L
B13: =IF(Master!B13="","",Master!B13) -> 35 | C13: =IF(B13="","",VLOOKUP(B13,$AS$1:$AZ$38,6,0)) -> B | D13: =IF(L13="","",IF(L13>=1,"<--Win",IF(L13<0,"<--Bet",""))) | F13: =IF(B13="","",VLOOKUP(B13,$AS$1:$AZ$38,8,0)) -> H | G13: =IF(O13="","",IF(O13>=1,"<--Win",IF(O13<0,"<--Bet",""))) | I13: =IF(B13="","",VLOOKUP(B13,$AS$1:$AZ$38,7,0)) -> O | J13: =IF(R13="","",IF(R13>=1,"<--Win",IF(R13<0,"<--Bet",""))) | L13: =IF(AND(AD13<>"",AD14<>""),-AE13,IF(AND(AD13>=1,AD14=""),AE13,"")) | M13: =IF(L13<>"",SUM($L$6:L13),"") | O13: =IF(AND(AG13<>"",AG14<>""),-AH13,IF(AND(AG13>=1,AG14=""),AH13,"")) | P13: =IF(O13<>"",SUM($O$6:O13),"") | R13: =IF(AND(AJ13<>"",AJ14<>""),-AK13,IF(AND(AJ13>=1,AJ14=""),AK13,"")) | S13: =IF(R13<>"",SUM($R$6:R13),"") | U13: =IF(B13="",U12,SUM($L$7:L13)+SUM($O$7:O13)+SUM($R$7:R13)) -> 1 | Z13: 10 | AA13: =Master!G26 -> 90 | AC13: =IF(AND(AC12=2,B13=0),1,IF(AND(AC12=1,B13=0),1,IF(B13="","",IF(AND(C13=C11,B12=0),AC12+1,IF(AND(AC12>1,B13=0),AC12+1,IF(C13=C12,AC12+1,1)))))) -> 2 | AD13: =IF(B13="","",IF(OR(AC12=1,AC12=2),"",IF(AC12>=3,AC12-2))) | AE13: =IF(AD13="","",VLOOKUP(AD13,$Z$4:$AA$18,2,0)) | AF13: =IF(AND(AF12=2,B13=0),1,IF(AND(AF12=1,B13=0),1,IF(B13="","",IF(AND(F13=F11,B12=0),AF12+1,IF(AND(AF12>1,B13=0),AF12+1,IF(F13=F12,AF12+1,1)))))) -> 1 | AG13: =IF(B13="","",IF(OR(AF12=1,AF12=2),"",IF(AF12>=3,AF12-2))) | AH13: =IF(AG13="","",VLOOKUP(AG13,$Z$4:$AA$18,2,0)) | AI13: =IF(AND(AI12=2,B13=0),1,IF(AND(AI12=1,B13=0),1,IF(B13="","",IF(AND(I13=I11,B12=0),AI12+1,IF(AND(AI12>1,B13=0),AI12+1,IF(I13=I12,AI12+1,1)))))) -> 2 | AJ13: =IF(B13="","",IF(OR(AI12=1,AI12=2),"",IF(AI12>=3,AI12-2))) | AK13: =IF(AJ13="","",VLOOKUP(AJ13,$Z$4:$AA$18,2,0)) | AS13: 11 | AT13: 4 | AU13: 2 | AV13: 1 | AW13: 2 | AX13: B | AY13: O | AZ13: L
B14: =IF(Master!B14="","",Master!B14) -> 30 | C14: =IF(B14="","",VLOOKUP(B14,$AS$1:$AZ$38,6,0)) -> R | D14: =IF(L14="","",IF(L14>=1,"<--Win",IF(L14<0,"<--Bet",""))) | F14: =IF(B14="","",VLOOKUP(B14,$AS$1:$AZ$38,8,0)) -> H | G14: =IF(O14="","",IF(O14>=1,"<--Win",IF(O14<0,"<--Bet",""))) | I14: =IF(B14="","",VLOOKUP(B14,$AS$1:$AZ$38,7,0)) -> E | J14: =IF(R14="","",IF(R14>=1,"<--Win",IF(R14<0,"<--Bet",""))) | L14: =IF(AND(AD14<>"",AD15<>""),-AE14,IF(AND(AD14>=1,AD15=""),AE14,"")) | M14: =IF(L14<>"",SUM($L$6:L14),"") | O14: =IF(AND(AG14<>"",AG15<>""),-AH14,IF(AND(AG14>=1,AG15=""),AH14,"")) | P14: =IF(O14<>"",SUM($O$6:O14),"") | R14: =IF(AND(AJ14<>"",AJ15<>""),-AK14,IF(AND(AJ14>=1,AJ15=""),AK14,"")) | S14: =IF(R14<>"",SUM($R$6:R14),"") | U14: =IF(B14="",U13,SUM($L$7:L14)+SUM($O$7:O14)+SUM($R$7:R14)) -> 1 | W14: Max Lvl. | Z14: 11 | AA14: =Master!G27 -> 145 | AC14: =IF(AND(AC13=2,B14=0),1,IF(AND(AC13=1,B14=0),1,IF(B14="","",IF(AND(C14=C12,B13=0),AC13+1,IF(AND(AC13>1,B14=0),AC13+1,IF(C14=C13,AC13+1,1)))))) -> 1 | AD14: =IF(B14="","",IF(OR(AC13=1,AC13=2),"",IF(AC13>=3,AC13-2))) | AE14: =IF(AD14="","",VLOOKUP(AD14,$Z$4:$AA$18,2,0)) | AF14: =IF(AND(AF13=2,B14=0),1,IF(AND(AF13=1,B14=0),1,IF(B14="","",IF(AND(F14=F12,B13=0),AF13+1,IF(AND(AF13>1,B14=0),AF13+1,IF(F14=F13,AF13+1,1)))))) -> 2 | AG14: =IF(B14="","",IF(OR(AF13=1,AF13=2),"",IF(AF13>=3,AF13-2))) | AH14: =IF(AG14="","",VLOOKUP(AG14,$Z$4:$AA$18,2,0)) | AI14: =IF(AND(AI13=2,B14=0),1,IF(AND(AI13=1,B14=0),1,IF(B14="","",IF(AND(I14=I12,B13=0),AI13+1,IF(AND(AI13>1,B14=0),AI13+1,IF(I14=I13,AI13+1,1)))))) -> 1 | AJ14: =IF(B14="","",IF(OR(AI13=1,AI13=2),"",IF(AI13>=3,AI13-2))) | AK14: =IF(AJ14="","",VLOOKUP(AJ14,$Z$4:$AA$18,2,0)) | AS14: 12 | AT14: 4 | AU14: 2 | AV14: 1 | AW14: 3 | AX14: R | AY14: E | AZ14: L
B15: =IF(Master!B15="","",Master!B15) -> 21 | C15: =IF(B15="","",VLOOKUP(B15,$AS$1:$AZ$38,6,0)) -> R | D15: =IF(L15="","",IF(L15>=1,"<--Win",IF(L15<0,"<--Bet",""))) | F15: =IF(B15="","",VLOOKUP(B15,$AS$1:$AZ$38,8,0)) -> H | G15: =IF(O15="","",IF(O15>=1,"<--Win",IF(O15<0,"<--Bet",""))) | I15: =IF(B15="","",VLOOKUP(B15,$AS$1:$AZ$38,7,0)) -> O | J15: =IF(R15="","",IF(R15>=1,"<--Win",IF(R15<0,"<--Bet",""))) | L15: =IF(AND(AD15<>"",AD16<>""),-AE15,IF(AND(AD15>=1,AD16=""),AE15,"")) | M15: =IF(L15<>"",SUM($L$6:L15),"") | O15: =IF(AND(AG15<>"",AG16<>""),-AH15,IF(AND(AG15>=1,AG16=""),AH15,"")) | P15: =IF(O15<>"",SUM($O$6:O15),"") | R15: =IF(AND(AJ15<>"",AJ16<>""),-AK15,IF(AND(AJ15>=1,AJ16=""),AK15,"")) | S15: =IF(R15<>"",SUM($R$6:R15),"") | U15: =IF(B15="",U14,SUM($L$7:L15)+SUM($O$7:O15)+SUM($R$7:R15)) -> 1 | W15: R/B | X15: =MAX(AD6:AD1000) -> 7 | Z15: 12 | AA15: =Master!G28 -> 235 | AC15: =IF(AND(AC14=2,B15=0),1,IF(AND(AC14=1,B15=0),1,IF(B15="","",IF(AND(C15=C13,B14=0),AC14+1,IF(AND(AC14>1,B15=0),AC14+1,IF(C15=C14,AC14+1,1)))))) -> 2 | AD15: =IF(B15="","",IF(OR(AC14=1,AC14=2),"",IF(AC14>=3,AC14-2))) | AE15: =IF(AD15="","",VLOOKUP(AD15,$Z$4:$AA$18,2,0)) | AF15: =IF(AND(AF14=2,B15=0),1,IF(AND(AF14=1,B15=0),1,IF(B15="","",IF(AND(F15=F13,B14=0),AF14+1,IF(AND(AF14>1,B15=0),AF14+1,IF(F15=F14,AF14+1,1)))))) -> 3 | AG15: =IF(B15="","",IF(OR(AF14=1,AF14=2),"",IF(AF14>=3,AF14-2))) | AH15: =IF(AG15="","",VLOOKUP(AG15,$Z$4:$AA$18,2,0)) | AI15: =IF(AND(AI14=2,B15=0),1,IF(AND(AI14=1,B15=0),1,IF(B15="","",IF(AND(I15=I13,B14=0),AI14+1,IF(AND(AI14>1,B15=0),AI14+1,IF(I15=I14,AI14+1,1)))))) -> 1 | AJ15: =IF(B15="","",IF(OR(AI14=1,AI14=2),"",IF(AI14>=3,AI14-2))) | AK15: =IF(AJ15="","",VLOOKUP(AJ15,$Z$4:$AA$18,2,0)) | AS15: 13 | AT15: 5 | AU15: 3 | AV15: 2 | AW15: 1 | AX15: B | AY15: O | AZ15: L
B16: =IF(Master!B16="","",Master!B16) -> 13 | C16: =IF(B16="","",VLOOKUP(B16,$AS$1:$AZ$38,6,0)) -> B | D16: =IF(L16="","",IF(L16>=1,"<--Win",IF(L16<0,"<--Bet",""))) | F16: =IF(B16="","",VLOOKUP(B16,$AS$1:$AZ$38,8,0)) -> L | G16: =IF(O16="","",IF(O16>=1,"<--Win",IF(O16<0,"<--Bet",""))) -> <--Win | I16: =IF(B16="","",VLOOKUP(B16,$AS$1:$AZ$38,7,0)) -> O | J16: =IF(R16="","",IF(R16>=1,"<--Win",IF(R16<0,"<--Bet",""))) | L16: =IF(AND(AD16<>"",AD17<>""),-AE16,IF(AND(AD16>=1,AD17=""),AE16,"")) | M16: =IF(L16<>"",SUM($L$6:L16),"") | O16: =IF(AND(AG16<>"",AG17<>""),-AH16,IF(AND(AG16>=1,AG17=""),AH16,"")) -> 1 | P16: =IF(O16<>"",SUM($O$6:O16),"") -> 1 | R16: =IF(AND(AJ16<>"",AJ17<>""),-AK16,IF(AND(AJ16>=1,AJ17=""),AK16,"")) | S16: =IF(R16<>"",SUM($R$6:R16),"") | U16: =IF(B16="",U15,SUM($L$7:L16)+SUM($O$7:O16)+SUM($R$7:R16)) -> 2 | W16: H/L | X16: =MAX(AG6:AG1000) -> 7 | Z16: 13 | AA16: =Master!G29 -> 0 | AC16: =IF(AND(AC15=2,B16=0),1,IF(AND(AC15=1,B16=0),1,IF(B16="","",IF(AND(C16=C14,B15=0),AC15+1,IF(AND(AC15>1,B16=0),AC15+1,IF(C16=C15,AC15+1,1)))))) -> 1 | AD16: =IF(B16="","",IF(OR(AC15=1,AC15=2),"",IF(AC15>=3,AC15-2))) | AE16: =IF(AD16="","",VLOOKUP(AD16,$Z$4:$AA$18,2,0)) | AF16: =IF(AND(AF15=2,B16=0),1,IF(AND(AF15=1,B16=0),1,IF(B16="","",IF(AND(F16=F14,B15=0),AF15+1,IF(AND(AF15>1,B16=0),AF15+1,IF(F16=F15,AF15+1,1)))))) -> 1 | AG16: =IF(B16="","",IF(OR(AF15=1,AF15=2),"",IF(AF15>=3,AF15-2))) -> 1 | AH16: =IF(AG16="","",VLOOKUP(AG16,$Z$4:$AA$18,2,0)) -> 1 | AI16: =IF(AND(AI15=2,B16=0),1,IF(AND(AI15=1,B16=0),1,IF(B16="","",IF(AND(I16=I14,B15=0),AI15+1,IF(AND(AI15>1,B16=0),AI15+1,IF(I16=I15,AI15+1,1)))))) -> 2 | AJ16: =IF(B16="","",IF(OR(AI15=1,AI15=2),"",IF(AI15>=3,AI15-2))) | AK16: =IF(AJ16="","",VLOOKUP(AJ16,$Z$4:$AA$18,2,0)) | AS16: 14 | AT16: 5 | AU16: 3 | AV16: 2 | AW16: 2 | AX16: R | AY16: E | AZ16: L
B17: =IF(Master!B17="","",Master!B17) -> 0 | C17: =IF(B17="","",VLOOKUP(B17,$AS$1:$AZ$38,6,0)) -> Zero | D17: =IF(L17="","",IF(L17>=1,"<--Win",IF(L17<0,"<--Bet",""))) | F17: =IF(B17="","",VLOOKUP(B17,$AS$1:$AZ$38,8,0)) -> Zero | G17: =IF(O17="","",IF(O17>=1,"<--Win",IF(O17<0,"<--Bet",""))) | I17: =IF(B17="","",VLOOKUP(B17,$AS$1:$AZ$38,7,0)) -> Zero | J17: =IF(R17="","",IF(R17>=1,"<--Win",IF(R17<0,"<--Bet",""))) | L17: =IF(AND(AD17<>"",AD18<>""),-AE17,IF(AND(AD17>=1,AD18=""),AE17,"")) | M17: =IF(L17<>"",SUM($L$6:L17),"") | O17: =IF(AND(AG17<>"",AG18<>""),-AH17,IF(AND(AG17>=1,AG18=""),AH17,"")) | P17: =IF(O17<>"",SUM($O$6:O17),"") | R17: =IF(AND(AJ17<>"",AJ18<>""),-AK17,IF(AND(AJ17>=1,AJ18=""),AK17,"")) | S17: =IF(R17<>"",SUM($R$6:R17),"") | U17: =IF(B17="",U16,SUM($L$7:L17)+SUM($O$7:O17)+SUM($R$7:R17)) -> 2 | W17: O/E | X17: =MAX(AJ6:AJ1000) -> 6 | Z17: 14 | AA17: =Master!G30 -> 0 | AC17: =IF(AND(AC16=2,B17=0),1,IF(AND(AC16=1,B17=0),1,IF(B17="","",IF(AND(C17=C15,B16=0),AC16+1,IF(AND(AC16>1,B17=0),AC16+1,IF(C17=C16,AC16+1,1)))))) -> 1 | AD17: =IF(B17="","",IF(OR(AC16=1,AC16=2),"",IF(AC16>=3,AC16-2))) | AE17: =IF(AD17="","",VLOOKUP(AD17,$Z$4:$AA$18,2,0)) | AF17: =IF(AND(AF16=2,B17=0),1,IF(AND(AF16=1,B17=0),1,IF(B17="","",IF(AND(F17=F15,B16=0),AF16+1,IF(AND(AF16>1,B17=0),AF16+1,IF(F17=F16,AF16+1,1)))))) -> 1 | AG17: =IF(B17="","",IF(OR(AF16=1,AF16=2),"",IF(AF16>=3,AF16-2))) | AH17: =IF(AG17="","",VLOOKUP(AG17,$Z$4:$AA$18,2,0)) | AI17: =IF(AND(AI16=2,B17=0),1,IF(AND(AI16=1,B17=0),1,IF(B17="","",IF(AND(I17=I15,B16=0),AI16+1,IF(AND(AI16>1,B17=0),AI16+1,IF(I17=I16,AI16+1,1)))))) -> 1 | AJ17: =IF(B17="","",IF(OR(AI16=1,AI16=2),"",IF(AI16>=3,AI16-2))) | AK17: =IF(AJ17="","",VLOOKUP(AJ17,$Z$4:$AA$18,2,0)) | AS17: 15 | AT17: 5 | AU17: 3 | AV17: 2 | AW17: 3 | AX17: B | AY17: O | AZ17: L
B18: =IF(Master!B18="","",Master!B18) -> 0 | C18: =IF(B18="","",VLOOKUP(B18,$AS$1:$AZ$38,6,0)) -> Zero | D18: =IF(L18="","",IF(L18>=1,"<--Win",IF(L18<0,"<--Bet",""))) | F18: =IF(B18="","",VLOOKUP(B18,$AS$1:$AZ$38,8,0)) -> Zero | G18: =IF(O18="","",IF(O18>=1,"<--Win",IF(O18<0,"<--Bet",""))) | I18: =IF(B18="","",VLOOKUP(B18,$AS$1:$AZ$38,7,0)) -> Zero | J18: =IF(R18="","",IF(R18>=1,"<--Win",IF(R18<0,"<--Bet",""))) | L18: =IF(AND(AD18<>"",AD19<>""),-AE18,IF(AND(AD18>=1,AD19=""),AE18,"")) | M18: =IF(L18<>"",SUM($L$6:L18),"") | O18: =IF(AND(AG18<>"",AG19<>""),-AH18,IF(AND(AG18>=1,AG19=""),AH18,"")) | P18: =IF(O18<>"",SUM($O$6:O18),"") | R18: =IF(AND(AJ18<>"",AJ19<>""),-AK18,IF(AND(AJ18>=1,AJ19=""),AK18,"")) | S18: =IF(R18<>"",SUM($R$6:R18),"") | U18: =IF(B18="",U17,SUM($L$7:L18)+SUM($O$7:O18)+SUM($R$7:R18)) -> 2 | Z18: 15 | AA18: =Master!G31 -> 0 | AC18: =IF(AND(AC17=2,B18=0),1,IF(AND(AC17=1,B18=0),1,IF(B18="","",IF(AND(C18=C16,B17=0),AC17+1,IF(AND(AC17>1,B18=0),AC17+1,IF(C18=C17,AC17+1,1)))))) -> 1 | AD18: =IF(B18="","",IF(OR(AC17=1,AC17=2),"",IF(AC17>=3,AC17-2))) | AE18: =IF(AD18="","",VLOOKUP(AD18,$Z$4:$AA$18,2,0)) | AF18: =IF(AND(AF17=2,B18=0),1,IF(AND(AF17=1,B18=0),1,IF(B18="","",IF(AND(F18=F16,B17=0),AF17+1,IF(AND(AF17>1,B18=0),AF17+1,IF(F18=F17,AF17+1,1)))))) -> 1 | AG18: =IF(B18="","",IF(OR(AF17=1,AF17=2),"",IF(AF17>=3,AF17-2))) | AH18: =IF(AG18="","",VLOOKUP(AG18,$Z$4:$AA$18,2,0)) | AI18: =IF(AND(AI17=2,B18=0),1,IF(AND(AI17=1,B18=0),1,IF(B18="","",IF(AND(I18=I16,B17=0),AI17+1,IF(AND(AI17>1,B18=0),AI17+1,IF(I18=I17,AI17+1,1)))))) -> 1 | AJ18: =IF(B18="","",IF(OR(AI17=1,AI17=2),"",IF(AI17>=3,AI17-2))) | AK18: =IF(AJ18="","",VLOOKUP(AJ18,$Z$4:$AA$18,2,0)) | AS18: 16 | AT18: 6 | AU18: 3 | AV18: 2 | AW18: 1 | AX18: R | AY18: E | AZ18: L
B19: =IF(Master!B19="","",Master!B19) -> 10 | C19: =IF(B19="","",VLOOKUP(B19,$AS$1:$AZ$38,6,0)) -> B | D19: =IF(L19="","",IF(L19>=1,"<--Win",IF(L19<0,"<--Bet",""))) | F19: =IF(B19="","",VLOOKUP(B19,$AS$1:$AZ$38,8,0)) -> L | G19: =IF(O19="","",IF(O19>=1,"<--Win",IF(O19<0,"<--Bet",""))) | I19: =IF(B19="","",VLOOKUP(B19,$AS$1:$AZ$38,7,0)) -> E | J19: =IF(R19="","",IF(R19>=1,"<--Win",IF(R19<0,"<--Bet",""))) | L19: =IF(AND(AD19<>"",AD20<>""),-AE19,IF(AND(AD19>=1,AD20=""),AE19,"")) | M19: =IF(L19<>"",SUM($L$6:L19),"") | O19: =IF(AND(AG19<>"",AG20<>""),-AH19,IF(AND(AG19>=1,AG20=""),AH19,"")) | P19: =IF(O19<>"",SUM($O$6:O19),"") | R19: =IF(AND(AJ19<>"",AJ20<>""),-AK19,IF(AND(AJ19>=1,AJ20=""),AK19,"")) | S19: =IF(R19<>"",SUM($R$6:R19),"") | U19: =IF(B19="",U18,SUM($L$7:L19)+SUM($O$7:O19)+SUM($R$7:R19)) -> 2 | AC19: =IF(AND(AC18=2,B19=0),1,IF(AND(AC18=1,B19=0),1,IF(B19="","",IF(AND(C19=C17,B18=0),AC18+1,IF(AND(AC18>1,B19=0),AC18+1,IF(C19=C18,AC18+1,1)))))) -> 1 | AD19: =IF(B19="","",IF(OR(AC18=1,AC18=2),"",IF(AC18>=3,AC18-2))) | AE19: =IF(AD19="","",VLOOKUP(AD19,$Z$4:$AA$18,2,0)) | AF19: =IF(AND(AF18=2,B19=0),1,IF(AND(AF18=1,B19=0),1,IF(B19="","",IF(AND(F19=F17,B18=0),AF18+1,IF(AND(AF18>1,B19=0),AF18+1,IF(F19=F18,AF18+1,1)))))) -> 1 | AG19: =IF(B19="","",IF(OR(AF18=1,AF18=2),"",IF(AF18>=3,AF18-2))) | AH19: =IF(AG19="","",VLOOKUP(AG19,$Z$4:$AA$18,2,0)) | AI19: =IF(AND(AI18=2,B19=0),1,IF(AND(AI18=1,B19=0),1,IF(B19="","",IF(AND(I19=I17,B18=0),AI18+1,IF(AND(AI18>1,B19=0),AI18+1,IF(I19=I18,AI18+1,1)))))) -> 1 | AJ19: =IF(B19="","",IF(OR(AI18=1,AI18=2),"",IF(AI18>=3,AI18-2))) | AK19: =IF(AJ19="","",VLOOKUP(AJ19,$Z$4:$AA$18,2,0)) | AS19: 17 | AT19: 6 | AU19: 3 | AV19: 2 | AW19: 2 | AX19: B | AY19: O | AZ19: L
B20: =IF(Master!B20="","",Master!B20) -> 31 | C20: =IF(B20="","",VLOOKUP(B20,$AS$1:$AZ$38,6,0)) -> B | D20: =IF(L20="","",IF(L20>=1,"<--Win",IF(L20<0,"<--Bet",""))) | F20: =IF(B20="","",VLOOKUP(B20,$AS$1:$AZ$38,8,0)) -> H | G20: =IF(O20="","",IF(O20>=1,"<--Win",IF(O20<0,"<--Bet",""))) | I20: =IF(B20="","",VLOOKUP(B20,$AS$1:$AZ$38,7,0)) -> O | J20: =IF(R20="","",IF(R20>=1,"<--Win",IF(R20<0,"<--Bet",""))) | L20: =IF(AND(AD20<>"",AD21<>""),-AE20,IF(AND(AD20>=1,AD21=""),AE20,"")) | M20: =IF(L20<>"",SUM($L$6:L20),"") | O20: =IF(AND(AG20<>"",AG21<>""),-AH20,IF(AND(AG20>=1,AG21=""),AH20,"")) | P20: =IF(O20<>"",SUM($O$6:O20),"") | R20: =IF(AND(AJ20<>"",AJ21<>""),-AK20,IF(AND(AJ20>=1,AJ21=""),AK20,"")) | S20: =IF(R20<>"",SUM($R$6:R20),"") | U20: =IF(B20="",U19,SUM($L$7:L20)+SUM($O$7:O20)+SUM($R$7:R20)) -> 2 | W20: Max Units | AC20: =IF(AND(AC19=2,B20=0),1,IF(AND(AC19=1,B20=0),1,IF(B20="","",IF(AND(C20=C18,B19=0),AC19+1,IF(AND(AC19>1,B20=0),AC19+1,IF(C20=C19,AC19+1,1)))))) -> 2 | AD20: =IF(B20="","",IF(OR(AC19=1,AC19=2),"",IF(AC19>=3,AC19-2))) | AE20: =IF(AD20="","",VLOOKUP(AD20,$Z$4:$AA$18,2,0)) | AF20: =IF(AND(AF19=2,B20=0),1,IF(AND(AF19=1,B20=0),1,IF(B20="","",IF(AND(F20=F18,B19=0),AF19+1,IF(AND(AF19>1,B20=0),AF19+1,IF(F20=F19,AF19+1,1)))))) -> 1 | AG20: =IF(B20="","",IF(OR(AF19=1,AF19=2),"",IF(AF19>=3,AF19-2))) | AH20: =IF(AG20="","",VLOOKUP(AG20,$Z$4:$AA$18,2,0)) | AI20: =IF(AND(AI19=2,B20=0),1,IF(AND(AI19=1,B20=0),1,IF(B20="","",IF(AND(I20=I18,B19=0),AI19+1,IF(AND(AI19>1,B20=0),AI19+1,IF(I20=I19,AI19+1,1)))))) -> 1 | AJ20: =IF(B20="","",IF(OR(AI19=1,AI19=2),"",IF(AI19>=3,AI19-2))) | AK20: =IF(AJ20="","",VLOOKUP(AJ20,$Z$4:$AA$18,2,0)) | AS20: 18 | AT20: 6 | AU20: 3 | AV20: 2 | AW20: 3 | AX20: R | AY20: E | AZ20: L
B21: =IF(Master!B21="","",Master!B21) -> 29 | C21: =IF(B21="","",VLOOKUP(B21,$AS$1:$AZ$38,6,0)) -> B | D21: =IF(L21="","",IF(L21>=1,"<--Win",IF(L21<0,"<--Bet",""))) | F21: =IF(B21="","",VLOOKUP(B21,$AS$1:$AZ$38,8,0)) -> H | G21: =IF(O21="","",IF(O21>=1,"<--Win",IF(O21<0,"<--Bet",""))) | I21: =IF(B21="","",VLOOKUP(B21,$AS$1:$AZ$38,7,0)) -> O | J21: =IF(R21="","",IF(R21>=1,"<--Win",IF(R21<0,"<--Bet",""))) | L21: =IF(AND(AD21<>"",AD22<>""),-AE21,IF(AND(AD21>=1,AD22=""),AE21,"")) | M21: =IF(L21<>"",SUM($L$6:L21),"") | O21: =IF(AND(AG21<>"",AG22<>""),-AH21,IF(AND(AG21>=1,AG22=""),AH21,"")) | P21: =IF(O21<>"",SUM($O$6:O21),"") | R21: =IF(AND(AJ21<>"",AJ22<>""),-AK21,IF(AND(AJ21>=1,AJ22=""),AK21,"")) | S21: =IF(R21<>"",SUM($R$6:R21),"") | U21: =IF(B21="",U20,SUM($L$7:L21)+SUM($O$7:O21)+SUM($R$7:R21)) -> 2 | W21: R/B | X21: =MAX(M7:M1000) -> 23 | AC21: =IF(AND(AC20=2,B21=0),1,IF(AND(AC20=1,B21=0),1,IF(B21="","",IF(AND(C21=C19,B20=0),AC20+1,IF(AND(AC20>1,B21=0),AC20+1,IF(C21=C20,AC20+1,1)))))) -> 3 | AD21: =IF(B21="","",IF(OR(AC20=1,AC20=2),"",IF(AC20>=3,AC20-2))) | AE21: =IF(AD21="","",VLOOKUP(AD21,$Z$4:$AA$18,2,0)) | AF21: =IF(AND(AF20=2,B21=0),1,IF(AND(AF20=1,B21=0),1,IF(B21="","",IF(AND(F21=F19,B20=0),AF20+1,IF(AND(AF20>1,B21=0),AF20+1,IF(F21=F20,AF20+1,1)))))) -> 2 | AG21: =IF(B21="","",IF(OR(AF20=1,AF20=2),"",IF(AF20>=3,AF20-2))) | AH21: =IF(AG21="","",VLOOKUP(AG21,$Z$4:$AA$18,2,0)) | AI21: =IF(AND(AI20=2,B21=0),1,IF(AND(AI20=1,B21=0),1,IF(B21="","",IF(AND(I21=I19,B20=0),AI20+1,IF(AND(AI20>1,B21=0),AI20+1,IF(I21=I20,AI20+1,1)))))) -> 2 | AJ21: =IF(B21="","",IF(OR(AI20=1,AI20=2),"",IF(AI20>=3,AI20-2))) | AK21: =IF(AJ21="","",VLOOKUP(AJ21,$Z$4:$AA$18,2,0)) | AS21: 19 | AT21: 7 | AU21: 4 | AV21: 2 | AW21: 1 | AX21: R | AY21: O | AZ21: H
B22: =IF(Master!B22="","",Master!B22) -> 22 | C22: =IF(B22="","",VLOOKUP(B22,$AS$1:$AZ$38,6,0)) -> B | D22: =IF(L22="","",IF(L22>=1,"<--Win",IF(L22<0,"<--Bet",""))) -> <--Bet | F22: =IF(B22="","",VLOOKUP(B22,$AS$1:$AZ$38,8,0)) -> H | G22: =IF(O22="","",IF(O22>=1,"<--Win",IF(O22<0,"<--Bet",""))) | I22: =IF(B22="","",VLOOKUP(B22,$AS$1:$AZ$38,7,0)) -> E | J22: =IF(R22="","",IF(R22>=1,"<--Win",IF(R22<0,"<--Bet",""))) | L22: =IF(AND(AD22<>"",AD23<>""),-AE22,IF(AND(AD22>=1,AD23=""),AE22,"")) -> -1 | M22: =IF(L22<>"",SUM($L$6:L22),"") -> -1 | O22: =IF(AND(AG22<>"",AG23<>""),-AH22,IF(AND(AG22>=1,AG23=""),AH22,"")) | P22: =IF(O22<>"",SUM($O$6:O22),"") | R22: =IF(AND(AJ22<>"",AJ23<>""),-AK22,IF(AND(AJ22>=1,AJ23=""),AK22,"")) | S22: =IF(R22<>"",SUM($R$6:R22),"") | U22: =IF(B22="",U21,SUM($L$7:L22)+SUM($O$7:O22)+SUM($R$7:R22)) -> 1 | W22: H/L | X22: =MAX(P4:P1000) -> 20 | AC22: =IF(AND(AC21=2,B22=0),1,IF(AND(AC21=1,B22=0),1,IF(B22="","",IF(AND(C22=C20,B21=0),AC21+1,IF(AND(AC21>1,B22=0),AC21+1,IF(C22=C21,AC21+1,1)))))) -> 4 | AD22: =IF(B22="","",IF(OR(AC21=1,AC21=2),"",IF(AC21>=3,AC21-2))) -> 1 | AE22: =IF(AD22="","",VLOOKUP(AD22,$Z$4:$AA$18,2,0)) -> 1 | AF22: =IF(AND(AF21=2,B22=0),1,IF(AND(AF21=1,B22=0),1,IF(B22="","",IF(AND(F22=F20,B21=0),AF21+1,IF(AND(AF21>1,B22=0),AF21+1,IF(F22=F21,AF21+1,1)))))) -> 3 | AG22: =IF(B22="","",IF(OR(AF21=1,AF21=2),"",IF(AF21>=3,AF21-2))) | AH22: =IF(AG22="","",VLOOKUP(AG22,$Z$4:$AA$18,2,0)) | AI22: =IF(AND(AI21=2,B22=0),1,IF(AND(AI21=1,B22=0),1,IF(B22="","",IF(AND(I22=I20,B21=0),AI21+1,IF(AND(AI21>1,B22=0),AI21+1,IF(I22=I21,AI21+1,1)))))) -> 1 | AJ22: =IF(B22="","",IF(OR(AI21=1,AI21=2),"",IF(AI21>=3,AI21-2))) | AK22: =IF(AJ22="","",VLOOKUP(AJ22,$Z$4:$AA$18,2,0)) | AS22: 20 | AT22: 7 | AU22: 4 | AV22: 2 | AW22: 2 | AX22: B | AY22: E | AZ22: H
B23: =IF(Master!B23="","",Master!B23) -> 6 | C23: =IF(B23="","",VLOOKUP(B23,$AS$1:$AZ$38,6,0)) -> B | D23: =IF(L23="","",IF(L23>=1,"<--Win",IF(L23<0,"<--Bet",""))) -> <--Bet | F23: =IF(B23="","",VLOOKUP(B23,$AS$1:$AZ$38,8,0)) -> L | G23: =IF(O23="","",IF(O23>=1,"<--Win",IF(O23<0,"<--Bet",""))) -> <--Win | I23: =IF(B23="","",VLOOKUP(B23,$AS$1:$AZ$38,7,0)) -> E | J23: =IF(R23="","",IF(R23>=1,"<--Win",IF(R23<0,"<--Bet",""))) | L23: =IF(AND(AD23<>"",AD24<>""),-AE23,IF(AND(AD23>=1,AD24=""),AE23,"")) -> -1 | M23: =IF(L23<>"",SUM($L$6:L23),"") -> -2 | O23: =IF(AND(AG23<>"",AG24<>""),-AH23,IF(AND(AG23>=1,AG24=""),AH23,"")) -> 1 | P23: =IF(O23<>"",SUM($O$6:O23),"") -> 2 | R23: =IF(AND(AJ23<>"",AJ24<>""),-AK23,IF(AND(AJ23>=1,AJ24=""),AK23,"")) | S23: =IF(R23<>"",SUM($R$6:R23),"") | U23: =IF(B23="",U22,SUM($L$7:L23)+SUM($O$7:O23)+SUM($R$7:R23)) -> 1 | W23: O/E | X23: =MAX(S7:S1000) -> 20 | AC23: =IF(AND(AC22=2,B23=0),1,IF(AND(AC22=1,B23=0),1,IF(B23="","",IF(AND(C23=C21,B22=0),AC22+1,IF(AND(AC22>1,B23=0),AC22+1,IF(C23=C22,AC22+1,1)))))) -> 5 | AD23: =IF(B23="","",IF(OR(AC22=1,AC22=2),"",IF(AC22>=3,AC22-2))) -> 2 | AE23: =IF(AD23="","",VLOOKUP(AD23,$Z$4:$AA$18,2,0)) -> 1 | AF23: =IF(AND(AF22=2,B23=0),1,IF(AND(AF22=1,B23=0),1,IF(B23="","",IF(AND(F23=F21,B22=0),AF22+1,IF(AND(AF22>1,B23=0),AF22+1,IF(F23=F22,AF22+1,1)))))) -> 1 | AG23: =IF(B23="","",IF(OR(AF22=1,AF22=2),"",IF(AF22>=3,AF22-2))) -> 1 | AH23: =IF(AG23="","",VLOOKUP(AG23,$Z$4:$AA$18,2,0)) -> 1 | AI23: =IF(AND(AI22=2,B23=0),1,IF(AND(AI22=1,B23=0),1,IF(B23="","",IF(AND(I23=I21,B22=0),AI22+1,IF(AND(AI22>1,B23=0),AI22+1,IF(I23=I22,AI22+1,1)))))) -> 2 | AJ23: =IF(B23="","",IF(OR(AI22=1,AI22=2),"",IF(AI22>=3,AI22-2))) | AK23: =IF(AJ23="","",VLOOKUP(AJ23,$Z$4:$AA$18,2,0)) | AS23: 21 | AT23: 7 | AU23: 4 | AV23: 2 | AW23: 3 | AX23: R | AY23: O | AZ23: H
B24: =IF(Master!B24="","",Master!B24) -> 34 | C24: =IF(B24="","",VLOOKUP(B24,$AS$1:$AZ$38,6,0)) -> R | D24: =IF(L24="","",IF(L24>=1,"<--Win",IF(L24<0,"<--Bet",""))) -> <--Win | F24: =IF(B24="","",VLOOKUP(B24,$AS$1:$AZ$38,8,0)) -> H | G24: =IF(O24="","",IF(O24>=1,"<--Win",IF(O24<0,"<--Bet",""))) | I24: =IF(B24="","",VLOOKUP(B24,$AS$1:$AZ$38,7,0)) -> E | J24: =IF(R24="","",IF(R24>=1,"<--Win",IF(R24<0,"<--Bet",""))) | L24: =IF(AND(AD24<>"",AD25<>""),-AE24,IF(AND(AD24>=1,AD25=""),AE24,"")) -> 1 | M24: =IF(L24<>"",SUM($L$6:L24),"") -> -1 | O24: =IF(AND(AG24<>"",AG25<>""),-AH24,IF(AND(AG24>=1,AG25=""),AH24,"")) | P24: =IF(O24<>"",SUM($O$6:O24),"") | R24: =IF(AND(AJ24<>"",AJ25<>""),-AK24,IF(AND(AJ24>=1,AJ25=""),AK24,"")) | S24: =IF(R24<>"",SUM($R$6:R24),"") | U24: =IF(B24="",U23,SUM($L$7:L24)+SUM($O$7:O24)+SUM($R$7:R24)) -> 2 | AC24: =IF(AND(AC23=2,B24=0),1,IF(AND(AC23=1,B24=0),1,IF(B24="","",IF(AND(C24=C22,B23=0),AC23+1,IF(AND(AC23>1,B24=0),AC23+1,IF(C24=C23,AC23+1,1)))))) -> 1 | AD24: =IF(B24="","",IF(OR(AC23=1,AC23=2),"",IF(AC23>=3,AC23-2))) -> 3 | AE24: =IF(AD24="","",VLOOKUP(AD24,$Z$4:$AA$18,2,0)) -> 1 | AF24: =IF(AND(AF23=2,B24=0),1,IF(AND(AF23=1,B24=0),1,IF(B24="","",IF(AND(F24=F22,B23=0),AF23+1,IF(AND(AF23>1,B24=0),AF23+1,IF(F24=F23,AF23+1,1)))))) -> 1 | AG24: =IF(B24="","",IF(OR(AF23=1,AF23=2),"",IF(AF23>=3,AF23-2))) | AH24: =IF(AG24="","",VLOOKUP(AG24,$Z$4:$AA$18,2,0)) | AI24: =IF(AND(AI23=2,B24=0),1,IF(AND(AI23=1,B24=0),1,IF(B24="","",IF(AND(I24=I22,B23=0),AI23+1,IF(AND(AI23>1,B24=0),AI23+1,IF(I24=I23,AI23+1,1)))))) -> 3 | AJ24: =IF(B24="","",IF(OR(AI23=1,AI23=2),"",IF(AI23>=3,AI23-2))) | AK24: =IF(AJ24="","",VLOOKUP(AJ24,$Z$4:$AA$18,2,0)) | AS24: 22 | AT24: 8 | AU24: 4 | AV24: 2 | AW24: 1 | AX24: B | AY24: E | AZ24: H
B25: =IF(Master!B25="","",Master!B25) -> 13 | C25: =IF(B25="","",VLOOKUP(B25,$AS$1:$AZ$38,6,0)) -> B | D25: =IF(L25="","",IF(L25>=1,"<--Win",IF(L25<0,"<--Bet",""))) | F25: =IF(B25="","",VLOOKUP(B25,$AS$1:$AZ$38,8,0)) -> L | G25: =IF(O25="","",IF(O25>=1,"<--Win",IF(O25<0,"<--Bet",""))) | I25: =IF(B25="","",VLOOKUP(B25,$AS$1:$AZ$38,7,0)) -> O | J25: =IF(R25="","",IF(R25>=1,"<--Win",IF(R25<0,"<--Bet",""))) -> <--Win | L25: =IF(AND(AD25<>"",AD26<>""),-AE25,IF(AND(AD25>=1,AD26=""),AE25,"")) | M25: =IF(L25<>"",SUM($L$6:L25),"") | O25: =IF(AND(AG25<>"",AG26<>""),-AH25,IF(AND(AG25>=1,AG26=""),AH25,"")) | P25: =IF(O25<>"",SUM($O$6:O25),"") | R25: =IF(AND(AJ25<>"",AJ26<>""),-AK25,IF(AND(AJ25>=1,AJ26=""),AK25,"")) -> 1 | S25: =IF(R25<>"",SUM($R$6:R25),"") -> 2 | U25: =IF(B25="",U24,SUM($L$7:L25)+SUM($O$7:O25)+SUM($R$7:R25)) -> 3 | W25: Min Units | AC25: =IF(AND(AC24=2,B25=0),1,IF(AND(AC24=1,B25=0),1,IF(B25="","",IF(AND(C25=C23,B24=0),AC24+1,IF(AND(AC24>1,B25=0),AC24+1,IF(C25=C24,AC24+1,1)))))) -> 1 | AD25: =IF(B25="","",IF(OR(AC24=1,AC24=2),"",IF(AC24>=3,AC24-2))) | AE25: =IF(AD25="","",VLOOKUP(AD25,$Z$4:$AA$18,2,0)) | AF25: =IF(AND(AF24=2,B25=0),1,IF(AND(AF24=1,B25=0),1,IF(B25="","",IF(AND(F25=F23,B24=0),AF24+1,IF(AND(AF24>1,B25=0),AF24+1,IF(F25=F24,AF24+1,1)))))) -> 1 | AG25: =IF(B25="","",IF(OR(AF24=1,AF24=2),"",IF(AF24>=3,AF24-2))) | AH25: =IF(AG25="","",VLOOKUP(AG25,$Z$4:$AA$18,2,0)) | AI25: =IF(AND(AI24=2,B25=0),1,IF(AND(AI24=1,B25=0),1,IF(B25="","",IF(AND(I25=I23,B24=0),AI24+1,IF(AND(AI24>1,B25=0),AI24+1,IF(I25=I24,AI24+1,1)))))) -> 1 | AJ25: =IF(B25="","",IF(OR(AI24=1,AI24=2),"",IF(AI24>=3,AI24-2))) -> 1 | AK25: =IF(AJ25="","",VLOOKUP(AJ25,$Z$4:$AA$18,2,0)) -> 1 | AS25: 23 | AT25: 8 | AU25: 4 | AV25: 2 | AW25: 2 | AX25: R | AY25: O | AZ25: H
B26: =IF(Master!B26="","",Master!B26) -> 11 | C26: =IF(B26="","",VLOOKUP(B26,$AS$1:$AZ$38,6,0)) -> B | D26: =IF(L26="","",IF(L26>=1,"<--Win",IF(L26<0,"<--Bet",""))) | F26: =IF(B26="","",VLOOKUP(B26,$AS$1:$AZ$38,8,0)) -> L | G26: =IF(O26="","",IF(O26>=1,"<--Win",IF(O26<0,"<--Bet",""))) | I26: =IF(B26="","",VLOOKUP(B26,$AS$1:$AZ$38,7,0)) -> O | J26: =IF(R26="","",IF(R26>=1,"<--Win",IF(R26<0,"<--Bet",""))) | L26: =IF(AND(AD26<>"",AD27<>""),-AE26,IF(AND(AD26>=1,AD27=""),AE26,"")) | M26: =IF(L26<>"",SUM($L$6:L26),"") | O26: =IF(AND(AG26<>"",AG27<>""),-AH26,IF(AND(AG26>=1,AG27=""),AH26,"")) | P26: =IF(O26<>"",SUM($O$6:O26),"") | R26: =IF(AND(AJ26<>"",AJ27<>""),-AK26,IF(AND(AJ26>=1,AJ27=""),AK26,"")) | S26: =IF(R26<>"",SUM($R$6:R26),"") | U26: =IF(B26="",U25,SUM($L$7:L26)+SUM($O$7:O26)+SUM($R$7:R26)) -> 3 | W26: R/B | X26: =MIN(M12:M1005) -> -28 | AC26: =IF(AND(AC25=2,B26=0),1,IF(AND(AC25=1,B26=0),1,IF(B26="","",IF(AND(C26=C24,B25=0),AC25+1,IF(AND(AC25>1,B26=0),AC25+1,IF(C26=C25,AC25+1,1)))))) -> 2 | AD26: =IF(B26="","",IF(OR(AC25=1,AC25=2),"",IF(AC25>=3,AC25-2))) | AE26: =IF(AD26="","",VLOOKUP(AD26,$Z$4:$AA$18,2,0)) | AF26: =IF(AND(AF25=2,B26=0),1,IF(AND(AF25=1,B26=0),1,IF(B26="","",IF(AND(F26=F24,B25=0),AF25+1,IF(AND(AF25>1,B26=0),AF25+1,IF(F26=F25,AF25+1,1)))))) -> 2 | AG26: =IF(B26="","",IF(OR(AF25=1,AF25=2),"",IF(AF25>=3,AF25-2))) | AH26: =IF(AG26="","",VLOOKUP(AG26,$Z$4:$AA$18,2,0)) | AI26: =IF(AND(AI25=2,B26=0),1,IF(AND(AI25=1,B26=0),1,IF(B26="","",IF(AND(I26=I24,B25=0),AI25+1,IF(AND(AI25>1,B26=0),AI25+1,IF(I26=I25,AI25+1,1)))))) -> 2 | AJ26: =IF(B26="","",IF(OR(AI25=1,AI25=2),"",IF(AI25>=3,AI25-2))) | AK26: =IF(AJ26="","",VLOOKUP(AJ26,$Z$4:$AA$18,2,0)) | AS26: 24 | AT26: 8 | AU26: 4 | AV26: 2 | AW26: 3 | AX26: B | AY26: E | AZ26: H
B27: =IF(Master!B27="","",Master!B27) -> 20 | C27: =IF(B27="","",VLOOKUP(B27,$AS$1:$AZ$38,6,0)) -> B | D27: =IF(L27="","",IF(L27>=1,"<--Win",IF(L27<0,"<--Bet",""))) | F27: =IF(B27="","",VLOOKUP(B27,$AS$1:$AZ$38,8,0)) -> H | G27: =IF(O27="","",IF(O27>=1,"<--Win",IF(O27<0,"<--Bet",""))) | I27: =IF(B27="","",VLOOKUP(B27,$AS$1:$AZ$38,7,0)) -> E | J27: =IF(R27="","",IF(R27>=1,"<--Win",IF(R27<0,"<--Bet",""))) | L27: =IF(AND(AD27<>"",AD28<>""),-AE27,IF(AND(AD27>=1,AD28=""),AE27,"")) | M27: =IF(L27<>"",SUM($L$6:L27),"") | O27: =IF(AND(AG27<>"",AG28<>""),-AH27,IF(AND(AG27>=1,AG28=""),AH27,"")) | P27: =IF(O27<>"",SUM($O$6:O27),"") | R27: =IF(AND(AJ27<>"",AJ28<>""),-AK27,IF(AND(AJ27>=1,AJ28=""),AK27,"")) | S27: =IF(R27<>"",SUM($R$6:R27),"") | U27: =IF(B27="",U26,SUM($L$7:L27)+SUM($O$7:O27)+SUM($R$7:R27)) -> 3 | W27: H/L | X27: =MIN(P9:P1005) -> -19 | AC27: =IF(AND(AC26=2,B27=0),1,IF(AND(AC26=1,B27=0),1,IF(B27="","",IF(AND(C27=C25,B26=0),AC26+1,IF(AND(AC26>1,B27=0),AC26+1,IF(C27=C26,AC26+1,1)))))) -> 3 | AD27: =IF(B27="","",IF(OR(AC26=1,AC26=2),"",IF(AC26>=3,AC26-2))) | AE27: =IF(AD27="","",VLOOKUP(AD27,$Z$4:$AA$18,2,0)) | AF27: =IF(AND(AF26=2,B27=0),1,IF(AND(AF26=1,B27=0),1,IF(B27="","",IF(AND(F27=F25,B26=0),AF26+1,IF(AND(AF26>1,B27=0),AF26+1,IF(F27=F26,AF26+1,1)))))) -> 1 | AG27: =IF(B27="","",IF(OR(AF26=1,AF26=2),"",IF(AF26>=3,AF26-2))) | AH27: =IF(AG27="","",VLOOKUP(AG27,$Z$4:$AA$18,2,0)) | AI27: =IF(AND(AI26=2,B27=0),1,IF(AND(AI26=1,B27=0),1,IF(B27="","",IF(AND(I27=I25,B26=0),AI26+1,IF(AND(AI26>1,B27=0),AI26+1,IF(I27=I26,AI26+1,1)))))) -> 1 | AJ27: =IF(B27="","",IF(OR(AI26=1,AI26=2),"",IF(AI26>=3,AI26-2))) | AK27: =IF(AJ27="","",VLOOKUP(AJ27,$Z$4:$AA$18,2,0)) | AS27: 25 | AT27: 9 | AU27: 5 | AV27: 3 | AW27: 1 | AX27: R | AY27: O | AZ27: H
B28: =IF(Master!B28="","",Master!B28) -> 31 | C28: =IF(B28="","",VLOOKUP(B28,$AS$1:$AZ$38,6,0)) -> B | D28: =IF(L28="","",IF(L28>=1,"<--Win",IF(L28<0,"<--Bet",""))) -> <--Bet | F28: =IF(B28="","",VLOOKUP(B28,$AS$1:$AZ$38,8,0)) -> H | G28: =IF(O28="","",IF(O28>=1,"<--Win",IF(O28<0,"<--Bet",""))) | I28: =IF(B28="","",VLOOKUP(B28,$AS$1:$AZ$38,7,0)) -> O | J28: =IF(R28="","",IF(R28>=1,"<--Win",IF(R28<0,"<--Bet",""))) | L28: =IF(AND(AD28<>"",AD29<>""),-AE28,IF(AND(AD28>=1,AD29=""),AE28,"")) -> -1 | M28: =IF(L28<>"",SUM($L$6:L28),"") -> -2 | O28: =IF(AND(AG28<>"",AG29<>""),-AH28,IF(AND(AG28>=1,AG29=""),AH28,"")) | P28: =IF(O28<>"",SUM($O$6:O28),"") | R28: =IF(AND(AJ28<>"",AJ29<>""),-AK28,IF(AND(AJ28>=1,AJ29=""),AK28,"")) | S28: =IF(R28<>"",SUM($R$6:R28),"") | U28: =IF(B28="",U27,SUM($L$7:L28)+SUM($O$7:O28)+SUM($R$7:R28)) -> 2 | W28: O/E | X28: =MIN(S12:S1005) -> -2 | AC28: =IF(AND(AC27=2,B28=0),1,IF(AND(AC27=1,B28=0),1,IF(B28="","",IF(AND(C28=C26,B27=0),AC27+1,IF(AND(AC27>1,B28=0),AC27+1,IF(C28=C27,AC27+1,1)))))) -> 4 | AD28: =IF(B28="","",IF(OR(AC27=1,AC27=2),"",IF(AC27>=3,AC27-2))) -> 1 | AE28: =IF(AD28="","",VLOOKUP(AD28,$Z$4:$AA$18,2,0)) -> 1 | AF28: =IF(AND(AF27=2,B28=0),1,IF(AND(AF27=1,B28=0),1,IF(B28="","",IF(AND(F28=F26,B27=0),AF27+1,IF(AND(AF27>1,B28=0),AF27+1,IF(F28=F27,AF27+1,1)))))) -> 2 | AG28: =IF(B28="","",IF(OR(AF27=1,AF27=2),"",IF(AF27>=3,AF27-2))) | AH28: =IF(AG28="","",VLOOKUP(AG28,$Z$4:$AA$18,2,0)) | AI28: =IF(AND(AI27=2,B28=0),1,IF(AND(AI27=1,B28=0),1,IF(B28="","",IF(AND(I28=I26,B27=0),AI27+1,IF(AND(AI27>1,B28=0),AI27+1,IF(I28=I27,AI27+1,1)))))) -> 1 | AJ28: =IF(B28="","",IF(OR(AI27=1,AI27=2),"",IF(AI27>=3,AI27-2))) | AK28: =IF(AJ28="","",VLOOKUP(AJ28,$Z$4:$AA$18,2,0)) | AS28: 26 | AT28: 9 | AU28: 5 | AV28: 3 | AW28: 2 | AX28: B | AY28: E | AZ28: H
B29: =IF(Master!B29="","",Master!B29) -> 10 | C29: =IF(B29="","",VLOOKUP(B29,$AS$1:$AZ$38,6,0)) -> B | D29: =IF(L29="","",IF(L29>=1,"<--Win",IF(L29<0,"<--Bet",""))) -> <--Bet | F29: =IF(B29="","",VLOOKUP(B29,$AS$1:$AZ$38,8,0)) -> L | G29: =IF(O29="","",IF(O29>=1,"<--Win",IF(O29<0,"<--Bet",""))) | I29: =IF(B29="","",VLOOKUP(B29,$AS$1:$AZ$38,7,0)) -> E | J29: =IF(R29="","",IF(R29>=1,"<--Win",IF(R29<0,"<--Bet",""))) | L29: =IF(AND(AD29<>"",AD30<>""),-AE29,IF(AND(AD29>=1,AD30=""),AE29,"")) -> -1 | M29: =IF(L29<>"",SUM($L$6:L29),"") -> -3 | O29: =IF(AND(AG29<>"",AG30<>""),-AH29,IF(AND(AG29>=1,AG30=""),AH29,"")) | P29: =IF(O29<>"",SUM($O$6:O29),"") | R29: =IF(AND(AJ29<>"",AJ30<>""),-AK29,IF(AND(AJ29>=1,AJ30=""),AK29,"")) | S29: =IF(R29<>"",SUM($R$6:R29),"") | U29: =IF(B29="",U28,SUM($L$7:L29)+SUM($O$7:O29)+SUM($R$7:R29)) -> 1 | AC29: =IF(AND(AC28=2,B29=0),1,IF(AND(AC28=1,B29=0),1,IF(B29="","",IF(AND(C29=C27,B28=0),AC28+1,IF(AND(AC28>1,B29=0),AC28+1,IF(C29=C28,AC28+1,1)))))) -> 5 | AD29: =IF(B29="","",IF(OR(AC28=1,AC28=2),"",IF(AC28>=3,AC28-2))) -> 2 | AE29: =IF(AD29="","",VLOOKUP(AD29,$Z$4:$AA$18,2,0)) -> 1 | AF29: =IF(AND(AF28=2,B29=0),1,IF(AND(AF28=1,B29=0),1,IF(B29="","",IF(AND(F29=F27,B28=0),AF28+1,IF(AND(AF28>1,B29=0),AF28+1,IF(F29=F28,AF28+1,1)))))) -> 1 | AG29: =IF(B29="","",IF(OR(AF28=1,AF28=2),"",IF(AF28>=3,AF28-2))) | AH29: =IF(AG29="","",VLOOKUP(AG29,$Z$4:$AA$18,2,0)) | AI29: =IF(AND(AI28=2,B29=0),1,IF(AND(AI28=1,B29=0),1,IF(B29="","",IF(AND(I29=I27,B28=0),AI28+1,IF(AND(AI28>1,B29=0),AI28+1,IF(I29=I28,AI28+1,1)))))) -> 1 | AJ29: =IF(B29="","",IF(OR(AI28=1,AI28=2),"",IF(AI28>=3,AI28-2))) | AK29: =IF(AJ29="","",VLOOKUP(AJ29,$Z$4:$AA$18,2,0)) | AS29: 27 | AT29: 9 | AU29: 5 | AV29: 3 | AW29: 3 | AX29: R | AY29: O | AZ29: H
B30: =IF(Master!B30="","",Master!B30) -> 4 | C30: =IF(B30="","",VLOOKUP(B30,$AS$1:$AZ$38,6,0)) -> B | D30: =IF(L30="","",IF(L30>=1,"<--Win",IF(L30<0,"<--Bet",""))) -> <--Bet | F30: =IF(B30="","",VLOOKUP(B30,$AS$1:$AZ$38,8,0)) -> L | G30: =IF(O30="","",IF(O30>=1,"<--Win",IF(O30<0,"<--Bet",""))) | I30: =IF(B30="","",VLOOKUP(B30,$AS$1:$AZ$38,7,0)) -> E | J30: =IF(R30="","",IF(R30>=1,"<--Win",IF(R30<0,"<--Bet",""))) | L30: =IF(AND(AD30<>"",AD31<>""),-AE30,IF(AND(AD30>=1,AD31=""),AE30,"")) -> -1 | M30: =IF(L30<>"",SUM($L$6:L30),"") -> -4 | O30: =IF(AND(AG30<>"",AG31<>""),-AH30,IF(AND(AG30>=1,AG31=""),AH30,"")) | P30: =IF(O30<>"",SUM($O$6:O30),"") | R30: =IF(AND(AJ30<>"",AJ31<>""),-AK30,IF(AND(AJ30>=1,AJ31=""),AK30,"")) | S30: =IF(R30<>"",SUM($R$6:R30),"") | U30: =IF(B30="",U29,SUM($L$7:L30)+SUM($O$7:O30)+SUM($R$7:R30)) -> 0 | W30: Max Tot. | X30: =MAX(U7:U1000) -> 61 | AC30: =IF(AND(AC29=2,B30=0),1,IF(AND(AC29=1,B30=0),1,IF(B30="","",IF(AND(C30=C28,B29=0),AC29+1,IF(AND(AC29>1,B30=0),AC29+1,IF(C30=C29,AC29+1,1)))))) -> 6 | AD30: =IF(B30="","",IF(OR(AC29=1,AC29=2),"",IF(AC29>=3,AC29-2))) -> 3 | AE30: =IF(AD30="","",VLOOKUP(AD30,$Z$4:$AA$18,2,0)) -> 1 | AF30: =IF(AND(AF29=2,B30=0),1,IF(AND(AF29=1,B30=0),1,IF(B30="","",IF(AND(F30=F28,B29=0),AF29+1,IF(AND(AF29>1,B30=0),AF29+1,IF(F30=F29,AF29+1,1)))))) -> 2 | AG30: =IF(B30="","",IF(OR(AF29=1,AF29=2),"",IF(AF29>=3,AF29-2))) | AH30: =IF(AG30="","",VLOOKUP(AG30,$Z$4:$AA$18,2,0)) | AI30: =IF(AND(AI29=2,B30=0),1,IF(AND(AI29=1,B30=0),1,IF(B30="","",IF(AND(I30=I28,B29=0),AI29+1,IF(AND(AI29>1,B30=0),AI29+1,IF(I30=I29,AI29+1,1)))))) -> 2 | AJ30: =IF(B30="","",IF(OR(AI29=1,AI29=2),"",IF(AI29>=3,AI29-2))) | AK30: =IF(AJ30="","",VLOOKUP(AJ30,$Z$4:$AA$18,2,0)) | AS30: 28 | AT30: 10 | AU30: 5 | AV30: 3 | AW30: 1 | AX30: B | AY30: E | AZ30: H
B31: =IF(Master!B31="","",Master!B31) -> 15 | C31: =IF(B31="","",VLOOKUP(B31,$AS$1:$AZ$38,6,0)) -> B | D31: =IF(L31="","",IF(L31>=1,"<--Win",IF(L31<0,"<--Bet",""))) -> <--Bet | F31: =IF(B31="","",VLOOKUP(B31,$AS$1:$AZ$38,8,0)) -> L | G31: =IF(O31="","",IF(O31>=1,"<--Win",IF(O31<0,"<--Bet",""))) | I31: =IF(B31="","",VLOOKUP(B31,$AS$1:$AZ$38,7,0)) -> O | J31: =IF(R31="","",IF(R31>=1,"<--Win",IF(R31<0,"<--Bet",""))) | L31: =IF(AND(AD31<>"",AD32<>""),-AE31,IF(AND(AD31>=1,AD32=""),AE31,"")) -> -4 | M31: =IF(L31<>"",SUM($L$6:L31),"") -> -8 | O31: =IF(AND(AG31<>"",AG32<>""),-AH31,IF(AND(AG31>=1,AG32=""),AH31,"")) | P31: =IF(O31<>"",SUM($O$6:O31),"") | R31: =IF(AND(AJ31<>"",AJ32<>""),-AK31,IF(AND(AJ31>=1,AJ32=""),AK31,"")) | S31: =IF(R31<>"",SUM($R$6:R31),"") | U31: =IF(B31="",U30,SUM($L$7:L31)+SUM($O$7:O31)+SUM($R$7:R31)) -> -4 | W31: Min Tot. | X31: =MIN(U7:U1000) -> -24 | AC31: =IF(AND(AC30=2,B31=0),1,IF(AND(AC30=1,B31=0),1,IF(B31="","",IF(AND(C31=C29,B30=0),AC30+1,IF(AND(AC30>1,B31=0),AC30+1,IF(C31=C30,AC30+1,1)))))) -> 7 | AD31: =IF(B31="","",IF(OR(AC30=1,AC30=2),"",IF(AC30>=3,AC30-2))) -> 4 | AE31: =IF(AD31="","",VLOOKUP(AD31,$Z$4:$AA$18,2,0)) -> 4 | AF31: =IF(AND(AF30=2,B31=0),1,IF(AND(AF30=1,B31=0),1,IF(B31="","",IF(AND(F31=F29,B30=0),AF30+1,IF(AND(AF30>1,B31=0),AF30+1,IF(F31=F30,AF30+1,1)))))) -> 3 | AG31: =IF(B31="","",IF(OR(AF30=1,AF30=2),"",IF(AF30>=3,AF30-2))) | AH31: =IF(AG31="","",VLOOKUP(AG31,$Z$4:$AA$18,2,0)) | AI31: =IF(AND(AI30=2,B31=0),1,IF(AND(AI30=1,B31=0),1,IF(B31="","",IF(AND(I31=I29,B30=0),AI30+1,IF(AND(AI30>1,B31=0),AI30+1,IF(I31=I30,AI30+1,1)))))) -> 1 | AJ31: =IF(B31="","",IF(OR(AI30=1,AI30=2),"",IF(AI30>=3,AI30-2))) | AK31: =IF(AJ31="","",VLOOKUP(AJ31,$Z$4:$AA$18,2,0)) | AS31: 29 | AT31: 10 | AU31: 5 | AV31: 3 | AW31: 2 | AX31: B | AY31: O | AZ31: H
B32: =IF(Master!B32="","",Master!B32) -> 10 | C32: =IF(B32="","",VLOOKUP(B32,$AS$1:$AZ$38,6,0)) -> B | D32: =IF(L32="","",IF(L32>=1,"<--Win",IF(L32<0,"<--Bet",""))) -> <--Bet | F32: =IF(B32="","",VLOOKUP(B32,$AS$1:$AZ$38,8,0)) -> L | G32: =IF(O32="","",IF(O32>=1,"<--Win",IF(O32<0,"<--Bet",""))) -> <--Bet | I32: =IF(B32="","",VLOOKUP(B32,$AS$1:$AZ$38,7,0)) -> E | J32: =IF(R32="","",IF(R32>=1,"<--Win",IF(R32<0,"<--Bet",""))) | L32: =IF(AND(AD32<>"",AD33<>""),-AE32,IF(AND(AD32>=1,AD33=""),AE32,"")) -> -8 | M32: =IF(L32<>"",SUM($L$6:L32),"") -> -16 | O32: =IF(AND(AG32<>"",AG33<>""),-AH32,IF(AND(AG32>=1,AG33=""),AH32,"")) -> -1 | P32: =IF(O32<>"",SUM($O$6:O32),"") -> 1 | R32: =IF(AND(AJ32<>"",AJ33<>""),-AK32,IF(AND(AJ32>=1,AJ33=""),AK32,"")) | S32: =IF(R32<>"",SUM($R$6:R32),"") | U32: =IF(B32="",U31,SUM($L$7:L32)+SUM($O$7:O32)+SUM($R$7:R32)) -> -13 | AC32: =IF(AND(AC31=2,B32=0),1,IF(AND(AC31=1,B32=0),1,IF(B32="","",IF(AND(C32=C30,B31=0),AC31+1,IF(AND(AC31>1,B32=0),AC31+1,IF(C32=C31,AC31+1,1)))))) -> 8 | AD32: =IF(B32="","",IF(OR(AC31=1,AC31=2),"",IF(AC31>=3,AC31-2))) -> 5 | AE32: =IF(AD32="","",VLOOKUP(AD32,$Z$4:$AA$18,2,0)) -> 8 | AF32: =IF(AND(AF31=2,B32=0),1,IF(AND(AF31=1,B32=0),1,IF(B32="","",IF(AND(F32=F30,B31=0),AF31+1,IF(AND(AF31>1,B32=0),AF31+1,IF(F32=F31,AF31+1,1)))))) -> 4 | AG32: =IF(B32="","",IF(OR(AF31=1,AF31=2),"",IF(AF31>=3,AF31-2))) -> 1 | AH32: =IF(AG32="","",VLOOKUP(AG32,$Z$4:$AA$18,2,0)) -> 1 | AI32: =IF(AND(AI31=2,B32=0),1,IF(AND(AI31=1,B32=0),1,IF(B32="","",IF(AND(I32=I30,B31=0),AI31+1,IF(AND(AI31>1,B32=0),AI31+1,IF(I32=I31,AI31+1,1)))))) -> 1 | AJ32: =IF(B32="","",IF(OR(AI31=1,AI31=2),"",IF(AI31>=3,AI31-2))) | AK32: =IF(AJ32="","",VLOOKUP(AJ32,$Z$4:$AA$18,2,0)) | AS32: 30 | AT32: 10 | AU32: 5 | AV32: 3 | AW32: 3 | AX32: R | AY32: E | AZ32: H
B33: =IF(Master!B33="","",Master!B33) -> 31 | C33: =IF(B33="","",VLOOKUP(B33,$AS$1:$AZ$38,6,0)) -> B | D33: =IF(L33="","",IF(L33>=1,"<--Win",IF(L33<0,"<--Bet",""))) -> <--Bet | F33: =IF(B33="","",VLOOKUP(B33,$AS$1:$AZ$38,8,0)) -> H | G33: =IF(O33="","",IF(O33>=1,"<--Win",IF(O33<0,"<--Bet",""))) -> <--Win | I33: =IF(B33="","",VLOOKUP(B33,$AS$1:$AZ$38,7,0)) -> O | J33: =IF(R33="","",IF(R33>=1,"<--Win",IF(R33<0,"<--Bet",""))) | L33: =IF(AND(AD33<>"",AD34<>""),-AE33,IF(AND(AD33>=1,AD34=""),AE33,"")) -> -12 | M33: =IF(L33<>"",SUM($L$6:L33),"") -> -28 | O33: =IF(AND(AG33<>"",AG34<>""),-AH33,IF(AND(AG33>=1,AG34=""),AH33,"")) -> 1 | P33: =IF(O33<>"",SUM($O$6:O33),"") -> 2 | R33: =IF(AND(AJ33<>"",AJ34<>""),-AK33,IF(AND(AJ33>=1,AJ34=""),AK33,"")) | S33: =IF(R33<>"",SUM($R$6:R33),"") | U33: =IF(B33="",U32,SUM($L$7:L33)+SUM($O$7:O33)+SUM($R$7:R33)) -> -24 | AC33: =IF(AND(AC32=2,B33=0),1,IF(AND(AC32=1,B33=0),1,IF(B33="","",IF(AND(C33=C31,B32=0),AC32+1,IF(AND(AC32>1,B33=0),AC32+1,IF(C33=C32,AC32+1,1)))))) -> 9 | AD33: =IF(B33="","",IF(OR(AC32=1,AC32=2),"",IF(AC32>=3,AC32-2))) -> 6 | AE33: =IF(AD33="","",VLOOKUP(AD33,$Z$4:$AA$18,2,0)) -> 12 | AF33: =IF(AND(AF32=2,B33=0),1,IF(AND(AF32=1,B33=0),1,IF(B33="","",IF(AND(F33=F31,B32=0),AF32+1,IF(AND(AF32>1,B33=0),AF32+1,IF(F33=F32,AF32+1,1)))))) -> 1 | AG33: =IF(B33="","",IF(OR(AF32=1,AF32=2),"",IF(AF32>=3,AF32-2))) -> 2 | AH33: =IF(AG33="","",VLOOKUP(AG33,$Z$4:$AA$18,2,0)) -> 1 | AI33: =IF(AND(AI32=2,B33=0),1,IF(AND(AI32=1,B33=0),1,IF(B33="","",IF(AND(I33=I31,B32=0),AI32+1,IF(AND(AI32>1,B33=0),AI32+1,IF(I33=I32,AI32+1,1)))))) -> 1 | AJ33: =IF(B33="","",IF(OR(AI32=1,AI32=2),"",IF(AI32>=3,AI32-2))) | AK33: =IF(AJ33="","",VLOOKUP(AJ33,$Z$4:$AA$18,2,0)) | AS33: 31 | AT33: 11 | AU33: 6 | AV33: 3 | AW33: 1 | AX33: B | AY33: O | AZ33: H
B34: =IF(Master!B34="","",Master!B34) -> 1 | C34: =IF(B34="","",VLOOKUP(B34,$AS$1:$AZ$38,6,0)) -> R | D34: =IF(L34="","",IF(L34>=1,"<--Win",IF(L34<0,"<--Bet",""))) -> <--Win | F34: =IF(B34="","",VLOOKUP(B34,$AS$1:$AZ$38,8,0)) -> L | G34: =IF(O34="","",IF(O34>=1,"<--Win",IF(O34<0,"<--Bet",""))) | I34: =IF(B34="","",VLOOKUP(B34,$AS$1:$AZ$38,7,0)) -> O | J34: =IF(R34="","",IF(R34>=1,"<--Win",IF(R34<0,"<--Bet",""))) | L34: =IF(AND(AD34<>"",AD35<>""),-AE34,IF(AND(AD34>=1,AD35=""),AE34,"")) -> 20 | M34: =IF(L34<>"",SUM($L$6:L34),"") -> -8 | O34: =IF(AND(AG34<>"",AG35<>""),-AH34,IF(AND(AG34>=1,AG35=""),AH34,"")) | P34: =IF(O34<>"",SUM($O$6:O34),"") | R34: =IF(AND(AJ34<>"",AJ35<>""),-AK34,IF(AND(AJ34>=1,AJ35=""),AK34,"")) | S34: =IF(R34<>"",SUM($R$6:R34),"") | U34: =IF(B34="",U33,SUM($L$7:L34)+SUM($O$7:O34)+SUM($R$7:R34)) -> -4 | AC34: =IF(AND(AC33=2,B34=0),1,IF(AND(AC33=1,B34=0),1,IF(B34="","",IF(AND(C34=C32,B33=0),AC33+1,IF(AND(AC33>1,B34=0),AC33+1,IF(C34=C33,AC33+1,1)))))) -> 1 | AD34: =IF(B34="","",IF(OR(AC33=1,AC33=2),"",IF(AC33>=3,AC33-2))) -> 7 | AE34: =IF(AD34="","",VLOOKUP(AD34,$Z$4:$AA$18,2,0)) -> 20 | AF34: =IF(AND(AF33=2,B34=0),1,IF(AND(AF33=1,B34=0),1,IF(B34="","",IF(AND(F34=F32,B33=0),AF33+1,IF(AND(AF33>1,B34=0),AF33+1,IF(F34=F33,AF33+1,1)))))) -> 1 | AG34: =IF(B34="","",IF(OR(AF33=1,AF33=2),"",IF(AF33>=3,AF33-2))) | AH34: =IF(AG34="","",VLOOKUP(AG34,$Z$4:$AA$18,2,0)) | AI34: =IF(AND(AI33=2,B34=0),1,IF(AND(AI33=1,B34=0),1,IF(B34="","",IF(AND(I34=I32,B33=0),AI33+1,IF(AND(AI33>1,B34=0),AI33+1,IF(I34=I33,AI33+1,1)))))) -> 2 | AJ34: =IF(B34="","",IF(OR(AI33=1,AI33=2),"",IF(AI33>=3,AI33-2))) | AK34: =IF(AJ34="","",VLOOKUP(AJ34,$Z$4:$AA$18,2,0)) | AS34: 32 | AT34: 11 | AU34: 6 | AV34: 3 | AW34: 2 | AX34: R | AY34: E | AZ34: H
B35: =IF(Master!B35="","",Master!B35) -> 14 | C35: =IF(B35="","",VLOOKUP(B35,$AS$1:$AZ$38,6,0)) -> R | D35: =IF(L35="","",IF(L35>=1,"<--Win",IF(L35<0,"<--Bet",""))) | F35: =IF(B35="","",VLOOKUP(B35,$AS$1:$AZ$38,8,0)) -> L | G35: =IF(O35="","",IF(O35>=1,"<--Win",IF(O35<0,"<--Bet",""))) | I35: =IF(B35="","",VLOOKUP(B35,$AS$1:$AZ$38,7,0)) -> E | J35: =IF(R35="","",IF(R35>=1,"<--Win",IF(R35<0,"<--Bet",""))) | L35: =IF(AND(AD35<>"",AD36<>""),-AE35,IF(AND(AD35>=1,AD36=""),AE35,"")) | M35: =IF(L35<>"",SUM($L$6:L35),"") | O35: =IF(AND(AG35<>"",AG36<>""),-AH35,IF(AND(AG35>=1,AG36=""),AH35,"")) | P35: =IF(O35<>"",SUM($O$6:O35),"") | R35: =IF(AND(AJ35<>"",AJ36<>""),-AK35,IF(AND(AJ35>=1,AJ36=""),AK35,"")) | S35: =IF(R35<>"",SUM($R$6:R35),"") | U35: =IF(B35="",U34,SUM($L$7:L35)+SUM($O$7:O35)+SUM($R$7:R35)) -> -4 | AC35: =IF(AND(AC34=2,B35=0),1,IF(AND(AC34=1,B35=0),1,IF(B35="","",IF(AND(C35=C33,B34=0),AC34+1,IF(AND(AC34>1,B35=0),AC34+1,IF(C35=C34,AC34+1,1)))))) -> 2 | AD35: =IF(B35="","",IF(OR(AC34=1,AC34=2),"",IF(AC34>=3,AC34-2))) | AE35: =IF(AD35="","",VLOOKUP(AD35,$Z$4:$AA$18,2,0)) | AF35: =IF(AND(AF34=2,B35=0),1,IF(AND(AF34=1,B35=0),1,IF(B35="","",IF(AND(F35=F33,B34=0),AF34+1,IF(AND(AF34>1,B35=0),AF34+1,IF(F35=F34,AF34+1,1)))))) -> 2 | AG35: =IF(B35="","",IF(OR(AF34=1,AF34=2),"",IF(AF34>=3,AF34-2))) | AH35: =IF(AG35="","",VLOOKUP(AG35,$Z$4:$AA$18,2,0)) | AI35: =IF(AND(AI34=2,B35=0),1,IF(AND(AI34=1,B35=0),1,IF(B35="","",IF(AND(I35=I33,B34=0),AI34+1,IF(AND(AI34>1,B35=0),AI34+1,IF(I35=I34,AI34+1,1)))))) -> 1 | AJ35: =IF(B35="","",IF(OR(AI34=1,AI34=2),"",IF(AI34>=3,AI34-2))) | AK35: =IF(AJ35="","",VLOOKUP(AJ35,$Z$4:$AA$18,2,0)) | AS35: 33 | AT35: 11 | AU35: 6 | AV35: 3 | AW35: 3 | AX35: B | AY35: O | AZ35: H
B36: =IF(Master!B36="","",Master!B36) -> 4 | C36: =IF(B36="","",VLOOKUP(B36,$AS$1:$AZ$38,6,0)) -> B | D36: =IF(L36="","",IF(L36>=1,"<--Win",IF(L36<0,"<--Bet",""))) | F36: =IF(B36="","",VLOOKUP(B36,$AS$1:$AZ$38,8,0)) -> L | G36: =IF(O36="","",IF(O36>=1,"<--Win",IF(O36<0,"<--Bet",""))) | I36: =IF(B36="","",VLOOKUP(B36,$AS$1:$AZ$38,7,0)) -> E | J36: =IF(R36="","",IF(R36>=1,"<--Win",IF(R36<0,"<--Bet",""))) | L36: =IF(AND(AD36<>"",AD37<>""),-AE36,IF(AND(AD36>=1,AD37=""),AE36,"")) | M36: =IF(L36<>"",SUM($L$6:L36),"") | O36: =IF(AND(AG36<>"",AG37<>""),-AH36,IF(AND(AG36>=1,AG37=""),AH36,"")) | P36: =IF(O36<>"",SUM($O$6:O36),"") | R36: =IF(AND(AJ36<>"",AJ37<>""),-AK36,IF(AND(AJ36>=1,AJ37=""),AK36,"")) | S36: =IF(R36<>"",SUM($R$6:R36),"") | U36: =IF(B36="",U35,SUM($L$7:L36)+SUM($O$7:O36)+SUM($R$7:R36)) -> -4 | AC36: =IF(AND(AC35=2,B36=0),1,IF(AND(AC35=1,B36=0),1,IF(B36="","",IF(AND(C36=C34,B35=0),AC35+1,IF(AND(AC35>1,B36=0),AC35+1,IF(C36=C35,AC35+1,1)))))) -> 1 | AD36: =IF(B36="","",IF(OR(AC35=1,AC35=2),"",IF(AC35>=3,AC35-2))) | AE36: =IF(AD36="","",VLOOKUP(AD36,$Z$4:$AA$18,2,0)) | AF36: =IF(AND(AF35=2,B36=0),1,IF(AND(AF35=1,B36=0),1,IF(B36="","",IF(AND(F36=F34,B35=0),AF35+1,IF(AND(AF35>1,B36=0),AF35+1,IF(F36=F35,AF35+1,1)))))) -> 3 | AG36: =IF(B36="","",IF(OR(AF35=1,AF35=2),"",IF(AF35>=3,AF35-2))) | AH36: =IF(AG36="","",VLOOKUP(AG36,$Z$4:$AA$18,2,0)) | AI36: =IF(AND(AI35=2,B36=0),1,IF(AND(AI35=1,B36=0),1,IF(B36="","",IF(AND(I36=I34,B35=0),AI35+1,IF(AND(AI35>1,B36=0),AI35+1,IF(I36=I35,AI35+1,1)))))) -> 2 | AJ36: =IF(B36="","",IF(OR(AI35=1,AI35=2),"",IF(AI35>=3,AI35-2))) | AK36: =IF(AJ36="","",VLOOKUP(AJ36,$Z$4:$AA$18,2,0)) | AS36: 34 | AT36: 12 | AU36: 6 | AV36: 3 | AW36: 1 | AX36: R | AY36: E | AZ36: H
