Workbook

Sheet Master
A2: NUM | E2: Prog Individual | AB2: Good Prog Results
B3: 1 | E3: R/B | G3: H/L | I3: O/E | K3: Total | AB3: 1 | AC3: 0
B4: 0 | D4: End | E4: ='Prog Individual'!M3 -> 20 | G4: ='Prog Individual'!P3 -> 20 | I4: ='Prog Individual'!S3 -> 20 | K4: =SUM(E4:I4) -> 60 | AB4: 1 | AC4: 0
B5: 27 | D5: Max | E5: ='Prog Individual'!X21 -> 23 | G5: ='Prog Individual'!X22 -> 20 | I5: ='Prog Individual'!X23 -> 20 | AB5: 3 | AC5: 0
B6: 31 | D6: Min | E6: ='Prog Individual'!X26 -> -28 | G6: ='Prog Individual'!X27 -> -19 | I6: ='Prog Individual'!X28 -> -2 | AB6: 5 | AC6: 0
B7: 9 | AB7: 8 | AC7: 0
B8: 28 | E8: Prog +1/-1 | AB8: 13 | AC8: 0
B9: 13 | E9: R/B | G9: H/L | I9: O/E | K9: Total | AB9: 21 | AC9: 0
B10: 12 | D10: End | E10: ='Prog + -'!L3 -> 40 | G10: ='Prog + -'!$P$3 -> 71 | I10: ='Prog + -'!$T$3 -> 35 | K10: =SUM(E10:I10) -> 146 | AB10: 54 | AC10: 0
B11: 32 | D11: Max | E11: ='Prog + -'!AA13 -> 49 | G11: ='Prog + -'!AA14 -> 71 | I11: ='Prog + -'!T3 -> 35 | AB11: 75 | AC11: 0
B12: 11 | D12: Min | E12: ='Prog + -'!AA18 -> -32 | G12: ='Prog + -'!AA19 -> -31 | I12: ='Prog + -'!AA20 -> -34 | AB12: 129 | AC12: 0
B13: 35 | AB13: 0 | AC13: 0
B14: 30 | AB14: 0 | AC14: 0
B15: 21 | E15: Prog | I15: Max Individual | AB15: 0 | AC15: 0
B16: 13 | E16: Lvl. | G16: Prog | I16: R/B | K16: ='Prog Individual'!X10 -> 20 | AB16: 0 | AC16: 0
B17: 0 | E17: 1 | F17: 1 | G17: 1 | I17: H/L | K17: ='Prog Individual'!X11 -> 20 | AB17: 0 | AC17: 0
B18: 0 | E18: 2 | F18: 1 | G18: 1 | I18: O/E | K18: ='Prog Individual'!X12 -> 12
B19: 10 | E19: 3 | F19: 3 | G19: 1
B20: 31 | E20: 4 | F20: 6 | G20: 4 | I20: Max +/-
B21: 29 | E21: 5 | F21: 12 | G21: 8 | I21: R/B | K21: ='Prog + -'!R10 -> 0
B22: 22 | E22: 6 | F22: 24 | G22: 12 | I22: H/L | K22: ='Prog + -'!R11 -> 0
B23: 6 | E23: 7 | F23: 48 | G23: 20 | I23: O/E | K23: ='Prog + -'!R12 -> 0
B24: 34 | E24: 8 | F24: 96 | G24: 35
B25: 13 | E25: 9 | F25: 192 | G25: 55 | I25: Max Repeat
B26: 11 | E26: 10 | F26: 384 | G26: 90 | I26: R/B | K26: ='Prog Individual'!X15 -> 7
B27: 20 | E27: 11 | F27: 0 | G27: 145 | I27: H/L | K27: ='Prog Individual'!X16 -> 7
B28: 31 | E28: 12 | F28: 0 | G28: 235 | I28: O/E | K28: ='Prog Individual'!X17 -> 6
B29: 10 | E29: 13 | F29: 0 | G29: 0
B30: 4 | E30: 14 | F30: 0 | G30: 0
B31: 15 | E31: 15 | F31: 0 | G31: 0 | J31: Change here
B32: 10
B33: 31 | E33: Prog+/-
B34: 1 | E34: win - | G34: 1
B35: 14 | E35: Loss + | G35: 1
B36: 4
B37: 32
B38: 29 | D38: Add your Numbers here
B39: 8
B40: 25
B41: 7
B42: 16
B43: 12
B44: 11
B45: 35
B46: 17
B47: 35
B48: 16
B49: 36
B50: 24
... B523: 23

Sheet Prog Individual
L1: 12 | O1: 52 | R1: 23 | AH1: ^^ | AS1: Num | AT1: Street | AU1: DS | AV1: DZ | AW1: Col | AX1: R/B | AY1: O/E | AZ1: H/L
A2: NUM | C2: R/B | F2: H/L | I2: O/E | L2: R/B | M2: Total | O2: H/L | P2: Total | R2: O/E | S2: Total | U2: Total EC | Z2: Prog | AC2: Repeat EC | AS2: 0 | AT2: 0 | AU2: 0 | AV2: 0 | AW2: 0 | AX2: Zero | AY2: Zero | AZ2: Zero
B3: =IF(Master!B3="","",Master!B3) -> 1 | C3: =IF(B3="","",VLOOKUP(B3,$AS$1:$AZ$38,6,0)) -> R | F3: =IF(B3="","",VLOOKUP(B3,$AS$1:$AZ$38,8,0)) -> L | I3: =IF(B3="","",VLOOKUP(B3,$AS$1:$AZ$38,7,0)) -> O | M3: =SUM(L6:L1000) -> 20 | P3: =SUM(O6:O1000) -> 20 | S3: =SUM(R6:R1000) -> 20 | T3: Total --> | U3: =SUM(L3:S3) -> 60 | W3: 55 | Z3: Lvl. | AA3: Prog | AC3: R/B | AD3: Bet Lvl | AE3: Prog | AF3: H/L | AG3: Bet Lvl | AH3: Prog | AI3: O/E | AJ3: Bet Lvl | AK3: Prog | AS3: 1 | AT3: 1 | AU3: 1 | AV3: 1 | AW3: 1 | AX3: R | AY3: O | AZ3: L
B4: =IF(Master!B4="","",Master!B4) -> 0 | C4: =IF(B4="","",VLOOKUP(B4,$AS$1:$AZ$38,6,0)) -> Zero | F4: =IF(B4="","",VLOOKUP(B4,$AS$1:$AZ$38,8,0)) -> Zero | I4: =IF(B4="","",VLOOKUP(B4,$AS$1:$AZ$38,7,0)) -> Zero | W4: 141 | Z4: 1 | AA4: =Master!G17 -> 1 | AC4: =IF(B4="","",IF(C4=C3,2,1)) -> 1 | AF4: =IF(B4="","",IF(F4=F3,2,1)) -> 1 | AI4: =IF(B4="","",IF(I4=I3,2,1)) -> 1 | AS4: 2 | AT4: 1 | AU4: 1 | AV4: 1 | AW4: 2 | AX4: B | AY4: E | AZ4: L
B5: =IF(Master!B5="","",Master!B5) -> 27 | C5: =IF(B5="","",VLOOKUP(B5,$AS$1:$AZ$38,6,0)) -> R | F5: =IF(B5="","",VLOOKUP(B5,$AS$1:$AZ$38,8,0)) -> H | I5: =IF(B5="","",VLOOKUP(B5,$AS$1:$AZ$38,7,0)) -> O | W5: 140 | Z5: 2 | AA5: =Master!G18 -> 1 | AC5: =IF(B5="","",IF(C5=C4,AC4+1,1)) -> 1 | AD5: =IF(B5="","",IF(OR(AC4=1,AC4=2),"",IF(AC4>=3,AC4-2))) | AE5: =IF(AD5="","",VLOOKUP(AD5,$Z$4:$AA$18,2,0)) | AF5: =IF(B5="","",IF(F5=F4,AF4+1,1)) -> 1 | AG5: =IF(B5="","",IF(OR(AF4=1,AF4=2),"",IF(AF4>=3,AF4-2))) | AH5: =IF(AG5="","",VLOOKUP(AG5,$Z$4:$AA$18,2,0)) | AI5: =IF(B5="","",IF(I5=I4,AI4+1,1)) -> 1 | AJ5: =IF(B5="","",IF(OR(AI4=1,AI4=2),"",IF(AI4>=3,AI4-2))) | AS5: 3 | AT5: 1 | AU5: 1 | AV5: 1 | AW5: 3 | AX5: R | AY5: O | AZ5: L
B6: =IF(Master!B6="","",Master!B6) -> 31 | C6: =IF(B6="","",VLOOKUP(B6,$AS$1:$AZ$38,6,0)) -> B | D6: =IF(L6="","",IF(L6>=1,"<--Win",IF(L6<0,"<--Bet",""))) | F6: =IF(B6="","",VLOOKUP(B6,$AS$1:$AZ$38,8,0)) -> H | G6: =IF(O6="","",IF(O6>=1,"<--Win",IF(O6<0,"<--Bet",""))) | I6: =IF(B6="","",VLOOKUP(B6,$AS$1:$AZ$38,7,0)) -> O | J6: =IF(R6="","",IF(R6>=1,"<--Win",IF(R6<0,"<--Bet",""))) | L6: =IF(AND(AD6<>"",AD7<>""),-AE6,IF(AND(AD6>=1,AD7=""),AE6,"")) | O6: =IF(AND(AG6<>"",AG7<>""),-AH6,IF(AND(AG6>=1,AG7=""),AH6,"")) | R6: =IF(AND(AJ6<>"",AJ7<>""),-AK6,IF(AND(AJ6>=1,AJ7=""),AK6,"")) | W6: 157 | Z6: 3 | AA6: =Master!G19 -> 1 | AC6: =IF(B6="","",IF(C6=C5,AC5+1,1)) -> 1 | AD6: =IF(B6="","",IF(OR(AC5=1,AC5=2),"",IF(AC5>=3,AC5-2))) | AE6: =IF(AD6="","",VLOOKUP(AD6,$Z$4:$AA$18,2,0)) | AF6: =IF(B6="","",IF(F6=F5,AF5+1,1)) -> 2 | AG6: =IF(B6="","",IF(OR(AF5=1,AF5=2),"",IF(AF5>=3,AF5-2))) | AH6: =IF(AG6="","",VLOOKUP(AG6,$Z$4:$AA$18,2,0)) | AI6: =IF(B6="","",IF(I6=I5,AI5+1,1)) -> 2 | AJ6: =IF(B6="","",IF(OR(AI5=1,AI5=2),"",IF(AI5>=3,AI5-2))) | AK6: =IF(AJ6="","",VLOOKUP(AJ6,$Z$4:$AA$18,2,0)) | AS6: 4 | AT6: 2 | AU6: 1 | AV6: 1 | AW6: 1 | AX6: B | AY6: E | AZ6: L
B7: =IF(Master!B7="","",Master!B7) -> 9 | C7: =IF(B7="","",VLOOKUP(B7,$AS$1:$AZ$38,6,0)) -> R | D7: =IF(L7="","",IF(L7>=1,"<--Win",IF(L7<0,"<--Bet",""))) | F7: =IF(B7="","",VLOOKUP(B7,$AS$1:$AZ$38,8,0)) -> L | G7: =IF(O7="","",IF(O7>=1,"<--Win",IF(O7<0,"<--Bet",""))) | I7: =IF(B7="","",VLOOKUP(B7,$AS$1:$AZ$38,7,0)) -> O | J7: =IF(R7="","",IF(R7>=1,"<--Win",IF(R7<0,"<--Bet",""))) | L7: =IF(AND(AD7<>"",AD8<>""),-AE7,IF(AND(AD7>=1,AD8=""),AE7,"")) | M7: =IF(L7<>"",SUM($L$6:L7),"") | O7: =IF(AND(AG7<>"",AG8<>""),-AH7,IF(AND(AG7>=1,AG8=""),AH7,"")) | P7: =IF(O7<>"",SUM($O$6:O7),"") | R7: =IF(AND(AJ7<>"",AJ8<>""),-AK7,IF(AND(AJ7>=1,AJ8=""),AK7,"")) | S7: =IF(R7<>"",SUM($R$6:R7),"") | U7: =IF(B7="","",SUM($L$7:L7)+SUM($O$7:O7)+SUM($R$7:R7)) -> 0 | W7: =SUM(W3:W6) -> 493 | Z7: 4 | AA7: =Master!G20 -> 4 | AC7: =IF(AND(AC6=2,B7=0),1,IF(AND(AC6=1,B7=0),1,IF(B7="","",IF(AND(C7=C5,B6=0),AC6+1,IF(AND(AC6>1,B7=0),AC6+1,IF(C7=C6,AC6+1,1)))))) -> 1 | AD7: =IF(B7="","",IF(OR(AC6=1,AC6=2),"",IF(AC6>=3,AC6-2))) | AE7: =IF(AD7="","",VLOOKUP(AD7,$Z$4:$AA$18,2,0)) | AF7: =IF(AND(AF6=2,B7=0),1,IF(AND(AF6=1,B7=0),1,IF(B7="","",IF(AND(F7=F5,B6=0),AF6+1,IF(AND(AF6>1,B7=0),AF6+1,IF(F7=F6,AF6+1,1)))))) -> 1 | AG7: =IF(B7="","",IF(OR(AF6=1,AF6=2),"",IF(AF6>=3,AF6-2))) | AH7: =IF(AG7="","",VLOOKUP(AG7,$Z$4:$AA$18,2,0)) | AI7: =IF(AND(AI6=2,B7=0),1,IF(AND(AI6=1,B7=0),1,IF(B7="","",IF(AND(I7=I5,B6=0),AI6+1,IF(AND(AI6>1,B7=0),AI6+1,IF(I7=I6,AI6+1,1)))))) -> 3 | AJ7: =IF(B7="","",IF(OR(AI6=1,AI6=2),"",IF(AI6>=3,AI6-2))) | AK7: =IF(AJ7="","",VLOOKUP(AJ7,$Z$4:$AA$18,2,0)) | AS7: 5 | AT7: 2 | AU7: 1 | AV7: 1 | AW7: 2 | AX7: R | AY7: O | AZ7: L
B8: =IF(Master!B8="","",Master!B8) -> 28 | C8: =IF(B8="","",VLOOKUP(B8,$AS$1:$AZ$38,6,0)) -> B | D8: =IF(L8="","",IF(L8>=1,"<--Win",IF(L8<0,"<--Bet",""))) | F8: =IF(B8="","",VLOOKUP(B8,$AS$1:$AZ$38,8,0)) -> H | G8: =IF(O8="","",IF(O8>=1,"<--Win",IF(O8<0,"<--Bet",""))) | I8: =IF(B8="","",VLOOKUP(B8,$AS$1:$AZ$38,7,0)) -> E | J8: =IF(R8="","",IF(R8>=1,"<--Win",IF(R8<0,"<--Bet",""))) -> <--Win | L8: =IF(AND(AD8<>"",AD9<>""),-AE8,IF(AND(AD8>=1,AD9=""),AE8,"")) | M8: =IF(L8<>"",SUM($L$6:L8),"") | O8: =IF(AND(AG8<>"",AG9<>""),-AH8,IF(AND(AG8>=1,AG9=""),AH8,"")) | P8: =IF(O8<>"",SUM($O$6:O8),"") | R8: =IF(AND(AJ8<>"",AJ9<>""),-AK8,IF(AND(AJ8>=1,AJ9=""),AK8,"")) -> 1 | S8: =IF(R8<>"",SUM($R$6:R8),"") -> 1 | U8: =IF(B8="",U7,SUM($L$7:L8)+SUM($O$7:O8)+SUM($R$7:R8)) -> 1 | Z8: 5 | AA8: =Master!G21 -> 8 | AC8: =IF(AND(AC7=2,B8=0),1,IF(AND(AC7=1,B8=0),1,IF(B8="","",IF(AND(C8=C6,B7=0),AC7+1,IF(AND(AC7>1,B8=0),AC7+1,IF(C8=C7,AC7+1,1)))))) -> 1 | AD8: =IF(B8="","",IF(OR(AC7=1,AC7=2),"",IF(AC7>=3,AC7-2))) | AE8: =IF(AD8="","",VLOOKUP(AD8,$Z$4:$AA$18,2,0)) | AF8: =IF(AND(AF7=2,B8=0),1,IF(AND(AF7=1,B8=0),1,IF(B8="","",IF(AND(F8=F6,B7=0),AF7+1,IF(AND(AF7>1,B8=0),AF7+1,IF(F8=F7,AF7+1,1)))))) -> 1 | AG8: =IF(B8="","",IF(OR(AF7=1,AF7=2),"",IF(AF7>=3,AF7-2))) | AH8: =IF(AG8="","",VLOOKUP(AG8,$Z$4:$AA$18,2,0)) | AI8: =IF(AND(AI7=2,B8=0),1,IF(AND(AI7=1,B8=0),1,IF(B8="","",IF(AND(I8=I6,B7=0),AI7+1,IF(AND(AI7>1,B8=0),AI7+1,IF(I8=I7,AI7+1,1)))))) -> 1 | AJ8: =IF(B8="","",IF(OR(AI7=1,AI7=2),"",IF(AI7>=3,AI7-2))) -> 1 | AK8: =IF(AJ8="","",VLOOKUP(AJ8,$Z$4:$AA$18,2,0)) -> 1 | AS8: 6 | AT8: 2 | AU8: 1 | AV8: 1 | AW8: 3 | AX8: B | AY8: E | AZ8: L
B9: =IF(Master!B9="","",Master!B9) -> 13 | C9: =IF(B9="","",VLOOKUP(B9,$AS$1:$AZ$38,6,0)) -> B | D9: =IF(L9="","",IF(L9>=1,"<--Win",IF(L9<0,"<--Bet",""))) | F9: =IF(B9="","",VLOOKUP(B9,$AS$1:$AZ$38,8,0)) -> L | G9: =IF(O9="","",IF(O9>=1,"<--Win",IF(O9<0,"<--Bet",""))) | I9: =IF(B9="","",VLOOKUP(B9,$AS$1:$AZ$38,7,0)) -> O | J9: =IF(R9="","",IF(R9>=1,"<--Win",IF(R9<0,"<--Bet",""))) | L9: =IF(AND(AD9<>"",AD10<>""),-AE9,IF(AND(AD9>=1,AD10=""),AE9,"")) | M9: =IF(L9<>"",SUM($L$6:L9),"") | O9: =IF(AND(AG9<>"",AG10<>""),-AH9,IF(AND(AG9>=1,AG10=""),AH9,"")) | P9: =IF(O9<>"",SUM($O$6:O9),"") | R9: =IF(AND(AJ9<>"",AJ10<>""),-AK9,IF(AND(AJ9>=1,AJ10=""),AK9,"")) | S9: =IF(R9<>"",SUM($R$6:R9),"") | U9: =IF(B9="",U8,SUM($L$7:L9)+SUM($O$7:O9)+SUM($R$7:R9)) -> 1 | W9: Max | Z9: 6 | AA9: =Master!G22 -> 12 | AC9: =IF(AND(AC8=2,B9=0),1,IF(AND(AC8=1,B9=0),1,IF(B9="","",IF(AND(C9=C7,B8=0),AC8+1,IF(AND(AC8>1,B9=0),AC8+1,IF(C9=C8,AC8+1,1)))))) -> 2 | AD9: =IF(B9="","",IF(OR(AC8=1,AC8=2),"",IF(AC8>=3,AC8-2))) | AE9: =IF(AD9="","",VLOOKUP(AD9,$Z$4:$AA$18,2,0)) | AF9: =IF(AND(AF8=2,B9=0),1,IF(AND(AF8=1,B9=0),1,IF(B9="","",IF(AND(F9=F7,B8=0),AF8+1,IF(AND(AF8>1,B9=0),AF8+1,IF(F9=F8,AF8+1,1)))))) -> 1 | AG9: =IF(B9="","",IF(OR(AF8=1,AF8=2),"",IF(AF8>=3,AF8-2))) | AH9: =IF(AG9="","",VLOOKUP(AG9,$Z$4:$AA$18,2,0)) | AI9: =IF(AND(AI8=2,B9=0),1,IF(AND(AI8=1,B9=0),1,IF(B9="","",IF(AND(I9=I7,B8=0),AI8+1,IF(AND(AI8>1,B9=0),AI8+1,IF(I9=I8,AI8+1,1)))))) -> 1 | AJ9: =IF(B9="","",IF(OR(AI8=1,AI8=2),"",IF(AI8>=3,AI8-2))) | AK9: =IF(AJ9="","",VLOOKUP(AJ9,$Z$4:$AA$18,2,0)) | AS9: 7 | AT9: 3 | AU9: 2 | AV9: 1 | AW9: 1 | AX9: R | AY9: O | AZ9: L
B10: =IF(Master!B10="","",Master!B10) -> 12 | C10: =IF(B10="","",VLOOKUP(B10,$AS$1:$AZ$38,6,0)) -> R | D10: =IF(L10="","",IF(L10>=1,"<--Win",IF(L10<0,"<--Bet",""))) | F10: =IF(B10="","",VLOOKUP(B10,$AS$1:$AZ$38,8,0)) -> L | G10: =IF(O10="","",IF(O10>=1,"<--Win",IF(O10<0,"<--Bet",""))) | I10: =IF(B10="","",VLOOKUP(B10,$AS$1:$AZ$38,7,0)) -> E | J10: =IF(R10="","",IF(R10>=1,"<--Win",IF(R10<0,"<--Bet",""))) | L10: =IF(AND(AD10<>"",AD11<>""),-AE10,IF(AND(AD10>=1,AD11=""),AE10,"")) | M10: =IF(L10<>"",SUM($L$6:L10),"") | O10: =IF(AND(AG10<>"",AG11<>""),-AH10,IF(AND(AG10>=1,AG11=""),AH10,"")) | P10: =IF(O10<>"",SUM($O$6:O10),"") | R10: =IF(AND(AJ10<>"",AJ11<>""),-AK10,IF(AND(AJ10>=1,AJ11=""),AK10,"")) | S10: =IF(R10<>"",SUM($R$6:R10),"") | U10: =IF(B10="",U9,SUM($L$7:L10)+SUM($O$7:O10)+SUM($R$7:R10)) -> 1 | W10: R/B | X10: =MAX(L6:L1000) -> 20 | Z10: 7 | AA10: =Master!G23 -> 20 | AC10: =IF(AND(AC9=2,B10=0),1,IF(AND(AC9=1,B10=0),1,IF(B10="","",IF(AND(C10=C8,B9=0),AC9+1,IF(AND(AC9>1,B10=0),AC9+1,IF(C10=C9,AC9+1,1)))))) -> 1 | AD10: =IF(B10="","",IF(OR(AC9=1,AC9=2),"",IF(AC9>=3,AC9-2))) | AE10: =IF(AD10="","",VLOOKUP(AD10,$Z$4:$AA$18,2,0)) | AF10: =IF(AND(AF9=2,B10=0),1,IF(AND(AF9=1,B10=0),1,IF(B10="","",IF(AND(F10=F8,B9=0),AF9+1,IF(AND(AF9>1,B10=0),AF9+1,IF(F10=F9,AF9+1,1)))))) -> 2 | AG10: =IF(B10="","",IF(OR(AF9=1,AF9=2),"",IF(AF9>=3,AF9-2))) | AH10: =IF(AG10="","",VLOOKUP(AG10,$Z$4:$AA$18,2,0)) | AI10: =IF(AND(AI9=2,B10=0),1,IF(AND(AI9=1,B10=0),1,IF(B10="","",IF(AND(I10=I8,B9=0),AI9+1,IF(AND(AI9>1,B10=0),AI9+1,IF(I10=I9,AI9+1,1)))))) -> 1 | AJ10: =IF(B10="","",IF(OR(AI9=1,AI9=2),"",IF(AI9>=3,AI9-2))) | AK10: =IF(AJ10="","",VLOOKUP(AJ10,$Z$4:$AA$18,2,0)) | AS10: 8 | AT10: 3 | AU10: 2 | AV10: 1 | AW10: 2 | AX10: B | AY10: E | AZ10: L
B11: =IF(Master!B11="","",Master!B11) -> 32 | C11: =IF(B11="","",VLOOKUP(B11,$AS$1:$AZ$38,6,0)) -> R | D11: =IF(L11="","",IF(L11>=1,"<--Win",IF(L11<0,"<--Bet",""))) | F11: =IF(B11="","",VLOOKUP(B11,$AS$1:$AZ$38,8,0)) -> H | G11: =IF(O11="","",IF(O11>=1,"<--Win",IF(O11<0,"<--Bet",""))) | I11: =IF(B11="","",VLOOKUP(B11,$AS$1:$AZ$38,7,0)) -> E | J11: =IF(R11="","",IF(R11>=1,"<--Win",IF(R11<0,"<--Bet",""))) | L11: =IF(AND(AD11<>"",AD12<>""),-AE11,IF(AND(AD11>=1,AD12=""),AE11,"")) | M11: =IF(L11<>"",SUM($L$6:L11),"") | O11: =IF(AND(AG11<>"",AG12<>""),-AH11,IF(AND(AG11>=1,AG12=""),AH11,"")) | P11: =IF(O11<>"",SUM($O$6:O11),"") | R11: =IF(AND(AJ11<>"",AJ12<>""),-AK11,IF(AND(AJ11>=1,AJ12=""),AK11,"")) | S11: =IF(R11<>"",SUM($R$6:R11),"") | U11: =IF(B11="",U10,SUM($L$7:L11)+SUM($O$7:O11)+SUM($R$7:R11)) -> 1 | W11: H/L | X11: =MAX(O6:O1000) -> 20 | Z11: 8 | AA11: =Master!G24 -> 35 | AC11: =IF(AND(AC10=2,B11=0),1,IF(AND(AC10=1,B11=0),1,IF(B11="","",IF(AND(C11=C9,B10=0),AC10+1,IF(AND(AC10>1,B11=0),AC10+1,IF(C11=C10,AC10+1,1)))))) -> 2 | AD11: =IF(B11="","",IF(OR(AC10=1,AC10=2),"",IF(AC10>=3,AC10-2))) | AE11: =IF(AD11="","",VLOOKUP(AD11,$Z$4:$AA$18,2,0)) | AF11: =IF(AND(AF10=2,B11=0),1,IF(AND(AF10=1,B11=0),1,IF(B11="","",IF(AND(F11=F9,B10=0),AF10+1,IF(AND(AF10>1,B11=0),AF10+1,IF(F11=F10,AF10+1,1)))))) -> 1 | AG11: =IF(B11="","",IF(OR(AF10=1,AF10=2),"",IF(AF10>=3,AF10-2))) | AH11: =IF(AG11="","",VLOOKUP(AG11,$Z$4:$AA$18,2,0)) | AI11: =IF(AND(AI10=2,B11=0),1,IF(AND(AI10=1,B11=0),1,IF(B11="","",IF(AND(I11=I9,B10=0),AI10+1,IF(AND(AI10>1,B11=0),AI10+1,IF(I11=I10,AI10+1,1)))))) -> 2 | AJ11: =IF(B11="","",IF(OR(AI10=1,AI10=2),"",IF(AI10>=3,AI10-2))) | AK11: =IF(AJ11="","",VLOOKUP(AJ11,$Z$4:$AA$18,2,0)) | AS11: 9 | AT11: 3 | AU11: 2 | AV11: 1 | AW11: 3 | AX11: R | AY11: O | AZ11: L
B12: =IF(Master!B12="","",Master!B12) -> 11 | C12: =IF(B12="","",VLOOKUP(B12,$AS$1:$AZ$38,6,0)) -> B | D12: =IF(L12="","",IF(L12>=1,"<--Win",IF(L12<0,"<--Bet",""))) | F12: =IF(B12="","",VLOOKUP(B12,$AS$1:$AZ$38,8,0)) -> L | G12: =IF(O12="","",IF(O12>=1,"<--Win",IF(O12<0,"<--Bet",""))) | I12: =IF(B12="","",VLOOKUP(B12,$AS$1:$AZ$38,7,0)) -> O | J12: =IF(R12="","",IF(R12>=1,"<--Win",IF(R12<0,"<--Bet",""))) | L12: =IF(AND(AD12<>"",AD13<>""),-AE12,IF(AND(AD12>=1,AD13=""),AE12,"")) | M12: =IF(L12<>"",SUM($L$6:L12),"") | O12: =IF(AND(AG12<>"",AG13<>""),-AH12,IF(AND(AG12>=1,AG13=""),AH12,"")) | P12: =IF(O12<>"",SUM($O$6:O12),"") | R12: =IF(AND(AJ12<>"",AJ13<>""),-AK12,IF(AND(AJ12>=1,AJ13=""),AK12,"")) | S12: =IF(R12<>"",SUM($R$6:R12),"") | U12: =IF(B12="",U11,SUM($L$7:L12)+SUM($O$7:O12)+SUM($R$7:R12)) -> 1 | W12: O/E | X12: =MAX(R6:R1000) -> 12 | Z12: 9 | AA12: =Master!G25 -> 55 | AC12: =IF(AND(AC11=2,B12=0),1,IF(AND(AC11=1,B12=0),1,IF(B12="","",IF(AND(C12=C10,B11=0),AC11+1,IF(AND(AC11>1,B12=0),AC11+1,IF(C12=C11,AC11+1,1)))))) -> 1 | AD12: =IF(B12="","",IF(OR(AC11=1,AC11=2),"",IF(AC11>=3,AC11-2))) | AE12: =IF(AD12="","",VLOOKUP(AD12,$Z$4:$AA$18,2,0)) | AF12: =IF(AND(AF11=2,B12=0),1,IF(AND(AF11=1,B12=0),1,IF(B12="","",IF(AND(F12=F10,B11=0),AF11+1,IF(AND(AF11>1,B12=0),AF11+1,IF(F12=F11,AF11+1,1)))))) -> 1 | AG12: =IF(B12="","",IF(OR(AF11=1,AF11=2),"",IF(AF11>=3,AF11-2))) | AH12: =IF(AG12="","",VLOOKUP(AG12,$Z$4:$AA$18,2,0)) | AI12: =IF(AND(AI11=2,B12=0),1,IF(AND(AI11=1,B12=0),1,IF(B12="","",IF(AND(I12=I10,B11=0),AI11+1,IF(AND(AI11>1,B12=0),AI11+1,IF(I12=I11,AI11+1,1)))))) -> 1 | AJ12: =IF(B12="","",IF(OR(AI11=1,AI11=2),"",IF(AI11>=3,AI11-2))) | AK12: =IF(AJ12="","",VLOOKUP(AJ12,$Z$4:$AA$18,2,0)) | AS12: 10 | AT12: 4 | AU12: 2 | AV12: 1 | AW12: 1 | AX12: B | AY12: E | AZ12: L
B13: =IF(Master!B13="","",Master!B13) -> 35 | C13: =IF(B13="","",VLOOKUP(B13,$AS$1:$AZ$38,6,0)) -> B | D13: =IF(L13="","",IF(L13>=1,"<--Win",IF(L13<0,"<--Bet",""))) | F13: =IF(B13="","",VLOOKUP(B13,$AS$1:$AZ$38,8,0)) -> H | G13: =IF(O13="","",IF(O13>=1,"<--Win",IF(O13<0,"<--Bet",""))) | I13: =IF(B13="","",VLOOKUP(B13,$AS$1:$AZ$38,7,0)) -> O | J13: =IF(R13="","",IF(R13>=1,"<--Win",IF(R13<0,"<--Bet",""))) | L13: =IF(AND(AD13<>"",AD14<>""),-AE13,IF(AND(AD13>=1,AD14=""),AE13,"")) | M13: =IF(L13<>"",SUM($L$6:L13),"") | O13: =IF(AND(AG13<>"",AG14<>""),-AH13,IF(AND(AG13>=1,AG14=""),AH13,"")) | P13: =IF(O13<>"",SUM($O$6:O13),"") | R13: =IF(AND(AJ13<>"",AJ14<>""),-AK13,IF(AND(AJ13>=1,AJ14=""),AK13,"")) | S13: =IF(R13<>"",SUM($R$6:R13),"") | U13: =IF(B13="",U12,SUM($L$7:L13)+SUM($O$7:O13)+SUM($R$7:R13)) -> 1 | Z13: 10 | AA13: =Master!G26 -> 90 | AC13: =IF(AND(AC12=2,B13=0),1,IF(AND(AC12=1,B13=0),1,IF(B13="","",IF(AND(C13=C11,B12=0),AC12+1,IF(AND(AC12>1,B13=0),AC12+1,IF(C13=C12,AC12+1,1)))))) -> 2 | AD13: =IF(B13="","",IF(OR(AC12=1,AC12=2),"",IF(AC12>=3,AC12-2))) | AE13: =IF(AD13="","",VLOOKUP(AD13,$Z$4:$AA$18,2,0)) | AF13: =IF(AND(AF12=2,B13=0),1,IF(AND(AF12=1,B13=0),1,IF(B13="","",IF(AND(F13=F11,B12=0),AF12+1,IF(AND(AF12>1,B13=0),AF12+1,IF(F13=F12,AF12+1,1)))))) -> 1 | AG13: =IF(B13="","",IF(OR(AF12=1,AF12=2),"",IF(AF12>=3,AF12-2))) | AH13: =IF(AG13="","",VLOOKUP(AG13,$Z$4:$AA$18,2,0)) | AI13: =IF(AND(AI12=2,B13=0),1,IF(AND(AI12=1,B13=0),1,IF(B13="","",IF(AND(I13=I11,B12=0),AI12+1,IF(AND(AI12>1,B13=0),AI12+1,IF(I13=I12,AI12+1,1)))))) -> 2 | AJ13: =IF(B13="","",IF(OR(AI12=1,AI12=2),"",IF(AI12>=3,AI12-2))) | AK13: =IF(AJ13="","",VLOOKUP(AJ13,$Z$4:$AA$18,2,0)) | AS13: 11 | AT13: 4 | AU13: 2 | AV13: 1 | AW13: 2 | AX13: B | AY13: O | AZ13: L
B14: =IF(Master!B14="","",Master!B14) -> 30 | C14: =IF(B14="","",VLOOKUP(B14,$AS$1:$AZ$38,6,0)) -> R | D14: =IF(L14="","",IF(L14>=1,"<--Win",IF(L14<0,"<--Bet",""))) | F14: =IF(B14="","",VLOOKUP(B14,$AS$1:$AZ$38,8,0)) -> H | G14: =IF(O14="","",IF(O14>=1,"<--Win",IF(O14<0,"<--Bet",""))) | I14: =IF(B14="","",VLOOKUP(B14,$AS$1:$AZ$38,7,0)) -> E | J14: =IF(R14="","",IF(R14>=1,"<--Win",IF(R14<0,"<--Bet",""))) | L14: =IF(AND(AD14<>"",AD15<>""),-AE14,IF(AND(AD14>=1,AD15=""),AE14,"")) | M14: =IF(L14<>"",SUM($L$6:L14),"") | O14: =IF(AND(AG14<>"",AG15<>""),-AH14,IF(AND(AG14>=1,AG15=""),AH14,"")) | P14: =IF(O14<>"",SUM($O$6:O14),"") | R14: =IF(AND(AJ14<>"",AJ15<>""),-AK14,IF(AND(AJ14>=1,AJ15=""),AK14,"")) | S14: =IF(R14<>"",SUM($R$6:R14),"") | U14: =IF(B14="",U13,SUM($L$7:L14)+SUM($O$7:O14)+SUM($R$7:R14)) -> 1 | W14: Max Lvl. | Z14: 11 | AA14: =Master!G27 -> 145 | AC14: =IF(AND(AC13=2,B14=0),1,IF(AND(AC13=1,B14=0),1,IF(B14="","",IF(AND(C14=C12,B13=0),AC13+1,IF(AND(AC13>1,B14=0),AC13+1,IF(C14=C13,AC13+1,1)))))) -> 1 | AD14: =IF(B14="","",IF(OR(AC13=1,AC13=2),"",IF(AC13>=3,AC13-2))) | AE14: =IF(AD14="","",VLOOKUP(AD14,$Z$4:$AA$18,2,0)) | AF14: =IF(AND(AF13=2,B14=0),1,IF(AND(AF13=1,B14=0),1,IF(B14="","",IF(AND(F14=F12,B13=0),AF13+1,IF(AND(AF13>1,B14=0),AF13+1,IF(F14=F13,AF13+1,1)))))) -> 2 | AG14: =IF(B14="","",IF(OR(AF13=1,AF13=2),"",IF(AF13>=3,AF13-2))) | AH14: =IF(AG14="","",VLOOKUP(AG14,$Z$4:$AA$18,2,0)) | AI14: =IF(AND(AI13=2,B14=0),1,IF(AND(AI13=1,B14=0),1,IF(B14="","",IF(AND(I14=I12,B13=0),AI13+1,IF(AND(AI13>1,B14=0),AI13+1,IF(I14=I13,AI13+1,1)))))) -> 1 | AJ14: =IF(B14="","",IF(OR(AI13=1,AI13=2),"",IF(AI13>=3,AI13-2))) | AK14: =IF(AJ14="","",VLOOKUP(AJ14,$Z$4:$AA$18,2,0)) | AS14: 12 | AT14: 4 | AU14: 2 | AV14: 1 | AW14: 3 | AX14: R | AY14: E | AZ14: L
B15: =IF(Master!B15="","",Master!B15) -> 21 | C15: =IF(B15="","",VLOOKUP(B15,$AS$1:$AZ$38,6,0)) -> R | D15: =IF(L15="","",IF(L15>=1,"<--Win",IF(L15<0,"<--Bet",""))) | F15: =IF(B15="","",VLOOKUP(B15,$AS$1:$AZ$38,8,0)) -> H | G15: =IF(O15="","",IF(O15>=1,"<--Win",IF(O15<0,"<--Bet",""))) | I15: =IF(B15="","",VLOOKUP(B15,$AS$1:$AZ$38,7,0)) -> O | J15: =IF(R15="","",IF(R15>=1,"<--Win",IF(R15<0,"<--Bet",""))) | L15: =IF(AND(AD15<>"",AD16<>""),-AE15,IF(AND(AD15>=1,AD16=""),AE15,"")) | M15: =IF(L15<>"",SUM($L$6:L15),"") | O15: =IF(AND(AG15<>"",AG16<>""),-AH15,IF(AND(AG15>=1,AG16=""),AH15,"")) | P15: =IF(O15<>"",SUM($O$6:O15),"") | R15: =IF(AND(AJ15<>"",AJ16<>""),-AK15,IF(AND(AJ15>=1,AJ16=""),AK15,"")) | S15: =IF(R15<>"",SUM($R$6:R15),"") | U15: =IF(B15="",U14,SUM($L$7:L15)+SUM($O$7:O15)+SUM($R$7:R15)) -> 1 | W15: R/B | X15: =MAX(AD6:AD1000) -> 7 | Z15: 12 | AA15: =Master!G28 -> 235 | AC15: =IF(AND(AC14=2,B15=0),1,IF(AND(AC14=1,B15=0),1,IF(B15="","",IF(AND(C15=C13,B14=0),AC14+1,IF(AND(AC14>1,B15=0),AC14+1,IF(C15=C14,AC14+1,1)))))) -> 2 | AD15: =IF(B15="","",IF(OR(AC14=1,AC14=2),"",IF(AC14>=3,AC14-2))) | AE15: =IF(AD15="","",VLOOKUP(AD15,$Z$4:$AA$18,2,0)) | AF15: =IF(AND(AF14=2,B15=0),1,IF(AND(AF14=1,B15=0),1,IF(B15="","",IF(AND(F15=F13,B14=0),AF14+1,IF(AND(AF14>1,B15=0),AF14+1,IF(F15=F14,AF14+1,1)))))) -> 3 | AG15: =IF(B15="","",IF(OR(AF14=1,AF14=2),"",IF(AF14>=3,AF14-2))) | AH15: =IF(AG15="","",VLOOKUP(AG15,$Z$4:$AA$18,2,0)) | AI15: =IF(AND(AI14=2,B15=0),1,IF(AND(AI14=1,B15=0),1,IF(B15="","",IF(AND(I15=I13,B14=0),AI14+1,IF(AND(AI14>1,B15=0),AI14+1,IF(I15=I14,AI14+1,1)))))) -> 1 | AJ15: =IF(B15="","",IF(OR(AI14=1,AI14=2),"",IF(AI14>=3,AI14-2))) | AK15: =IF(AJ15="","",VLOOKUP(AJ15,$Z$4:$AA$18,2,0)) | AS15: 13 | AT15: 5 | AU15: 3 | AV15: 2 | AW15: 1 | AX15: B | AY15: O | AZ15: L
B16: =IF(Master!B16="","",Master!B16) -> 13 | C16: =IF(B16="","",VLOOKUP(B16,$AS$1:$AZ$38,6,0)) -> B | D16: =IF(L16="","",IF(L16>=1,"<--Win",IF(L16<0,"<--Bet",""))) | F16: =IF(B16="","",VLOOKUP(B16,$AS$1:$AZ$38,8,0)) -> L | G16: =IF(O16="","",IF(O16>=1,"<--Win",IF(O16<0,"<--Bet",""))) -> <--Win | I16: =IF(B16="","",VLOOKUP(B16,$AS$1:$AZ$38,7,0)) -> O | J16: =IF(R16="","",IF(R16>=1,"<--Win",IF(R16<0,"<--Bet",""))) | L16: =IF(AND(AD16<>"",AD17<>""),-AE16,IF(AND(AD16>=1,AD17=""),AE16,"")) | M16: =IF(L16<>"",SUM($L$6:L16),"") | O16: =IF(AND(AG16<>"",AG17<>""),-AH16,IF(AND(AG16>=1,AG17=""),AH16,"")) -> 1 | P16: =IF(O16<>"",SUM($O$6:O16),"") -> 1 | R16: =IF(AND(AJ16<>"",AJ17<>""),-AK16,IF(AND(AJ16>=1,AJ17=""),AK16,"")) | S16: =IF(R16<>"",SUM($R$6:R16),"") | U16: =IF(B16="",U15,SUM($L$7:L16)+SUM($O$7:O16)+SUM($R$7:R16)) -> 2 | W16: H/L | X16: =MAX(AG6:AG1000) -> 7 | Z16: 13 | AA16: =Master!G29 -> 0 | AC16: =IF(AND(AC15=2,B16=0),1,IF(AND(AC15=1,B16=0),1,IF(B16="","",IF(AND(C16=C14,B15=0),AC15+1,IF(AND(AC15>1,B16=0),AC15+1,IF(C16=C15,AC15+1,1)))))) -> 1 | AD16: =IF(B16="","",IF(OR(AC15=1,AC15=2),"",IF(AC15>=3,AC15-2))) | AE16: =IF(AD16="","",VLOOKUP(AD16,$Z$4:$AA$18,2,0)) | AF16: =IF(AND(AF15=2,B16=0),1,IF(AND(AF15=1,B16=0),1,IF(B16="","",IF(AND(F16=F14,B15=0),AF15+1,IF(AND(AF15>1,B16=0),AF15+1,IF(F16=F15,AF15+1,1)))))) -> 1 | AG16: =IF(B16="","",IF(OR(AF15=1,AF15=2),"",IF(AF15>=3,AF15-2))) -> 1 | AH16: =IF(AG16="","",VLOOKUP(AG16,$Z$4:$AA$18,2,0)) -> 1 | AI16: =IF(AND(AI15=2,B16=0),1,IF(AND(AI15=1,B16=0),1,IF(B16="","",IF(AND(I16=I14,B15=0),AI15+1,IF(AND(AI15>1,B16=0),AI15+1,IF(I16=I15,AI15+1,1)))))) -> 2 | AJ16: =IF(B16="","",IF(OR(AI15=1,AI15=2),"",IF(AI15>=3,AI15-2))) | AK16: =IF(AJ16="","",VLOOKUP(AJ16,$Z$4:$AA$18,2,0)) | AS16: 14 | AT16: 5 | AU16: 3 | AV16: 2 | AW16: 2 | AX16: R | AY16: E | AZ16: L
B17: =IF(Master!B17="","",Master!B17) -> 0 | C17: =IF(B17="","",VLOOKUP(B17,$AS$1:$AZ$38,6,0)) -> Zero | D17: =IF(L17="","",IF(L17>=1,"<--Win",IF(L17<0,"<--Bet",""))) | F17: =IF(B17="","",VLOOKUP(B17,$AS$1:$AZ$38,8,0)) -> Zero | G17: =IF(O17="","",IF(O17>=1,"<--Win",IF(O17<0,"<--Bet",""))) | I17: =IF(B17="","",VLOOKUP(B17,$AS$1:$AZ$38,7,0)) -> Zero | J17: =IF(R17="","",IF(R17>=1,"<--Win",IF(R17<0,"<--Bet",""))) | L17: =IF(AND(AD17<>"",AD18<>""),-AE17,IF(AND(AD17>=1,AD18=""),AE17,"")) | M17: =IF(L17<>"",SUM($L$6:L17),"") | O17: =IF(AND(AG17<>"",AG18<>""),-AH17,IF(AND(AG17>=1,AG18=""),AH17,"")) | P17: =IF(O17<>"",SUM($O$6:O17),"") | R17: =IF(AND(AJ17<>"",AJ18<>""),-AK17,IF(AND(AJ17>=1,AJ18=""),AK17,"")) | S17: =IF(R17<>"",SUM($R$6:R17),"") | U17: =IF(B17="",U16,SUM($L$7:L17)+SUM($O$7:O17)+SUM($R$7:R17)) -> 2 | W17: O/E | X17: =MAX(AJ6:AJ1000) -> 6 | Z17: 14 | AA17: =Master!G30 -> 0 | AC17: =IF(AND(AC16=2,B17=0),1,IF(AND(AC16=1,B17=0),1,IF(B17="","",IF(AND(C17=C15,B16=0),AC16+1,IF(AND(AC16>1,B17=0),AC16+1,IF(C17=C16,AC16+1,1)))))) -> 1 | AD17: =IF(B17="","",IF(OR(AC16=1,AC16=2),"",IF(AC16>=3,AC16-2))) | AE17: =IF(AD17="","",VLOOKUP(AD17,$Z$4:$AA$18,2,0)) | AF17: =IF(AND(AF16=2,B17=0),1,IF(AND(AF16=1,B17=0),1,IF(B17="","",IF(AND(F17=F15,B16=0),AF16+1,IF(AND(AF16>1,B17=0),AF16+1,IF(F17=F16,AF16+1,1)))))) -> 1 | AG17: =IF(B17="","",IF(OR(AF16=1,AF16=2),"",IF(AF16>=3,AF16-2))) | AH17: =IF(AG17="","",VLOOKUP(AG17,$Z$4:$AA$18,2,0)) | AI17: =IF(AND(AI16=2,B17=0),1,IF(AND(AI16=1,B17=0),1,IF(B17="","",IF(AND(I17=I15,B16=0),AI16+1,IF(AND(AI16>1,B17=0),AI16+1,IF(I17=I16,AI16+1,1)))))) -> 1 | AJ17: =IF(B17="","",IF(OR(AI16=1,AI16=2),"",IF(AI16>=3,AI16-2))) | AK17: =IF(AJ17="","",VLOOKUP(AJ17,$Z$4:$AA$18,2,0)) | AS17: 15 | AT17: 5 | AU17: 3 | AV17: 2 | AW17: 3 | AX17: B | AY17: O | AZ17: L
B18: =IF(Master!B18="","",Master!B18) -> 0 | C18: =IF(B18="","",VLOOKUP(B18,$AS$1:$AZ$38,6,0)) -> Zero | D18: =IF(L18="","",IF(L18>=1,"<--Win",IF(L18<0,"<--Bet",""))) | F18: =IF(B18="","",VLOOKUP(B18,$AS$1:$AZ$38,8,0)) -> Zero | G18: =IF(O18="","",IF(O18>=1,"<--Win",IF(O18<0,"<--Bet",""))) | I18: =IF(B18="","",VLOOKUP(B18,$AS$1:$AZ$38,7,0)) -> Zero | J18: =IF(R18="","",IF(R18>=1,"<--Win",IF(R18<0,"<--Bet",""))) | L18: =IF(AND(AD18<>"",AD19<>""),-AE18,IF(AND(AD18>=1,AD19=""),AE18,"")) | M18: =IF(L18<>"",SUM($L$6:L18),"") | O18: =IF(AND(AG18<>"",AG19<>""),-AH18,IF(AND(AG18>=1,AG19=""),AH18,"")) | P18: =IF(O18<>"",SUM($O$6:O18),"") | R18: =IF(AND(AJ18<>"",AJ19<>""),-AK18,IF(AND(AJ18>=1,AJ19=""),AK18,"")) | S18: =IF(R18<>"",SUM($R$6:R18),"") | U18: =IF(B18="",U17,SUM($L$7:L18)+SUM($O$7:O18)+SUM($R$7:R18)) -> 2 | Z18: 15 | AA18: =Master!G31 -> 0 | AC18: =IF(AND(AC17=2,B18=0),1,IF(AND(AC17=1,B18=0),1,IF(B18="","",IF(AND(C18=C16,B17=0),AC17+1,IF(AND(AC17>1,B18=0),AC17+1,IF(C18=C17,AC17+1,1)))))) -> 1 | AD18: =IF(B18="","",IF(OR(AC17=1,AC17=2),"",IF(AC17>=3,AC17-2))) | AE18: =IF(AD18="","",VLOOKUP(AD18,$Z$4:$AA$18,2,0)) | AF18: =IF(AND(AF17=2,B18=0),1,IF(AND(AF17=1,B18=0),1,IF(B18="","",IF(AND(F18=F16,B17=0),AF17+1,IF(AND(AF17>1,B18=0),AF17+1,IF(F18=F17,AF17+1,1)))))) -> 1 | AG18: =IF(B18="","",IF(OR(AF17=1,AF17=2),"",IF(AF17>=3,AF17-2))) | AH18: =IF(AG18="","",VLOOKUP(AG18,$Z$4:$AA$18,2,0)) | AI18: =IF(AND(AI17=2,B18=0),1,IF(AND(AI17=1,B18=0),1,IF(B18="","",IF(AND(I18=I16,B17=0),AI17+1,IF(AND(AI17>1,B18=0),AI17+1,IF(I18=I17,AI17+1,1)))))) -> 1 | AJ18: =IF(B18="","",IF(OR(AI17=1,AI17=2),"",IF(AI17>=3,AI17-2))) | AK18: =IF(AJ18="","",VLOOKUP(AJ18,$Z$4:$AA$18,2,0)) | AS18: 16 | AT18: 6 | AU18: 3 | AV18: 2 | AW18: 1 | AX18: R | AY18: E | AZ18: L
B19: =IF(Master!B19="","",Master!B19) -> 10 | C19: =IF(B19="","",VLOOKUP(B19,$AS$1:$AZ$38,6,0)) -> B | D19: =IF(L19="","",IF(L19>=1,"<--Win",IF(L19<0,"<--Bet",""))) | F19: =IF(B19="","",VLOOKUP(B19,$AS$1:$AZ$38,8,0)) -> L | G19: =IF(O19="","",IF(O19>=1,"<--Win",IF(O19<0,"<--Bet",""))) | I19: =IF(B19="","",VLOOKUP(B19,$AS$1:$AZ$38,7,0)) -> E | J19: =IF(R19="","",IF(R19>=1,"<--Win",IF(R19<0,"<--Bet",""))) | L19: =IF(AND(AD19<>"",AD20<>""),-AE19,IF(AND(AD19>=1,AD20=""),AE19,"")) | M19: =IF(L19<>"",SUM($L$6:L19),"") | O19: =IF(AND(AG19<>"",AG20<>""),-AH19,IF(AND(AG19>=1,AG20=""),AH19,"")) | P19: =IF(O19<>"",SUM($O$6:O19),"") | R19: =IF(AND(AJ19<>"",AJ20<>""),-AK19,IF(AND(AJ19>=1,AJ20=""),AK19,"")) | S19: =IF(R19<>"",SUM($R$6:R19),"") | U19: =IF(B19="",U18,SUM($L$7:L19)+SUM($O$7:O19)+SUM($R$7:R19)) -> 2 | AC19: =IF(AND(AC18=2,B19=0),1,IF(AND(AC18=1,B19=0),1,IF(B19="","",IF(AND(C19=C17,B18=0),AC18+1,IF(AND(AC18>1,B19=0),AC18+1,IF(C19=C18,AC18+1,1)))))) -> 1 | AD19: =IF(B19="","",IF(OR(AC18=1,AC18=2),"",IF(AC18>=3,AC18-2))) | AE19: =IF(AD19="","",VLOOKUP(AD19,$Z$4:$AA$18,2,0)) | AF19: =IF(AND(AF18=2,B19=0),1,IF(AND(AF18=1,B19=0),1,IF(B19="","",IF(AND(F19=F17,B18=0),AF18+1,IF(AND(AF18>1,B19=0),AF18+1,IF(F19=F18,AF18+1,1)))))) -> 1 | AG19: =IF(B19="","",IF(OR(AF18=1,AF18=2),"",IF(AF18>=3,AF18-2))) | AH19: =IF(AG19="","",VLOOKUP(AG19,$Z$4:$AA$18,2,0)) | AI19: =IF(AND(AI18=2,B19=0),1,IF(AND(AI18=1,B19=0),1,IF(B19="","",IF(AND(I19=I17,B18=0),AI18+1,IF(AND(AI18>1,B19=0),AI18+1,IF(I19=I18,AI18+1,1)))))) -> 1 | AJ19: =IF(B19="","",IF(OR(AI18=1,AI18=2),"",IF(AI18>=3,AI18-2))) | AK19: =IF(AJ19="","",VLOOKUP(AJ19,$Z$4:$AA$18,2,0)) | AS19: 17 | AT19: 6 | AU19: 3 | AV19: 2 | AW19: 2 | AX19: B | AY19: O | AZ19: L
B20: =IF(Master!B20="","",Master!B20) -> 31 | C20: =IF(B20="","",VLOOKUP(B20,$AS$1:$AZ$38,6,0)) -> B | D20: =IF(L20="","",IF(L20>=1,"<--Win",IF(L20<0,"<--Bet",""))) | F20: =IF(B20="","",VLOOKUP(B20,$AS$1:$AZ$38,8,0)) -> H | G20: =IF(O20="","",IF(O20>=1,"<--Win",IF(O20<0,"<--Bet",""))) | I20: =IF(B20="","",VLOOKUP(B20,$AS$1:$AZ$38,7,0)) -> O | J20: =IF(R20="","",IF(R20>=1,"<--Win",IF(R20<0,"<--Bet",""))) | L20: =IF(AND(AD20<>"",AD21<>""),-AE20,IF(AND(AD20>=1,AD21=""),AE20,"")) | M20: =IF(L20<>"",SUM($L$6:L20),"") | O20: =IF(AND(AG20<>"",AG21<>""),-AH20,IF(AND(AG20>=1,AG21=""),AH20,"")) | P20: =IF(O20<>"",SUM($O$6:O20),"") | R20: =IF(AND(AJ20<>"",AJ21<>""),-AK20,IF(AND(AJ20>=1,AJ21=""),AK20,"")) | S20: =IF(R20<>"",SUM($R$6:R20),"") | U20: =IF(B20="",U19,SUM($L$7:L20)+SUM($O$7:O20)+SUM($R$7:R20)) -> 2 | W20: Max Units | AC20: =IF(AND(AC19=2,B20=0),1,IF(AND(AC19=1,B20=0),1,IF(B20="","",IF(AND(C20=C18,B19=0),AC19+1,IF(AND(AC19>1,B20=0),AC19+1,IF(C20=C19,AC19+1,1)))))) -> 2 | AD20: =IF(B20="","",IF(OR(AC19=1,AC19=2),"",IF(AC19>=3,AC19-2))) | AE20: =IF(AD20="","",VLOOKUP(AD20,$Z$4:$AA$18,2,0)) | AF20: =IF(AND(AF19=2,B20=0),1,IF(AND(AF19=1,B20=0),1,IF(B20="","",IF(AND(F20=F18,B19=0),AF19+1,IF(AND(AF19>1,B20=0),AF19+1,IF(F20=F19,AF19+1,1)))))) -> 1 | AG20: =IF(B20="","",IF(OR(AF19=1,AF19=2),"",IF(AF19>=3,AF19-2))) | AH20: =IF(AG20="","",VLOOKUP(AG20,$Z$4:$AA$18,2,0)) | AI20: =IF(AND(AI19=2,B20=0),1,IF(AND(AI19=1,B20=0),1,IF(B20="","",IF(AND(I20=I18,B19=0),AI19+1,IF(AND(AI19>1,B20=0),AI19+1,IF(I20=I19,AI19+1,1)))))) -> 1 | AJ20: =IF(B20="","",IF(OR(AI19=1,AI19=2),"",IF(AI19>=3,AI19-2))) | AK20: =IF(AJ20="","",VLOOKUP(AJ20,$Z$4:$AA$18,2,0)) | AS20: 18 | AT20: 6 | AU20: 3 | AV20: 2 | AW20: 3 | AX20: R | AY20: E | AZ20: L
B21: =IF(Master!B21="","",Master!B21) -> 29 | C21: =IF(B21="","",VLOOKUP(B21,$AS$1:$AZ$38,6,0)) -> B | D21: =IF(L21="","",IF(L21>=1,"<--Win",IF(L21<0,"<--Bet",""))) | F21: =IF(B21="","",VLOOKUP(B21,$AS$1:$AZ$38,8,0)) -> H | G21: =IF(O21="","",IF(O21>=1,"<--Win",IF(O21<0,"<--Bet",""))) | I21: =IF(B21="","",VLOOKUP(B21,$AS$1:$AZ$38,7,0)) -> O | J21: =IF(R21="","",IF(R21>=1,"<--Win",IF(R21<0,"<--Bet",""))) | L21: =IF(AND(AD21<>"",AD22<>""),-AE21,IF(AND(AD21>=1,AD22=""),AE21,"")) | M21: =IF(L21<>"",SUM($L$6:L21),"") | O21: =IF(AND(AG21<>"",AG22<>""),-AH21,IF(AND(AG21>=1,AG22=""),AH21,"")) | P21: =IF(O21<>"",SUM($O$6:O21),"") | R21: =IF(AND(AJ21<>"",AJ22<>""),-AK21,IF(AND(AJ21>=1,AJ22=""),AK21,"")) | S21: =IF(R21<>"",SUM($R$6:R21),"") | U21: =IF(B21="",U20,SUM($L$7:L21)+SUM($O$7:O21)+SUM($R$7:R21)) -> 2 | W21: R/B | X21: =MAX(M7:M1000) -> 23 | AC21: =IF(AND(AC20=2,B21=0),1,IF(AND(AC20=1,B21=0),1,IF(B21="","",IF(AND(C21=C19,B20=0),AC20+1,IF(AND(AC20>1,B21=0),AC20+1,IF(C21=C20,AC20+1,1)))))) -> 3 | AD21: =IF(B21="","",IF(OR(AC20=1,AC20=2),"",IF(AC20>=3,AC20-2))) | AE21: =IF(AD21="","",VLOOKUP(AD21,$Z$4:$AA$18,2,0)) | AF21: =IF(AND(AF20=2,B21=0),1,IF(AND(AF20=1,B21=0),1,IF(B21="","",IF(AND(F21=F19,B20=0),AF20+1,IF(AND(AF20>1,B21=0),AF20+1,IF(F21=F20,AF20+1,1)))))) -> 2 | AG21: =IF(B21="","",IF(OR(AF20=1,AF20=2),"",IF(AF20>=3,AF20-2))) | AH21: =IF(AG21="","",VLOOKUP(AG21,$Z$4:$AA$18,2,0)) | AI21: =IF(AND(AI20=2,B21=0),1,IF(AND(AI20=1,B21=0),1,IF(B21="","",IF(AND(I21=I19,B20=0),AI20+1,IF(AND(AI20>1,B21=0),AI20+1,IF(I21=I20,AI20+1,1)))))) -> 2 | AJ21: =IF(B21="","",IF(OR(AI20=1,AI20=2),"",IF(AI20>=3,AI20-2))) | AK21: =IF(AJ21="","",VLOOKUP(AJ21,$Z$4:$AA$18,2,0)) | AS21: 19 | AT21: 7 | AU21: 4 | AV21: 2 | AW21: 1 | AX21: R | AY21: O | AZ21: H
B22: =IF(Master!B22="","",Master!B22) -> 22 | C22: =IF(B22="","",VLOOKUP(B22,$AS$1:$AZ$38,6,0)) -> B | D22: =IF(L22="","",IF(L22>=1,"<--Win",IF(L22<0,"<--Bet",""))) -> <--Bet | F22: =IF(B22="","",VLOOKUP(B22,$AS$1:$AZ$38,8,0)) -> H | G22: =IF(O22="","",IF(O22>=1,"<--Win",IF(O22<0,"<--Bet",""))) | I22: =IF(B22="","",VLOOKUP(B22,$AS$1:$AZ$38,7,0)) -> E | J22: =IF(R22="","",IF(R22>=1,"<--Win",IF(R22<0,"<--Bet",""))) | L22: =IF(AND(AD22<>"",AD23<>""),-AE22,IF(AND(AD22>=1,AD23=""),AE22,"")) -> -1 | M22: =IF(L22<>"",SUM($L$6:L22),"") -> -1 | O22: =IF(AND(AG22<>"",AG23<>""),-AH22,IF(AND(AG22>=1,AG23=""),AH22,"")) | P22: =IF(O22<>"",SUM($O$6:O22),"") | R22: =IF(AND(AJ22<>"",AJ23<>""),-AK22,IF(AND(AJ22>=1,AJ23=""),AK22,"")) | S22: =IF(R22<>"",SUM($R$6:R22),"") | U22: =IF(B22="",U21,SUM($L$7:L22)+SUM($O$7:O22)+SUM($R$7:R22)) -> 1 | W22: H/L | X22: =MAX(P4:P1000) -> 20 | AC22: =IF(AND(AC21=2,B22=0),1,IF(AND(AC21=1,B22=0),1,IF(B22="","",IF(AND(C22=C20,B21=0),AC21+1,IF(AND(AC21>1,B22=0),AC21+1,IF(C22=C21,AC21+1,1)))))) -> 4 | AD22: =IF(B22="","",IF(OR(AC21=1,AC21=2),"",IF(AC21>=3,AC21-2))) -> 1 | AE22: =IF(AD22="","",VLOOKUP(AD22,$Z$4:$AA$18,2,0)) -> 1 | AF22: =IF(AND(AF21=2,B22=0),1,IF(AND(AF21=1,B22=0),1,IF(B22="","",IF(AND(F22=F20,B21=0),AF21+1,IF(AND(AF21>1,B22=0),AF21+1,IF(F22=F21,AF21+1,1)))))) -> 3 | AG22: =IF(B22="","",IF(OR(AF21=1,AF21=2),"",IF(AF21>=3,AF21-2))) | AH22: =IF(AG22="","",VLOOKUP(AG22,$Z$4:$AA$18,2,0)) | AI22: =IF(AND(AI21=2,B22=0),1,IF(AND(AI21=1,B22=0),1,IF(B22="","",IF(AND(I22=I20,B21=0),AI21+1,IF(AND(AI21>1,B22=0),AI21+1,IF(I22=I21,AI21+1,1)))))) -> 1 | AJ22: =IF(B22="","",IF(OR(AI21=1,AI21=2),"",IF(AI21>=3,AI21-2))) | AK22: =IF(AJ22="","",VLOOKUP(AJ22,$Z$4:$AA$18,2,0)) | AS22: 20 | AT22: 7 | AU22: 4 | AV22: 2 | AW22: 2 | AX22: B | AY22: E | AZ22: H
B23: =IF(Master!B23="","",Master!B23) -> 6 | C23: =IF(B23="","",VLOOKUP(B23,$AS$1:$AZ$38,6,0)) -> B | D23: =IF(L23="","",IF(L23>=1,"<--Win",IF(L23<0,"<--Bet",""))) -> <--Bet | F23: =IF(B23="","",VLOOKUP(B23,$AS$1:$AZ$38,8,0)) -> L | G23: =IF(O23="","",IF(O23>=1,"<--Win",IF(O23<0,"<--Bet",""))) -> <--Win | I23: =IF(B23="","",VLOOKUP(B23,$AS$1:$AZ$38,7,0)) -> E | J23: =IF(R23="","",IF(R23>=1,"<--Win",IF(R23<0,"<--Bet",""))) | L23: =IF(AND(AD23<>"",AD24<>""),-AE23,IF(AND(AD23>=1,AD24=""),AE23,"")) -> -1 | M23: =IF(L23<>"",SUM($L$6:L23),"") -> -2 | O23: =IF(AND(AG23<>"",AG24<>""),-AH23,IF(AND(AG23>=1,AG24=""),AH23,"")) -> 1 | P23: =IF(O23<>"",SUM($O$6:O23),"") -> 2 | R23: =IF(AND(AJ23<>"",AJ24<>""),-AK23,IF(AND(AJ23>=1,AJ24=""),AK23,"")) | S23: =IF(R23<>"",SUM($R$6:R23),"") | U23: =IF(B23="",U22,SUM($L$7:L23)+SUM($O$7:O23)+SUM($R$7:R23)) -> 1 | W23: O/E | X23: =MAX(S7:S1000) -> 20 | AC23: =IF(AND(AC22=2,B23=0),1,IF(AND(AC22=1,B23=0),1,IF(B23="","",IF(AND(C23=C21,B22=0),AC22+1,IF(AND(AC22>1,B23=0),AC22+1,IF(C23=C22,AC22+1,1)))))) -> 5 | AD23: =IF(B23="","",IF(OR(AC22=1,AC22=2),"",IF(AC22>=3,AC22-2))) -> 2 | AE23: =IF(AD23="","",VLOOKUP(AD23,$Z$4:$AA$18,2,0)) -> 1 | AF23: =IF(AND(AF22=2,B23=0),1,IF(AND(AF22=1,B23=0),1,IF(B23="","",IF(AND(F23=F21,B22=0),AF22+1,IF(AND(AF22>1,B23=0),AF22+1,IF(F23=F22,AF22+1,1)))))) -> 1 | AG23: =IF(B23="","",IF(OR(AF22=1,AF22=2),"",IF(AF22>=3,AF22-2))) -> 1 | AH23: =IF(AG23="","",VLOOKUP(AG23,$Z$4:$AA$18,2,0)) -> 1 | AI23: =IF(AND(AI22=2,B23=0),1,IF(AND(AI22=1,B23=0),1,IF(B23="","",IF(AND(I23=I21,B22=0),AI22+1,IF(AND(AI22>1,B23=0),AI22+1,IF(I23=I22,AI22+1,1)))))) -> 2 | AJ23: =IF(B23="","",IF(OR(AI22=1,AI22=2),"",IF(AI22>=3,AI22-2))) | AK23: =IF(AJ23="","",VLOOKUP(AJ23,$Z$4:$AA$18,2,0)) | AS23: 21 | AT23: 7 | AU23: 4 | AV23: 2 | AW23: 3 | AX23: R | AY23: O | AZ23: H
B24: =IF(Master!B24="","",Master!B24) -> 34 | C24: =IF(B24="","",VLOOKUP(B24,$AS$1:$AZ$38,6,0)) -> R | D24: =IF(L24="","",IF(L24>=1,"<--Win",IF(L24<0,"<--Bet",""))) -> <--Win | F24: =IF(B24="","",VLOOKUP(B24,$AS$1:$AZ$38,8,0)) -> H | G24: =IF(O24="","",IF(O24>=1,"<--Win",IF(O24<0,"<--Bet",""))) | I24: =IF(B24="","",VLOOKUP(B24,$AS$1:$AZ$38,7,0)) -> E | J24: =IF(R24="","",IF(R24>=1,"<--Win",IF(R24<0,"<--Bet",""))) | L24: =IF(AND(AD24<>"",AD25<>""),-AE24,IF(AND(AD24>=1,AD25=""),AE24,"")) -> 1 | M24: =IF(L24<>"",SUM($L$6:L24),"") -> -1 | O24: =IF(AND(AG24<>"",AG25<>""),-AH24,IF(AND(AG24>=1,AG25=""),AH24,"")) | P24: =IF(O24<>"",SUM($O$6:O24),"") | R24: =IF(AND(AJ24<>"",AJ25<>""),-AK24,IF(AND(AJ24>=1,AJ25=""),AK24,"")) | S24: =IF(R24<>"",SUM($R$6:R24),"") | U24: =IF(B24="",U23,SUM($L$7:L24)+SUM($O$7:O24)+SUM($R$7:R24)) -> 2 | AC24: =IF(AND(AC23=2,B24=0),1,IF(AND(AC23=1,B24=0),1,IF(B24="","",IF(AND(C24=C22,B23=0),AC23+1,IF(AND(AC23>1,B24=0),AC23+1,IF(C24=C23,AC23+1,1)))))) -> 1 | AD24: =IF(B24="","",IF(OR(AC23=1,AC23=2),"",IF(AC23>=3,AC23-2))) -> 3 | AE24: =IF(AD24="","",VLOOKUP(AD24,$Z$4:$AA$18,2,0)) -> 1 | AF24: =IF(AND(AF23=2,B24=0),1,IF(AND(AF23=1,B24=0),1,IF(B24="","",IF(AND(F24=F22,B23=0),AF23+1,IF(AND(AF23>1,B24=0),AF23+1,IF(F24=F23,AF23+1,1)))))) -> 1 | AG24: =IF(B24="","",IF(OR(AF23=1,AF23=2),"",IF(AF23>=3,AF23-2))) | AH24: =IF(AG24="","",VLOOKUP(AG24,$Z$4:$AA$18,2,0)) | AI24: =IF(AND(AI23=2,B24=0),1,IF(AND(AI23=1,B24=0),1,IF(B24="","",IF(AND(I24=I22,B23=0),AI23+1,IF(AND(AI23>1,B24=0),AI23+1,IF(I24=I23,AI23+1,1)))))) -> 3 | AJ24: =IF(B24="","",IF(OR(AI23=1,AI23=2),"",IF(AI23>=3,AI23-2))) | AK24: =IF(AJ24="","",VLOOKUP(AJ24,$Z$4:$AA$18,2,0)) | AS24: 22 | AT24: 8 | AU24: 4 | AV24: 2 | AW24: 1 | AX24: B | AY24: E | AZ24: H
B25: =IF(Master!B25="","",Master!B25) -> 13 | C25: =IF(B25="","",VLOOKUP(B25,$AS$1:$AZ$38,6,0)) -> B | D25: =IF(L25="","",IF(L25>=1,"<--Win",IF(L25<0,"<--Bet",""))) | F25: =IF(B25="","",VLOOKUP(B25,$AS$1:$AZ$38,8,0)) -> L | G25: =IF(O25="","",IF(O25>=1,"<--Win",IF(O25<0,"<--Bet",""))) | I25: =IF(B25="","",VLOOKUP(B25,$AS$1:$AZ$38,7,0)) -> O | J25: =IF(R25="","",IF(R25>=1,"<--Win",IF(R25<0,"<--Bet",""))) -> <--Win | L25: =IF(AND(AD25<>"",AD26<>""),-AE25,IF(AND(AD25>=1,AD26=""),AE25,"")) | M25: =IF(L25<>"",SUM($L$6:L25),"") | O25: =IF(AND(AG25<>"",AG26<>""),-AH25,IF(AND(AG25>=1,AG26=""),AH25,"")) | P25: =IF(O25<>"",SUM($O$6:O25),"") | R25: =IF(AND(AJ25<>"",AJ26<>""),-AK25,IF(AND(AJ25>=1,AJ26=""),AK25,"")) -> 1 | S25: =IF(R25<>"",SUM($R$6:R25),"") -> 2 | U25: =IF(B25="",U24,SUM($L$7:L25)+SUM($O$7:O25)+SUM($R$7:R25)) -> 3 | W25: Min Units | AC25: =IF(AND(AC24=2,B25=0),1,IF(AND(AC24=1,B25=0),1,IF(B25="","",IF(AND(C25=C23,B24=0),AC24+1,IF(AND(AC24>1,B25=0),AC24+1,IF(C25=C24,AC24+1,1)))))) -> 1 | AD25: =IF(B25="","",IF(OR(AC24=1,AC24=2),"",IF(AC24>=3,AC24-2))) | AE25: =IF(AD25="","",VLOOKUP(AD25,$Z$4:$AA$18,2,0)) | AF25: =IF(AND(AF24=2,B25=0),1,IF(AND(AF24=1,B25=0),1,IF(B25="","",IF(AND(F25=F23,B24=0),AF24+1,IF(AND(AF24>1,B25=0),AF24+1,IF(F25=F24,AF24+1,1)))))) -> 1 | AG25: =IF(B25="","",IF(OR(AF24=1,AF24=2),"",IF(AF24>=3,AF24-2))) | AH25: =IF(AG25="","",VLOOKUP(AG25,$Z$4:$AA$18,2,0)) | AI25: =IF(AND(AI24=2,B25=0),1,IF(AND(AI24=1,B25=0),1,IF(B25="","",IF(AND(I25=I23,B24=0),AI24+1,IF(AND(AI24>1,B25=0),AI24+1,IF(I25=I24,AI24+1,1)))))) -> 1 | AJ25: =IF(B25="","",IF(OR(AI24=1,AI24=2),"",IF(AI24>=3,AI24-2))) -> 1 | AK25: =IF(AJ25="","",VLOOKUP(AJ25,$Z$4:$AA$18,2,0)) -> 1 | AS25: 23 | AT25: 8 | AU25: 4 | AV25: 2 | AW25: 2 | AX25: R | AY25: O | AZ25: H
B26: =IF(Master!B26="","",Master!B26) -> 11 | C26: =IF(B26="","",VLOOKUP(B26,$AS$1:$AZ$38,6,0)) -> B | D26: =IF(L26="","",IF(L26>=1,"<--Win",IF(L26<0,"<--Bet",""))) | F26: =IF(B26="","",VLOOKUP(B26,$AS$1:$AZ$38,8,0)) -> L | G26: =IF(O26="","",IF(O26>=1,"<--Win",IF(O26<0,"<--Bet",""))) | I26: =IF(B26="","",VLOOKUP(B26,$AS$1:$AZ$38,7,0)) -> O | J26: =IF(R26="","",IF(R26>=1,"<--Win",IF(R26<0,"<--Bet",""))) | L26: =IF(AND(AD26<>"",AD27<>""),-AE26,IF(AND(AD26>=1,AD27=""),AE26,"")) | M26: =IF(L26<>"",SUM($L$6:L26),"") | O26: =IF(AND(AG26<>"",AG27<>""),-AH26,IF(AND(AG26>=1,AG27=""),AH26,"")) | P26: =IF(O26<>"",SUM($O$6:O26),"") | R26: =IF(AND(AJ26<>"",AJ27<>""),-AK26,IF(AND(AJ26>=1,AJ27=""),AK26,"")) | S26: =IF(R26<>"",SUM($R$6:R26),"") | U26: =IF(B26="",U25,SUM($L$7:L26)+SUM($O$7:O26)+SUM($R$7:R26)) -> 3 | W26: R/B | X26: =MIN(M12:M1005) -> -28 | AC26: =IF(AND(AC25=2,B26=0),1,IF(AND(AC25=1,B26=0),1,IF(B26="","",IF(AND(C26=C24,B25=0),AC25+1,IF(AND(AC25>1,B26=0),AC25+1,IF(C26=C25,AC25+1,1)))))) -> 2 | AD26: =IF(B26="","",IF(OR(AC25=1,AC25=2),"",IF(AC25>=3,AC25-2))) | AE26: =IF(AD26="","",VLOOKUP(AD26,$Z$4:$AA$18,2,0)) | AF26: =IF(AND(AF25=2,B26=0),1,IF(AND(AF25=1,B26=0),1,IF(B26="","",IF(AND(F26=F24,B25=0),AF25+1,IF(AND(AF25>1,B26=0),AF25+1,IF(F26=F25,AF25+1,1)))))) -> 2 | AG26: =IF(B26="","",IF(OR(AF25=1,AF25=2),"",IF(AF25>=3,AF25-2))) | AH26: =IF(AG26="","",VLOOKUP(AG26,$Z$4:$AA$18,2,0)) | AI26: =IF(AND(AI25=2,B26=0),1,IF(AND(AI25=1,B26=0),1,IF(B26="","",IF(AND(I26=I24,B25=0),AI25+1,IF(AND(AI25>1,B26=0),AI25+1,IF(I26=I25,AI25+1,1)))))) -> 2 | AJ26: =IF(B26="","",IF(OR(AI25=1,AI25=2),"",IF(AI25>=3,AI25-2))) | AK26: =IF(AJ26="","",VLOOKUP(AJ26,$Z$4:$AA$18,2,0)) | AS26: 24 | AT26: 8 | AU26: 4 | AV26: 2 | AW26: 3 | AX26: B | AY26: E | AZ26: H
B27: =IF(Master!B27="","",Master!B27) -> 20 | C27: =IF(B27="","",VLOOKUP(B27,$AS$1:$AZ$38,6,0)) -> B | D27: =IF(L27="","",IF(L27>=1,"<--Win",IF(L27<0,"<--Bet",""))) | F27: =IF(B27="","",VLOOKUP(B27,$AS$1:$AZ$38,8,0)) -> H | G27: =IF(O27="","",IF(O27>=1,"<--Win",IF(O27<0,"<--Bet",""))) | I27: =IF(B27="","",VLOOKUP(B27,$AS$1:$AZ$38,7,0)) -> E | J27: =IF(R27="","",IF(R27>=1,"<--Win",IF(R27<0,"<--Bet",""))) | L27: =IF(AND(AD27<>"",AD28<>""),-AE27,IF(AND(AD27>=1,AD28=""),AE27,"")) | M27: =IF(L27<>"",SUM($L$6:L27),"") | O27: =IF(AND(AG27<>"",AG28<>""),-AH27,IF(AND(AG27>=1,AG28=""),AH27,"")) | P27: =IF(O27<>"",SUM($O$6:O27),"") | R27: =IF(AND(AJ27<>"",AJ28<>""),-AK27,IF(AND(AJ27>=1,AJ28=""),AK27,"")) | S27: =IF(R27<>"",SUM($R$6:R27),"") | U27: =IF(B27="",U26,SUM($L$7:L27)+SUM($O$7:O27)+SUM($R$7:R27)) -> 3 | W27: H/L | X27: =MIN(P9:P1005) -> -19 | AC27: =IF(AND(AC26=2,B27=0),1,IF(AND(AC26=1,B27=0),1,IF(B27="","",IF(AND(C27=C25,B26=0),AC26+1,IF(AND(AC26>1,B27=0),AC26+1,IF(C27=C26,AC26+1,1)))))) -> 3 | AD27: =IF(B27="","",IF(OR(AC26=1,AC26=2),"",IF(AC26>=3,AC26-2))) | AE27: =IF(AD27="","",VLOOKUP(AD27,$Z$4:$AA$18,2,0)) | AF27: =IF(AND(AF26=2,B27=0),1,IF(AND(AF26=1,B27=0),1,IF(B27="","",IF(AND(F27=F25,B26=0),AF26+1,IF(AND(AF26>1,B27=0),AF26+1,IF(F27=F26,AF26+1,1)))))) -> 1 | AG27: =IF(B27="","",IF(OR(AF26=1,AF26=2),"",IF(AF26>=3,AF26-2))) | AH27: =IF(AG27="","",VLOOKUP(AG27,$Z$4:$AA$18,2,0)) | AI27: =IF(AND(AI26=2,B27=0),1,IF(AND(AI26=1,B27=0),1,IF(B27="","",IF(AND(I27=I25,B26=0),AI26+1,IF(AND(AI26>1,B27=0),AI26+1,IF(I27=I26,AI26+1,1)))))) -> 1 | AJ27: =IF(B27="","",IF(OR(AI26=1,AI26=2),"",IF(AI26>=3,AI26-2))) | AK27: =IF(AJ27="","",VLOOKUP(AJ27,$Z$4:$AA$18,2,0)) | AS27: 25 | AT27: 9 | AU27: 5 | AV27: 3 | AW27: 1 | AX27: R | AY27: O | AZ27: H
B28: =IF(Master!B28="","",Master!B28) -> 31 | C28: =IF(B28="","",VLOOKUP(B28,$AS$1:$AZ$38,6,0)) -> B | D28: =IF(L28="","",IF(L28>=1,"<--Win",IF(L28<0,"<--Bet",""))) -> <--Bet | F28: =IF(B28="","",VLOOKUP(B28,$AS$1:$AZ$38,8,0)) -> H | G28: =IF(O28="","",IF(O28>=1,"<--Win",IF(O28<0,"<--Bet",""))) | I28: =IF(B28="","",VLOOKUP(B28,$AS$1:$AZ$38,7,0)) -> O | J28: =IF(R28="","",IF(R28>=1,"<--Win",IF(R28<0,"<--Bet",""))) | L28: =IF(AND(AD28<>"",AD29<>""),-AE28,IF(AND(AD28>=1,AD29=""),AE28,"")) -> -1 | M28: =IF(L28<>"",SUM($L$6:L28),"") -> -2 | O28: =IF(AND(AG28<>"",AG29<>""),-AH28,IF(AND(AG28>=1,AG29=""),AH28,"")) | P28: =IF(O28<>"",SUM($O$6:O28),"") | R28: =IF(AND(AJ28<>"",AJ29<>""),-AK28,IF(AND(AJ28>=1,AJ29=""),AK28,"")) | S28: =IF(R28<>"",SUM($R$6:R28),"") | U28: =IF(B28="",U27,SUM($L$7:L28)+SUM($O$7:O28)+SUM($R$7:R28)) -> 2 | W28: O/E | X28: =MIN(S12:S1005) -> -2 | AC28: =IF(AND(AC27=2,B28=0),1,IF(AND(AC27=1,B28=0),1,IF(B28="","",IF(AND(C28=C26,B27=0),AC27+1,IF(AND(AC27>1,B28=0),AC27+1,IF(C28=C27,AC27+1,1)))))) -> 4 | AD28: =IF(B28="","",IF(OR(AC27=1,AC27=2),"",IF(AC27>=3,AC27-2))) -> 1 | AE28: =IF(AD28="","",VLOOKUP(AD28,$Z$4:$AA$18,2,0)) -> 1 | AF28: =IF(AND(AF27=2,B28=0),1,IF(AND(AF27=1,B28=0),1,IF(B28="","",IF(AND(F28=F26,B27=0),AF27+1,IF(AND(AF27>1,B28=0),AF27+1,IF(F28=F27,AF27+1,1)))))) -> 2 | AG28: =IF(B28="","",IF(OR(AF27=1,AF27=2),"",IF(AF27>=3,AF27-2))) | AH28: =IF(AG28="","",VLOOKUP(AG28,$Z$4:$AA$18,2,0)) | AI28: =IF(AND(AI27=2,B28=0),1,IF(AND(AI27=1,B28=0),1,IF(B28="","",IF(AND(I28=I26,B27=0),AI27+1,IF(AND(AI27>1,B28=0),AI27+1,IF(I28=I27,AI27+1,1)))))) -> 1 | AJ28: =IF(B28="","",IF(OR(AI27=1,AI27=2),"",IF(AI27>=3,AI27-2))) | AK28: =IF(AJ28="","",VLOOKUP(AJ28,$Z$4:$AA$18,2,0)) | AS28: 26 | AT28: 9 | AU28: 5 | AV28: 3 | AW28: 2 | AX28: B | AY28: E | AZ28: H
B29: =IF(Master!B29="","",Master!B29) -> 10 | C29: =IF(B29="","",VLOOKUP(B29,$AS$1:$AZ$38,6,0)) -> B | D29: =IF(L29="","",IF(L29>=1,"<--Win",IF(L29<0,"<--Bet",""))) -> <--Bet | F29: =IF(B29="","",VLOOKUP(B29,$AS$1:$AZ$38,8,0)) -> L | G29: =IF(O29="","",IF(O29>=1,"<--Win",IF(O29<0,"<--Bet",""))) | I29: =IF(B29="","",VLOOKUP(B29,$AS$1:$AZ$38,7,0)) -> E | J29: =IF(R29="","",IF(R29>=1,"<--Win",IF(R29<0,"<--Bet",""))) | L29: =IF(AND(AD29<>"",AD30<>""),-AE29,IF(AND(AD29>=1,AD30=""),AE29,"")) -> -1 | M29: =IF(L29<>"",SUM($L$6:L29),"") -> -3 | O29: =IF(AND(AG29<>"",AG30<>""),-AH29,IF(AND(AG29>=1,AG30=""),AH29,"")) | P29: =IF(O29<>"",SUM($O$6:O29),"") | R29: =IF(AND(AJ29<>"",AJ30<>""),-AK29,IF(AND(AJ29>=1,AJ30=""),AK29,"")) | S29: =IF(R29<>"",SUM($R$6:R29),"") | U29: =IF(B29="",U28,SUM($L$7:L29)+SUM($O$7:O29)+SUM($R$7:R29)) -> 1 | AC29: =IF(AND(AC28=2,B29=0),1,IF(AND(AC28=1,B29=0),1,IF(B29="","",IF(AND(C29=C27,B28=0),AC28+1,IF(AND(AC28>1,B29=0),AC28+1,IF(C29=C28,AC28+1,1)))))) -> 5 | AD29: =IF(B29="","",IF(OR(AC28=1,AC28=2),"",IF(AC28>=3,AC28-2))) -> 2 | AE29: =IF(AD29="","",VLOOKUP(AD29,$Z$4:$AA$18,2,0)) -> 1 | AF29: =IF(AND(AF28=2,B29=0),1,IF(AND(AF28=1,B29=0),1,IF(B29="","",IF(AND(F29=F27,B28=0),AF28+1,IF(AND(AF28>1,B29=0),AF28+1,IF(F29=F28,AF28+1,1)))))) -> 1 | AG29: =IF(B29="","",IF(OR(AF28=1,AF28=2),"",IF(AF28>=3,AF28-2))) | AH29: =IF(AG29="","",VLOOKUP(AG29,$Z$4:$AA$18,2,0)) | AI29: =IF(AND(AI28=2,B29=0),1,IF(AND(AI28=1,B29=0),1,IF(B29="","",IF(AND(I29=I27,B28=0),AI28+1,IF(AND(AI28>1,B29=0),AI28+1,IF(I29=I28,AI28+1,1)))))) -> 1 | AJ29: =IF(B29="","",IF(OR(AI28=1,AI28=2),"",IF(AI28>=3,AI28-2))) | AK29: =IF(AJ29="","",VLOOKUP(AJ29,$Z$4:$AA$18,2,0)) | AS29: 27 | AT29: 9 | AU29: 5 | AV29: 3 | AW29: 3 | AX29: R | AY29: O | AZ29: H
B30: =IF(Master!B30="","",Master!B30) -> 4 | C30: =IF(B30="","",VLOOKUP(B30,$AS$1:$AZ$38,6,0)) -> B | D30: =IF(L30="","",IF(L30>=1,"<--Win",IF(L30<0,"<--Bet",""))) -> <--Bet | F30: =IF(B30="","",VLOOKUP(B30,$AS$1:$AZ$38,8,0)) -> L | G30: =IF(O30="","",IF(O30>=1,"<--Win",IF(O30<0,"<--Bet",""))) | I30: =IF(B30="","",VLOOKUP(B30,$AS$1:$AZ$38,7,0)) -> E | J30: =IF(R30="","",IF(R30>=1,"<--Win",IF(R30<0,"<--Bet",""))) | L30: =IF(AND(AD30<>"",AD31<>""),-AE30,IF(AND(AD30>=1,AD31=""),AE30,"")) -> -1 | M30: =IF(L30<>"",SUM($L$6:L30),"") -> -4 | O30: =IF(AND(AG30<>"",AG31<>""),-AH30,IF(AND(AG30>=1,AG31=""),AH30,"")) | P30: =IF(O30<>"",SUM($O$6:O30),"") | R30: =IF(AND(AJ30<>"",AJ31<>""),-AK30,IF(AND(AJ30>=1,AJ31=""),AK30,"")) | S30: =IF(R30<>"",SUM($R$6:R30),"") | U30: =IF(B30="",U29,SUM($L$7:L30)+SUM($O$7:O30)+SUM($R$7:R30)) -> 0 | W30: Max Tot. | X30: =MAX(U7:U1000) -> 61 | AC30: =IF(AND(AC29=2,B30=0),1,IF(AND(AC29=1,B30=0),1,IF(B30="","",IF(AND(C30=C28,B29=0),AC29+1,IF(AND(AC29>1,B30=0),AC29+1,IF(C30=C29,AC29+1,1)))))) -> 6 | AD30: =IF(B30="","",IF(OR(AC29=1,AC29=2),"",IF(AC29>=3,AC29-2))) -> 3 | AE30: =IF(AD30="","",VLOOKUP(AD30,$Z$4:$AA$18,2,0)) -> 1 | AF30: =IF(AND(AF29=2,B30=0),1,IF(AND(AF29=1,B30=0),1,IF(B30="","",IF(AND(F30=F28,B29=0),AF29+1,IF(AND(AF29>1,B30=0),AF29+1,IF(F30=F29,AF29+1,1)))))) -> 2 | AG30: =IF(B30="","",IF(OR(AF29=1,AF29=2),"",IF(AF29>=3,AF29-2))) | AH30: =IF(AG30="","",VLOOKUP(AG30,$Z$4:$AA$18,2,0)) | AI30: =IF(AND(AI29=2,B30=0),1,IF(AND(AI29=1,B30=0),1,IF(B30="","",IF(AND(I30=I28,B29=0),AI29+1,IF(AND(AI29>1,B30=0),AI29+1,IF(I30=I29,AI29+1,1)))))) -> 2 | AJ30: =IF(B30="","",IF(OR(AI29=1,AI29=2),"",IF(AI29>=3,AI29-2))) | AK30: =IF(AJ30="","",VLOOKUP(AJ30,$Z$4:$AA$18,2,0)) | AS30: 28 | AT30: 10 | AU30: 5 | AV30: 3 | AW30: 1 | AX30: B | AY30: E | AZ30: H
B31: =IF(Master!B31="","",Master!B31) -> 15 | C31: =IF(B31="","",VLOOKUP(B31,$AS$1:$AZ$38,6,0)) -> B | D31: =IF(L31="","",IF(L31>=1,"<--Win",IF(L31<0,"<--Bet",""))) -> <--Bet | F31: =IF(B31="","",VLOOKUP(B31,$AS$1:$AZ$38,8,0)) -> L | G31: =IF(O31="","",IF(O31>=1,"<--Win",IF(O31<0,"<--Bet",""))) | I31: =IF(B31="","",VLOOKUP(B31,$AS$1:$AZ$38,7,0)) -> O | J31: =IF(R31="","",IF(R31>=1,"<--Win",IF(R31<0,"<--Bet",""))) | L31: =IF(AND(AD31<>"",AD32<>""),-AE31,IF(AND(AD31>=1,AD32=""),AE31,"")) -> -4 | M31: =IF(L31<>"",SUM($L$6:L31),"") -> -8 | O31: =IF(AND(AG31<>"",AG32<>""),-AH31,IF(AND(AG31>=1,AG32=""),AH31,"")) | P31: =IF(O31<>"",SUM($O$6:O31),"") | R31: =IF(AND(AJ31<>"",AJ32<>""),-AK31,IF(AND(AJ31>=1,AJ32=""),AK31,"")) | S31: =IF(R31<>"",SUM($R$6:R31),"") | U31: =IF(B31="",U30,SUM($L$7:L31)+SUM($O$7:O31)+SUM($R$7:R31)) -> -4 | W31: Min Tot. | X31: =MIN(U7:U1000) -> -24 | AC31: =IF(AND(AC30=2,B31=0),1,IF(AND(AC30=1,B31=0),1,IF(B31="","",IF(AND(C31=C29,B30=0),AC30+1,IF(AND(AC30>1,B31=0),AC30+1,IF(C31=C30,AC30+1,1)))))) -> 7 | AD31: =IF(B31="","",IF(OR(AC30=1,AC30=2),"",IF(AC30>=3,AC30-2))) -> 4 | AE31: =IF(AD31="","",VLOOKUP(AD31,$Z$4:$AA$18,2,0)) -> 4 | AF31: =IF(AND(AF30=2,B31=0),1,IF(AND(AF30=1,B31=0),1,IF(B31="","",IF(AND(F31=F29,B30=0),AF30+1,IF(AND(AF30>1,B31=0),AF30+1,IF(F31=F30,AF30+1,1)))))) -> 3 | AG31: =IF(B31="","",IF(OR(AF30=1,AF30=2),"",IF(AF30>=3,AF30-2))) | AH31: =IF(AG31="","",VLOOKUP(AG31,$Z$4:$AA$18,2,0)) | AI31: =IF(AND(AI30=2,B31=0),1,IF(AND(AI30=1,B31=0),1,IF(B31="","",IF(AND(I31=I29,B30=0),AI30+1,IF(AND(AI30>1,B31=0),AI30+1,IF(I31=I30,AI30+1,1)))))) -> 1 | AJ31: =IF(B31="","",IF(OR(AI30=1,AI30=2),"",IF(AI30>=3,AI30-2))) | AK31: =IF(AJ31="","",VLOOKUP(AJ31,$Z$4:$AA$18,2,0)) | AS31: 29 | AT31: 10 | AU31: 5 | AV31: 3 | AW31: 2 | AX31: B | AY31: O | AZ31: H
B32: =IF(Master!B32="","",Master!B32) -> 10 | C32: =IF(B32="","",VLOOKUP(B32,$AS$1:$AZ$38,6,0)) -> B | D32: =IF(L32="","",IF(L32>=1,"<--Win",IF(L32<0,"<--Bet",""))) -> <--Bet | F32: =IF(B32="","",VLOOKUP(B32,$AS$1:$AZ$38,8,0)) -> L | G32: =IF(O32="","",IF(O32>=1,"<--Win",IF(O32<0,"<--Bet",""))) -> <--Bet | I32: =IF(B32="","",VLOOKUP(B32,$AS$1:$AZ$38,7,0)) -> E | J32: =IF(R32="","",IF(R32>=1,"<--Win",IF(R32<0,"<--Bet",""))) | L32: =IF(AND(AD32<>"",AD33<>""),-AE32,IF(AND(AD32>=1,AD33=""),AE32,"")) -> -8 | M32: =IF(L32<>"",SUM($L$6:L32),"") -> -16 | O32: =IF(AND(AG32<>"",AG33<>""),-AH32,IF(AND(AG32>=1,AG33=""),AH32,"")) -> -1 | P32: =IF(O32<>"",SUM($O$6:O32),"") -> 1 | R32: =IF(AND(AJ32<>"",AJ33<>""),-AK32,IF(AND(AJ32>=1,AJ33=""),AK32,"")) | S32: =IF(R32<>"",SUM($R$6:R32),"") | U32: =IF(B32="",U31,SUM($L$7:L32)+SUM($O$7:O32)+SUM($R$7:R32)) -> -13 | AC32: =IF(AND(AC31=2,B32=0),1,IF(AND(AC31=1,B32=0),1,IF(B32="","",IF(AND(C32=C30,B31=0),AC31+1,IF(AND(AC31>1,B32=0),AC31+1,IF(C32=C31,AC31+1,1)))))) -> 8 | AD32: =IF(B32="","",IF(OR(AC31=1,AC31=2),"",IF(AC31>=3,AC31-2))) -> 5 | AE32: =IF(AD32="","",VLOOKUP(AD32,$Z$4:$AA$18,2,0)) -> 8 | AF32: =IF(AND(AF31=2,B32=0),1,IF(AND(AF31=1,B32=0),1,IF(B32="","",IF(AND(F32=F30,B31=0),AF31+1,IF(AND(AF31>1,B32=0),AF31+1,IF(F32=F31,AF31+1,1)))))) -> 4 | AG32: =IF(B32="","",IF(OR(AF31=1,AF31=2),"",IF(AF31>=3,AF31-2))) -> 1 | AH32: =IF(AG32="","",VLOOKUP(AG32,$Z$4:$AA$18,2,0)) -> 1 | AI32: =IF(AND(AI31=2,B32=0),1,IF(AND(AI31=1,B32=0),1,IF(B32="","",IF(AND(I32=I30,B31=0),AI31+1,IF(AND(AI31>1,B32=0),AI31+1,IF(I32=I31,AI31+1,1)))))) -> 1 | AJ32: =IF(B32="","",IF(OR(AI31=1,AI31=2),"",IF(AI31>=3,AI31-2))) | AK32: =IF(AJ32="","",VLOOKUP(AJ32,$Z$4:$AA$18,2,0)) | AS32: 30 | AT32: 10 | AU32: 5 | AV32: 3 | AW32: 3 | AX32: R | AY32: E | AZ32: H
B33: =IF(Master!B33="","",Master!B33) -> 31 | C33: =IF(B33="","",VLOOKUP(B33,$AS$1:$AZ$38,6,0)) -> B | D33: =IF(L33="","",IF(L33>=1,"<--Win",IF(L33<0,"<--Bet",""))) -> <--Bet | F33: =IF(B33="","",VLOOKUP(B33,$AS$1:$AZ$38,8,0)) -> H | G33: =IF(O33="","",IF(O33>=1,"<--Win",IF(O33<0,"<--Bet",""))) -> <--Win | I33: =IF(B33="","",VLOOKUP(B33,$AS$1:$AZ$38,7,0)) -> O | J33: =IF(R33="","",IF(R33>=1,"<--Win",IF(R33<0,"<--Bet",""))) | L33: =IF(AND(AD33<>"",AD34<>""),-AE33,IF(AND(AD33>=1,AD34=""),AE33,"")) -> -12 | M33: =IF(L33<>"",SUM($L$6:L33),"") -> -28 | O33: =IF(AND(AG33<>"",AG34<>""),-AH33,IF(AND(AG33>=1,AG34=""),AH33,"")) -> 1 | P33: =IF(O33<>"",SUM($O$6:O33),"") -> 2 | R33: =IF(AND(AJ33<>"",AJ34<>""),-AK33,IF(AND(AJ33>=1,AJ34=""),AK33,"")) | S33: =IF(R33<>"",SUM($R$6:R33),"") | U33: =IF(B33="",U32,SUM($L$7:L33)+SUM($O$7:O33)+SUM($R$7:R33)) -> -24 | AC33: =IF(AND(AC32=2,B33=0),1,IF(AND(AC32=1,B33=0),1,IF(B33="","",IF(AND(C33=C31,B32=0),AC32+1,IF(AND(AC32>1,B33=0),AC32+1,IF(C33=C32,AC32+1,1)))))) -> 9 | AD33: =IF(B33="","",IF(OR(AC32=1,AC32=2),"",IF(AC32>=3,AC32-2))) -> 6 | AE33: =IF(AD33="","",VLOOKUP(AD33,$Z$4:$AA$18,2,0)) -> 12 | AF33: =IF(AND(AF32=2,B33=0),1,IF(AND(AF32=1,B33=0),1,IF(B33="","",IF(AND(F33=F31,B32=0),AF32+1,IF(AND(AF32>1,B33=0),AF32+1,IF(F33=F32,AF32+1,1)))))) -> 1 | AG33: =IF(B33="","",IF(OR(AF32=1,AF32=2),"",IF(AF32>=3,AF32-2))) -> 2 | AH33: =IF(AG33="","",VLOOKUP(AG33,$Z$4:$AA$18,2,0)) -> 1 | AI33: =IF(AND(AI32=2,B33=0),1,IF(AND(AI32=1,B33=0),1,IF(B33="","",IF(AND(I33=I31,B32=0),AI32+1,IF(AND(AI32>1,B33=0),AI32+1,IF(I33=I32,AI32+1,1)))))) -> 1 | AJ33: =IF(B33="","",IF(OR(AI32=1,AI32=2),"",IF(AI32>=3,AI32-2))) | AK33: =IF(AJ33="","",VLOOKUP(AJ33,$Z$4:$AA$18,2,0)) | AS33: 31 | AT33: 11 | AU33: 6 | AV33: 3 | AW33: 1 | AX33: B | AY33: O | AZ33: H
B34: =IF(Master!B34="","",Master!B34) -> 1 | C34: =IF(B34="","",VLOOKUP(B34,$AS$1:$AZ$38,6,0)) -> R | D34: =IF(L34="","",IF(L34>=1,"<--Win",IF(L34<0,"<--Bet",""))) -> <--Win | F34: =IF(B34="","",VLOOKUP(B34,$AS$1:$AZ$38,8,0)) -> L | G34: =IF(O34="","",IF(O34>=1,"<--Win",IF(O34<0,"<--Bet",""))) | I34: =IF(B34="","",VLOOKUP(B34,$AS$1:$AZ$38,7,0)) -> O | J34: =IF(R34="","",IF(R34>=1,"<--Win",IF(R34<0,"<--Bet",""))) | L34: =IF(AND(AD34<>"",AD35<>""),-AE34,IF(AND(AD34>=1,AD35=""),AE34,"")) -> 20 | M34: =IF(L34<>"",SUM($L$6:L34),"") -> -8 | O34: =IF(AND(AG34<>"",AG35<>""),-AH34,IF(AND(AG34>=1,AG35=""),AH34,"")) | P34: =IF(O34<>"",SUM($O$6:O34),"") | R34: =IF(AND(AJ34<>"",AJ35<>""),-AK34,IF(AND(AJ34>=1,AJ35=""),AK34,"")) | S34: =IF(R34<>"",SUM($R$6:R34),"") | U34: =IF(B34="",U33,SUM($L$7:L34)+SUM($O$7:O34)+SUM($R$7:R34)) -> -4 | AC34: =IF(AND(AC33=2,B34=0),1,IF(AND(AC33=1,B34=0),1,IF(B34="","",IF(AND(C34=C32,B33=0),AC33+1,IF(AND(AC33>1,B34=0),AC33+1,IF(C34=C33,AC33+1,1)))))) -> 1 | AD34: =IF(B34="","",IF(OR(AC33=1,AC33=2),"",IF(AC33>=3,AC33-2))) -> 7 | AE34: =IF(AD34="","",VLOOKUP(AD34,$Z$4:$AA$18,2,0)) -> 20 | AF34: =IF(AND(AF33=2,B34=0),1,IF(AND(AF33=1,B34=0),1,IF(B34="","",IF(AND(F34=F32,B33=0),AF33+1,IF(AND(AF33>1,B34=0),AF33+1,IF(F34=F33,AF33+1,1)))))) -> 1 | AG34: =IF(B34="","",IF(OR(AF33=1,AF33=2),"",IF(AF33>=3,AF33-2))) | AH34: =IF(AG34="","",VLOOKUP(AG34,$Z$4:$AA$18,2,0)) | AI34: =IF(AND(AI33=2,B34=0),1,IF(AND(AI33=1,B34=0),1,IF(B34="","",IF(AND(I34=I32,B33=0),AI33+1,IF(AND(AI33>1,B34=0),AI33+1,IF(I34=I33,AI33+1,1)))))) -> 2 | AJ34: =IF(B34="","",IF(OR(AI33=1,AI33=2),"",IF(AI33>=3,AI33-2))) | AK34: =IF(AJ34="","",VLOOKUP(AJ34,$Z$4:$AA$18,2,0)) | AS34: 32 | AT34: 11 | AU34: 6 | AV34: 3 | AW34: 2 | AX34: R | AY34: E | AZ34: H
B35: =IF(Master!B35="","",Master!B35) -> 14 | C35: =IF(B35="","",VLOOKUP(B35,$AS$1:$AZ$38,6,0)) -> R | D35: =IF(L35="","",IF(L35>=1,"<--Win",IF(L35<0,"<--Bet",""))) | F35: =IF(B35="","",VLOOKUP(B35,$AS$1:$AZ$38,8,0)) -> L | G35: =IF(O35="","",IF(O35>=1,"<--Win",IF(O35<0,"<--Bet",""))) | I35: =IF(B35="","",VLOOKUP(B35,$AS$1:$AZ$38,7,0)) -> E | J35: =IF(R35="","",IF(R35>=1,"<--Win",IF(R35<0,"<--Bet",""))) | L35: =IF(AND(AD35<>"",AD36<>""),-AE35,IF(AND(AD35>=1,AD36=""),AE35,"")) | M35: =IF(L35<>"",SUM($L$6:L35),"") | O35: =IF(AND(AG35<>"",AG36<>""),-AH35,IF(AND(AG35>=1,AG36=""),AH35,"")) | P35: =IF(O35<>"",SUM($O$6:O35),"") | R35: =IF(AND(AJ35<>"",AJ36<>""),-AK35,IF(AND(AJ35>=1,AJ36=""),AK35,"")) | S35: =IF(R35<>"",SUM($R$6:R35),"") | U35: =IF(B35="",U34,SUM($L$7:L35)+SUM($O$7:O35)+SUM($R$7:R35)) -> -4 | AC35: =IF(AND(AC34=2,B35=0),1,IF(AND(AC34=1,B35=0),1,IF(B35="","",IF(AND(C35=C33,B34=0),AC34+1,IF(AND(AC34>1,B35=0),AC34+1,IF(C35=C34,AC34+1,1)))))) -> 2 | AD35: =IF(B35="","",IF(OR(AC34=1,AC34=2),"",IF(AC34>=3,AC34-2))) | AE35: =IF(AD35="","",VLOOKUP(AD35,$Z$4:$AA$18,2,0)) | AF35: =IF(AND(AF34=2,B35=0),1,IF(AND(AF34=1,B35=0),1,IF(B35="","",IF(AND(F35=F33,B34=0),AF34+1,IF(AND(AF34>1,B35=0),AF34+1,IF(F35=F34,AF34+1,1)))))) -> 2 | AG35: =IF(B35="","",IF(OR(AF34=1,AF34=2),"",IF(AF34>=3,AF34-2))) | AH35: =IF(AG35="","",VLOOKUP(AG35,$Z$4:$AA$18,2,0)) | AI35: =IF(AND(AI34=2,B35=0),1,IF(AND(AI34=1,B35=0),1,IF(B35="","",IF(AND(I35=I33,B34=0),AI34+1,IF(AND(AI34>1,B35=0),AI34+1,IF(I35=I34,AI34+1,1)))))) -> 1 | AJ35: =IF(B35="","",IF(OR(AI34=1,AI34=2),"",IF(AI34>=3,AI34-2))) | AK35: =IF(AJ35="","",VLOOKUP(AJ35,$Z$4:$AA$18,2,0)) | AS35: 33 | AT35: 11 | AU35: 6 | AV35: 3 | AW35: 3 | AX35: B | AY35: O | AZ35: H
B36: =IF(Master!B36="","",Master!B36) -> 4 | C36: =IF(B36="","",VLOOKUP(B36,$AS$1:$AZ$38,6,0)) -> B | D36: =IF(L36="","",IF(L36>=1,"<--Win",IF(L36<0,"<--Bet",""))) | F36: =IF(B36="","",VLOOKUP(B36,$AS$1:$AZ$38,8,0)) -> L | G36: =IF(O36="","",IF(O36>=1,"<--Win",IF(O36<0,"<--Bet",""))) | I36: =IF(B36="","",VLOOKUP(B36,$AS$1:$AZ$38,7,0)) -> E | J36: =IF(R36="","",IF(R36>=1,"<--Win",IF(R36<0,"<--Bet",""))) | L36: =IF(AND(AD36<>"",AD37<>""),-AE36,IF(AND(AD36>=1,AD37=""),AE36,"")) | M36: =IF(L36<>"",SUM($L$6:L36),"") | O36: =IF(AND(AG36<>"",AG37<>""),-AH36,IF(AND(AG36>=1,AG37=""),AH36,"")) | P36: =IF(O36<>"",SUM($O$6:O36),"") | R36: =IF(AND(AJ36<>"",AJ37<>""),-AK36,IF(AND(AJ36>=1,AJ37=""),AK36,"")) | S36: =IF(R36<>"",SUM($R$6:R36),"") | U36: =IF(B36="",U35,SUM($L$7:L36)+SUM($O$7:O36)+SUM($R$7:R36)) -> -4 | AC36: =IF(AND(AC35=2,B36=0),1,IF(AND(AC35=1,B36=0),1,IF(B36="","",IF(AND(C36=C34,B35=0),AC35+1,IF(AND(AC35>1,B36=0),AC35+1,IF(C36=C35,AC35+1,1)))))) -> 1 | AD36: =IF(B36="","",IF(OR(AC35=1,AC35=2),"",IF(AC35>=3,AC35-2))) | AE36: =IF(AD36="","",VLOOKUP(AD36,$Z$4:$AA$18,2,0)) | AF36: =IF(AND(AF35=2,B36=0),1,IF(AND(AF35=1,B36=0),1,IF(B36="","",IF(AND(F36=F34,B35=0),AF35+1,IF(AND(AF35>1,B36=0),AF35+1,IF(F36=F35,AF35+1,1)))))) -> 3 | AG36: =IF(B36="","",IF(OR(AF35=1,AF35=2),"",IF(AF35>=3,AF35-2))) | AH36: =IF(AG36="","",VLOOKUP(AG36,$Z$4:$AA$18,2,0)) | AI36: =IF(AND(AI35=2,B36=0),1,IF(AND(AI35=1,B36=0),1,IF(B36="","",IF(AND(I36=I34,B35=0),AI35+1,IF(AND(AI35>1,B36=0),AI35+1,IF(I36=I35,AI35+1,1)))))) -> 2 | AJ36: =IF(B36="","",IF(OR(AI35=1,AI35=2),"",IF(AI35>=3,AI35-2))) | AK36: =IF(AJ36="","",VLOOKUP(AJ36,$Z$4:$AA$18,2,0)) | AS36: 34 | AT36: 12 | AU36: 6 | AV36: 3 | AW36: 1 | AX36: R | AY36: E | AZ36: H
B37: =IF(Master!B37="","",Master!B37) -> 32 | C37: =IF(B37="","",VLOOKUP(B37,$AS$1:$AZ$38,6,0)) -> R | D37: =IF(L37="","",IF(L37>=1,"<--Win",IF(L37<0,"<--Bet",""))) | F37: =IF(B37="","",VLOOKUP(B37,$AS$1:$AZ$38,8,0)) -> H | G37: =IF(O37="","",IF(O37>=1,"<--Win",IF(O37<0,"<--Bet",""))) -> <--Win | I37: =IF(B37="","",VLOOKUP(B37,$AS$1:$AZ$38,7,0)) -> E | J37: =IF(R37="","",IF(R37>=1,"<--Win",IF(R37<0,"<--Bet",""))) | L37: =IF(AND(AD37<>"",AD38<>""),-AE37,IF(AND(AD37>=1,AD38=""),AE37,"")) | M37: =IF(L37<>"",SUM($L$6:L37),"") | O37: =IF(AND(AG37<>"",AG38<>""),-AH37,IF(AND(AG37>=1,AG38=""),AH37,"")) -> 1 | P37: =IF(O37<>"",SUM($O$6:O37),"") -> 3 | R37: =IF(AND(AJ37<>"",AJ38<>""),-AK37,IF(AND(AJ37>=1,AJ38=""),AK37,"")) | S37: =IF(R37<>"",SUM($R$6:R37),"") | U37: =IF(B37="",U36,SUM($L$7:L37)+SUM($O$7:O37)+SUM($R$7:R37)) -> -3 | AC37: =IF(AND(AC36=2,B37=0),1,IF(AND(AC36=1,B37=0),1,IF(B37="","",IF(AND(C37=C35,B36=0),AC36+1,IF(AND(AC36>1,B37=0),AC36+1,IF(C37=C36,AC36+1,1)))))) -> 1 | AD37: =IF(B37="","",IF(OR(AC36=1,AC36=2),"",IF(AC36>=3,AC36-2))) | AE37: =IF(AD37="","",VLOOKUP(AD37,$Z$4:$AA$18,2,0)) | AF37: =IF(AND(AF36=2,B37=0),1,IF(AND(AF36=1,B37=0),1,IF(B37="","",IF(AND(F37=F35,B36=0),AF36+1,IF(AND(AF36>1,B37=0),AF36+1,IF(F37=F36,AF36+1,1)))))) -> 1 | AG37: =IF(B37="","",IF(OR(AF36=1,AF36=2),"",IF(AF36>=3,AF36-2))) -> 1 | AH37: =IF(AG37="","",VLOOKUP(AG37,$Z$4:$AA$18,2,0)) -> 1 | AI37: =IF(AND(AI36=2,B37=0),1,IF(AND(AI36=1,B37=0),1,IF(B37="","",IF(AND(I37=I35,B36=0),AI36+1,IF(AND(AI36>1,B37=0),AI36+1,IF(I37=I36,AI36+1,1)))))) -> 3 | AJ37: =IF(B37="","",IF(OR(AI36=1,AI36=2),"",IF(AI36>=3,AI36-2))) | AK37: =IF(AJ37="","",VLOOKUP(AJ37,$Z$4:$AA$18,2,0)) | AS37: 35 | AT37: 12 | AU37: 6 | AV37: 3 | AW37: 2 | AX37: B | AY37: O | AZ37: H
B38: =IF(Master!B38="","",Master!B38) -> 29 | C38: =IF(B38="","",VLOOKUP(B38,$AS$1:$AZ$38,6,0)) -> B | D38: =IF(L38="","",IF(L38>=1,"<--Win",IF(L38<0,"<--Bet",""))) | F38: =IF(B38="","",VLOOKUP(B38,$AS$1:$AZ$38,8,0)) -> H | G38: =IF(O38="","",IF(O38>=1,"<--Win",IF(O38<0,"<--Bet",""))) | I38: =IF(B38="","",VLOOKUP(B38,$AS$1:$AZ$38,7,0)) -> O | J38: =IF(R38="","",IF(R38>=1,"<--Win",IF(R38<0,"<--Bet",""))) -> <--Win | L38: =IF(AND(AD38<>"",AD39<>""),-AE38,IF(AND(AD38>=1,AD39=""),AE38,"")) | M38: =IF(L38<>"",SUM($L$6:L38),"") | O38: =IF(AND(AG38<>"",AG39<>""),-AH38,IF(AND(AG38>=1,AG39=""),AH38,"")) | P38: =IF(O38<>"",SUM($O$6:O38),"") | R38: =IF(AND(AJ38<>"",AJ39<>""),-AK38,IF(AND(AJ38>=1,AJ39=""),AK38,"")) -> 1 | S38: =IF(R38<>"",SUM($R$6:R38),"") -> 3 | U38: =IF(B38="",U37,SUM($L$7:L38)+SUM($O$7:O38)+SUM($R$7:R38)) -> -2 | AC38: =IF(AND(AC37=2,B38=0),1,IF(AND(AC37=1,B38=0),1,IF(B38="","",IF(AND(C38=C36,B37=0),AC37+1,IF(AND(AC37>1,B38=0),AC37+1,IF(C38=C37,AC37+1,1)))))) -> 1 | AD38: =IF(B38="","",IF(OR(AC37=1,AC37=2),"",IF(AC37>=3,AC37-2))) | AE38: =IF(AD38="","",VLOOKUP(AD38,$Z$4:$AA$18,2,0)) | AF38: =IF(AND(AF37=2,B38=0),1,IF(AND(AF37=1,B38=0),1,IF(B38="","",IF(AND(F38=F36,B37=0),AF37+1,IF(AND(AF37>1,B38=0),AF37+1,IF(F38=F37,AF37+1,1)))))) -> 2 | AG38: =IF(B38="","",IF(OR(AF37=1,AF37=2),"",IF(AF37>=3,AF37-2))) | AH38: =IF(AG38="","",VLOOKUP(AG38,$Z$4:$AA$18,2,0)) | AI38: =IF(AND(AI37=2,B38=0),1,IF(AND(AI37=1,B38=0),1,IF(B38="","",IF(AND(I38=I36,B37=0),AI37+1,IF(AND(AI37>1,B38=0),AI37+1,IF(I38=I37,AI37+1,1)))))) -> 1 | AJ38: =IF(B38="","",IF(OR(AI37=1,AI37=2),"",IF(AI37>=3,AI37-2))) -> 1 | AK38: =IF(AJ38="","",VLOOKUP(AJ38,$Z$4:$AA$18,2,0)) -> 1 | AS38: 36 | AT38: 12 | AU38: 6 | AV38: 3 | AW38: 3 | AX38: R | AY38: E | AZ38: H
B39: =IF(Master!B39="","",Master!B39) -> 8 | C39: =IF(B39="","",VLOOKUP(B39,$AS$1:$AZ$38,6,0)) -> B | D39: =IF(L39="","",IF(L39>=1,"<--Win",IF(L39<0,"<--Bet",""))) | F39: =IF(B39="","",VLOOKUP(B39,$AS$1:$AZ$38,8,0)) -> L | G39: =IF(O39="","",IF(O39>=1,"<--Win",IF(O39<0,"<--Bet",""))) | I39: =IF(B39="","",VLOOKUP(B39,$AS$1:$AZ$38,7,0)) -> E | J39: =IF(R39="","",IF(R39>=1,"<--Win",IF(R39<0,"<--Bet",""))) | L39: =IF(AND(AD39<>"",AD40<>""),-AE39,IF(AND(AD39>=1,AD40=""),AE39,"")) | M39: =IF(L39<>"",SUM($L$6:L39),"") | O39: =IF(AND(AG39<>"",AG40<>""),-AH39,IF(AND(AG39>=1,AG40=""),AH39,"")) | P39: =IF(O39<>"",SUM($O$6:O39),"") | R39: =IF(AND(AJ39<>"",AJ40<>""),-AK39,IF(AND(AJ39>=1,AJ40=""),AK39,"")) | S39: =IF(R39<>"",SUM($R$6:R39),"") | U39: =IF(B39="",U38,SUM($L$7:L39)+SUM($O$7:O39)+SUM($R$7:R39)) -> -2 | AC39: =IF(AND(AC38=2,B39=0),1,IF(AND(AC38=1,B39=0),1,IF(B39="","",IF(AND(C39=C37,B38=0),AC38+1,IF(AND(AC38>1,B39=0),AC38+1,IF(C39=C38,AC38+1,1)))))) -> 2 | AD39: =IF(B39="","",IF(OR(AC38=1,AC38=2),"",IF(AC38>=3,AC38-2))) | AE39: =IF(AD39="","",VLOOKUP(AD39,$Z$4:$AA$18,2,0)) | AF39: =IF(AND(AF38=2,B39=0),1,IF(AND(AF38=1,B39=0),1,IF(B39="","",IF(AND(F39=F37,B38=0),AF38+1,IF(AND(AF38>1,B39=0),AF38+1,IF(F39=F38,AF38+1,1)))))) -> 1 | AG39: =IF(B39="","",IF(OR(AF38=1,AF38=2),"",IF(AF38>=3,AF38-2))) | AH39: =IF(AG39="","",VLOOKUP(AG39,$Z$4:$AA$18,2,0)) | AI39: =IF(AND(AI38=2,B39=0),1,IF(AND(AI38=1,B39=0),1,IF(B39="","",IF(AND(I39=I37,B38=0),AI38+1,IF(AND(AI38>1,B39=0),AI38+1,IF(I39=I38,AI38+1,1)))))) -> 1 | AJ39: =IF(B39="","",IF(OR(AI38=1,AI38=2),"",IF(AI38>=3,AI38-2))) | AK39: =IF(AJ39="","",VLOOKUP(AJ39,$Z$4:$AA$18,2,0))
B40: =IF(Master!B40="","",Master!B40) -> 25 | C40: =IF(B40="","",VLOOKUP(B40,$AS$1:$AZ$38,6,0)) -> R | D40: =IF(L40="","",IF(L40>=1,"<--Win",IF(L40<0,"<--Bet",""))) | F40: =IF(B40="","",VLOOKUP(B40,$AS$1:$AZ$38,8,0)) -> H | G40: =IF(O40="","",IF(O40>=1,"<--Win",IF(O40<0,"<--Bet",""))) | I40: =IF(B40="","",VLOOKUP(B40,$AS$1:$AZ$38,7,0)) -> O | J40: =IF(R40="","",IF(R40>=1,"<--Win",IF(R40<0,"<--Bet",""))) | L40: =IF(AND(AD40<>"",AD41<>""),-AE40,IF(AND(AD40>=1,AD41=""),AE40,"")) | M40: =IF(L40<>"",SUM($L$6:L40),"") | O40: =IF(AND(AG40<>"",AG41<>""),-AH40,IF(AND(AG40>=1,AG41=""),AH40,"")) | P40: =IF(O40<>"",SUM($O$6:O40),"") | R40: =IF(AND(AJ40<>"",AJ41<>""),-AK40,IF(AND(AJ40>=1,AJ41=""),AK40,"")) | S40: =IF(R40<>"",SUM($R$6:R40),"") | U40: =IF(B40="",U39,SUM($L$7:L40)+SUM($O$7:O40)+SUM($R$7:R40)) -> -2 | AC40: =IF(AND(AC39=2,B40=0),1,IF(AND(AC39=1,B40=0),1,IF(B40="","",IF(AND(C40=C38,B39=0),AC39+1,IF(AND(AC39>1,B40=0),AC39+1,IF(C40=C39,AC39+1,1)))))) -> 1 | AD40: =IF(B40="","",IF(OR(AC39=1,AC39=2),"",IF(AC39>=3,AC39-2))) | AE40: =IF(AD40="","",VLOOKUP(AD40,$Z$4:$AA$18,2,0)) | AF40: =IF(AND(AF39=2,B40=0),1,IF(AND(AF39=1,B40=0),1,IF(B40="","",IF(AND(F40=F38,B39=0),AF39+1,IF(AND(AF39>1,B40=0),AF39+1,IF(F40=F39,AF39+1,1)))))) -> 1 | AG40: =IF(B40="","",IF(OR(AF39=1,AF39=2),"",IF(AF39>=3,AF39-2))) | AH40: =IF(AG40="","",VLOOKUP(AG40,$Z$4:$AA$18,2,0)) | AI40: =IF(AND(AI39=2,B40=0),1,IF(AND(AI39=1,B40=0),1,IF(B40="","",IF(AND(I40=I38,B39=0),AI39+1,IF(AND(AI39>1,B40=0),AI39+1,IF(I40=I39,AI39+1,1)))))) -> 1 | AJ40: =IF(B40="","",IF(OR(AI39=1,AI39=2),"",IF(AI39>=3,AI39-2))) | AK40: =IF(AJ40="","",VLOOKUP(AJ40,$Z$4:$AA$18,2,0))
B41: =IF(Master!B41="","",Master!B41) -> 7 | C41: =IF(B41="","",VLOOKUP(B41,$AS$1:$AZ$38,6,0)) -> R | D41: =IF(L41="","",IF(L41>=1,"<--Win",IF(L41<0,"<--Bet",""))) | F41: =IF(B41="","",VLOOKUP(B41,$AS$1:$AZ$38,8,0)) -> L | G41: =IF(O41="","",IF(O41>=1,"<--Win",IF(O41<0,"<--Bet",""))) | I41: =IF(B41="","",VLOOKUP(B41,$AS$1:$AZ$38,7,0)) -> O | J41: =IF(R41="","",IF(R41>=1,"<--Win",IF(R41<0,"<--Bet",""))) | L41: =IF(AND(AD41<>"",AD42<>""),-AE41,IF(AND(AD41>=1,AD42=""),AE41,"")) | M41: =IF(L41<>"",SUM($L$6:L41),"") | O41: =IF(AND(AG41<>"",AG42<>""),-AH41,IF(AND(AG41>=1,AG42=""),AH41,"")) | P41: =IF(O41<>"",SUM($O$6:O41),"") | R41: =IF(AND(AJ41<>"",AJ42<>""),-AK41,IF(AND(AJ41>=1,AJ42=""),AK41,"")) | S41: =IF(R41<>"",SUM($R$6:R41),"") | U41: =IF(B41="",U40,SUM($L$7:L41)+SUM($O$7:O41)+SUM($R$7:R41)) -> -2 | AC41: =IF(AND(AC40=2,B41=0),1,IF(AND(AC40=1,B41=0),1,IF(B41="","",IF(AND(C41=C39,B40=0),AC40+1,IF(AND(AC40>1,B41=0),AC40+1,IF(C41=C40,AC40+1,1)))))) -> 2 | AD41: =IF(B41="","",IF(OR(AC40=1,AC40=2),"",IF(AC40>=3,AC40-2))) | AE41: =IF(AD41="","",VLOOKUP(AD41,$Z$4:$AA$18,2,0)) | AF41: =IF(AND(AF40=2,B41=0),1,IF(AND(AF40=1,B41=0),1,IF(B41="","",IF(AND(F41=F39,B40=0),AF40+1,IF(AND(AF40>1,B41=0),AF40+1,IF(F41=F40,AF40+1,1)))))) -> 1 | AG41: =IF(B41="","",IF(OR(AF40=1,AF40=2),"",IF(AF40>=3,AF40-2))) | AH41: =IF(AG41="","",VLOOKUP(AG41,$Z$4:$AA$18,2,0)) | AI41: =IF(AND(AI40=2,B41=0),1,IF(AND(AI40=1,B41=0),1,IF(B41="","",IF(AND(I41=I39,B40=0),AI40+1,IF(AND(AI40>1,B41=0),AI40+1,IF(I41=I40,AI40+1,1)))))) -> 2 | AJ41: =IF(B41="","",IF(OR(AI40=1,AI40=2),"",IF(AI40>=3,AI40-2))) | AK41: =IF(AJ41="","",VLOOKUP(AJ41,$Z$4:$AA$18,2,0))
B42: =IF(Master!B42="","",Master!B42) -> 16 | C42: =IF(B42="","",VLOOKUP(B42,$AS$1:$AZ$38,6,0)) -> R | D42: =IF(L42="","",IF(L42>=1,"<--Win",IF(L42<0,"<--Bet",""))) | F42: =IF(B42="","",VLOOKUP(B42,$AS$1:$AZ$38,8,0)) -> L | G42: =IF(O42="","",IF(O42>=1,"<--Win",IF(O42<0,"<--Bet",""))) | I42: =IF(B42="","",VLOOKUP(B42,$AS$1:$AZ$38,7,0)) -> E | J42: =IF(R42="","",IF(R42>=1,"<--Win",IF(R42<0,"<--Bet",""))) | L42: =IF(AND(AD42<>"",AD43<>""),-AE42,IF(AND(AD42>=1,AD43=""),AE42,"")) | M42: =IF(L42<>"",SUM($L$6:L42),"") | O42: =IF(AND(AG42<>"",AG43<>""),-AH42,IF(AND(AG42>=1,AG43=""),AH42,"")) | P42: =IF(O42<>"",SUM($O$6:O42),"") | R42: =IF(AND(AJ42<>"",AJ43<>""),-AK42,IF(AND(AJ42>=1,AJ43=""),AK42,"")) | S42: =IF(R42<>"",SUM($R$6:R42),"") | U42: =IF(B42="",U41,SUM($L$7:L42)+SUM($O$7:O42)+SUM($R$7:R42)) -> -2 | AC42: =IF(AND(AC41=2,B42=0),1,IF(AND(AC41=1,B42=0),1,IF(B42="","",IF(AND(C42=C40,B41=0),AC41+1,IF(AND(AC41>1,B42=0),AC41+1,IF(C42=C41,AC41+1,1)))))) -> 3 | AD42: =IF(B42="","",IF(OR(AC41=1,AC41=2),"",IF(AC41>=3,AC41-2))) | AE42: =IF(AD42="","",VLOOKUP(AD42,$Z$4:$AA$18,2,0)) | AF42: =IF(AND(AF41=2,B42=0),1,IF(AND(AF41=1,B42=0),1,IF(B42="","",IF(AND(F42=F40,B41=0),AF41+1,IF(AND(AF41>1,B42=0),AF41+1,IF(F42=F41,AF41+1,1)))))) -> 2 | AG42: =IF(B42="","",IF(OR(AF41=1,AF41=2),"",IF(AF41>=3,AF41-2))) | AH42: =IF(AG42="","",VLOOKUP(AG42,$Z$4:$AA$18,2,0)) | AI42: =IF(AND(AI41=2,B42=0),1,IF(AND(AI41=1,B42=0),1,IF(B42="","",IF(AND(I42=I40,B41=0),AI41+1,IF(AND(AI41>1,B42=0),AI41+1,IF(I42=I41,AI41+1,1)))))) -> 1 | AJ42: =IF(B42="","",IF(OR(AI41=1,AI41=2),"",IF(AI41>=3,AI41-2))) | AK42: =IF(AJ42="","",VLOOKUP(AJ42,$Z$4:$AA$18,2,0))
B43: =IF(Master!B43="","",Master!B43) -> 12 | C43: =IF(B43="","",VLOOKUP(B43,$AS$1:$AZ$38,6,0)) -> R | D43: =IF(L43="","",IF(L43>=1,"<--Win",IF(L43<0,"<--Bet",""))) -> <--Bet | F43: =IF(B43="","",VLOOKUP(B43,$AS$1:$AZ$38,8,0)) -> L | G43: =IF(O43="","",IF(O43>=1,"<--Win",IF(O43<0,"<--Bet",""))) | I43: =IF(B43="","",VLOOKUP(B43,$AS$1:$AZ$38,7,0)) -> E | J43: =IF(R43="","",IF(R43>=1,"<--Win",IF(R43<0,"<--Bet",""))) | L43: =IF(AND(AD43<>"",AD44<>""),-AE43,IF(AND(AD43>=1,AD44=""),AE43,"")) -> -1 | M43: =IF(L43<>"",SUM($L$6:L43),"") -> -9 | O43: =IF(AND(AG43<>"",AG44<>""),-AH43,IF(AND(AG43>=1,AG44=""),AH43,"")) | P43: =IF(O43<>"",SUM($O$6:O43),"") | R43: =IF(AND(AJ43<>"",AJ44<>""),-AK43,IF(AND(AJ43>=1,AJ44=""),AK43,"")) | S43: =IF(R43<>"",SUM($R$6:R43),"") | U43: =IF(B43="",U42,SUM($L$7:L43)+SUM($O$7:O43)+SUM($R$7:R43)) -> -3 | AC43: =IF(AND(AC42=2,B43=0),1,IF(AND(AC42=1,B43=0),1,IF(B43="","",IF(AND(C43=C41,B42=0),AC42+1,IF(AND(AC42>1,B43=0),AC42+1,IF(C43=C42,AC42+1,1)))))) -> 4 | AD43: =IF(B43="","",IF(OR(AC42=1,AC42=2),"",IF(AC42>=3,AC42-2))) -> 1 | AE43: =IF(AD43="","",VLOOKUP(AD43,$Z$4:$AA$18,2,0)) -> 1 | AF43: =IF(AND(AF42=2,B43=0),1,IF(AND(AF42=1,B43=0),1,IF(B43="","",IF(AND(F43=F41,B42=0),AF42+1,IF(AND(AF42>1,B43=0),AF42+1,IF(F43=F42,AF42+1,1)))))) -> 3 | AG43: =IF(B43="","",IF(OR(AF42=1,AF42=2),"",IF(AF42>=3,AF42-2))) | AH43: =IF(AG43="","",VLOOKUP(AG43,$Z$4:$AA$18,2,0)) | AI43: =IF(AND(AI42=2,B43=0),1,IF(AND(AI42=1,B43=0),1,IF(B43="","",IF(AND(I43=I41,B42=0),AI42+1,IF(AND(AI42>1,B43=0),AI42+1,IF(I43=I42,AI42+1,1)))))) -> 2 | AJ43: =IF(B43="","",IF(OR(AI42=1,AI42=2),"",IF(AI42>=3,AI42-2))) | AK43: =IF(AJ43="","",VLOOKUP(AJ43,$Z$4:$AA$18,2,0))
B44: =IF(Master!B44="","",Master!B44) -> 11 | C44: =IF(B44="","",VLOOKUP(B44,$AS$1:$AZ$38,6,0)) -> B | D44: =IF(L44="","",IF(L44>=1,"<--Win",IF(L44<0,"<--Bet",""))) -> <--Win | F44: =IF(B44="","",VLOOKUP(B44,$AS$1:$AZ$38,8,0)) -> L | G44: =IF(O44="","",IF(O44>=1,"<--Win",IF(O44<0,"<--Bet",""))) -> <--Bet | I44: =IF(B44="","",VLOOKUP(B44,$AS$1:$AZ$38,7,0)) -> O | J44: =IF(R44="","",IF(R44>=1,"<--Win",IF(R44<0,"<--Bet",""))) | L44: =IF(AND(AD44<>"",AD45<>""),-AE44,IF(AND(AD44>=1,AD45=""),AE44,"")) -> 1 | M44: =IF(L44<>"",SUM($L$6:L44),"") -> -8 | O44: =IF(AND(AG44<>"",AG45<>""),-AH44,IF(AND(AG44>=1,AG45=""),AH44,"")) -> -1 | P44: =IF(O44<>"",SUM($O$6:O44),"") -> 2 | R44: =IF(AND(AJ44<>"",AJ45<>""),-AK44,IF(AND(AJ44>=1,AJ45=""),AK44,"")) | S44: =IF(R44<>"",SUM($R$6:R44),"") | U44: =IF(B44="",U43,SUM($L$7:L44)+SUM($O$7:O44)+SUM($R$7:R44)) -> -3 | AC44: =IF(AND(AC43=2,B44=0),1,IF(AND(AC43=1,B44=0),1,IF(B44="","",IF(AND(C44=C42,B43=0),AC43+1,IF(AND(AC43>1,B44=0),AC43+1,IF(C44=C43,AC43+1,1)))))) -> 1 | AD44: =IF(B44="","",IF(OR(AC43=1,AC43=2),"",IF(AC43>=3,AC43-2))) -> 2 | AE44: =IF(AD44="","",VLOOKUP(AD44,$Z$4:$AA$18,2,0)) -> 1 | AF44: =IF(AND(AF43=2,B44=0),1,IF(AND(AF43=1,B44=0),1,IF(B44="","",IF(AND(F44=F42,B43=0),AF43+1,IF(AND(AF43>1,B44=0),AF43+1,IF(F44=F43,AF43+1,1)))))) -> 4 | AG44: =IF(B44="","",IF(OR(AF43=1,AF43=2),"",IF(AF43>=3,AF43-2))) -> 1 | AH44: =IF(AG44="","",VLOOKUP(AG44,$Z$4:$AA$18,2,0)) -> 1 | AI44: =IF(AND(AI43=2,B44=0),1,IF(AND(AI43=1,B44=0),1,IF(B44="","",IF(AND(I44=I42,B43=0),AI43+1,IF(AND(AI43>1,B44=0),AI43+1,IF(I44=I43,AI43+1,1)))))) -> 1 | AJ44: =IF(B44="","",IF(OR(AI43=1,AI43=2),"",IF(AI43>=3,AI43-2))) | AK44: =IF(AJ44="","",VLOOKUP(AJ44,$Z$4:$AA$18,2,0))
B45: =IF(Master!B45="","",Master!B45) -> 35 | C45: =IF(B45="","",VLOOKUP(B45,$AS$1:$AZ$38,6,0)) -> B | D45: =IF(L45="","",IF(L45>=1,"<--Win",IF(L45<0,"<--Bet",""))) | F45: =IF(B45="","",VLOOKUP(B45,$AS$1:$AZ$38,8,0)) -> H | G45: =IF(O45="","",IF(O45>=1,"<--Win",IF(O45<0,"<--Bet",""))) -> <--Win | I45: =IF(B45="","",VLOOKUP(B45,$AS$1:$AZ$38,7,0)) -> O | J45: =IF(R45="","",IF(R45>=1,"<--Win",IF(R45<0,"<--Bet",""))) | L45: =IF(AND(AD45<>"",AD46<>""),-AE45,IF(AND(AD45>=1,AD46=""),AE45,"")) | M45: =IF(L45<>"",SUM($L$6:L45),"") | O45: =IF(AND(AG45<>"",AG46<>""),-AH45,IF(AND(AG45>=1,AG46=""),AH45,"")) -> 1 | P45: =IF(O45<>"",SUM($O$6:O45),"") -> 3 | R45: =IF(AND(AJ45<>"",AJ46<>""),-AK45,IF(AND(AJ45>=1,AJ46=""),AK45,"")) | S45: =IF(R45<>"",SUM($R$6:R45),"") | U45: =IF(B45="",U44,SUM($L$7:L45)+SUM($O$7:O45)+SUM($R$7:R45)) -> -2 | AC45: =IF(AND(AC44=2,B45=0),1,IF(AND(AC44=1,B45=0),1,IF(B45="","",IF(AND(C45=C43,B44=0),AC44+1,IF(AND(AC44>1,B45=0),AC44+1,IF(C45=C44,AC44+1,1)))))) -> 2 | AD45: =IF(B45="","",IF(OR(AC44=1,AC44=2),"",IF(AC44>=3,AC44-2))) | AE45: =IF(AD45="","",VLOOKUP(AD45,$Z$4:$AA$18,2,0)) | AF45: =IF(AND(AF44=2,B45=0),1,IF(AND(AF44=1,B45=0),1,IF(B45="","",IF(AND(F45=F43,B44=0),AF44+1,IF(AND(AF44>1,B45=0),AF44+1,IF(F45=F44,AF44+1,1)))))) -> 1 | AG45: =IF(B45="","",IF(OR(AF44=1,AF44=2),"",IF(AF44>=3,AF44-2))) -> 2 | AH45: =IF(AG45="","",VLOOKUP(AG45,$Z$4:$AA$18,2,0)) -> 1 | AI45: =IF(AND(AI44=2,B45=0),1,IF(AND(AI44=1,B45=0),1,IF(B45="","",IF(AND(I45=I43,B44=0),AI44+1,IF(AND(AI44>1,B45=0),AI44+1,IF(I45=I44,AI44+1,1)))))) -> 2 | AJ45: =IF(B45="","",IF(OR(AI44=1,AI44=2),"",IF(AI44>=3,AI44-2))) | AK45: =IF(AJ45="","",VLOOKUP(AJ45,$Z$4:$AA$18,2,0))
B46: =IF(Master!B46="","",Master!B46) -> 17 | C46: =IF(B46="","",VLOOKUP(B46,$AS$1:$AZ$38,6,0)) -> B | D46: =IF(L46="","",IF(L46>=1,"<--Win",IF(L46<0,"<--Bet",""))) | F46: =IF(B46="","",VLOOKUP(B46,$AS$1:$AZ$38,8,0)) -> L | G46: =IF(O46="","",IF(O46>=1,"<--Win",IF(O46<0,"<--Bet",""))) | I46: =IF(B46="","",VLOOKUP(B46,$AS$1:$AZ$38,7,0)) -> O | J46: =IF(R46="","",IF(R46>=1,"<--Win",IF(R46<0,"<--Bet",""))) | L46: =IF(AND(AD46<>"",AD47<>""),-AE46,IF(AND(AD46>=1,AD47=""),AE46,"")) | M46: =IF(L46<>"",SUM($L$6:L46),"") | O46: =IF(AND(AG46<>"",AG47<>""),-AH46,IF(AND(AG46>=1,AG47=""),AH46,"")) | P46: =IF(O46<>"",SUM($O$6:O46),"") | R46: =IF(AND(AJ46<>"",AJ47<>""),-AK46,IF(AND(AJ46>=1,AJ47=""),AK46,"")) | S46: =IF(R46<>"",SUM($R$6:R46),"") | U46: =IF(B46="",U45,SUM($L$7:L46)+SUM($O$7:O46)+SUM($R$7:R46)) -> -2 | AC46: =IF(AND(AC45=2,B46=0),1,IF(AND(AC45=1,B46=0),1,IF(B46="","",IF(AND(C46=C44,B45=0),AC45+1,IF(AND(AC45>1,B46=0),AC45+1,IF(C46=C45,AC45+1,1)))))) -> 3 | AD46: =IF(B46="","",IF(OR(AC45=1,AC45=2),"",IF(AC45>=3,AC45-2))) | AE46: =IF(AD46="","",VLOOKUP(AD46,$Z$4:$AA$18,2,0)) | AF46: =IF(AND(AF45=2,B46=0),1,IF(AND(AF45=1,B46=0),1,IF(B46="","",IF(AND(F46=F44,B45=0),AF45+1,IF(AND(AF45>1,B46=0),AF45+1,IF(F46=F45,AF45+1,1)))))) -> 1 | AG46: =IF(B46="","",IF(OR(AF45=1,AF45=2),"",IF(AF45>=3,AF45-2))) | AH46: =IF(AG46="","",VLOOKUP(AG46,$Z$4:$AA$18,2,0)) | AI46: =IF(AND(AI45=2,B46=0),1,IF(AND(AI45=1,B46=0),1,IF(B46="","",IF(AND(I46=I44,B45=0),AI45+1,IF(AND(AI45>1,B46=0),AI45+1,IF(I46=I45,AI45+1,1)))))) -> 3 | AJ46: =IF(B46="","",IF(OR(AI45=1,AI45=2),"",IF(AI45>=3,AI45-2))) | AK46: =IF(AJ46="","",VLOOKUP(AJ46,$Z$4:$AA$18,2,0))
B47: =IF(Master!B47="","",Master!B47) -> 35 | C47: =IF(B47="","",VLOOKUP(B47,$AS$1:$AZ$38,6,0)) -> B | D47: =IF(L47="","",IF(L47>=1,"<--Win",IF(L47<0,"<--Bet",""))) -> <--Bet | F47: =IF(B47="","",VLOOKUP(B47,$AS$1:$AZ$38,8,0)) -> H | G47: =IF(O47="","",IF(O47>=1,"<--Win",IF(O47<0,"<--Bet",""))) | I47: =IF(B47="","",VLOOKUP(B47,$AS$1:$AZ$38,7,0)) -> O | J47: =IF(R47="","",IF(R47>=1,"<--Win",IF(R47<0,"<--Bet",""))) -> <--Bet | L47: =IF(AND(AD47<>"",AD48<>""),-AE47,IF(AND(AD47>=1,AD48=""),AE47,"")) -> -1 | M47: =IF(L47<>"",SUM($L$6:L47),"") -> -9 | O47: =IF(AND(AG47<>"",AG48<>""),-AH47,IF(AND(AG47>=1,AG48=""),AH47,"")) | P47: =IF(O47<>"",SUM($O$6:O47),"") | R47: =IF(AND(AJ47<>"",AJ48<>""),-AK47,IF(AND(AJ47>=1,AJ48=""),AK47,"")) -> -1 | S47: =IF(R47<>"",SUM($R$6:R47),"") -> 2 | U47: =IF(B47="",U46,SUM($L$7:L47)+SUM($O$7:O47)+SUM($R$7:R47)) -> -4 | AC47: =IF(AND(AC46=2,B47=0),1,IF(AND(AC46=1,B47=0),1,IF(B47="","",IF(AND(C47=C45,B46=0),AC46+1,IF(AND(AC46>1,B47=0),AC46+1,IF(C47=C46,AC46+1,1)))))) -> 4 | AD47: =IF(B47="","",IF(OR(AC46=1,AC46=2),"",IF(AC46>=3,AC46-2))) -> 1 | AE47: =IF(AD47="","",VLOOKUP(AD47,$Z$4:$AA$18,2,0)) -> 1 | AF47: =IF(AND(AF46=2,B47=0),1,IF(AND(AF46=1,B47=0),1,IF(B47="","",IF(AND(F47=F45,B46=0),AF46+1,IF(AND(AF46>1,B47=0),AF46+1,IF(F47=F46,AF46+1,1)))))) -> 1 | AG47: =IF(B47="","",IF(OR(AF46=1,AF46=2),"",IF(AF46>=3,AF46-2))) | AH47: =IF(AG47="","",VLOOKUP(AG47,$Z$4:$AA$18,2,0)) | AI47: =IF(AND(AI46=2,B47=0),1,IF(AND(AI46=1,B47=0),1,IF(B47="","",IF(AND(I47=I45,B46=0),AI46+1,IF(AND(AI46>1,B47=0),AI46+1,IF(I47=I46,AI46+1,1)))))) -> 4 | AJ47: =IF(B47="","",IF(OR(AI46=1,AI46=2),"",IF(AI46>=3,AI46-2))) -> 1 | AK47: =IF(AJ47="","",VLOOKUP(AJ47,$Z$4:$AA$18,2,0)) -> 1
B48: =IF(Master!B48="","",Master!B48) -> 16 | C48: =IF(B48="","",VLOOKUP(B48,$AS$1:$AZ$38,6,0)) -> R | D48: =IF(L48="","",IF(L48>=1,"<--Win",IF(L48<0,"<--Bet",""))) -> <--Win | F48: =IF(B48="","",VLOOKUP(B48,$AS$1:$AZ$38,8,0)) -> L | G48: =IF(O48="","",IF(O48>=1,"<--Win",IF(O48<0,"<--Bet",""))) | I48: =IF(B48="","",VLOOKUP(B48,$AS$1:$AZ$38,7,0)) -> E | J48: =IF(R48="","",IF(R48>=1,"<--Win",IF(R48<0,"<--Bet",""))) -> <--Win | L48: =IF(AND(AD48<>"",AD49<>""),-AE48,IF(AND(AD48>=1,AD49=""),AE48,"")) -> 1 | M48: =IF(L48<>"",SUM($L$6:L48),"") -> -8 | O48: =IF(AND(AG48<>"",AG49<>""),-AH48,IF(AND(AG48>=1,AG49=""),AH48,"")) | P48: =IF(O48<>"",SUM($O$6:O48),"") | R48: =IF(AND(AJ48<>"",AJ49<>""),-AK48,IF(AND(AJ48>=1,AJ49=""),AK48,"")) -> 1 | S48: =IF(R48<>"",SUM($R$6:R48),"") -> 3 | U48: =IF(B48="",U47,SUM($L$7:L48)+SUM($O$7:O48)+SUM($R$7:R48)) -> -2 | AC48: =IF(AND(AC47=2,B48=0),1,IF(AND(AC47=1,B48=0),1,IF(B48="","",IF(AND(C48=C46,B47=0),AC47+1,IF(AND(AC47>1,B48=0),AC47+1,IF(C48=C47,AC47+1,1)))))) -> 1 | AD48: =IF(B48="","",IF(OR(AC47=1,AC47=2),"",IF(AC47>=3,AC47-2))) -> 2 | AE48: =IF(AD48="","",VLOOKUP(AD48,$Z$4:$AA$18,2,0)) -> 1 | AF48: =IF(AND(AF47=2,B48=0),1,IF(AND(AF47=1,B48=0),1,IF(B48="","",IF(AND(F48=F46,B47=0),AF47+1,IF(AND(AF47>1,B48=0),AF47+1,IF(F48=F47,AF47+1,1)))))) -> 1 | AG48: =IF(B48="","",IF(OR(AF47=1,AF47=2),"",IF(AF47>=3,AF47-2))) | AH48: =IF(AG48="","",VLOOKUP(AG48,$Z$4:$AA$18,2,0)) | AI48: =IF(AND(AI47=2,B48=0),1,IF(AND(AI47=1,B48=0),1,IF(B48="","",IF(AND(I48=I46,B47=0),AI47+1,IF(AND(AI47>1,B48=0),AI47+1,IF(I48=I47,AI47+1,1)))))) -> 1 | AJ48: =IF(B48="","",IF(OR(AI47=1,AI47=2),"",IF(AI47>=3,AI47-2))) -> 2 | AK48: =IF(AJ48="","",VLOOKUP(AJ48,$Z$4:$AA$18,2,0)) -> 1
B49: =IF(Master!B49="","",Master!B49) -> 36 | C49: =IF(B49="","",VLOOKUP(B49,$AS$1:$AZ$38,6,0)) -> R | D49: =IF(L49="","",IF(L49>=1,"<--Win",IF(L49<0,"<--Bet",""))) | F49: =IF(B49="","",VLOOKUP(B49,$AS$1:$AZ$38,8,0)) -> H | G49: =IF(O49="","",IF(O49>=1,"<--Win",IF(O49<0,"<--Bet",""))) | I49: =IF(B49="","",VLOOKUP(B49,$AS$1:$AZ$38,7,0)) -> E | J49: =IF(R49="","",IF(R49>=1,"<--Win",IF(R49<0,"<--Bet",""))) | L49: =IF(AND(AD49<>"",AD50<>""),-AE49,IF(AND(AD49>=1,AD50=""),AE49,"")) | M49: =IF(L49<>"",SUM($L$6:L49),"") | O49: =IF(AND(AG49<>"",AG50<>""),-AH49,IF(AND(AG49>=1,AG50=""),AH49,"")) | P49: =IF(O49<>"",SUM($O$6:O49),"") | R49: =IF(AND(AJ49<>"",AJ50<>""),-AK49,IF(AND(AJ49>=1,AJ50=""),AK49,"")) | S49: =IF(R49<>"",SUM($R$6:R49),"") | U49: =IF(B49="",U48,SUM($L$7:L49)+SUM($O$7:O49)+SUM($R$7:R49)) -> -2 | AC49: =IF(AND(AC48=2,B49=0),1,IF(AND(AC48=1,B49=0),1,IF(B49="","",IF(AND(C49=C47,B48=0),AC48+1,IF(AND(AC48>1,B49=0),AC48+1,IF(C49=C48,AC48+1,1)))))) -> 2 | AD49: =IF(B49="","",IF(OR(AC48=1,AC48=2),"",IF(AC48>=3,AC48-2))) | AE49: =IF(AD49="","",VLOOKUP(AD49,$Z$4:$AA$18,2,0)) | AF49: =IF(AND(AF48=2,B49=0),1,IF(AND(AF48=1,B49=0),1,IF(B49="","",IF(AND(F49=F47,B48=0),AF48+1,IF(AND(AF48>1,B49=0),AF48+1,IF(F49=F48,AF48+1,1)))))) -> 1 | AG49: =IF(B49="","",IF(OR(AF48=1,AF48=2),"",IF(AF48>=3,AF48-2))) | AH49: =IF(AG49="","",VLOOKUP(AG49,$Z$4:$AA$18,2,0)) | AI49: =IF(AND(AI48=2,B49=0),1,IF(AND(AI48=1,B49=0),1,IF(B49="","",IF(AND(I49=I47,B48=0),AI48+1,IF(AND(AI48>1,B49=0),AI48+1,IF(I49=I48,AI48+1,1)))))) -> 2 | AJ49: =IF(B49="","",IF(OR(AI48=1,AI48=2),"",IF(AI48>=3,AI48-2))) | AK49: =IF(AJ49="","",VLOOKUP(AJ49,$Z$4:$AA$18,2,0))
B50: =IF(Master!B50="","",Master!B50) -> 24 | C50: =IF(B50="","",VLOOKUP(B50,$AS$1:$AZ$38,6,0)) -> B | D50: =IF(L50="","",IF(L50>=1,"<--Win",IF(L50<0,"<--Bet",""))) | F50: =IF(B50="","",VLOOKUP(B50,$AS$1:$AZ$38,8,0)) -> H | G50: =IF(O50="","",IF(O50>=1,"<--Win",IF(O50<0,"<--Bet",""))) | I50: =IF(B50="","",VLOOKUP(B50,$AS$1:$AZ$38,7,0)) -> E | J50: =IF(R50="","",IF(R50>=1,"<--Win",IF(R50<0,"<--Bet",""))) | L50: =IF(AND(AD50<>"",AD51<>""),-AE50,IF(AND(AD50>=1,AD51=""),AE50,"")) | M50: =IF(L50<>"",SUM($L$6:L50),"") | O50: =IF(AND(AG50<>"",AG51<>""),-AH50,IF(AND(AG50>=1,AG51=""),AH50,"")) | P50: =IF(O50<>"",SUM($O$6:O50),"") | R50: =IF(AND(AJ50<>"",AJ51<>""),-AK50,IF(AND(AJ50>=1,AJ51=""),AK50,"")) | S50: =IF(R50<>"",SUM($R$6:R50),"") | U50: =IF(B50="",U49,SUM($L$7:L50)+SUM($O$7:O50)+SUM($R$7:R50)) -> -2 | AC50: =IF(AND(AC49=2,B50=0),1,IF(AND(AC49=1,B50=0),1,IF(B50="","",IF(AND(C50=C48,B49=0),AC49+1,IF(AND(AC49>1,B50=0),AC49+1,IF(C50=C49,AC49+1,1)))))) -> 1 | AD50: =IF(B50="","",IF(OR(AC49=1,AC49=2),"",IF(AC49>=3,AC49-2))) | AE50: =IF(AD50="","",VLOOKUP(AD50,$Z$4:$AA$18,2,0)) | AF50: =IF(AND(AF49=2,B50=0),1,IF(AND(AF49=1,B50=0),1,IF(B50="","",IF(AND(F50=F48,B49=0),AF49+1,IF(AND(AF49>1,B50=0),AF49+1,IF(F50=F49,AF49+1,1)))))) -> 2 | AG50: =IF(B50="","",IF(OR(AF49=1,AF49=2),"",IF(AF49>=3,AF49-2))) | AH50: =IF(AG50="","",VLOOKUP(AG50,$Z$4:$AA$18,2,0)) | AI50: =IF(AND(AI49=2,B50=0),1,IF(AND(AI49=1,B50=0),1,IF(B50="","",IF(AND(I50=I48,B49=0),AI49+1,IF(AND(AI49>1,B50=0),AI49+1,IF(I50=I49,AI49+1,1)))))) -> 3 | AJ50: =IF(B50="","",IF(OR(AI49=1,AI49=2),"",IF(AI49>=3,AI49-2))) | AK50: =IF(AJ50="","",VLOOKUP(AJ50,$Z$4:$AA$18,2,0))
... B826: =IF(Master!B826="","",Master!B826) | C826: =IF(B826="","",VLOOKUP(B826,$AS$1:$AZ$38,6,0)) | D826: =IF(L826="","",IF(L826>=1,"<--Win",IF(L826<0,"<--Bet",""))) | F826: =IF(B826="","",VLOOKUP(B826,$AS$1:$AZ$38,8,0)) | G826: =IF(O826="","",IF(O826>=1,"<--Win",IF(O826<0,"<--Bet",""))) | I826: =IF(B826="","",VLOOKUP(B826,$AS$1:$AZ$38,7,0)) | J826: =IF(R826="","",IF(R826>=1,"<--Win",IF(R826<0,"<--Bet",""))) | L826: =IF(AND(AD826<>"",AD827<>""),-AE826,IF(AND(AD826>=1,AD827=""),AE826,"")) | M826: =IF(L826<>"",SUM($L$6:L826),"") | O826: =IF(AND(AG826<>"",AG827<>""),-AH826,IF(AND(AG826>=1,AG827=""),AH826,"")) | P826: =IF(O826<>"",SUM($O$6:O826),"") | R826: =IF(AND(AJ826<>"",AJ827<>""),-AK826,IF(AND(AJ826>=1,AJ827=""),AK826,"")) | S826: =IF(R826<>"",SUM($R$6:R826),"") | U826: =IF(B826="",U825,SUM($L$7:L826)+SUM($O$7:O826)+SUM($R$7:R826)) -> 60 | AC826: =IF(AND(AC825=2,B826=0),1,IF(AND(AC825=1,B826=0),1,IF(B826="","",IF(AND(C826=C824,B825=0),AC825+1,IF(AND(AC825>1,B826=0),AC825+1,IF(C826=C825,AC825+1,1)))))) | AD826: =IF(B826="","",IF(OR(AC825=1,AC825=2),"",IF(AC825>=3,AC825-2))) | AE826: =IF(AD826="","",VLOOKUP(AD826,$Z$4:$AA$18,2,0)) | AF826: =IF(AND(AF825=2,B826=0),1,IF(AND(AF825=1,B826=0),1,IF(B826="","",IF(AND(F826=F824,B825=0),AF825+1,IF(AND(AF825>1,B826=0),AF825+1,IF(F826=F825,AF825+1,1)))))) | AG826: =IF(B826="","",IF(OR(AF825=1,AF825=2),"",IF(AF825>=3,AF825-2))) | AH826: =IF(AG826="","",VLOOKUP(AG826,$Z$4:$AA$18,2,0)) | AI826: =IF(AND(AI825=2,B826=0),1,IF(AND(AI825=1,B826=0),1,IF(B826="","",IF(AND(I826=I824,B825=0),AI825+1,IF(AND(AI825>1,B826=0),AI825+1,IF(I826=I825,AI825+1,1)))))) | AJ826: =IF(B826="","",IF(OR(AI825=1,AI825=2),"",IF(AI825>=3,AI825-2))) | AK826: =IF(AJ826="","",VLOOKUP(AJ826,$Z$4:$AA$18,2,0))
B827: =IF(Master!B827="","",Master!B827) | C827: =IF(B827="","",VLOOKUP(B827,$AS$1:$AZ$38,6,0)) | D827: =IF(L827="","",IF(L827>=1,"<--Win",IF(L827<0,"<--Bet",""))) | F827: =IF(B827="","",VLOOKUP(B827,$AS$1:$AZ$38,8,0)) | G827: =IF(O827="","",IF(O827>=1,"<--Win",IF(O827<0,"<--Bet",""))) | I827: =IF(B827="","",VLOOKUP(B827,$AS$1:$AZ$38,7,0)) | J827: =IF(R827="","",IF(R827>=1,"<--Win",IF(R827<0,"<--Bet",""))) | L827: =IF(AND(AD827<>"",AD828<>""),-AE827,IF(AND(AD827>=1,AD828=""),AE827,"")) | M827: =IF(L827<>"",SUM($L$6:L827),"") | O827: =IF(AND(AG827<>"",AG828<>""),-AH827,IF(AND(AG827>=1,AG828=""),AH827,"")) | P827: =IF(O827<>"",SUM($O$6:O827),"") | S827: =IF(R827<>"",SUM($R$6:R827),"") | U827: =IF(B827="",U826,SUM($L$7:L827)+SUM($O$7:O827)+SUM($R$7:R827)) -> 60 | AC827: =IF(AND(AC826=2,B827=0),1,IF(AND(AC826=1,B827=0),1,IF(B827="","",IF(AND(C827=C825,B826=0),AC826+1,IF(AND(AC826>1,B827=0),AC826+1,IF(C827=C826,AC826+1,1)))))) | AD827: =IF(B827="","",IF(OR(AC826=1,AC826=2),"",IF(AC826>=3,AC826-2))) | AE827: =IF(AD827="","",VLOOKUP(AD827,$Z$4:$AA$18,2,0)) | AF827: =IF(AND(AF826=2,B827=0),1,IF(AND(AF826=1,B827=0),1,IF(B827="","",IF(AND(F827=F825,B826=0),AF826+1,IF(AND(AF826>1,B827=0),AF826+1,IF(F827=F826,AF826+1,1)))))) | AG827: =IF(B827="","",IF(OR(AF826=1,AF826=2),"",IF(AF826>=3,AF826-2))) | AH827: =IF(AG827="","",VLOOKUP(AG827,$Z$4:$AA$18,2,0)) | AI827: =IF(AND(AI826=2,B827=0),1,IF(AND(AI826=1,B827=0),1,IF(B827="","",IF(AND(I827=I825,B826=0),AI826+1,IF(AND(AI826>1,B827=0),AI826+1,IF(I827=I826,AI826+1,1)))))) | AJ827: =IF(B827="","",IF(OR(AI826=1,AI826=2),"",IF(AI826>=3,AI826-2))) | AK827: =IF(AJ827="","",VLOOKUP(AJ827,$Z$4:$AA$18,2,0))
B828: =IF(Master!B828="","",Master!B828) | C828: =IF(B828="","",VLOOKUP(B828,$AS$1:$AZ$38,6,0)) | D828: =IF(L828="","",IF(L828>=1,"<--Win",IF(L828<0,"<--Bet",""))) | F828: =IF(B828="","",VLOOKUP(B828,$AS$1:$AZ$38,8,0)) | G828: =IF(O828="","",IF(O828>=1,"<--Win",IF(O828<0,"<--Bet",""))) | I828: =IF(B828="","",VLOOKUP(B828,$AS$1:$AZ$38,7,0)) | J828: =IF(R828="","",IF(R828>=1,"<--Win",IF(R828<0,"<--Bet",""))) | L828: =IF(AND(AD828<>"",AD829<>""),-AE828,IF(AND(AD828>=1,AD829=""),AE828,"")) | M828: =IF(L828<>"",SUM($L$6:L828),"") | O828: =IF(AND(AG828<>"",AG829<>""),-AH828,IF(AND(AG828>=1,AG829=""),AH828,"")) | P828: =IF(O828<>"",SUM($O$6:O828),"") | R828: =IF(AND(AJ828<>"",AJ829<>""),-AK828,IF(AND(AJ828>=1,AJ829=""),AK828,"")) | S828: =IF(R828<>"",SUM($R$6:R828),"") | U828: =IF(B828="",U827,SUM($L$7:L828)+SUM($O$7:O828)+SUM($R$7:R828)) -> 60 | AC828: =IF(AND(AC827=2,B828=0),1,IF(AND(AC827=1,B828=0),1,IF(B828="","",IF(AND(C828=C826,B827=0),AC827+1,IF(AND(AC827>1,B828=0),AC827+1,IF(C828=C827,AC827+1,1)))))) | AD828: =IF(B828="","",IF(OR(AC827=1,AC827=2),"",IF(AC827>=3,AC827-2))) | AE828: =IF(AD828="","",VLOOKUP(AD828,$Z$4:$AA$18,2,0)) | AF828: =IF(AND(AF827=2,B828=0),1,IF(AND(AF827=1,B828=0),1,IF(B828="","",IF(AND(F828=F826,B827=0),AF827+1,IF(AND(AF827>1,B828=0),AF827+1,IF(F828=F827,AF827+1,1)))))) | AG828: =IF(B828="","",IF(OR(AF827=1,AF827=2),"",IF(AF827>=3,AF827-2))) | AH828: =IF(AG828="","",VLOOKUP(AG828,$Z$4:$AA$18,2,0)) | AI828: =IF(AND(AI827=2,B828=0),1,IF(AND(AI827=1,B828=0),1,IF(B828="","",IF(AND(I828=I826,B827=0),AI827+1,IF(AND(AI827>1,B828=0),AI827+1,IF(I828=I827,AI827+1,1)))))) | AJ828: =IF(B828="","",IF(OR(AI827=1,AI827=2),"",IF(AI827>=3,AI827-2))) | AK828: =IF(AJ828="","",VLOOKUP(AJ828,$Z$4:$AA$18,2,0))
B829: =IF(Master!B829="","",Master!B829) | C829: =IF(B829="","",VLOOKUP(B829,$AS$1:$AZ$38,6,0)) | D829: =IF(L829="","",IF(L829>=1,"<--Win",IF(L829<0,"<--Bet",""))) | F829: =IF(B829="","",VLOOKUP(B829,$AS$1:$AZ$38,8,0)) | G829: =IF(O829="","",IF(O829>=1,"<--Win",IF(O829<0,"<--Bet",""))) | I829: =IF(B829="","",VLOOKUP(B829,$AS$1:$AZ$38,7,0)) | J829: =IF(R829="","",IF(R829>=1,"<--Win",IF(R829<0,"<--Bet",""))) | L829: =IF(AND(AD829<>"",AD830<>""),-AE829,IF(AND(AD829>=1,AD830=""),AE829,"")) | M829: =IF(L829<>"",SUM($L$6:L829),"") | O829: =IF(AND(AG829<>"",AG830<>""),-AH829,IF(AND(AG829>=1,AG830=""),AH829,"")) | P829: =IF(O829<>"",SUM($O$6:O829),"") | R829: =IF(AND(AJ829<>"",AJ830<>""),-AK829,IF(AND(AJ829>=1,AJ830=""),AK829,"")) | S829: =IF(R829<>"",SUM($R$6:R829),"") | U829: =IF(B829="",U828,SUM($L$7:L829)+SUM($O$7:O829)+SUM($R$7:R829)) -> 60 | AC829: =IF(AND(AC828=2,B829=0),1,IF(AND(AC828=1,B829=0),1,IF(B829="","",IF(AND(C829=C827,B828=0),AC828+1,IF(AND(AC828>1,B829=0),AC828+1,IF(C829=C828,AC828+1,1)))))) | AD829: =IF(B829="","",IF(OR(AC828=1,AC828=2),"",IF(AC828>=3,AC828-2))) | AE829: =IF(AD829="","",VLOOKUP(AD829,$Z$4:$AA$18,2,0)) | AF829: =IF(AND(AF828=2,B829=0),1,IF(AND(AF828=1,B829=0),1,IF(B829="","",IF(AND(F829=F827,B828=0),AF828+1,IF(AND(AF828>1,B829=0),AF828+1,IF(F829=F828,AF828+1,1)))))) | AG829: =IF(B829="","",IF(OR(AF828=1,AF828=2),"",IF(AF828>=3,AF828-2))) | AH829: =IF(AG829="","",VLOOKUP(AG829,$Z$4:$AA$18,2,0)) | AI829: =IF(AND(AI828=2,B829=0),1,IF(AND(AI828=1,B829=0),1,IF(B829="","",IF(AND(I829=I827,B828=0),AI828+1,IF(AND(AI828>1,B829=0),AI828+1,IF(I829=I828,AI828+1,1)))))) | AJ829: =IF(B829="","",IF(OR(AI828=1,AI828=2),"",IF(AI828>=3,AI828-2))) | AK829: =IF(AJ829="","",VLOOKUP(AJ829,$Z$4:$AA$18,2,0))
B830: =IF(Master!B830="","",Master!B830) | C830: =IF(B830="","",VLOOKUP(B830,$AS$1:$AZ$38,6,0)) | D830: =IF(L830="","",IF(L830>=1,"<--Win",IF(L830<0,"<--Bet",""))) | F830: =IF(B830="","",VLOOKUP(B830,$AS$1:$AZ$38,8,0)) | G830: =IF(O830="","",IF(O830>=1,"<--Win",IF(O830<0,"<--Bet",""))) | I830: =IF(B830="","",VLOOKUP(B830,$AS$1:$AZ$38,7,0)) | J830: =IF(R830="","",IF(R830>=1,"<--Win",IF(R830<0,"<--Bet",""))) | L830: =IF(AND(AD830<>"",AD831<>""),-AE830,IF(AND(AD830>=1,AD831=""),AE830,"")) | M830: =IF(L830<>"",SUM($L$6:L830),"") | O830: =IF(AND(AG830<>"",AG831<>""),-AH830,IF(AND(AG830>=1,AG831=""),AH830,"")) | P830: =IF(O830<>"",SUM($O$6:O830),"") | R830: =IF(AND(AJ830<>"",AJ831<>""),-AK830,IF(AND(AJ830>=1,AJ831=""),AK830,"")) | S830: =IF(R830<>"",SUM($R$6:R830),"") | U830: =IF(B830="",U829,SUM($L$7:L830)+SUM($O$7:O830)+SUM($R$7:R830)) -> 60 | AC830: =IF(AND(AC829=2,B830=0),1,IF(AND(AC829=1,B830=0),1,IF(B830="","",IF(AND(C830=C828,B829=0),AC829+1,IF(AND(AC829>1,B830=0),AC829+1,IF(C830=C829,AC829+1,1)))))) | AD830: =IF(B830="","",IF(OR(AC829=1,AC829=2),"",IF(AC829>=3,AC829-2))) | AE830: =IF(AD830="","",VLOOKUP(AD830,$Z$4:$AA$18,2,0)) | AF830: =IF(AND(AF829=2,B830=0),1,IF(AND(AF829=1,B830=0),1,IF(B830="","",IF(AND(F830=F828,B829=0),AF829+1,IF(AND(AF829>1,B830=0),AF829+1,IF(F830=F829,AF829+1,1)))))) | AG830: =IF(B830="","",IF(OR(AF829=1,AF829=2),"",IF(AF829>=3,AF829-2))) | AH830: =IF(AG830="","",VLOOKUP(AG830,$Z$4:$AA$18,2,0)) | AI830: =IF(AND(AI829=2,B830=0),1,IF(AND(AI829=1,B830=0),1,IF(B830="","",IF(AND(I830=I828,B829=0),AI829+1,IF(AND(AI829>1,B830=0),AI829+1,IF(I830=I829,AI829+1,1)))))) | AJ830: =IF(B830="","",IF(OR(AI829=1,AI829=2),"",IF(AI829>=3,AI829-2))) | AK830: =IF(AJ830="","",VLOOKUP(AJ830,$Z$4:$AA$18,2,0))
B831: =IF(Master!B831="","",Master!B831) | C831: =IF(B831="","",VLOOKUP(B831,$AS$1:$AZ$38,6,0)) | D831: =IF(L831="","",IF(L831>=1,"<--Win",IF(L831<0,"<--Bet",""))) | F831: =IF(B831="","",VLOOKUP(B831,$AS$1:$AZ$38,8,0)) | G831: =IF(O831="","",IF(O831>=1,"<--Win",IF(O831<0,"<--Bet",""))) | I831: =IF(B831="","",VLOOKUP(B831,$AS$1:$AZ$38,7,0)) | J831: =IF(R831="","",IF(R831>=1,"<--Win",IF(R831<0,"<--Bet",""))) | L831: =IF(AND(AD831<>"",AD832<>""),-AE831,IF(AND(AD831>=1,AD832=""),AE831,"")) | M831: =IF(L831<>"",SUM($L$6:L831),"") | O831: =IF(AND(AG831<>"",AG832<>""),-AH831,IF(AND(AG831>=1,AG832=""),AH831,"")) | P831: =IF(O831<>"",SUM($O$6:O831),"") | R831: =IF(AND(AJ831<>"",AJ832<>""),-AK831,IF(AND(AJ831>=1,AJ832=""),AK831,"")) | S831: =IF(R831<>"",SUM($R$6:R831),"") | U831: =IF(B831="",U830,SUM($L$7:L831)+SUM($O$7:O831)+SUM($R$7:R831)) -> 60 | AC831: =IF(AND(AC830=2,B831=0),1,IF(AND(AC830=1,B831=0),1,IF(B831="","",IF(AND(C831=C829,B830=0),AC830+1,IF(AND(AC830>1,B831=0),AC830+1,IF(C831=C830,AC830+1,1)))))) | AD831: =IF(B831="","",IF(OR(AC830=1,AC830=2),"",IF(AC830>=3,AC830-2))) | AE831: =IF(AD831="","",VLOOKUP(AD831,$Z$4:$AA$18,2,0)) | AF831: =IF(AND(AF830=2,B831=0),1,IF(AND(AF830=1,B831=0),1,IF(B831="","",IF(AND(F831=F829,B830=0),AF830+1,IF(AND(AF830>1,B831=0),AF830+1,IF(F831=F830,AF830+1,1)))))) | AG831: =IF(B831="","",IF(OR(AF830=1,AF830=2),"",IF(AF830>=3,AF830-2))) | AH831: =IF(AG831="","",VLOOKUP(AG831,$Z$4:$AA$18,2,0)) | AI831: =IF(AND(AI830=2,B831=0),1,IF(AND(AI830=1,B831=0),1,IF(B831="","",IF(AND(I831=I829,B830=0),AI830+1,IF(AND(AI830>1,B831=0),AI830+1,IF(I831=I830,AI830+1,1)))))) | AJ831: =IF(B831="","",IF(OR(AI830=1,AI830=2),"",IF(AI830>=3,AI830-2))) | AK831: =IF(AJ831="","",VLOOKUP(AJ831,$Z$4:$AA$18,2,0))
B832: =IF(Master!B832="","",Master!B832) | C832: =IF(B832="","",VLOOKUP(B832,$AS$1:$AZ$38,6,0)) | D832: =IF(L832="","",IF(L832>=1,"<--Win",IF(L832<0,"<--Bet",""))) | F832: =IF(B832="","",VLOOKUP(B832,$AS$1:$AZ$38,8,0)) | G832: =IF(O832="","",IF(O832>=1,"<--Win",IF(O832<0,"<--Bet",""))) | I832: =IF(B832="","",VLOOKUP(B832,$AS$1:$AZ$38,7,0)) | J832: =IF(R832="","",IF(R832>=1,"<--Win",IF(R832<0,"<--Bet",""))) | L832: =IF(AND(AD832<>"",AD833<>""),-AE832,IF(AND(AD832>=1,AD833=""),AE832,"")) | M832: =IF(L832<>"",SUM($L$6:L832),"") | O832: =IF(AND(AG832<>"",AG833<>""),-AH832,IF(AND(AG832>=1,AG833=""),AH832,"")) | P832: =IF(O832<>"",SUM($O$6:O832),"") | R832: =IF(AND(AJ832<>"",AJ833<>""),-AK832,IF(AND(AJ832>=1,AJ833=""),AK832,"")) | S832: =IF(R832<>"",SUM($R$6:R832),"") | U832: =IF(B832="",U831,SUM($L$7:L832)+SUM($O$7:O832)+SUM($R$7:R832)) -> 60 | AC832: =IF(AND(AC831=2,B832=0),1,IF(AND(AC831=1,B832=0),1,IF(B832="","",IF(AND(C832=C830,B831=0),AC831+1,IF(AND(AC831>1,B832=0),AC831+1,IF(C832=C831,AC831+1,1)))))) | AD832: =IF(B832="","",IF(OR(AC831=1,AC831=2),"",IF(AC831>=3,AC831-2))) | AE832: =IF(AD832="","",VLOOKUP(AD832,$Z$4:$AA$18,2,0)) | AF832: =IF(AND(AF831=2,B832=0),1,IF(AND(AF831=1,B832=0),1,IF(B832="","",IF(AND(F832=F830,B831=0),AF831+1,IF(AND(AF831>1,B832=0),AF831+1,IF(F832=F831,AF831+1,1)))))) | AG832: =IF(B832="","",IF(OR(AF831=1,AF831=2),"",IF(AF831>=3,AF831-2))) | AH832: =IF(AG832="","",VLOOKUP(AG832,$Z$4:$AA$18,2,0)) | AI832: =IF(AND(AI831=2,B832=0),1,IF(AND(AI831=1,B832=0),1,IF(B832="","",IF(AND(I832=I830,B831=0),AI831+1,IF(AND(AI831>1,B832=0),AI831+1,IF(I832=I831,AI831+1,1)))))) | AJ832: =IF(B832="","",IF(OR(AI831=1,AI831=2),"",IF(AI831>=3,AI831-2))) | AK832: =IF(AJ832="","",VLOOKUP(AJ832,$Z$4:$AA$18,2,0))
B833: =IF(Master!B833="","",Master!B833) | C833: =IF(B833="","",VLOOKUP(B833,$AS$1:$AZ$38,6,0)) | D833: =IF(L833="","",IF(L833>=1,"<--Win",IF(L833<0,"<--Bet",""))) | F833: =IF(B833="","",VLOOKUP(B833,$AS$1:$AZ$38,8,0)) | G833: =IF(O833="","",IF(O833>=1,"<--Win",IF(O833<0,"<--Bet",""))) | I833: =IF(B833="","",VLOOKUP(B833,$AS$1:$AZ$38,7,0)) | J833: =IF(R833="","",IF(R833>=1,"<--Win",IF(R833<0,"<--Bet",""))) | L833: =IF(AND(AD833<>"",AD834<>""),-AE833,IF(AND(AD833>=1,AD834=""),AE833,"")) | M833: =IF(L833<>"",SUM($L$6:L833),"") | O833: =IF(AND(AG833<>"",AG834<>""),-AH833,IF(AND(AG833>=1,AG834=""),AH833,"")) | P833: =IF(O833<>"",SUM($O$6:O833),"") | R833: =IF(AND(AJ833<>"",AJ834<>""),-AK833,IF(AND(AJ833>=1,AJ834=""),AK833,"")) | S833: =IF(R833<>"",SUM($R$6:R833),"") | U833: =IF(B833="",U832,SUM($L$7:L833)+SUM($O$7:O833)+SUM($R$7:R833)) -> 60 | AC833: =IF(AND(AC832=2,B833=0),1,IF(AND(AC832=1,B833=0),1,IF(B833="","",IF(AND(C833=C831,B832=0),AC832+1,IF(AND(AC832>1,B833=0),AC832+1,IF(C833=C832,AC832+1,1)))))) | AD833: =IF(B833="","",IF(OR(AC832=1,AC832=2),"",IF(AC832>=3,AC832-2))) | AE833: =IF(AD833="","",VLOOKUP(AD833,$Z$4:$AA$18,2,0)) | AF833: =IF(AND(AF832=2,B833=0),1,IF(AND(AF832=1,B833=0),1,IF(B833="","",IF(AND(F833=F831,B832=0),AF832+1,IF(AND(AF832>1,B833=0),AF832+1,IF(F833=F832,AF832+1,1)))))) | AG833: =IF(B833="","",IF(OR(AF832=1,AF832=2),"",IF(AF832>=3,AF832-2))) | AH833: =IF(AG833="","",VLOOKUP(AG833,$Z$4:$AA$18,2,0)) | AI833: =IF(AND(AI832=2,B833=0),1,IF(AND(AI832=1,B833=0),1,IF(B833="","",IF(AND(I833=I831,B832=0),AI832+1,IF(AND(AI832>1,B833=0),AI832+1,IF(I833=I832,AI832+1,1)))))) | AJ833: =IF(B833="","",IF(OR(AI832=1,AI832=2),"",IF(AI832>=3,AI832-2))) | AK833: =IF(AJ833="","",VLOOKUP(AJ833,$Z$4:$AA$18,2,0))
B834: =IF(Master!B834="","",Master!B834) | C834: =IF(B834="","",VLOOKUP(B834,$AS$1:$AZ$38,6,0)) | D834: =IF(L834="","",IF(L834>=1,"<--Win",IF(L834<0,"<--Bet",""))) | F834: =IF(B834="","",VLOOKUP(B834,$AS$1:$AZ$38,8,0)) | G834: =IF(O834="","",IF(O834>=1,"<--Win",IF(O834<0,"<--Bet",""))) | I834: =IF(B834="","",VLOOKUP(B834,$AS$1:$AZ$38,7,0)) | J834: =IF(R834="","",IF(R834>=1,"<--Win",IF(R834<0,"<--Bet",""))) | L834: =IF(AND(AD834<>"",AD835<>""),-AE834,IF(AND(AD834>=1,AD835=""),AE834,"")) | M834: =IF(L834<>"",SUM($L$6:L834),"") | O834: =IF(AND(AG834<>"",AG835<>""),-AH834,IF(AND(AG834>=1,AG835=""),AH834,"")) | P834: =IF(O834<>"",SUM($O$6:O834),"") | R834: =IF(AND(AJ834<>"",AJ835<>""),-AK834,IF(AND(AJ834>=1,AJ835=""),AK834,"")) | S834: =IF(R834<>"",SUM($R$6:R834),"") | U834: =IF(B834="",U833,SUM($L$7:L834)+SUM($O$7:O834)+SUM($R$7:R834)) -> 60 | AC834: =IF(AND(AC833=2,B834=0),1,IF(AND(AC833=1,B834=0),1,IF(B834="","",IF(AND(C834=C832,B833=0),AC833+1,IF(AND(AC833>1,B834=0),AC833+1,IF(C834=C833,AC833+1,1)))))) | AD834: =IF(B834="","",IF(OR(AC833=1,AC833=2),"",IF(AC833>=3,AC833-2))) | AE834: =IF(AD834="","",VLOOKUP(AD834,$Z$4:$AA$18,2,0)) | AF834: =IF(AND(AF833=2,B834=0),1,IF(AND(AF833=1,B834=0),1,IF(B834="","",IF(AND(F834=F832,B833=0),AF833+1,IF(AND(AF833>1,B834=0),AF833+1,IF(F834=F833,AF833+1,1)))))) | AG834: =IF(B834="","",IF(OR(AF833=1,AF833=2),"",IF(AF833>=3,AF833-2))) | AH834: =IF(AG834="","",VLOOKUP(AG834,$Z$4:$AA$18,2,0)) | AI834: =IF(AND(AI833=2,B834=0),1,IF(AND(AI833=1,B834=0),1,IF(B834="","",IF(AND(I834=I832,B833=0),AI833+1,IF(AND(AI833>1,B834=0),AI833+1,IF(I834=I833,AI833+1,1)))))) | AJ834: =IF(B834="","",IF(OR(AI833=1,AI833=2),"",IF(AI833>=3,AI833-2))) | AK834: =IF(AJ834="","",VLOOKUP(AJ834,$Z$4:$AA$18,2,0))
B835: =IF(Master!B835="","",Master!B835) | C835: =IF(B835="","",VLOOKUP(B835,$AS$1:$AZ$38,6,0)) | D835: =IF(L835="","",IF(L835>=1,"<--Win",IF(L835<0,"<--Bet",""))) | F835: =IF(B835="","",VLOOKUP(B835,$AS$1:$AZ$38,8,0)) | G835: =IF(O835="","",IF(O835>=1,"<--Win",IF(O835<0,"<--Bet",""))) | I835: =IF(B835="","",VLOOKUP(B835,$AS$1:$AZ$38,7,0)) | J835: =IF(R835="","",IF(R835>=1,"<--Win",IF(R835<0,"<--Bet",""))) | L835: =IF(AND(AD835<>"",AD836<>""),-AE835,IF(AND(AD835>=1,AD836=""),AE835,"")) | M835: =IF(L835<>"",SUM($L$6:L835),"") | O835: =IF(AND(AG835<>"",AG836<>""),-AH835,IF(AND(AG835>=1,AG836=""),AH835,"")) | P835: =IF(O835<>"",SUM($O$6:O835),"") | R835: =IF(AND(AJ835<>"",AJ836<>""),-AK835,IF(AND(AJ835>=1,AJ836=""),AK835,"")) | S835: =IF(R835<>"",SUM($R$6:R835),"") | U835: =IF(B835="",U834,SUM($L$7:L835)+SUM($O$7:O835)+SUM($R$7:R835)) -> 60 | AC835: =IF(AND(AC834=2,B835=0),1,IF(AND(AC834=1,B835=0),1,IF(B835="","",IF(AND(C835=C833,B834=0),AC834+1,IF(AND(AC834>1,B835=0),AC834+1,IF(C835=C834,AC834+1,1)))))) | AD835: =IF(B835="","",IF(OR(AC834=1,AC834=2),"",IF(AC834>=3,AC834-2))) | AE835: =IF(AD835="","",VLOOKUP(AD835,$Z$4:$AA$18,2,0)) | AF835: =IF(AND(AF834=2,B835=0),1,IF(AND(AF834=1,B835=0),1,IF(B835="","",IF(AND(F835=F833,B834=0),AF834+1,IF(AND(AF834>1,B835=0),AF834+1,IF(F835=F834,AF834+1,1)))))) | AG835: =IF(B835="","",IF(OR(AF834=1,AF834=2),"",IF(AF834>=3,AF834-2))) | AH835: =IF(AG835="","",VLOOKUP(AG835,$Z$4:$AA$18,2,0)) | AI835: =IF(AND(AI834=2,B835=0),1,IF(AND(AI834=1,B835=0),1,IF(B835="","",IF(AND(I835=I833,B834=0),AI834+1,IF(AND(AI834>1,B835=0),AI834+1,IF(I835=I834,AI834+1,1)))))) | AJ835: =IF(B835="","",IF(OR(AI834=1,AI834=2),"",IF(AI834>=3,AI834-2))) | AK835: =IF(AJ835="","",VLOOKUP(AJ835,$Z$4:$AA$18,2,0))
B836: =IF(Master!B836="","",Master!B836) | C836: =IF(B836="","",VLOOKUP(B836,$AS$1:$AZ$38,6,0)) | D836: =IF(L836="","",IF(L836>=1,"<--Win",IF(L836<0,"<--Bet",""))) | F836: =IF(B836="","",VLOOKUP(B836,$AS$1:$AZ$38,8,0)) | G836: =IF(O836="","",IF(O836>=1,"<--Win",IF(O836<0,"<--Bet",""))) | I836: =IF(B836="","",VLOOKUP(B836,$AS$1:$AZ$38,7,0)) | J836: =IF(R836="","",IF(R836>=1,"<--Win",IF(R836<0,"<--Bet",""))) | L836: =IF(AND(AD836<>"",AD837<>""),-AE836,IF(AND(AD836>=1,AD837=""),AE836,"")) | M836: =IF(L836<>"",SUM($L$6:L836),"") | O836: =IF(AND(AG836<>"",AG837<>""),-AH836,IF(AND(AG836>=1,AG837=""),AH836,"")) | P836: =IF(O836<>"",SUM($O$6:O836),"") | R836: =IF(AND(AJ836<>"",AJ837<>""),-AK836,IF(AND(AJ836>=1,AJ837=""),AK836,"")) | S836: =IF(R836<>"",SUM($R$6:R836),"") | U836: =IF(B836="",U835,SUM($L$7:L836)+SUM($O$7:O836)+SUM($R$7:R836)) -> 60 | AC836: =IF(AND(AC835=2,B836=0),1,IF(AND(AC835=1,B836=0),1,IF(B836="","",IF(AND(C836=C834,B835=0),AC835+1,IF(AND(AC835>1,B836=0),AC835+1,IF(C836=C835,AC835+1,1)))))) | AD836: =IF(B836="","",IF(OR(AC835=1,AC835=2),"",IF(AC835>=3,AC835-2))) | AE836: =IF(AD836="","",VLOOKUP(AD836,$Z$4:$AA$18,2,0)) | AF836: =IF(AND(AF835=2,B836=0),1,IF(AND(AF835=1,B836=0),1,IF(B836="","",IF(AND(F836=F834,B835=0),AF835+1,IF(AND(AF835>1,B836=0),AF835+1,IF(F836=F835,AF835+1,1)))))) | AG836: =IF(B836="","",IF(OR(AF835=1,AF835=2),"",IF(AF835>=3,AF835-2))) | AH836: =IF(AG836="","",VLOOKUP(AG836,$Z$4:$AA$18,2,0)) | AI836: =IF(AND(AI835=2,B836=0),1,IF(AND(AI835=1,B836=0),1,IF(B836="","",IF(AND(I836=I834,B835=0),AI835+1,IF(AND(AI835>1,B836=0),AI835+1,IF(I836=I835,AI835+1,1)))))) | AJ836: =IF(B836="","",IF(OR(AI835=1,AI835=2),"",IF(AI835>=3,AI835-2))) | AK836: =IF(AJ836="","",VLOOKUP(AJ836,$Z$4:$AA$18,2,0))
B837: =IF(Master!B837="","",Master!B837) | C837: =IF(B837="","",VLOOKUP(B837,$AS$1:$AZ$38,6,0)) | D837: =IF(L837="","",IF(L837>=1,"<--Win",IF(L837<0,"<--Bet",""))) | F837: =IF(B837="","",VLOOKUP(B837,$AS$1:$AZ$38,8,0)) | G837: =IF(O837="","",IF(O837>=1,"<--Win",IF(O837<0,"<--Bet",""))) | I837: =IF(B837="","",VLOOKUP(B837,$AS$1:$AZ$38,7,0)) | J837: =IF(R837="","",IF(R837>=1,"<--Win",IF(R837<0,"<--Bet",""))) | L837: =IF(AND(AD837<>"",AD838<>""),-AE837,IF(AND(AD837>=1,AD838=""),AE837,"")) | M837: =IF(L837<>"",SUM($L$6:L837),"") | O837: =IF(AND(AG837<>"",AG838<>""),-AH837,IF(AND(AG837>=1,AG838=""),AH837,"")) | P837: =IF(O837<>"",SUM($O$6:O837),"") | R837: =IF(AND(AJ837<>"",AJ838<>""),-AK837,IF(AND(AJ837>=1,AJ838=""),AK837,"")) | S837: =IF(R837<>"",SUM($R$6:R837),"") | U837: =IF(B837="",U836,SUM($L$7:L837)+SUM($O$7:O837)+SUM($R$7:R837)) -> 60 | AC837: =IF(AND(AC836=2,B837=0),1,IF(AND(AC836=1,B837=0),1,IF(B837="","",IF(AND(C837=C835,B836=0),AC836+1,IF(AND(AC836>1,B837=0),AC836+1,IF(C837=C836,AC836+1,1)))))) | AD837: =IF(B837="","",IF(OR(AC836=1,AC836=2),"",IF(AC836>=3,AC836-2))) | AE837: =IF(AD837="","",VLOOKUP(AD837,$Z$4:$AA$18,2,0)) | AF837: =IF(AND(AF836=2,B837=0),1,IF(AND(AF836=1,B837=0),1,IF(B837="","",IF(AND(F837=F835,B836=0),AF836+1,IF(AND(AF836>1,B837=0),AF836+1,IF(F837=F836,AF836+1,1)))))) | AG837: =IF(B837="","",IF(OR(AF836=1,AF836=2),"",IF(AF836>=3,AF836-2))) | AH837: =IF(AG837="","",VLOOKUP(AG837,$Z$4:$AA$18,2,0)) | AI837: =IF(AND(AI836=2,B837=0),1,IF(AND(AI836=1,B837=0),1,IF(B837="","",IF(AND(I837=I835,B836=0),AI836+1,IF(AND(AI836>1,B837=0),AI836+1,IF(I837=I836,AI836+1,1)))))) | AJ837: =IF(B837="","",IF(OR(AI836=1,AI836=2),"",IF(AI836>=3,AI836-2))) | AK837: =IF(AJ837="","",VLOOKUP(AJ837,$Z$4:$AA$18,2,0))
B838: =IF(Master!B838="","",Master!B838) | C838: =IF(B838="","",VLOOKUP(B838,$AS$1:$AZ$38,6,0)) | D838: =IF(L838="","",IF(L838>=1,"<--Win",IF(L838<0,"<--Bet",""))) | F838: =IF(B838="","",VLOOKUP(B838,$AS$1:$AZ$38,8,0)) | G838: =IF(O838="","",IF(O838>=1,"<--Win",IF(O838<0,"<--Bet",""))) | I838: =IF(B838="","",VLOOKUP(B838,$AS$1:$AZ$38,7,0)) | J838: =IF(R838="","",IF(R838>=1,"<--Win",IF(R838<0,"<--Bet",""))) | L838: =IF(AND(AD838<>"",AD839<>""),-AE838,IF(AND(AD838>=1,AD839=""),AE838,"")) | M838: =IF(L838<>"",SUM($L$6:L838),"") | O838: =IF(AND(AG838<>"",AG839<>""),-AH838,IF(AND(AG838>=1,AG839=""),AH838,"")) | P838: =IF(O838<>"",SUM($O$6:O838),"") | R838: =IF(AND(AJ838<>"",AJ839<>""),-AK838,IF(AND(AJ838>=1,AJ839=""),AK838,"")) | S838: =IF(R838<>"",SUM($R$6:R838),"") | U838: =IF(B838="",U837,SUM($L$7:L838)+SUM($O$7:O838)+SUM($R$7:R838)) -> 60 | AC838: =IF(AND(AC837=2,B838=0),1,IF(AND(AC837=1,B838=0),1,IF(B838="","",IF(AND(C838=C836,B837=0),AC837+1,IF(AND(AC837>1,B838=0),AC837+1,IF(C838=C837,AC837+1,1)))))) | AD838: =IF(B838="","",IF(OR(AC837=1,AC837=2),"",IF(AC837>=3,AC837-2))) | AE838: =IF(AD838="","",VLOOKUP(AD838,$Z$4:$AA$18,2,0)) | AF838: =IF(AND(AF837=2,B838=0),1,IF(AND(AF837=1,B838=0),1,IF(B838="","",IF(AND(F838=F836,B837=0),AF837+1,IF(AND(AF837>1,B838=0),AF837+1,IF(F838=F837,AF837+1,1)))))) | AG838: =IF(B838="","",IF(OR(AF837=1,AF837=2),"",IF(AF837>=3,AF837-2))) | AH838: =IF(AG838="","",VLOOKUP(AG838,$Z$4:$AA$18,2,0)) | AI838: =IF(AND(AI837=2,B838=0),1,IF(AND(AI837=1,B838=0),1,IF(B838="","",IF(AND(I838=I836,B837=0),AI837+1,IF(AND(AI837>1,B838=0),AI837+1,IF(I838=I837,AI837+1,1)))))) | AJ838: =IF(B838="","",IF(OR(AI837=1,AI837=2),"",IF(AI837>=3,AI837-2))) | AK838: =IF(AJ838="","",VLOOKUP(AJ838,$Z$4:$AA$18,2,0))
B839: =IF(Master!B839="","",Master!B839) | C839: =IF(B839="","",VLOOKUP(B839,$AS$1:$AZ$38,6,0)) | D839: =IF(L839="","",IF(L839>=1,"<--Win",IF(L839<0,"<--Bet",""))) | F839: =IF(B839="","",VLOOKUP(B839,$AS$1:$AZ$38,8,0)) | G839: =IF(O839="","",IF(O839>=1,"<--Win",IF(O839<0,"<--Bet",""))) | I839: =IF(B839="","",VLOOKUP(B839,$AS$1:$AZ$38,7,0)) | J839: =IF(R839="","",IF(R839>=1,"<--Win",IF(R839<0,"<--Bet",""))) | L839: =IF(AND(AD839<>"",AD840<>""),-AE839,IF(AND(AD839>=1,AD840=""),AE839,"")) | M839: =IF(L839<>"",SUM($L$6:L839),"") | O839: =IF(AND(AG839<>"",AG840<>""),-AH839,IF(AND(AG839>=1,AG840=""),AH839,"")) | P839: =IF(O839<>"",SUM($O$6:O839),"") | R839: =IF(AND(AJ839<>"",AJ840<>""),-AK839,IF(AND(AJ839>=1,AJ840=""),AK839,"")) | S839: =IF(R839<>"",SUM($R$6:R839),"") | U839: =IF(B839="",U838,SUM($L$7:L839)+SUM($O$7:O839)+SUM($R$7:R839)) -> 60 | AC839: =IF(AND(AC838=2,B839=0),1,IF(AND(AC838=1,B839=0),1,IF(B839="","",IF(AND(C839=C837,B838=0),AC838+1,IF(AND(AC838>1,B839=0),AC838+1,IF(C839=C838,AC838+1,1)))))) | AD839: =IF(B839="","",IF(OR(AC838=1,AC838=2),"",IF(AC838>=3,AC838-2))) | AE839: =IF(AD839="","",VLOOKUP(AD839,$Z$4:$AA$18,2,0)) | AF839: =IF(AND(AF838=2,B839=0),1,IF(AND(AF838=1,B839=0),1,IF(B839="","",IF(AND(F839=F837,B838=0),AF838+1,IF(AND(AF838>1,B839=0),AF838+1,IF(F839=F838,AF838+1,1)))))) | AG839: =IF(B839="","",IF(OR(AF838=1,AF838=2),"",IF(AF838>=3,AF838-2))) | AH839: =IF(AG839="","",VLOOKUP(AG839,$Z$4:$AA$18,2,0)) | AI839: =IF(AND(AI838=2,B839=0),1,IF(AND(AI838=1,B839=0),1,IF(B839="","",IF(AND(I839=I837,B838=0),AI838+1,IF(AND(AI838>1,B839=0),AI838+1,IF(I839=I838,AI838+1,1)))))) | AJ839: =IF(B839="","",IF(OR(AI838=1,AI838=2),"",IF(AI838>=3,AI838-2))) | AK839: =IF(AJ839="","",VLOOKUP(AJ839,$Z$4:$AA$18,2,0))
B840: =IF(Master!B840="","",Master!B840) | C840: =IF(B840="","",VLOOKUP(B840,$AS$1:$AZ$38,6,0)) | D840: =IF(L840="","",IF(L840>=1,"<--Win",IF(L840<0,"<--Bet",""))) | F840: =IF(B840="","",VLOOKUP(B840,$AS$1:$AZ$38,8,0)) | G840: =IF(O840="","",IF(O840>=1,"<--Win",IF(O840<0,"<--Bet",""))) | I840: =IF(B840="","",VLOOKUP(B840,$AS$1:$AZ$38,7,0)) | J840: =IF(R840="","",IF(R840>=1,"<--Win",IF(R840<0,"<--Bet",""))) | L840: =IF(AND(AD840<>"",AD841<>""),-AE840,IF(AND(AD840>=1,AD841=""),AE840,"")) | M840: =IF(L840<>"",SUM($L$6:L840),"") | O840: =IF(AND(AG840<>"",AG841<>""),-AH840,IF(AND(AG840>=1,AG841=""),AH840,"")) | P840: =IF(O840<>"",SUM($O$6:O840),"") | R840: =IF(AND(AJ840<>"",AJ841<>""),-AK840,IF(AND(AJ840>=1,AJ841=""),AK840,"")) | U840: =IF(B840="",U839,SUM($L$7:L840)+SUM($O$7:O840)+SUM($R$7:R840)) -> 60 | AC840: =IF(AND(AC839=2,B840=0),1,IF(AND(AC839=1,B840=0),1,IF(B840="","",IF(AND(C840=C838,B839=0),AC839+1,IF(AND(AC839>1,B840=0),AC839+1,IF(C840=C839,AC839+1,1)))))) | AD840: =IF(B840="","",IF(OR(AC839=1,AC839=2),"",IF(AC839>=3,AC839-2))) | AE840: =IF(AD840="","",VLOOKUP(AD840,$Z$4:$AA$18,2,0)) | AF840: =IF(AND(AF839=2,B840=0),1,IF(AND(AF839=1,B840=0),1,IF(B840="","",IF(AND(F840=F838,B839=0),AF839+1,IF(AND(AF839>1,B840=0),AF839+1,IF(F840=F839,AF839+1,1)))))) | AG840: =IF(B840="","",IF(OR(AF839=1,AF839=2),"",IF(AF839>=3,AF839-2))) | AH840: =IF(AG840="","",VLOOKUP(AG840,$Z$4:$AA$18,2,0)) | AI840: =IF(AND(AI839=2,B840=0),1,IF(AND(AI839=1,B840=0),1,IF(B840="","",IF(AND(I840=I838,B839=0),AI839+1,IF(AND(AI839>1,B840=0),AI839+1,IF(I840=I839,AI839+1,1)))))) | AJ840: =IF(B840="","",IF(OR(AI839=1,AI839=2),"",IF(AI839>=3,AI839-2))) | AK840: =IF(AJ840="","",VLOOKUP(AJ840,$Z$4:$AA$18,2,0))
B841: =IF(Master!B841="","",Master!B841) | C841: =IF(B841="","",VLOOKUP(B841,$AS$1:$AZ$38,6,0)) | D841: =IF(L841="","",IF(L841>=1,"<--Win",IF(L841<0,"<--Bet",""))) | F841: =IF(B841="","",VLOOKUP(B841,$AS$1:$AZ$38,8,0)) | G841: =IF(O841="","",IF(O841>=1,"<--Win",IF(O841<0,"<--Bet",""))) | I841: =IF(B841="","",VLOOKUP(B841,$AS$1:$AZ$38,7,0)) | J841: =IF(R841="","",IF(R841>=1,"<--Win",IF(R841<0,"<--Bet",""))) | L841: =IF(AND(AD841<>"",AD842<>""),-AE841,IF(AND(AD841>=1,AD842=""),AE841,"")) | M841: =IF(L841<>"",SUM($L$6:L841),"") | O841: =IF(AND(AG841<>"",AG842<>""),-AH841,IF(AND(AG841>=1,AG842=""),AH841,"")) | P841: =IF(O841<>"",SUM($O$6:O841),"") | R841: =IF(AND(AJ841<>"",AJ842<>""),-AK841,IF(AND(AJ841>=1,AJ842=""),AK841,"")) | U841: =IF(B841="",U840,SUM($L$7:L841)+SUM($O$7:O841)+SUM($R$7:R841)) -> 60 | AC841: =IF(AND(AC840=2,B841=0),1,IF(AND(AC840=1,B841=0),1,IF(B841="","",IF(AND(C841=C839,B840=0),AC840+1,IF(AND(AC840>1,B841=0),AC840+1,IF(C841=C840,AC840+1,1)))))) | AD841: =IF(B841="","",IF(OR(AC840=1,AC840=2),"",IF(AC840>=3,AC840-2))) | AE841: =IF(AD841="","",VLOOKUP(AD841,$Z$4:$AA$18,2,0)) | AF841: =IF(AND(AF840=2,B841=0),1,IF(AND(AF840=1,B841=0),1,IF(B841="","",IF(AND(F841=F839,B840=0),AF840+1,IF(AND(AF840>1,B841=0),AF840+1,IF(F841=F840,AF840+1,1)))))) | AG841: =IF(B841="","",IF(OR(AF840=1,AF840=2),"",IF(AF840>=3,AF840-2))) | AH841: =IF(AG841="","",VLOOKUP(AG841,$Z$4:$AA$18,2,0)) | AI841: =IF(AND(AI840=2,B841=0),1,IF(AND(AI840=1,B841=0),1,IF(B841="","",IF(AND(I841=I839,B840=0),AI840+1,IF(AND(AI840>1,B841=0),AI840+1,IF(I841=I840,AI840+1,1)))))) | AJ841: =IF(B841="","",IF(OR(AI840=1,AI840=2),"",IF(AI840>=3,AI840-2))) | AK841: =IF(AJ841="","",VLOOKUP(AJ841,$Z$4:$AA$18,2,0))
B842: =IF(Master!B842="","",Master!B842) | C842: =IF(B842="","",VLOOKUP(B842,$AS$1:$AZ$38,6,0)) | D842: =IF(L842="","",IF(L842>=1,"<--Win",IF(L842<0,"<--Bet",""))) | F842: =IF(B842="","",VLOOKUP(B842,$AS$1:$AZ$38,8,0)) | G842: =IF(O842="","",IF(O842>=1,"<--Win",IF(O842<0,"<--Bet",""))) | I842: =IF(B842="","",VLOOKUP(B842,$AS$1:$AZ$38,7,0)) | J842: =IF(R842="","",IF(R842>=1,"<--Win",IF(R842<0,"<--Bet",""))) | L842: =IF(AND(AD842<>"",AD843<>""),-AE842,IF(AND(AD842>=1,AD843=""),AE842,"")) | M842: =IF(L842<>"",SUM($L$6:L842),"") | O842: =IF(AND(AG842<>"",AG843<>""),-AH842,IF(AND(AG842>=1,AG843=""),AH842,"")) | P842: =IF(O842<>"",SUM($O$6:O842),"") | R842: =IF(AND(AJ842<>"",AJ843<>""),-AK842,IF(AND(AJ842>=1,AJ843=""),AK842,"")) | U842: =IF(B842="",U841,SUM($L$7:L842)+SUM($O$7:O842)+SUM($R$7:R842)) -> 60 | AC842: =IF(AND(AC841=2,B842=0),1,IF(AND(AC841=1,B842=0),1,IF(B842="","",IF(AND(C842=C840,B841=0),AC841+1,IF(AND(AC841>1,B842=0),AC841+1,IF(C842=C841,AC841+1,1)))))) | AD842: =IF(B842="","",IF(OR(AC841=1,AC841=2),"",IF(AC841>=3,AC841-2))) | AE842: =IF(AD842="","",VLOOKUP(AD842,$Z$4:$AA$18,2,0)) | AF842: =IF(AND(AF841=2,B842=0),1,IF(AND(AF841=1,B842=0),1,IF(B842="","",IF(AND(F842=F840,B841=0),AF841+1,IF(AND(AF841>1,B842=0),AF841+1,IF(F842=F841,AF841+1,1)))))) | AG842: =IF(B842="","",IF(OR(AF841=1,AF841=2),"",IF(AF841>=3,AF841-2))) | AH842: =IF(AG842="","",VLOOKUP(AG842,$Z$4:$AA$18,2,0)) | AI842: =IF(AND(AI841=2,B842=0),1,IF(AND(AI841=1,B842=0),1,IF(B842="","",IF(AND(I842=I840,B841=0),AI841+1,IF(AND(AI841>1,B842=0),AI841+1,IF(I842=I841,AI841+1,1)))))) | AJ842: =IF(B842="","",IF(OR(AI841=1,AI841=2),"",IF(AI841>=3,AI841-2))) | AK842: =IF(AJ842="","",VLOOKUP(AJ842,$Z$4:$AA$18,2,0))
B843: =IF(Master!B843="","",Master!B843) | C843: =IF(B843="","",VLOOKUP(B843,$AS$1:$AZ$38,6,0)) | D843: =IF(L843="","",IF(L843>=1,"<--Win",IF(L843<0,"<--Bet",""))) | F843: =IF(B843="","",VLOOKUP(B843,$AS$1:$AZ$38,8,0)) | G843: =IF(O843="","",IF(O843>=1,"<--Win",IF(O843<0,"<--Bet",""))) | I843: =IF(B843="","",VLOOKUP(B843,$AS$1:$AZ$38,7,0)) | J843: =IF(R843="","",IF(R843>=1,"<--Win",IF(R843<0,"<--Bet",""))) | L843: =IF(AND(AD843<>"",AD844<>""),-AE843,IF(AND(AD843>=1,AD844=""),AE843,"")) | M843: =IF(L843<>"",SUM($L$6:L843),"") | O843: =IF(AND(AG843<>"",AG844<>""),-AH843,IF(AND(AG843>=1,AG844=""),AH843,"")) | P843: =IF(O843<>"",SUM($O$6:O843),"") | R843: =IF(AND(AJ843<>"",AJ844<>""),-AK843,IF(AND(AJ843>=1,AJ844=""),AK843,"")) | U843: =IF(B843="",U842,SUM($L$7:L843)+SUM($O$7:O843)+SUM($R$7:R843)) -> 60 | AC843: =IF(AND(AC842=2,B843=0),1,IF(AND(AC842=1,B843=0),1,IF(B843="","",IF(AND(C843=C841,B842=0),AC842+1,IF(AND(AC842>1,B843=0),AC842+1,IF(C843=C842,AC842+1,1)))))) | AD843: =IF(B843="","",IF(OR(AC842=1,AC842=2),"",IF(AC842>=3,AC842-2))) | AE843: =IF(AD843="","",VLOOKUP(AD843,$Z$4:$AA$18,2,0)) | AF843: =IF(AND(AF842=2,B843=0),1,IF(AND(AF842=1,B843=0),1,IF(B843="","",IF(AND(F843=F841,B842=0),AF842+1,IF(AND(AF842>1,B843=0),AF842+1,IF(F843=F842,AF842+1,1)))))) | AG843: =IF(B843="","",IF(OR(AF842=1,AF842=2),"",IF(AF842>=3,AF842-2))) | AH843: =IF(AG843="","",VLOOKUP(AG843,$Z$4:$AA$18,2,0)) | AI843: =IF(AND(AI842=2,B843=0),1,IF(AND(AI842=1,B843=0),1,IF(B843="","",IF(AND(I843=I841,B842=0),AI842+1,IF(AND(AI842>1,B843=0),AI842+1,IF(I843=I842,AI842+1,1)))))) | AJ843: =IF(B843="","",IF(OR(AI842=1,AI842=2),"",IF(AI842>=3,AI842-2))) | AK843: =IF(AJ843="","",VLOOKUP(AJ843,$Z$4:$AA$18,2,0))
B844: =IF(Master!B844="","",Master!B844) | C844: =IF(B844="","",VLOOKUP(B844,$AS$1:$AZ$38,6,0)) | D844: =IF(L844="","",IF(L844>=1,"<--Win",IF(L844<0,"<--Bet",""))) | F844: =IF(B844="","",VLOOKUP(B844,$AS$1:$AZ$38,8,0)) | G844: =IF(O844="","",IF(O844>=1,"<--Win",IF(O844<0,"<--Bet",""))) | I844: =IF(B844="","",VLOOKUP(B844,$AS$1:$AZ$38,7,0)) | J844: =IF(R844="","",IF(R844>=1,"<--Win",IF(R844<0,"<--Bet",""))) | L844: =IF(AND(AD844<>"",AD845<>""),-AE844,IF(AND(AD844>=1,AD845=""),AE844,"")) | M844: =IF(L844<>"",SUM($L$6:L844),"") | O844: =IF(AND(AG844<>"",AG845<>""),-AH844,IF(AND(AG844>=1,AG845=""),AH844,"")) | P844: =IF(O844<>"",SUM($O$6:O844),"") | R844: =IF(AND(AJ844<>"",AJ845<>""),-AK844,IF(AND(AJ844>=1,AJ845=""),AK844,"")) | U844: =IF(B844="",U843,SUM($L$7:L844)+SUM($O$7:O844)+SUM($R$7:R844)) -> 60 | AC844: =IF(AND(AC843=2,B844=0),1,IF(AND(AC843=1,B844=0),1,IF(B844="","",IF(AND(C844=C842,B843=0),AC843+1,IF(AND(AC843>1,B844=0),AC843+1,IF(C844=C843,AC843+1,1)))))) | AD844: =IF(B844="","",IF(OR(AC843=1,AC843=2),"",IF(AC843>=3,AC843-2))) | AE844: =IF(AD844="","",VLOOKUP(AD844,$Z$4:$AA$18,2,0)) | AF844: =IF(AND(AF843=2,B844=0),1,IF(AND(AF843=1,B844=0),1,IF(B844="","",IF(AND(F844=F842,B843=0),AF843+1,IF(AND(AF843>1,B844=0),AF843+1,IF(F844=F843,AF843+1,1)))))) | AG844: =IF(B844="","",IF(OR(AF843=1,AF843=2),"",IF(AF843>=3,AF843-2))) | AH844: =IF(AG844="","",VLOOKUP(AG844,$Z$4:$AA$18,2,0)) | AI844: =IF(AND(AI843=2,B844=0),1,IF(AND(AI843=1,B844=0),1,IF(B844="","",IF(AND(I844=I842,B843=0),AI843+1,IF(AND(AI843>1,B844=0),AI843+1,IF(I844=I843,AI843+1,1)))))) | AJ844: =IF(B844="","",IF(OR(AI843=1,AI843=2),"",IF(AI843>=3,AI843-2))) | AK844: =IF(AJ844="","",VLOOKUP(AJ844,$Z$4:$AA$18,2,0))
B845: =IF(Master!B845="","",Master!B845) | C845: =IF(B845="","",VLOOKUP(B845,$AS$1:$AZ$38,6,0)) | D845: =IF(L845="","",IF(L845>=1,"<--Win",IF(L845<0,"<--Bet",""))) | F845: =IF(B845="","",VLOOKUP(B845,$AS$1:$AZ$38,8,0)) | G845: =IF(O845="","",IF(O845>=1,"<--Win",IF(O845<0,"<--Bet",""))) | I845: =IF(B845="","",VLOOKUP(B845,$AS$1:$AZ$38,7,0)) | J845: =IF(R845="","",IF(R845>=1,"<--Win",IF(R845<0,"<--Bet",""))) | L845: =IF(AND(AD845<>"",AD846<>""),-AE845,IF(AND(AD845>=1,AD846=""),AE845,"")) | M845: =IF(L845<>"",SUM($L$6:L845),"") | O845: =IF(AND(AG845<>"",AG846<>""),-AH845,IF(AND(AG845>=1,AG846=""),AH845,"")) | P845: =IF(O845<>"",SUM($O$6:O845),"") | R845: =IF(AND(AJ845<>"",AJ846<>""),-AK845,IF(AND(AJ845>=1,AJ846=""),AK845,"")) | U845: =IF(B845="",U844,SUM($L$7:L845)+SUM($O$7:O845)+SUM($R$7:R845)) -> 60 | AC845: =IF(AND(AC844=2,B845=0),1,IF(AND(AC844=1,B845=0),1,IF(B845="","",IF(AND(C845=C843,B844=0),AC844+1,IF(AND(AC844>1,B845=0),AC844+1,IF(C845=C844,AC844+1,1)))))) | AD845: =IF(B845="","",IF(OR(AC844=1,AC844=2),"",IF(AC844>=3,AC844-2))) | AE845: =IF(AD845="","",VLOOKUP(AD845,$Z$4:$AA$18,2,0)) | AF845: =IF(AND(AF844=2,B845=0),1,IF(AND(AF844=1,B845=0),1,IF(B845="","",IF(AND(F845=F843,B844=0),AF844+1,IF(AND(AF844>1,B845=0),AF844+1,IF(F845=F844,AF844+1,1)))))) | AG845: =IF(B845="","",IF(OR(AF844=1,AF844=2),"",IF(AF844>=3,AF844-2))) | AH845: =IF(AG845="","",VLOOKUP(AG845,$Z$4:$AA$18,2,0)) | AI845: =IF(AND(AI844=2,B845=0),1,IF(AND(AI844=1,B845=0),1,IF(B845="","",IF(AND(I845=I843,B844=0),AI844+1,IF(AND(AI844>1,B845=0),AI844+1,IF(I845=I844,AI844+1,1)))))) | AJ845: =IF(B845="","",IF(OR(AI844=1,AI844=2),"",IF(AI844>=3,AI844-2))) | AK845: =IF(AJ845="","",VLOOKUP(AJ845,$Z$4:$AA$18,2,0))
B846: =IF(Master!B846="","",Master!B846) | C846: =IF(B846="","",VLOOKUP(B846,$AS$1:$AZ$38,6,0)) | D846: =IF(L846="","",IF(L846>=1,"<--Win",IF(L846<0,"<--Bet",""))) | F846: =IF(B846="","",VLOOKUP(B846,$AS$1:$AZ$38,8,0)) | G846: =IF(O846="","",IF(O846>=1,"<--Win",IF(O846<0,"<--Bet",""))) | I846: =IF(B846="","",VLOOKUP(B846,$AS$1:$AZ$38,7,0)) | J846: =IF(R846="","",IF(R846>=1,"<--Win",IF(R846<0,"<--Bet",""))) | L846: =IF(AND(AD846<>"",AD847<>""),-AE846,IF(AND(AD846>=1,AD847=""),AE846,"")) | M846: =IF(L846<>"",SUM($L$6:L846),"") | O846: =IF(AND(AG846<>"",AG847<>""),-AH846,IF(AND(AG846>=1,AG847=""),AH846,"")) | P846: =IF(O846<>"",SUM($O$6:O846),"") | R846: =IF(AND(AJ846<>"",AJ847<>""),-AK846,IF(AND(AJ846>=1,AJ847=""),AK846,"")) | U846: =IF(B846="",U845,SUM($L$7:L846)+SUM($O$7:O846)+SUM($R$7:R846)) -> 60 | AC846: =IF(AND(AC845=2,B846=0),1,IF(AND(AC845=1,B846=0),1,IF(B846="","",IF(AND(C846=C844,B845=0),AC845+1,IF(AND(AC845>1,B846=0),AC845+1,IF(C846=C845,AC845+1,1)))))) | AD846: =IF(B846="","",IF(OR(AC845=1,AC845=2),"",IF(AC845>=3,AC845-2))) | AE846: =IF(AD846="","",VLOOKUP(AD846,$Z$4:$AA$18,2,0)) | AF846: =IF(AND(AF845=2,B846=0),1,IF(AND(AF845=1,B846=0),1,IF(B846="","",IF(AND(F846=F844,B845=0),AF845+1,IF(AND(AF845>1,B846=0),AF845+1,IF(F846=F845,AF845+1,1)))))) | AG846: =IF(B846="","",IF(OR(AF845=1,AF845=2),"",IF(AF845>=3,AF845-2))) | AH846: =IF(AG846="","",VLOOKUP(AG846,$Z$4:$AA$18,2,0)) | AI846: =IF(AND(AI845=2,B846=0),1,IF(AND(AI845=1,B846=0),1,IF(B846="","",IF(AND(I846=I844,B845=0),AI845+1,IF(AND(AI845>1,B846=0),AI845+1,IF(I846=I845,AI845+1,1)))))) | AJ846: =IF(B846="","",IF(OR(AI845=1,AI845=2),"",IF(AI845>=3,AI845-2))) | AK846: =IF(AJ846="","",VLOOKUP(AJ846,$Z$4:$AA$18,2,0))
B847: =IF(Master!B847="","",Master!B847) | C847: =IF(B847="","",VLOOKUP(B847,$AS$1:$AZ$38,6,0)) | D847: =IF(L847="","",IF(L847>=1,"<--Win",IF(L847<0,"<--Bet",""))) | F847: =IF(B847="","",VLOOKUP(B847,$AS$1:$AZ$38,8,0)) | G847: =IF(O847="","",IF(O847>=1,"<--Win",IF(O847<0,"<--Bet",""))) | I847: =IF(B847="","",VLOOKUP(B847,$AS$1:$AZ$38,7,0)) | J847: =IF(R847="","",IF(R847>=1,"<--Win",IF(R847<0,"<--Bet",""))) | L847: =IF(AND(AD847<>"",AD848<>""),-AE847,IF(AND(AD847>=1,AD848=""),AE847,"")) | M847: =IF(L847<>"",SUM($L$6:L847),"") | O847: =IF(AND(AG847<>"",AG848<>""),-AH847,IF(AND(AG847>=1,AG848=""),AH847,"")) | P847: =IF(O847<>"",SUM($O$6:O847),"") | R847: =IF(AND(AJ847<>"",AJ848<>""),-AK847,IF(AND(AJ847>=1,AJ848=""),AK847,"")) | U847: =IF(B847="",U846,SUM($L$7:L847)+SUM($O$7:O847)+SUM($R$7:R847)) -> 60 | AC847: =IF(AND(AC846=2,B847=0),1,IF(AND(AC846=1,B847=0),1,IF(B847="","",IF(AND(C847=C845,B846=0),AC846+1,IF(AND(AC846>1,B847=0),AC846+1,IF(C847=C846,AC846+1,1)))))) | AD847: =IF(B847="","",IF(OR(AC846=1,AC846=2),"",IF(AC846>=3,AC846-2))) | AE847: =IF(AD847="","",VLOOKUP(AD847,$Z$4:$AA$18,2,0)) | AF847: =IF(AND(AF846=2,B847=0),1,IF(AND(AF846=1,B847=0),1,IF(B847="","",IF(AND(F847=F845,B846=0),AF846+1,IF(AND(AF846>1,B847=0),AF846+1,IF(F847=F846,AF846+1,1)))))) | AG847: =IF(B847="","",IF(OR(AF846=1,AF846=2),"",IF(AF846>=3,AF846-2))) | AH847: =IF(AG847="","",VLOOKUP(AG847,$Z$4:$AA$18,2,0)) | AI847: =IF(AND(AI846=2,B847=0),1,IF(AND(AI846=1,B847=0),1,IF(B847="","",IF(AND(I847=I845,B846=0),AI846+1,IF(AND(AI846>1,B847=0),AI846+1,IF(I847=I846,AI846+1,1)))))) | AJ847: =IF(B847="","",IF(OR(AI846=1,AI846=2),"",IF(AI846>=3,AI846-2))) | AK847: =IF(AJ847="","",VLOOKUP(AJ847,$Z$4:$AA$18,2,0))
B848: =IF(Master!B848="","",Master!B848) | C848: =IF(B848="","",VLOOKUP(B848,$AS$1:$AZ$38,6,0)) | D848: =IF(L848="","",IF(L848>=1,"<--Win",IF(L848<0,"<--Bet",""))) | F848: =IF(B848="","",VLOOKUP(B848,$AS$1:$AZ$38,8,0)) | G848: =IF(O848="","",IF(O848>=1,"<--Win",IF(O848<0,"<--Bet",""))) | I848: =IF(B848="","",VLOOKUP(B848,$AS$1:$AZ$38,7,0)) | J848: =IF(R848="","",IF(R848>=1,"<--Win",IF(R848<0,"<--Bet",""))) | L848: =IF(AND(AD848<>"",AD849<>""),-AE848,IF(AND(AD848>=1,AD849=""),AE848,"")) | M848: =IF(L848<>"",SUM($L$6:L848),"") | O848: =IF(AND(AG848<>"",AG849<>""),-AH848,IF(AND(AG848>=1,AG849=""),AH848,"")) | P848: =IF(O848<>"",SUM($O$6:O848),"") | R848: =IF(AND(AJ848<>"",AJ849<>""),-AK848,IF(AND(AJ848>=1,AJ849=""),AK848,"")) | U848: =IF(B848="",U847,SUM($L$7:L848)+SUM($O$7:O848)+SUM($R$7:R848)) -> 60 | AC848: =IF(AND(AC847=2,B848=0),1,IF(AND(AC847=1,B848=0),1,IF(B848="","",IF(AND(C848=C846,B847=0),AC847+1,IF(AND(AC847>1,B848=0),AC847+1,IF(C848=C847,AC847+1,1)))))) | AD848: =IF(B848="","",IF(OR(AC847=1,AC847=2),"",IF(AC847>=3,AC847-2))) | AE848: =IF(AD848="","",VLOOKUP(AD848,$Z$4:$AA$18,2,0)) | AF848: =IF(AND(AF847=2,B848=0),1,IF(AND(AF847=1,B848=0),1,IF(B848="","",IF(AND(F848=F846,B847=0),AF847+1,IF(AND(AF847>1,B848=0),AF847+1,IF(F848=F847,AF847+1,1)))))) | AG848: =IF(B848="","",IF(OR(AF847=1,AF847=2),"",IF(AF847>=3,AF847-2))) | AH848: =IF(AG848="","",VLOOKUP(AG848,$Z$4:$AA$18,2,0)) | AI848: =IF(AND(AI847=2,B848=0),1,IF(AND(AI847=1,B848=0),1,IF(B848="","",IF(AND(I848=I846,B847=0),AI847+1,IF(AND(AI847>1,B848=0),AI847+1,IF(I848=I847,AI847+1,1)))))) | AJ848: =IF(B848="","",IF(OR(AI847=1,AI847=2),"",IF(AI847>=3,AI847-2))) | AK848: =IF(AJ848="","",VLOOKUP(AJ848,$Z$4:$AA$18,2,0))
B849: =IF(Master!B849="","",Master!B849) | C849: =IF(B849="","",VLOOKUP(B849,$AS$1:$AZ$38,6,0)) | D849: =IF(L849="","",IF(L849>=1,"<--Win",IF(L849<0,"<--Bet",""))) | F849: =IF(B849="","",VLOOKUP(B849,$AS$1:$AZ$38,8,0)) | G849: =IF(O849="","",IF(O849>=1,"<--Win",IF(O849<0,"<--Bet",""))) | I849: =IF(B849="","",VLOOKUP(B849,$AS$1:$AZ$38,7,0)) | J849: =IF(R849="","",IF(R849>=1,"<--Win",IF(R849<0,"<--Bet",""))) | L849: =IF(AND(AD849<>"",AD850<>""),-AE849,IF(AND(AD849>=1,AD850=""),AE849,"")) | M849: =IF(L849<>"",SUM($L$6:L849),"") | O849: =IF(AND(AG849<>"",AG850<>""),-AH849,IF(AND(AG849>=1,AG850=""),AH849,"")) | P849: =IF(O849<>"",SUM($O$6:O849),"") | U849: =IF(B849="",U848,SUM($L$7:L849)+SUM($O$7:O849)+SUM($R$7:R849)) -> 60 | AC849: =IF(AND(AC848=2,B849=0),1,IF(AND(AC848=1,B849=0),1,IF(B849="","",IF(AND(C849=C847,B848=0),AC848+1,IF(AND(AC848>1,B849=0),AC848+1,IF(C849=C848,AC848+1,1)))))) | AD849: =IF(B849="","",IF(OR(AC848=1,AC848=2),"",IF(AC848>=3,AC848-2))) | AE849: =IF(AD849="","",VLOOKUP(AD849,$Z$4:$AA$18,2,0)) | AF849: =IF(AND(AF848=2,B849=0),1,IF(AND(AF848=1,B849=0),1,IF(B849="","",IF(AND(F849=F847,B848=0),AF848+1,IF(AND(AF848>1,B849=0),AF848+1,IF(F849=F848,AF848+1,1)))))) | AG849: =IF(B849="","",IF(OR(AF848=1,AF848=2),"",IF(AF848>=3,AF848-2))) | AH849: =IF(AG849="","",VLOOKUP(AG849,$Z$4:$AA$18,2,0)) | AI849: =IF(AND(AI848=2,B849=0),1,IF(AND(AI848=1,B849=0),1,IF(B849="","",IF(AND(I849=I847,B848=0),AI848+1,IF(AND(AI848>1,B849=0),AI848+1,IF(I849=I848,AI848+1,1)))))) | AJ849: =IF(B849="","",IF(OR(AI848=1,AI848=2),"",IF(AI848>=3,AI848-2))) | AK849: =IF(AJ849="","",VLOOKUP(AJ849,$Z$4:$AA$18,2,0))
B850: =IF(Master!B850="","",Master!B850) | C850: =IF(B850="","",VLOOKUP(B850,$AS$1:$AZ$38,6,0)) | D850: =IF(L850="","",IF(L850>=1,"<--Win",IF(L850<0,"<--Bet",""))) | F850: =IF(B850="","",VLOOKUP(B850,$AS$1:$AZ$38,8,0)) | G850: =IF(O850="","",IF(O850>=1,"<--Win",IF(O850<0,"<--Bet",""))) | I850: =IF(B850="","",VLOOKUP(B850,$AS$1:$AZ$38,7,0)) | J850: =IF(R850="","",IF(R850>=1,"<--Win",IF(R850<0,"<--Bet",""))) | L850: =IF(AND(AD850<>"",AD851<>""),-AE850,IF(AND(AD850>=1,AD851=""),AE850,"")) | M850: =IF(L850<>"",SUM($L$6:L850),"") | O850: =IF(AND(AG850<>"",AG851<>""),-AH850,IF(AND(AG850>=1,AG851=""),AH850,"")) | P850: =IF(O850<>"",SUM($O$6:O850),"") | U850: =IF(B850="",U849,SUM($L$7:L850)+SUM($O$7:O850)+SUM($R$7:R850)) -> 60 | AC850: =IF(AND(AC849=2,B850=0),1,IF(AND(AC849=1,B850=0),1,IF(B850="","",IF(AND(C850=C848,B849=0),AC849+1,IF(AND(AC849>1,B850=0),AC849+1,IF(C850=C849,AC849+1,1)))))) | AD850: =IF(B850="","",IF(OR(AC849=1,AC849=2),"",IF(AC849>=3,AC849-2))) | AE850: =IF(AD850="","",VLOOKUP(AD850,$Z$4:$AA$18,2,0)) | AF850: =IF(AND(AF849=2,B850=0),1,IF(AND(AF849=1,B850=0),1,IF(B850="","",IF(AND(F850=F848,B849=0),AF849+1,IF(AND(AF849>1,B850=0),AF849+1,IF(F850=F849,AF849+1,1)))))) | AG850: =IF(B850="","",IF(OR(AF849=1,AF849=2),"",IF(AF849>=3,AF849-2))) | AH850: =IF(AG850="","",VLOOKUP(AG850,$Z$4:$AA$18,2,0)) | AI850: =IF(AND(AI849=2,B850=0),1,IF(AND(AI849=1,B850=0),1,IF(B850="","",IF(AND(I850=I848,B849=0),AI849+1,IF(AND(AI849>1,B850=0),AI849+1,IF(I850=I849,AI849+1,1)))))) | AJ850: =IF(B850="","",IF(OR(AI849=1,AI849=2),"",IF(AI849>=3,AI849-2))) | AK850: =IF(AJ850="","",VLOOKUP(AJ850,$Z$4:$AA$18,2,0))
B851: =IF(Master!B851="","",Master!B851) | C851: =IF(B851="","",VLOOKUP(B851,$AS$1:$AZ$38,6,0)) | D851: =IF(L851="","",IF(L851>=1,"<--Win",IF(L851<0,"<--Bet",""))) | F851: =IF(B851="","",VLOOKUP(B851,$AS$1:$AZ$38,8,0)) | G851: =IF(O851="","",IF(O851>=1,"<--Win",IF(O851<0,"<--Bet",""))) | I851: =IF(B851="","",VLOOKUP(B851,$AS$1:$AZ$38,7,0)) | J851: =IF(R851="","",IF(R851>=1,"<--Win",IF(R851<0,"<--Bet",""))) | L851: =IF(AND(AD851<>"",AD852<>""),-AE851,IF(AND(AD851>=1,AD852=""),AE851,"")) | M851: =IF(L851<>"",SUM($L$6:L851),"") | O851: =IF(AND(AG851<>"",AG852<>""),-AH851,IF(AND(AG851>=1,AG852=""),AH851,"")) | P851: =IF(O851<>"",SUM($O$6:O851),"") | U851: =IF(B851="",U850,SUM($L$7:L851)+SUM($O$7:O851)+SUM($R$7:R851)) -> 60 | AC851: =IF(AND(AC850=2,B851=0),1,IF(AND(AC850=1,B851=0),1,IF(B851="","",IF(AND(C851=C849,B850=0),AC850+1,IF(AND(AC850>1,B851=0),AC850+1,IF(C851=C850,AC850+1,1)))))) | AD851: =IF(B851="","",IF(OR(AC850=1,AC850=2),"",IF(AC850>=3,AC850-2))) | AE851: =IF(AD851="","",VLOOKUP(AD851,$Z$4:$AA$18,2,0)) | AF851: =IF(AND(AF850=2,B851=0),1,IF(AND(AF850=1,B851=0),1,IF(B851="","",IF(AND(F851=F849,B850=0),AF850+1,IF(AND(AF850>1,B851=0),AF850+1,IF(F851=F850,AF850+1,1)))))) | AG851: =IF(B851="","",IF(OR(AF850=1,AF850=2),"",IF(AF850>=3,AF850-2))) | AH851: =IF(AG851="","",VLOOKUP(AG851,$Z$4:$AA$18,2,0)) | AI851: =IF(AND(AI850=2,B851=0),1,IF(AND(AI850=1,B851=0),1,IF(B851="","",IF(AND(I851=I849,B850=0),AI850+1,IF(AND(AI850>1,B851=0),AI850+1,IF(I851=I850,AI850+1,1)))))) | AJ851: =IF(B851="","",IF(OR(AI850=1,AI850=2),"",IF(AI850>=3,AI850-2))) | AK851: =IF(AJ851="","",VLOOKUP(AJ851,$Z$4:$AA$18,2,0))
B852: =IF(Master!B852="","",Master!B852) | C852: =IF(B852="","",VLOOKUP(B852,$AS$1:$AZ$38,6,0)) | D852: =IF(L852="","",IF(L852>=1,"<--Win",IF(L852<0,"<--Bet",""))) | F852: =IF(B852="","",VLOOKUP(B852,$AS$1:$AZ$38,8,0)) | G852: =IF(O852="","",IF(O852>=1,"<--Win",IF(O852<0,"<--Bet",""))) | I852: =IF(B852="","",VLOOKUP(B852,$AS$1:$AZ$38,7,0)) | J852: =IF(R852="","",IF(R852>=1,"<--Win",IF(R852<0,"<--Bet",""))) | L852: =IF(AND(AD852<>"",AD853<>""),-AE852,IF(AND(AD852>=1,AD853=""),AE852,"")) | M852: =IF(L852<>"",SUM($L$6:L852),"") | O852: =IF(AND(AG852<>"",AG853<>""),-AH852,IF(AND(AG852>=1,AG853=""),AH852,"")) | P852: =IF(O852<>"",SUM($O$6:O852),"") | U852: =IF(B852="",U851,SUM($L$7:L852)+SUM($O$7:O852)+SUM($R$7:R852)) -> 60 | AC852: =IF(AND(AC851=2,B852=0),1,IF(AND(AC851=1,B852=0),1,IF(B852="","",IF(AND(C852=C850,B851=0),AC851+1,IF(AND(AC851>1,B852=0),AC851+1,IF(C852=C851,AC851+1,1)))))) | AD852: =IF(B852="","",IF(OR(AC851=1,AC851=2),"",IF(AC851>=3,AC851-2))) | AE852: =IF(AD852="","",VLOOKUP(AD852,$Z$4:$AA$18,2,0)) | AF852: =IF(AND(AF851=2,B852=0),1,IF(AND(AF851=1,B852=0),1,IF(B852="","",IF(AND(F852=F850,B851=0),AF851+1,IF(AND(AF851>1,B852=0),AF851+1,IF(F852=F851,AF851+1,1)))))) | AG852: =IF(B852="","",IF(OR(AF851=1,AF851=2),"",IF(AF851>=3,AF851-2))) | AH852: =IF(AG852="","",VLOOKUP(AG852,$Z$4:$AA$18,2,0)) | AI852: =IF(AND(AI851=2,B852=0),1,IF(AND(AI851=1,B852=0),1,IF(B852="","",IF(AND(I852=I850,B851=0),AI851+1,IF(AND(AI851>1,B852=0),AI851+1,IF(I852=I851,AI851+1,1)))))) | AJ852: =IF(B852="","",IF(OR(AI851=1,AI851=2),"",IF(AI851>=3,AI851-2))) | AK852: =IF(AJ852="","",VLOOKUP(AJ852,$Z$4:$AA$18,2,0))
B853: =IF(Master!B853="","",Master!B853) | C853: =IF(B853="","",VLOOKUP(B853,$AS$1:$AZ$38,6,0)) | D853: =IF(L853="","",IF(L853>=1,"<--Win",IF(L853<0,"<--Bet",""))) | F853: =IF(B853="","",VLOOKUP(B853,$AS$1:$AZ$38,8,0)) | G853: =IF(O853="","",IF(O853>=1,"<--Win",IF(O853<0,"<--Bet",""))) | I853: =IF(B853="","",VLOOKUP(B853,$AS$1:$AZ$38,7,0)) | J853: =IF(R853="","",IF(R853>=1,"<--Win",IF(R853<0,"<--Bet",""))) | L853: =IF(AND(AD853<>"",AD854<>""),-AE853,IF(AND(AD853>=1,AD854=""),AE853,"")) | M853: =IF(L853<>"",SUM($L$6:L853),"") | O853: =IF(AND(AG853<>"",AG854<>""),-AH853,IF(AND(AG853>=1,AG854=""),AH853,"")) | P853: =IF(O853<>"",SUM($O$6:O853),"") | U853: =IF(B853="",U852,SUM($L$7:L853)+SUM($O$7:O853)+SUM($R$7:R853)) -> 60 | AC853: =IF(AND(AC852=2,B853=0),1,IF(AND(AC852=1,B853=0),1,IF(B853="","",IF(AND(C853=C851,B852=0),AC852+1,IF(AND(AC852>1,B853=0),AC852+1,IF(C853=C852,AC852+1,1)))))) | AD853: =IF(B853="","",IF(OR(AC852=1,AC852=2),"",IF(AC852>=3,AC852-2))) | AE853: =IF(AD853="","",VLOOKUP(AD853,$Z$4:$AA$18,2,0)) | AF853: =IF(AND(AF852=2,B853=0),1,IF(AND(AF852=1,B853=0),1,IF(B853="","",IF(AND(F853=F851,B852=0),AF852+1,IF(AND(AF852>1,B853=0),AF852+1,IF(F853=F852,AF852+1,1)))))) | AG853: =IF(B853="","",IF(OR(AF852=1,AF852=2),"",IF(AF852>=3,AF852-2))) | AH853: =IF(AG853="","",VLOOKUP(AG853,$Z$4:$AA$18,2,0)) | AI853: =IF(AND(AI852=2,B853=0),1,IF(AND(AI852=1,B853=0),1,IF(B853="","",IF(AND(I853=I851,B852=0),AI852+1,IF(AND(AI852>1,B853=0),AI852+1,IF(I853=I852,AI852+1,1)))))) | AJ853: =IF(B853="","",IF(OR(AI852=1,AI852=2),"",IF(AI852>=3,AI852-2))) | AK853: =IF(AJ853="","",VLOOKUP(AJ853,$Z$4:$AA$18,2,0))
B854: =IF(Master!B854="","",Master!B854) | C854: =IF(B854="","",VLOOKUP(B854,$AS$1:$AZ$38,6,0)) | D854: =IF(L854="","",IF(L854>=1,"<--Win",IF(L854<0,"<--Bet",""))) | F854: =IF(B854="","",VLOOKUP(B854,$AS$1:$AZ$38,8,0)) | G854: =IF(O854="","",IF(O854>=1,"<--Win",IF(O854<0,"<--Bet",""))) | I854: =IF(B854="","",VLOOKUP(B854,$AS$1:$AZ$38,7,0)) | J854: =IF(R854="","",IF(R854>=1,"<--Win",IF(R854<0,"<--Bet",""))) | L854: =IF(AND(AD854<>"",AD855<>""),-AE854,IF(AND(AD854>=1,AD855=""),AE854,"")) | M854: =IF(L854<>"",SUM($L$6:L854),"") | O854: =IF(AND(AG854<>"",AG855<>""),-AH854,IF(AND(AG854>=1,AG855=""),AH854,"")) | P854: =IF(O854<>"",SUM($O$6:O854),"") | U854: =IF(B854="",U853,SUM($L$7:L854)+SUM($O$7:O854)+SUM($R$7:R854)) -> 60 | AC854: =IF(AND(AC853=2,B854=0),1,IF(AND(AC853=1,B854=0),1,IF(B854="","",IF(AND(C854=C852,B853=0),AC853+1,IF(AND(AC853>1,B854=0),AC853+1,IF(C854=C853,AC853+1,1)))))) | AD854: =IF(B854="","",IF(OR(AC853=1,AC853=2),"",IF(AC853>=3,AC853-2))) | AE854: =IF(AD854="","",VLOOKUP(AD854,$Z$4:$AA$18,2,0)) | AF854: =IF(AND(AF853=2,B854=0),1,IF(AND(AF853=1,B854=0),1,IF(B854="","",IF(AND(F854=F852,B853=0),AF853+1,IF(AND(AF853>1,B854=0),AF853+1,IF(F854=F853,AF853+1,1)))))) | AG854: =IF(B854="","",IF(OR(AF853=1,AF853=2),"",IF(AF853>=3,AF853-2))) | AH854: =IF(AG854="","",VLOOKUP(AG854,$Z$4:$AA$18,2,0)) | AI854: =IF(AND(AI853=2,B854=0),1,IF(AND(AI853=1,B854=0),1,IF(B854="","",IF(AND(I854=I852,B853=0),AI853+1,IF(AND(AI853>1,B854=0),AI853+1,IF(I854=I853,AI853+1,1)))))) | AJ854: =IF(B854="","",IF(OR(AI853=1,AI853=2),"",IF(AI853>=3,AI853-2))) | AK854: =IF(AJ854="","",VLOOKUP(AJ854,$Z$4:$AA$18,2,0))
B855: =IF(Master!B855="","",Master!B855) | C855: =IF(B855="","",VLOOKUP(B855,$AS$1:$AZ$38,6,0)) | D855: =IF(L855="","",IF(L855>=1,"<--Win",IF(L855<0,"<--Bet",""))) | F855: =IF(B855="","",VLOOKUP(B855,$AS$1:$AZ$38,8,0)) | G855: =IF(O855="","",IF(O855>=1,"<--Win",IF(O855<0,"<--Bet",""))) | I855: =IF(B855="","",VLOOKUP(B855,$AS$1:$AZ$38,7,0)) | J855: =IF(R855="","",IF(R855>=1,"<--Win",IF(R855<0,"<--Bet",""))) | L855: =IF(AND(AD855<>"",AD856<>""),-AE855,IF(AND(AD855>=1,AD856=""),AE855,"")) | M855: =IF(L855<>"",SUM($L$6:L855),"") | O855: =IF(AND(AG855<>"",AG856<>""),-AH855,IF(AND(AG855>=1,AG856=""),AH855,"")) | P855: =IF(O855<>"",SUM($O$6:O855),"") | U855: =IF(B855="",U854,SUM($L$7:L855)+SUM($O$7:O855)+SUM($R$7:R855)) -> 60 | AC855: =IF(AND(AC854=2,B855=0),1,IF(AND(AC854=1,B855=0),1,IF(B855="","",IF(AND(C855=C853,B854=0),AC854+1,IF(AND(AC854>1,B855=0),AC854+1,IF(C855=C854,AC854+1,1)))))) | AD855: =IF(B855="","",IF(OR(AC854=1,AC854=2),"",IF(AC854>=3,AC854-2))) | AE855: =IF(AD855="","",VLOOKUP(AD855,$Z$4:$AA$18,2,0)) | AF855: =IF(AND(AF854=2,B855=0),1,IF(AND(AF854=1,B855=0),1,IF(B855="","",IF(AND(F855=F853,B854=0),AF854+1,IF(AND(AF854>1,B855=0),AF854+1,IF(F855=F854,AF854+1,1)))))) | AG855: =IF(B855="","",IF(OR(AF854=1,AF854=2),"",IF(AF854>=3,AF854-2))) | AH855: =IF(AG855="","",VLOOKUP(AG855,$Z$4:$AA$18,2,0)) | AI855: =IF(AND(AI854=2,B855=0),1,IF(AND(AI854=1,B855=0),1,IF(B855="","",IF(AND(I855=I853,B854=0),AI854+1,IF(AND(AI854>1,B855=0),AI854+1,IF(I855=I854,AI854+1,1)))))) | AJ855: =IF(B855="","",IF(OR(AI854=1,AI854=2),"",IF(AI854>=3,AI854-2))) | AK855: =IF(AJ855="","",VLOOKUP(AJ855,$Z$4:$AA$18,2,0))
B856: =IF(Master!B856="","",Master!B856) | C856: =IF(B856="","",VLOOKUP(B856,$AS$1:$AZ$38,6,0)) | D856: =IF(L856="","",IF(L856>=1,"<--Win",IF(L856<0,"<--Bet",""))) | F856: =IF(B856="","",VLOOKUP(B856,$AS$1:$AZ$38,8,0)) | G856: =IF(O856="","",IF(O856>=1,"<--Win",IF(O856<0,"<--Bet",""))) | I856: =IF(B856="","",VLOOKUP(B856,$AS$1:$AZ$38,7,0)) | J856: =IF(R856="","",IF(R856>=1,"<--Win",IF(R856<0,"<--Bet",""))) | L856: =IF(AND(AD856<>"",AD857<>""),-AE856,IF(AND(AD856>=1,AD857=""),AE856,"")) | M856: =IF(L856<>"",SUM($L$6:L856),"") | O856: =IF(AND(AG856<>"",AG857<>""),-AH856,IF(AND(AG856>=1,AG857=""),AH856,"")) | P856: =IF(O856<>"",SUM($O$6:O856),"") | U856: =IF(B856="",U855,SUM($L$7:L856)+SUM($O$7:O856)+SUM($R$7:R856)) -> 60 | AC856: =IF(AND(AC855=2,B856=0),1,IF(AND(AC855=1,B856=0),1,IF(B856="","",IF(AND(C856=C854,B855=0),AC855+1,IF(AND(AC855>1,B856=0),AC855+1,IF(C856=C855,AC855+1,1)))))) | AD856: =IF(B856="","",IF(OR(AC855=1,AC855=2),"",IF(AC855>=3,AC855-2))) | AE856: =IF(AD856="","",VLOOKUP(AD856,$Z$4:$AA$18,2,0)) | AF856: =IF(AND(AF855=2,B856=0),1,IF(AND(AF855=1,B856=0),1,IF(B856="","",IF(AND(F856=F854,B855=0),AF855+1,IF(AND(AF855>1,B856=0),AF855+1,IF(F856=F855,AF855+1,1)))))) | AG856: =IF(B856="","",IF(OR(AF855=1,AF855=2),"",IF(AF855>=3,AF855-2))) | AH856: =IF(AG856="","",VLOOKUP(AG856,$Z$4:$AA$18,2,0)) | AI856: =IF(AND(AI855=2,B856=0),1,IF(AND(AI855=1,B856=0),1,IF(B856="","",IF(AND(I856=I854,B855=0),AI855+1,IF(AND(AI855>1,B856=0),AI855+1,IF(I856=I855,AI855+1,1)))))) | AJ856: =IF(B856="","",IF(OR(AI855=1,AI855=2),"",IF(AI855>=3,AI855-2))) | AK856: =IF(AJ856="","",VLOOKUP(AJ856,$Z$4:$AA$18,2,0))
B857: =IF(Master!B857="","",Master!B857) | C857: =IF(B857="","",VLOOKUP(B857,$AS$1:$AZ$38,6,0)) | D857: =IF(L857="","",IF(L857>=1,"<--Win",IF(L857<0,"<--Bet",""))) | F857: =IF(B857="","",VLOOKUP(B857,$AS$1:$AZ$38,8,0)) | G857: =IF(O857="","",IF(O857>=1,"<--Win",IF(O857<0,"<--Bet",""))) | I857: =IF(B857="","",VLOOKUP(B857,$AS$1:$AZ$38,7,0)) | J857: =IF(R857="","",IF(R857>=1,"<--Win",IF(R857<0,"<--Bet",""))) | L857: =IF(AND(AD857<>"",AD858<>""),-AE857,IF(AND(AD857>=1,AD858=""),AE857,"")) | M857: =IF(L857<>"",SUM($L$6:L857),"") | O857: =IF(AND(AG857<>"",AG858<>""),-AH857,IF(AND(AG857>=1,AG858=""),AH857,"")) | P857: =IF(O857<>"",SUM($O$6:O857),"") | U857: =IF(B857="",U856,SUM($L$7:L857)+SUM($O$7:O857)+SUM($R$7:R857)) -> 60 | AC857: =IF(AND(AC856=2,B857=0),1,IF(AND(AC856=1,B857=0),1,IF(B857="","",IF(AND(C857=C855,B856=0),AC856+1,IF(AND(AC856>1,B857=0),AC856+1,IF(C857=C856,AC856+1,1)))))) | AD857: =IF(B857="","",IF(OR(AC856=1,AC856=2),"",IF(AC856>=3,AC856-2))) | AE857: =IF(AD857="","",VLOOKUP(AD857,$Z$4:$AA$18,2,0)) | AF857: =IF(AND(AF856=2,B857=0),1,IF(AND(AF856=1,B857=0),1,IF(B857="","",IF(AND(F857=F855,B856=0),AF856+1,IF(AND(AF856>1,B857=0),AF856+1,IF(F857=F856,AF856+1,1)))))) | AG857: =IF(B857="","",IF(OR(AF856=1,AF856=2),"",IF(AF856>=3,AF856-2))) | AH857: =IF(AG857="","",VLOOKUP(AG857,$Z$4:$AA$18,2,0)) | AI857: =IF(AND(AI856=2,B857=0),1,IF(AND(AI856=1,B857=0),1,IF(B857="","",IF(AND(I857=I855,B856=0),AI856+1,IF(AND(AI856>1,B857=0),AI856+1,IF(I857=I856,AI856+1,1)))))) | AJ857: =IF(B857="","",IF(OR(AI856=1,AI856=2),"",IF(AI856>=3,AI856-2))) | AK857: =IF(AJ857="","",VLOOKUP(AJ857,$Z$4:$AA$18,2,0))
B858: =IF(Master!B858="","",Master!B858) | C858: =IF(B858="","",VLOOKUP(B858,$AS$1:$AZ$38,6,0)) | D858: =IF(L858="","",IF(L858>=1,"<--Win",IF(L858<0,"<--Bet",""))) | F858: =IF(B858="","",VLOOKUP(B858,$AS$1:$AZ$38,8,0)) | G858: =IF(O858="","",IF(O858>=1,"<--Win",IF(O858<0,"<--Bet",""))) | I858: =IF(B858="","",VLOOKUP(B858,$AS$1:$AZ$38,7,0)) | J858: =IF(R858="","",IF(R858>=1,"<--Win",IF(R858<0,"<--Bet",""))) | L858: =IF(AND(AD858<>"",AD859<>""),-AE858,IF(AND(AD858>=1,AD859=""),AE858,"")) | M858: =IF(L858<>"",SUM($L$6:L858),"") | O858: =IF(AND(AG858<>"",AG859<>""),-AH858,IF(AND(AG858>=1,AG859=""),AH858,"")) | P858: =IF(O858<>"",SUM($O$6:O858),"") | U858: =IF(B858="",U857,SUM($L$7:L858)+SUM($O$7:O858)+SUM($R$7:R858)) -> 60 | AC858: =IF(AND(AC857=2,B858=0),1,IF(AND(AC857=1,B858=0),1,IF(B858="","",IF(AND(C858=C856,B857=0),AC857+1,IF(AND(AC857>1,B858=0),AC857+1,IF(C858=C857,AC857+1,1)))))) | AD858: =IF(B858="","",IF(OR(AC857=1,AC857=2),"",IF(AC857>=3,AC857-2))) | AE858: =IF(AD858="","",VLOOKUP(AD858,$Z$4:$AA$18,2,0)) | AF858: =IF(AND(AF857=2,B858=0),1,IF(AND(AF857=1,B858=0),1,IF(B858="","",IF(AND(F858=F856,B857=0),AF857+1,IF(AND(AF857>1,B858=0),AF857+1,IF(F858=F857,AF857+1,1)))))) | AG858: =IF(B858="","",IF(OR(AF857=1,AF857=2),"",IF(AF857>=3,AF857-2))) | AH858: =IF(AG858="","",VLOOKUP(AG858,$Z$4:$AA$18,2,0)) | AI858: =IF(AND(AI857=2,B858=0),1,IF(AND(AI857=1,B858=0),1,IF(B858="","",IF(AND(I858=I856,B857=0),AI857+1,IF(AND(AI857>1,B858=0),AI857+1,IF(I858=I857,AI857+1,1)))))) | AJ858: =IF(B858="","",IF(OR(AI857=1,AI857=2),"",IF(AI857>=3,AI857-2))) | AK858: =IF(AJ858="","",VLOOKUP(AJ858,$Z$4:$AA$18,2,0))
B859: =IF(Master!B859="","",Master!B859) | C859: =IF(B859="","",VLOOKUP(B859,$AS$1:$AZ$38,6,0)) | D859: =IF(L859="","",IF(L859>=1,"<--Win",IF(L859<0,"<--Bet",""))) | F859: =IF(B859="","",VLOOKUP(B859,$AS$1:$AZ$38,8,0)) | G859: =IF(O859="","",IF(O859>=1,"<--Win",IF(O859<0,"<--Bet",""))) | I859: =IF(B859="","",VLOOKUP(B859,$AS$1:$AZ$38,7,0)) | J859: =IF(R859="","",IF(R859>=1,"<--Win",IF(R859<0,"<--Bet",""))) | L859: =IF(AND(AD859<>"",AD860<>""),-AE859,IF(AND(AD859>=1,AD860=""),AE859,"")) | M859: =IF(L859<>"",SUM($L$6:L859),"") | O859: =IF(AND(AG859<>"",AG860<>""),-AH859,IF(AND(AG859>=1,AG860=""),AH859,"")) | P859: =IF(O859<>"",SUM($O$6:O859),"") | U859: =IF(B859="",U858,SUM($L$7:L859)+SUM($O$7:O859)+SUM($R$7:R859)) -> 60 | AC859: =IF(AND(AC858=2,B859=0),1,IF(AND(AC858=1,B859=0),1,IF(B859="","",IF(AND(C859=C857,B858=0),AC858+1,IF(AND(AC858>1,B859=0),AC858+1,IF(C859=C858,AC858+1,1)))))) | AD859: =IF(B859="","",IF(OR(AC858=1,AC858=2),"",IF(AC858>=3,AC858-2))) | AE859: =IF(AD859="","",VLOOKUP(AD859,$Z$4:$AA$18,2,0)) | AF859: =IF(AND(AF858=2,B859=0),1,IF(AND(AF858=1,B859=0),1,IF(B859="","",IF(AND(F859=F857,B858=0),AF858+1,IF(AND(AF858>1,B859=0),AF858+1,IF(F859=F858,AF858+1,1)))))) | AG859: =IF(B859="","",IF(OR(AF858=1,AF858=2),"",IF(AF858>=3,AF858-2))) | AH859: =IF(AG859="","",VLOOKUP(AG859,$Z$4:$AA$18,2,0)) | AI859: =IF(AND(AI858=2,B859=0),1,IF(AND(AI858=1,B859=0),1,IF(B859="","",IF(AND(I859=I857,B858=0),AI858+1,IF(AND(AI858>1,B859=0),AI858+1,IF(I859=I858,AI858+1,1)))))) | AJ859: =IF(B859="","",IF(OR(AI858=1,AI858=2),"",IF(AI858>=3,AI858-2))) | AK859: =IF(AJ859="","",VLOOKUP(AJ859,$Z$4:$AA$18,2,0))
B860: =IF(Master!B860="","",Master!B860) | C860: =IF(B860="","",VLOOKUP(B860,$AS$1:$AZ$38,6,0)) | D860: =IF(L860="","",IF(L860>=1,"<--Win",IF(L860<0,"<--Bet",""))) | F860: =IF(B860="","",VLOOKUP(B860,$AS$1:$AZ$38,8,0)) | G860: =IF(O860="","",IF(O860>=1,"<--Win",IF(O860<0,"<--Bet",""))) | I860: =IF(B860="","",VLOOKUP(B860,$AS$1:$AZ$38,7,0)) | J860: =IF(R860="","",IF(R860>=1,"<--Win",IF(R860<0,"<--Bet",""))) | L860: =IF(AND(AD860<>"",AD861<>""),-AE860,IF(AND(AD860>=1,AD861=""),AE860,"")) | M860: =IF(L860<>"",SUM($L$6:L860),"") | O860: =IF(AND(AG860<>"",AG861<>""),-AH860,IF(AND(AG860>=1,AG861=""),AH860,"")) | P860: =IF(O860<>"",SUM($O$6:O860),"") | U860: =IF(B860="",U859,SUM($L$7:L860)+SUM($O$7:O860)+SUM($R$7:R860)) -> 60 | AC860: =IF(AND(AC859=2,B860=0),1,IF(AND(AC859=1,B860=0),1,IF(B860="","",IF(AND(C860=C858,B859=0),AC859+1,IF(AND(AC859>1,B860=0),AC859+1,IF(C860=C859,AC859+1,1)))))) | AD860: =IF(B860="","",IF(OR(AC859=1,AC859=2),"",IF(AC859>=3,AC859-2))) | AE860: =IF(AD860="","",VLOOKUP(AD860,$Z$4:$AA$18,2,0)) | AF860: =IF(AND(AF859=2,B860=0),1,IF(AND(AF859=1,B860=0),1,IF(B860="","",IF(AND(F860=F858,B859=0),AF859+1,IF(AND(AF859>1,B860=0),AF859+1,IF(F860=F859,AF859+1,1)))))) | AG860: =IF(B860="","",IF(OR(AF859=1,AF859=2),"",IF(AF859>=3,AF859-2))) | AH860: =IF(AG860="","",VLOOKUP(AG860,$Z$4:$AA$18,2,0)) | AI860: =IF(AND(AI859=2,B860=0),1,IF(AND(AI859=1,B860=0),1,IF(B860="","",IF(AND(I860=I858,B859=0),AI859+1,IF(AND(AI859>1,B860=0),AI859+1,IF(I860=I859,AI859+1,1)))))) | AJ860: =IF(B860="","",IF(OR(AI859=1,AI859=2),"",IF(AI859>=3,AI859-2))) | AK860: =IF(AJ860="","",VLOOKUP(AJ860,$Z$4:$AA$18,2,0))
... B999: =IF(Master!B999="","",Master!B999) | C999: =IF(B999="","",VLOOKUP(B999,$AS$1:$AZ$38,6,0)) | D999: =IF(L999="","",IF(L999>=1,"<--Win",IF(L999<0,"<--Bet",""))) | F999: =IF(B999="","",VLOOKUP(B999,$AS$1:$AZ$38,8,0)) | G999: =IF(O999="","",IF(O999>=1,"<--Win",IF(O999<0,"<--Bet",""))) | I999: =IF(B999="","",VLOOKUP(B999,$AS$1:$AZ$38,7,0)) | J999: =IF(R999="","",IF(R999>=1,"<--Win",IF(R999<0,"<--Bet",""))) | L999: =IF(AND(AD999<>"",AD1000<>""),-AE999,IF(AND(AD999>=1,AD1000=""),AE999,"")) | M999: =IF(L999<>"",SUM($L$6:L999),"") | O999: =IF(AND(AG999<>"",AG1000<>""),-AH999,IF(AND(AG999>=1,AG1000=""),AH999,"")) | P999: =IF(O999<>"",SUM($O$6:O999),"") | U999: =IF(B999="",U998,SUM($L$7:L999)+SUM($O$7:O999)+SUM($R$7:R999)) -> 60 | AC999: =IF(AND(AC998=2,B999=0),1,IF(AND(AC998=1,B999=0),1,IF(B999="","",IF(AND(C999=C997,B998=0),AC998+1,IF(AND(AC998>1,B999=0),AC998+1,IF(C999=C998,AC998+1,1)))))) | AD999: =IF(B999="","",IF(OR(AC998=1,AC998=2),"",IF(AC998>=3,AC998-2))) | AE999: =IF(AD999="","",VLOOKUP(AD999,$Z$4:$AA$18,2,0)) | AF999: =IF(AND(AF998=2,B999=0),1,IF(AND(AF998=1,B999=0),1,IF(B999="","",IF(AND(F999=F997,B998=0),AF998+1,IF(AND(AF998>1,B999=0),AF998+1,IF(F999=F998,AF998+1,1)))))) | AG999: =IF(B999="","",IF(OR(AF998=1,AF998=2),"",IF(AF998>=3,AF998-2))) | AH999: =IF(AG999="","",VLOOKUP(AG999,$Z$4:$AA$18,2,0)) | AI999: =IF(AND(AI998=2,B999=0),1,IF(AND(AI998=1,B999=0),1,IF(B999="","",IF(AND(I999=I997,B998=0),AI998+1,IF(AND(AI998>1,B999=0),AI998+1,IF(I999=I998,AI998+1,1)))))) | AJ999: =IF(B999="","",IF(OR(AI998=1,AI998=2),"",IF(AI998>=3,AI998-2))) | AK999: =IF(AJ999="","",VLOOKUP(AJ999,$Z$4:$AA$18,2,0))
B1000: =IF(Master!B1000="","",Master!B1000) | C1000: =IF(B1000="","",VLOOKUP(B1000,$AS$1:$AZ$38,6,0)) | D1000: =IF(L1000="","",IF(L1000>=1,"<--Win",IF(L1000<0,"<--Bet",""))) | F1000: =IF(B1000="","",VLOOKUP(B1000,$AS$1:$AZ$38,8,0)) | G1000: =IF(O1000="","",IF(O1000>=1,"<--Win",IF(O1000<0,"<--Bet",""))) | I1000: =IF(B1000="","",VLOOKUP(B1000,$AS$1:$AZ$38,7,0)) | J1000: =IF(R1000="","",IF(R1000>=1,"<--Win",IF(R1000<0,"<--Bet",""))) | L1000: =IF(AND(AD1000<>"",AD1001<>""),-AE1000,IF(AND(AD1000>=1,AD1001=""),AE1000,"")) | M1000: =IF(L1000<>"",SUM($L$6:L1000),"") | O1000: =IF(AND(AG1000<>"",AG1001<>""),-AG1000,IF(AND(AG1000>=1,AG1001=""),AG1000,"")) | P1000: =IF(O1000<>"",SUM($O$6:O1000),"") | U1000: =IF(B1000="",U999,SUM($L$7:L1000)+SUM($O$7:O1000)+SUM($R$7:R1000)) -> 60 | AC1000: =IF(AND(AC999=2,B1000=0),1,IF(AND(AC999=1,B1000=0),1,IF(B1000="","",IF(AND(C1000=C998,B999=0),AC999+1,IF(AND(AC999>1,B1000=0),AC999+1,IF(C1000=C999,AC999+1,1)))))) | AD1000: =IF(B1000="","",IF(OR(AC999=1,AC999=2),"",IF(AC999>=3,AC999-2))) | AE1000: =IF(AD1000="","",VLOOKUP(AD1000,$Z$4:$AA$18,2,0)) | AF1000: =IF(AND(AF999=2,B1000=0),1,IF(AND(AF999=1,B1000=0),1,IF(B1000="","",IF(AND(F1000=F998,B999=0),AF999+1,IF(AND(AF999>1,B1000=0),AF999+1,IF(F1000=F999,AF999+1,1)))))) | AG1000: =IF(B1000="","",IF(OR(AF999=1,AF999=2),"",IF(AF999>=3,AF999-2))) | AH1000: =IF(AG1000="","",VLOOKUP(AG1000,$Z$4:$AA$18,2,0)) | AI1000: =IF(AND(AI999=2,B1000=0),1,IF(AND(AI999=1,B1000=0),1,IF(B1000="","",IF(AND(I1000=I998,B999=0),AI999+1,IF(AND(AI999>1,B1000=0),AI999+1,IF(I1000=I999,AI999+1,1)))))) | AJ1000: =IF(B1000="","",IF(OR(AI999=1,AI999=2),"",IF(AI999>=3,AI999-2))) | AK1000: =IF(AJ1000="","",VLOOKUP(AJ1000,$Z$4:$AA$18,2,0))

Sheet Prog + -
L1: 12 | P1: 52 | T1: 23 | AK1: ^^ | AV1: Num | AW1: Street | AX1: DS | AY1: DZ | AZ1: Col | BA1: R/B | BB1: O/E | BC1: H/L
A2: NUM | C2: R/B | F2: H/L | I2: O/E | L2: R/B | M2: Total | N2: High | P2: H/L | R2: High | T2: O/E | V2: High | X2: Total EC | Z2: Max Prog | AF2: Repeat EC | AV2: 0 | AW2: 0 | AX2: 0 | AY2: 0 | AZ2: 0 | BA2: Zero | BB2: Zero | BC2: Zero
B3: =IF('Prog Individual'!B3="","",'Prog Individual'!B3) -> 1 | C3: =IF(B3="","",VLOOKUP(B3,$AV$1:$BC$38,6,0)) -> R | F3: =IF(B3="","",VLOOKUP(B3,$AV$1:$BC$38,8,0)) -> L | I3: =IF(B3="","",VLOOKUP(B3,$AV$1:$BC$38,7,0)) -> O | L3: =SUM(L6:L1000) -> 40 | P3: =SUM(P6:P1000) -> 71 | T3: =SUM(T6:T1000) -> 35 | W3: Total --> | X3: =SUM(L3:T3) -> 146 | Z3: R/B | AA3: =MAX(L6:L1000) -> 9 | AF3: R/B | AG3: Bet Lvl | AH3: Prog | AI3: H/L | AJ3: Bet Lvl | AK3: Prog | AL3: O/E | AM3: Bet Lvl | AN3: Prog | AV3: 1 | AW3: 1 | AX3: 1 | AY3: 1 | AZ3: 1 | BA3: R | BB3: O | BC3: L
B4: =IF('Prog Individual'!B4="","",'Prog Individual'!B4) -> 0 | C4: =IF(B4="","",VLOOKUP(B4,$AV$1:$BC$38,6,0)) -> Zero | F4: =IF(B4="","",VLOOKUP(B4,$AV$1:$BC$38,8,0)) -> Zero | I4: =IF(B4="","",VLOOKUP(B4,$AV$1:$BC$38,7,0)) -> Zero | M4: 0 | N4: 0 | Q4: 0 | R4: 0 | U4: 0 | V4: 0 | Z4: H/L | AA4: =MAX(P6:P1000) -> 12 | AF4: =IF(B4="","",IF(C4=C3,2,1)) -> 1 | AI4: =IF(B4="","",IF(F4=F3,2,1)) -> 1 | AL4: =IF(B4="","",IF(I4=I3,2,1)) -> 1 | AV4: 2 | AW4: 1 | AX4: 1 | AY4: 1 | AZ4: 2 | BA4: B | BB4: E | BC4: L
B5: =IF('Prog Individual'!B5="","",'Prog Individual'!B5) -> 27 | C5: =IF(B5="","",VLOOKUP(B5,$AV$1:$BC$38,6,0)) -> R | F5: =IF(B5="","",VLOOKUP(B5,$AV$1:$BC$38,8,0)) -> H | I5: =IF(B5="","",VLOOKUP(B5,$AV$1:$BC$38,7,0)) -> O | M5: 0 | N5: 0 | Q5: 0 | R5: 0 | U5: 0 | V5: 0 | Z5: O/E | AA5: =MAX(T6:T1000) -> 13 | AF5: =IF(B5="","",IF(C5=C4,AF4+1,1)) -> 1 | AG5: =IF(B5="","",IF(OR(AF4=1,AF4=2),"",IF(AF4>=3,AF4-2))) | AH5: =IF(AG5="","",VLOOKUP(AG5,#REF!,2,0)) | AI5: =IF(B5="","",IF(F5=F4,AI4+1,1)) -> 1 | AJ5: =IF(B5="","",IF(OR(AI4=1,AI4=2),"",IF(AI4>=3,AI4-2))) | AK5: =IF(AJ5="","",VLOOKUP(AJ5,#REF!,2,0)) | AL5: =IF(B5="","",IF(I5=I4,AL4+1,1)) -> 1 | AM5: =IF(B5="","",IF(OR(AL4=1,AL4=2),"",IF(AL4>=3,AL4-2))) | AN5: =IF(AM5="","",VLOOKUP(AM5,#REF!,2,0)) | AV5: 3 | AW5: 1 | AX5: 1 | AY5: 1 | AZ5: 3 | BA5: R | BB5: O | BC5: L
B6: =IF('Prog Individual'!B6="","",'Prog Individual'!B6) -> 31 | C6: =IF(B6="","",VLOOKUP(B6,$AV$1:$BC$38,6,0)) -> B | D6: =IF(L6="","",IF(L6>=1,"<--Win",IF(L6<0,"<--Bet",""))) | F6: =IF(B6="","",VLOOKUP(B6,$AV$1:$BC$38,8,0)) -> H | G6: =IF(P6="","",IF(P6>=1,"<--Win",IF(P6<0,"<--Bet",""))) | I6: =IF(B6="","",VLOOKUP(B6,$AV$1:$BC$38,7,0)) -> O | J6: =IF(T6="","",IF(T6>=1,"<--Win",IF(T6<0,"<--Bet",""))) | L6: =IF(AND(AG6="",AG5<>""),"",IF(AND(AG6="",AG5=""),"",IF(AND(AG6<>"",AG7<>""),-AH6,IF(AND(AG6<>"",AG7=""),AH6)))) | M6: 0 | N6: 0 | P6: =IF(AND(AJ6="",AJ5<>""),"",IF(AND(AJ6="",AJ5=""),"",IF(AND(AJ6<>"",AJ7<>""),-AK6,IF(AND(AJ6<>"",AJ7=""),AK6)))) | Q6: 0 | R6: 0 | T6: =IF(AND(AM6="",AM5<>""),"",IF(AND(AM6="",AM5=""),"",IF(AND(AM6<>"",AM7<>""),-AN6,IF(AND(AM6<>"",AM7=""),AN6)))) | U6: 0 | V6: 0 | AF6: =IF(B6="","",IF(C6=C5,AF5+1,1)) -> 1 | AG6: =IF(B6="","",IF(OR(AF5=1,AF5=2),"",IF(AF5>=3,AF5-2))) | AH6: =IF(AND(AH5="",AG6=1),1,IF(AND(AH5=1,AG6=""),1,IF(AND(AG5="",AG6<>""),AH5,IF(AND(AG5="",AG6=""),AH5,IF(AND(AG5<>"",AG6=""),AH5-$AA$27,IF(AND(AG5<>"",AG6<>""),AH5+$AA$28)))))) | AI6: =IF(B6="","",IF(F6=F5,AI5+1,1)) -> 2 | AJ6: =IF(B6="","",IF(OR(AI5=1,AI5=2),"",IF(AI5>=3,AI5-2))) | AK6: =IF(AND(AK5="",AJ6=1),1,IF(AND(AK5=1,AJ6=""),1,IF(AND(AJ5="",AJ6<>""),AK5,IF(AND(AJ5="",AJ6=""),AK5,IF(AND(AJ5<>"",AJ6=""),AK5-$AA$27,IF(AND(AJ5<>"",AJ6<>""),AK5+$AA$28)))))) | AL6: =IF(B6="","",IF(I6=I5,AL5+1,1)) -> 2 | AM6: =IF(B6="","",IF(OR(AL5=1,AL5=2),"",IF(AL5>=3,AL5-2))) | AN6: =IF(AND(AN5="",AM6=1),1,IF(AND(AN5=1,AM6=""),1,IF(AND(AM5="",AM6<>""),AN5,IF(AND(AM5="",AM6=""),AN5,IF(AND(AM5<>"",AM6=""),AN5-$AA$27,IF(AND(AM5<>"",AM6<>""),AN5+$AA$28)))))) | AV6: 4 | AW6: 2 | AX6: 1 | AY6: 1 | AZ6: 1 | BA6: B | BB6: E | BC6: L
B7: =IF('Prog Individual'!B7="","",'Prog Individual'!B7) -> 9 | C7: =IF(B7="","",VLOOKUP(B7,$AV$1:$BC$38,6,0)) -> R | D7: =IF(L7="","",IF(L7>=1,"<--Win",IF(L7<0,"<--Bet",""))) | F7: =IF(B7="","",VLOOKUP(B7,$AV$1:$BC$38,8,0)) -> L | G7: =IF(P7="","",IF(P7>=1,"<--Win",IF(P7<0,"<--Bet",""))) | I7: =IF(B7="","",VLOOKUP(B7,$AV$1:$BC$38,7,0)) -> O | J7: =IF(T7="","",IF(T7>=1,"<--Win",IF(T7<0,"<--Bet",""))) | L7: =IF(AND(AG7="",AG6<>""),"",IF(AND(AG7="",AG6=""),"",IF(AND(AG7<>"",AG8<>""),-AH7,IF(AND(AG7<>"",AG8=""),AH7)))) | M7: =IF(L7<>"",SUM($L$6:L7),M6) -> 0 | N7: =IF(M7<N6,N6,M7) -> 0 | P7: =IF(AND(AJ7="",AJ6<>""),"",IF(AND(AJ7="",AJ6=""),"",IF(AND(AJ7<>"",AJ8<>""),-AK7,IF(AND(AJ7<>"",AJ8=""),AK7)))) | Q7: =IF(P7<>"",SUM($P$6:P7),Q6) -> 0 | R7: =IF(Q7<R6,R6,Q7) -> 0 | T7: =IF(AND(AM7="",AM6<>""),"",IF(AND(AM7="",AM6=""),"",IF(AND(AM7<>"",AM8<>""),-AN7,IF(AND(AM7<>"",AM8=""),AN7)))) | U7: =IF(T7<>"",SUM($T$6:T7),U6) -> 0 | V7: =IF(U7<V6,V6,U7) -> 0 | X7: =IF(B7="","",SUM($L$7:L7)+SUM($P$7:P7)+SUM($T$7:T7)) -> 0 | Z7: Max Lvl. | AF7: =IF(B7="","",IF(AND(AF6=2,B7=0),1,IF(AND(B7=0,AF6=1),1,IF(AND(C7=C5,B6=0),AF6+1,IF(AND(AF6>1,B7=0),AF6+1,IF(C7=C6,AF6+1,1)))))) -> 1 | AG7: =IF(B7="","",IF(OR(AF6=1,AF6=2),"",IF(AF6>=3,AF6-2))) | AH7: =IF(N6>N5,1,IF(AND(AH6="",AG7=1),1,IF(AND(AH6=1,AG7=""),1,IF(AND(AG6="",AG7<>""),AH6,IF(AND(AG6="",AG7=""),AH6,IF(AND(AG6<>"",AG7=""),AH6-$AA$27,IF(AND(AG6<>"",AG7<>""),AH6+$AA$28))))))) | AI7: =IF(B7="","",IF(AND(AI6=2,B7=0),1,IF(AND(B7=0,AI6=1),1,IF(AND(F7=F5,B6=0),AI6+1,IF(AND(AI6>1,B7=0),AI6+1,IF(F7=F6,AI6+1,1)))))) -> 1 | AJ7: =IF(B7="","",IF(OR(AI6=1,AI6=2),"",IF(AI6>=3,AI6-2))) | AK7: =IF(AND(AK6="",AJ7=1),1,IF(AND(AK6=1,AJ7=""),1,IF(AND(AJ6="",AJ7<>""),AK6,IF(AND(AJ6="",AJ7=""),AK6,IF(AND(AJ6<>"",AJ7=""),AK6-$AA$27,IF(AND(AJ6<>"",AJ7<>""),AK6+$AA$28)))))) | AL7: =IF(B7="","",IF(AND(AL6=2,B7=0),1,IF(AND(B7=0,AL6=1),1,IF(AND(I7=I5,B6=0),AL6+1,IF(AND(AL6>1,B7=0),AL6+1,IF(I7=I6,AL6+1,1)))))) -> 3 | AM7: =IF(B7="","",IF(OR(AL6=1,AL6=2),"",IF(AL6>=3,AL6-2))) | AN7: =IF(AND(AN6="",AM7=1),1,IF(AND(AN6=1,AM7=""),1,IF(AND(AM6="",AM7<>""),AN6,IF(AND(AM6="",AM7=""),AN6,IF(AND(AM6<>"",AM7=""),AN6-$AA$27,IF(AND(AM6<>"",AM7<>""),AN6+$AA$28)))))) | AV7: 5 | AW7: 2 | AX7: 1 | AY7: 1 | AZ7: 2 | BA7: R | BB7: O | BC7: L
B8: =IF('Prog Individual'!B8="","",'Prog Individual'!B8) -> 28 | C8: =IF(B8="","",VLOOKUP(B8,$AV$1:$BC$38,6,0)) -> B | D8: =IF(L8="","",IF(L8>=1,"<--Win",IF(L8<0,"<--Bet",""))) | F8: =IF(B8="","",VLOOKUP(B8,$AV$1:$BC$38,8,0)) -> H | G8: =IF(P8="","",IF(P8>=1,"<--Win",IF(P8<0,"<--Bet",""))) | I8: =IF(B8="","",VLOOKUP(B8,$AV$1:$BC$38,7,0)) -> E | J8: =IF(T8="","",IF(T8>=1,"<--Win",IF(T8<0,"<--Bet",""))) -> <--Win | L8: =IF(AND(AG8="",AG7<>""),"",IF(AND(AG8="",AG7=""),"",IF(AND(AG8<>"",AG9<>""),-AH8,IF(AND(AG8<>"",AG9=""),AH8)))) | M8: =IF(L8<>"",SUM($L$6:L8),M7) -> 0 | N8: =IF(M8<N7,N7,M8) -> 0 | P8: =IF(AND(AJ8="",AJ7<>""),"",IF(AND(AJ8="",AJ7=""),"",IF(AND(AJ8<>"",AJ9<>""),-AK8,IF(AND(AJ8<>"",AJ9=""),AK8)))) | Q8: =IF(P8<>"",SUM($P$6:P8),Q7) -> 0 | R8: =IF(Q8<R7,R7,Q8) -> 0 | T8: =IF(AND(AM8="",AM7<>""),"",IF(AND(AM8="",AM7=""),"",IF(AND(AM8<>"",AM9<>""),-AN8,IF(AND(AM8<>"",AM9=""),AN8)))) -> 1 | U8: =IF(T8<>"",SUM($T$6:T8),U7) -> 1 | V8: =IF(U8<V7,V7,U8) -> 1 | X8: =IF(B8="",X7,SUM($L$7:L8)+SUM($P$7:P8)+SUM($T$7:T8)) -> 1 | Z8: R/B | AA8: =MAX(AG6:AG1000) -> 7 | AF8: =IF(B8="","",IF(AND(AF7=2,B8=0),1,IF(AND(B8=0,AF7=1),1,IF(AND(C8=C6,B7=0),AF7+1,IF(AND(AF7>1,B8=0),AF7+1,IF(C8=C7,AF7+1,1)))))) -> 1 | AG8: =IF(B8="","",IF(OR(AF7=1,AF7=2),"",IF(AF7>=3,AF7-2))) | AH8: =IF(N7>N6,1,IF(AND(AH7="",AG8=1),1,IF(AND(AH7=1,AG8=""),1,IF(AND(AG7="",AG8<>""),AH7,IF(AND(AG7="",AG8=""),AH7,IF(AND(AG7<>"",AG8=""),AH7-$AA$27,IF(AND(AG7<>"",AG8<>""),AH7+$AA$28))))))) | AI8: =IF(B8="","",IF(AND(AI7=2,B8=0),1,IF(AND(B8=0,AI7=1),1,IF(AND(F8=F6,B7=0),AI7+1,IF(AND(AI7>1,B8=0),AI7+1,IF(F8=F7,AI7+1,1)))))) -> 1 | AJ8: =IF(B8="","",IF(OR(AI7=1,AI7=2),"",IF(AI7>=3,AI7-2))) | AK8: =IF(AND(AK7="",AJ8=1),1,IF(AND(AK7=1,AJ8=""),1,IF(AND(AJ7="",AJ8<>""),AK7,IF(AND(AJ7="",AJ8=""),AK7,IF(AND(AJ7<>"",AJ8=""),AK7-$AA$27,IF(AND(AJ7<>"",AJ8<>""),AK7+$AA$28)))))) | AL8: =IF(B8="","",IF(AND(AL7=2,B8=0),1,IF(AND(B8=0,AL7=1),1,IF(AND(I8=I6,B7=0),AL7+1,IF(AND(AL7>1,B8=0),AL7+1,IF(I8=I7,AL7+1,1)))))) -> 1 | AM8: =IF(B8="","",IF(OR(AL7=1,AL7=2),"",IF(AL7>=3,AL7-2))) -> 1 | AN8: =IF(AND(AN7="",AM8=1),1,IF(AND(AN7=1,AM8=""),1,IF(AND(AM7="",AM8<>""),AN7,IF(AND(AM7="",AM8=""),AN7,IF(AND(AM7<>"",AM8=""),AN7-$AA$27,IF(AND(AM7<>"",AM8<>""),AN7+$AA$28)))))) -> 1 | AV8: 6 | AW8: 2 | AX8: 1 | AY8: 1 | AZ8: 3 | BA8: B | BB8: E | BC8: L
B9: =IF('Prog Individual'!B9="","",'Prog Individual'!B9) -> 13 | C9: =IF(B9="","",VLOOKUP(B9,$AV$1:$BC$38,6,0)) -> B | D9: =IF(L9="","",IF(L9>=1,"<--Win",IF(L9<0,"<--Bet",""))) | F9: =IF(B9="","",VLOOKUP(B9,$AV$1:$BC$38,8,0)) -> L | G9: =IF(P9="","",IF(P9>=1,"<--Win",IF(P9<0,"<--Bet",""))) | I9: =IF(B9="","",VLOOKUP(B9,$AV$1:$BC$38,7,0)) -> O | J9: =IF(T9="","",IF(T9>=1,"<--Win",IF(T9<0,"<--Bet",""))) | L9: =IF(AND(AG9="",AG8<>""),"",IF(AND(AG9="",AG8=""),"",IF(AND(AG9<>"",AG10<>""),-AH9,IF(AND(AG9<>"",AG10=""),AH9)))) | M9: =IF(L9<>"",SUM($L$6:L9),M8) -> 0 | N9: =IF(M9<N8,N8,M9) -> 0 | P9: =IF(AND(AJ9="",AJ8<>""),"",IF(AND(AJ9="",AJ8=""),"",IF(AND(AJ9<>"",AJ10<>""),-AK9,IF(AND(AJ9<>"",AJ10=""),AK9)))) | Q9: =IF(P9<>"",SUM($P$6:P9),Q8) -> 0 | R9: =IF(Q9<R8,R8,Q9) -> 0 | T9: =IF(AND(AM9="",AM8<>""),"",IF(AND(AM9="",AM8=""),"",IF(AND(AM9<>"",AM10<>""),-AN9,IF(AND(AM9<>"",AM10=""),AN9)))) | U9: =IF(T9<>"",SUM($T$6:T9),U8) -> 1 | V9: =IF(U9<V8,V8,U9) -> 1 | X9: =IF(B9="",X8,SUM($L$7:L9)+SUM($P$7:P9)+SUM($T$7:T9)) -> 1 | Z9: H/L | AA9: =MAX(AJ6:AJ1000) -> 7 | AF9: =IF(B9="","",IF(AND(AF8=2,B9=0),1,IF(AND(B9=0,AF8=1),1,IF(AND(C9=C7,B8=0),AF8+1,IF(AND(AF8>1,B9=0),AF8+1,IF(C9=C8,AF8+1,1)))))) -> 2 | AG9: =IF(B9="","",IF(OR(AF8=1,AF8=2),"",IF(AF8>=3,AF8-2))) | AH9: =IF(N8>N7,1,IF(AND(AH8="",AG9=1),1,IF(AND(AH8=1,AG9=""),1,IF(AND(AG8="",AG9<>""),AH8,IF(AND(AG8="",AG9=""),AH8,IF(AND(AG8<>"",AG9=""),AH8-$AA$27,IF(AND(AG8<>"",AG9<>""),AH8+$AA$28))))))) | AI9: =IF(B9="","",IF(AND(AI8=2,B9=0),1,IF(AND(B9=0,AI8=1),1,IF(AND(F9=F7,B8=0),AI8+1,IF(AND(AI8>1,B9=0),AI8+1,IF(F9=F8,AI8+1,1)))))) -> 1 | AJ9: =IF(B9="","",IF(OR(AI8=1,AI8=2),"",IF(AI8>=3,AI8-2))) | AK9: =IF(AND(AK8="",AJ9=1),1,IF(AND(AK8=1,AJ9=""),1,IF(AND(AJ8="",AJ9<>""),AK8,IF(AND(AJ8="",AJ9=""),AK8,IF(AND(AJ8<>"",AJ9=""),AK8-$AA$27,IF(AND(AJ8<>"",AJ9<>""),AK8+$AA$28)))))) | AL9: =IF(B9="","",IF(AND(AL8=2,B9=0),1,IF(AND(B9=0,AL8=1),1,IF(AND(I9=I7,B8=0),AL8+1,IF(AND(AL8>1,B9=0),AL8+1,IF(I9=I8,AL8+1,1)))))) -> 1 | AM9: =IF(B9="","",IF(OR(AL8=1,AL8=2),"",IF(AL8>=3,AL8-2))) | AN9: =IF(AND(AN8="",AM9=1),1,IF(AND(AN8=1,AM9=""),1,IF(AND(AM8="",AM9<>""),AN8,IF(AND(AM8="",AM9=""),AN8,IF(AND(AM8<>"",AM9=""),AN8-$AA$27,IF(AND(AM8<>"",AM9<>""),AN8+$AA$28)))))) -> 1 | AV9: 7 | AW9: 3 | AX9: 2 | AY9: 1 | AZ9: 1 | BA9: R | BB9: O | BC9: L
B10: =IF('Prog Individual'!B10="","",'Prog Individual'!B10) -> 12 | C10: =IF(B10="","",VLOOKUP(B10,$AV$1:$BC$38,6,0)) -> R | D10: =IF(L10="","",IF(L10>=1,"<--Win",IF(L10<0,"<--Bet",""))) | F10: =IF(B10="","",VLOOKUP(B10,$AV$1:$BC$38,8,0)) -> L | G10: =IF(P10="","",IF(P10>=1,"<--Win",IF(P10<0,"<--Bet",""))) | I10: =IF(B10="","",VLOOKUP(B10,$AV$1:$BC$38,7,0)) -> E | J10: =IF(T10="","",IF(T10>=1,"<--Win",IF(T10<0,"<--Bet",""))) | L10: =IF(AND(AG10="",AG9<>""),"",IF(AND(AG10="",AG9=""),"",IF(AND(AG10<>"",AG11<>""),-AH10,IF(AND(AG10<>"",AG11=""),AH10)))) | M10: =IF(L10<>"",SUM($L$6:L10),M9) -> 0 | N10: =IF(M10<N9,N9,M10) -> 0 | P10: =IF(AND(AJ10="",AJ9<>""),"",IF(AND(AJ10="",AJ9=""),"",IF(AND(AJ10<>"",AJ11<>""),-AK10,IF(AND(AJ10<>"",AJ11=""),AK10)))) | Q10: =IF(P10<>"",SUM($P$6:P10),Q9) -> 0 | R10: =IF(Q10<R9,R9,Q10) -> 0 | T10: =IF(AND(AM10="",AM9<>""),"",IF(AND(AM10="",AM9=""),"",IF(AND(AM10<>"",AM11<>""),-AN10,IF(AND(AM10<>"",AM11=""),AN10)))) | U10: =IF(T10<>"",SUM($T$6:T10),U9) -> 1 | V10: =IF(U10<V9,V9,U10) -> 1 | X10: =IF(B10="",X9,SUM($L$7:L10)+SUM($P$7:P10)+SUM($T$7:T10)) -> 1 | Z10: O/E | AA10: =MAX(AM6:AM1000) -> 6 | AF10: =IF(B10="","",IF(AND(AF9=2,B10=0),1,IF(AND(B10=0,AF9=1),1,IF(AND(C10=C8,B9=0),AF9+1,IF(AND(AF9>1,B10=0),AF9+1,IF(C10=C9,AF9+1,1)))))) -> 1 | AG10: =IF(B10="","",IF(OR(AF9=1,AF9=2),"",IF(AF9>=3,AF9-2))) | AH10: =IF(N9>N8,1,IF(AND(AH9="",AG10=1),1,IF(AND(AH9=1,AG10=""),1,IF(AND(AG9="",AG10<>""),AH9,IF(AND(AG9="",AG10=""),AH9,IF(AND(AG9<>"",AG10=""),AH9-$AA$27,IF(AND(AG9<>"",AG10<>""),AH9+$AA$28))))))) | AI10: =IF(B10="","",IF(AND(AI9=2,B10=0),1,IF(AND(B10=0,AI9=1),1,IF(AND(F10=F8,B9=0),AI9+1,IF(AND(AI9>1,B10=0),AI9+1,IF(F10=F9,AI9+1,1)))))) -> 2 | AJ10: =IF(B10="","",IF(OR(AI9=1,AI9=2),"",IF(AI9>=3,AI9-2))) | AK10: =IF(AND(AK9="",AJ10=1),1,IF(AND(AK9=1,AJ10=""),1,IF(AND(AJ9="",AJ10<>""),AK9,IF(AND(AJ9="",AJ10=""),AK9,IF(AND(AJ9<>"",AJ10=""),AK9-$AA$27,IF(AND(AJ9<>"",AJ10<>""),AK9+$AA$28)))))) | AL10: =IF(B10="","",IF(AND(AL9=2,B10=0),1,IF(AND(B10=0,AL9=1),1,IF(AND(I10=I8,B9=0),AL9+1,IF(AND(AL9>1,B10=0),AL9+1,IF(I10=I9,AL9+1,1)))))) -> 1 | AM10: =IF(B10="","",IF(OR(AL9=1,AL9=2),"",IF(AL9>=3,AL9-2))) | AN10: =IF(AND(AN9="",AM10=1),1,IF(AND(AN9=1,AM10=""),1,IF(AND(AM9="",AM10<>""),AN9,IF(AND(AM9="",AM10=""),AN9,IF(AND(AM9<>"",AM10=""),AN9-$AA$27,IF(AND(AM9<>"",AM10<>""),AN9+$AA$28)))))) -> 1 | AV10: 8 | AW10: 3 | AX10: 2 | AY10: 1 | AZ10: 2 | BA10: B | BB10: E | BC10: L
B11: =IF('Prog Individual'!B11="","",'Prog Individual'!B11) -> 32 | C11: =IF(B11="","",VLOOKUP(B11,$AV$1:$BC$38,6,0)) -> R | D11: =IF(L11="","",IF(L11>=1,"<--Win",IF(L11<0,"<--Bet",""))) | F11: =IF(B11="","",VLOOKUP(B11,$AV$1:$BC$38,8,0)) -> H | G11: =IF(P11="","",IF(P11>=1,"<--Win",IF(P11<0,"<--Bet",""))) | I11: =IF(B11="","",VLOOKUP(B11,$AV$1:$BC$38,7,0)) -> E | J11: =IF(T11="","",IF(T11>=1,"<--Win",IF(T11<0,"<--Bet",""))) | L11: =IF(AND(AG11="",AG10<>""),"",IF(AND(AG11="",AG10=""),"",IF(AND(AG11<>"",AG12<>""),-AH11,IF(AND(AG11<>"",AG12=""),AH11)))) | M11: =IF(L11<>"",SUM($L$6:L11),M10) -> 0 | N11: =IF(M11<N10,N10,M11) -> 0 | P11: =IF(AND(AJ11="",AJ10<>""),"",IF(AND(AJ11="",AJ10=""),"",IF(AND(AJ11<>"",AJ12<>""),-AK11,IF(AND(AJ11<>"",AJ12=""),AK11)))) | Q11: =IF(P11<>"",SUM($P$6:P11),Q10) -> 0 | R11: =IF(Q11<R10,R10,Q11) -> 0 | T11: =IF(AND(AM11="",AM10<>""),"",IF(AND(AM11="",AM10=""),"",IF(AND(AM11<>"",AM12<>""),-AN11,IF(AND(AM11<>"",AM12=""),AN11)))) | U11: =IF(T11<>"",SUM($T$6:T11),U10) -> 1 | V11: =IF(U11<V10,V10,U11) -> 1 | X11: =IF(B11="",X10,SUM($L$7:L11)+SUM($P$7:P11)+SUM($T$7:T11)) -> 1 | AF11: =IF(B11="","",IF(AND(AF10=2,B11=0),1,IF(AND(B11=0,AF10=1),1,IF(AND(C11=C9,B10=0),AF10+1,IF(AND(AF10>1,B11=0),AF10+1,IF(C11=C10,AF10+1,1)))))) -> 2 | AG11: =IF(B11="","",IF(OR(AF10=1,AF10=2),"",IF(AF10>=3,AF10-2))) | AH11: =IF(N10>N9,1,IF(AND(AH10="",AG11=1),1,IF(AND(AH10=1,AG11=""),1,IF(AND(AG10="",AG11<>""),AH10,IF(AND(AG10="",AG11=""),AH10,IF(AND(AG10<>"",AG11=""),AH10-$AA$27,IF(AND(AG10<>"",AG11<>""),AH10+$AA$28))))))) | AI11: =IF(B11="","",IF(AND(AI10=2,B11=0),1,IF(AND(B11=0,AI10=1),1,IF(AND(F11=F9,B10=0),AI10+1,IF(AND(AI10>1,B11=0),AI10+1,IF(F11=F10,AI10+1,1)))))) -> 1 | AJ11: =IF(B11="","",IF(OR(AI10=1,AI10=2),"",IF(AI10>=3,AI10-2))) | AK11: =IF(AND(AK10="",AJ11=1),1,IF(AND(AK10=1,AJ11=""),1,IF(AND(AJ10="",AJ11<>""),AK10,IF(AND(AJ10="",AJ11=""),AK10,IF(AND(AJ10<>"",AJ11=""),AK10-$AA$27,IF(AND(AJ10<>"",AJ11<>""),AK10+$AA$28)))))) | AL11: =IF(B11="","",IF(AND(AL10=2,B11=0),1,IF(AND(B11=0,AL10=1),1,IF(AND(I11=I9,B10=0),AL10+1,IF(AND(AL10>1,B11=0),AL10+1,IF(I11=I10,AL10+1,1)))))) -> 2 | AM11: =IF(B11="","",IF(OR(AL10=1,AL10=2),"",IF(AL10>=3,AL10-2))) | AN11: =IF(AND(AN10="",AM11=1),1,IF(AND(AN10=1,AM11=""),1,IF(AND(AM10="",AM11<>""),AN10,IF(AND(AM10="",AM11=""),AN10,IF(AND(AM10<>"",AM11=""),AN10-$AA$27,IF(AND(AM10<>"",AM11<>""),AN10+$AA$28)))))) -> 1 | AV11: 9 | AW11: 3 | AX11: 2 | AY11: 1 | AZ11: 3 | BA11: R | BB11: O | BC11: L
B12: =IF('Prog Individual'!B12="","",'Prog Individual'!B12) -> 11 | C12: =IF(B12="","",VLOOKUP(B12,$AV$1:$BC$38,6,0)) -> B | D12: =IF(L12="","",IF(L12>=1,"<--Win",IF(L12<0,"<--Bet",""))) | F12: =IF(B12="","",VLOOKUP(B12,$AV$1:$BC$38,8,0)) -> L | G12: =IF(P12="","",IF(P12>=1,"<--Win",IF(P12<0,"<--Bet",""))) | I12: =IF(B12="","",VLOOKUP(B12,$AV$1:$BC$38,7,0)) -> O | J12: =IF(T12="","",IF(T12>=1,"<--Win",IF(T12<0,"<--Bet",""))) | L12: =IF(AND(AG12="",AG11<>""),"",IF(AND(AG12="",AG11=""),"",IF(AND(AG12<>"",AG13<>""),-AH12,IF(AND(AG12<>"",AG13=""),AH12)))) | M12: =IF(L12<>"",SUM($L$6:L12),M11) -> 0 | N12: =IF(M12<N11,N11,M12) -> 0 | P12: =IF(AND(AJ12="",AJ11<>""),"",IF(AND(AJ12="",AJ11=""),"",IF(AND(AJ12<>"",AJ13<>""),-AK12,IF(AND(AJ12<>"",AJ13=""),AK12)))) | Q12: =IF(P12<>"",SUM($P$6:P12),Q11) -> 0 | R12: =IF(Q12<R11,R11,Q12) -> 0 | T12: =IF(AND(AM12="",AM11<>""),"",IF(AND(AM12="",AM11=""),"",IF(AND(AM12<>"",AM13<>""),-AN12,IF(AND(AM12<>"",AM13=""),AN12)))) | U12: =IF(T12<>"",SUM($T$6:T12),U11) -> 1 | V12: =IF(U12<V11,V11,U12) -> 1 | X12: =IF(B12="",X11,SUM($L$7:L12)+SUM($P$7:P12)+SUM($T$7:T12)) -> 1 | Z12: Max Units | AF12: =IF(B12="","",IF(AND(AF11=2,B12=0),1,IF(AND(B12=0,AF11=1),1,IF(AND(C12=C10,B11=0),AF11+1,IF(AND(AF11>1,B12=0),AF11+1,IF(C12=C11,AF11+1,1)))))) -> 1 | AG12: =IF(B12="","",IF(OR(AF11=1,AF11=2),"",IF(AF11>=3,AF11-2))) | AH12: =IF(N11>N10,1,IF(AND(AH11="",AG12=1),1,IF(AND(AH11=1,AG12=""),1,IF(AND(AG11="",AG12<>""),AH11,IF(AND(AG11="",AG12=""),AH11,IF(AND(AG11<>"",AG12=""),AH11-$AA$27,IF(AND(AG11<>"",AG12<>""),AH11+$AA$28))))))) | AI12: =IF(B12="","",IF(AND(AI11=2,B12=0),1,IF(AND(B12=0,AI11=1),1,IF(AND(F12=F10,B11=0),AI11+1,IF(AND(AI11>1,B12=0),AI11+1,IF(F12=F11,AI11+1,1)))))) -> 1 | AJ12: =IF(B12="","",IF(OR(AI11=1,AI11=2),"",IF(AI11>=3,AI11-2))) | AK12: =IF(AND(AK11="",AJ12=1),1,IF(AND(AK11=1,AJ12=""),1,IF(AND(AJ11="",AJ12<>""),AK11,IF(AND(AJ11="",AJ12=""),AK11,IF(AND(AJ11<>"",AJ12=""),AK11-$AA$27,IF(AND(AJ11<>"",AJ12<>""),AK11+$AA$28)))))) | AL12: =IF(B12="","",IF(AND(AL11=2,B12=0),1,IF(AND(B12=0,AL11=1),1,IF(AND(I12=I10,B11=0),AL11+1,IF(AND(AL11>1,B12=0),AL11+1,IF(I12=I11,AL11+1,1)))))) -> 1 | AM12: =IF(B12="","",IF(OR(AL11=1,AL11=2),"",IF(AL11>=3,AL11-2))) | AN12: =IF(AND(AN11="",AM12=1),1,IF(AND(AN11=1,AM12=""),1,IF(AND(AM11="",AM12<>""),AN11,IF(AND(AM11="",AM12=""),AN11,IF(AND(AM11<>"",AM12=""),AN11-$AA$27,IF(AND(AM11<>"",AM12<>""),AN11+$AA$28)))))) -> 1 | AV12: 10 | AW12: 4 | AX12: 2 | AY12: 1 | AZ12: 1 | BA12: B | BB12: E | BC12: L
B13: =IF('Prog Individual'!B13="","",'Prog Individual'!B13) -> 35 | C13: =IF(B13="","",VLOOKUP(B13,$AV$1:$BC$38,6,0)) -> B | D13: =IF(L13="","",IF(L13>=1,"<--Win",IF(L13<0,"<--Bet",""))) | F13: =IF(B13="","",VLOOKUP(B13,$AV$1:$BC$38,8,0)) -> H | G13: =IF(P13="","",IF(P13>=1,"<--Win",IF(P13<0,"<--Bet",""))) | I13: =IF(B13="","",VLOOKUP(B13,$AV$1:$BC$38,7,0)) -> O | J13: =IF(T13="","",IF(T13>=1,"<--Win",IF(T13<0,"<--Bet",""))) | L13: =IF(AND(AG13="",AG12<>""),"",IF(AND(AG13="",AG12=""),"",IF(AND(AG13<>"",AG14<>""),-AH13,IF(AND(AG13<>"",AG14=""),AH13)))) | M13: =IF(L13<>"",SUM($L$6:L13),M12) -> 0 | N13: =IF(M13<N12,N12,M13) -> 0 | P13: =IF(AND(AJ13="",AJ12<>""),"",IF(AND(AJ13="",AJ12=""),"",IF(AND(AJ13<>"",AJ14<>""),-AK13,IF(AND(AJ13<>"",AJ14=""),AK13)))) | Q13: =IF(P13<>"",SUM($P$6:P13),Q12) -> 0 | R13: =IF(Q13<R12,R12,Q13) -> 0 | T13: =IF(AND(AM13="",AM12<>""),"",IF(AND(AM13="",AM12=""),"",IF(AND(AM13<>"",AM14<>""),-AN13,IF(AND(AM13<>"",AM14=""),AN13)))) | U13: =IF(T13<>"",SUM($T$6:T13),U12) -> 1 | V13: =IF(U13<V12,V12,U13) -> 1 | X13: =IF(B13="",X12,SUM($L$7:L13)+SUM($P$7:P13)+SUM($T$7:T13)) -> 1 | Z13: R/B | AA13: =MAX(M7:M1023) -> 49 | AF13: =IF(B13="","",IF(AND(AF12=2,B13=0),1,IF(AND(B13=0,AF12=1),1,IF(AND(C13=C11,B12=0),AF12+1,IF(AND(AF12>1,B13=0),AF12+1,IF(C13=C12,AF12+1,1)))))) -> 2 | AG13: =IF(B13="","",IF(OR(AF12=1,AF12=2),"",IF(AF12>=3,AF12-2))) | AH13: =IF(N12>N11,1,IF(AND(AH12="",AG13=1),1,IF(AND(AH12=1,AG13=""),1,IF(AND(AG12="",AG13<>""),AH12,IF(AND(AG12="",AG13=""),AH12,IF(AND(AG12<>"",AG13=""),AH12-$AA$27,IF(AND(AG12<>"",AG13<>""),AH12+$AA$28))))))) | AI13: =IF(B13="","",IF(AND(AI12=2,B13=0),1,IF(AND(B13=0,AI12=1),1,IF(AND(F13=F11,B12=0),AI12+1,IF(AND(AI12>1,B13=0),AI12+1,IF(F13=F12,AI12+1,1)))))) -> 1 | AJ13: =IF(B13="","",IF(OR(AI12=1,AI12=2),"",IF(AI12>=3,AI12-2))) | AK13: =IF(AND(AK12="",AJ13=1),1,IF(AND(AK12=1,AJ13=""),1,IF(AND(AJ12="",AJ13<>""),AK12,IF(AND(AJ12="",AJ13=""),AK12,IF(AND(AJ12<>"",AJ13=""),AK12-$AA$27,IF(AND(AJ12<>"",AJ13<>""),AK12+$AA$28)))))) | AL13: =IF(B13="","",IF(AND(AL12=2,B13=0),1,IF(AND(B13=0,AL12=1),1,IF(AND(I13=I11,B12=0),AL12+1,IF(AND(AL12>1,B13=0),AL12+1,IF(I13=I12,AL12+1,1)))))) -> 2 | AM13: =IF(B13="","",IF(OR(AL12=1,AL12=2),"",IF(AL12>=3,AL12-2))) | AN13: =IF(AND(AN12="",AM13=1),1,IF(AND(AN12=1,AM13=""),1,IF(AND(AM12="",AM13<>""),AN12,IF(AND(AM12="",AM13=""),AN12,IF(AND(AM12<>"",AM13=""),AN12-$AA$27,IF(AND(AM12<>"",AM13<>""),AN12+$AA$28)))))) -> 1 | AV13: 11 | AW13: 4 | AX13: 2 | AY13: 1 | AZ13: 2 | BA13: B | BB13: O | BC13: L
B14: =IF('Prog Individual'!B14="","",'Prog Individual'!B14) -> 30 | C14: =IF(B14="","",VLOOKUP(B14,$AV$1:$BC$38,6,0)) -> R | D14: =IF(L14="","",IF(L14>=1,"<--Win",IF(L14<0,"<--Bet",""))) | F14: =IF(B14="","",VLOOKUP(B14,$AV$1:$BC$38,8,0)) -> H | G14: =IF(P14="","",IF(P14>=1,"<--Win",IF(P14<0,"<--Bet",""))) | I14: =IF(B14="","",VLOOKUP(B14,$AV$1:$BC$38,7,0)) -> E | J14: =IF(T14="","",IF(T14>=1,"<--Win",IF(T14<0,"<--Bet",""))) | L14: =IF(AND(AG14="",AG13<>""),"",IF(AND(AG14="",AG13=""),"",IF(AND(AG14<>"",AG15<>""),-AH14,IF(AND(AG14<>"",AG15=""),AH14)))) | M14: =IF(L14<>"",SUM($L$6:L14),M13) -> 0 | N14: =IF(M14<N13,N13,M14) -> 0 | P14: =IF(AND(AJ14="",AJ13<>""),"",IF(AND(AJ14="",AJ13=""),"",IF(AND(AJ14<>"",AJ15<>""),-AK14,IF(AND(AJ14<>"",AJ15=""),AK14)))) | Q14: =IF(P14<>"",SUM($P$6:P14),Q13) -> 0 | R14: =IF(Q14<R13,R13,Q14) -> 0 | T14: =IF(AND(AM14="",AM13<>""),"",IF(AND(AM14="",AM13=""),"",IF(AND(AM14<>"",AM15<>""),-AN14,IF(AND(AM14<>"",AM15=""),AN14)))) | U14: =IF(T14<>"",SUM($T$6:T14),U13) -> 1 | V14: =IF(U14<V13,V13,U14) -> 1 | X14: =IF(B14="",X13,SUM($L$7:L14)+SUM($P$7:P14)+SUM($T$7:T14)) -> 1 | Z14: H/L | AA14: =MAX(Q27:Q1023) -> 71 | AF14: =IF(B14="","",IF(AND(AF13=2,B14=0),1,IF(AND(B14=0,AF13=1),1,IF(AND(C14=C12,B13=0),AF13+1,IF(AND(AF13>1,B14=0),AF13+1,IF(C14=C13,AF13+1,1)))))) -> 1 | AG14: =IF(B14="","",IF(OR(AF13=1,AF13=2),"",IF(AF13>=3,AF13-2))) | AH14: =IF(N13>N12,1,IF(AND(AH13="",AG14=1),1,IF(AND(AH13=1,AG14=""),1,IF(AND(AG13="",AG14<>""),AH13,IF(AND(AG13="",AG14=""),AH13,IF(AND(AG13<>"",AG14=""),AH13-$AA$27,IF(AND(AG13<>"",AG14<>""),AH13+$AA$28))))))) | AI14: =IF(B14="","",IF(AND(AI13=2,B14=0),1,IF(AND(B14=0,AI13=1),1,IF(AND(F14=F12,B13=0),AI13+1,IF(AND(AI13>1,B14=0),AI13+1,IF(F14=F13,AI13+1,1)))))) -> 2 | AJ14: =IF(B14="","",IF(OR(AI13=1,AI13=2),"",IF(AI13>=3,AI13-2))) | AK14: =IF(AND(AK13="",AJ14=1),1,IF(AND(AK13=1,AJ14=""),1,IF(AND(AJ13="",AJ14<>""),AK13,IF(AND(AJ13="",AJ14=""),AK13,IF(AND(AJ13<>"",AJ14=""),AK13-$AA$27,IF(AND(AJ13<>"",AJ14<>""),AK13+$AA$28)))))) | AL14: =IF(B14="","",IF(AND(AL13=2,B14=0),1,IF(AND(B14=0,AL13=1),1,IF(AND(I14=I12,B13=0),AL13+1,IF(AND(AL13>1,B14=0),AL13+1,IF(I14=I13,AL13+1,1)))))) -> 1 | AM14: =IF(B14="","",IF(OR(AL13=1,AL13=2),"",IF(AL13>=3,AL13-2))) | AN14: =IF(AND(AN13="",AM14=1),1,IF(AND(AN13=1,AM14=""),1,IF(AND(AM13="",AM14<>""),AN13,IF(AND(AM13="",AM14=""),AN13,IF(AND(AM13<>"",AM14=""),AN13-$AA$27,IF(AND(AM13<>"",AM14<>""),AN13+$AA$28)))))) -> 1 | AV14: 12 | AW14: 4 | AX14: 2 | AY14: 1 | AZ14: 3 | BA14: R | BB14: E | BC14: L
B15: =IF('Prog Individual'!B15="","",'Prog Individual'!B15) -> 21 | C15: =IF(B15="","",VLOOKUP(B15,$AV$1:$BC$38,6,0)) -> R | D15: =IF(L15="","",IF(L15>=1,"<--Win",IF(L15<0,"<--Bet",""))) | F15: =IF(B15="","",VLOOKUP(B15,$AV$1:$BC$38,8,0)) -> H | G15: =IF(P15="","",IF(P15>=1,"<--Win",IF(P15<0,"<--Bet",""))) | I15: =IF(B15="","",VLOOKUP(B15,$AV$1:$BC$38,7,0)) -> O | J15: =IF(T15="","",IF(T15>=1,"<--Win",IF(T15<0,"<--Bet",""))) | L15: =IF(AND(AG15="",AG14<>""),"",IF(AND(AG15="",AG14=""),"",IF(AND(AG15<>"",AG16<>""),-AH15,IF(AND(AG15<>"",AG16=""),AH15)))) | M15: =IF(L15<>"",SUM($L$6:L15),M14) -> 0 | N15: =IF(M15<N14,N14,M15) -> 0 | P15: =IF(AND(AJ15="",AJ14<>""),"",IF(AND(AJ15="",AJ14=""),"",IF(AND(AJ15<>"",AJ16<>""),-AK15,IF(AND(AJ15<>"",AJ16=""),AK15)))) | Q15: =IF(P15<>"",SUM($P$6:P15),Q14) -> 0 | R15: =IF(Q15<R14,R14,Q15) -> 0 | T15: =IF(AND(AM15="",AM14<>""),"",IF(AND(AM15="",AM14=""),"",IF(AND(AM15<>"",AM16<>""),-AN15,IF(AND(AM15<>"",AM16=""),AN15)))) | U15: =IF(T15<>"",SUM($T$6:T15),U14) -> 1 | V15: =IF(U15<V14,V14,U15) -> 1 | X15: =IF(B15="",X14,SUM($L$7:L15)+SUM($P$7:P15)+SUM($T$7:T15)) -> 1 | Z15: O/E | AA15: =MAX(U30:U1023) -> 47 | AF15: =IF(B15="","",IF(AND(AF14=2,B15=0),1,IF(AND(B15=0,AF14=1),1,IF(AND(C15=C13,B14=0),AF14+1,IF(AND(AF14>1,B15=0),AF14+1,IF(C15=C14,AF14+1,1)))))) -> 2 | AG15: =IF(B15="","",IF(OR(AF14=1,AF14=2),"",IF(AF14>=3,AF14-2))) | AH15: =IF(N14>N13,1,IF(AND(AH14="",AG15=1),1,IF(AND(AH14=1,AG15=""),1,IF(AND(AG14="",AG15<>""),AH14,IF(AND(AG14="",AG15=""),AH14,IF(AND(AG14<>"",AG15=""),AH14-$AA$27,IF(AND(AG14<>"",AG15<>""),AH14+$AA$28))))))) | AI15: =IF(B15="","",IF(AND(AI14=2,B15=0),1,IF(AND(B15=0,AI14=1),1,IF(AND(F15=F13,B14=0),AI14+1,IF(AND(AI14>1,B15=0),AI14+1,IF(F15=F14,AI14+1,1)))))) -> 3 | AJ15: =IF(B15="","",IF(OR(AI14=1,AI14=2),"",IF(AI14>=3,AI14-2))) | AK15: =IF(AND(AK14="",AJ15=1),1,IF(AND(AK14=1,AJ15=""),1,IF(AND(AJ14="",AJ15<>""),AK14,IF(AND(AJ14="",AJ15=""),AK14,IF(AND(AJ14<>"",AJ15=""),AK14-$AA$27,IF(AND(AJ14<>"",AJ15<>""),AK14+$AA$28)))))) | AL15: =IF(B15="","",IF(AND(AL14=2,B15=0),1,IF(AND(B15=0,AL14=1),1,IF(AND(I15=I13,B14=0),AL14+1,IF(AND(AL14>1,B15=0),AL14+1,IF(I15=I14,AL14+1,1)))))) -> 1 | AM15: =IF(B15="","",IF(OR(AL14=1,AL14=2),"",IF(AL14>=3,AL14-2))) | AN15: =IF(AND(AN14="",AM15=1),1,IF(AND(AN14=1,AM15=""),1,IF(AND(AM14="",AM15<>""),AN14,IF(AND(AM14="",AM15=""),AN14,IF(AND(AM14<>"",AM15=""),AN14-$AA$27,IF(AND(AM14<>"",AM15<>""),AN14+$AA$28)))))) -> 1 | AV15: 13 | AW15: 5 | AX15: 3 | AY15: 2 | AZ15: 1 | BA15: B | BB15: O | BC15: L
B16: =IF('Prog Individual'!B16="","",'Prog Individual'!B16) -> 13 | C16: =IF(B16="","",VLOOKUP(B16,$AV$1:$BC$38,6,0)) -> B | D16: =IF(L16="","",IF(L16>=1,"<--Win",IF(L16<0,"<--Bet",""))) | F16: =IF(B16="","",VLOOKUP(B16,$AV$1:$BC$38,8,0)) -> L | G16: =IF(P16="","",IF(P16>=1,"<--Win",IF(P16<0,"<--Bet",""))) -> <--Win | I16: =IF(B16="","",VLOOKUP(B16,$AV$1:$BC$38,7,0)) -> O | J16: =IF(T16="","",IF(T16>=1,"<--Win",IF(T16<0,"<--Bet",""))) | L16: =IF(AND(AG16="",AG15<>""),"",IF(AND(AG16="",AG15=""),"",IF(AND(AG16<>"",AG17<>""),-AH16,IF(AND(AG16<>"",AG17=""),AH16)))) | M16: =IF(L16<>"",SUM($L$6:L16),M15) -> 0 | N16: =IF(M16<N15,N15,M16) -> 0 | P16: =IF(AND(AJ16="",AJ15<>""),"",IF(AND(AJ16="",AJ15=""),"",IF(AND(AJ16<>"",AJ17<>""),-AK16,IF(AND(AJ16<>"",AJ17=""),AK16)))) -> 1 | Q16: =IF(P16<>"",SUM($P$6:P16),Q15) -> 1 | R16: =IF(Q16<R15,R15,Q16) -> 1 | T16: =IF(AND(AM16="",AM15<>""),"",IF(AND(AM16="",AM15=""),"",IF(AND(AM16<>"",AM17<>""),-AN16,IF(AND(AM16<>"",AM17=""),AN16)))) | U16: =IF(T16<>"",SUM($T$6:T16),U15) -> 1 | V16: =IF(U16<V15,V15,U16) -> 1 | X16: =IF(B16="",X15,SUM($L$7:L16)+SUM($P$7:P16)+SUM($T$7:T16)) -> 2 | AF16: =IF(B16="","",IF(AND(AF15=2,B16=0),1,IF(AND(B16=0,AF15=1),1,IF(AND(C16=C14,B15=0),AF15+1,IF(AND(AF15>1,B16=0),AF15+1,IF(C16=C15,AF15+1,1)))))) -> 1 | AG16: =IF(B16="","",IF(OR(AF15=1,AF15=2),"",IF(AF15>=3,AF15-2))) | AH16: =IF(N15>N14,1,IF(AND(AH15="",AG16=1),1,IF(AND(AH15=1,AG16=""),1,IF(AND(AG15="",AG16<>""),AH15,IF(AND(AG15="",AG16=""),AH15,IF(AND(AG15<>"",AG16=""),AH15-$AA$27,IF(AND(AG15<>"",AG16<>""),AH15+$AA$28))))))) | AI16: =IF(B16="","",IF(AND(AI15=2,B16=0),1,IF(AND(B16=0,AI15=1),1,IF(AND(F16=F14,B15=0),AI15+1,IF(AND(AI15>1,B16=0),AI15+1,IF(F16=F15,AI15+1,1)))))) -> 1 | AJ16: =IF(B16="","",IF(OR(AI15=1,AI15=2),"",IF(AI15>=3,AI15-2))) -> 1 | AK16: =IF(AND(AK15="",AJ16=1),1,IF(AND(AK15=1,AJ16=""),1,IF(AND(AJ15="",AJ16<>""),AK15,IF(AND(AJ15="",AJ16=""),AK15,IF(AND(AJ15<>"",AJ16=""),AK15-$AA$27,IF(AND(AJ15<>"",AJ16<>""),AK15+$AA$28)))))) -> 1 | AL16: =IF(B16="","",IF(AND(AL15=2,B16=0),1,IF(AND(B16=0,AL15=1),1,IF(AND(I16=I14,B15=0),AL15+1,IF(AND(AL15>1,B16=0),AL15+1,IF(I16=I15,AL15+1,1)))))) -> 2 | AM16: =IF(B16="","",IF(OR(AL15=1,AL15=2),"",IF(AL15>=3,AL15-2))) | AN16: =IF(AND(AN15="",AM16=1),1,IF(AND(AN15=1,AM16=""),1,IF(AND(AM15="",AM16<>""),AN15,IF(AND(AM15="",AM16=""),AN15,IF(AND(AM15<>"",AM16=""),AN15-$AA$27,IF(AND(AM15<>"",AM16<>""),AN15+$AA$28)))))) -> 1 | AV16: 14 | AW16: 5 | AX16: 3 | AY16: 2 | AZ16: 2 | BA16: R | BB16: E | BC16: L
B17: =IF('Prog Individual'!B17="","",'Prog Individual'!B17) -> 0 | C17: =IF(B17="","",VLOOKUP(B17,$AV$1:$BC$38,6,0)) -> Zero | D17: =IF(L17="","",IF(L17>=1,"<--Win",IF(L17<0,"<--Bet",""))) | F17: =IF(B17="","",VLOOKUP(B17,$AV$1:$BC$38,8,0)) -> Zero | G17: =IF(P17="","",IF(P17>=1,"<--Win",IF(P17<0,"<--Bet",""))) | I17: =IF(B17="","",VLOOKUP(B17,$AV$1:$BC$38,7,0)) -> Zero | J17: =IF(T17="","",IF(T17>=1,"<--Win",IF(T17<0,"<--Bet",""))) | L17: =IF(AND(AG17="",AG16<>""),"",IF(AND(AG17="",AG16=""),"",IF(AND(AG17<>"",AG18<>""),-AH17,IF(AND(AG17<>"",AG18=""),AH17)))) | M17: =IF(L17<>"",SUM($L$6:L17),M16) -> 0 | N17: =IF(M17<N16,N16,M17) -> 0 | P17: =IF(AND(AJ17="",AJ16<>""),"",IF(AND(AJ17="",AJ16=""),"",IF(AND(AJ17<>"",AJ18<>""),-AK17,IF(AND(AJ17<>"",AJ18=""),AK17)))) | Q17: =IF(P17<>"",SUM($P$6:P17),Q16) -> 1 | R17: =IF(Q17<R16,R16,Q17) -> 1 | T17: =IF(AND(AM17="",AM16<>""),"",IF(AND(AM17="",AM16=""),"",IF(AND(AM17<>"",AM18<>""),-AN17,IF(AND(AM17<>"",AM18=""),AN17)))) | U17: =IF(T17<>"",SUM($T$6:T17),U16) -> 1 | V17: =IF(U17<V16,V16,U17) -> 1 | X17: =IF(B17="",X16,SUM($L$7:L17)+SUM($P$7:P17)+SUM($T$7:T17)) -> 2 | Z17: Min Units | AF17: =IF(B17="","",IF(AND(AF16=2,B17=0),1,IF(AND(B17=0,AF16=1),1,IF(AND(C17=C15,B16=0),AF16+1,IF(AND(AF16>1,B17=0),AF16+1,IF(C17=C16,AF16+1,1)))))) -> 1 | AG17: =IF(B17="","",IF(OR(AF16=1,AF16=2),"",IF(AF16>=3,AF16-2))) | AH17: =IF(N16>N15,1,IF(AND(AH16="",AG17=1),1,IF(AND(AH16=1,AG17=""),1,IF(AND(AG16="",AG17<>""),AH16,IF(AND(AG16="",AG17=""),AH16,IF(AND(AG16<>"",AG17=""),AH16-$AA$27,IF(AND(AG16<>"",AG17<>""),AH16+$AA$28))))))) | AI17: =IF(B17="","",IF(AND(AI16=2,B17=0),1,IF(AND(B17=0,AI16=1),1,IF(AND(F17=F15,B16=0),AI16+1,IF(AND(AI16>1,B17=0),AI16+1,IF(F17=F16,AI16+1,1)))))) -> 1 | AJ17: =IF(B17="","",IF(OR(AI16=1,AI16=2),"",IF(AI16>=3,AI16-2))) | AK17: =IF(AND(AK16="",AJ17=1),1,IF(AND(AK16=1,AJ17=""),1,IF(AND(AJ16="",AJ17<>""),AK16,IF(AND(AJ16="",AJ17=""),AK16,IF(AND(AJ16<>"",AJ17=""),AK16-$AA$27,IF(AND(AJ16<>"",AJ17<>""),AK16+$AA$28)))))) -> 1 | AL17: =IF(B17="","",IF(AND(AL16=2,B17=0),1,IF(AND(B17=0,AL16=1),1,IF(AND(I17=I15,B16=0),AL16+1,IF(AND(AL16>1,B17=0),AL16+1,IF(I17=I16,AL16+1,1)))))) -> 1 | AM17: =IF(B17="","",IF(OR(AL16=1,AL16=2),"",IF(AL16>=3,AL16-2))) | AN17: =IF(AND(AN16="",AM17=1),1,IF(AND(AN16=1,AM17=""),1,IF(AND(AM16="",AM17<>""),AN16,IF(AND(AM16="",AM17=""),AN16,IF(AND(AM16<>"",AM17=""),AN16-$AA$27,IF(AND(AM16<>"",AM17<>""),AN16+$AA$28)))))) -> 1 | AV17: 15 | AW17: 5 | AX17: 3 | AY17: 2 | AZ17: 3 | BA17: B | BB17: O | BC17: L
B18: =IF('Prog Individual'!B18="","",'Prog Individual'!B18) -> 0 | C18: =IF(B18="","",VLOOKUP(B18,$AV$1:$BC$38,6,0)) -> Zero | D18: =IF(L18="","",IF(L18>=1,"<--Win",IF(L18<0,"<--Bet",""))) | F18: =IF(B18="","",VLOOKUP(B18,$AV$1:$BC$38,8,0)) -> Zero | G18: =IF(P18="","",IF(P18>=1,"<--Win",IF(P18<0,"<--Bet",""))) | I18: =IF(B18="","",VLOOKUP(B18,$AV$1:$BC$38,7,0)) -> Zero | J18: =IF(T18="","",IF(T18>=1,"<--Win",IF(T18<0,"<--Bet",""))) | L18: =IF(AND(AG18="",AG17<>""),"",IF(AND(AG18="",AG17=""),"",IF(AND(AG18<>"",AG19<>""),-AH18,IF(AND(AG18<>"",AG19=""),AH18)))) | M18: =IF(L18<>"",SUM($L$6:L18),M17) -> 0 | N18: =IF(M18<N17,N17,M18) -> 0 | P18: =IF(AND(AJ18="",AJ17<>""),"",IF(AND(AJ18="",AJ17=""),"",IF(AND(AJ18<>"",AJ19<>""),-AK18,IF(AND(AJ18<>"",AJ19=""),AK18)))) | Q18: =IF(P18<>"",SUM($P$6:P18),Q17) -> 1 | R18: =IF(Q18<R17,R17,Q18) -> 1 | T18: =IF(AND(AM18="",AM17<>""),"",IF(AND(AM18="",AM17=""),"",IF(AND(AM18<>"",AM19<>""),-AN18,IF(AND(AM18<>"",AM19=""),AN18)))) | U18: =IF(T18<>"",SUM($T$6:T18),U17) -> 1 | V18: =IF(U18<V17,V17,U18) -> 1 | X18: =IF(B18="",X17,SUM($L$7:L18)+SUM($P$7:P18)+SUM($T$7:T18)) -> 2 | Z18: R/B | AA18: =MIN(M12:M1028) -> -32 | AF18: =IF(B18="","",IF(AND(AF17=2,B18=0),1,IF(AND(B18=0,AF17=1),1,IF(AND(C18=C16,B17=0),AF17+1,IF(AND(AF17>1,B18=0),AF17+1,IF(C18=C17,AF17+1,1)))))) -> 1 | AG18: =IF(B18="","",IF(OR(AF17=1,AF17=2),"",IF(AF17>=3,AF17-2))) | AH18: =IF(N17>N16,1,IF(AND(AH17="",AG18=1),1,IF(AND(AH17=1,AG18=""),1,IF(AND(AG17="",AG18<>""),AH17,IF(AND(AG17="",AG18=""),AH17,IF(AND(AG17<>"",AG18=""),AH17-$AA$27,IF(AND(AG17<>"",AG18<>""),AH17+$AA$28))))))) | AI18: =IF(B18="","",IF(AND(AI17=2,B18=0),1,IF(AND(B18=0,AI17=1),1,IF(AND(F18=F16,B17=0),AI17+1,IF(AND(AI17>1,B18=0),AI17+1,IF(F18=F17,AI17+1,1)))))) -> 1 | AJ18: =IF(B18="","",IF(OR(AI17=1,AI17=2),"",IF(AI17>=3,AI17-2))) | AK18: =IF(AND(AK17="",AJ18=1),1,IF(AND(AK17=1,AJ18=""),1,IF(AND(AJ17="",AJ18<>""),AK17,IF(AND(AJ17="",AJ18=""),AK17,IF(AND(AJ17<>"",AJ18=""),AK17-$AA$27,IF(AND(AJ17<>"",AJ18<>""),AK17+$AA$28)))))) -> 1 | AL18: =IF(B18="","",IF(AND(AL17=2,B18=0),1,IF(AND(B18=0,AL17=1),1,IF(AND(I18=I16,B17=0),AL17+1,IF(AND(AL17>1,B18=0),AL17+1,IF(I18=I17,AL17+1,1)))))) -> 1 | AM18: =IF(B18="","",IF(OR(AL17=1,AL17=2),"",IF(AL17>=3,AL17-2))) | AN18: =IF(AND(AN17="",AM18=1),1,IF(AND(AN17=1,AM18=""),1,IF(AND(AM17="",AM18<>""),AN17,IF(AND(AM17="",AM18=""),AN17,IF(AND(AM17<>"",AM18=""),AN17-$AA$27,IF(AND(AM17<>"",AM18<>""),AN17+$AA$28)))))) -> 1 | AV18: 16 | AW18: 6 | AX18: 3 | AY18: 2 | AZ18: 1 | BA18: R | BB18: E | BC18: L
B19: =IF('Prog Individual'!B19="","",'Prog Individual'!B19) -> 10 | C19: =IF(B19="","",VLOOKUP(B19,$AV$1:$BC$38,6,0)) -> B | D19: =IF(L19="","",IF(L19>=1,"<--Win",IF(L19<0,"<--Bet",""))) | F19: =IF(B19="","",VLOOKUP(B19,$AV$1:$BC$38,8,0)) -> L | G19: =IF(P19="","",IF(P19>=1,"<--Win",IF(P19<0,"<--Bet",""))) | I19: =IF(B19="","",VLOOKUP(B19,$AV$1:$BC$38,7,0)) -> E | J19: =IF(T19="","",IF(T19>=1,"<--Win",IF(T19<0,"<--Bet",""))) | L19: =IF(AND(AG19="",AG18<>""),"",IF(AND(AG19="",AG18=""),"",IF(AND(AG19<>"",AG20<>""),-AH19,IF(AND(AG19<>"",AG20=""),AH19)))) | M19: =IF(L19<>"",SUM($L$6:L19),M18) -> 0 | N19: =IF(M19<N18,N18,M19) -> 0 | P19: =IF(AND(AJ19="",AJ18<>""),"",IF(AND(AJ19="",AJ18=""),"",IF(AND(AJ19<>"",AJ20<>""),-AK19,IF(AND(AJ19<>"",AJ20=""),AK19)))) | Q19: =IF(P19<>"",SUM($P$6:P19),Q18) -> 1 | R19: =IF(Q19<R18,R18,Q19) -> 1 | T19: =IF(AND(AM19="",AM18<>""),"",IF(AND(AM19="",AM18=""),"",IF(AND(AM19<>"",AM20<>""),-AN19,IF(AND(AM19<>"",AM20=""),AN19)))) | U19: =IF(T19<>"",SUM($T$6:T19),U18) -> 1 | V19: =IF(U19<V18,V18,U19) -> 1 | X19: =IF(B19="",X18,SUM($L$7:L19)+SUM($P$7:P19)+SUM($T$7:T19)) -> 2 | Z19: H/L | AA19: =MIN(Q32:Q1028) -> -31 | AF19: =IF(B19="","",IF(AND(AF18=2,B19=0),1,IF(AND(B19=0,AF18=1),1,IF(AND(C19=C17,B18=0),AF18+1,IF(AND(AF18>1,B19=0),AF18+1,IF(C19=C18,AF18+1,1)))))) -> 1 | AG19: =IF(B19="","",IF(OR(AF18=1,AF18=2),"",IF(AF18>=3,AF18-2))) | AH19: =IF(N18>N17,1,IF(AND(AH18="",AG19=1),1,IF(AND(AH18=1,AG19=""),1,IF(AND(AG18="",AG19<>""),AH18,IF(AND(AG18="",AG19=""),AH18,IF(AND(AG18<>"",AG19=""),AH18-$AA$27,IF(AND(AG18<>"",AG19<>""),AH18+$AA$28))))))) | AI19: =IF(B19="","",IF(AND(AI18=2,B19=0),1,IF(AND(B19=0,AI18=1),1,IF(AND(F19=F17,B18=0),AI18+1,IF(AND(AI18>1,B19=0),AI18+1,IF(F19=F18,AI18+1,1)))))) -> 1 | AJ19: =IF(B19="","",IF(OR(AI18=1,AI18=2),"",IF(AI18>=3,AI18-2))) | AK19: =IF(AND(AK18="",AJ19=1),1,IF(AND(AK18=1,AJ19=""),1,IF(AND(AJ18="",AJ19<>""),AK18,IF(AND(AJ18="",AJ19=""),AK18,IF(AND(AJ18<>"",AJ19=""),AK18-$AA$27,IF(AND(AJ18<>"",AJ19<>""),AK18+$AA$28)))))) -> 1 | AL19: =IF(B19="","",IF(AND(AL18=2,B19=0),1,IF(AND(B19=0,AL18=1),1,IF(AND(I19=I17,B18=0),AL18+1,IF(AND(AL18>1,B19=0),AL18+1,IF(I19=I18,AL18+1,1)))))) -> 1 | AM19: =IF(B19="","",IF(OR(AL18=1,AL18=2),"",IF(AL18>=3,AL18-2))) | AN19: =IF(AND(AN18="",AM19=1),1,IF(AND(AN18=1,AM19=""),1,IF(AND(AM18="",AM19<>""),AN18,IF(AND(AM18="",AM19=""),AN18,IF(AND(AM18<>"",AM19=""),AN18-$AA$27,IF(AND(AM18<>"",AM19<>""),AN18+$AA$28)))))) -> 1 | AV19: 17 | AW19: 6 | AX19: 3 | AY19: 2 | AZ19: 2 | BA19: B | BB19: O | BC19: L
B20: =IF('Prog Individual'!B20="","",'Prog Individual'!B20) -> 31 | C20: =IF(B20="","",VLOOKUP(B20,$AV$1:$BC$38,6,0)) -> B | D20: =IF(L20="","",IF(L20>=1,"<--Win",IF(L20<0,"<--Bet",""))) | F20: =IF(B20="","",VLOOKUP(B20,$AV$1:$BC$38,8,0)) -> H | G20: =IF(P20="","",IF(P20>=1,"<--Win",IF(P20<0,"<--Bet",""))) | I20: =IF(B20="","",VLOOKUP(B20,$AV$1:$BC$38,7,0)) -> O | J20: =IF(T20="","",IF(T20>=1,"<--Win",IF(T20<0,"<--Bet",""))) | L20: =IF(AND(AG20="",AG19<>""),"",IF(AND(AG20="",AG19=""),"",IF(AND(AG20<>"",AG21<>""),-AH20,IF(AND(AG20<>"",AG21=""),AH20)))) | M20: =IF(L20<>"",SUM($L$6:L20),M19) -> 0 | N20: =IF(M20<N19,N19,M20) -> 0 | P20: =IF(AND(AJ20="",AJ19<>""),"",IF(AND(AJ20="",AJ19=""),"",IF(AND(AJ20<>"",AJ21<>""),-AK20,IF(AND(AJ20<>"",AJ21=""),AK20)))) | Q20: =IF(P20<>"",SUM($P$6:P20),Q19) -> 1 | R20: =IF(Q20<R19,R19,Q20) -> 1 | T20: =IF(AND(AM20="",AM19<>""),"",IF(AND(AM20="",AM19=""),"",IF(AND(AM20<>"",AM21<>""),-AN20,IF(AND(AM20<>"",AM21=""),AN20)))) | U20: =IF(T20<>"",SUM($T$6:T20),U19) -> 1 | V20: =IF(U20<V19,V19,U20) -> 1 | X20: =IF(B20="",X19,SUM($L$7:L20)+SUM($P$7:P20)+SUM($T$7:T20)) -> 2 | Z20: O/E | AA20: =MIN(U35:U1028) -> -34 | AF20: =IF(B20="","",IF(AND(AF19=2,B20=0),1,IF(AND(B20=0,AF19=1),1,IF(AND(C20=C18,B19=0),AF19+1,IF(AND(AF19>1,B20=0),AF19+1,IF(C20=C19,AF19+1,1)))))) -> 2 | AG20: =IF(B20="","",IF(OR(AF19=1,AF19=2),"",IF(AF19>=3,AF19-2))) | AH20: =IF(N19>N18,1,IF(AND(AH19="",AG20=1),1,IF(AND(AH19=1,AG20=""),1,IF(AND(AG19="",AG20<>""),AH19,IF(AND(AG19="",AG20=""),AH19,IF(AND(AG19<>"",AG20=""),AH19-$AA$27,IF(AND(AG19<>"",AG20<>""),AH19+$AA$28))))))) | AI20: =IF(B20="","",IF(AND(AI19=2,B20=0),1,IF(AND(B20=0,AI19=1),1,IF(AND(F20=F18,B19=0),AI19+1,IF(AND(AI19>1,B20=0),AI19+1,IF(F20=F19,AI19+1,1)))))) -> 1 | AJ20: =IF(B20="","",IF(OR(AI19=1,AI19=2),"",IF(AI19>=3,AI19-2))) | AK20: =IF(AND(AK19="",AJ20=1),1,IF(AND(AK19=1,AJ20=""),1,IF(AND(AJ19="",AJ20<>""),AK19,IF(AND(AJ19="",AJ20=""),AK19,IF(AND(AJ19<>"",AJ20=""),AK19-$AA$27,IF(AND(AJ19<>"",AJ20<>""),AK19+$AA$28)))))) -> 1 | AL20: =IF(B20="","",IF(AND(AL19=2,B20=0),1,IF(AND(B20=0,AL19=1),1,IF(AND(I20=I18,B19=0),AL19+1,IF(AND(AL19>1,B20=0),AL19+1,IF(I20=I19,AL19+1,1)))))) -> 1 | AM20: =IF(B20="","",IF(OR(AL19=1,AL19=2),"",IF(AL19>=3,AL19-2))) | AN20: =IF(AND(AN19="",AM20=1),1,IF(AND(AN19=1,AM20=""),1,IF(AND(AM19="",AM20<>""),AN19,IF(AND(AM19="",AM20=""),AN19,IF(AND(AM19<>"",AM20=""),AN19-$AA$27,IF(AND(AM19<>"",AM20<>""),AN19+$AA$28)))))) -> 1 | AV20: 18 | AW20: 6 | AX20: 3 | AY20: 2 | AZ20: 3 | BA20: R | BB20: E | BC20: L
B21: =IF('Prog Individual'!B21="","",'Prog Individual'!B21) -> 29 | C21: =IF(B21="","",VLOOKUP(B21,$AV$1:$BC$38,6,0)) -> B | D21: =IF(L21="","",IF(L21>=1,"<--Win",IF(L21<0,"<--Bet",""))) | F21: =IF(B21="","",VLOOKUP(B21,$AV$1:$BC$38,8,0)) -> H | G21: =IF(P21="","",IF(P21>=1,"<--Win",IF(P21<0,"<--Bet",""))) | I21: =IF(B21="","",VLOOKUP(B21,$AV$1:$BC$38,7,0)) -> O | J21: =IF(T21="","",IF(T21>=1,"<--Win",IF(T21<0,"<--Bet",""))) | L21: =IF(AND(AG21="",AG20<>""),"",IF(AND(AG21="",AG20=""),"",IF(AND(AG21<>"",AG22<>""),-AH21,IF(AND(AG21<>"",AG22=""),AH21)))) | M21: =IF(L21<>"",SUM($L$6:L21),M20) -> 0 | N21: =IF(M21<N20,N20,M21) -> 0 | P21: =IF(AND(AJ21="",AJ20<>""),"",IF(AND(AJ21="",AJ20=""),"",IF(AND(AJ21<>"",AJ22<>""),-AK21,IF(AND(AJ21<>"",AJ22=""),AK21)))) | Q21: =IF(P21<>"",SUM($P$6:P21),Q20) -> 1 | R21: =IF(Q21<R20,R20,Q21) -> 1 | T21: =IF(AND(AM21="",AM20<>""),"",IF(AND(AM21="",AM20=""),"",IF(AND(AM21<>"",AM22<>""),-AN21,IF(AND(AM21<>"",AM22=""),AN21)))) | U21: =IF(T21<>"",SUM($T$6:T21),U20) -> 1 | V21: =IF(U21<V20,V20,U21) -> 1 | X21: =IF(B21="",X20,SUM($L$7:L21)+SUM($P$7:P21)+SUM($T$7:T21)) -> 2 | AF21: =IF(B21="","",IF(AND(AF20=2,B21=0),1,IF(AND(B21=0,AF20=1),1,IF(AND(C21=C19,B20=0),AF20+1,IF(AND(AF20>1,B21=0),AF20+1,IF(C21=C20,AF20+1,1)))))) -> 3 | AG21: =IF(B21="","",IF(OR(AF20=1,AF20=2),"",IF(AF20>=3,AF20-2))) | AH21: =IF(N20>N19,1,IF(AND(AH20="",AG21=1),1,IF(AND(AH20=1,AG21=""),1,IF(AND(AG20="",AG21<>""),AH20,IF(AND(AG20="",AG21=""),AH20,IF(AND(AG20<>"",AG21=""),AH20-$AA$27,IF(AND(AG20<>"",AG21<>""),AH20+$AA$28))))))) | AI21: =IF(B21="","",IF(AND(AI20=2,B21=0),1,IF(AND(B21=0,AI20=1),1,IF(AND(F21=F19,B20=0),AI20+1,IF(AND(AI20>1,B21=0),AI20+1,IF(F21=F20,AI20+1,1)))))) -> 2 | AJ21: =IF(B21="","",IF(OR(AI20=1,AI20=2),"",IF(AI20>=3,AI20-2))) | AK21: =IF(AND(AK20="",AJ21=1),1,IF(AND(AK20=1,AJ21=""),1,IF(AND(AJ20="",AJ21<>""),AK20,IF(AND(AJ20="",AJ21=""),AK20,IF(AND(AJ20<>"",AJ21=""),AK20-$AA$27,IF(AND(AJ20<>"",AJ21<>""),AK20+$AA$28)))))) -> 1 | AL21: =IF(B21="","",IF(AND(AL20=2,B21=0),1,IF(AND(B21=0,AL20=1),1,IF(AND(I21=I19,B20=0),AL20+1,IF(AND(AL20>1,B21=0),AL20+1,IF(I21=I20,AL20+1,1)))))) -> 2 | AM21: =IF(B21="","",IF(OR(AL20=1,AL20=2),"",IF(AL20>=3,AL20-2))) | AN21: =IF(AND(AN20="",AM21=1),1,IF(AND(AN20=1,AM21=""),1,IF(AND(AM20="",AM21<>""),AN20,IF(AND(AM20="",AM21=""),AN20,IF(AND(AM20<>"",AM21=""),AN20-$AA$27,IF(AND(AM20<>"",AM21<>""),AN20+$AA$28)))))) -> 1 | AV21: 19 | AW21: 7 | AX21: 4 | AY21: 2 | AZ21: 1 | BA21: R | BB21: O | BC21: H
B22: =IF('Prog Individual'!B22="","",'Prog Individual'!B22) -> 22 | C22: =IF(B22="","",VLOOKUP(B22,$AV$1:$BC$38,6,0)) -> B | D22: =IF(L22="","",IF(L22>=1,"<--Win",IF(L22<0,"<--Bet",""))) -> <--Bet | F22: =IF(B22="","",VLOOKUP(B22,$AV$1:$BC$38,8,0)) -> H | G22: =IF(P22="","",IF(P22>=1,"<--Win",IF(P22<0,"<--Bet",""))) | I22: =IF(B22="","",VLOOKUP(B22,$AV$1:$BC$38,7,0)) -> E | J22: =IF(T22="","",IF(T22>=1,"<--Win",IF(T22<0,"<--Bet",""))) | L22: =IF(AND(AG22="",AG21<>""),"",IF(AND(AG22="",AG21=""),"",IF(AND(AG22<>"",AG23<>""),-AH22,IF(AND(AG22<>"",AG23=""),AH22)))) -> -1 | M22: =IF(L22<>"",SUM($L$6:L22),M21) -> -1 | N22: =IF(M22<N21,N21,M22) -> 0 | P22: =IF(AND(AJ22="",AJ21<>""),"",IF(AND(AJ22="",AJ21=""),"",IF(AND(AJ22<>"",AJ23<>""),-AK22,IF(AND(AJ22<>"",AJ23=""),AK22)))) | Q22: =IF(P22<>"",SUM($P$6:P22),Q21) -> 1 | R22: =IF(Q22<R21,R21,Q22) -> 1 | T22: =IF(AND(AM22="",AM21<>""),"",IF(AND(AM22="",AM21=""),"",IF(AND(AM22<>"",AM23<>""),-AN22,IF(AND(AM22<>"",AM23=""),AN22)))) | U22: =IF(T22<>"",SUM($T$6:T22),U21) -> 1 | V22: =IF(U22<V21,V21,U22) -> 1 | X22: =IF(B22="",X21,SUM($L$7:L22)+SUM($P$7:P22)+SUM($T$7:T22)) -> 1 | Z22: Max Tot. | AA22: =MAX(X30:X1023) -> 162 | AF22: =IF(B22="","",IF(AND(AF21=2,B22=0),1,IF(AND(B22=0,AF21=1),1,IF(AND(C22=C20,B21=0),AF21+1,IF(AND(AF21>1,B22=0),AF21+1,IF(C22=C21,AF21+1,1)))))) -> 4 | AG22: =IF(B22="","",IF(OR(AF21=1,AF21=2),"",IF(AF21>=3,AF21-2))) -> 1 | AH22: =IF(N21>N20,1,IF(AND(AH21="",AG22=1),1,IF(AND(AH21=1,AG22=""),1,IF(AND(AG21="",AG22<>""),AH21,IF(AND(AG21="",AG22=""),AH21,IF(AND(AG21<>"",AG22=""),AH21-$AA$27,IF(AND(AG21<>"",AG22<>""),AH21+$AA$28))))))) -> 1 | AI22: =IF(B22="","",IF(AND(AI21=2,B22=0),1,IF(AND(B22=0,AI21=1),1,IF(AND(F22=F20,B21=0),AI21+1,IF(AND(AI21>1,B22=0),AI21+1,IF(F22=F21,AI21+1,1)))))) -> 3 | AJ22: =IF(B22="","",IF(OR(AI21=1,AI21=2),"",IF(AI21>=3,AI21-2))) | AK22: =IF(AND(AK21="",AJ22=1),1,IF(AND(AK21=1,AJ22=""),1,IF(AND(AJ21="",AJ22<>""),AK21,IF(AND(AJ21="",AJ22=""),AK21,IF(AND(AJ21<>"",AJ22=""),AK21-$AA$27,IF(AND(AJ21<>"",AJ22<>""),AK21+$AA$28)))))) -> 1 | AL22: =IF(B22="","",IF(AND(AL21=2,B22=0),1,IF(AND(B22=0,AL21=1),1,IF(AND(I22=I20,B21=0),AL21+1,IF(AND(AL21>1,B22=0),AL21+1,IF(I22=I21,AL21+1,1)))))) -> 1 | AM22: =IF(B22="","",IF(OR(AL21=1,AL21=2),"",IF(AL21>=3,AL21-2))) | AN22: =IF(AND(AN21="",AM22=1),1,IF(AND(AN21=1,AM22=""),1,IF(AND(AM21="",AM22<>""),AN21,IF(AND(AM21="",AM22=""),AN21,IF(AND(AM21<>"",AM22=""),AN21-$AA$27,IF(AND(AM21<>"",AM22<>""),AN21+$AA$28)))))) -> 1 | AV22: 20 | AW22: 7 | AX22: 4 | AY22: 2 | AZ22: 2 | BA22: B | BB22: E | BC22: H
B23: =IF('Prog Individual'!B23="","",'Prog Individual'!B23) -> 6 | C23: =IF(B23="","",VLOOKUP(B23,$AV$1:$BC$38,6,0)) -> B | D23: =IF(L23="","",IF(L23>=1,"<--Win",IF(L23<0,"<--Bet",""))) -> <--Bet | F23: =IF(B23="","",VLOOKUP(B23,$AV$1:$BC$38,8,0)) -> L | G23: =IF(P23="","",IF(P23>=1,"<--Win",IF(P23<0,"<--Bet",""))) -> <--Win | I23: =IF(B23="","",VLOOKUP(B23,$AV$1:$BC$38,7,0)) -> E | J23: =IF(T23="","",IF(T23>=1,"<--Win",IF(T23<0,"<--Bet",""))) | L23: =IF(AND(AG23="",AG22<>""),"",IF(AND(AG23="",AG22=""),"",IF(AND(AG23<>"",AG24<>""),-AH23,IF(AND(AG23<>"",AG24=""),AH23)))) -> -2 | M23: =IF(L23<>"",SUM($L$6:L23),M22) -> -3 | N23: =IF(M23<N22,N22,M23) -> 0 | P23: =IF(AND(AJ23="",AJ22<>""),"",IF(AND(AJ23="",AJ22=""),"",IF(AND(AJ23<>"",AJ24<>""),-AK23,IF(AND(AJ23<>"",AJ24=""),AK23)))) -> 1 | Q23: =IF(P23<>"",SUM($P$6:P23),Q22) -> 2 | R23: =IF(Q23<R22,R22,Q23) -> 2 | T23: =IF(AND(AM23="",AM22<>""),"",IF(AND(AM23="",AM22=""),"",IF(AND(AM23<>"",AM24<>""),-AN23,IF(AND(AM23<>"",AM24=""),AN23)))) | U23: =IF(T23<>"",SUM($T$6:T23),U22) -> 1 | V23: =IF(U23<V22,V22,U23) -> 1 | X23: =IF(B23="",X22,SUM($L$7:L23)+SUM($P$7:P23)+SUM($T$7:T23)) -> 0 | Z23: Min Tot. | AA23: =MIN(X30:X1023) -> -22 | AF23: =IF(B23="","",IF(AND(AF22=2,B23=0),1,IF(AND(B23=0,AF22=1),1,IF(AND(C23=C21,B22=0),AF22+1,IF(AND(AF22>1,B23=0),AF22+1,IF(C23=C22,AF22+1,1)))))) -> 5 | AG23: =IF(B23="","",IF(OR(AF22=1,AF22=2),"",IF(AF22>=3,AF22-2))) -> 2 | AH23: =IF(N22>N21,1,IF(AND(AH22="",AG23=1),1,IF(AND(AH22=1,AG23=""),1,IF(AND(AG22="",AG23<>""),AH22,IF(AND(AG22="",AG23=""),AH22,IF(AND(AG22<>"",AG23=""),AH22-$AA$27,IF(AND(AG22<>"",AG23<>""),AH22+$AA$28))))))) -> 2 | AI23: =IF(B23="","",IF(AND(AI22=2,B23=0),1,IF(AND(B23=0,AI22=1),1,IF(AND(F23=F21,B22=0),AI22+1,IF(AND(AI22>1,B23=0),AI22+1,IF(F23=F22,AI22+1,1)))))) -> 1 | AJ23: =IF(B23="","",IF(OR(AI22=1,AI22=2),"",IF(AI22>=3,AI22-2))) -> 1 | AK23: =IF(AND(AK22="",AJ23=1),1,IF(AND(AK22=1,AJ23=""),1,IF(AND(AJ22="",AJ23<>""),AK22,IF(AND(AJ22="",AJ23=""),AK22,IF(AND(AJ22<>"",AJ23=""),AK22-$AA$27,IF(AND(AJ22<>"",AJ23<>""),AK22+$AA$28)))))) -> 1 | AL23: =IF(B23="","",IF(AND(AL22=2,B23=0),1,IF(AND(B23=0,AL22=1),1,IF(AND(I23=I21,B22=0),AL22+1,IF(AND(AL22>1,B23=0),AL22+1,IF(I23=I22,AL22+1,1)))))) -> 2 | AM23: =IF(B23="","",IF(OR(AL22=1,AL22=2),"",IF(AL22>=3,AL22-2))) | AN23: =IF(AND(AN22="",AM23=1),1,IF(AND(AN22=1,AM23=""),1,IF(AND(AM22="",AM23<>""),AN22,IF(AND(AM22="",AM23=""),AN22,IF(AND(AM22<>"",AM23=""),AN22-$AA$27,IF(AND(AM22<>"",AM23<>""),AN22+$AA$28)))))) -> 1 | AV23: 21 | AW23: 7 | AX23: 4 | AY23: 2 | AZ23: 3 | BA23: R | BB23: O | BC23: H
B24: =IF('Prog Individual'!B24="","",'Prog Individual'!B24) -> 34 | C24: =IF(B24="","",VLOOKUP(B24,$AV$1:$BC$38,6,0)) -> R | D24: =IF(L24="","",IF(L24>=1,"<--Win",IF(L24<0,"<--Bet",""))) -> <--Win | F24: =IF(B24="","",VLOOKUP(B24,$AV$1:$BC$38,8,0)) -> H | G24: =IF(P24="","",IF(P24>=1,"<--Win",IF(P24<0,"<--Bet",""))) | I24: =IF(B24="","",VLOOKUP(B24,$AV$1:$BC$38,7,0)) -> E | J24: =IF(T24="","",IF(T24>=1,"<--Win",IF(T24<0,"<--Bet",""))) | L24: =IF(AND(AG24="",AG23<>""),"",IF(AND(AG24="",AG23=""),"",IF(AND(AG24<>"",AG25<>""),-AH24,IF(AND(AG24<>"",AG25=""),AH24)))) -> 3 | M24: =IF(L24<>"",SUM($L$6:L24),M23) -> 0 | N24: =IF(M24<N23,N23,M24) -> 0 | P24: =IF(AND(AJ24="",AJ23<>""),"",IF(AND(AJ24="",AJ23=""),"",IF(AND(AJ24<>"",AJ25<>""),-AK24,IF(AND(AJ24<>"",AJ25=""),AK24)))) | Q24: =IF(P24<>"",SUM($P$6:P24),Q23) -> 2 | R24: =IF(Q24<R23,R23,Q24) -> 2 | T24: =IF(AND(AM24="",AM23<>""),"",IF(AND(AM24="",AM23=""),"",IF(AND(AM24<>"",AM25<>""),-AN24,IF(AND(AM24<>"",AM25=""),AN24)))) | U24: =IF(T24<>"",SUM($T$6:T24),U23) -> 1 | V24: =IF(U24<V23,V23,U24) -> 1 | X24: =IF(B24="",X23,SUM($L$7:L24)+SUM($P$7:P24)+SUM($T$7:T24)) -> 3 | AF24: =IF(B24="","",IF(AND(AF23=2,B24=0),1,IF(AND(B24=0,AF23=1),1,IF(AND(C24=C22,B23=0),AF23+1,IF(AND(AF23>1,B24=0),AF23+1,IF(C24=C23,AF23+1,1)))))) -> 1 | AG24: =IF(B24="","",IF(OR(AF23=1,AF23=2),"",IF(AF23>=3,AF23-2))) -> 3 | AH24: =IF(N23>N22,1,IF(AND(AH23="",AG24=1),1,IF(AND(AH23=1,AG24=""),1,IF(AND(AG23="",AG24<>""),AH23,IF(AND(AG23="",AG24=""),AH23,IF(AND(AG23<>"",AG24=""),AH23-$AA$27,IF(AND(AG23<>"",AG24<>""),AH23+$AA$28))))))) -> 3 | AI24: =IF(B24="","",IF(AND(AI23=2,B24=0),1,IF(AND(B24=0,AI23=1),1,IF(AND(F24=F22,B23=0),AI23+1,IF(AND(AI23>1,B24=0),AI23+1,IF(F24=F23,AI23+1,1)))))) -> 1 | AJ24: =IF(B24="","",IF(OR(AI23=1,AI23=2),"",IF(AI23>=3,AI23-2))) | AK24: =IF(AND(AK23="",AJ24=1),1,IF(AND(AK23=1,AJ24=""),1,IF(AND(AJ23="",AJ24<>""),AK23,IF(AND(AJ23="",AJ24=""),AK23,IF(AND(AJ23<>"",AJ24=""),AK23-$AA$27,IF(AND(AJ23<>"",AJ24<>""),AK23+$AA$28)))))) -> 1 | AL24: =IF(B24="","",IF(AND(AL23=2,B24=0),1,IF(AND(B24=0,AL23=1),1,IF(AND(I24=I22,B23=0),AL23+1,IF(AND(AL23>1,B24=0),AL23+1,IF(I24=I23,AL23+1,1)))))) -> 3 | AM24: =IF(B24="","",IF(OR(AL23=1,AL23=2),"",IF(AL23>=3,AL23-2))) | AN24: =IF(AND(AN23="",AM24=1),1,IF(AND(AN23=1,AM24=""),1,IF(AND(AM23="",AM24<>""),AN23,IF(AND(AM23="",AM24=""),AN23,IF(AND(AM23<>"",AM24=""),AN23-$AA$27,IF(AND(AM23<>"",AM24<>""),AN23+$AA$28)))))) -> 1 | AV24: 22 | AW24: 8 | AX24: 4 | AY24: 2 | AZ24: 1 | BA24: B | BB24: E | BC24: H
B25: =IF('Prog Individual'!B25="","",'Prog Individual'!B25) -> 13 | C25: =IF(B25="","",VLOOKUP(B25,$AV$1:$BC$38,6,0)) -> B | D25: =IF(L25="","",IF(L25>=1,"<--Win",IF(L25<0,"<--Bet",""))) | F25: =IF(B25="","",VLOOKUP(B25,$AV$1:$BC$38,8,0)) -> L | G25: =IF(P25="","",IF(P25>=1,"<--Win",IF(P25<0,"<--Bet",""))) | I25: =IF(B25="","",VLOOKUP(B25,$AV$1:$BC$38,7,0)) -> O | J25: =IF(T25="","",IF(T25>=1,"<--Win",IF(T25<0,"<--Bet",""))) -> <--Win | L25: =IF(AND(AG25="",AG24<>""),"",IF(AND(AG25="",AG24=""),"",IF(AND(AG25<>"",AG26<>""),-AH25,IF(AND(AG25<>"",AG26=""),AH25)))) | M25: =IF(L25<>"",SUM($L$6:L25),M24) -> 0 | N25: =IF(M25<N24,N24,M25) -> 0 | P25: =IF(AND(AJ25="",AJ24<>""),"",IF(AND(AJ25="",AJ24=""),"",IF(AND(AJ25<>"",AJ26<>""),-AK25,IF(AND(AJ25<>"",AJ26=""),AK25)))) | Q25: =IF(P25<>"",SUM($P$6:P25),Q24) -> 2 | R25: =IF(Q25<R24,R24,Q25) -> 2 | T25: =IF(AND(AM25="",AM24<>""),"",IF(AND(AM25="",AM24=""),"",IF(AND(AM25<>"",AM26<>""),-AN25,IF(AND(AM25<>"",AM26=""),AN25)))) -> 1 | U25: =IF(T25<>"",SUM($T$6:T25),U24) -> 2 | V25: =IF(U25<V24,V24,U25) -> 2 | X25: =IF(B25="",X24,SUM($L$7:L25)+SUM($P$7:P25)+SUM($T$7:T25)) -> 4 | AF25: =IF(B25="","",IF(AND(AF24=2,B25=0),1,IF(AND(B25=0,AF24=1),1,IF(AND(C25=C23,B24=0),AF24+1,IF(AND(AF24>1,B25=0),AF24+1,IF(C25=C24,AF24+1,1)))))) -> 1 | AG25: =IF(B25="","",IF(OR(AF24=1,AF24=2),"",IF(AF24>=3,AF24-2))) | AH25: =IF(N24>N23,1,IF(AND(AH24="",AG25=1),1,IF(AND(AH24=1,AG25=""),1,IF(AND(AG24="",AG25<>""),AH24,IF(AND(AG24="",AG25=""),AH24,IF(AND(AG24<>"",AG25=""),AH24-$AA$27,IF(AND(AG24<>"",AG25<>""),AH24+$AA$28))))))) -> 2 | AI25: =IF(B25="","",IF(AND(AI24=2,B25=0),1,IF(AND(B25=0,AI24=1),1,IF(AND(F25=F23,B24=0),AI24+1,IF(AND(AI24>1,B25=0),AI24+1,IF(F25=F24,AI24+1,1)))))) -> 1 | AJ25: =IF(B25="","",IF(OR(AI24=1,AI24=2),"",IF(AI24>=3,AI24-2))) | AK25: =IF(AND(AK24="",AJ25=1),1,IF(AND(AK24=1,AJ25=""),1,IF(AND(AJ24="",AJ25<>""),AK24,IF(AND(AJ24="",AJ25=""),AK24,IF(AND(AJ24<>"",AJ25=""),AK24-$AA$27,IF(AND(AJ24<>"",AJ25<>""),AK24+$AA$28)))))) -> 1 | AL25: =IF(B25="","",IF(AND(AL24=2,B25=0),1,IF(AND(B25=0,AL24=1),1,IF(AND(I25=I23,B24=0),AL24+1,IF(AND(AL24>1,B25=0),AL24+1,IF(I25=I24,AL24+1,1)))))) -> 1 | AM25: =IF(B25="","",IF(OR(AL24=1,AL24=2),"",IF(AL24>=3,AL24-2))) -> 1 | AN25: =IF(AND(AN24="",AM25=1),1,IF(AND(AN24=1,AM25=""),1,IF(AND(AM24="",AM25<>""),AN24,IF(AND(AM24="",AM25=""),AN24,IF(AND(AM24<>"",AM25=""),AN24-$AA$27,IF(AND(AM24<>"",AM25<>""),AN24+$AA$28)))))) -> 1 | AV25: 23 | AW25: 8 | AX25: 4 | AY25: 2 | AZ25: 2 | BA25: R | BB25: O | BC25: H
B26: =IF('Prog Individual'!B26="","",'Prog Individual'!B26) -> 11 | C26: =IF(B26="","",VLOOKUP(B26,$AV$1:$BC$38,6,0)) -> B | D26: =IF(L26="","",IF(L26>=1,"<--Win",IF(L26<0,"<--Bet",""))) | F26: =IF(B26="","",VLOOKUP(B26,$AV$1:$BC$38,8,0)) -> L | G26: =IF(P26="","",IF(P26>=1,"<--Win",IF(P26<0,"<--Bet",""))) | I26: =IF(B26="","",VLOOKUP(B26,$AV$1:$BC$38,7,0)) -> O | J26: =IF(T26="","",IF(T26>=1,"<--Win",IF(T26<0,"<--Bet",""))) | L26: =IF(AND(AG26="",AG25<>""),"",IF(AND(AG26="",AG25=""),"",IF(AND(AG26<>"",AG27<>""),-AH26,IF(AND(AG26<>"",AG27=""),AH26)))) | M26: =IF(L26<>"",SUM($L$6:L26),M25) -> 0 | N26: =IF(M26<N25,N25,M26) -> 0 | P26: =IF(AND(AJ26="",AJ25<>""),"",IF(AND(AJ26="",AJ25=""),"",IF(AND(AJ26<>"",AJ27<>""),-AK26,IF(AND(AJ26<>"",AJ27=""),AK26)))) | Q26: =IF(P26<>"",SUM($P$6:P26),Q25) -> 2 | R26: =IF(Q26<R25,R25,Q26) -> 2 | T26: =IF(AND(AM26="",AM25<>""),"",IF(AND(AM26="",AM25=""),"",IF(AND(AM26<>"",AM27<>""),-AN26,IF(AND(AM26<>"",AM27=""),AN26)))) | U26: =IF(T26<>"",SUM($T$6:T26),U25) -> 2 | V26: =IF(U26<V25,V25,U26) -> 2 | X26: =IF(B26="",X25,SUM($L$7:L26)+SUM($P$7:P26)+SUM($T$7:T26)) -> 4 | Z26: Prog | AF26: =IF(B26="","",IF(AND(AF25=2,B26=0),1,IF(AND(B26=0,AF25=1),1,IF(AND(C26=C24,B25=0),AF25+1,IF(AND(AF25>1,B26=0),AF25+1,IF(C26=C25,AF25+1,1)))))) -> 2 | AG26: =IF(B26="","",IF(OR(AF25=1,AF25=2),"",IF(AF25>=3,AF25-2))) | AH26: =IF(N25>N24,1,IF(AND(AH25="",AG26=1),1,IF(AND(AH25=1,AG26=""),1,IF(AND(AG25="",AG26<>""),AH25,IF(AND(AG25="",AG26=""),AH25,IF(AND(AG25<>"",AG26=""),AH25-$AA$27,IF(AND(AG25<>"",AG26<>""),AH25+$AA$28))))))) -> 2 | AI26: =IF(B26="","",IF(AND(AI25=2,B26=0),1,IF(AND(B26=0,AI25=1),1,IF(AND(F26=F24,B25=0),AI25+1,IF(AND(AI25>1,B26=0),AI25+1,IF(F26=F25,AI25+1,1)))))) -> 2 | AJ26: =IF(B26="","",IF(OR(AI25=1,AI25=2),"",IF(AI25>=3,AI25-2))) | AK26: =IF(AND(AK25="",AJ26=1),1,IF(AND(AK25=1,AJ26=""),1,IF(AND(AJ25="",AJ26<>""),AK25,IF(AND(AJ25="",AJ26=""),AK25,IF(AND(AJ25<>"",AJ26=""),AK25-$AA$27,IF(AND(AJ25<>"",AJ26<>""),AK25+$AA$28)))))) -> 1 | AL26: =IF(B26="","",IF(AND(AL25=2,B26=0),1,IF(AND(B26=0,AL25=1),1,IF(AND(I26=I24,B25=0),AL25+1,IF(AND(AL25>1,B26=0),AL25+1,IF(I26=I25,AL25+1,1)))))) -> 2 | AM26: =IF(B26="","",IF(OR(AL25=1,AL25=2),"",IF(AL25>=3,AL25-2))) | AN26: =IF(AND(AN25="",AM26=1),1,IF(AND(AN25=1,AM26=""),1,IF(AND(AM25="",AM26<>""),AN25,IF(AND(AM25="",AM26=""),AN25,IF(AND(AM25<>"",AM26=""),AN25-$AA$27,IF(AND(AM25<>"",AM26<>""),AN25+$AA$28)))))) -> 1 | AV26: 24 | AW26: 8 | AX26: 4 | AY26: 2 | AZ26: 3 | BA26: B | BB26: E | BC26: H
