Workbook
Name zero: #REF!

Sheet VLOOKUP
B1: Doz | C1: Col | E1: Lines | F1: F | G1: H | H1: R | I1: E | J1: Split
A2: 0 | B2: 0 | C2: 0 | E2: 0 | F2: 0 | G2: 0 | H2: 0 | I2: 0 | J2: 0
A3: 1 | B3: ="1" -> 1 | C3: ="1" -> 1 | E3: 1 | F3: 1 | G3: L | H3: R | I3: O | J3: 1
A4: 2 | B4: ="1" -> 1 | C4: ="2" -> 2 | E4: =E3 -> 1 | F4: 2 | G4: L | H4: B | I4: E | J4: 2
A5: 3 | B5: ="1" -> 1 | C5: ="3" -> 3 | E5: =E4 -> 1 | F5: 3 | G5: L | H5: R | I5: O | J5: 3
A6: 4 | B6: ="1" -> 1 | C6: ="1" -> 1 | E6: =E5 -> 1 | F6: 1 | G6: L | H6: B | I6: E | J6: 1
A7: 5 | B7: ="1" -> 1 | C7: ="2" -> 2 | E7: =E6 -> 1 | F7: 2 | G7: L | H7: R | I7: O | J7: 2
A8: 6 | B8: ="1" -> 1 | C8: ="3" -> 3 | E8: =E7 -> 1 | F8: 3 | G8: L | H8: B | I8: E | J8: 3
A9: 7 | B9: ="1" -> 1 | C9: ="1" -> 1 | E9: 2 | F9: 1 | G9: L | H9: R | I9: O | J9: 4
A10: 8 | B10: ="1" -> 1 | C10: ="2" -> 2 | E10: 2 | F10: 2 | G10: L | H10: B | I10: E | J10: 5
A11: 9 | B11: ="1" -> 1 | C11: ="3" -> 3 | E11: 2 | F11: 3 | G11: L | H11: R | I11: O | J11: 6
A12: 10 | B12: ="1" -> 1 | C12: ="1" -> 1 | E12: 2 | F12: 1 | G12: L | H12: B | I12: E | J12: 4
A13: 11 | B13: ="1" -> 1 | C13: ="2" -> 2 | E13: 2 | F13: 2 | G13: L | H13: B | I13: O | J13: 5
A14: 12 | B14: ="1" -> 1 | C14: ="3" -> 3 | E14: 2 | F14: 3 | G14: L | H14: R | I14: E | J14: 6
A15: 13 | B15: ="2" -> 2 | C15: ="1" -> 1 | E15: 3 | F15: 1 | G15: L | H15: B | I15: O | J15: 7
A16: 14 | B16: ="2" -> 2 | C16: ="2" -> 2 | E16: 3 | F16: 2 | G16: L | H16: R | I16: E | J16: 8
A17: 15 | B17: ="2" -> 2 | C17: ="3" -> 3 | E17: 3 | F17: 3 | G17: L | H17: B | I17: O | J17: 9
A18: 16 | B18: ="2" -> 2 | C18: ="1" -> 1 | E18: 3 | F18: 1 | G18: L | H18: R | I18: E | J18: 7
A19: 17 | B19: ="2" -> 2 | C19: ="2" -> 2 | E19: 3 | F19: 2 | G19: L | H19: B | I19: O | J19: 8
A20: 18 | B20: ="2" -> 2 | C20: ="3" -> 3 | E20: 3 | F20: 3 | G20: L | H20: R | I20: E | J20: 9
A21: 19 | B21: ="2" -> 2 | C21: ="1" -> 1 | E21: 4 | F21: 1 | G21: H | H21: R | I21: O | J21: 10
A22: 20 | B22: ="2" -> 2 | C22: ="2" -> 2 | E22: 4 | F22: 2 | G22: H | H22: B | I22: E | J22: 11
A23: 21 | B23: ="2" -> 2 | C23: ="3" -> 3 | E23: 4 | F23: 3 | G23: H | H23: R | I23: O | J23: 12
A24: 22 | B24: ="2" -> 2 | C24: ="1" -> 1 | E24: 4 | F24: 1 | G24: H | H24: B | I24: E | J24: 10
A25: 23 | B25: ="2" -> 2 | C25: ="2" -> 2 | E25: 4 | F25: 2 | G25: H | H25: R | I25: O | J25: 11
A26: 24 | B26: ="2" -> 2 | C26: ="3" -> 3 | E26: 4 | F26: 3 | G26: H | H26: B | I26: E | J26: 12
A27: 25 | B27: ="3" -> 3 | C27: ="1" -> 1 | E27: 5 | F27: 1 | G27: H | H27: R | I27: O | J27: 13
A28: 26 | B28: ="3" -> 3 | C28: ="2" -> 2 | E28: 5 | F28: 2 | G28: H | H28: B | I28: E | J28: 14
A29: 27 | B29: ="3" -> 3 | C29: ="3" -> 3 | E29: 5 | F29: 3 | G29: H | H29: R | I29: O | J29: 15
A30: 28 | B30: ="3" -> 3 | C30: ="1" -> 1 | E30: 5 | F30: 1 | G30: H | H30: B | I30: E | J30: 13
A31: 29 | B31: ="3" -> 3 | C31: ="2" -> 2 | E31: 5 | F31: 2 | G31: H | H31: B | I31: O | J31: 14
A32: 30 | B32: ="3" -> 3 | C32: ="3" -> 3 | E32: 5 | F32: 3 | G32: H | H32: R | I32: E | J32: 15
A33: 31 | B33: ="3" -> 3 | C33: ="1" -> 1 | E33: 6 | F33: 1 | G33: H | H33: B | I33: O | J33: 16
A34: 32 | B34: ="3" -> 3 | C34: ="2" -> 2 | E34: 6 | F34: 2 | G34: H | H34: R | I34: E | J34: 17
A35: 33 | B35: ="3" -> 3 | C35: ="3" -> 3 | E35: 6 | F35: 3 | G35: H | H35: B | I35: O | J35: 18
A36: 34 | B36: ="3" -> 3 | C36: ="1" -> 1 | E36: 6 | F36: 1 | G36: H | H36: R | I36: E | J36: 16
A37: 35 | B37: ="3" -> 3 | C37: ="2" -> 2 | E37: 6 | F37: 2 | G37: H | H37: B | I37: O | J37: 17
A38: 36 | B38: ="3" -> 3 | C38: ="3" -> 3 | E38: 6 | F38: 3 | G38: H | H38: R | I38: E | J38: 18
A39: 37 | B39: 0 | C39: 0 | E39: 0 | F39: 0 | G39: 0 | H39: 0 | I39: 0

Sheet 01.01.2010
A2: Spin | B2: Number | C2: Dozens
A3: 1 | B3: 2 | C3: =VLOOKUP(B3,VLOOKUP!$A$2:$I$39,2,0) -> 1
A4: =+A3+1 -> 2 | B4: 15 | C4: =VLOOKUP(B4,VLOOKUP!$A$2:$I$39,2,0) -> 2
A5: =+A4+1 -> 3 | B5: 26 | C5: =VLOOKUP(B5,VLOOKUP!$A$2:$I$39,2,0) -> 3
A6: =+A5+1 -> 4 | B6: 5 | C6: =VLOOKUP(B6,VLOOKUP!$A$2:$I$39,2,0) -> 1 | D6: =IF(C6=C5,"W","L") -> L
A7: =+A6+1 -> 5 | B7: 21 | C7: =VLOOKUP(B7,VLOOKUP!$A$2:$I$39,2,0) -> 2 | D7: =IF(C7=C6,"W","L") -> L
A8: =+A7+1 -> 6 | B8: 16 | C8: =VLOOKUP(B8,VLOOKUP!$A$2:$I$39,2,0) -> 2 | D8: =IF(C8=C7,"W","L") -> W
A9: =+A8+1 -> 7 | B9: 8 | C9: =VLOOKUP(B9,VLOOKUP!$A$2:$I$39,2,0) -> 1 | D9: =IF(C9=C8,"W","L") -> L
A10: =+A9+1 -> 8 | B10: 9 | C10: =VLOOKUP(B10,VLOOKUP!$A$2:$I$39,2,0) -> 1 | D10: =IF(C10=C9,"W","L") -> W
A11: =+A10+1 -> 9 | B11: 22 | C11: =VLOOKUP(B11,VLOOKUP!$A$2:$I$39,2,0) -> 2 | D11: =IF(C11=C10,"W","L") -> L
A12: =+A11+1 -> 10 | B12: 6 | C12: =VLOOKUP(B12,VLOOKUP!$A$2:$I$39,2,0) -> 1 | D12: =IF(C12=C11,"W","L") -> L
A13: =+A12+1 -> 11 | B13: 6 | C13: =VLOOKUP(B13,VLOOKUP!$A$2:$I$39,2,0) -> 1 | D13: =IF(C13=C12,"W","L") -> W
A14: =+A13+1 -> 12 | B14: 33 | C14: =VLOOKUP(B14,VLOOKUP!$A$2:$I$39,2,0) -> 3 | D14: =IF(C14=C13,"W","L") -> L
A15: =+A14+1 -> 13 | B15: 23 | C15: =VLOOKUP(B15,VLOOKUP!$A$2:$I$39,2,0) -> 2 | D15: =IF(C15=C14,"W","L") -> L
A16: =+A15+1 -> 14 | B16: 31 | C16: =VLOOKUP(B16,VLOOKUP!$A$2:$I$39,2,0) -> 3 | D16: =IF(C16=C15,"W","L") -> L
A17: =+A16+1 -> 15 | B17: 1 | C17: =VLOOKUP(B17,VLOOKUP!$A$2:$I$39,2,0) -> 1 | D17: =IF(C17=C16,"W","L") -> L
... A139: =+A138+1 -> 137 | B139: 9 | C139: =VLOOKUP(B139,VLOOKUP!$A$2:$I$39,2,0) -> 1 | D139: =IF(C139=C138,"W","L") -> W
A140: =+A139+1 -> 138 | C140: =VLOOKUP(B140,VLOOKUP!$A$2:$I$39,2,0) -> 0 | D140: =IF(C140=C139,"W","L") -> L
A141: =+A140+1 -> 139 | C141: =VLOOKUP(B141,VLOOKUP!$A$2:$I$39,2,0) -> 0 | D141: =IF(C141=C140,"W","L") -> W
A142: =+A141+1 -> 140 | C142: =VLOOKUP(B142,VLOOKUP!$A$2:$I$39,2,0) -> 0 | D142: =IF(C142=C141,"W","L") -> W
A143: =+A142+1 -> 141 | C143: =VLOOKUP(B143,VLOOKUP!$A$2:$I$39,2,0) -> 0 | D143: =IF(C143=C142,"W","L") -> W
A144: =+A143+1 -> 142 | C144: =VLOOKUP(B144,VLOOKUP!$A$2:$I$39,2,0) -> 0 | D144: =IF(C144=C143,"W","L") -> W
A145: =+A144+1 -> 143 | C145: =VLOOKUP(B145,VLOOKUP!$A$2:$I$39,2,0) -> 0 | D145: =IF(C145=C144,"W","L") -> W
A146: =+A145+1 -> 144 | C146: =VLOOKUP(B146,VLOOKUP!$A$2:$I$39,2,0) -> 0 | D146: =IF(C146=C145,"W","L") -> W
A147: =+A146+1 -> 145 | C147: =VLOOKUP(B147,VLOOKUP!$A$2:$I$39,2,0) -> 0 | D147: =IF(C147=C146,"W","L") -> W
A148: =+A147+1 -> 146 | C148: =VLOOKUP(B148,VLOOKUP!$A$2:$I$39,2,0) -> 0 | D148: =IF(C148=C147,"W","L") -> W
A149: =+A148+1 -> 147 | C149: =VLOOKUP(B149,VLOOKUP!$A$2:$I$39,2,0) -> 0 | D149: =IF(C149=C148,"W","L") -> W
A150: =+A149+1 -> 148 | C150: =VLOOKUP(B150,VLOOKUP!$A$2:$I$39,2,0) -> 0 | D150: =IF(C150=C149,"W","L") -> W
A151: =+A150+1 -> 149 | C151: =VLOOKUP(B151,VLOOKUP!$A$2:$I$39,2,0) -> 0 | D151: =IF(C151=C150,"W","L") -> W
... A311: =+A310+1 -> 309 | C311: =VLOOKUP(B311,VLOOKUP!$A$2:$I$39,2,0) -> 0 | D311: =IF(C311=C310,"W","L") -> W

Sheet 02.01.2010
A2: Spin | B2: Number | C2: Dozens
A3: 1 | B3: 34 | C3: =VLOOKUP(B3,VLOOKUP!$A$2:$I$39,2,0) -> 3
A4: =+A3+1 -> 2 | B4: 18 | C4: =VLOOKUP(B4,VLOOKUP!$A$2:$I$39,2,0) -> 2
A5: =+A4+1 -> 3 | B5: 26 | C5: =VLOOKUP(B5,VLOOKUP!$A$2:$I$39,2,0) -> 3
A6: =+A5+1 -> 4 | B6: 8 | C6: =VLOOKUP(B6,VLOOKUP!$A$2:$I$39,2,0) -> 1 | D6: =IF(C6=C5,"W","L") -> L
A7: =+A6+1 -> 5 | B7: 14 | C7: =VLOOKUP(B7,VLOOKUP!$A$2:$I$39,2,0) -> 2 | D7: =IF(C7=C6,"W","L") -> L
A8: =+A7+1 -> 6 | B8: 29 | C8: =VLOOKUP(B8,VLOOKUP!$A$2:$I$39,2,0) -> 3 | D8: =IF(C8=C7,"W","L") -> L
A9: =+A8+1 -> 7 | B9: 3 | C9: =VLOOKUP(B9,VLOOKUP!$A$2:$I$39,2,0) -> 1 | D9: =IF(C9=C8,"W","L") -> L
A10: =+A9+1 -> 8 | B10: 21 | C10: =VLOOKUP(B10,VLOOKUP!$A$2:$I$39,2,0) -> 2 | D10: =IF(C10=C9,"W","L") -> L
A11: =+A10+1 -> 9 | B11: 15 | C11: =VLOOKUP(B11,VLOOKUP!$A$2:$I$39,2,0) -> 2 | D11: =IF(C11=C10,"W","L") -> W
A12: =+A11+1 -> 10 | B12: 31 | C12: =VLOOKUP(B12,VLOOKUP!$A$2:$I$39,2,0) -> 3 | D12: =IF(C12=C11,"W","L") -> L
A13: =+A12+1 -> 11 | B13: 30 | C13: =VLOOKUP(B13,VLOOKUP!$A$2:$I$39,2,0) -> 3 | D13: =IF(C13=C12,"W","L") -> W
A14: =+A13+1 -> 12 | B14: 13 | C14: =VLOOKUP(B14,VLOOKUP!$A$2:$I$39,2,0) -> 2 | D14: =IF(C14=C13,"W","L") -> L
A15: =+A14+1 -> 13 | B15: 15 | C15: =VLOOKUP(B15,VLOOKUP!$A$2:$I$39,2,0) -> 2 | D15: =IF(C15=C14,"W","L") -> W
A16: =+A15+1 -> 14 | B16: 33 | C16: =VLOOKUP(B16,VLOOKUP!$A$2:$I$39,2,0) -> 3 | D16: =IF(C16=C15,"W","L") -> L
A17: =+A16+1 -> 15 | B17: 21 | C17: =VLOOKUP(B17,VLOOKUP!$A$2:$I$39,2,0) -> 2 | D17: =IF(C17=C16,"W","L") -> L
... A173: =+A172+1 -> 171 | B173: 27 | C173: =VLOOKUP(B173,VLOOKUP!$A$2:$I$39,2,0) -> 3 | D173: =IF(C173=C172,"W","L") -> W
A174: =+A173+1 -> 172 | C174: =VLOOKUP(B174,VLOOKUP!$A$2:$I$39,2,0) -> 0 | D174: =IF(C174=C173,"W","L") -> L
A175: =+A174+1 -> 173 | C175: =VLOOKUP(B175,VLOOKUP!$A$2:$I$39,2,0) -> 0 | D175: =IF(C175=C174,"W","L") -> W
A176: =+A175+1 -> 174 | C176: =VLOOKUP(B176,VLOOKUP!$A$2:$I$39,2,0) -> 0 | D176: =IF(C176=C175,"W","L") -> W
A177: =+A176+1 -> 175 | C177: =VLOOKUP(B177,VLOOKUP!$A$2:$I$39,2,0) -> 0 | D177: =IF(C177=C176,"W","L") -> W
A178: =+A177+1 -> 176 | C178: =VLOOKUP(B178,VLOOKUP!$A$2:$I$39,2,0) -> 0 | D178: =IF(C178=C177,"W","L") -> W
A179: =+A178+1 -> 177 | C179: =VLOOKUP(B179,VLOOKUP!$A$2:$I$39,2,0) -> 0 | D179: =IF(C179=C178,"W","L") -> W
A180: =+A179+1 -> 178 | C180: =VLOOKUP(B180,VLOOKUP!$A$2:$I$39,2,0) -> 0 | D180: =IF(C180=C179,"W","L") -> W
A181: =+A180+1 -> 179 | C181: =VLOOKUP(B181,VLOOKUP!$A$2:$I$39,2,0) -> 0 | D181: =IF(C181=C180,"W","L") -> W
A182: =+A181+1 -> 180 | C182: =VLOOKUP(B182,VLOOKUP!$A$2:$I$39,2,0) -> 0 | D182: =IF(C182=C181,"W","L") -> W
A183: =+A182+1 -> 181 | C183: =VLOOKUP(B183,VLOOKUP!$A$2:$I$39,2,0) -> 0 | D183: =IF(C183=C182,"W","L") -> W
A184: =+A183+1 -> 182 | C184: =VLOOKUP(B184,VLOOKUP!$A$2:$I$39,2,0) -> 0 | D184: =IF(C184=C183,"W","L") -> W
A185: =+A184+1 -> 183 | C185: =VLOOKUP(B185,VLOOKUP!$A$2:$I$39,2,0) -> 0 | D185: =IF(C185=C184,"W","L") -> W
... A311: =+A310+1 -> 309 | C311: =VLOOKUP(B311,VLOOKUP!$A$2:$I$39,2,0) -> 0 | D311: =IF(C311=C310,"W","L") -> W

Sheet 05.01.2010
A2: Spin | B2: Number | C2: Dozens
A3: 1 | B3: 4 | C3: =VLOOKUP(B3,VLOOKUP!$A$2:$I$39,2,0) -> 1
A4: =+A3+1 -> 2 | B4: 35 | C4: =VLOOKUP(B4,VLOOKUP!$A$2:$I$39,2,0) -> 3
A5: =+A4+1 -> 3 | B5: 28 | C5: =VLOOKUP(B5,VLOOKUP!$A$2:$I$39,2,0) -> 3
A6: =+A5+1 -> 4 | B6: 18 | C6: =VLOOKUP(B6,VLOOKUP!$A$2:$I$39,2,0) -> 2 | D6: =IF(C6=C5,"W","L") -> L
A7: =+A6+1 -> 5 | B7: 9 | C7: =VLOOKUP(B7,VLOOKUP!$A$2:$I$39,2,0) -> 1 | D7: =IF(C7=C6,"W","L") -> L
A8: =+A7+1 -> 6 | B8: 4 | C8: =VLOOKUP(B8,VLOOKUP!$A$2:$I$39,2,0) -> 1 | D8: =IF(C8=C7,"W","L") -> W
A9: =+A8+1 -> 7 | B9: 19 | C9: =VLOOKUP(B9,VLOOKUP!$A$2:$I$39,2,0) -> 2 | D9: =IF(C9=C8,"W","L") -> L
A10: =+A9+1 -> 8 | B10: 1 | C10: =VLOOKUP(B10,VLOOKUP!$A$2:$I$39,2,0) -> 1 | D10: =IF(C10=C9,"W","L") -> L
A11: =+A10+1 -> 9 | B11: 14 | C11: =VLOOKUP(B11,VLOOKUP!$A$2:$I$39,2,0) -> 2 | D11: =IF(C11=C10,"W","L") -> L
A12: =+A11+1 -> 10 | B12: 4 | C12: =VLOOKUP(B12,VLOOKUP!$A$2:$I$39,2,0) -> 1 | D12: =IF(C12=C11,"W","L") -> L
A13: =+A12+1 -> 11 | B13: 22 | C13: =VLOOKUP(B13,VLOOKUP!$A$2:$I$39,2,0) -> 2 | D13: =IF(C13=C12,"W","L") -> L
A14: =+A13+1 -> 12 | B14: 14 | C14: =VLOOKUP(B14,VLOOKUP!$A$2:$I$39,2,0) -> 2 | D14: =IF(C14=C13,"W","L") -> W
A15: =+A14+1 -> 13 | B15: 8 | C15: =VLOOKUP(B15,VLOOKUP!$A$2:$I$39,2,0) -> 1 | D15: =IF(C15=C14,"W","L") -> L
A16: =+A15+1 -> 14 | B16: 14 | C16: =VLOOKUP(B16,VLOOKUP!$A$2:$I$39,2,0) -> 2 | D16: =IF(C16=C15,"W","L") -> L
A17: =+A16+1 -> 15 | B17: 20 | C17: =VLOOKUP(B17,VLOOKUP!$A$2:$I$39,2,0) -> 2 | D17: =IF(C17=C16,"W","L") -> W
... A130: =+A129+1 -> 128 | B130: 29 | C130: =VLOOKUP(B130,VLOOKUP!$A$2:$I$39,2,0) -> 3 | D130: =IF(C130=C129,"W","L") -> L
A131: =+A130+1 -> 129 | C131: =VLOOKUP(B131,VLOOKUP!$A$2:$I$39,2,0) -> 0 | D131: =IF(C131=C130,"W","L") -> L
A132: =+A131+1 -> 130 | C132: =VLOOKUP(B132,VLOOKUP!$A$2:$I$39,2,0) -> 0 | D132: =IF(C132=C131,"W","L") -> W
A133: =+A132+1 -> 131 | C133: =VLOOKUP(B133,VLOOKUP!$A$2:$I$39,2,0) -> 0 | D133: =IF(C133=C132,"W","L") -> W
A134: =+A133+1 -> 132 | C134: =VLOOKUP(B134,VLOOKUP!$A$2:$I$39,2,0) -> 0 | D134: =IF(C134=C133,"W","L") -> W
A135: =+A134+1 -> 133 | C135: =VLOOKUP(B135,VLOOKUP!$A$2:$I$39,2,0) -> 0 | D135: =IF(C135=C134,"W","L") -> W
A136: =+A135+1 -> 134 | C136: =VLOOKUP(B136,VLOOKUP!$A$2:$I$39,2,0) -> 0 | D136: =IF(C136=C135,"W","L") -> W
A137: =+A136+1 -> 135 | C137: =VLOOKUP(B137,VLOOKUP!$A$2:$I$39,2,0) -> 0 | D137: =IF(C137=C136,"W","L") -> W
A138: =+A137+1 -> 136 | C138: =VLOOKUP(B138,VLOOKUP!$A$2:$I$39,2,0) -> 0 | D138: =IF(C138=C137,"W","L") -> W
A139: =+A138+1 -> 137 | C139: =VLOOKUP(B139,VLOOKUP!$A$2:$I$39,2,0) -> 0 | D139: =IF(C139=C138,"W","L") -> W
A140: =+A139+1 -> 138 | C140: =VLOOKUP(B140,VLOOKUP!$A$2:$I$39,2,0) -> 0 | D140: =IF(C140=C139,"W","L") -> W
A141: =+A140+1 -> 139 | C141: =VLOOKUP(B141,VLOOKUP!$A$2:$I$39,2,0) -> 0 | D141: =IF(C141=C140,"W","L") -> W
A142: =+A141+1 -> 140 | C142: =VLOOKUP(B142,VLOOKUP!$A$2:$I$39,2,0) -> 0 | D142: =IF(C142=C141,"W","L") -> W
... A311: =+A310+1 -> 309 | C311: =VLOOKUP(B311,VLOOKUP!$A$2:$I$39,2,0) -> 0 | D311: =IF(C311=C310,"W","L") -> W

Sheet 15.01.2010
A2: Spin | B2: Number | C2: Dozens
A3: 1 | B3: 12 | C3: =VLOOKUP(B3,VLOOKUP!$A$2:$I$39,2,0) -> 1
A4: =+A3+1 -> 2 | B4: 33 | C4: =VLOOKUP(B4,VLOOKUP!$A$2:$I$39,2,0) -> 3
A5: =+A4+1 -> 3 | B5: 19 | C5: =VLOOKUP(B5,VLOOKUP!$A$2:$I$39,2,0) -> 2
A6: =+A5+1 -> 4 | B6: 30 | C6: =VLOOKUP(B6,VLOOKUP!$A$2:$I$39,2,0) -> 3 | D6: =IF(C6=C5,"W","L") -> L
A7: =+A6+1 -> 5 | B7: 26 | C7: =VLOOKUP(B7,VLOOKUP!$A$2:$I$39,2,0) -> 3 | D7: =IF(C7=C6,"W","L") -> W
A8: =+A7+1 -> 6 | B8: 33 | C8: =VLOOKUP(B8,VLOOKUP!$A$2:$I$39,2,0) -> 3 | D8: =IF(C8=C7,"W","L") -> W
A9: =+A8+1 -> 7 | B9: 11 | C9: =VLOOKUP(B9,VLOOKUP!$A$2:$I$39,2,0) -> 1 | D9: =IF(C9=C8,"W","L") -> L
A10: =+A9+1 -> 8 | B10: 3 | C10: =VLOOKUP(B10,VLOOKUP!$A$2:$I$39,2,0) -> 1 | D10: =IF(C10=C9,"W","L") -> W
A11: =+A10+1 -> 9 | B11: 26 | C11: =VLOOKUP(B11,VLOOKUP!$A$2:$I$39,2,0) -> 3 | D11: =IF(C11=C10,"W","L") -> L
A12: =+A11+1 -> 10 | B12: 10 | C12: =VLOOKUP(B12,VLOOKUP!$A$2:$I$39,2,0) -> 1 | D12: =IF(C12=C11,"W","L") -> L
A13: =+A12+1 -> 11 | B13: 5 | C13: =VLOOKUP(B13,VLOOKUP!$A$2:$I$39,2,0) -> 1 | D13: =IF(C13=C12,"W","L") -> W
A14: =+A13+1 -> 12 | B14: 20 | C14: =VLOOKUP(B14,VLOOKUP!$A$2:$I$39,2,0) -> 2 | D14: =IF(C14=C13,"W","L") -> L
A15: =+A14+1 -> 13 | B15: 26 | C15: =VLOOKUP(B15,VLOOKUP!$A$2:$I$39,2,0) -> 3 | D15: =IF(C15=C14,"W","L") -> L
A16: =+A15+1 -> 14 | B16: 9 | C16: =VLOOKUP(B16,VLOOKUP!$A$2:$I$39,2,0) -> 1 | D16: =IF(C16=C15,"W","L") -> L
A17: =+A16+1 -> 15 | B17: 20 | C17: =VLOOKUP(B17,VLOOKUP!$A$2:$I$39,2,0) -> 2 | D17: =IF(C17=C16,"W","L") -> L
... A393: =+A392+1 -> 391 | B393: 28 | C393: =VLOOKUP(B393,VLOOKUP!$A$2:$I$39,2,0) -> 3 | D393: =IF(C393=C392,"W","L") -> L

Sheet 16.01.2010
A2: Spin | B2: Number | C2: Dozens
A3: 1 | B3: 7 | C3: =VLOOKUP(B3,VLOOKUP!$A$2:$I$39,2,0) -> 1
A4: =+A3+1 -> 2 | B4: 9 | C4: =VLOOKUP(B4,VLOOKUP!$A$2:$I$39,2,0) -> 1
A5: =+A4+1 -> 3 | B5: 16 | C5: =VLOOKUP(B5,VLOOKUP!$A$2:$I$39,2,0) -> 2
A6: =+A5+1 -> 4 | B6: 34 | C6: =VLOOKUP(B6,VLOOKUP!$A$2:$I$39,2,0) -> 3 | D6: =IF(C6=C5,"W","L") -> L
A7: =+A6+1 -> 5 | B7: 30 | C7: =VLOOKUP(B7,VLOOKUP!$A$2:$I$39,2,0) -> 3 | D7: =IF(C7=C6,"W","L") -> W
A8: =+A7+1 -> 6 | B8: 8 | C8: =VLOOKUP(B8,VLOOKUP!$A$2:$I$39,2,0) -> 1 | D8: =IF(C8=C7,"W","L") -> L
A9: =+A8+1 -> 7 | B9: 21 | C9: =VLOOKUP(B9,VLOOKUP!$A$2:$I$39,2,0) -> 2 | D9: =IF(C9=C8,"W","L") -> L
A10: =+A9+1 -> 8 | B10: 21 | C10: =VLOOKUP(B10,VLOOKUP!$A$2:$I$39,2,0) -> 2 | D10: =IF(C10=C9,"W","L") -> W
A11: =+A10+1 -> 9 | B11: 1 | C11: =VLOOKUP(B11,VLOOKUP!$A$2:$I$39,2,0) -> 1 | D11: =IF(C11=C10,"W","L") -> L
A12: =+A11+1 -> 10 | B12: 18 | C12: =VLOOKUP(B12,VLOOKUP!$A$2:$I$39,2,0) -> 2 | D12: =IF(C12=C11,"W","L") -> L
A13: =+A12+1 -> 11 | B13: 21 | C13: =VLOOKUP(B13,VLOOKUP!$A$2:$I$39,2,0) -> 2 | D13: =IF(C13=C12,"W","L") -> W
A14: =+A13+1 -> 12 | B14: 8 | C14: =VLOOKUP(B14,VLOOKUP!$A$2:$I$39,2,0) -> 1 | D14: =IF(C14=C13,"W","L") -> L
A15: =+A14+1 -> 13 | B15: 1 | C15: =VLOOKUP(B15,VLOOKUP!$A$2:$I$39,2,0) -> 1 | D15: =IF(C15=C14,"W","L") -> W
A16: =+A15+1 -> 14 | B16: 4 | C16: =VLOOKUP(B16,VLOOKUP!$A$2:$I$39,2,0) -> 1 | D16: =IF(C16=C15,"W","L") -> W
A17: =+A16+1 -> 15 | B17: 15 | C17: =VLOOKUP(B17,VLOOKUP!$A$2:$I$39,2,0) -> 2 | D17: =IF(C17=C16,"W","L") -> L
... A185: =+A184+1 -> 183 | B185: 34 | C185: =VLOOKUP(B185,VLOOKUP!$A$2:$I$39,2,0) -> 3 | D185: =IF(C185=C184,"W","L") -> W
A186: =+A185+1 -> 184 | C186: =VLOOKUP(B186,VLOOKUP!$A$2:$I$39,2,0) -> 0 | D186: =IF(C186=C185,"W","L") -> L
A187: =+A186+1 -> 185 | C187: =VLOOKUP(B187,VLOOKUP!$A$2:$I$39,2,0) -> 0 | D187: =IF(C187=C186,"W","L") -> W
A188: =+A187+1 -> 186 | C188: =VLOOKUP(B188,VLOOKUP!$A$2:$I$39,2,0) -> 0 | D188: =IF(C188=C187,"W","L") -> W
A189: =+A188+1 -> 187 | C189: =VLOOKUP(B189,VLOOKUP!$A$2:$I$39,2,0) -> 0 | D189: =IF(C189=C188,"W","L") -> W
A190: =+A189+1 -> 188 | C190: =VLOOKUP(B190,VLOOKUP!$A$2:$I$39,2,0) -> 0 | D190: =IF(C190=C189,"W","L") -> W
A191: =+A190+1 -> 189 | C191: =VLOOKUP(B191,VLOOKUP!$A$2:$I$39,2,0) -> 0 | D191: =IF(C191=C190,"W","L") -> W
A192: =+A191+1 -> 190 | C192: =VLOOKUP(B192,VLOOKUP!$A$2:$I$39,2,0) -> 0 | D192: =IF(C192=C191,"W","L") -> W
A193: =+A192+1 -> 191 | C193: =VLOOKUP(B193,VLOOKUP!$A$2:$I$39,2,0) -> 0 | D193: =IF(C193=C192,"W","L") -> W
A194: =+A193+1 -> 192 | C194: =VLOOKUP(B194,VLOOKUP!$A$2:$I$39,2,0) -> 0 | D194: =IF(C194=C193,"W","L") -> W
A195: =+A194+1 -> 193 | C195: =VLOOKUP(B195,VLOOKUP!$A$2:$I$39,2,0) -> 0 | D195: =IF(C195=C194,"W","L") -> W
A196: =+A195+1 -> 194 | C196: =VLOOKUP(B196,VLOOKUP!$A$2:$I$39,2,0) -> 0 | D196: =IF(C196=C195,"W","L") -> W
A197: =+A196+1 -> 195 | C197: =VLOOKUP(B197,VLOOKUP!$A$2:$I$39,2,0) -> 0 | D197: =IF(C197=C196,"W","L") -> W
... A311: =+A310+1 -> 309 | C311: =VLOOKUP(B311,VLOOKUP!$A$2:$I$39,2,0) -> 0 | D311: =IF(C311=C310,"W","L") -> W

Sheet 17.01.2010
A2: Spin | B2: Number | C2: Dozens
A3: 1 | B3: 13 | C3: =VLOOKUP(B3,VLOOKUP!$A$2:$I$39,2,0) -> 2
A4: =+A3+1 -> 2 | B4: 0 | C4: =VLOOKUP(B4,VLOOKUP!$A$2:$I$39,2,0) -> 0
A5: =+A4+1 -> 3 | B5: 33 | C5: =VLOOKUP(B5,VLOOKUP!$A$2:$I$39,2,0) -> 3
A6: =+A5+1 -> 4 | B6: 25 | C6: =VLOOKUP(B6,VLOOKUP!$A$2:$I$39,2,0) -> 3 | D6: =IF(C6=C5,"W","L") -> W
A7: =+A6+1 -> 5 | B7: 9 | C7: =VLOOKUP(B7,VLOOKUP!$A$2:$I$39,2,0) -> 1 | D7: =IF(C7=C6,"W","L") -> L
A8: =+A7+1 -> 6 | B8: 27 | C8: =VLOOKUP(B8,VLOOKUP!$A$2:$I$39,2,0) -> 3 | D8: =IF(C8=C7,"W","L") -> L
A9: =+A8+1 -> 7 | B9: 0 | C9: =VLOOKUP(B9,VLOOKUP!$A$2:$I$39,2,0) -> 0 | D9: =IF(C9=C8,"W","L") -> L
A10: =+A9+1 -> 8 | B10: 9 | C10: =VLOOKUP(B10,VLOOKUP!$A$2:$I$39,2,0) -> 1 | D10: =IF(C10=C9,"W","L") -> L
A11: =+A10+1 -> 9 | B11: 9 | C11: =VLOOKUP(B11,VLOOKUP!$A$2:$I$39,2,0) -> 1 | D11: =IF(C11=C10,"W","L") -> W
A12: =+A11+1 -> 10 | B12: 6 | C12: =VLOOKUP(B12,VLOOKUP!$A$2:$I$39,2,0) -> 1 | D12: =IF(C12=C11,"W","L") -> W
A13: =+A12+1 -> 11 | B13: 22 | C13: =VLOOKUP(B13,VLOOKUP!$A$2:$I$39,2,0) -> 2 | D13: =IF(C13=C12,"W","L") -> L
A14: =+A13+1 -> 12 | B14: 23 | C14: =VLOOKUP(B14,VLOOKUP!$A$2:$I$39,2,0) -> 2 | D14: =IF(C14=C13,"W","L") -> W
A15: =+A14+1 -> 13 | B15: 22 | C15: =VLOOKUP(B15,VLOOKUP!$A$2:$I$39,2,0) -> 2 | D15: =IF(C15=C14,"W","L") -> W
A16: =+A15+1 -> 14 | B16: 7 | C16: =VLOOKUP(B16,VLOOKUP!$A$2:$I$39,2,0) -> 1 | D16: =IF(C16=C15,"W","L") -> L
A17: =+A16+1 -> 15 | B17: 30 | C17: =VLOOKUP(B17,VLOOKUP!$A$2:$I$39,2,0) -> 3 | D17: =IF(C17=C16,"W","L") -> L
... A102: =+A101+1 -> 100 | B102: 11 | C102: =VLOOKUP(B102,VLOOKUP!$A$2:$I$39,2,0) -> 1 | D102: =IF(C102=C101,"W","L") -> L
A103: =+A102+1 -> 101 | C103: =VLOOKUP(B103,VLOOKUP!$A$2:$I$39,2,0) -> 0 | D103: =IF(C103=C102,"W","L") -> L
A104: =+A103+1 -> 102 | C104: =VLOOKUP(B104,VLOOKUP!$A$2:$I$39,2,0) -> 0 | D104: =IF(C104=C103,"W","L") -> W
A105: =+A104+1 -> 103 | C105: =VLOOKUP(B105,VLOOKUP!$A$2:$I$39,2,0) -> 0 | D105: =IF(C105=C104,"W","L") -> W
A106: =+A105+1 -> 104 | C106: =VLOOKUP(B106,VLOOKUP!$A$2:$I$39,2,0) -> 0 | D106: =IF(C106=C105,"W","L") -> W
A107: =+A106+1 -> 105 | C107: =VLOOKUP(B107,VLOOKUP!$A$2:$I$39,2,0) -> 0 | D107: =IF(C107=C106,"W","L") -> W
A108: =+A107+1 -> 106 | C108: =VLOOKUP(B108,VLOOKUP!$A$2:$I$39,2,0) -> 0 | D108: =IF(C108=C107,"W","L") -> W
A109: =+A108+1 -> 107 | C109: =VLOOKUP(B109,VLOOKUP!$A$2:$I$39,2,0) -> 0 | D109: =IF(C109=C108,"W","L") -> W
A110: =+A109+1 -> 108 | C110: =VLOOKUP(B110,VLOOKUP!$A$2:$I$39,2,0) -> 0 | D110: =IF(C110=C109,"W","L") -> W
A111: =+A110+1 -> 109 | C111: =VLOOKUP(B111,VLOOKUP!$A$2:$I$39,2,0) -> 0 | D111: =IF(C111=C110,"W","L") -> W
A112: =+A111+1 -> 110 | C112: =VLOOKUP(B112,VLOOKUP!$A$2:$I$39,2,0) -> 0 | D112: =IF(C112=C111,"W","L") -> W
A113: =+A112+1 -> 111 | C113: =VLOOKUP(B113,VLOOKUP!$A$2:$I$39,2,0) -> 0 | D113: =IF(C113=C112,"W","L") -> W
A114: =+A113+1 -> 112 | C114: =VLOOKUP(B114,VLOOKUP!$A$2:$I$39,2,0) -> 0 | D114: =IF(C114=C113,"W","L") -> W
... A311: =+A310+1 -> 309 | C311: =VLOOKUP(B311,VLOOKUP!$A$2:$I$39,2,0) -> 0 | D311: =IF(C311=C310,"W","L") -> W

Sheet 20.01.2010
A2: Spin | B2: Number | C2: Dozens
A3: 1 | B3: 11 | C3: =VLOOKUP(B3,VLOOKUP!$A$2:$I$39,2,0) -> 1
A4: =+A3+1 -> 2 | B4: 7 | C4: =VLOOKUP(B4,VLOOKUP!$A$2:$I$39,2,0) -> 1
A5: =+A4+1 -> 3 | B5: 15 | C5: =VLOOKUP(B5,VLOOKUP!$A$2:$I$39,2,0) -> 2
A6: =+A5+1 -> 4 | B6: 25 | C6: =VLOOKUP(B6,VLOOKUP!$A$2:$I$39,2,0) -> 3 | D6: =IF(C6=C5,"W","L") -> L
A7: =+A6+1 -> 5 | B7: 7 | C7: =VLOOKUP(B7,VLOOKUP!$A$2:$I$39,2,0) -> 1 | D7: =IF(C7=C6,"W","L") -> L
A8: =+A7+1 -> 6 | B8: 4 | C8: =VLOOKUP(B8,VLOOKUP!$A$2:$I$39,2,0) -> 1 | D8: =IF(C8=C7,"W","L") -> W
A9: =+A8+1 -> 7 | B9: 12 | C9: =VLOOKUP(B9,VLOOKUP!$A$2:$I$39,2,0) -> 1 | D9: =IF(C9=C8,"W","L") -> W
A10: =+A9+1 -> 8 | B10: 16 | C10: =VLOOKUP(B10,VLOOKUP!$A$2:$I$39,2,0) -> 2 | D10: =IF(C10=C9,"W","L") -> L
A11: =+A10+1 -> 9 | B11: 31 | C11: =VLOOKUP(B11,VLOOKUP!$A$2:$I$39,2,0) -> 3 | D11: =IF(C11=C10,"W","L") -> L
A12: =+A11+1 -> 10 | B12: 7 | C12: =VLOOKUP(B12,VLOOKUP!$A$2:$I$39,2,0) -> 1 | D12: =IF(C12=C11,"W","L") -> L
A13: =+A12+1 -> 11 | B13: 33 | C13: =VLOOKUP(B13,VLOOKUP!$A$2:$I$39,2,0) -> 3 | D13: =IF(C13=C12,"W","L") -> L
A14: =+A13+1 -> 12 | B14: 2 | C14: =VLOOKUP(B14,VLOOKUP!$A$2:$I$39,2,0) -> 1 | D14: =IF(C14=C13,"W","L") -> L
A15: =+A14+1 -> 13 | B15: 16 | C15: =VLOOKUP(B15,VLOOKUP!$A$2:$I$39,2,0) -> 2 | D15: =IF(C15=C14,"W","L") -> L
A16: =+A15+1 -> 14 | B16: 33 | C16: =VLOOKUP(B16,VLOOKUP!$A$2:$I$39,2,0) -> 3 | D16: =IF(C16=C15,"W","L") -> L
A17: =+A16+1 -> 15 | B17: 16 | C17: =VLOOKUP(B17,VLOOKUP!$A$2:$I$39,2,0) -> 2 | D17: =IF(C17=C16,"W","L") -> L
... A212: =+A211+1 -> 210 | B212: 3 | C212: =VLOOKUP(B212,VLOOKUP!$A$2:$I$39,2,0) -> 1 | D212: =IF(C212=C211,"W","L") -> L
A213: =+A212+1 -> 211 | C213: =VLOOKUP(B213,VLOOKUP!$A$2:$I$39,2,0) -> 0 | D213: =IF(C213=C212,"W","L") -> L
A214: =+A213+1 -> 212 | C214: =VLOOKUP(B214,VLOOKUP!$A$2:$I$39,2,0) -> 0 | D214: =IF(C214=C213,"W","L") -> W
A215: =+A214+1 -> 213 | C215: =VLOOKUP(B215,VLOOKUP!$A$2:$I$39,2,0) -> 0 | D215: =IF(C215=C214,"W","L") -> W
A216: =+A215+1 -> 214 | C216: =VLOOKUP(B216,VLOOKUP!$A$2:$I$39,2,0) -> 0 | D216: =IF(C216=C215,"W","L") -> W
A217: =+A216+1 -> 215 | C217: =VLOOKUP(B217,VLOOKUP!$A$2:$I$39,2,0) -> 0 | D217: =IF(C217=C216,"W","L") -> W
A218: =+A217+1 -> 216 | C218: =VLOOKUP(B218,VLOOKUP!$A$2:$I$39,2,0) -> 0 | D218: =IF(C218=C217,"W","L") -> W
A219: =+A218+1 -> 217 | C219: =VLOOKUP(B219,VLOOKUP!$A$2:$I$39,2,0) -> 0 | D219: =IF(C219=C218,"W","L") -> W
A220: =+A219+1 -> 218 | C220: =VLOOKUP(B220,VLOOKUP!$A$2:$I$39,2,0) -> 0 | D220: =IF(C220=C219,"W","L") -> W
A221: =+A220+1 -> 219 | C221: =VLOOKUP(B221,VLOOKUP!$A$2:$I$39,2,0) -> 0 | D221: =IF(C221=C220,"W","L") -> W
A222: =+A221+1 -> 220 | C222: =VLOOKUP(B222,VLOOKUP!$A$2:$I$39,2,0) -> 0 | D222: =IF(C222=C221,"W","L") -> W
A223: =+A222+1 -> 221 | C223: =VLOOKUP(B223,VLOOKUP!$A$2:$I$39,2,0) -> 0 | D223: =IF(C223=C222,"W","L") -> W
A224: =+A223+1 -> 222 | C224: =VLOOKUP(B224,VLOOKUP!$A$2:$I$39,2,0) -> 0 | D224: =IF(C224=C223,"W","L") -> W
... A311: =+A310+1 -> 309 | C311: =VLOOKUP(B311,VLOOKUP!$A$2:$I$39,2,0) -> 0 | D311: =IF(C311=C310,"W","L") -> W

Sheet 21.01.2010
A2: Spin | B2: Number | C2: Dozens
A3: 1 | B3: 18 | C3: =VLOOKUP(B3,VLOOKUP!$A$2:$I$39,2,0) -> 2
A4: =+A3+1 -> 2 | B4: 0 | C4: =VLOOKUP(B4,VLOOKUP!$A$2:$I$39,2,0) -> 0
A5: =+A4+1 -> 3 | B5: 18 | C5: =VLOOKUP(B5,VLOOKUP!$A$2:$I$39,2,0) -> 2
A6: =+A5+1 -> 4 | B6: 0 | C6: =VLOOKUP(B6,VLOOKUP!$A$2:$I$39,2,0) -> 0 | D6: =IF(C6=C5,"W","L") -> L
A7: =+A6+1 -> 5 | B7: 23 | C7: =VLOOKUP(B7,VLOOKUP!$A$2:$I$39,2,0) -> 2 | D7: =IF(C7=C6,"W","L") -> L
A8: =+A7+1 -> 6 | B8: 19 | C8: =VLOOKUP(B8,VLOOKUP!$A$2:$I$39,2,0) -> 2 | D8: =IF(C8=C7,"W","L") -> W
A9: =+A8+1 -> 7 | B9: 2 | C9: =VLOOKUP(B9,VLOOKUP!$A$2:$I$39,2,0) -> 1 | D9: =IF(C9=C8,"W","L") -> L
A10: =+A9+1 -> 8 | B10: 4 | C10: =VLOOKUP(B10,VLOOKUP!$A$2:$I$39,2,0) -> 1 | D10: =IF(C10=C9,"W","L") -> W
A11: =+A10+1 -> 9 | B11: 28 | C11: =VLOOKUP(B11,VLOOKUP!$A$2:$I$39,2,0) -> 3 | D11: =IF(C11=C10,"W","L") -> L
A12: =+A11+1 -> 10 | B12: 13 | C12: =VLOOKUP(B12,VLOOKUP!$A$2:$I$39,2,0) -> 2 | D12: =IF(C12=C11,"W","L") -> L
A13: =+A12+1 -> 11 | B13: 15 | C13: =VLOOKUP(B13,VLOOKUP!$A$2:$I$39,2,0) -> 2 | D13: =IF(C13=C12,"W","L") -> W
A14: =+A13+1 -> 12 | B14: 28 | C14: =VLOOKUP(B14,VLOOKUP!$A$2:$I$39,2,0) -> 3 | D14: =IF(C14=C13,"W","L") -> L
A15: =+A14+1 -> 13 | B15: 25 | C15: =VLOOKUP(B15,VLOOKUP!$A$2:$I$39,2,0) -> 3 | D15: =IF(C15=C14,"W","L") -> W
A16: =+A15+1 -> 14 | B16: 9 | C16: =VLOOKUP(B16,VLOOKUP!$A$2:$I$39,2,0) -> 1 | D16: =IF(C16=C15,"W","L") -> L
A17: =+A16+1 -> 15 | B17: 26 | C17: =VLOOKUP(B17,VLOOKUP!$A$2:$I$39,2,0) -> 3 | D17: =IF(C17=C16,"W","L") -> L
... A145: =+A144+1 -> 143 | B145: 7 | C145: =VLOOKUP(B145,VLOOKUP!$A$2:$I$39,2,0) -> 1 | D145: =IF(C145=C144,"W","L") -> L
A146: =+A145+1 -> 144 | C146: =VLOOKUP(B146,VLOOKUP!$A$2:$I$39,2,0) -> 0 | D146: =IF(C146=C145,"W","L") -> L
A147: =+A146+1 -> 145 | C147: =VLOOKUP(B147,VLOOKUP!$A$2:$I$39,2,0) -> 0 | D147: =IF(C147=C146,"W","L") -> W
A148: =+A147+1 -> 146 | C148: =VLOOKUP(B148,VLOOKUP!$A$2:$I$39,2,0) -> 0 | D148: =IF(C148=C147,"W","L") -> W
A149: =+A148+1 -> 147 | C149: =VLOOKUP(B149,VLOOKUP!$A$2:$I$39,2,0) -> 0 | D149: =IF(C149=C148,"W","L") -> W
A150: =+A149+1 -> 148 | C150: =VLOOKUP(B150,VLOOKUP!$A$2:$I$39,2,0) -> 0 | D150: =IF(C150=C149,"W","L") -> W
A151: =+A150+1 -> 149 | C151: =VLOOKUP(B151,VLOOKUP!$A$2:$I$39,2,0) -> 0 | D151: =IF(C151=C150,"W","L") -> W
A152: =+A151+1 -> 150 | C152: =VLOOKUP(B152,VLOOKUP!$A$2:$I$39,2,0) -> 0 | D152: =IF(C152=C151,"W","L") -> W
A153: =+A152+1 -> 151 | C153: =VLOOKUP(B153,VLOOKUP!$A$2:$I$39,2,0) -> 0 | D153: =IF(C153=C152,"W","L") -> W
A154: =+A153+1 -> 152 | C154: =VLOOKUP(B154,VLOOKUP!$A$2:$I$39,2,0) -> 0 | D154: =IF(C154=C153,"W","L") -> W
A155: =+A154+1 -> 153 | C155: =VLOOKUP(B155,VLOOKUP!$A$2:$I$39,2,0) -> 0 | D155: =IF(C155=C154,"W","L") -> W
A156: =+A155+1 -> 154 | C156: =VLOOKUP(B156,VLOOKUP!$A$2:$I$39,2,0) -> 0 | D156: =IF(C156=C155,"W","L") -> W
A157: =+A156+1 -> 155 | C157: =VLOOKUP(B157,VLOOKUP!$A$2:$I$39,2,0) -> 0 | D157: =IF(C157=C156,"W","L") -> W
... A311: =+A310+1 -> 309 | C311: =VLOOKUP(B311,VLOOKUP!$A$2:$I$39,2,0) -> 0 | D311: =IF(C311=C310,"W","L") -> W

Sheet 22.01.2010
A2: Spin | B2: Number | C2: Dozens
A3: 1 | B3: 23 | C3: =VLOOKUP(B3,VLOOKUP!$A$2:$I$39,2,0) -> 2
A4: =+A3+1 -> 2 | B4: 16 | C4: =VLOOKUP(B4,VLOOKUP!$A$2:$I$39,2,0) -> 2
A5: =+A4+1 -> 3 | B5: 28 | C5: =VLOOKUP(B5,VLOOKUP!$A$2:$I$39,2,0) -> 3
A6: =+A5+1 -> 4 | B6: 36 | C6: =VLOOKUP(B6,VLOOKUP!$A$2:$I$39,2,0) -> 3 | D6: =IF(C6=C5,"W","L") -> W
A7: =+A6+1 -> 5 | B7: 1 | C7: =VLOOKUP(B7,VLOOKUP!$A$2:$I$39,2,0) -> 1 | D7: =IF(C7=C6,"W","L") -> L
A8: =+A7+1 -> 6 | B8: 28 | C8: =VLOOKUP(B8,VLOOKUP!$A$2:$I$39,2,0) -> 3 | D8: =IF(C8=C7,"W","L") -> L
A9: =+A8+1 -> 7 | B9: 21 | C9: =VLOOKUP(B9,VLOOKUP!$A$2:$I$39,2,0) -> 2 | D9: =IF(C9=C8,"W","L") -> L
A10: =+A9+1 -> 8 | B10: 2 | C10: =VLOOKUP(B10,VLOOKUP!$A$2:$I$39,2,0) -> 1 | D10: =IF(C10=C9,"W","L") -> L
A11: =+A10+1 -> 9 | B11: 5 | C11: =VLOOKUP(B11,VLOOKUP!$A$2:$I$39,2,0) -> 1 | D11: =IF(C11=C10,"W","L") -> W
A12: =+A11+1 -> 10 | B12: 15 | C12: =VLOOKUP(B12,VLOOKUP!$A$2:$I$39,2,0) -> 2 | D12: =IF(C12=C11,"W","L") -> L
A13: =+A12+1 -> 11 | B13: 23 | C13: =VLOOKUP(B13,VLOOKUP!$A$2:$I$39,2,0) -> 2 | D13: =IF(C13=C12,"W","L") -> W
A14: =+A13+1 -> 12 | B14: 9 | C14: =VLOOKUP(B14,VLOOKUP!$A$2:$I$39,2,0) -> 1 | D14: =IF(C14=C13,"W","L") -> L
A15: =+A14+1 -> 13 | B15: 19 | C15: =VLOOKUP(B15,VLOOKUP!$A$2:$I$39,2,0) -> 2 | D15: =IF(C15=C14,"W","L") -> L
A16: =+A15+1 -> 14 | B16: 19 | C16: =VLOOKUP(B16,VLOOKUP!$A$2:$I$39,2,0) -> 2 | D16: =IF(C16=C15,"W","L") -> W
A17: =+A16+1 -> 15 | B17: 30 | C17: =VLOOKUP(B17,VLOOKUP!$A$2:$I$39,2,0) -> 3 | D17: =IF(C17=C16,"W","L") -> L
... A134: =+A133+1 -> 132 | B134: 12 | C134: =VLOOKUP(B134,VLOOKUP!$A$2:$I$39,2,0) -> 1 | D134: =IF(C134=C133,"W","L") -> L
A135: =+A134+1 -> 133 | C135: =VLOOKUP(B135,VLOOKUP!$A$2:$I$39,2,0) -> 0 | D135: =IF(C135=C134,"W","L") -> L
A136: =+A135+1 -> 134 | C136: =VLOOKUP(B136,VLOOKUP!$A$2:$I$39,2,0) -> 0 | D136: =IF(C136=C135,"W","L") -> W
A137: =+A136+1 -> 135 | C137: =VLOOKUP(B137,VLOOKUP!$A$2:$I$39,2,0) -> 0 | D137: =IF(C137=C136,"W","L") -> W
A138: =+A137+1 -> 136 | C138: =VLOOKUP(B138,VLOOKUP!$A$2:$I$39,2,0) -> 0 | D138: =IF(C138=C137,"W","L") -> W
A139: =+A138+1 -> 137 | C139: =VLOOKUP(B139,VLOOKUP!$A$2:$I$39,2,0) -> 0 | D139: =IF(C139=C138,"W","L") -> W
A140: =+A139+1 -> 138 | C140: =VLOOKUP(B140,VLOOKUP!$A$2:$I$39,2,0) -> 0 | D140: =IF(C140=C139,"W","L") -> W
A141: =+A140+1 -> 139 | C141: =VLOOKUP(B141,VLOOKUP!$A$2:$I$39,2,0) -> 0 | D141: =IF(C141=C140,"W","L") -> W
A142: =+A141+1 -> 140 | C142: =VLOOKUP(B142,VLOOKUP!$A$2:$I$39,2,0) -> 0 | D142: =IF(C142=C141,"W","L") -> W
A143: =+A142+1 -> 141 | C143: =VLOOKUP(B143,VLOOKUP!$A$2:$I$39,2,0) -> 0 | D143: =IF(C143=C142,"W","L") -> W
A144: =+A143+1 -> 142 | C144: =VLOOKUP(B144,VLOOKUP!$A$2:$I$39,2,0) -> 0 | D144: =IF(C144=C143,"W","L") -> W
A145: =+A144+1 -> 143 | C145: =VLOOKUP(B145,VLOOKUP!$A$2:$I$39,2,0) -> 0 | D145: =IF(C145=C144,"W","L") -> W
A146: =+A145+1 -> 144 | C146: =VLOOKUP(B146,VLOOKUP!$A$2:$I$39,2,0) -> 0 | D146: =IF(C146=C145,"W","L") -> W
... A311: =+A310+1 -> 309 | C311: =VLOOKUP(B311,VLOOKUP!$A$2:$I$39,2,0) -> 0 | D311: =IF(C311=C310,"W","L") -> W

Sheet 23.01.2010
A2: Spin | B2: Number | C2: Dozens
A3: 1 | B3: 20 | C3: =VLOOKUP(B3,VLOOKUP!$A$2:$I$39,2,0) -> 2
A4: =+A3+1 -> 2 | B4: 1 | C4: =VLOOKUP(B4,VLOOKUP!$A$2:$I$39,2,0) -> 1
A5: =+A4+1 -> 3 | B5: 34 | C5: =VLOOKUP(B5,VLOOKUP!$A$2:$I$39,2,0) -> 3
A6: =+A5+1 -> 4 | B6: 8 | C6: =VLOOKUP(B6,VLOOKUP!$A$2:$I$39,2,0) -> 1 | D6: =IF(C6=C5,"W","L") -> L
A7: =+A6+1 -> 5 | B7: 24 | C7: =VLOOKUP(B7,VLOOKUP!$A$2:$I$39,2,0) -> 2 | D7: =IF(C7=C6,"W","L") -> L
A8: =+A7+1 -> 6 | B8: 36 | C8: =VLOOKUP(B8,VLOOKUP!$A$2:$I$39,2,0) -> 3 | D8: =IF(C8=C7,"W","L") -> L
A9: =+A8+1 -> 7 | B9: 4 | C9: =VLOOKUP(B9,VLOOKUP!$A$2:$I$39,2,0) -> 1 | D9: =IF(C9=C8,"W","L") -> L
A10: =+A9+1 -> 8 | B10: 17 | C10: =VLOOKUP(B10,VLOOKUP!$A$2:$I$39,2,0) -> 2 | D10: =IF(C10=C9,"W","L") -> L
A11: =+A10+1 -> 9 | B11: 26 | C11: =VLOOKUP(B11,VLOOKUP!$A$2:$I$39,2,0) -> 3 | D11: =IF(C11=C10,"W","L") -> L
A12: =+A11+1 -> 10 | B12: 6 | C12: =VLOOKUP(B12,VLOOKUP!$A$2:$I$39,2,0) -> 1 | D12: =IF(C12=C11,"W","L") -> L
A13: =+A12+1 -> 11 | B13: 22 | C13: =VLOOKUP(B13,VLOOKUP!$A$2:$I$39,2,0) -> 2 | D13: =IF(C13=C12,"W","L") -> L
A14: =+A13+1 -> 12 | B14: 28 | C14: =VLOOKUP(B14,VLOOKUP!$A$2:$I$39,2,0) -> 3 | D14: =IF(C14=C13,"W","L") -> L
A15: =+A14+1 -> 13 | B15: 2 | C15: =VLOOKUP(B15,VLOOKUP!$A$2:$I$39,2,0) -> 1 | D15: =IF(C15=C14,"W","L") -> L
A16: =+A15+1 -> 14 | B16: 21 | C16: =VLOOKUP(B16,VLOOKUP!$A$2:$I$39,2,0) -> 2 | D16: =IF(C16=C15,"W","L") -> L
A17: =+A16+1 -> 15 | B17: 3 | C17: =VLOOKUP(B17,VLOOKUP!$A$2:$I$39,2,0) -> 1 | D17: =IF(C17=C16,"W","L") -> L
... A146: =+A145+1 -> 144 | B146: 8 | C146: =VLOOKUP(B146,VLOOKUP!$A$2:$I$39,2,0) -> 1 | D146: =IF(C146=C145,"W","L") -> L
A147: =+A146+1 -> 145 | C147: =VLOOKUP(B147,VLOOKUP!$A$2:$I$39,2,0) -> 0 | D147: =IF(C147=C146,"W","L") -> L
A148: =+A147+1 -> 146 | C148: =VLOOKUP(B148,VLOOKUP!$A$2:$I$39,2,0) -> 0 | D148: =IF(C148=C147,"W","L") -> W
A149: =+A148+1 -> 147 | C149: =VLOOKUP(B149,VLOOKUP!$A$2:$I$39,2,0) -> 0 | D149: =IF(C149=C148,"W","L") -> W
A150: =+A149+1 -> 148 | C150: =VLOOKUP(B150,VLOOKUP!$A$2:$I$39,2,0) -> 0 | D150: =IF(C150=C149,"W","L") -> W
A151: =+A150+1 -> 149 | C151: =VLOOKUP(B151,VLOOKUP!$A$2:$I$39,2,0) -> 0 | D151: =IF(C151=C150,"W","L") -> W
A152: =+A151+1 -> 150 | C152: =VLOOKUP(B152,VLOOKUP!$A$2:$I$39,2,0) -> 0 | D152: =IF(C152=C151,"W","L") -> W
A153: =+A152+1 -> 151 | C153: =VLOOKUP(B153,VLOOKUP!$A$2:$I$39,2,0) -> 0 | D153: =IF(C153=C152,"W","L") -> W
A154: =+A153+1 -> 152 | C154: =VLOOKUP(B154,VLOOKUP!$A$2:$I$39,2,0) -> 0 | D154: =IF(C154=C153,"W","L") -> W
A155: =+A154+1 -> 153 | C155: =VLOOKUP(B155,VLOOKUP!$A$2:$I$39,2,0) -> 0 | D155: =IF(C155=C154,"W","L") -> W
A156: =+A155+1 -> 154 | C156: =VLOOKUP(B156,VLOOKUP!$A$2:$I$39,2,0) -> 0 | D156: =IF(C156=C155,"W","L") -> W
A157: =+A156+1 -> 155 | C157: =VLOOKUP(B157,VLOOKUP!$A$2:$I$39,2,0) -> 0 | D157: =IF(C157=C156,"W","L") -> W
A158: =+A157+1 -> 156 | C158: =VLOOKUP(B158,VLOOKUP!$A$2:$I$39,2,0) -> 0 | D158: =IF(C158=C157,"W","L") -> W
... A311: =+A310+1 -> 309 | C311: =VLOOKUP(B311,VLOOKUP!$A$2:$I$39,2,0) -> 0 | D311: =IF(C311=C310,"W","L") -> W

Sheet 24.01.2010
A2: Spin | B2: Number | C2: Dozens
A3: 1 | B3: 3 | C3: =VLOOKUP(B3,VLOOKUP!$A$2:$I$39,2,0) -> 1
A4: =+A3+1 -> 2 | B4: 30 | C4: =VLOOKUP(B4,VLOOKUP!$A$2:$I$39,2,0) -> 3
A5: =+A4+1 -> 3 | B5: 10 | C5: =VLOOKUP(B5,VLOOKUP!$A$2:$I$39,2,0) -> 1
A6: =+A5+1 -> 4 | B6: 32 | C6: =VLOOKUP(B6,VLOOKUP!$A$2:$I$39,2,0) -> 3 | D6: =IF(C6=C5,"W","L") -> L
A7: =+A6+1 -> 5 | B7: 24 | C7: =VLOOKUP(B7,VLOOKUP!$A$2:$I$39,2,0) -> 2 | D7: =IF(C7=C6,"W","L") -> L
A8: =+A7+1 -> 6 | B8: 4 | C8: =VLOOKUP(B8,VLOOKUP!$A$2:$I$39,2,0) -> 1 | D8: =IF(C8=C7,"W","L") -> L
A9: =+A8+1 -> 7 | B9: 29 | C9: =VLOOKUP(B9,VLOOKUP!$A$2:$I$39,2,0) -> 3 | D9: =IF(C9=C8,"W","L") -> L
A10: =+A9+1 -> 8 | B10: 29 | C10: =VLOOKUP(B10,VLOOKUP!$A$2:$I$39,2,0) -> 3 | D10: =IF(C10=C9,"W","L") -> W
A11: =+A10+1 -> 9 | B11: 36 | C11: =VLOOKUP(B11,VLOOKUP!$A$2:$I$39,2,0) -> 3 | D11: =IF(C11=C10,"W","L") -> W
A12: =+A11+1 -> 10 | B12: 32 | C12: =VLOOKUP(B12,VLOOKUP!$A$2:$I$39,2,0) -> 3 | D12: =IF(C12=C11,"W","L") -> W
A13: =+A12+1 -> 11 | B13: 31 | C13: =VLOOKUP(B13,VLOOKUP!$A$2:$I$39,2,0) -> 3 | D13: =IF(C13=C12,"W","L") -> W
A14: =+A13+1 -> 12 | B14: 8 | C14: =VLOOKUP(B14,VLOOKUP!$A$2:$I$39,2,0) -> 1 | D14: =IF(C14=C13,"W","L") -> L
A15: =+A14+1 -> 13 | B15: 30 | C15: =VLOOKUP(B15,VLOOKUP!$A$2:$I$39,2,0) -> 3 | D15: =IF(C15=C14,"W","L") -> L
A16: =+A15+1 -> 14 | B16: 0 | C16: =VLOOKUP(B16,VLOOKUP!$A$2:$I$39,2,0) -> 0 | D16: =IF(C16=C15,"W","L") -> L
A17: =+A16+1 -> 15 | B17: 11 | C17: =VLOOKUP(B17,VLOOKUP!$A$2:$I$39,2,0) -> 1 | D17: =IF(C17=C16,"W","L") -> L
... A49: =+A48+1 -> 47 | B49: 5 | C49: =VLOOKUP(B49,VLOOKUP!$A$2:$I$39,2,0) -> 1 | D49: =IF(C49=C48,"W","L") -> L
A50: =+A49+1 -> 48 | C50: =VLOOKUP(B50,VLOOKUP!$A$2:$I$39,2,0) -> 0 | D50: =IF(C50=C49,"W","L") -> L
A51: =+A50+1 -> 49 | C51: =VLOOKUP(B51,VLOOKUP!$A$2:$I$39,2,0) -> 0 | D51: =IF(C51=C50,"W","L") -> W
A52: =+A51+1 -> 50 | C52: =VLOOKUP(B52,VLOOKUP!$A$2:$I$39,2,0) -> 0 | D52: =IF(C52=C51,"W","L") -> W
A53: =+A52+1 -> 51 | C53: =VLOOKUP(B53,VLOOKUP!$A$2:$I$39,2,0) -> 0 | D53: =IF(C53=C52,"W","L") -> W
A54: =+A53+1 -> 52 | C54: =VLOOKUP(B54,VLOOKUP!$A$2:$I$39,2,0) -> 0 | D54: =IF(C54=C53,"W","L") -> W
A55: =+A54+1 -> 53 | C55: =VLOOKUP(B55,VLOOKUP!$A$2:$I$39,2,0) -> 0 | D55: =IF(C55=C54,"W","L") -> W
A56: =+A55+1 -> 54 | C56: =VLOOKUP(B56,VLOOKUP!$A$2:$I$39,2,0) -> 0 | D56: =IF(C56=C55,"W","L") -> W
A57: =+A56+1 -> 55 | C57: =VLOOKUP(B57,VLOOKUP!$A$2:$I$39,2,0) -> 0 | D57: =IF(C57=C56,"W","L") -> W
A58: =+A57+1 -> 56 | C58: =VLOOKUP(B58,VLOOKUP!$A$2:$I$39,2,0) -> 0 | D58: =IF(C58=C57,"W","L") -> W
A59: =+A58+1 -> 57 | C59: =VLOOKUP(B59,VLOOKUP!$A$2:$I$39,2,0) -> 0 | D59: =IF(C59=C58,"W","L") -> W
A60: =+A59+1 -> 58 | C60: =VLOOKUP(B60,VLOOKUP!$A$2:$I$39,2,0) -> 0 | D60: =IF(C60=C59,"W","L") -> W
A61: =+A60+1 -> 59 | C61: =VLOOKUP(B61,VLOOKUP!$A$2:$I$39,2,0) -> 0 | D61: =IF(C61=C60,"W","L") -> W
... A311: =+A310+1 -> 309 | C311: =VLOOKUP(B311,VLOOKUP!$A$2:$I$39,2,0) -> 0 | D311: =IF(C311=C310,"W","L") -> W

Sheet 30.01.2010
A2: Spin | B2: Number | C2: Dozens
A3: 1 | B3: 10 | C3: =VLOOKUP(B3,VLOOKUP!$A$2:$I$39,2,0) -> 1
A4: =+A3+1 -> 2 | B4: 4 | C4: =VLOOKUP(B4,VLOOKUP!$A$2:$I$39,2,0) -> 1
A5: =+A4+1 -> 3 | B5: 23 | C5: =VLOOKUP(B5,VLOOKUP!$A$2:$I$39,2,0) -> 2
A6: =+A5+1 -> 4 | B6: 5 | C6: =VLOOKUP(B6,VLOOKUP!$A$2:$I$39,2,0) -> 1 | D6: =IF(C6=C5,"W","L") -> L
A7: =+A6+1 -> 5 | B7: 8 | C7: =VLOOKUP(B7,VLOOKUP!$A$2:$I$39,2,0) -> 1 | D7: =IF(C7=C6,"W","L") -> W
A8: =+A7+1 -> 6 | B8: 13 | C8: =VLOOKUP(B8,VLOOKUP!$A$2:$I$39,2,0) -> 2 | D8: =IF(C8=C7,"W","L") -> L
A9: =+A8+1 -> 7 | B9: 9 | C9: =VLOOKUP(B9,VLOOKUP!$A$2:$I$39,2,0) -> 1 | D9: =IF(C9=C8,"W","L") -> L
A10: =+A9+1 -> 8 | B10: 10 | C10: =VLOOKUP(B10,VLOOKUP!$A$2:$I$39,2,0) -> 1 | D10: =IF(C10=C9,"W","L") -> W
A11: =+A10+1 -> 9 | B11: 11 | C11: =VLOOKUP(B11,VLOOKUP!$A$2:$I$39,2,0) -> 1 | D11: =IF(C11=C10,"W","L") -> W
A12: =+A11+1 -> 10 | B12: 0 | C12: =VLOOKUP(B12,VLOOKUP!$A$2:$I$39,2,0) -> 0 | D12: =IF(C12=C11,"W","L") -> L
A13: =+A12+1 -> 11 | B13: 5 | C13: =VLOOKUP(B13,VLOOKUP!$A$2:$I$39,2,0) -> 1 | D13: =IF(C13=C12,"W","L") -> L
A14: =+A13+1 -> 12 | B14: 13 | C14: =VLOOKUP(B14,VLOOKUP!$A$2:$I$39,2,0) -> 2 | D14: =IF(C14=C13,"W","L") -> L
A15: =+A14+1 -> 13 | B15: 36 | C15: =VLOOKUP(B15,VLOOKUP!$A$2:$I$39,2,0) -> 3 | D15: =IF(C15=C14,"W","L") -> L
A16: =+A15+1 -> 14 | B16: 36 | C16: =VLOOKUP(B16,VLOOKUP!$A$2:$I$39,2,0) -> 3 | D16: =IF(C16=C15,"W","L") -> W
A17: =+A16+1 -> 15 | B17: 18 | C17: =VLOOKUP(B17,VLOOKUP!$A$2:$I$39,2,0) -> 2 | D17: =IF(C17=C16,"W","L") -> L
... A147: =+A146+1 -> 145 | B147: 13 | C147: =VLOOKUP(B147,VLOOKUP!$A$2:$I$39,2,0) -> 2 | D147: =IF(C147=C146,"W","L") -> W
A148: =+A147+1 -> 146 | C148: =VLOOKUP(B148,VLOOKUP!$A$2:$I$39,2,0) -> 0 | D148: =IF(C148=C147,"W","L") -> L
A149: =+A148+1 -> 147 | C149: =VLOOKUP(B149,VLOOKUP!$A$2:$I$39,2,0) -> 0 | D149: =IF(C149=C148,"W","L") -> W
A150: =+A149+1 -> 148 | C150: =VLOOKUP(B150,VLOOKUP!$A$2:$I$39,2,0) -> 0 | D150: =IF(C150=C149,"W","L") -> W
A151: =+A150+1 -> 149 | C151: =VLOOKUP(B151,VLOOKUP!$A$2:$I$39,2,0) -> 0 | D151: =IF(C151=C150,"W","L") -> W
A152: =+A151+1 -> 150 | C152: =VLOOKUP(B152,VLOOKUP!$A$2:$I$39,2,0) -> 0 | D152: =IF(C152=C151,"W","L") -> W
A153: =+A152+1 -> 151 | C153: =VLOOKUP(B153,VLOOKUP!$A$2:$I$39,2,0) -> 0 | D153: =IF(C153=C152,"W","L") -> W
A154: =+A153+1 -> 152 | C154: =VLOOKUP(B154,VLOOKUP!$A$2:$I$39,2,0) -> 0 | D154: =IF(C154=C153,"W","L") -> W
A155: =+A154+1 -> 153 | C155: =VLOOKUP(B155,VLOOKUP!$A$2:$I$39,2,0) -> 0 | D155: =IF(C155=C154,"W","L") -> W
A156: =+A155+1 -> 154 | C156: =VLOOKUP(B156,VLOOKUP!$A$2:$I$39,2,0) -> 0 | D156: =IF(C156=C155,"W","L") -> W
A157: =+A156+1 -> 155 | C157: =VLOOKUP(B157,VLOOKUP!$A$2:$I$39,2,0) -> 0 | D157: =IF(C157=C156,"W","L") -> W
A158: =+A157+1 -> 156 | C158: =VLOOKUP(B158,VLOOKUP!$A$2:$I$39,2,0) -> 0 | D158: =IF(C158=C157,"W","L") -> W
A159: =+A158+1 -> 157 | C159: =VLOOKUP(B159,VLOOKUP!$A$2:$I$39,2,0) -> 0 | D159: =IF(C159=C158,"W","L") -> W
... A311: =+A310+1 -> 309 | C311: =VLOOKUP(B311,VLOOKUP!$A$2:$I$39,2,0) -> 0 | D311: =IF(C311=C310,"W","L") -> W
