Workbook

Sheet Key
A1: 2 | B1: EVEN | C1: 32 | D1: RED | E1: 1 | F1: 1-18 | G1: 1ST
A2: 4 | B2: EVEN | C2: 19 | D2: RED | E2: 2 | F2: 1-18 | G2: 1ST
A3: 6 | B3: EVEN | C3: 21 | D3: RED | E3: 3 | F3: 1-18 | G3: 1st
A4: 8 | B4: EVEN | C4: 25 | D4: RED | E4: 4 | F4: 1-18 | G4: 1st
A5: 10 | B5: EVEN | C5: 34 | D5: RED | E5: 5 | F5: 1-18 | G5: 1st
A6: 12 | B6: EVEN | C6: 27 | D6: RED | E6: 6 | F6: 1-18 | G6: 1st
A7: 14 | B7: EVEN | C7: 36 | D7: RED | E7: 7 | F7: 1-18 | G7: 1st
A8: 16 | B8: EVEN | C8: 30 | D8: RED | E8: 8 | F8: 1-18 | G8: 1st
A9: 18 | B9: EVEN | C9: 23 | D9: RED | E9: 9 | F9: 1-18 | G9: 1st
A10: 20 | B10: EVEN | C10: 5 | D10: RED | E10: 10 | F10: 1-18 | G10: 1st
A11: 22 | B11: EVEN | C11: 16 | D11: RED | E11: 11 | F11: 1-18 | G11: 1st
A12: 24 | B12: EVEN | C12: 1 | D12: RED | E12: 12 | F12: 1-18 | G12: 1st
... A36: 35 | B36: ODD | C36: 26 | D36: BLACK | E36: 36 | F36: 19-36 | G36: 3rd
C37: 0 | D37: ZERO | E37: 0 | F37: ZERO | G37: ZERO

Sheet Tabelle1
A1: SPIN | B1: SPIN RESULT | C1: ODD/EVEN | D1: RED/BLACK | E1: LOW/HIGH | F1: DOZENS | H1: PROFIT | I1: PROFIT TOTAL | L1: Formation | M1: Progression | N1: 10 | O1: 50 | P1: 10 | Q1: 50
A2: 1 | B2: 32 | C2: =IFERROR(VLOOKUP(B2,Key!$A$1:$B$36,2,FALSE),"Zero") -> EVEN | D2: =VLOOKUP(Tabelle1!B2,Key!C$1:D$37,2,FALSE) -> RED | E2: =VLOOKUP(B2,Key!$E$1:$F$37,2,FALSE) -> 19-36 | F2: =VLOOKUP(B2,Key!$E$1:$G$37,3,FALSE) -> 3rd | G2: W | H2: 10 | I2: =SUM(H2:H265) -> 390 | L2: 1111 | M2: Profit | N2: 10 | O2: 30 | P2: 10 | Q2: 30
A3: 2 | B3: 4 | C3: =IFERROR(VLOOKUP(B3,Key!$A$1:$B$36,2,FALSE),"Zero") -> EVEN | D3: =VLOOKUP(Tabelle1!B3,Key!C$1:D$37,2,FALSE) -> BLACK | E3: =VLOOKUP(B3,Key!$E$1:$F$37,2,FALSE) -> 1-18 | F3: =VLOOKUP(B3,Key!$E$1:$G$37,3,FALSE) -> 1st | G3: * | M3: Loss | N3: 20 | O3: 100 | P3: 20 | Q3: 100
A4: 3 | B4: 4 | C4: =IFERROR(VLOOKUP(B4,Key!$A$1:$B$36,2,FALSE),"Zero") -> EVEN | D4: =VLOOKUP(Tabelle1!B4,Key!C$1:D$37,2,FALSE) -> BLACK | E4: =VLOOKUP(B4,Key!$E$1:$F$37,2,FALSE) -> 1-18 | F4: =VLOOKUP(B4,Key!$E$1:$G$37,3,FALSE) -> 1st | G4: *
A5: 4 | B5: 3 | C5: =IFERROR(VLOOKUP(B5,Key!$A$1:$B$36,2,FALSE),"Zero") -> ODD | D5: =VLOOKUP(Tabelle1!B5,Key!C$1:D$37,2,FALSE) -> RED | E5: =VLOOKUP(B5,Key!$E$1:$F$37,2,FALSE) -> 1-18 | F5: =VLOOKUP(B5,Key!$E$1:$G$37,3,FALSE) -> 1st | G5: *
A6: 5 | B6: 11 | C6: =IFERROR(VLOOKUP(B6,Key!$A$1:$B$36,2,FALSE),"Zero") -> ODD | D6: =VLOOKUP(Tabelle1!B6,Key!C$1:D$37,2,FALSE) -> BLACK | E6: =VLOOKUP(B6,Key!$E$1:$F$37,2,FALSE) -> 1-18 | F6: =VLOOKUP(B6,Key!$E$1:$G$37,3,FALSE) -> 1st | G6: *
A7: 6 | B7: 10 | C7: =IFERROR(VLOOKUP(B7,Key!$A$1:$B$36,2,FALSE),"Zero") -> EVEN | D7: =VLOOKUP(Tabelle1!B7,Key!C$1:D$37,2,FALSE) -> BLACK | E7: =VLOOKUP(B7,Key!$E$1:$F$37,2,FALSE) -> 1-18 | F7: =VLOOKUP(B7,Key!$E$1:$G$37,3,FALSE) -> 1st | G7: *
A8: 7 | B8: 26 | C8: =IFERROR(VLOOKUP(B8,Key!$A$1:$B$36,2,FALSE),"Zero") -> EVEN | D8: =VLOOKUP(Tabelle1!B8,Key!C$1:D$37,2,FALSE) -> BLACK | E8: =VLOOKUP(B8,Key!$E$1:$F$37,2,FALSE) -> 19-36 | F8: =VLOOKUP(B8,Key!$E$1:$G$37,3,FALSE) -> 3RD | G8: W | H8: 10
A9: 8 | B9: 33 | C9: =IFERROR(VLOOKUP(B9,Key!$A$1:$B$36,2,FALSE),"Zero") -> ODD | D9: =VLOOKUP(Tabelle1!B9,Key!C$1:D$37,2,FALSE) -> BLACK | E9: =VLOOKUP(B9,Key!$E$1:$F$37,2,FALSE) -> 19-36 | F9: =VLOOKUP(B9,Key!$E$1:$G$37,3,FALSE) -> 3rd | G9: *
A10: 9 | B10: 4 | C10: =IFERROR(VLOOKUP(B10,Key!$A$1:$B$36,2,FALSE),"Zero") -> EVEN | D10: =VLOOKUP(Tabelle1!B10,Key!C$1:D$37,2,FALSE) -> BLACK | E10: =VLOOKUP(B10,Key!$E$1:$F$37,2,FALSE) -> 1-18 | F10: =VLOOKUP(B10,Key!$E$1:$G$37,3,FALSE) -> 1st | G10: *
A11: 10 | B11: 7 | C11: =IFERROR(VLOOKUP(B11,Key!$A$1:$B$36,2,FALSE),"Zero") -> ODD | D11: =VLOOKUP(Tabelle1!B11,Key!C$1:D$37,2,FALSE) -> RED | E11: =VLOOKUP(B11,Key!$E$1:$F$37,2,FALSE) -> 1-18 | F11: =VLOOKUP(B11,Key!$E$1:$G$37,3,FALSE) -> 1st | G11: *
A12: 11 | B12: 9 | C12: =IFERROR(VLOOKUP(B12,Key!$A$1:$B$36,2,FALSE),"Zero") -> ODD | D12: =VLOOKUP(Tabelle1!B12,Key!C$1:D$37,2,FALSE) -> RED | E12: =VLOOKUP(B12,Key!$E$1:$F$37,2,FALSE) -> 1-18 | F12: =VLOOKUP(B12,Key!$E$1:$G$37,3,FALSE) -> 1st | G12: *
A13: 12 | B13: 26 | C13: =IFERROR(VLOOKUP(B13,Key!$A$1:$B$36,2,FALSE),"Zero") -> EVEN | D13: =VLOOKUP(Tabelle1!B13,Key!C$1:D$37,2,FALSE) -> BLACK | E13: =VLOOKUP(B13,Key!$E$1:$F$37,2,FALSE) -> 19-36 | F13: =VLOOKUP(B13,Key!$E$1:$G$37,3,FALSE) -> 3RD | G13: *
A14: 13 | B14: 22 | C14: =IFERROR(VLOOKUP(B14,Key!$A$1:$B$36,2,FALSE),"Zero") -> EVEN | D14: =VLOOKUP(Tabelle1!B14,Key!C$1:D$37,2,FALSE) -> BLACK | E14: =VLOOKUP(B14,Key!$E$1:$F$37,2,FALSE) -> 19-36 | F14: =VLOOKUP(B14,Key!$E$1:$G$37,3,FALSE) -> 2nd | G14: W | H14: 10
A15: 14 | B15: 0 | C15: =IFERROR(VLOOKUP(B15,Key!$A$1:$B$36,2,FALSE),"Zero") -> Zero | D15: =VLOOKUP(Tabelle1!B15,Key!C$1:D$37,2,FALSE) -> ZERO | E15: =VLOOKUP(B15,Key!$E$1:$F$37,2,FALSE) -> ZERO | F15: =VLOOKUP(B15,Key!$E$1:$G$37,3,FALSE) -> ZERO | G15: *
A16: 15 | B16: 11 | C16: =IFERROR(VLOOKUP(B16,Key!$A$1:$B$36,2,FALSE),"Zero") -> ODD | D16: =VLOOKUP(Tabelle1!B16,Key!C$1:D$37,2,FALSE) -> BLACK | E16: =VLOOKUP(B16,Key!$E$1:$F$37,2,FALSE) -> 1-18 | F16: =VLOOKUP(B16,Key!$E$1:$G$37,3,FALSE) -> 1st | G16: *
A17: 16 | B17: 33 | C17: =IFERROR(VLOOKUP(B17,Key!$A$1:$B$36,2,FALSE),"Zero") -> ODD | D17: =VLOOKUP(Tabelle1!B17,Key!C$1:D$37,2,FALSE) -> BLACK | E17: =VLOOKUP(B17,Key!$E$1:$F$37,2,FALSE) -> 19-36 | F17: =VLOOKUP(B17,Key!$E$1:$G$37,3,FALSE) -> 3rd | G17: *
A18: 17 | B18: 10 | C18: =IFERROR(VLOOKUP(B18,Key!$A$1:$B$36,2,FALSE),"Zero") -> EVEN | D18: =VLOOKUP(Tabelle1!B18,Key!C$1:D$37,2,FALSE) -> BLACK | E18: =VLOOKUP(B18,Key!$E$1:$F$37,2,FALSE) -> 1-18 | F18: =VLOOKUP(B18,Key!$E$1:$G$37,3,FALSE) -> 1st | G18: *
A19: 18 | B19: 28 | C19: =IFERROR(VLOOKUP(B19,Key!$A$1:$B$36,2,FALSE),"Zero") -> EVEN | D19: =VLOOKUP(Tabelle1!B19,Key!C$1:D$37,2,FALSE) -> BLACK | E19: =VLOOKUP(B19,Key!$E$1:$F$37,2,FALSE) -> 19-36 | F19: =VLOOKUP(B19,Key!$E$1:$G$37,3,FALSE) -> 3rd | G19: *
A20: 19 | B20: 16 | C20: =IFERROR(VLOOKUP(B20,Key!$A$1:$B$36,2,FALSE),"Zero") -> EVEN | D20: =VLOOKUP(Tabelle1!B20,Key!C$1:D$37,2,FALSE) -> RED | E20: =VLOOKUP(B20,Key!$E$1:$F$37,2,FALSE) -> 1-18 | F20: =VLOOKUP(B20,Key!$E$1:$G$37,3,FALSE) -> 2nd | G20: W | H20: 10
A21: 20 | B21: 0 | C21: =IFERROR(VLOOKUP(B21,Key!$A$1:$B$36,2,FALSE),"Zero") -> Zero | D21: =VLOOKUP(Tabelle1!B21,Key!C$1:D$37,2,FALSE) -> ZERO | E21: =VLOOKUP(B21,Key!$E$1:$F$37,2,FALSE) -> ZERO | F21: =VLOOKUP(B21,Key!$E$1:$G$37,3,FALSE) -> ZERO | G21: *
A22: 21 | B22: 26 | C22: =IFERROR(VLOOKUP(B22,Key!$A$1:$B$36,2,FALSE),"Zero") -> EVEN | D22: =VLOOKUP(Tabelle1!B22,Key!C$1:D$37,2,FALSE) -> BLACK | E22: =VLOOKUP(B22,Key!$E$1:$F$37,2,FALSE) -> 19-36 | F22: =VLOOKUP(B22,Key!$E$1:$G$37,3,FALSE) -> 3RD | G22: *
A23: 22 | B23: 11 | C23: =IFERROR(VLOOKUP(B23,Key!$A$1:$B$36,2,FALSE),"Zero") -> ODD | D23: =VLOOKUP(Tabelle1!B23,Key!C$1:D$37,2,FALSE) -> BLACK | E23: =VLOOKUP(B23,Key!$E$1:$F$37,2,FALSE) -> 1-18 | F23: =VLOOKUP(B23,Key!$E$1:$G$37,3,FALSE) -> 1st | G23: *
A24: 23 | B24: 20 | C24: =IFERROR(VLOOKUP(B24,Key!$A$1:$B$36,2,FALSE),"Zero") -> EVEN | D24: =VLOOKUP(Tabelle1!B24,Key!C$1:D$37,2,FALSE) -> BLACK | E24: =VLOOKUP(B24,Key!$E$1:$F$37,2,FALSE) -> 19-36 | F24: =VLOOKUP(B24,Key!$E$1:$G$37,3,FALSE) -> 2nd | G24: *
A25: 24 | B25: 17 | C25: =IFERROR(VLOOKUP(B25,Key!$A$1:$B$36,2,FALSE),"Zero") -> ODD | D25: =VLOOKUP(Tabelle1!B25,Key!C$1:D$37,2,FALSE) -> BLACK | E25: =VLOOKUP(B25,Key!$E$1:$F$37,2,FALSE) -> 1-18 | F25: =VLOOKUP(B25,Key!$E$1:$G$37,3,FALSE) -> 2nd | G25: *
A26: 25 | B26: 32 | C26: =IFERROR(VLOOKUP(B26,Key!$A$1:$B$36,2,FALSE),"Zero") -> EVEN | D26: =VLOOKUP(Tabelle1!B26,Key!C$1:D$37,2,FALSE) -> RED | E26: =VLOOKUP(B26,Key!$E$1:$F$37,2,FALSE) -> 19-36 | F26: =VLOOKUP(B26,Key!$E$1:$G$37,3,FALSE) -> 3rd | G26: W | H26: 10
A27: 26 | B27: 20 | C27: =IFERROR(VLOOKUP(B27,Key!$A$1:$B$36,2,FALSE),"Zero") -> EVEN | D27: =VLOOKUP(Tabelle1!B27,Key!C$1:D$37,2,FALSE) -> BLACK | E27: =VLOOKUP(B27,Key!$E$1:$F$37,2,FALSE) -> 19-36 | F27: =VLOOKUP(B27,Key!$E$1:$G$37,3,FALSE) -> 2nd | G27: *
A28: 27 | B28: 26 | C28: =IFERROR(VLOOKUP(B28,Key!$A$1:$B$36,2,FALSE),"Zero") -> EVEN | D28: =VLOOKUP(Tabelle1!B28,Key!C$1:D$37,2,FALSE) -> BLACK | E28: =VLOOKUP(B28,Key!$E$1:$F$37,2,FALSE) -> 19-36 | F28: =VLOOKUP(B28,Key!$E$1:$G$37,3,FALSE) -> 3RD | G28: *
A29: 28 | B29: 1 | C29: =IFERROR(VLOOKUP(B29,Key!$A$1:$B$36,2,FALSE),"Zero") -> ODD | D29: =VLOOKUP(Tabelle1!B29,Key!C$1:D$37,2,FALSE) -> RED | E29: =VLOOKUP(B29,Key!$E$1:$F$37,2,FALSE) -> 1-18 | F29: =VLOOKUP(B29,Key!$E$1:$G$37,3,FALSE) -> 1ST | G29: *
A30: 29 | B30: 10 | C30: =IFERROR(VLOOKUP(B30,Key!$A$1:$B$36,2,FALSE),"Zero") -> EVEN | D30: =VLOOKUP(Tabelle1!B30,Key!C$1:D$37,2,FALSE) -> BLACK | E30: =VLOOKUP(B30,Key!$E$1:$F$37,2,FALSE) -> 1-18 | F30: =VLOOKUP(B30,Key!$E$1:$G$37,3,FALSE) -> 1st | G30: *
A31: 30 | B31: 20 | C31: =IFERROR(VLOOKUP(B31,Key!$A$1:$B$36,2,FALSE),"Zero") -> EVEN | D31: =VLOOKUP(Tabelle1!B31,Key!C$1:D$37,2,FALSE) -> BLACK | E31: =VLOOKUP(B31,Key!$E$1:$F$37,2,FALSE) -> 19-36 | F31: =VLOOKUP(B31,Key!$E$1:$G$37,3,FALSE) -> 2nd | G31: *
A32: 31 | B32: 36 | C32: =IFERROR(VLOOKUP(B32,Key!$A$1:$B$36,2,FALSE),"Zero") -> EVEN | D32: =VLOOKUP(Tabelle1!B32,Key!C$1:D$37,2,FALSE) -> RED | E32: =VLOOKUP(B32,Key!$E$1:$F$37,2,FALSE) -> 19-36 | F32: =VLOOKUP(B32,Key!$E$1:$G$37,3,FALSE) -> 3rd | G32: W | H32: 10
A33: 32 | B33: 18 | C33: =IFERROR(VLOOKUP(B33,Key!$A$1:$B$36,2,FALSE),"Zero") -> EVEN | D33: =VLOOKUP(Tabelle1!B33,Key!C$1:D$37,2,FALSE) -> RED | E33: =VLOOKUP(B33,Key!$E$1:$F$37,2,FALSE) -> 1-18 | F33: =VLOOKUP(B33,Key!$E$1:$G$37,3,FALSE) -> 2nd | G33: *
A34: 33 | B34: 13 | C34: =IFERROR(VLOOKUP(B34,Key!$A$1:$B$36,2,FALSE),"Zero") -> ODD | D34: =VLOOKUP(Tabelle1!B34,Key!C$1:D$37,2,FALSE) -> BLACK | E34: =VLOOKUP(B34,Key!$E$1:$F$37,2,FALSE) -> 1-18 | F34: =VLOOKUP(B34,Key!$E$1:$G$37,3,FALSE) -> 2ND | G34: *
A35: 34 | B35: 23 | C35: =IFERROR(VLOOKUP(B35,Key!$A$1:$B$36,2,FALSE),"Zero") -> ODD | D35: =VLOOKUP(Tabelle1!B35,Key!C$1:D$37,2,FALSE) -> RED | E35: =VLOOKUP(B35,Key!$E$1:$F$37,2,FALSE) -> 19-36 | F35: =VLOOKUP(B35,Key!$E$1:$G$37,3,FALSE) -> 2nd | G35: *
A36: 35 | B36: 12 | C36: =IFERROR(VLOOKUP(B36,Key!$A$1:$B$36,2,FALSE),"Zero") -> EVEN | D36: =VLOOKUP(Tabelle1!B36,Key!C$1:D$37,2,FALSE) -> RED | E36: =VLOOKUP(B36,Key!$E$1:$F$37,2,FALSE) -> 1-18 | F36: =VLOOKUP(B36,Key!$E$1:$G$37,3,FALSE) -> 1st | G36: *
A37: 36 | B37: 18 | C37: =IFERROR(VLOOKUP(B37,Key!$A$1:$B$36,2,FALSE),"Zero") -> EVEN | D37: =VLOOKUP(Tabelle1!B37,Key!C$1:D$37,2,FALSE) -> RED | E37: =VLOOKUP(B37,Key!$E$1:$F$37,2,FALSE) -> 1-18 | F37: =VLOOKUP(B37,Key!$E$1:$G$37,3,FALSE) -> 2nd | G37: *
A38: 37 | B38: 6 | C38: =IFERROR(VLOOKUP(B38,Key!$A$1:$B$36,2,FALSE),"Zero") -> EVEN | D38: =VLOOKUP(Tabelle1!B38,Key!C$1:D$37,2,FALSE) -> BLACK | E38: =VLOOKUP(B38,Key!$E$1:$F$37,2,FALSE) -> 1-18 | F38: =VLOOKUP(B38,Key!$E$1:$G$37,3,FALSE) -> 1st | G38: L
A39: 38 | B39: 31 | C39: =IFERROR(VLOOKUP(B39,Key!$A$1:$B$36,2,FALSE),"Zero") -> ODD | D39: =VLOOKUP(Tabelle1!B39,Key!C$1:D$37,2,FALSE) -> BLACK | E39: =VLOOKUP(B39,Key!$E$1:$F$37,2,FALSE) -> 19-36 | F39: =VLOOKUP(B39,Key!$E$1:$G$37,3,FALSE) -> 3rd | G39: *
A40: 39 | B40: 8 | C40: =IFERROR(VLOOKUP(B40,Key!$A$1:$B$36,2,FALSE),"Zero") -> EVEN | D40: =VLOOKUP(Tabelle1!B40,Key!C$1:D$37,2,FALSE) -> BLACK | E40: =VLOOKUP(B40,Key!$E$1:$F$37,2,FALSE) -> 1-18 | F40: =VLOOKUP(B40,Key!$E$1:$G$37,3,FALSE) -> 1st | G40: *
A41: 40 | B41: 36 | C41: =IFERROR(VLOOKUP(B41,Key!$A$1:$B$36,2,FALSE),"Zero") -> EVEN | D41: =VLOOKUP(Tabelle1!B41,Key!C$1:D$37,2,FALSE) -> RED | E41: =VLOOKUP(B41,Key!$E$1:$F$37,2,FALSE) -> 19-36 | F41: =VLOOKUP(B41,Key!$E$1:$G$37,3,FALSE) -> 3rd | G41: *
A42: 41 | B42: 4 | C42: =IFERROR(VLOOKUP(B42,Key!$A$1:$B$36,2,FALSE),"Zero") -> EVEN | D42: =VLOOKUP(Tabelle1!B42,Key!C$1:D$37,2,FALSE) -> BLACK | E42: =VLOOKUP(B42,Key!$E$1:$F$37,2,FALSE) -> 1-18 | F42: =VLOOKUP(B42,Key!$E$1:$G$37,3,FALSE) -> 1st | G42: *
A43: 42 | B43: 35 | C43: =IFERROR(VLOOKUP(B43,Key!$A$1:$B$36,2,FALSE),"Zero") -> ODD | D43: =VLOOKUP(Tabelle1!B43,Key!C$1:D$37,2,FALSE) -> BLACK | E43: =VLOOKUP(B43,Key!$E$1:$F$37,2,FALSE) -> 19-36 | F43: =VLOOKUP(B43,Key!$E$1:$G$37,3,FALSE) -> 3rd | G43: *
A44: 43 | B44: 27 | C44: =IFERROR(VLOOKUP(B44,Key!$A$1:$B$36,2,FALSE),"Zero") -> ODD | D44: =VLOOKUP(Tabelle1!B44,Key!C$1:D$37,2,FALSE) -> RED | E44: =VLOOKUP(B44,Key!$E$1:$F$37,2,FALSE) -> 19-36 | F44: =VLOOKUP(B44,Key!$E$1:$G$37,3,FALSE) -> 3rd | G44: W | H44: 30
A45: 44 | B45: 16 | C45: =IFERROR(VLOOKUP(B45,Key!$A$1:$B$36,2,FALSE),"Zero") -> EVEN | D45: =VLOOKUP(Tabelle1!B45,Key!C$1:D$37,2,FALSE) -> RED | E45: =VLOOKUP(B45,Key!$E$1:$F$37,2,FALSE) -> 1-18 | F45: =VLOOKUP(B45,Key!$E$1:$G$37,3,FALSE) -> 2nd | G45: *
A46: 45 | B46: 9 | C46: =IFERROR(VLOOKUP(B46,Key!$A$1:$B$36,2,FALSE),"Zero") -> ODD | D46: =VLOOKUP(Tabelle1!B46,Key!C$1:D$37,2,FALSE) -> RED | E46: =VLOOKUP(B46,Key!$E$1:$F$37,2,FALSE) -> 1-18 | F46: =VLOOKUP(B46,Key!$E$1:$G$37,3,FALSE) -> 1st | G46: *
A47: 46 | B47: 30 | C47: =IFERROR(VLOOKUP(B47,Key!$A$1:$B$36,2,FALSE),"Zero") -> EVEN | D47: =VLOOKUP(Tabelle1!B47,Key!C$1:D$37,2,FALSE) -> RED | E47: =VLOOKUP(B47,Key!$E$1:$F$37,2,FALSE) -> 19-36 | F47: =VLOOKUP(B47,Key!$E$1:$G$37,3,FALSE) -> 3rd | G47: *
A48: 47 | B48: 4 | C48: =IFERROR(VLOOKUP(B48,Key!$A$1:$B$36,2,FALSE),"Zero") -> EVEN | D48: =VLOOKUP(Tabelle1!B48,Key!C$1:D$37,2,FALSE) -> BLACK | E48: =VLOOKUP(B48,Key!$E$1:$F$37,2,FALSE) -> 1-18 | F48: =VLOOKUP(B48,Key!$E$1:$G$37,3,FALSE) -> 1st | G48: *
A49: 48 | B49: 19 | C49: =IFERROR(VLOOKUP(B49,Key!$A$1:$B$36,2,FALSE),"Zero") -> ODD | D49: =VLOOKUP(Tabelle1!B49,Key!C$1:D$37,2,FALSE) -> RED | E49: =VLOOKUP(B49,Key!$E$1:$F$37,2,FALSE) -> 19-36 | F49: =VLOOKUP(B49,Key!$E$1:$G$37,3,FALSE) -> 2nd | G49: *
A50: 49 | B50: 16 | C50: =IFERROR(VLOOKUP(B50,Key!$A$1:$B$36,2,FALSE),"Zero") -> EVEN | D50: =VLOOKUP(Tabelle1!B50,Key!C$1:D$37,2,FALSE) -> RED | E50: =VLOOKUP(B50,Key!$E$1:$F$37,2,FALSE) -> 1-18 | F50: =VLOOKUP(B50,Key!$E$1:$G$37,3,FALSE) -> 2nd | G50: W | H50: 10
A51: 50 | B51: 18 | C51: =IFERROR(VLOOKUP(B51,Key!$A$1:$B$36,2,FALSE),"Zero") -> EVEN | D51: =VLOOKUP(Tabelle1!B51,Key!C$1:D$37,2,FALSE) -> RED | E51: =VLOOKUP(B51,Key!$E$1:$F$37,2,FALSE) -> 1-18 | F51: =VLOOKUP(B51,Key!$E$1:$G$37,3,FALSE) -> 2nd | G51: *
A52: 51 | B52: 13 | C52: =IFERROR(VLOOKUP(B52,Key!$A$1:$B$36,2,FALSE),"Zero") -> ODD | D52: =VLOOKUP(Tabelle1!B52,Key!C$1:D$37,2,FALSE) -> BLACK | E52: =VLOOKUP(B52,Key!$E$1:$F$37,2,FALSE) -> 1-18 | F52: =VLOOKUP(B52,Key!$E$1:$G$37,3,FALSE) -> 2ND | G52: *
A53: 52 | B53: 11 | C53: =IFERROR(VLOOKUP(B53,Key!$A$1:$B$36,2,FALSE),"Zero") -> ODD | D53: =VLOOKUP(Tabelle1!B53,Key!C$1:D$37,2,FALSE) -> BLACK | E53: =VLOOKUP(B53,Key!$E$1:$F$37,2,FALSE) -> 1-18 | F53: =VLOOKUP(B53,Key!$E$1:$G$37,3,FALSE) -> 1st | G53: *
A54: 53 | B54: 22 | C54: =IFERROR(VLOOKUP(B54,Key!$A$1:$B$36,2,FALSE),"Zero") -> EVEN | D54: =VLOOKUP(Tabelle1!B54,Key!C$1:D$37,2,FALSE) -> BLACK | E54: =VLOOKUP(B54,Key!$E$1:$F$37,2,FALSE) -> 19-36 | F54: =VLOOKUP(B54,Key!$E$1:$G$37,3,FALSE) -> 2nd | G54: *
A55: 54 | B55: 0 | C55: =IFERROR(VLOOKUP(B55,Key!$A$1:$B$36,2,FALSE),"Zero") -> Zero | D55: =VLOOKUP(Tabelle1!B55,Key!C$1:D$37,2,FALSE) -> ZERO | E55: =VLOOKUP(B55,Key!$E$1:$F$37,2,FALSE) -> ZERO | F55: =VLOOKUP(B55,Key!$E$1:$G$37,3,FALSE) -> ZERO | G55: *
A56: 55 | B56: 25 | C56: =IFERROR(VLOOKUP(B56,Key!$A$1:$B$36,2,FALSE),"Zero") -> ODD | D56: =VLOOKUP(Tabelle1!B56,Key!C$1:D$37,2,FALSE) -> RED | E56: =VLOOKUP(B56,Key!$E$1:$F$37,2,FALSE) -> 19-36 | F56: =VLOOKUP(B56,Key!$E$1:$G$37,3,FALSE) -> 3RD | G56: W | H56: 10
A57: 56 | B57: 16 | C57: =IFERROR(VLOOKUP(B57,Key!$A$1:$B$36,2,FALSE),"Zero") -> EVEN | D57: =VLOOKUP(Tabelle1!B57,Key!C$1:D$37,2,FALSE) -> RED | E57: =VLOOKUP(B57,Key!$E$1:$F$37,2,FALSE) -> 1-18 | F57: =VLOOKUP(B57,Key!$E$1:$G$37,3,FALSE) -> 2nd | G57: *
A58: 57 | B58: 12 | C58: =IFERROR(VLOOKUP(B58,Key!$A$1:$B$36,2,FALSE),"Zero") -> EVEN | D58: =VLOOKUP(Tabelle1!B58,Key!C$1:D$37,2,FALSE) -> RED | E58: =VLOOKUP(B58,Key!$E$1:$F$37,2,FALSE) -> 1-18 | F58: =VLOOKUP(B58,Key!$E$1:$G$37,3,FALSE) -> 1st | G58: *
A59: 58 | B59: 27 | C59: =IFERROR(VLOOKUP(B59,Key!$A$1:$B$36,2,FALSE),"Zero") -> ODD | D59: =VLOOKUP(Tabelle1!B59,Key!C$1:D$37,2,FALSE) -> RED | E59: =VLOOKUP(B59,Key!$E$1:$F$37,2,FALSE) -> 19-36 | F59: =VLOOKUP(B59,Key!$E$1:$G$37,3,FALSE) -> 3rd | G59: *
A60: 59 | B60: 18 | C60: =IFERROR(VLOOKUP(B60,Key!$A$1:$B$36,2,FALSE),"Zero") -> EVEN | D60: =VLOOKUP(Tabelle1!B60,Key!C$1:D$37,2,FALSE) -> RED | E60: =VLOOKUP(B60,Key!$E$1:$F$37,2,FALSE) -> 1-18 | F60: =VLOOKUP(B60,Key!$E$1:$G$37,3,FALSE) -> 2nd | G60: *
A61: 60 | B61: 26 | C61: =IFERROR(VLOOKUP(B61,Key!$A$1:$B$36,2,FALSE),"Zero") -> EVEN | D61: =VLOOKUP(Tabelle1!B61,Key!C$1:D$37,2,FALSE) -> BLACK | E61: =VLOOKUP(B61,Key!$E$1:$F$37,2,FALSE) -> 19-36 | F61: =VLOOKUP(B61,Key!$E$1:$G$37,3,FALSE) -> 3RD | G61: *
A62: 61 | B62: 30 | C62: =IFERROR(VLOOKUP(B62,Key!$A$1:$B$36,2,FALSE),"Zero") -> EVEN | D62: =VLOOKUP(Tabelle1!B62,Key!C$1:D$37,2,FALSE) -> RED | E62: =VLOOKUP(B62,Key!$E$1:$F$37,2,FALSE) -> 19-36 | F62: =VLOOKUP(B62,Key!$E$1:$G$37,3,FALSE) -> 3rd | G62: W | H62: 10
A63: 62 | B63: 21 | C63: =IFERROR(VLOOKUP(B63,Key!$A$1:$B$36,2,FALSE),"Zero") -> ODD | D63: =VLOOKUP(Tabelle1!B63,Key!C$1:D$37,2,FALSE) -> RED | E63: =VLOOKUP(B63,Key!$E$1:$F$37,2,FALSE) -> 19-36 | F63: =VLOOKUP(B63,Key!$E$1:$G$37,3,FALSE) -> 2nd | G63: *
A64: 63 | B64: 26 | C64: =IFERROR(VLOOKUP(B64,Key!$A$1:$B$36,2,FALSE),"Zero") -> EVEN | D64: =VLOOKUP(Tabelle1!B64,Key!C$1:D$37,2,FALSE) -> BLACK | E64: =VLOOKUP(B64,Key!$E$1:$F$37,2,FALSE) -> 19-36 | F64: =VLOOKUP(B64,Key!$E$1:$G$37,3,FALSE) -> 3RD | G64: *
A65: 64 | B65: 31 | C65: =IFERROR(VLOOKUP(B65,Key!$A$1:$B$36,2,FALSE),"Zero") -> ODD | D65: =VLOOKUP(Tabelle1!B65,Key!C$1:D$37,2,FALSE) -> BLACK | E65: =VLOOKUP(B65,Key!$E$1:$F$37,2,FALSE) -> 19-36 | F65: =VLOOKUP(B65,Key!$E$1:$G$37,3,FALSE) -> 3rd | G65: *
A66: 65 | B66: 1 | C66: =IFERROR(VLOOKUP(B66,Key!$A$1:$B$36,2,FALSE),"Zero") -> ODD | D66: =VLOOKUP(Tabelle1!B66,Key!C$1:D$37,2,FALSE) -> RED | E66: =VLOOKUP(B66,Key!$E$1:$F$37,2,FALSE) -> 1-18 | F66: =VLOOKUP(B66,Key!$E$1:$G$37,3,FALSE) -> 1ST | G66: *
A67: 66 | B67: 36 | C67: =IFERROR(VLOOKUP(B67,Key!$A$1:$B$36,2,FALSE),"Zero") -> EVEN | D67: =VLOOKUP(Tabelle1!B67,Key!C$1:D$37,2,FALSE) -> RED | E67: =VLOOKUP(B67,Key!$E$1:$F$37,2,FALSE) -> 19-36 | F67: =VLOOKUP(B67,Key!$E$1:$G$37,3,FALSE) -> 3rd | G67: *
A68: 67 | B68: 17 | C68: =IFERROR(VLOOKUP(B68,Key!$A$1:$B$36,2,FALSE),"Zero") -> ODD | D68: =VLOOKUP(Tabelle1!B68,Key!C$1:D$37,2,FALSE) -> BLACK | E68: =VLOOKUP(B68,Key!$E$1:$F$37,2,FALSE) -> 1-18 | F68: =VLOOKUP(B68,Key!$E$1:$G$37,3,FALSE) -> 2nd | G68: W | H68: 10
A69: 68 | B69: 8 | C69: =IFERROR(VLOOKUP(B69,Key!$A$1:$B$36,2,FALSE),"Zero") -> EVEN | D69: =VLOOKUP(Tabelle1!B69,Key!C$1:D$37,2,FALSE) -> BLACK | E69: =VLOOKUP(B69,Key!$E$1:$F$37,2,FALSE) -> 1-18 | F69: =VLOOKUP(B69,Key!$E$1:$G$37,3,FALSE) -> 1st | G69: *
A70: 69 | B70: 31 | C70: =IFERROR(VLOOKUP(B70,Key!$A$1:$B$36,2,FALSE),"Zero") -> ODD | D70: =VLOOKUP(Tabelle1!B70,Key!C$1:D$37,2,FALSE) -> BLACK | E70: =VLOOKUP(B70,Key!$E$1:$F$37,2,FALSE) -> 19-36 | F70: =VLOOKUP(B70,Key!$E$1:$G$37,3,FALSE) -> 3rd | G70: *
A71: 70 | B71: 24 | C71: =IFERROR(VLOOKUP(B71,Key!$A$1:$B$36,2,FALSE),"Zero") -> EVEN | D71: =VLOOKUP(Tabelle1!B71,Key!C$1:D$37,2,FALSE) -> BLACK | E71: =VLOOKUP(B71,Key!$E$1:$F$37,2,FALSE) -> 19-36 | F71: =VLOOKUP(B71,Key!$E$1:$G$37,3,FALSE) -> 2nd | G71: *
A72: 71 | B72: 32 | C72: =IFERROR(VLOOKUP(B72,Key!$A$1:$B$36,2,FALSE),"Zero") -> EVEN | D72: =VLOOKUP(Tabelle1!B72,Key!C$1:D$37,2,FALSE) -> RED | E72: =VLOOKUP(B72,Key!$E$1:$F$37,2,FALSE) -> 19-36 | F72: =VLOOKUP(B72,Key!$E$1:$G$37,3,FALSE) -> 3rd | G72: *
A73: 72 | B73: 24 | C73: =IFERROR(VLOOKUP(B73,Key!$A$1:$B$36,2,FALSE),"Zero") -> EVEN | D73: =VLOOKUP(Tabelle1!B73,Key!C$1:D$37,2,FALSE) -> BLACK | E73: =VLOOKUP(B73,Key!$E$1:$F$37,2,FALSE) -> 19-36 | F73: =VLOOKUP(B73,Key!$E$1:$G$37,3,FALSE) -> 2nd | G73: *
A74: 73 | B74: 9 | C74: =IFERROR(VLOOKUP(B74,Key!$A$1:$B$36,2,FALSE),"Zero") -> ODD | D74: =VLOOKUP(Tabelle1!B74,Key!C$1:D$37,2,FALSE) -> RED | E74: =VLOOKUP(B74,Key!$E$1:$F$37,2,FALSE) -> 1-18 | F74: =VLOOKUP(B74,Key!$E$1:$G$37,3,FALSE) -> 1st | G74: L
A75: 74 | B75: 32 | C75: =IFERROR(VLOOKUP(B75,Key!$A$1:$B$36,2,FALSE),"Zero") -> EVEN | D75: =VLOOKUP(Tabelle1!B75,Key!C$1:D$37,2,FALSE) -> RED | E75: =VLOOKUP(B75,Key!$E$1:$F$37,2,FALSE) -> 19-36 | F75: =VLOOKUP(B75,Key!$E$1:$G$37,3,FALSE) -> 3rd | G75: *
A76: 75 | B76: 2 | C76: =IFERROR(VLOOKUP(B76,Key!$A$1:$B$36,2,FALSE),"Zero") -> EVEN | D76: =VLOOKUP(Tabelle1!B76,Key!C$1:D$37,2,FALSE) -> BLACK | E76: =VLOOKUP(B76,Key!$E$1:$F$37,2,FALSE) -> 1-18 | F76: =VLOOKUP(B76,Key!$E$1:$G$37,3,FALSE) -> 1ST | G76: *
A77: 76 | B77: 18 | C77: =IFERROR(VLOOKUP(B77,Key!$A$1:$B$36,2,FALSE),"Zero") -> EVEN | D77: =VLOOKUP(Tabelle1!B77,Key!C$1:D$37,2,FALSE) -> RED | E77: =VLOOKUP(B77,Key!$E$1:$F$37,2,FALSE) -> 1-18 | F77: =VLOOKUP(B77,Key!$E$1:$G$37,3,FALSE) -> 2nd | G77: *
A78: 77 | B78: 34 | C78: =IFERROR(VLOOKUP(B78,Key!$A$1:$B$36,2,FALSE),"Zero") -> EVEN | D78: =VLOOKUP(Tabelle1!B78,Key!C$1:D$37,2,FALSE) -> RED | E78: =VLOOKUP(B78,Key!$E$1:$F$37,2,FALSE) -> 19-36 | F78: =VLOOKUP(B78,Key!$E$1:$G$37,3,FALSE) -> 3rd | G78: *
A79: 78 | B79: 22 | C79: =IFERROR(VLOOKUP(B79,Key!$A$1:$B$36,2,FALSE),"Zero") -> EVEN | D79: =VLOOKUP(Tabelle1!B79,Key!C$1:D$37,2,FALSE) -> BLACK | E79: =VLOOKUP(B79,Key!$E$1:$F$37,2,FALSE) -> 19-36 | F79: =VLOOKUP(B79,Key!$E$1:$G$37,3,FALSE) -> 2nd | G79: *
A80: 79 | B80: 30 | C80: =IFERROR(VLOOKUP(B80,Key!$A$1:$B$36,2,FALSE),"Zero") -> EVEN | D80: =VLOOKUP(Tabelle1!B80,Key!C$1:D$37,2,FALSE) -> RED | E80: =VLOOKUP(B80,Key!$E$1:$F$37,2,FALSE) -> 19-36 | F80: =VLOOKUP(B80,Key!$E$1:$G$37,3,FALSE) -> 3rd | G80: W | H80: 30
A81: 80 | B81: 23 | C81: =IFERROR(VLOOKUP(B81,Key!$A$1:$B$36,2,FALSE),"Zero") -> ODD | D81: =VLOOKUP(Tabelle1!B81,Key!C$1:D$37,2,FALSE) -> RED | E81: =VLOOKUP(B81,Key!$E$1:$F$37,2,FALSE) -> 19-36 | F81: =VLOOKUP(B81,Key!$E$1:$G$37,3,FALSE) -> 2nd | G81: *
A82: 81 | B82: 26 | C82: =IFERROR(VLOOKUP(B82,Key!$A$1:$B$36,2,FALSE),"Zero") -> EVEN | D82: =VLOOKUP(Tabelle1!B82,Key!C$1:D$37,2,FALSE) -> BLACK | E82: =VLOOKUP(B82,Key!$E$1:$F$37,2,FALSE) -> 19-36 | F82: =VLOOKUP(B82,Key!$E$1:$G$37,3,FALSE) -> 3RD | G82: *
A83: 82 | B83: 12 | C83: =IFERROR(VLOOKUP(B83,Key!$A$1:$B$36,2,FALSE),"Zero") -> EVEN | D83: =VLOOKUP(Tabelle1!B83,Key!C$1:D$37,2,FALSE) -> RED | E83: =VLOOKUP(B83,Key!$E$1:$F$37,2,FALSE) -> 1-18 | F83: =VLOOKUP(B83,Key!$E$1:$G$37,3,FALSE) -> 1st | G83: *
A84: 83 | B84: 14 | C84: =IFERROR(VLOOKUP(B84,Key!$A$1:$B$36,2,FALSE),"Zero") -> EVEN | D84: =VLOOKUP(Tabelle1!B84,Key!C$1:D$37,2,FALSE) -> RED | E84: =VLOOKUP(B84,Key!$E$1:$F$37,2,FALSE) -> 1-18 | F84: =VLOOKUP(B84,Key!$E$1:$G$37,3,FALSE) -> 2ND | G84: *
A85: 84 | B85: 19 | C85: =IFERROR(VLOOKUP(B85,Key!$A$1:$B$36,2,FALSE),"Zero") -> ODD | D85: =VLOOKUP(Tabelle1!B85,Key!C$1:D$37,2,FALSE) -> RED | E85: =VLOOKUP(B85,Key!$E$1:$F$37,2,FALSE) -> 19-36 | F85: =VLOOKUP(B85,Key!$E$1:$G$37,3,FALSE) -> 2nd | G85: *
A86: 85 | B86: 5 | C86: =IFERROR(VLOOKUP(B86,Key!$A$1:$B$36,2,FALSE),"Zero") -> ODD | D86: =VLOOKUP(Tabelle1!B86,Key!C$1:D$37,2,FALSE) -> RED | E86: =VLOOKUP(B86,Key!$E$1:$F$37,2,FALSE) -> 1-18 | F86: =VLOOKUP(B86,Key!$E$1:$G$37,3,FALSE) -> 1st | G86: L
A87: 86 | B87: 5 | C87: =IFERROR(VLOOKUP(B87,Key!$A$1:$B$36,2,FALSE),"Zero") -> ODD | D87: =VLOOKUP(Tabelle1!B87,Key!C$1:D$37,2,FALSE) -> RED | E87: =VLOOKUP(B87,Key!$E$1:$F$37,2,FALSE) -> 1-18 | F87: =VLOOKUP(B87,Key!$E$1:$G$37,3,FALSE) -> 1st | G87: *
A88: 87 | B88: 18 | C88: =IFERROR(VLOOKUP(B88,Key!$A$1:$B$36,2,FALSE),"Zero") -> EVEN | D88: =VLOOKUP(Tabelle1!B88,Key!C$1:D$37,2,FALSE) -> RED | E88: =VLOOKUP(B88,Key!$E$1:$F$37,2,FALSE) -> 1-18 | F88: =VLOOKUP(B88,Key!$E$1:$G$37,3,FALSE) -> 2nd | G88: *
A89: 88 | B89: 22 | C89: =IFERROR(VLOOKUP(B89,Key!$A$1:$B$36,2,FALSE),"Zero") -> EVEN | D89: =VLOOKUP(Tabelle1!B89,Key!C$1:D$37,2,FALSE) -> BLACK | E89: =VLOOKUP(B89,Key!$E$1:$F$37,2,FALSE) -> 19-36 | F89: =VLOOKUP(B89,Key!$E$1:$G$37,3,FALSE) -> 2nd | G89: *
A90: 89 | B90: 4 | C90: =IFERROR(VLOOKUP(B90,Key!$A$1:$B$36,2,FALSE),"Zero") -> EVEN | D90: =VLOOKUP(Tabelle1!B90,Key!C$1:D$37,2,FALSE) -> BLACK | E90: =VLOOKUP(B90,Key!$E$1:$F$37,2,FALSE) -> 1-18 | F90: =VLOOKUP(B90,Key!$E$1:$G$37,3,FALSE) -> 1st | G90: *
A91: 90 | B91: 16 | C91: =IFERROR(VLOOKUP(B91,Key!$A$1:$B$36,2,FALSE),"Zero") -> EVEN | D91: =VLOOKUP(Tabelle1!B91,Key!C$1:D$37,2,FALSE) -> RED | E91: =VLOOKUP(B91,Key!$E$1:$F$37,2,FALSE) -> 1-18 | F91: =VLOOKUP(B91,Key!$E$1:$G$37,3,FALSE) -> 2nd | G91: *
A92: 91 | B92: 22 | C92: =IFERROR(VLOOKUP(B92,Key!$A$1:$B$36,2,FALSE),"Zero") -> EVEN | D92: =VLOOKUP(Tabelle1!B92,Key!C$1:D$37,2,FALSE) -> BLACK | E92: =VLOOKUP(B92,Key!$E$1:$F$37,2,FALSE) -> 19-36 | F92: =VLOOKUP(B92,Key!$E$1:$G$37,3,FALSE) -> 2nd | G92: W | H92: 30
A93: 92 | B93: 15 | C93: =IFERROR(VLOOKUP(B93,Key!$A$1:$B$36,2,FALSE),"Zero") -> ODD | D93: =VLOOKUP(Tabelle1!B93,Key!C$1:D$37,2,FALSE) -> BLACK | E93: =VLOOKUP(B93,Key!$E$1:$F$37,2,FALSE) -> 1-18 | F93: =VLOOKUP(B93,Key!$E$1:$G$37,3,FALSE) -> 2nd | G93: *
A94: 93 | B94: 17 | C94: =IFERROR(VLOOKUP(B94,Key!$A$1:$B$36,2,FALSE),"Zero") -> ODD | D94: =VLOOKUP(Tabelle1!B94,Key!C$1:D$37,2,FALSE) -> BLACK | E94: =VLOOKUP(B94,Key!$E$1:$F$37,2,FALSE) -> 1-18 | F94: =VLOOKUP(B94,Key!$E$1:$G$37,3,FALSE) -> 2nd | G94: *
A95: 94 | B95: 5 | C95: =IFERROR(VLOOKUP(B95,Key!$A$1:$B$36,2,FALSE),"Zero") -> ODD | D95: =VLOOKUP(Tabelle1!B95,Key!C$1:D$37,2,FALSE) -> RED | E95: =VLOOKUP(B95,Key!$E$1:$F$37,2,FALSE) -> 1-18 | F95: =VLOOKUP(B95,Key!$E$1:$G$37,3,FALSE) -> 1st | G95: *
A96: 95 | B96: 6 | C96: =IFERROR(VLOOKUP(B96,Key!$A$1:$B$36,2,FALSE),"Zero") -> EVEN | D96: =VLOOKUP(Tabelle1!B96,Key!C$1:D$37,2,FALSE) -> BLACK | E96: =VLOOKUP(B96,Key!$E$1:$F$37,2,FALSE) -> 1-18 | F96: =VLOOKUP(B96,Key!$E$1:$G$37,3,FALSE) -> 1st | G96: *
A97: 96 | B97: 3 | C97: =IFERROR(VLOOKUP(B97,Key!$A$1:$B$36,2,FALSE),"Zero") -> ODD | D97: =VLOOKUP(Tabelle1!B97,Key!C$1:D$37,2,FALSE) -> RED | E97: =VLOOKUP(B97,Key!$E$1:$F$37,2,FALSE) -> 1-18 | F97: =VLOOKUP(B97,Key!$E$1:$G$37,3,FALSE) -> 1st | G97: *
A98: 97 | B98: 22 | C98: =IFERROR(VLOOKUP(B98,Key!$A$1:$B$36,2,FALSE),"Zero") -> EVEN | D98: =VLOOKUP(Tabelle1!B98,Key!C$1:D$37,2,FALSE) -> BLACK | E98: =VLOOKUP(B98,Key!$E$1:$F$37,2,FALSE) -> 19-36 | F98: =VLOOKUP(B98,Key!$E$1:$G$37,3,FALSE) -> 2nd | G98: W | H98: 10
A99: 98 | B99: 32 | C99: =IFERROR(VLOOKUP(B99,Key!$A$1:$B$36,2,FALSE),"Zero") -> EVEN | D99: =VLOOKUP(Tabelle1!B99,Key!C$1:D$37,2,FALSE) -> RED | E99: =VLOOKUP(B99,Key!$E$1:$F$37,2,FALSE) -> 19-36 | F99: =VLOOKUP(B99,Key!$E$1:$G$37,3,FALSE) -> 3rd | G99: *
A100: 99 | B100: 10 | C100: =IFERROR(VLOOKUP(B100,Key!$A$1:$B$36,2,FALSE),"Zero") -> EVEN | D100: =VLOOKUP(Tabelle1!B100,Key!C$1:D$37,2,FALSE) -> BLACK | E100: =VLOOKUP(B100,Key!$E$1:$F$37,2,FALSE) -> 1-18 | F100: =VLOOKUP(B100,Key!$E$1:$G$37,3,FALSE) -> 1st | G100: *
...

Sheet Tabelle3
