Workbook

Sheet Key
A1: 2 | B1: EVEN | C1: 32 | D1: RED | E1: 1 | F1: 1-18 | G1: 1ST
A2: 4 | B2: EVEN | C2: 19 | D2: RED | E2: 2 | F2: 1-18 | G2: 1ST
A3: 6 | B3: EVEN | C3: 21 | D3: RED | E3: 3 | F3: 1-18 | G3: 1st
A4: 8 | B4: EVEN | C4: 25 | D4: RED | E4: 4 | F4: 1-18 | G4: 1st
A5: 10 | B5: EVEN | C5: 34 | D5: RED | E5: 5 | F5: 1-18 | G5: 1st
A6: 12 | B6: EVEN | C6: 27 | D6: RED | E6: 6 | F6: 1-18 | G6: 1st
A7: 14 | B7: EVEN | C7: 36 | D7: RED | E7: 7 | F7: 1-18 | G7: 1st
A8: 16 | B8: EVEN | C8: 30 | D8: RED | E8: 8 | F8: 1-18 | G8: 1st
A9: 18 | B9: EVEN | C9: 23 | D9: RED | E9: 9 | F9: 1-18 | G9: 1st
A10: 20 | B10: EVEN | C10: 5 | D10: RED | E10: 10 | F10: 1-18 | G10: 1st
A11: 22 | B11: EVEN | C11: 16 | D11: RED | E11: 11 | F11: 1-18 | G11: 1st
A12: 24 | B12: EVEN | C12: 1 | D12: RED | E12: 12 | F12: 1-18 | G12: 1st
... A36: 35 | B36: ODD | C36: 26 | D36: BLACK | E36: 36 | F36: 19-36 | G36: 3rd
C37: 0 | D37: ZERO | E37: 0 | F37: ZERO | G37: ZERO

Sheet Tabelle1
A1: SPIN | B1: SPIN RESULT | C1: ODD/EVEN | D1: RED/BLACK | E1: LOW/HIGH | F1: DOZENS | H1: PROFIT | I1: PROFIT TOTAL | L1: Formation | M1: Progression | N1: 10 | O1: 50 | P1: 10 | Q1: 50
A2: 1 | B2: 32 | C2: =IFERROR(VLOOKUP(B2,Key!$A$1:$B$36,2,FALSE),"Zero") -> EVEN | D2: =VLOOKUP(Tabelle1!B2,Key!C$1:D$37,2,FALSE) -> RED | E2: =VLOOKUP(B2,Key!$E$1:$F$37,2,FALSE) -> 19-36 | F2: =VLOOKUP(B2,Key!$E$1:$G$37,3,FALSE) -> 3rd | G2: W | H2: 10 | I2: =SUM(H2:H265) -> 390 | L2: 1111 | M2: Profit | N2: 10 | O2: 30 | P2: 10 | Q2: 30
A3: 2 | B3: 4 | C3: =IFERROR(VLOOKUP(B3,Key!$A$1:$B$36,2,FALSE),"Zero") -> EVEN | D3: =VLOOKUP(Tabelle1!B3,Key!C$1:D$37,2,FALSE) -> BLACK | E3: =VLOOKUP(B3,Key!$E$1:$F$37,2,FALSE) -> 1-18 | F3: =VLOOKUP(B3,Key!$E$1:$G$37,3,FALSE) -> 1st | G3: * | M3: Loss | N3: 20 | O3: 100 | P3: 20 | Q3: 100
A4: 3 | B4: 4 | C4: =IFERROR(VLOOKUP(B4,Key!$A$1:$B$36,2,FALSE),"Zero") -> EVEN | D4: =VLOOKUP(Tabelle1!B4,Key!C$1:D$37,2,FALSE) -> BLACK | E4: =VLOOKUP(B4,Key!$E$1:$F$37,2,FALSE) -> 1-18 | F4: =VLOOKUP(B4,Key!$E$1:$G$37,3,FALSE) -> 1st | G4: *
A5: 4 | B5: 3 | C5: =IFERROR(VLOOKUP(B5,Key!$A$1:$B$36,2,FALSE),"Zero") -> ODD | D5: =VLOOKUP(Tabelle1!B5,Key!C$1:D$37,2,FALSE) -> RED | E5: =VLOOKUP(B5,Key!$E$1:$F$37,2,FALSE) -> 1-18 | F5: =VLOOKUP(B5,Key!$E$1:$G$37,3,FALSE) -> 1st | G5: *
A6: 5 | B6: 11 | C6: =IFERROR(VLOOKUP(B6,Key!$A$1:$B$36,2,FALSE),"Zero") -> ODD | D6: =VLOOKUP(Tabelle1!B6,Key!C$1:D$37,2,FALSE) -> BLACK | E6: =VLOOKUP(B6,Key!$E$1:$F$37,2,FALSE) -> 1-18 | F6: =VLOOKUP(B6,Key!$E$1:$G$37,3,FALSE) -> 1st | G6: *
A7: 6 | B7: 10 | C7: =IFERROR(VLOOKUP(B7,Key!$A$1:$B$36,2,FALSE),"Zero") -> EVEN | D7: =VLOOKUP(Tabelle1!B7,Key!C$1:D$37,2,FALSE) -> BLACK | E7: =VLOOKUP(B7,Key!$E$1:$F$37,2,FALSE) -> 1-18 | F7: =VLOOKUP(B7,Key!$E$1:$G$37,3,FALSE) -> 1st | G7: *
A8: 7 | B8: 26 | C8: =IFERROR(VLOOKUP(B8,Key!$A$1:$B$36,2,FALSE),"Zero") -> EVEN | D8: =VLOOKUP(Tabelle1!B8,Key!C$1:D$37,2,FALSE) -> BLACK | E8: =VLOOKUP(B8,Key!$E$1:$F$37,2,FALSE) -> 19-36 | F8: =VLOOKUP(B8,Key!$E$1:$G$37,3,FALSE) -> 3RD | G8: W | H8: 10
A9: 8 | B9: 33 | C9: =IFERROR(VLOOKUP(B9,Key!$A$1:$B$36,2,FALSE),"Zero") -> ODD | D9: =VLOOKUP(Tabelle1!B9,Key!C$1:D$37,2,FALSE) -> BLACK | E9: =VLOOKUP(B9,Key!$E$1:$F$37,2,FALSE) -> 19-36 | F9: =VLOOKUP(B9,Key!$E$1:$G$37,3,FALSE) -> 3rd | G9: *
A10: 9 | B10: 4 | C10: =IFERROR(VLOOKUP(B10,Key!$A$1:$B$36,2,FALSE),"Zero") -> EVEN | D10: =VLOOKUP(Tabelle1!B10,Key!C$1:D$37,2,FALSE) -> BLACK | E10: =VLOOKUP(B10,Key!$E$1:$F$37,2,FALSE) -> 1-18 | F10: =VLOOKUP(B10,Key!$E$1:$G$37,3,FALSE) -> 1st | G10: *
A11: 10 | B11: 7 | C11: =IFERROR(VLOOKUP(B11,Key!$A$1:$B$36,2,FALSE),"Zero") -> ODD | D11: =VLOOKUP(Tabelle1!B11,Key!C$1:D$37,2,FALSE) -> RED | E11: =VLOOKUP(B11,Key!$E$1:$F$37,2,FALSE) -> 1-18 | F11: =VLOOKUP(B11,Key!$E$1:$G$37,3,FALSE) -> 1st | G11: *
A12: 11 | B12: 9 | C12: =IFERROR(VLOOKUP(B12,Key!$A$1:$B$36,2,FALSE),"Zero") -> ODD | D12: =VLOOKUP(Tabelle1!B12,Key!C$1:D$37,2,FALSE) -> RED | E12: =VLOOKUP(B12,Key!$E$1:$F$37,2,FALSE) -> 1-18 | F12: =VLOOKUP(B12,Key!$E$1:$G$37,3,FALSE) -> 1st | G12: *
A13: 12 | B13: 26 | C13: =IFERROR(VLOOKUP(B13,Key!$A$1:$B$36,2,FALSE),"Zero") -> EVEN | D13: =VLOOKUP(Tabelle1!B13,Key!C$1:D$37,2,FALSE) -> BLACK | E13: =VLOOKUP(B13,Key!$E$1:$F$37,2,FALSE) -> 19-36 | F13: =VLOOKUP(B13,Key!$E$1:$G$37,3,FALSE) -> 3RD | G13: *
A14: 13 | B14: 22 | C14: =IFERROR(VLOOKUP(B14,Key!$A$1:$B$36,2,FALSE),"Zero") -> EVEN | D14: =VLOOKUP(Tabelle1!B14,Key!C$1:D$37,2,FALSE) -> BLACK | E14: =VLOOKUP(B14,Key!$E$1:$F$37,2,FALSE) -> 19-36 | F14: =VLOOKUP(B14,Key!$E$1:$G$37,3,FALSE) -> 2nd | G14: W | H14: 10
A15: 14 | B15: 0 | C15: =IFERROR(VLOOKUP(B15,Key!$A$1:$B$36,2,FALSE),"Zero") -> Zero | D15: =VLOOKUP(Tabelle1!B15,Key!C$1:D$37,2,FALSE) -> ZERO | E15: =VLOOKUP(B15,Key!$E$1:$F$37,2,FALSE) -> ZERO | F15: =VLOOKUP(B15,Key!$E$1:$G$37,3,FALSE) -> ZERO | G15: *
A16: 15 | B16: 11 | C16: =IFERROR(VLOOKUP(B16,Key!$A$1:$B$36,2,FALSE),"Zero") -> ODD | D16: =VLOOKUP(Tabelle1!B16,Key!C$1:D$37,2,FALSE) -> BLACK | E16: =VLOOKUP(B16,Key!$E$1:$F$37,2,FALSE) -> 1-18 | F16: =VLOOKUP(B16,Key!$E$1:$G$37,3,FALSE) -> 1st | G16: *
A17: 16 | B17: 33 | C17: =IFERROR(VLOOKUP(B17,Key!$A$1:$B$36,2,FALSE),"Zero") -> ODD | D17: =VLOOKUP(Tabelle1!B17,Key!C$1:D$37,2,FALSE) -> BLACK | E17: =VLOOKUP(B17,Key!$E$1:$F$37,2,FALSE) -> 19-36 | F17: =VLOOKUP(B17,Key!$E$1:$G$37,3,FALSE) -> 3rd | G17: *
A18: 17 | B18: 10 | C18: =IFERROR(VLOOKUP(B18,Key!$A$1:$B$36,2,FALSE),"Zero") -> EVEN | D18: =VLOOKUP(Tabelle1!B18,Key!C$1:D$37,2,FALSE) -> BLACK | E18: =VLOOKUP(B18,Key!$E$1:$F$37,2,FALSE) -> 1-18 | F18: =VLOOKUP(B18,Key!$E$1:$G$37,3,FALSE) -> 1st | G18: *
A19: 18 | B19: 28 | C19: =IFERROR(VLOOKUP(B19,Key!$A$1:$B$36,2,FALSE),"Zero") -> EVEN | D19: =VLOOKUP(Tabelle1!B19,Key!C$1:D$37,2,FALSE) -> BLACK | E19: =VLOOKUP(B19,Key!$E$1:$F$37,2,FALSE) -> 19-36 | F19: =VLOOKUP(B19,Key!$E$1:$G$37,3,FALSE) -> 3rd | G19: *
A20: 19 | B20: 16 | C20: =IFERROR(VLOOKUP(B20,Key!$A$1:$B$36,2,FALSE),"Zero") -> EVEN | D20: =VLOOKUP(Tabelle1!B20,Key!C$1:D$37,2,FALSE) -> RED | E20: =VLOOKUP(B20,Key!$E$1:$F$37,2,FALSE) -> 1-18 | F20: =VLOOKUP(B20,Key!$E$1:$G$37,3,FALSE) -> 2nd | G20: W | H20: 10
A21: 20 | B21: 0 | C21: =IFERROR(VLOOKUP(B21,Key!$A$1:$B$36,2,FALSE),"Zero") -> Zero | D21: =VLOOKUP(Tabelle1!B21,Key!C$1:D$37,2,FALSE) -> ZERO | E21: =VLOOKUP(B21,Key!$E$1:$F$37,2,FALSE) -> ZERO | F21: =VLOOKUP(B21,Key!$E$1:$G$37,3,FALSE) -> ZERO | G21: *
A22: 21 | B22: 26 | C22: =IFERROR(VLOOKUP(B22,Key!$A$1:$B$36,2,FALSE),"Zero") -> EVEN | D22: =VLOOKUP(Tabelle1!B22,Key!C$1:D$37,2,FALSE) -> BLACK | E22: =VLOOKUP(B22,Key!$E$1:$F$37,2,FALSE) -> 19-36 | F22: =VLOOKUP(B22,Key!$E$1:$G$37,3,FALSE) -> 3RD | G22: *
A23: 22 | B23: 11 | C23: =IFERROR(VLOOKUP(B23,Key!$A$1:$B$36,2,FALSE),"Zero") -> ODD | D23: =VLOOKUP(Tabelle1!B23,Key!C$1:D$37,2,FALSE) -> BLACK | E23: =VLOOKUP(B23,Key!$E$1:$F$37,2,FALSE) -> 1-18 | F23: =VLOOKUP(B23,Key!$E$1:$G$37,3,FALSE) -> 1st | G23: *
A24: 23 | B24: 20 | C24: =IFERROR(VLOOKUP(B24,Key!$A$1:$B$36,2,FALSE),"Zero") -> EVEN | D24: =VLOOKUP(Tabelle1!B24,Key!C$1:D$37,2,FALSE) -> BLACK | E24: =VLOOKUP(B24,Key!$E$1:$F$37,2,FALSE) -> 19-36 | F24: =VLOOKUP(B24,Key!$E$1:$G$37,3,FALSE) -> 2nd | G24: *
A25: 24 | B25: 17 | C25: =IFERROR(VLOOKUP(B25,Key!$A$1:$B$36,2,FALSE),"Zero") -> ODD | D25: =VLOOKUP(Tabelle1!B25,Key!C$1:D$37,2,FALSE) -> BLACK | E25: =VLOOKUP(B25,Key!$E$1:$F$37,2,FALSE) -> 1-18 | F25: =VLOOKUP(B25,Key!$E$1:$G$37,3,FALSE) -> 2nd | G25: *
A26: 25 | B26: 32 | C26: =IFERROR(VLOOKUP(B26,Key!$A$1:$B$36,2,FALSE),"Zero") -> EVEN | D26: =VLOOKUP(Tabelle1!B26,Key!C$1:D$37,2,FALSE) -> RED | E26: =VLOOKUP(B26,Key!$E$1:$F$37,2,FALSE) -> 19-36 | F26: =VLOOKUP(B26,Key!$E$1:$G$37,3,FALSE) -> 3rd | G26: W | H26: 10
A27: 26 | B27: 20 | C27: =IFERROR(VLOOKUP(B27,Key!$A$1:$B$36,2,FALSE),"Zero") -> EVEN | D27: =VLOOKUP(Tabelle1!B27,Key!C$1:D$37,2,FALSE) -> BLACK | E27: =VLOOKUP(B27,Key!$E$1:$F$37,2,FALSE) -> 19-36 | F27: =VLOOKUP(B27,Key!$E$1:$G$37,3,FALSE) -> 2nd | G27: *
A28: 27 | B28: 26 | C28: =IFERROR(VLOOKUP(B28,Key!$A$1:$B$36,2,FALSE),"Zero") -> EVEN | D28: =VLOOKUP(Tabelle1!B28,Key!C$1:D$37,2,FALSE) -> BLACK | E28: =VLOOKUP(B28,Key!$E$1:$F$37,2,FALSE) -> 19-36 | F28: =VLOOKUP(B28,Key!$E$1:$G$37,3,FALSE) -> 3RD | G28: *
A29: 28 | B29: 1 | C29: =IFERROR(VLOOKUP(B29,Key!$A$1:$B$36,2,FALSE),"Zero") -> ODD | D29: =VLOOKUP(Tabelle1!B29,Key!C$1:D$37,2,FALSE) -> RED | E29: =VLOOKUP(B29,Key!$E$1:$F$37,2,FALSE) -> 1-18 | F29: =VLOOKUP(B29,Key!$E$1:$G$37,3,FALSE) -> 1ST | G29: *
A30: 29 | B30: 10 | C30: =IFERROR(VLOOKUP(B30,Key!$A$1:$B$36,2,FALSE),"Zero") -> EVEN | D30: =VLOOKUP(Tabelle1!B30,Key!C$1:D$37,2,FALSE) -> BLACK | E30: =VLOOKUP(B30,Key!$E$1:$F$37,2,FALSE) -> 1-18 | F30: =VLOOKUP(B30,Key!$E$1:$G$37,3,FALSE) -> 1st | G30: *
A31: 30 | B31: 20 | C31: =IFERROR(VLOOKUP(B31,Key!$A$1:$B$36,2,FALSE),"Zero") -> EVEN | D31: =VLOOKUP(Tabelle1!B31,Key!C$1:D$37,2,FALSE) -> BLACK | E31: =VLOOKUP(B31,Key!$E$1:$F$37,2,FALSE) -> 19-36 | F31: =VLOOKUP(B31,Key!$E$1:$G$37,3,FALSE) -> 2nd | G31: *
A32: 31 | B32: 36 | C32: =IFERROR(VLOOKUP(B32,Key!$A$1:$B$36,2,FALSE),"Zero") -> EVEN | D32: =VLOOKUP(Tabelle1!B32,Key!C$1:D$37,2,FALSE) -> RED | E32: =VLOOKUP(B32,Key!$E$1:$F$37,2,FALSE) -> 19-36 | F32: =VLOOKUP(B32,Key!$E$1:$G$37,3,FALSE) -> 3rd | G32: W | H32: 10
A33: 32 | B33: 18 | C33: =IFERROR(VLOOKUP(B33,Key!$A$1:$B$36,2,FALSE),"Zero") -> EVEN | D33: =VLOOKUP(Tabelle1!B33,Key!C$1:D$37,2,FALSE) -> RED | E33: =VLOOKUP(B33,Key!$E$1:$F$37,2,FALSE) -> 1-18 | F33: =VLOOKUP(B33,Key!$E$1:$G$37,3,FALSE) -> 2nd | G33: *
A34: 33 | B34: 13 | C34: =IFERROR(VLOOKUP(B34,Key!$A$1:$B$36,2,FALSE),"Zero") -> ODD | D34: =VLOOKUP(Tabelle1!B34,Key!C$1:D$37,2,FALSE) -> BLACK | E34: =VLOOKUP(B34,Key!$E$1:$F$37,2,FALSE) -> 1-18 | F34: =VLOOKUP(B34,Key!$E$1:$G$37,3,FALSE) -> 2ND | G34: *
A35: 34 | B35: 23 | C35: =IFERROR(VLOOKUP(B35,Key!$A$1:$B$36,2,FALSE),"Zero") -> ODD | D35: =VLOOKUP(Tabelle1!B35,Key!C$1:D$37,2,FALSE) -> RED | E35: =VLOOKUP(B35,Key!$E$1:$F$37,2,FALSE) -> 19-36 | F35: =VLOOKUP(B35,Key!$E$1:$G$37,3,FALSE) -> 2nd | G35: *
A36: 35 | B36: 12 | C36: =IFERROR(VLOOKUP(B36,Key!$A$1:$B$36,2,FALSE),"Zero") -> EVEN | D36: =VLOOKUP(Tabelle1!B36,Key!C$1:D$37,2,FALSE) -> RED | E36: =VLOOKUP(B36,Key!$E$1:$F$37,2,FALSE) -> 1-18 | F36: =VLOOKUP(B36,Key!$E$1:$G$37,3,FALSE) -> 1st | G36: *
A37: 36 | B37: 18 | C37: =IFERROR(VLOOKUP(B37,Key!$A$1:$B$36,2,FALSE),"Zero") -> EVEN | D37: =VLOOKUP(Tabelle1!B37,Key!C$1:D$37,2,FALSE) -> RED | E37: =VLOOKUP(B37,Key!$E$1:$F$37,2,FALSE) -> 1-18 | F37: =VLOOKUP(B37,Key!$E$1:$G$37,3,FALSE) -> 2nd | G37: *
A38: 37 | B38: 6 | C38: =IFERROR(VLOOKUP(B38,Key!$A$1:$B$36,2,FALSE),"Zero") -> EVEN | D38: =VLOOKUP(Tabelle1!B38,Key!C$1:D$37,2,FALSE) -> BLACK | E38: =VLOOKUP(B38,Key!$E$1:$F$37,2,FALSE) -> 1-18 | F38: =VLOOKUP(B38,Key!$E$1:$G$37,3,FALSE) -> 1st | G38: L
A39: 38 | B39: 31 | C39: =IFERROR(VLOOKUP(B39,Key!$A$1:$B$36,2,FALSE),"Zero") -> ODD | D39: =VLOOKUP(Tabelle1!B39,Key!C$1:D$37,2,FALSE) -> BLACK | E39: =VLOOKUP(B39,Key!$E$1:$F$37,2,FALSE) -> 19-36 | F39: =VLOOKUP(B39,Key!$E$1:$G$37,3,FALSE) -> 3rd | G39: *
A40: 39 | B40: 8 | C40: =IFERROR(VLOOKUP(B40,Key!$A$1:$B$36,2,FALSE),"Zero") -> EVEN | D40: =VLOOKUP(Tabelle1!B40,Key!C$1:D$37,2,FALSE) -> BLACK | E40: =VLOOKUP(B40,Key!$E$1:$F$37,2,FALSE) -> 1-18 | F40: =VLOOKUP(B40,Key!$E$1:$G$37,3,FALSE) -> 1st | G40: *
...

Sheet Tabelle3
