Workbook
Name Input: [1]Sheet1!$DX$2080:$DX$2082

Sheet Sheet1
A1: A
A2: yes | C2: #Spin1 | F2: Unhit | G2: ="Unique" -> Unique | H2: Uunique | I2: U+UU | J2: Trepeat | K2: >=R1 | L2: R1 | M2: >=R2 | O2: R2 | P2: R3 | Q2: >=R4
A3: =IF(A2="no",INT(RAND()*36+1),INT(RAND()*37)) -> 7 | B3: =ISNUMBER(Sheet2!A2) -> TRUE | C3: 1 | D3: =IF($B3=FALSE,"",IF(AND($B3=TRUE,E3=0),"U","R")) -> U | F3: =37-G3 -> 36 | G3: =COUNTIF(D$3:D3,"U") -> 1 | H3: =G3-K3 -> 1 | I3: =+F3+H3 -> 37 | J3: =L3+O3+P3+Q3 -> 0
A4: =IF(A3="no",INT(RAND()*36+1),INT(RAND()*37)) -> 22 | B4: =ISNUMBER(Sheet2!A3) -> TRUE | C4: =IF($B4=TRUE,C3+1,"") -> 2 | D4: =IF($B4=FALSE,"",IF(AND($B4=TRUE,E4=0),"U","R")) -> U | E4: =IF($B4=FALSE,0,COUNTIF($A$3:$A3,$A4)) -> 0 | F4: =37-G4 -> 35 | G4: =COUNTIF(D$3:D4,"U") -> 2 | H4: =G4-K4 -> 2 | I4: =+F4+H4 -> 37 | J4: =L4+O4+P4+Q4 -> 0 | K4: =IF($B4=FALSE,"",COUNTIF(E$3:E4,1)) -> 0 | L4: =K4-M4 -> 0 | M4: =IF($B4=FALSE,"",COUNTIF(E$3:E4,2)) -> 0 | N4: =IF($B4=FALSE,"",COUNTIF(E$3:E4,3)) -> 0 | O4: =M4-N4 -> 0 | P4: =K4-L4-O4-Q4 -> 0 | Q4: =IF($B4=FALSE,"",COUNTIF(E$3:E4,4)) -> 0
A5: =IF(A4="no",INT(RAND()*36+1),INT(RAND()*37)) -> 3 | B5: =ISNUMBER(Sheet2!A4) -> TRUE | C5: =IF($B5=TRUE,C4+1,"") -> 3 | D5: =IF($B5=FALSE,"",IF(AND($B5=TRUE,E5=0),"U","R")) -> U | E5: =IF($B5=FALSE,0,COUNTIF($A$3:$A4,$A5)) -> 0 | F5: =37-G5 -> 34 | G5: =COUNTIF(D$3:D5,"U") -> 3 | H5: =G5-K5 -> 3 | I5: =+F5+H5 -> 37 | J5: =L5+O5+P5+Q5 -> 0 | K5: =IF($B5=FALSE,"",COUNTIF(E$3:E5,1)) -> 0 | L5: =K5-M5 -> 0 | M5: =IF($B5=FALSE,"",COUNTIF(E$3:E5,2)) -> 0 | N5: =IF($B5=FALSE,"",COUNTIF(E$3:E5,3)) -> 0 | O5: =M5-N5 -> 0 | P5: =K5-L5-O5-Q5 -> 0 | Q5: =IF($B5=FALSE,"",COUNTIF(E$3:E5,4)) -> 0
A6: =IF(A5="no",INT(RAND()*36+1),INT(RAND()*37)) -> 29 | B6: =ISNUMBER(Sheet2!A5) -> TRUE | C6: =IF($B6=TRUE,C5+1,"") -> 4 | D6: =IF($B6=FALSE,"",IF(AND($B6=TRUE,E6=0),"U","R")) -> U | E6: =IF($B6=FALSE,0,COUNTIF($A$3:$A5,$A6)) -> 0 | F6: =37-G6 -> 33 | G6: =COUNTIF(D$3:D6,"U") -> 4 | H6: =G6-K6 -> 4 | I6: =+F6+H6 -> 37 | J6: =L6+O6+P6+Q6 -> 0 | K6: =IF($B6=FALSE,"",COUNTIF(E$3:E6,1)) -> 0 | L6: =K6-M6 -> 0 | M6: =IF($B6=FALSE,"",COUNTIF(E$3:E6,2)) -> 0 | N6: =IF($B6=FALSE,"",COUNTIF(E$3:E6,3)) -> 0 | O6: =M6-N6 -> 0 | P6: =K6-L6-O6-Q6 -> 0 | Q6: =IF($B6=FALSE,"",COUNTIF(E$3:E6,4)) -> 0
A7: =IF(A6="no",INT(RAND()*36+1),INT(RAND()*37)) -> 26 | B7: =ISNUMBER(Sheet2!A6) -> TRUE | C7: =IF($B7=TRUE,C6+1,"") -> 5 | D7: =IF($B7=FALSE,"",IF(AND($B7=TRUE,E7=0),"U","R")) -> U | E7: =IF($B7=FALSE,0,COUNTIF($A$3:$A6,$A7)) -> 0 | F7: =37-G7 -> 32 | G7: =COUNTIF(D$3:D7,"U") -> 5 | H7: =G7-K7 -> 5 | I7: =+F7+H7 -> 37 | J7: =L7+O7+P7+Q7 -> 0 | K7: =IF($B7=FALSE,"",COUNTIF(E$3:E7,1)) -> 0 | L7: =K7-M7 -> 0 | M7: =IF($B7=FALSE,"",COUNTIF(E$3:E7,2)) -> 0 | N7: =IF($B7=FALSE,"",COUNTIF(E$3:E7,3)) -> 0 | O7: =M7-N7 -> 0 | P7: =K7-L7-O7-Q7 -> 0 | Q7: =IF($B7=FALSE,"",COUNTIF(E$3:E7,4)) -> 0
A8: =IF(A7="no",INT(RAND()*36+1),INT(RAND()*37)) -> 6 | B8: =ISNUMBER(Sheet2!A7) -> TRUE | C8: =IF($B8=TRUE,C7+1,"") -> 6 | D8: =IF($B8=FALSE,"",IF(AND($B8=TRUE,E8=0),"U","R")) -> U | E8: =IF($B8=FALSE,0,COUNTIF($A$3:$A7,$A8)) -> 0 | F8: =37-G8 -> 31 | G8: =COUNTIF(D$3:D8,"U") -> 6 | H8: =G8-K8 -> 6 | I8: =+F8+H8 -> 37 | J8: =L8+O8+P8+Q8 -> 0 | K8: =IF($B8=FALSE,"",COUNTIF(E$3:E8,1)) -> 0 | L8: =K8-M8 -> 0 | M8: =IF($B8=FALSE,"",COUNTIF(E$3:E8,2)) -> 0 | N8: =IF($B8=FALSE,"",COUNTIF(E$3:E8,3)) -> 0 | O8: =M8-N8 -> 0 | P8: =K8-L8-O8-Q8 -> 0 | Q8: =IF($B8=FALSE,"",COUNTIF(E$3:E8,4)) -> 0
A9: =IF(A8="no",INT(RAND()*36+1),INT(RAND()*37)) -> 14 | B9: =ISNUMBER(Sheet2!A8) -> TRUE | C9: =IF($B9=TRUE,C8+1,"") -> 7 | D9: =IF($B9=FALSE,"",IF(AND($B9=TRUE,E9=0),"U","R")) -> U | E9: =IF($B9=FALSE,0,COUNTIF($A$3:$A8,$A9)) -> 0 | F9: =37-G9 -> 30 | G9: =COUNTIF(D$3:D9,"U") -> 7 | H9: =G9-K9 -> 7 | I9: =+F9+H9 -> 37 | J9: =L9+O9+P9+Q9 -> 0 | K9: =IF($B9=FALSE,"",COUNTIF(E$3:E9,1)) -> 0 | L9: =K9-M9 -> 0 | M9: =IF($B9=FALSE,"",COUNTIF(E$3:E9,2)) -> 0 | N9: =IF($B9=FALSE,"",COUNTIF(E$3:E9,3)) -> 0 | O9: =M9-N9 -> 0 | P9: =K9-L9-O9-Q9 -> 0 | Q9: =IF($B9=FALSE,"",COUNTIF(E$3:E9,4)) -> 0
A10: =IF(A9="no",INT(RAND()*36+1),INT(RAND()*37)) -> 33 | B10: =ISNUMBER(Sheet2!A9) -> TRUE | C10: =IF($B10=TRUE,C9+1,"") -> 8 | D10: =IF($B10=FALSE,"",IF(AND($B10=TRUE,E10=0),"U","R")) -> U | E10: =IF($B10=FALSE,0,COUNTIF($A$3:$A9,$A10)) -> 0 | F10: =37-G10 -> 29 | G10: =COUNTIF(D$3:D10,"U") -> 8 | H10: =G10-K10 -> 8 | I10: =+F10+H10 -> 37 | J10: =L10+O10+P10+Q10 -> 0 | K10: =IF($B10=FALSE,"",COUNTIF(E$3:E10,1)) -> 0 | L10: =K10-M10 -> 0 | M10: =IF($B10=FALSE,"",COUNTIF(E$3:E10,2)) -> 0 | N10: =IF($B10=FALSE,"",COUNTIF(E$3:E10,3)) -> 0 | O10: =M10-N10 -> 0 | P10: =K10-L10-O10-Q10 -> 0 | Q10: =IF($B10=FALSE,"",COUNTIF(E$3:E10,4)) -> 0
A11: =IF(A10="no",INT(RAND()*36+1),INT(RAND()*37)) -> 4 | B11: =ISNUMBER(Sheet2!A10) -> TRUE | C11: =IF($B11=TRUE,C10+1,"") -> 9 | D11: =IF($B11=FALSE,"",IF(AND($B11=TRUE,E11=0),"U","R")) -> U | E11: =IF($B11=FALSE,0,COUNTIF($A$3:$A10,$A11)) -> 0 | F11: =37-G11 -> 28 | G11: =COUNTIF(D$3:D11,"U") -> 9 | H11: =G11-K11 -> 9 | I11: =+F11+H11 -> 37 | J11: =L11+O11+P11+Q11 -> 0 | K11: =IF($B11=FALSE,"",COUNTIF(E$3:E11,1)) -> 0 | L11: =K11-M11 -> 0 | M11: =IF($B11=FALSE,"",COUNTIF(E$3:E11,2)) -> 0 | N11: =IF($B11=FALSE,"",COUNTIF(E$3:E11,3)) -> 0 | O11: =M11-N11 -> 0 | P11: =K11-L11-O11-Q11 -> 0 | Q11: =IF($B11=FALSE,"",COUNTIF(E$3:E11,4)) -> 0
A12: =IF(A11="no",INT(RAND()*36+1),INT(RAND()*37)) -> 1 | B12: =ISNUMBER(Sheet2!A11) -> TRUE | C12: =IF($B12=TRUE,C11+1,"") -> 10 | D12: =IF($B12=FALSE,"",IF(AND($B12=TRUE,E12=0),"U","R")) -> U | E12: =IF($B12=FALSE,0,COUNTIF($A$3:$A11,$A12)) -> 0 | F12: =37-G12 -> 27 | G12: =COUNTIF(D$3:D12,"U") -> 10 | H12: =G12-K12 -> 10 | I12: =+F12+H12 -> 37 | J12: =L12+O12+P12+Q12 -> 0 | K12: =IF($B12=FALSE,"",COUNTIF(E$3:E12,1)) -> 0 | L12: =K12-M12 -> 0 | M12: =IF($B12=FALSE,"",COUNTIF(E$3:E12,2)) -> 0 | N12: =IF($B12=FALSE,"",COUNTIF(E$3:E12,3)) -> 0 | O12: =M12-N12 -> 0 | P12: =K12-L12-O12-Q12 -> 0 | Q12: =IF($B12=FALSE,"",COUNTIF(E$3:E12,4)) -> 0
A13: =IF(A12="no",INT(RAND()*36+1),INT(RAND()*37)) -> 25 | B13: =ISNUMBER(Sheet2!A12) -> TRUE | C13: =IF($B13=TRUE,C12+1,"") -> 11 | D13: =IF($B13=FALSE,"",IF(AND($B13=TRUE,E13=0),"U","R")) -> U | E13: =IF($B13=FALSE,0,COUNTIF($A$3:$A12,$A13)) -> 0 | F13: =37-G13 -> 26 | G13: =COUNTIF(D$3:D13,"U") -> 11 | H13: =G13-K13 -> 11 | I13: =+F13+H13 -> 37 | J13: =L13+O13+P13+Q13 -> 0 | K13: =IF($B13=FALSE,"",COUNTIF(E$3:E13,1)) -> 0 | L13: =K13-M13 -> 0 | M13: =IF($B13=FALSE,"",COUNTIF(E$3:E13,2)) -> 0 | N13: =IF($B13=FALSE,"",COUNTIF(E$3:E13,3)) -> 0 | O13: =M13-N13 -> 0 | P13: =K13-L13-O13-Q13 -> 0 | Q13: =IF($B13=FALSE,"",COUNTIF(E$3:E13,4)) -> 0
A14: =IF(A13="no",INT(RAND()*36+1),INT(RAND()*37)) -> 30 | B14: =ISNUMBER(Sheet2!A13) -> TRUE | C14: =IF($B14=TRUE,C13+1,"") -> 12 | D14: =IF($B14=FALSE,"",IF(AND($B14=TRUE,E14=0),"U","R")) -> U | E14: =IF($B14=FALSE,0,COUNTIF($A$3:$A13,$A14)) -> 0 | F14: =37-G14 -> 25 | G14: =COUNTIF(D$3:D14,"U") -> 12 | H14: =G14-K14 -> 12 | I14: =+F14+H14 -> 37 | J14: =L14+O14+P14+Q14 -> 0 | K14: =IF($B14=FALSE,"",COUNTIF(E$3:E14,1)) -> 0 | L14: =K14-M14 -> 0 | M14: =IF($B14=FALSE,"",COUNTIF(E$3:E14,2)) -> 0 | N14: =IF($B14=FALSE,"",COUNTIF(E$3:E14,3)) -> 0 | O14: =M14-N14 -> 0 | P14: =K14-L14-O14-Q14 -> 0 | Q14: =IF($B14=FALSE,"",COUNTIF(E$3:E14,4)) -> 0
A15: =IF(A14="no",INT(RAND()*36+1),INT(RAND()*37)) -> 4 | B15: =ISNUMBER(Sheet2!A14) -> TRUE | C15: =IF($B15=TRUE,C14+1,"") -> 13 | D15: =IF($B15=FALSE,"",IF(AND($B15=TRUE,E15=0),"U","R")) -> R | E15: =IF($B15=FALSE,0,COUNTIF($A$3:$A14,$A15)) -> 1 | F15: =37-G15 -> 25 | G15: =COUNTIF(D$3:D15,"U") -> 12 | H15: =G15-K15 -> 11 | I15: =+F15+H15 -> 36 | J15: =L15+O15+P15+Q15 -> 1 | K15: =IF($B15=FALSE,"",COUNTIF(E$3:E15,1)) -> 1 | L15: =K15-M15 -> 1 | M15: =IF($B15=FALSE,"",COUNTIF(E$3:E15,2)) -> 0 | N15: =IF($B15=FALSE,"",COUNTIF(E$3:E15,3)) -> 0 | O15: =M15-N15 -> 0 | P15: =K15-L15-O15-Q15 -> 0 | Q15: =IF($B15=FALSE,"",COUNTIF(E$3:E15,4)) -> 0
... A76: =IF(A75="no",INT(RAND()*36+1),INT(RAND()*37)) -> 14 | B76: =ISNUMBER(Sheet2!A75) -> TRUE | C76: =IF($B76=TRUE,C75+1,"") -> 74 | D76: =IF($B76=FALSE,"",IF(AND($B76=TRUE,E76=0),"U","R")) -> R | E76: =IF($B76=FALSE,0,COUNTIF($A$3:$A75,$A76)) -> 1 | F76: =37-G76 -> 5 | G76: =COUNTIF(D$3:D76,"U") -> 32 | H76: =G76-K76 -> 9 | I76: =+F76+H76 -> 14 | J76: =L76+O76+P76+Q76 -> 23 | K76: =IF($B76=FALSE,"",COUNTIF(E$3:E76,1)) -> 23 | L76: =K76-M76 -> 12 | M76: =IF($B76=FALSE,"",COUNTIF(E$3:E76,2)) -> 11 | N76: =IF($B76=FALSE,"",COUNTIF(E$3:E76,3)) -> 6 | O76: =M76-N76 -> 5 | P76: =K76-L76-O76-Q76 -> 4 | Q76: =IF($B76=FALSE,"",COUNTIF(E$3:E76,4)) -> 2

Sheet Sheet2
B1: #Spin1
A2: 10 | B2: 1
A3: 16 | B3: =IF(Sheet1!B3=TRUE,B2+1,"") -> 2
A4: 13 | B4: =IF(Sheet1!B4=TRUE,B3+1,"") -> 3
A5: 23 | B5: =IF(Sheet1!B5=TRUE,B4+1,"") -> 4
A6: 35 | B6: =IF(Sheet1!B6=TRUE,B5+1,"") -> 5
A7: 30 | B7: =IF(Sheet1!B7=TRUE,B6+1,"") -> 6
A8: 2 | B8: =IF(Sheet1!B8=TRUE,B7+1,"") -> 7
A9: 23 | B9: =IF(Sheet1!B9=TRUE,B8+1,"") -> 8
A10: 36 | B10: =IF(Sheet1!B10=TRUE,B9+1,"") -> 9
A11: 21 | B11: =IF(Sheet1!B11=TRUE,B10+1,"") -> 10
A12: 7 | B12: =IF(Sheet1!B12=TRUE,B11+1,"") -> 11
A13: 10 | B13: =IF(Sheet1!B13=TRUE,B12+1,"") -> 12
A14: 26 | B14: =IF(Sheet1!B14=TRUE,B13+1,"") -> 13
... A17: 35 | B17: =IF(Sheet1!B17=TRUE,B16+1,"") -> 16
A18: 2 | B18: =IF(Sheet1!B18=TRUE,B17+1,"") -> 17 | E18: =IF(Sheet1!E40>=2,1,0) -> 0
A19: 17 | B19: =IF(Sheet1!B19=TRUE,B18+1,"") -> 18 | D19: 0 | E19: =COUNTIF(Sheet1!$A$3:$A$39,$D19) -> 1
A20: 36 | B20: =IF(Sheet1!B20=TRUE,B19+1,"") -> 19 | D20: =1+D19 -> 1 | E20: =COUNTIF(Sheet1!$A$3:$A$39,$D20) -> 2 | F20: =1+D37 -> 19 | G20: =COUNTIF(Sheet1!$A$3:$A$39,$F20) -> 0
A21: 16 | B21: =IF(Sheet1!B21=TRUE,B20+1,"") -> 20 | D21: =1+D20 -> 2 | E21: =COUNTIF(Sheet1!$A$3:$A$39,$D21) -> 0 | F21: =1+F20 -> 20 | G21: =COUNTIF(Sheet1!$A$3:$A$39,$F21) -> 0
A22: 13 | B22: =IF(Sheet1!B22=TRUE,B21+1,"") -> 21 | D22: =1+D21 -> 3 | E22: =COUNTIF(Sheet1!$A$3:$A$39,$D22) -> 1 | F22: =1+F21 -> 21 | G22: =COUNTIF(Sheet1!$A$3:$A$39,$F22) -> 0
A23: 22 | B23: =IF(Sheet1!B23=TRUE,B22+1,"") -> 22 | D23: =1+D22 -> 4 | E23: =COUNTIF(Sheet1!$A$3:$A$39,$D23) -> 4 | F23: =1+F22 -> 22 | G23: =COUNTIF(Sheet1!$A$3:$A$39,$F23) -> 2
A24: 16 | B24: =IF(Sheet1!B24=TRUE,B23+1,"") -> 23 | D24: =1+D23 -> 5 | E24: =COUNTIF(Sheet1!$A$3:$A$39,$D24) -> 0 | F24: =1+F23 -> 23 | G24: =COUNTIF(Sheet1!$A$3:$A$39,$F24) -> 0
A25: 6 | B25: =IF(Sheet1!B25=TRUE,B24+1,"") -> 24 | D25: =1+D24 -> 6 | E25: =COUNTIF(Sheet1!$A$3:$A$39,$D25) -> 3 | F25: =1+F24 -> 24 | G25: =COUNTIF(Sheet1!$A$3:$A$39,$F25) -> 0
A26: 2 | B26: =IF(Sheet1!B26=TRUE,B25+1,"") -> 25 | D26: =1+D25 -> 7 | E26: =COUNTIF(Sheet1!$A$3:$A$39,$D26) -> 1 | F26: =1+F25 -> 25 | G26: =COUNTIF(Sheet1!$A$3:$A$39,$F26) -> 2
A27: 18 | B27: =IF(Sheet1!B27=TRUE,B26+1,"") -> 26 | D27: =1+D26 -> 8 | E27: =COUNTIF(Sheet1!$A$3:$A$39,$D27) -> 1 | F27: =1+F26 -> 26 | G27: =COUNTIF(Sheet1!$A$3:$A$39,$F27) -> 1
A28: 10 | B28: =IF(Sheet1!B28=TRUE,B27+1,"") -> 27 | D28: =1+D27 -> 9 | E28: =COUNTIF(Sheet1!$A$3:$A$39,$D28) -> 3 | F28: =1+F27 -> 27 | G28: =COUNTIF(Sheet1!$A$3:$A$39,$F28) -> 1
A29: 33 | B29: =IF(Sheet1!B29=TRUE,B28+1,"") -> 28 | D29: =1+D28 -> 10 | E29: =COUNTIF(Sheet1!$A$3:$A$39,$D29) -> 0 | F29: =1+F28 -> 28 | G29: =COUNTIF(Sheet1!$A$3:$A$39,$F29) -> 1
A30: 24 | B30: =IF(Sheet1!B30=TRUE,B29+1,"") -> 29 | D30: =1+D29 -> 11 | E30: =COUNTIF(Sheet1!$A$3:$A$39,$D30) -> 1 | F30: =1+F29 -> 29 | G30: =COUNTIF(Sheet1!$A$3:$A$39,$F30) -> 2
A31: 25 | B31: =IF(Sheet1!B31=TRUE,B30+1,"") -> 30 | D31: =1+D30 -> 12 | E31: =COUNTIF(Sheet1!$A$3:$A$39,$D31) -> 0 | F31: =1+F30 -> 30 | G31: =COUNTIF(Sheet1!$A$3:$A$39,$F31) -> 1
A32: 1 | B32: =IF(Sheet1!B32=TRUE,B31+1,"") -> 31 | D32: =1+D31 -> 13 | E32: =COUNTIF(Sheet1!$A$3:$A$39,$D32) -> 0 | F32: =1+F31 -> 31 | G32: =COUNTIF(Sheet1!$A$3:$A$39,$F32) -> 0
... A37: 16 | B37: =IF(Sheet1!B37=TRUE,B36+1,"") -> 36 | D37: =1+D36 -> 18 | E37: =COUNTIF(Sheet1!$A$3:$A$39,$D37) -> 0 | F37: =1+F36 -> 36 | G37: =COUNTIF(Sheet1!$A$3:$A$39,$F37) -> 3
A38: 11 | B38: =IF(Sheet1!B38=TRUE,B37+1,"") -> 37
A39: 33 | B39: =IF(Sheet1!B39=TRUE,B38+1,"") -> 38
A40: 12 | B40: =IF(Sheet1!B40=TRUE,B39+1,"") -> 39
A41: 34 | B41: =IF(Sheet1!B41=TRUE,B40+1,"") -> 40
A42: 7 | B42: =IF(Sheet1!B42=TRUE,B41+1,"") -> 41
A43: 15 | B43: =IF(Sheet1!B43=TRUE,B42+1,"") -> 42
A44: 15 | B44: =IF(Sheet1!B44=TRUE,B43+1,"") -> 43
A45: 30 | B45: =IF(Sheet1!B45=TRUE,B44+1,"") -> 44
A46: 18 | B46: =IF(Sheet1!B46=TRUE,B45+1,"") -> 45
...
