Workbook

Sheet RBLHOE
D1: Color | X1: Hi/Low | AR1: Odd/Even
G2: Red | O2: Black | AA2: High | AI2: Low | AU2: Odd | BC2: Even
A3: Spin | B3: Nr | D3: Red | E3: Black | G3: 1st | H3: 2nd | I3: 3rd | J3: 4th | K3: 5th | L3: 6th | M3: 7th | N3: 8th | O3: 1st | P3: 2nd | Q3: 3rd | R3: 4th | S3: 5th | T3: 6th | U3: 7th | V3: 8th | X3: High | Y3: Low | AA3: 1st | AB3: 2nd | AC3: 3rd | AD3: 4th | AE3: 5th | AF3: 6th | AG3: 7th | AH3: 8th | AI3: 1st | AJ3: 2nd | AK3: 3rd | AL3: 4th | AM3: 5th | AN3: 6th | AO3: 7th | AP3: 8th | AR3: Odd | AS3: Even | AU3: 1st | AV3: 2nd | AW3: 3rd | AX3: 4th | AY3: 5th | AZ3: 6th | BA3: 7th | BB3: 8th | BC3: 1st | BD3: 2nd | BE3: 3rd | BF3: 4th | BG3: 5th | BH3: 6th | BI3: 7th | BJ3: 8th
A4: 1 | B4: 23 | D4: ='Where''s Waldo'!C4 -> 23 | E4: ='Where''s Waldo'!D4 | G4: =IF('Where''s Waldo'!Q4=0,"",'Where''s Waldo'!Q4) -> 23 | H4: =IF('Where''s Waldo'!R4=0,"",'Where''s Waldo'!R4) | I4: =IF('Where''s Waldo'!S4=0,"",'Where''s Waldo'!S4) | J4: =IF('Where''s Waldo'!T4=0,"",'Where''s Waldo'!T4) | K4: =IF('Where''s Waldo'!U4=0,"",'Where''s Waldo'!U4) | L4: =IF('Where''s Waldo'!V4=0,"",'Where''s Waldo'!V4) | M4: =IF('Where''s Waldo'!W4=0,"",'Where''s Waldo'!W4) | N4: =IF('Where''s Waldo'!X4=0,"",'Where''s Waldo'!X4) | O4: =IF('Where''s Waldo'!AA4=0,"",'Where''s Waldo'!AA4) | P4: =IF('Where''s Waldo'!AB4=0,"",'Where''s Waldo'!AB4) | Q4: =IF('Where''s Waldo'!AC4=0,"",'Where''s Waldo'!AC4) | R4: =IF('Where''s Waldo'!AD4=0,"",'Where''s Waldo'!AD4) | S4: =IF('Where''s Waldo'!AE4=0,"",'Where''s Waldo'!AE4) | T4: =IF('Where''s Waldo'!AF4=0,"",'Where''s Waldo'!AF4) | U4: =IF('Where''s Waldo'!AG4=0,"",'Where''s Waldo'!AG4) | V4: =IF('Where''s Waldo'!AH4=0,"",'Where''s Waldo'!AH4) | X4: ='Where''s Waldo'!F4 -> 23 | Y4: ='Where''s Waldo'!G4 | AA4: =IF('Where''s Waldo'!AK4=0,"",'Where''s Waldo'!AK4) | AB4: =IF('Where''s Waldo'!AL4=0,"",'Where''s Waldo'!AL4) | AC4: =IF('Where''s Waldo'!AM4=0,"",'Where''s Waldo'!AM4) | AD4: =IF('Where''s Waldo'!AN4=0,"",'Where''s Waldo'!AN4) | AE4: =IF('Where''s Waldo'!AO4=0,"",'Where''s Waldo'!AO4) | AF4: =IF('Where''s Waldo'!AP4=0,"",'Where''s Waldo'!AP4) | AG4: =IF('Where''s Waldo'!AQ4=0,"",'Where''s Waldo'!AQ4) | AH4: =IF('Where''s Waldo'!AR4=0,"",'Where''s Waldo'!AR4) | AI4: =IF('Where''s Waldo'!AU4=0,"",'Where''s Waldo'!AU4) | AJ4: =IF('Where''s Waldo'!AV4=0,"",'Where''s Waldo'!AV4) | AK4: =IF('Where''s Waldo'!AW4=0,"",'Where''s Waldo'!AW4) | AL4: =IF('Where''s Waldo'!AX4=0,"",'Where''s Waldo'!AX4) | AM4: =IF('Where''s Waldo'!AY4=0,"",'Where''s Waldo'!AY4) | AN4: =IF('Where''s Waldo'!AZ4=0,"",'Where''s Waldo'!AZ4) | AO4: =IF('Where''s Waldo'!BA4=0,"",'Where''s Waldo'!BA4) | AP4: =IF('Where''s Waldo'!BB4=0,"",'Where''s Waldo'!BB4) | AR4: =IF('Where''s Waldo'!I4="","",'Where''s Waldo'!I4) -> 23 | AS4: =IF('Where''s Waldo'!J4="","",'Where''s Waldo'!J4) | AU4: =IF('Where''s Waldo'!BE4=0,"",'Where''s Waldo'!BE4) -> 23 | AV4: =IF('Where''s Waldo'!BF4=0,"",'Where''s Waldo'!BF4) | AW4: =IF('Where''s Waldo'!BG4=0,"",'Where''s Waldo'!BG4) | AX4: =IF('Where''s Waldo'!BH4=0,"",'Where''s Waldo'!BH4) | AY4: =IF('Where''s Waldo'!BI4=0,"",'Where''s Waldo'!BI4) | AZ4: =IF('Where''s Waldo'!BJ4=0,"",'Where''s Waldo'!BJ4) | BA4: =IF('Where''s Waldo'!BK4=0,"",'Where''s Waldo'!BK4) | BB4: =IF('Where''s Waldo'!BL4=0,"",'Where''s Waldo'!BL4) | BC4: =IF('Where''s Waldo'!BO4=0,"",'Where''s Waldo'!BO4) | BD4: =IF('Where''s Waldo'!BP4=0,"",'Where''s Waldo'!BP4) | BE4: =IF('Where''s Waldo'!BQ4=0,"",'Where''s Waldo'!BQ4) | BF4: =IF('Where''s Waldo'!BR4=0,"",'Where''s Waldo'!BR4) | BG4: =IF('Where''s Waldo'!BS4=0,"",'Where''s Waldo'!BS4) | BH4: =IF('Where''s Waldo'!BT4=0,"",'Where''s Waldo'!BT4) | BI4: =IF('Where''s Waldo'!BU4=0,"",'Where''s Waldo'!BU4) | BJ4: =IF('Where''s Waldo'!BV4=0,"",'Where''s Waldo'!BV4)
A5: 2 | B5: 15 | D5: ='Where''s Waldo'!C5 | E5: ='Where''s Waldo'!D5 -> 15 | G5: =IF('Where''s Waldo'!Q5=0,"",'Where''s Waldo'!Q5) -> 23 | H5: =IF('Where''s Waldo'!R5=0,"",'Where''s Waldo'!R5) | I5: =IF('Where''s Waldo'!S5=0,"",'Where''s Waldo'!S5) | J5: =IF('Where''s Waldo'!T5=0,"",'Where''s Waldo'!T5) | K5: =IF('Where''s Waldo'!U5=0,"",'Where''s Waldo'!U5) | L5: =IF('Where''s Waldo'!V5=0,"",'Where''s Waldo'!V5) | M5: =IF('Where''s Waldo'!W5=0,"",'Where''s Waldo'!W5) | N5: =IF('Where''s Waldo'!X5=0,"",'Where''s Waldo'!X5) | O5: =IF('Where''s Waldo'!AA5=0,"",'Where''s Waldo'!AA5) -> 15 | P5: =IF('Where''s Waldo'!AB5=0,"",'Where''s Waldo'!AB5) | Q5: =IF('Where''s Waldo'!AC5=0,"",'Where''s Waldo'!AC5) | R5: =IF('Where''s Waldo'!AD5=0,"",'Where''s Waldo'!AD5) | S5: =IF('Where''s Waldo'!AE5=0,"",'Where''s Waldo'!AE5) | T5: =IF('Where''s Waldo'!AF5=0,"",'Where''s Waldo'!AF5) | U5: =IF('Where''s Waldo'!AG5=0,"",'Where''s Waldo'!AG5) | V5: =IF('Where''s Waldo'!AH5=0,"",'Where''s Waldo'!AH5) | X5: ='Where''s Waldo'!F5 | Y5: ='Where''s Waldo'!G5 -> 15 | AA5: =IF('Where''s Waldo'!AK5=0,"",'Where''s Waldo'!AK5) | AB5: =IF('Where''s Waldo'!AL5=0,"",'Where''s Waldo'!AL5) | AC5: =IF('Where''s Waldo'!AM5=0,"",'Where''s Waldo'!AM5) | AD5: =IF('Where''s Waldo'!AN5=0,"",'Where''s Waldo'!AN5) | AE5: =IF('Where''s Waldo'!AO5=0,"",'Where''s Waldo'!AO5) | AF5: =IF('Where''s Waldo'!AP5=0,"",'Where''s Waldo'!AP5) | AG5: =IF('Where''s Waldo'!AQ5=0,"",'Where''s Waldo'!AQ5) | AH5: =IF('Where''s Waldo'!AR5=0,"",'Where''s Waldo'!AR5) | AI5: =IF('Where''s Waldo'!AU5=0,"",'Where''s Waldo'!AU5) -> 15 | AJ5: =IF('Where''s Waldo'!AV5=0,"",'Where''s Waldo'!AV5) | AK5: =IF('Where''s Waldo'!AW5=0,"",'Where''s Waldo'!AW5) | AL5: =IF('Where''s Waldo'!AX5=0,"",'Where''s Waldo'!AX5) | AM5: =IF('Where''s Waldo'!AY5=0,"",'Where''s Waldo'!AY5) | AN5: =IF('Where''s Waldo'!AZ5=0,"",'Where''s Waldo'!AZ5) | AO5: =IF('Where''s Waldo'!BA5=0,"",'Where''s Waldo'!BA5) | AP5: =IF('Where''s Waldo'!BB5=0,"",'Where''s Waldo'!BB5) | AR5: =IF('Where''s Waldo'!I5="","",'Where''s Waldo'!I5) -> 15 | AS5: =IF('Where''s Waldo'!J5="","",'Where''s Waldo'!J5) | AU5: =IF('Where''s Waldo'!BE5=0,"",'Where''s Waldo'!BE5) -> 15 | AV5: =IF('Where''s Waldo'!BF5=0,"",'Where''s Waldo'!BF5) -> 23 | AW5: =IF('Where''s Waldo'!BG5=0,"",'Where''s Waldo'!BG5) | AX5: =IF('Where''s Waldo'!BH5=0,"",'Where''s Waldo'!BH5) | AY5: =IF('Where''s Waldo'!BI5=0,"",'Where''s Waldo'!BI5) | AZ5: =IF('Where''s Waldo'!BJ5=0,"",'Where''s Waldo'!BJ5) | BA5: =IF('Where''s Waldo'!BK5=0,"",'Where''s Waldo'!BK5) | BB5: =IF('Where''s Waldo'!BL5=0,"",'Where''s Waldo'!BL5) | BC5: =IF('Where''s Waldo'!BO5=0,"",'Where''s Waldo'!BO5) | BD5: =IF('Where''s Waldo'!BP5=0,"",'Where''s Waldo'!BP5) | BE5: =IF('Where''s Waldo'!BQ5=0,"",'Where''s Waldo'!BQ5) | BF5: =IF('Where''s Waldo'!BR5=0,"",'Where''s Waldo'!BR5) | BG5: =IF('Where''s Waldo'!BS5=0,"",'Where''s Waldo'!BS5) | BH5: =IF('Where''s Waldo'!BT5=0,"",'Where''s Waldo'!BT5) | BI5: =IF('Where''s Waldo'!BU5=0,"",'Where''s Waldo'!BU5) | BJ5: =IF('Where''s Waldo'!BV5=0,"",'Where''s Waldo'!BV5)
A6: 3 | B6: 30 | D6: ='Where''s Waldo'!C6 -> 30 | E6: ='Where''s Waldo'!D6 | G6: =IF('Where''s Waldo'!Q6=0,"",'Where''s Waldo'!Q6) -> 30 | H6: =IF('Where''s Waldo'!R6=0,"",'Where''s Waldo'!R6) -> 23 | I6: =IF('Where''s Waldo'!S6=0,"",'Where''s Waldo'!S6) | J6: =IF('Where''s Waldo'!T6=0,"",'Where''s Waldo'!T6) | K6: =IF('Where''s Waldo'!U6=0,"",'Where''s Waldo'!U6) | L6: =IF('Where''s Waldo'!V6=0,"",'Where''s Waldo'!V6) | M6: =IF('Where''s Waldo'!W6=0,"",'Where''s Waldo'!W6) | N6: =IF('Where''s Waldo'!X6=0,"",'Where''s Waldo'!X6) | O6: =IF('Where''s Waldo'!AA6=0,"",'Where''s Waldo'!AA6) -> 15 | P6: =IF('Where''s Waldo'!AB6=0,"",'Where''s Waldo'!AB6) | Q6: =IF('Where''s Waldo'!AC6=0,"",'Where''s Waldo'!AC6) | R6: =IF('Where''s Waldo'!AD6=0,"",'Where''s Waldo'!AD6) | S6: =IF('Where''s Waldo'!AE6=0,"",'Where''s Waldo'!AE6) | T6: =IF('Where''s Waldo'!AF6=0,"",'Where''s Waldo'!AF6) | U6: =IF('Where''s Waldo'!AG6=0,"",'Where''s Waldo'!AG6) | V6: =IF('Where''s Waldo'!AH6=0,"",'Where''s Waldo'!AH6) | X6: ='Where''s Waldo'!F6 -> 30 | Y6: ='Where''s Waldo'!G6 | AA6: =IF('Where''s Waldo'!AK6=0,"",'Where''s Waldo'!AK6) -> 30 | AB6: =IF('Where''s Waldo'!AL6=0,"",'Where''s Waldo'!AL6) | AC6: =IF('Where''s Waldo'!AM6=0,"",'Where''s Waldo'!AM6) | AD6: =IF('Where''s Waldo'!AN6=0,"",'Where''s Waldo'!AN6) | AE6: =IF('Where''s Waldo'!AO6=0,"",'Where''s Waldo'!AO6) | AF6: =IF('Where''s Waldo'!AP6=0,"",'Where''s Waldo'!AP6) | AG6: =IF('Where''s Waldo'!AQ6=0,"",'Where''s Waldo'!AQ6) | AH6: =IF('Where''s Waldo'!AR6=0,"",'Where''s Waldo'!AR6) | AI6: =IF('Where''s Waldo'!AU6=0,"",'Where''s Waldo'!AU6) -> 15 | AJ6: =IF('Where''s Waldo'!AV6=0,"",'Where''s Waldo'!AV6) | AK6: =IF('Where''s Waldo'!AW6=0,"",'Where''s Waldo'!AW6) | AL6: =IF('Where''s Waldo'!AX6=0,"",'Where''s Waldo'!AX6) | AM6: =IF('Where''s Waldo'!AY6=0,"",'Where''s Waldo'!AY6) | AN6: =IF('Where''s Waldo'!AZ6=0,"",'Where''s Waldo'!AZ6) | AO6: =IF('Where''s Waldo'!BA6=0,"",'Where''s Waldo'!BA6) | AP6: =IF('Where''s Waldo'!BB6=0,"",'Where''s Waldo'!BB6) | AR6: =IF('Where''s Waldo'!I6="","",'Where''s Waldo'!I6) | AS6: =IF('Where''s Waldo'!J6="","",'Where''s Waldo'!J6) -> 30 | AU6: =IF('Where''s Waldo'!BE6=0,"",'Where''s Waldo'!BE6) -> 15 | AV6: =IF('Where''s Waldo'!BF6=0,"",'Where''s Waldo'!BF6) -> 23 | AW6: =IF('Where''s Waldo'!BG6=0,"",'Where''s Waldo'!BG6) | AX6: =IF('Where''s Waldo'!BH6=0,"",'Where''s Waldo'!BH6) | AY6: =IF('Where''s Waldo'!BI6=0,"",'Where''s Waldo'!BI6) | AZ6: =IF('Where''s Waldo'!BJ6=0,"",'Where''s Waldo'!BJ6) | BA6: =IF('Where''s Waldo'!BK6=0,"",'Where''s Waldo'!BK6) | BB6: =IF('Where''s Waldo'!BL6=0,"",'Where''s Waldo'!BL6) | BC6: =IF('Where''s Waldo'!BO6=0,"",'Where''s Waldo'!BO6) -> 30 | BD6: =IF('Where''s Waldo'!BP6=0,"",'Where''s Waldo'!BP6) | BE6: =IF('Where''s Waldo'!BQ6=0,"",'Where''s Waldo'!BQ6) | BF6: =IF('Where''s Waldo'!BR6=0,"",'Where''s Waldo'!BR6) | BG6: =IF('Where''s Waldo'!BS6=0,"",'Where''s Waldo'!BS6) | BH6: =IF('Where''s Waldo'!BT6=0,"",'Where''s Waldo'!BT6) | BI6: =IF('Where''s Waldo'!BU6=0,"",'Where''s Waldo'!BU6) | BJ6: =IF('Where''s Waldo'!BV6=0,"",'Where''s Waldo'!BV6)
A7: 4 | B7: 6 | D7: ='Where''s Waldo'!C7 | E7: ='Where''s Waldo'!D7 -> 6 | G7: =IF('Where''s Waldo'!Q7=0,"",'Where''s Waldo'!Q7) -> 30 | H7: =IF('Where''s Waldo'!R7=0,"",'Where''s Waldo'!R7) -> 23 | I7: =IF('Where''s Waldo'!S7=0,"",'Where''s Waldo'!S7) | J7: =IF('Where''s Waldo'!T7=0,"",'Where''s Waldo'!T7) | K7: =IF('Where''s Waldo'!U7=0,"",'Where''s Waldo'!U7) | L7: =IF('Where''s Waldo'!V7=0,"",'Where''s Waldo'!V7) | M7: =IF('Where''s Waldo'!W7=0,"",'Where''s Waldo'!W7) | N7: =IF('Where''s Waldo'!X7=0,"",'Where''s Waldo'!X7) | O7: =IF('Where''s Waldo'!AA7=0,"",'Where''s Waldo'!AA7) -> 6 | P7: =IF('Where''s Waldo'!AB7=0,"",'Where''s Waldo'!AB7) -> 15 | Q7: =IF('Where''s Waldo'!AC7=0,"",'Where''s Waldo'!AC7) | R7: =IF('Where''s Waldo'!AD7=0,"",'Where''s Waldo'!AD7) | S7: =IF('Where''s Waldo'!AE7=0,"",'Where''s Waldo'!AE7) | T7: =IF('Where''s Waldo'!AF7=0,"",'Where''s Waldo'!AF7) | U7: =IF('Where''s Waldo'!AG7=0,"",'Where''s Waldo'!AG7) | V7: =IF('Where''s Waldo'!AH7=0,"",'Where''s Waldo'!AH7) | X7: ='Where''s Waldo'!F7 | Y7: ='Where''s Waldo'!G7 -> 6 | AA7: =IF('Where''s Waldo'!AK7=0,"",'Where''s Waldo'!AK7) -> 30 | AB7: =IF('Where''s Waldo'!AL7=0,"",'Where''s Waldo'!AL7) | AC7: =IF('Where''s Waldo'!AM7=0,"",'Where''s Waldo'!AM7) | AD7: =IF('Where''s Waldo'!AN7=0,"",'Where''s Waldo'!AN7) | AE7: =IF('Where''s Waldo'!AO7=0,"",'Where''s Waldo'!AO7) | AF7: =IF('Where''s Waldo'!AP7=0,"",'Where''s Waldo'!AP7) | AG7: =IF('Where''s Waldo'!AQ7=0,"",'Where''s Waldo'!AQ7) | AH7: =IF('Where''s Waldo'!AR7=0,"",'Where''s Waldo'!AR7) | AI7: =IF('Where''s Waldo'!AU7=0,"",'Where''s Waldo'!AU7) -> 6 | AJ7: =IF('Where''s Waldo'!AV7=0,"",'Where''s Waldo'!AV7) -> 15 | AK7: =IF('Where''s Waldo'!AW7=0,"",'Where''s Waldo'!AW7) | AL7: =IF('Where''s Waldo'!AX7=0,"",'Where''s Waldo'!AX7) | AM7: =IF('Where''s Waldo'!AY7=0,"",'Where''s Waldo'!AY7) | AN7: =IF('Where''s Waldo'!AZ7=0,"",'Where''s Waldo'!AZ7) | AO7: =IF('Where''s Waldo'!BA7=0,"",'Where''s Waldo'!BA7) | AP7: =IF('Where''s Waldo'!BB7=0,"",'Where''s Waldo'!BB7) | AR7: =IF('Where''s Waldo'!I7="","",'Where''s Waldo'!I7) | AS7: =IF('Where''s Waldo'!J7="","",'Where''s Waldo'!J7) -> 6 | AU7: =IF('Where''s Waldo'!BE7=0,"",'Where''s Waldo'!BE7) -> 15 | AV7: =IF('Where''s Waldo'!BF7=0,"",'Where''s Waldo'!BF7) -> 23 | AW7: =IF('Where''s Waldo'!BG7=0,"",'Where''s Waldo'!BG7) | AX7: =IF('Where''s Waldo'!BH7=0,"",'Where''s Waldo'!BH7) | AY7: =IF('Where''s Waldo'!BI7=0,"",'Where''s Waldo'!BI7) | AZ7: =IF('Where''s Waldo'!BJ7=0,"",'Where''s Waldo'!BJ7) | BA7: =IF('Where''s Waldo'!BK7=0,"",'Where''s Waldo'!BK7) | BB7: =IF('Where''s Waldo'!BL7=0,"",'Where''s Waldo'!BL7) | BC7: =IF('Where''s Waldo'!BO7=0,"",'Where''s Waldo'!BO7) -> 6 | BD7: =IF('Where''s Waldo'!BP7=0,"",'Where''s Waldo'!BP7) -> 30 | BE7: =IF('Where''s Waldo'!BQ7=0,"",'Where''s Waldo'!BQ7) | BF7: =IF('Where''s Waldo'!BR7=0,"",'Where''s Waldo'!BR7) | BG7: =IF('Where''s Waldo'!BS7=0,"",'Where''s Waldo'!BS7) | BH7: =IF('Where''s Waldo'!BT7=0,"",'Where''s Waldo'!BT7) | BI7: =IF('Where''s Waldo'!BU7=0,"",'Where''s Waldo'!BU7) | BJ7: =IF('Where''s Waldo'!BV7=0,"",'Where''s Waldo'!BV7)
A8: 5 | B8: 22 | D8: ='Where''s Waldo'!C8 | E8: ='Where''s Waldo'!D8 -> 22 | G8: =IF('Where''s Waldo'!Q8=0,"",'Where''s Waldo'!Q8) -> 30 | H8: =IF('Where''s Waldo'!R8=0,"",'Where''s Waldo'!R8) -> 23 | I8: =IF('Where''s Waldo'!S8=0,"",'Where''s Waldo'!S8) | J8: =IF('Where''s Waldo'!T8=0,"",'Where''s Waldo'!T8) | K8: =IF('Where''s Waldo'!U8=0,"",'Where''s Waldo'!U8) | L8: =IF('Where''s Waldo'!V8=0,"",'Where''s Waldo'!V8) | M8: =IF('Where''s Waldo'!W8=0,"",'Where''s Waldo'!W8) | N8: =IF('Where''s Waldo'!X8=0,"",'Where''s Waldo'!X8) | O8: =IF('Where''s Waldo'!AA8=0,"",'Where''s Waldo'!AA8) -> 22 | P8: =IF('Where''s Waldo'!AB8=0,"",'Where''s Waldo'!AB8) -> 6 | Q8: =IF('Where''s Waldo'!AC8=0,"",'Where''s Waldo'!AC8) -> 15 | R8: =IF('Where''s Waldo'!AD8=0,"",'Where''s Waldo'!AD8) | S8: =IF('Where''s Waldo'!AE8=0,"",'Where''s Waldo'!AE8) | T8: =IF('Where''s Waldo'!AF8=0,"",'Where''s Waldo'!AF8) | U8: =IF('Where''s Waldo'!AG8=0,"",'Where''s Waldo'!AG8) | V8: =IF('Where''s Waldo'!AH8=0,"",'Where''s Waldo'!AH8) | X8: ='Where''s Waldo'!F8 -> 22 | Y8: ='Where''s Waldo'!G8 | AA8: =IF('Where''s Waldo'!AK8=0,"",'Where''s Waldo'!AK8) -> 22 | AB8: =IF('Where''s Waldo'!AL8=0,"",'Where''s Waldo'!AL8) -> 30 | AC8: =IF('Where''s Waldo'!AM8=0,"",'Where''s Waldo'!AM8) | AD8: =IF('Where''s Waldo'!AN8=0,"",'Where''s Waldo'!AN8) | AE8: =IF('Where''s Waldo'!AO8=0,"",'Where''s Waldo'!AO8) | AF8: =IF('Where''s Waldo'!AP8=0,"",'Where''s Waldo'!AP8) | AG8: =IF('Where''s Waldo'!AQ8=0,"",'Where''s Waldo'!AQ8) | AH8: =IF('Where''s Waldo'!AR8=0,"",'Where''s Waldo'!AR8) | AI8: =IF('Where''s Waldo'!AU8=0,"",'Where''s Waldo'!AU8) -> 6 | AJ8: =IF('Where''s Waldo'!AV8=0,"",'Where''s Waldo'!AV8) -> 15 | AK8: =IF('Where''s Waldo'!AW8=0,"",'Where''s Waldo'!AW8) | AL8: =IF('Where''s Waldo'!AX8=0,"",'Where''s Waldo'!AX8) | AM8: =IF('Where''s Waldo'!AY8=0,"",'Where''s Waldo'!AY8) | AN8: =IF('Where''s Waldo'!AZ8=0,"",'Where''s Waldo'!AZ8) | AO8: =IF('Where''s Waldo'!BA8=0,"",'Where''s Waldo'!BA8) | AP8: =IF('Where''s Waldo'!BB8=0,"",'Where''s Waldo'!BB8) | AR8: =IF('Where''s Waldo'!I8="","",'Where''s Waldo'!I8) | AS8: =IF('Where''s Waldo'!J8="","",'Where''s Waldo'!J8) -> 22 | AU8: =IF('Where''s Waldo'!BE8=0,"",'Where''s Waldo'!BE8) -> 15 | AV8: =IF('Where''s Waldo'!BF8=0,"",'Where''s Waldo'!BF8) -> 23 | AW8: =IF('Where''s Waldo'!BG8=0,"",'Where''s Waldo'!BG8) | AX8: =IF('Where''s Waldo'!BH8=0,"",'Where''s Waldo'!BH8) | AY8: =IF('Where''s Waldo'!BI8=0,"",'Where''s Waldo'!BI8) | AZ8: =IF('Where''s Waldo'!BJ8=0,"",'Where''s Waldo'!BJ8) | BA8: =IF('Where''s Waldo'!BK8=0,"",'Where''s Waldo'!BK8) | BB8: =IF('Where''s Waldo'!BL8=0,"",'Where''s Waldo'!BL8) | BC8: =IF('Where''s Waldo'!BO8=0,"",'Where''s Waldo'!BO8) -> 22 | BD8: =IF('Where''s Waldo'!BP8=0,"",'Where''s Waldo'!BP8) -> 6 | BE8: =IF('Where''s Waldo'!BQ8=0,"",'Where''s Waldo'!BQ8) -> 30 | BF8: =IF('Where''s Waldo'!BR8=0,"",'Where''s Waldo'!BR8) | BG8: =IF('Where''s Waldo'!BS8=0,"",'Where''s Waldo'!BS8) | BH8: =IF('Where''s Waldo'!BT8=0,"",'Where''s Waldo'!BT8) | BI8: =IF('Where''s Waldo'!BU8=0,"",'Where''s Waldo'!BU8) | BJ8: =IF('Where''s Waldo'!BV8=0,"",'Where''s Waldo'!BV8)
A9: 6 | B9: 9 | D9: ='Where''s Waldo'!C9 -> 9 | E9: ='Where''s Waldo'!D9 | G9: =IF('Where''s Waldo'!Q9=0,"",'Where''s Waldo'!Q9) -> 9 | H9: =IF('Where''s Waldo'!R9=0,"",'Where''s Waldo'!R9) -> 30 | I9: =IF('Where''s Waldo'!S9=0,"",'Where''s Waldo'!S9) -> 23 | J9: =IF('Where''s Waldo'!T9=0,"",'Where''s Waldo'!T9) | K9: =IF('Where''s Waldo'!U9=0,"",'Where''s Waldo'!U9) | L9: =IF('Where''s Waldo'!V9=0,"",'Where''s Waldo'!V9) | M9: =IF('Where''s Waldo'!W9=0,"",'Where''s Waldo'!W9) | N9: =IF('Where''s Waldo'!X9=0,"",'Where''s Waldo'!X9) | O9: =IF('Where''s Waldo'!AA9=0,"",'Where''s Waldo'!AA9) -> 22 | P9: =IF('Where''s Waldo'!AB9=0,"",'Where''s Waldo'!AB9) -> 6 | Q9: =IF('Where''s Waldo'!AC9=0,"",'Where''s Waldo'!AC9) -> 15 | R9: =IF('Where''s Waldo'!AD9=0,"",'Where''s Waldo'!AD9) | S9: =IF('Where''s Waldo'!AE9=0,"",'Where''s Waldo'!AE9) | T9: =IF('Where''s Waldo'!AF9=0,"",'Where''s Waldo'!AF9) | U9: =IF('Where''s Waldo'!AG9=0,"",'Where''s Waldo'!AG9) | V9: =IF('Where''s Waldo'!AH9=0,"",'Where''s Waldo'!AH9) | X9: ='Where''s Waldo'!F9 | Y9: ='Where''s Waldo'!G9 -> 9 | AA9: =IF('Where''s Waldo'!AK9=0,"",'Where''s Waldo'!AK9) -> 22 | AB9: =IF('Where''s Waldo'!AL9=0,"",'Where''s Waldo'!AL9) -> 30 | AC9: =IF('Where''s Waldo'!AM9=0,"",'Where''s Waldo'!AM9) | AD9: =IF('Where''s Waldo'!AN9=0,"",'Where''s Waldo'!AN9) | AE9: =IF('Where''s Waldo'!AO9=0,"",'Where''s Waldo'!AO9) | AF9: =IF('Where''s Waldo'!AP9=0,"",'Where''s Waldo'!AP9) | AG9: =IF('Where''s Waldo'!AQ9=0,"",'Where''s Waldo'!AQ9) | AH9: =IF('Where''s Waldo'!AR9=0,"",'Where''s Waldo'!AR9) | AI9: =IF('Where''s Waldo'!AU9=0,"",'Where''s Waldo'!AU9) -> 9 | AJ9: =IF('Where''s Waldo'!AV9=0,"",'Where''s Waldo'!AV9) -> 6 | AK9: =IF('Where''s Waldo'!AW9=0,"",'Where''s Waldo'!AW9) -> 15 | AL9: =IF('Where''s Waldo'!AX9=0,"",'Where''s Waldo'!AX9) | AM9: =IF('Where''s Waldo'!AY9=0,"",'Where''s Waldo'!AY9) | AN9: =IF('Where''s Waldo'!AZ9=0,"",'Where''s Waldo'!AZ9) | AO9: =IF('Where''s Waldo'!BA9=0,"",'Where''s Waldo'!BA9) | AP9: =IF('Where''s Waldo'!BB9=0,"",'Where''s Waldo'!BB9) | AR9: =IF('Where''s Waldo'!I9="","",'Where''s Waldo'!I9) -> 9 | AS9: =IF('Where''s Waldo'!J9="","",'Where''s Waldo'!J9) | AU9: =IF('Where''s Waldo'!BE9=0,"",'Where''s Waldo'!BE9) -> 9 | AV9: =IF('Where''s Waldo'!BF9=0,"",'Where''s Waldo'!BF9) -> 15 | AW9: =IF('Where''s Waldo'!BG9=0,"",'Where''s Waldo'!BG9) -> 23 | AX9: =IF('Where''s Waldo'!BH9=0,"",'Where''s Waldo'!BH9) | AY9: =IF('Where''s Waldo'!BI9=0,"",'Where''s Waldo'!BI9) | AZ9: =IF('Where''s Waldo'!BJ9=0,"",'Where''s Waldo'!BJ9) | BA9: =IF('Where''s Waldo'!BK9=0,"",'Where''s Waldo'!BK9) | BB9: =IF('Where''s Waldo'!BL9=0,"",'Where''s Waldo'!BL9) | BC9: =IF('Where''s Waldo'!BO9=0,"",'Where''s Waldo'!BO9) -> 22 | BD9: =IF('Where''s Waldo'!BP9=0,"",'Where''s Waldo'!BP9) -> 6 | BE9: =IF('Where''s Waldo'!BQ9=0,"",'Where''s Waldo'!BQ9) -> 30 | BF9: =IF('Where''s Waldo'!BR9=0,"",'Where''s Waldo'!BR9) | BG9: =IF('Where''s Waldo'!BS9=0,"",'Where''s Waldo'!BS9) | BH9: =IF('Where''s Waldo'!BT9=0,"",'Where''s Waldo'!BT9) | BI9: =IF('Where''s Waldo'!BU9=0,"",'Where''s Waldo'!BU9) | BJ9: =IF('Where''s Waldo'!BV9=0,"",'Where''s Waldo'!BV9)
A10: 7 | D10: ='Where''s Waldo'!C10 | E10: ='Where''s Waldo'!D10 | G10: =IF('Where''s Waldo'!Q10=0,"",'Where''s Waldo'!Q10) -> 9 | H10: =IF('Where''s Waldo'!R10=0,"",'Where''s Waldo'!R10) -> 30 | I10: =IF('Where''s Waldo'!S10=0,"",'Where''s Waldo'!S10) -> 23 | J10: =IF('Where''s Waldo'!T10=0,"",'Where''s Waldo'!T10) | K10: =IF('Where''s Waldo'!U10=0,"",'Where''s Waldo'!U10) | L10: =IF('Where''s Waldo'!V10=0,"",'Where''s Waldo'!V10) | M10: =IF('Where''s Waldo'!W10=0,"",'Where''s Waldo'!W10) | N10: =IF('Where''s Waldo'!X10=0,"",'Where''s Waldo'!X10) | O10: =IF('Where''s Waldo'!AA10=0,"",'Where''s Waldo'!AA10) -> 22 | P10: =IF('Where''s Waldo'!AB10=0,"",'Where''s Waldo'!AB10) -> 6 | Q10: =IF('Where''s Waldo'!AC10=0,"",'Where''s Waldo'!AC10) -> 15 | R10: =IF('Where''s Waldo'!AD10=0,"",'Where''s Waldo'!AD10) | S10: =IF('Where''s Waldo'!AE10=0,"",'Where''s Waldo'!AE10) | T10: =IF('Where''s Waldo'!AF10=0,"",'Where''s Waldo'!AF10) | U10: =IF('Where''s Waldo'!AG10=0,"",'Where''s Waldo'!AG10) | V10: =IF('Where''s Waldo'!AH10=0,"",'Where''s Waldo'!AH10) | X10: ='Where''s Waldo'!F10 | Y10: ='Where''s Waldo'!G10 | AA10: =IF('Where''s Waldo'!AK10=0,"",'Where''s Waldo'!AK10) -> 22 | AB10: =IF('Where''s Waldo'!AL10=0,"",'Where''s Waldo'!AL10) -> 30 | AC10: =IF('Where''s Waldo'!AM10=0,"",'Where''s Waldo'!AM10) | AD10: =IF('Where''s Waldo'!AN10=0,"",'Where''s Waldo'!AN10) | AE10: =IF('Where''s Waldo'!AO10=0,"",'Where''s Waldo'!AO10) | AF10: =IF('Where''s Waldo'!AP10=0,"",'Where''s Waldo'!AP10) | AG10: =IF('Where''s Waldo'!AQ10=0,"",'Where''s Waldo'!AQ10) | AH10: =IF('Where''s Waldo'!AR10=0,"",'Where''s Waldo'!AR10) | AI10: =IF('Where''s Waldo'!AU10=0,"",'Where''s Waldo'!AU10) -> 9 | AJ10: =IF('Where''s Waldo'!AV10=0,"",'Where''s Waldo'!AV10) -> 6 | AK10: =IF('Where''s Waldo'!AW10=0,"",'Where''s Waldo'!AW10) -> 15 | AL10: =IF('Where''s Waldo'!AX10=0,"",'Where''s Waldo'!AX10) | AM10: =IF('Where''s Waldo'!AY10=0,"",'Where''s Waldo'!AY10) | AN10: =IF('Where''s Waldo'!AZ10=0,"",'Where''s Waldo'!AZ10) | AO10: =IF('Where''s Waldo'!BA10=0,"",'Where''s Waldo'!BA10) | AP10: =IF('Where''s Waldo'!BB10=0,"",'Where''s Waldo'!BB10) | AR10: =IF('Where''s Waldo'!I10="","",'Where''s Waldo'!I10) | AS10: =IF('Where''s Waldo'!J10="","",'Where''s Waldo'!J10) | AU10: =IF('Where''s Waldo'!BE10=0,"",'Where''s Waldo'!BE10) -> 9 | AV10: =IF('Where''s Waldo'!BF10=0,"",'Where''s Waldo'!BF10) -> 15 | AW10: =IF('Where''s Waldo'!BG10=0,"",'Where''s Waldo'!BG10) -> 23 | AX10: =IF('Where''s Waldo'!BH10=0,"",'Where''s Waldo'!BH10) | AY10: =IF('Where''s Waldo'!BI10=0,"",'Where''s Waldo'!BI10) | AZ10: =IF('Where''s Waldo'!BJ10=0,"",'Where''s Waldo'!BJ10) | BA10: =IF('Where''s Waldo'!BK10=0,"",'Where''s Waldo'!BK10) | BB10: =IF('Where''s Waldo'!BL10=0,"",'Where''s Waldo'!BL10) | BC10: =IF('Where''s Waldo'!BO10=0,"",'Where''s Waldo'!BO10) -> 22 | BD10: =IF('Where''s Waldo'!BP10=0,"",'Where''s Waldo'!BP10) -> 6 | BE10: =IF('Where''s Waldo'!BQ10=0,"",'Where''s Waldo'!BQ10) -> 30 | BF10: =IF('Where''s Waldo'!BR10=0,"",'Where''s Waldo'!BR10) | BG10: =IF('Where''s Waldo'!BS10=0,"",'Where''s Waldo'!BS10) | BH10: =IF('Where''s Waldo'!BT10=0,"",'Where''s Waldo'!BT10) | BI10: =IF('Where''s Waldo'!BU10=0,"",'Where''s Waldo'!BU10) | BJ10: =IF('Where''s Waldo'!BV10=0,"",'Where''s Waldo'!BV10)
A11: 8 | D11: ='Where''s Waldo'!C11 | E11: ='Where''s Waldo'!D11 | G11: =IF('Where''s Waldo'!Q11=0,"",'Where''s Waldo'!Q11) -> 9 | H11: =IF('Where''s Waldo'!R11=0,"",'Where''s Waldo'!R11) -> 30 | I11: =IF('Where''s Waldo'!S11=0,"",'Where''s Waldo'!S11) -> 23 | J11: =IF('Where''s Waldo'!T11=0,"",'Where''s Waldo'!T11) | K11: =IF('Where''s Waldo'!U11=0,"",'Where''s Waldo'!U11) | L11: =IF('Where''s Waldo'!V11=0,"",'Where''s Waldo'!V11) | M11: =IF('Where''s Waldo'!W11=0,"",'Where''s Waldo'!W11) | N11: =IF('Where''s Waldo'!X11=0,"",'Where''s Waldo'!X11) | O11: =IF('Where''s Waldo'!AA11=0,"",'Where''s Waldo'!AA11) -> 22 | P11: =IF('Where''s Waldo'!AB11=0,"",'Where''s Waldo'!AB11) -> 6 | Q11: =IF('Where''s Waldo'!AC11=0,"",'Where''s Waldo'!AC11) -> 15 | R11: =IF('Where''s Waldo'!AD11=0,"",'Where''s Waldo'!AD11) | S11: =IF('Where''s Waldo'!AE11=0,"",'Where''s Waldo'!AE11) | T11: =IF('Where''s Waldo'!AF11=0,"",'Where''s Waldo'!AF11) | U11: =IF('Where''s Waldo'!AG11=0,"",'Where''s Waldo'!AG11) | V11: =IF('Where''s Waldo'!AH11=0,"",'Where''s Waldo'!AH11) | X11: ='Where''s Waldo'!F11 | Y11: ='Where''s Waldo'!G11 | AA11: =IF('Where''s Waldo'!AK11=0,"",'Where''s Waldo'!AK11) -> 22 | AB11: =IF('Where''s Waldo'!AL11=0,"",'Where''s Waldo'!AL11) -> 30 | AC11: =IF('Where''s Waldo'!AM11=0,"",'Where''s Waldo'!AM11) | AD11: =IF('Where''s Waldo'!AN11=0,"",'Where''s Waldo'!AN11) | AE11: =IF('Where''s Waldo'!AO11=0,"",'Where''s Waldo'!AO11) | AF11: =IF('Where''s Waldo'!AP11=0,"",'Where''s Waldo'!AP11) | AG11: =IF('Where''s Waldo'!AQ11=0,"",'Where''s Waldo'!AQ11) | AH11: =IF('Where''s Waldo'!AR11=0,"",'Where''s Waldo'!AR11) | AI11: =IF('Where''s Waldo'!AU11=0,"",'Where''s Waldo'!AU11) -> 9 | AJ11: =IF('Where''s Waldo'!AV11=0,"",'Where''s Waldo'!AV11) -> 6 | AK11: =IF('Where''s Waldo'!AW11=0,"",'Where''s Waldo'!AW11) -> 15 | AL11: =IF('Where''s Waldo'!AX11=0,"",'Where''s Waldo'!AX11) | AM11: =IF('Where''s Waldo'!AY11=0,"",'Where''s Waldo'!AY11) | AN11: =IF('Where''s Waldo'!AZ11=0,"",'Where''s Waldo'!AZ11) | AO11: =IF('Where''s Waldo'!BA11=0,"",'Where''s Waldo'!BA11) | AP11: =IF('Where''s Waldo'!BB11=0,"",'Where''s Waldo'!BB11) | AR11: =IF('Where''s Waldo'!I11="","",'Where''s Waldo'!I11) | AS11: =IF('Where''s Waldo'!J11="","",'Where''s Waldo'!J11) | AU11: =IF('Where''s Waldo'!BE11=0,"",'Where''s Waldo'!BE11) -> 9 | AV11: =IF('Where''s Waldo'!BF11=0,"",'Where''s Waldo'!BF11) -> 15 | AW11: =IF('Where''s Waldo'!BG11=0,"",'Where''s Waldo'!BG11) -> 23 | AX11: =IF('Where''s Waldo'!BH11=0,"",'Where''s Waldo'!BH11) | AY11: =IF('Where''s Waldo'!BI11=0,"",'Where''s Waldo'!BI11) | AZ11: =IF('Where''s Waldo'!BJ11=0,"",'Where''s Waldo'!BJ11) | BA11: =IF('Where''s Waldo'!BK11=0,"",'Where''s Waldo'!BK11) | BB11: =IF('Where''s Waldo'!BL11=0,"",'Where''s Waldo'!BL11) | BC11: =IF('Where''s Waldo'!BO11=0,"",'Where''s Waldo'!BO11) -> 22 | BD11: =IF('Where''s Waldo'!BP11=0,"",'Where''s Waldo'!BP11) -> 6 | BE11: =IF('Where''s Waldo'!BQ11=0,"",'Where''s Waldo'!BQ11) -> 30 | BF11: =IF('Where''s Waldo'!BR11=0,"",'Where''s Waldo'!BR11) | BG11: =IF('Where''s Waldo'!BS11=0,"",'Where''s Waldo'!BS11) | BH11: =IF('Where''s Waldo'!BT11=0,"",'Where''s Waldo'!BT11) | BI11: =IF('Where''s Waldo'!BU11=0,"",'Where''s Waldo'!BU11) | BJ11: =IF('Where''s Waldo'!BV11=0,"",'Where''s Waldo'!BV11)
A12: 9 | D12: ='Where''s Waldo'!C12 | E12: ='Where''s Waldo'!D12 | G12: =IF('Where''s Waldo'!Q12=0,"",'Where''s Waldo'!Q12) -> 9 | H12: =IF('Where''s Waldo'!R12=0,"",'Where''s Waldo'!R12) -> 30 | I12: =IF('Where''s Waldo'!S12=0,"",'Where''s Waldo'!S12) -> 23 | J12: =IF('Where''s Waldo'!T12=0,"",'Where''s Waldo'!T12) | K12: =IF('Where''s Waldo'!U12=0,"",'Where''s Waldo'!U12) | L12: =IF('Where''s Waldo'!V12=0,"",'Where''s Waldo'!V12) | M12: =IF('Where''s Waldo'!W12=0,"",'Where''s Waldo'!W12) | N12: =IF('Where''s Waldo'!X12=0,"",'Where''s Waldo'!X12) | O12: =IF('Where''s Waldo'!AA12=0,"",'Where''s Waldo'!AA12) -> 22 | P12: =IF('Where''s Waldo'!AB12=0,"",'Where''s Waldo'!AB12) -> 6 | Q12: =IF('Where''s Waldo'!AC12=0,"",'Where''s Waldo'!AC12) -> 15 | R12: =IF('Where''s Waldo'!AD12=0,"",'Where''s Waldo'!AD12) | S12: =IF('Where''s Waldo'!AE12=0,"",'Where''s Waldo'!AE12) | T12: =IF('Where''s Waldo'!AF12=0,"",'Where''s Waldo'!AF12) | U12: =IF('Where''s Waldo'!AG12=0,"",'Where''s Waldo'!AG12) | V12: =IF('Where''s Waldo'!AH12=0,"",'Where''s Waldo'!AH12) | X12: ='Where''s Waldo'!F12 | Y12: ='Where''s Waldo'!G12 | AA12: =IF('Where''s Waldo'!AK12=0,"",'Where''s Waldo'!AK12) -> 22 | AB12: =IF('Where''s Waldo'!AL12=0,"",'Where''s Waldo'!AL12) -> 30 | AC12: =IF('Where''s Waldo'!AM12=0,"",'Where''s Waldo'!AM12) | AD12: =IF('Where''s Waldo'!AN12=0,"",'Where''s Waldo'!AN12) | AE12: =IF('Where''s Waldo'!AO12=0,"",'Where''s Waldo'!AO12) | AF12: =IF('Where''s Waldo'!AP12=0,"",'Where''s Waldo'!AP12) | AG12: =IF('Where''s Waldo'!AQ12=0,"",'Where''s Waldo'!AQ12) | AH12: =IF('Where''s Waldo'!AR12=0,"",'Where''s Waldo'!AR12) | AI12: =IF('Where''s Waldo'!AU12=0,"",'Where''s Waldo'!AU12) -> 9 | AJ12: =IF('Where''s Waldo'!AV12=0,"",'Where''s Waldo'!AV12) -> 6 | AK12: =IF('Where''s Waldo'!AW12=0,"",'Where''s Waldo'!AW12) -> 15 | AL12: =IF('Where''s Waldo'!AX12=0,"",'Where''s Waldo'!AX12) | AM12: =IF('Where''s Waldo'!AY12=0,"",'Where''s Waldo'!AY12) | AN12: =IF('Where''s Waldo'!AZ12=0,"",'Where''s Waldo'!AZ12) | AO12: =IF('Where''s Waldo'!BA12=0,"",'Where''s Waldo'!BA12) | AP12: =IF('Where''s Waldo'!BB12=0,"",'Where''s Waldo'!BB12) | AR12: =IF('Where''s Waldo'!I12="","",'Where''s Waldo'!I12) | AS12: =IF('Where''s Waldo'!J12="","",'Where''s Waldo'!J12) | AU12: =IF('Where''s Waldo'!BE12=0,"",'Where''s Waldo'!BE12) -> 9 | AV12: =IF('Where''s Waldo'!BF12=0,"",'Where''s Waldo'!BF12) -> 15 | AW12: =IF('Where''s Waldo'!BG12=0,"",'Where''s Waldo'!BG12) -> 23 | AX12: =IF('Where''s Waldo'!BH12=0,"",'Where''s Waldo'!BH12) | AY12: =IF('Where''s Waldo'!BI12=0,"",'Where''s Waldo'!BI12) | AZ12: =IF('Where''s Waldo'!BJ12=0,"",'Where''s Waldo'!BJ12) | BA12: =IF('Where''s Waldo'!BK12=0,"",'Where''s Waldo'!BK12) | BB12: =IF('Where''s Waldo'!BL12=0,"",'Where''s Waldo'!BL12) | BC12: =IF('Where''s Waldo'!BO12=0,"",'Where''s Waldo'!BO12) -> 22 | BD12: =IF('Where''s Waldo'!BP12=0,"",'Where''s Waldo'!BP12) -> 6 | BE12: =IF('Where''s Waldo'!BQ12=0,"",'Where''s Waldo'!BQ12) -> 30 | BF12: =IF('Where''s Waldo'!BR12=0,"",'Where''s Waldo'!BR12) | BG12: =IF('Where''s Waldo'!BS12=0,"",'Where''s Waldo'!BS12) | BH12: =IF('Where''s Waldo'!BT12=0,"",'Where''s Waldo'!BT12) | BI12: =IF('Where''s Waldo'!BU12=0,"",'Where''s Waldo'!BU12) | BJ12: =IF('Where''s Waldo'!BV12=0,"",'Where''s Waldo'!BV12)
A13: 10 | D13: ='Where''s Waldo'!C13 | E13: ='Where''s Waldo'!D13 | G13: =IF('Where''s Waldo'!Q13=0,"",'Where''s Waldo'!Q13) -> 9 | H13: =IF('Where''s Waldo'!R13=0,"",'Where''s Waldo'!R13) -> 30 | I13: =IF('Where''s Waldo'!S13=0,"",'Where''s Waldo'!S13) -> 23 | J13: =IF('Where''s Waldo'!T13=0,"",'Where''s Waldo'!T13) | K13: =IF('Where''s Waldo'!U13=0,"",'Where''s Waldo'!U13) | L13: =IF('Where''s Waldo'!V13=0,"",'Where''s Waldo'!V13) | M13: =IF('Where''s Waldo'!W13=0,"",'Where''s Waldo'!W13) | N13: =IF('Where''s Waldo'!X13=0,"",'Where''s Waldo'!X13) | O13: =IF('Where''s Waldo'!AA13=0,"",'Where''s Waldo'!AA13) -> 22 | P13: =IF('Where''s Waldo'!AB13=0,"",'Where''s Waldo'!AB13) -> 6 | Q13: =IF('Where''s Waldo'!AC13=0,"",'Where''s Waldo'!AC13) -> 15 | R13: =IF('Where''s Waldo'!AD13=0,"",'Where''s Waldo'!AD13) | S13: =IF('Where''s Waldo'!AE13=0,"",'Where''s Waldo'!AE13) | T13: =IF('Where''s Waldo'!AF13=0,"",'Where''s Waldo'!AF13) | U13: =IF('Where''s Waldo'!AG13=0,"",'Where''s Waldo'!AG13) | V13: =IF('Where''s Waldo'!AH13=0,"",'Where''s Waldo'!AH13) | X13: ='Where''s Waldo'!F13 | Y13: ='Where''s Waldo'!G13 | AA13: =IF('Where''s Waldo'!AK13=0,"",'Where''s Waldo'!AK13) -> 22 | AB13: =IF('Where''s Waldo'!AL13=0,"",'Where''s Waldo'!AL13) -> 30 | AC13: =IF('Where''s Waldo'!AM13=0,"",'Where''s Waldo'!AM13) | AD13: =IF('Where''s Waldo'!AN13=0,"",'Where''s Waldo'!AN13) | AE13: =IF('Where''s Waldo'!AO13=0,"",'Where''s Waldo'!AO13) | AF13: =IF('Where''s Waldo'!AP13=0,"",'Where''s Waldo'!AP13) | AG13: =IF('Where''s Waldo'!AQ13=0,"",'Where''s Waldo'!AQ13) | AH13: =IF('Where''s Waldo'!AR13=0,"",'Where''s Waldo'!AR13) | AI13: =IF('Where''s Waldo'!AU13=0,"",'Where''s Waldo'!AU13) -> 9 | AJ13: =IF('Where''s Waldo'!AV13=0,"",'Where''s Waldo'!AV13) -> 6 | AK13: =IF('Where''s Waldo'!AW13=0,"",'Where''s Waldo'!AW13) -> 15 | AL13: =IF('Where''s Waldo'!AX13=0,"",'Where''s Waldo'!AX13) | AM13: =IF('Where''s Waldo'!AY13=0,"",'Where''s Waldo'!AY13) | AN13: =IF('Where''s Waldo'!AZ13=0,"",'Where''s Waldo'!AZ13) | AO13: =IF('Where''s Waldo'!BA13=0,"",'Where''s Waldo'!BA13) | AP13: =IF('Where''s Waldo'!BB13=0,"",'Where''s Waldo'!BB13) | AR13: =IF('Where''s Waldo'!I13="","",'Where''s Waldo'!I13) | AS13: =IF('Where''s Waldo'!J13="","",'Where''s Waldo'!J13) | AU13: =IF('Where''s Waldo'!BE13=0,"",'Where''s Waldo'!BE13) -> 9 | AV13: =IF('Where''s Waldo'!BF13=0,"",'Where''s Waldo'!BF13) -> 15 | AW13: =IF('Where''s Waldo'!BG13=0,"",'Where''s Waldo'!BG13) -> 23 | AX13: =IF('Where''s Waldo'!BH13=0,"",'Where''s Waldo'!BH13) | AY13: =IF('Where''s Waldo'!BI13=0,"",'Where''s Waldo'!BI13) | AZ13: =IF('Where''s Waldo'!BJ13=0,"",'Where''s Waldo'!BJ13) | BA13: =IF('Where''s Waldo'!BK13=0,"",'Where''s Waldo'!BK13) | BB13: =IF('Where''s Waldo'!BL13=0,"",'Where''s Waldo'!BL13) | BC13: =IF('Where''s Waldo'!BO13=0,"",'Where''s Waldo'!BO13) -> 22 | BD13: =IF('Where''s Waldo'!BP13=0,"",'Where''s Waldo'!BP13) -> 6 | BE13: =IF('Where''s Waldo'!BQ13=0,"",'Where''s Waldo'!BQ13) -> 30 | BF13: =IF('Where''s Waldo'!BR13=0,"",'Where''s Waldo'!BR13) | BG13: =IF('Where''s Waldo'!BS13=0,"",'Where''s Waldo'!BS13) | BH13: =IF('Where''s Waldo'!BT13=0,"",'Where''s Waldo'!BT13) | BI13: =IF('Where''s Waldo'!BU13=0,"",'Where''s Waldo'!BU13) | BJ13: =IF('Where''s Waldo'!BV13=0,"",'Where''s Waldo'!BV13)
A14: 11 | D14: ='Where''s Waldo'!C14 | E14: ='Where''s Waldo'!D14 | G14: =IF('Where''s Waldo'!Q14=0,"",'Where''s Waldo'!Q14) -> 9 | H14: =IF('Where''s Waldo'!R14=0,"",'Where''s Waldo'!R14) -> 30 | I14: =IF('Where''s Waldo'!S14=0,"",'Where''s Waldo'!S14) -> 23 | J14: =IF('Where''s Waldo'!T14=0,"",'Where''s Waldo'!T14) | K14: =IF('Where''s Waldo'!U14=0,"",'Where''s Waldo'!U14) | L14: =IF('Where''s Waldo'!V14=0,"",'Where''s Waldo'!V14) | M14: =IF('Where''s Waldo'!W14=0,"",'Where''s Waldo'!W14) | N14: =IF('Where''s Waldo'!X14=0,"",'Where''s Waldo'!X14) | O14: =IF('Where''s Waldo'!AA14=0,"",'Where''s Waldo'!AA14) -> 22 | P14: =IF('Where''s Waldo'!AB14=0,"",'Where''s Waldo'!AB14) -> 6 | Q14: =IF('Where''s Waldo'!AC14=0,"",'Where''s Waldo'!AC14) -> 15 | R14: =IF('Where''s Waldo'!AD14=0,"",'Where''s Waldo'!AD14) | S14: =IF('Where''s Waldo'!AE14=0,"",'Where''s Waldo'!AE14) | T14: =IF('Where''s Waldo'!AF14=0,"",'Where''s Waldo'!AF14) | U14: =IF('Where''s Waldo'!AG14=0,"",'Where''s Waldo'!AG14) | V14: =IF('Where''s Waldo'!AH14=0,"",'Where''s Waldo'!AH14) | X14: ='Where''s Waldo'!F14 | Y14: ='Where''s Waldo'!G14 | AA14: =IF('Where''s Waldo'!AK14=0,"",'Where''s Waldo'!AK14) -> 22 | AB14: =IF('Where''s Waldo'!AL14=0,"",'Where''s Waldo'!AL14) -> 30 | AC14: =IF('Where''s Waldo'!AM14=0,"",'Where''s Waldo'!AM14) | AD14: =IF('Where''s Waldo'!AN14=0,"",'Where''s Waldo'!AN14) | AE14: =IF('Where''s Waldo'!AO14=0,"",'Where''s Waldo'!AO14) | AF14: =IF('Where''s Waldo'!AP14=0,"",'Where''s Waldo'!AP14) | AG14: =IF('Where''s Waldo'!AQ14=0,"",'Where''s Waldo'!AQ14) | AH14: =IF('Where''s Waldo'!AR14=0,"",'Where''s Waldo'!AR14) | AI14: =IF('Where''s Waldo'!AU14=0,"",'Where''s Waldo'!AU14) -> 9 | AJ14: =IF('Where''s Waldo'!AV14=0,"",'Where''s Waldo'!AV14) -> 6 | AK14: =IF('Where''s Waldo'!AW14=0,"",'Where''s Waldo'!AW14) -> 15 | AL14: =IF('Where''s Waldo'!AX14=0,"",'Where''s Waldo'!AX14) | AM14: =IF('Where''s Waldo'!AY14=0,"",'Where''s Waldo'!AY14) | AN14: =IF('Where''s Waldo'!AZ14=0,"",'Where''s Waldo'!AZ14) | AO14: =IF('Where''s Waldo'!BA14=0,"",'Where''s Waldo'!BA14) | AP14: =IF('Where''s Waldo'!BB14=0,"",'Where''s Waldo'!BB14) | AR14: =IF('Where''s Waldo'!I14="","",'Where''s Waldo'!I14) | AS14: =IF('Where''s Waldo'!J14="","",'Where''s Waldo'!J14) | AU14: =IF('Where''s Waldo'!BE14=0,"",'Where''s Waldo'!BE14) -> 9 | AV14: =IF('Where''s Waldo'!BF14=0,"",'Where''s Waldo'!BF14) -> 15 | AW14: =IF('Where''s Waldo'!BG14=0,"",'Where''s Waldo'!BG14) -> 23 | AX14: =IF('Where''s Waldo'!BH14=0,"",'Where''s Waldo'!BH14) | AY14: =IF('Where''s Waldo'!BI14=0,"",'Where''s Waldo'!BI14) | AZ14: =IF('Where''s Waldo'!BJ14=0,"",'Where''s Waldo'!BJ14) | BA14: =IF('Where''s Waldo'!BK14=0,"",'Where''s Waldo'!BK14) | BB14: =IF('Where''s Waldo'!BL14=0,"",'Where''s Waldo'!BL14) | BC14: =IF('Where''s Waldo'!BO14=0,"",'Where''s Waldo'!BO14) -> 22 | BD14: =IF('Where''s Waldo'!BP14=0,"",'Where''s Waldo'!BP14) -> 6 | BE14: =IF('Where''s Waldo'!BQ14=0,"",'Where''s Waldo'!BQ14) -> 30 | BF14: =IF('Where''s Waldo'!BR14=0,"",'Where''s Waldo'!BR14) | BG14: =IF('Where''s Waldo'!BS14=0,"",'Where''s Waldo'!BS14) | BH14: =IF('Where''s Waldo'!BT14=0,"",'Where''s Waldo'!BT14) | BI14: =IF('Where''s Waldo'!BU14=0,"",'Where''s Waldo'!BU14) | BJ14: =IF('Where''s Waldo'!BV14=0,"",'Where''s Waldo'!BV14)
A15: 12 | D15: ='Where''s Waldo'!C15 | E15: ='Where''s Waldo'!D15 | G15: =IF('Where''s Waldo'!Q15=0,"",'Where''s Waldo'!Q15) -> 9 | H15: =IF('Where''s Waldo'!R15=0,"",'Where''s Waldo'!R15) -> 30 | I15: =IF('Where''s Waldo'!S15=0,"",'Where''s Waldo'!S15) -> 23 | J15: =IF('Where''s Waldo'!T15=0,"",'Where''s Waldo'!T15) | K15: =IF('Where''s Waldo'!U15=0,"",'Where''s Waldo'!U15) | L15: =IF('Where''s Waldo'!V15=0,"",'Where''s Waldo'!V15) | M15: =IF('Where''s Waldo'!W15=0,"",'Where''s Waldo'!W15) | N15: =IF('Where''s Waldo'!X15=0,"",'Where''s Waldo'!X15) | O15: =IF('Where''s Waldo'!AA15=0,"",'Where''s Waldo'!AA15) -> 22 | P15: =IF('Where''s Waldo'!AB15=0,"",'Where''s Waldo'!AB15) -> 6 | Q15: =IF('Where''s Waldo'!AC15=0,"",'Where''s Waldo'!AC15) -> 15 | R15: =IF('Where''s Waldo'!AD15=0,"",'Where''s Waldo'!AD15) | S15: =IF('Where''s Waldo'!AE15=0,"",'Where''s Waldo'!AE15) | T15: =IF('Where''s Waldo'!AF15=0,"",'Where''s Waldo'!AF15) | U15: =IF('Where''s Waldo'!AG15=0,"",'Where''s Waldo'!AG15) | V15: =IF('Where''s Waldo'!AH15=0,"",'Where''s Waldo'!AH15) | X15: ='Where''s Waldo'!F15 | Y15: ='Where''s Waldo'!G15 | AA15: =IF('Where''s Waldo'!AK15=0,"",'Where''s Waldo'!AK15) -> 22 | AB15: =IF('Where''s Waldo'!AL15=0,"",'Where''s Waldo'!AL15) -> 30 | AC15: =IF('Where''s Waldo'!AM15=0,"",'Where''s Waldo'!AM15) | AD15: =IF('Where''s Waldo'!AN15=0,"",'Where''s Waldo'!AN15) | AE15: =IF('Where''s Waldo'!AO15=0,"",'Where''s Waldo'!AO15) | AF15: =IF('Where''s Waldo'!AP15=0,"",'Where''s Waldo'!AP15) | AG15: =IF('Where''s Waldo'!AQ15=0,"",'Where''s Waldo'!AQ15) | AH15: =IF('Where''s Waldo'!AR15=0,"",'Where''s Waldo'!AR15) | AI15: =IF('Where''s Waldo'!AU15=0,"",'Where''s Waldo'!AU15) -> 9 | AJ15: =IF('Where''s Waldo'!AV15=0,"",'Where''s Waldo'!AV15) -> 6 | AK15: =IF('Where''s Waldo'!AW15=0,"",'Where''s Waldo'!AW15) -> 15 | AL15: =IF('Where''s Waldo'!AX15=0,"",'Where''s Waldo'!AX15) | AM15: =IF('Where''s Waldo'!AY15=0,"",'Where''s Waldo'!AY15) | AN15: =IF('Where''s Waldo'!AZ15=0,"",'Where''s Waldo'!AZ15) | AO15: =IF('Where''s Waldo'!BA15=0,"",'Where''s Waldo'!BA15) | AP15: =IF('Where''s Waldo'!BB15=0,"",'Where''s Waldo'!BB15) | AR15: =IF('Where''s Waldo'!I15="","",'Where''s Waldo'!I15) | AS15: =IF('Where''s Waldo'!J15="","",'Where''s Waldo'!J15) | AU15: =IF('Where''s Waldo'!BE15=0,"",'Where''s Waldo'!BE15) -> 9 | AV15: =IF('Where''s Waldo'!BF15=0,"",'Where''s Waldo'!BF15) -> 15 | AW15: =IF('Where''s Waldo'!BG15=0,"",'Where''s Waldo'!BG15) -> 23 | AX15: =IF('Where''s Waldo'!BH15=0,"",'Where''s Waldo'!BH15) | AY15: =IF('Where''s Waldo'!BI15=0,"",'Where''s Waldo'!BI15) | AZ15: =IF('Where''s Waldo'!BJ15=0,"",'Where''s Waldo'!BJ15) | BA15: =IF('Where''s Waldo'!BK15=0,"",'Where''s Waldo'!BK15) | BB15: =IF('Where''s Waldo'!BL15=0,"",'Where''s Waldo'!BL15) | BC15: =IF('Where''s Waldo'!BO15=0,"",'Where''s Waldo'!BO15) -> 22 | BD15: =IF('Where''s Waldo'!BP15=0,"",'Where''s Waldo'!BP15) -> 6 | BE15: =IF('Where''s Waldo'!BQ15=0,"",'Where''s Waldo'!BQ15) -> 30 | BF15: =IF('Where''s Waldo'!BR15=0,"",'Where''s Waldo'!BR15) | BG15: =IF('Where''s Waldo'!BS15=0,"",'Where''s Waldo'!BS15) | BH15: =IF('Where''s Waldo'!BT15=0,"",'Where''s Waldo'!BT15) | BI15: =IF('Where''s Waldo'!BU15=0,"",'Where''s Waldo'!BU15) | BJ15: =IF('Where''s Waldo'!BV15=0,"",'Where''s Waldo'!BV15)
A16: 13 | D16: ='Where''s Waldo'!C16 | E16: ='Where''s Waldo'!D16 | G16: =IF('Where''s Waldo'!Q16=0,"",'Where''s Waldo'!Q16) -> 9 | H16: =IF('Where''s Waldo'!R16=0,"",'Where''s Waldo'!R16) -> 30 | I16: =IF('Where''s Waldo'!S16=0,"",'Where''s Waldo'!S16) -> 23 | J16: =IF('Where''s Waldo'!T16=0,"",'Where''s Waldo'!T16) | K16: =IF('Where''s Waldo'!U16=0,"",'Where''s Waldo'!U16) | L16: =IF('Where''s Waldo'!V16=0,"",'Where''s Waldo'!V16) | M16: =IF('Where''s Waldo'!W16=0,"",'Where''s Waldo'!W16) | N16: =IF('Where''s Waldo'!X16=0,"",'Where''s Waldo'!X16) | O16: =IF('Where''s Waldo'!AA16=0,"",'Where''s Waldo'!AA16) -> 22 | P16: =IF('Where''s Waldo'!AB16=0,"",'Where''s Waldo'!AB16) -> 6 | Q16: =IF('Where''s Waldo'!AC16=0,"",'Where''s Waldo'!AC16) -> 15 | R16: =IF('Where''s Waldo'!AD16=0,"",'Where''s Waldo'!AD16) | S16: =IF('Where''s Waldo'!AE16=0,"",'Where''s Waldo'!AE16) | T16: =IF('Where''s Waldo'!AF16=0,"",'Where''s Waldo'!AF16) | U16: =IF('Where''s Waldo'!AG16=0,"",'Where''s Waldo'!AG16) | V16: =IF('Where''s Waldo'!AH16=0,"",'Where''s Waldo'!AH16) | X16: ='Where''s Waldo'!F16 | Y16: ='Where''s Waldo'!G16 | AA16: =IF('Where''s Waldo'!AK16=0,"",'Where''s Waldo'!AK16) -> 22 | AB16: =IF('Where''s Waldo'!AL16=0,"",'Where''s Waldo'!AL16) -> 30 | AC16: =IF('Where''s Waldo'!AM16=0,"",'Where''s Waldo'!AM16) | AD16: =IF('Where''s Waldo'!AN16=0,"",'Where''s Waldo'!AN16) | AE16: =IF('Where''s Waldo'!AO16=0,"",'Where''s Waldo'!AO16) | AF16: =IF('Where''s Waldo'!AP16=0,"",'Where''s Waldo'!AP16) | AG16: =IF('Where''s Waldo'!AQ16=0,"",'Where''s Waldo'!AQ16) | AH16: =IF('Where''s Waldo'!AR16=0,"",'Where''s Waldo'!AR16) | AI16: =IF('Where''s Waldo'!AU16=0,"",'Where''s Waldo'!AU16) -> 9 | AJ16: =IF('Where''s Waldo'!AV16=0,"",'Where''s Waldo'!AV16) -> 6 | AK16: =IF('Where''s Waldo'!AW16=0,"",'Where''s Waldo'!AW16) -> 15 | AL16: =IF('Where''s Waldo'!AX16=0,"",'Where''s Waldo'!AX16) | AM16: =IF('Where''s Waldo'!AY16=0,"",'Where''s Waldo'!AY16) | AN16: =IF('Where''s Waldo'!AZ16=0,"",'Where''s Waldo'!AZ16) | AO16: =IF('Where''s Waldo'!BA16=0,"",'Where''s Waldo'!BA16) | AP16: =IF('Where''s Waldo'!BB16=0,"",'Where''s Waldo'!BB16) | AR16: =IF('Where''s Waldo'!I16="","",'Where''s Waldo'!I16) | AS16: =IF('Where''s Waldo'!J16="","",'Where''s Waldo'!J16) | AU16: =IF('Where''s Waldo'!BE16=0,"",'Where''s Waldo'!BE16) -> 9 | AV16: =IF('Where''s Waldo'!BF16=0,"",'Where''s Waldo'!BF16) -> 15 | AW16: =IF('Where''s Waldo'!BG16=0,"",'Where''s Waldo'!BG16) -> 23 | AX16: =IF('Where''s Waldo'!BH16=0,"",'Where''s Waldo'!BH16) | AY16: =IF('Where''s Waldo'!BI16=0,"",'Where''s Waldo'!BI16) | AZ16: =IF('Where''s Waldo'!BJ16=0,"",'Where''s Waldo'!BJ16) | BA16: =IF('Where''s Waldo'!BK16=0,"",'Where''s Waldo'!BK16) | BB16: =IF('Where''s Waldo'!BL16=0,"",'Where''s Waldo'!BL16) | BC16: =IF('Where''s Waldo'!BO16=0,"",'Where''s Waldo'!BO16) -> 22 | BD16: =IF('Where''s Waldo'!BP16=0,"",'Where''s Waldo'!BP16) -> 6 | BE16: =IF('Where''s Waldo'!BQ16=0,"",'Where''s Waldo'!BQ16) -> 30 | BF16: =IF('Where''s Waldo'!BR16=0,"",'Where''s Waldo'!BR16) | BG16: =IF('Where''s Waldo'!BS16=0,"",'Where''s Waldo'!BS16) | BH16: =IF('Where''s Waldo'!BT16=0,"",'Where''s Waldo'!BT16) | BI16: =IF('Where''s Waldo'!BU16=0,"",'Where''s Waldo'!BU16) | BJ16: =IF('Where''s Waldo'!BV16=0,"",'Where''s Waldo'!BV16)
A17: 14 | D17: ='Where''s Waldo'!C17 | E17: ='Where''s Waldo'!D17 | G17: =IF('Where''s Waldo'!Q17=0,"",'Where''s Waldo'!Q17) -> 9 | H17: =IF('Where''s Waldo'!R17=0,"",'Where''s Waldo'!R17) -> 30 | I17: =IF('Where''s Waldo'!S17=0,"",'Where''s Waldo'!S17) -> 23 | J17: =IF('Where''s Waldo'!T17=0,"",'Where''s Waldo'!T17) | K17: =IF('Where''s Waldo'!U17=0,"",'Where''s Waldo'!U17) | L17: =IF('Where''s Waldo'!V17=0,"",'Where''s Waldo'!V17) | M17: =IF('Where''s Waldo'!W17=0,"",'Where''s Waldo'!W17) | N17: =IF('Where''s Waldo'!X17=0,"",'Where''s Waldo'!X17) | O17: =IF('Where''s Waldo'!AA17=0,"",'Where''s Waldo'!AA17) -> 22 | P17: =IF('Where''s Waldo'!AB17=0,"",'Where''s Waldo'!AB17) -> 6 | Q17: =IF('Where''s Waldo'!AC17=0,"",'Where''s Waldo'!AC17) -> 15 | R17: =IF('Where''s Waldo'!AD17=0,"",'Where''s Waldo'!AD17) | S17: =IF('Where''s Waldo'!AE17=0,"",'Where''s Waldo'!AE17) | T17: =IF('Where''s Waldo'!AF17=0,"",'Where''s Waldo'!AF17) | U17: =IF('Where''s Waldo'!AG17=0,"",'Where''s Waldo'!AG17) | V17: =IF('Where''s Waldo'!AH17=0,"",'Where''s Waldo'!AH17) | X17: ='Where''s Waldo'!F17 | Y17: ='Where''s Waldo'!G17 | AA17: =IF('Where''s Waldo'!AK17=0,"",'Where''s Waldo'!AK17) -> 22 | AB17: =IF('Where''s Waldo'!AL17=0,"",'Where''s Waldo'!AL17) -> 30 | AC17: =IF('Where''s Waldo'!AM17=0,"",'Where''s Waldo'!AM17) | AD17: =IF('Where''s Waldo'!AN17=0,"",'Where''s Waldo'!AN17) | AE17: =IF('Where''s Waldo'!AO17=0,"",'Where''s Waldo'!AO17) | AF17: =IF('Where''s Waldo'!AP17=0,"",'Where''s Waldo'!AP17) | AG17: =IF('Where''s Waldo'!AQ17=0,"",'Where''s Waldo'!AQ17) | AH17: =IF('Where''s Waldo'!AR17=0,"",'Where''s Waldo'!AR17) | AI17: =IF('Where''s Waldo'!AU17=0,"",'Where''s Waldo'!AU17) -> 9 | AJ17: =IF('Where''s Waldo'!AV17=0,"",'Where''s Waldo'!AV17) -> 6 | AK17: =IF('Where''s Waldo'!AW17=0,"",'Where''s Waldo'!AW17) -> 15 | AL17: =IF('Where''s Waldo'!AX17=0,"",'Where''s Waldo'!AX17) | AM17: =IF('Where''s Waldo'!AY17=0,"",'Where''s Waldo'!AY17) | AN17: =IF('Where''s Waldo'!AZ17=0,"",'Where''s Waldo'!AZ17) | AO17: =IF('Where''s Waldo'!BA17=0,"",'Where''s Waldo'!BA17) | AP17: =IF('Where''s Waldo'!BB17=0,"",'Where''s Waldo'!BB17) | AR17: =IF('Where''s Waldo'!I17="","",'Where''s Waldo'!I17) | AS17: =IF('Where''s Waldo'!J17="","",'Where''s Waldo'!J17) | AU17: =IF('Where''s Waldo'!BE17=0,"",'Where''s Waldo'!BE17) -> 9 | AV17: =IF('Where''s Waldo'!BF17=0,"",'Where''s Waldo'!BF17) -> 15 | AW17: =IF('Where''s Waldo'!BG17=0,"",'Where''s Waldo'!BG17) -> 23 | AX17: =IF('Where''s Waldo'!BH17=0,"",'Where''s Waldo'!BH17) | AY17: =IF('Where''s Waldo'!BI17=0,"",'Where''s Waldo'!BI17) | AZ17: =IF('Where''s Waldo'!BJ17=0,"",'Where''s Waldo'!BJ17) | BA17: =IF('Where''s Waldo'!BK17=0,"",'Where''s Waldo'!BK17) | BB17: =IF('Where''s Waldo'!BL17=0,"",'Where''s Waldo'!BL17) | BC17: =IF('Where''s Waldo'!BO17=0,"",'Where''s Waldo'!BO17) -> 22 | BD17: =IF('Where''s Waldo'!BP17=0,"",'Where''s Waldo'!BP17) -> 6 | BE17: =IF('Where''s Waldo'!BQ17=0,"",'Where''s Waldo'!BQ17) -> 30 | BF17: =IF('Where''s Waldo'!BR17=0,"",'Where''s Waldo'!BR17) | BG17: =IF('Where''s Waldo'!BS17=0,"",'Where''s Waldo'!BS17) | BH17: =IF('Where''s Waldo'!BT17=0,"",'Where''s Waldo'!BT17) | BI17: =IF('Where''s Waldo'!BU17=0,"",'Where''s Waldo'!BU17) | BJ17: =IF('Where''s Waldo'!BV17=0,"",'Where''s Waldo'!BV17)
A18: 15 | D18: ='Where''s Waldo'!C18 | E18: ='Where''s Waldo'!D18 | G18: =IF('Where''s Waldo'!Q18=0,"",'Where''s Waldo'!Q18) -> 9 | H18: =IF('Where''s Waldo'!R18=0,"",'Where''s Waldo'!R18) -> 30 | I18: =IF('Where''s Waldo'!S18=0,"",'Where''s Waldo'!S18) -> 23 | J18: =IF('Where''s Waldo'!T18=0,"",'Where''s Waldo'!T18) | K18: =IF('Where''s Waldo'!U18=0,"",'Where''s Waldo'!U18) | L18: =IF('Where''s Waldo'!V18=0,"",'Where''s Waldo'!V18) | M18: =IF('Where''s Waldo'!W18=0,"",'Where''s Waldo'!W18) | N18: =IF('Where''s Waldo'!X18=0,"",'Where''s Waldo'!X18) | O18: =IF('Where''s Waldo'!AA18=0,"",'Where''s Waldo'!AA18) -> 22 | P18: =IF('Where''s Waldo'!AB18=0,"",'Where''s Waldo'!AB18) -> 6 | Q18: =IF('Where''s Waldo'!AC18=0,"",'Where''s Waldo'!AC18) -> 15 | R18: =IF('Where''s Waldo'!AD18=0,"",'Where''s Waldo'!AD18) | S18: =IF('Where''s Waldo'!AE18=0,"",'Where''s Waldo'!AE18) | T18: =IF('Where''s Waldo'!AF18=0,"",'Where''s Waldo'!AF18) | U18: =IF('Where''s Waldo'!AG18=0,"",'Where''s Waldo'!AG18) | V18: =IF('Where''s Waldo'!AH18=0,"",'Where''s Waldo'!AH18) | X18: ='Where''s Waldo'!F18 | Y18: ='Where''s Waldo'!G18 | AA18: =IF('Where''s Waldo'!AK18=0,"",'Where''s Waldo'!AK18) -> 22 | AB18: =IF('Where''s Waldo'!AL18=0,"",'Where''s Waldo'!AL18) -> 30 | AC18: =IF('Where''s Waldo'!AM18=0,"",'Where''s Waldo'!AM18) | AD18: =IF('Where''s Waldo'!AN18=0,"",'Where''s Waldo'!AN18) | AE18: =IF('Where''s Waldo'!AO18=0,"",'Where''s Waldo'!AO18) | AF18: =IF('Where''s Waldo'!AP18=0,"",'Where''s Waldo'!AP18) | AG18: =IF('Where''s Waldo'!AQ18=0,"",'Where''s Waldo'!AQ18) | AH18: =IF('Where''s Waldo'!AR18=0,"",'Where''s Waldo'!AR18) | AI18: =IF('Where''s Waldo'!AU18=0,"",'Where''s Waldo'!AU18) -> 9 | AJ18: =IF('Where''s Waldo'!AV18=0,"",'Where''s Waldo'!AV18) -> 6 | AK18: =IF('Where''s Waldo'!AW18=0,"",'Where''s Waldo'!AW18) -> 15 | AL18: =IF('Where''s Waldo'!AX18=0,"",'Where''s Waldo'!AX18) | AM18: =IF('Where''s Waldo'!AY18=0,"",'Where''s Waldo'!AY18) | AN18: =IF('Where''s Waldo'!AZ18=0,"",'Where''s Waldo'!AZ18) | AO18: =IF('Where''s Waldo'!BA18=0,"",'Where''s Waldo'!BA18) | AP18: =IF('Where''s Waldo'!BB18=0,"",'Where''s Waldo'!BB18) | AR18: =IF('Where''s Waldo'!I18="","",'Where''s Waldo'!I18) | AS18: =IF('Where''s Waldo'!J18="","",'Where''s Waldo'!J18) | AU18: =IF('Where''s Waldo'!BE18=0,"",'Where''s Waldo'!BE18) -> 9 | AV18: =IF('Where''s Waldo'!BF18=0,"",'Where''s Waldo'!BF18) -> 15 | AW18: =IF('Where''s Waldo'!BG18=0,"",'Where''s Waldo'!BG18) -> 23 | AX18: =IF('Where''s Waldo'!BH18=0,"",'Where''s Waldo'!BH18) | AY18: =IF('Where''s Waldo'!BI18=0,"",'Where''s Waldo'!BI18) | AZ18: =IF('Where''s Waldo'!BJ18=0,"",'Where''s Waldo'!BJ18) | BA18: =IF('Where''s Waldo'!BK18=0,"",'Where''s Waldo'!BK18) | BB18: =IF('Where''s Waldo'!BL18=0,"",'Where''s Waldo'!BL18) | BC18: =IF('Where''s Waldo'!BO18=0,"",'Where''s Waldo'!BO18) -> 22 | BD18: =IF('Where''s Waldo'!BP18=0,"",'Where''s Waldo'!BP18) -> 6 | BE18: =IF('Where''s Waldo'!BQ18=0,"",'Where''s Waldo'!BQ18) -> 30 | BF18: =IF('Where''s Waldo'!BR18=0,"",'Where''s Waldo'!BR18) | BG18: =IF('Where''s Waldo'!BS18=0,"",'Where''s Waldo'!BS18) | BH18: =IF('Where''s Waldo'!BT18=0,"",'Where''s Waldo'!BT18) | BI18: =IF('Where''s Waldo'!BU18=0,"",'Where''s Waldo'!BU18) | BJ18: =IF('Where''s Waldo'!BV18=0,"",'Where''s Waldo'!BV18)
A19: 16 | D19: ='Where''s Waldo'!C19 | E19: ='Where''s Waldo'!D19 | G19: =IF('Where''s Waldo'!Q19=0,"",'Where''s Waldo'!Q19) -> 9 | H19: =IF('Where''s Waldo'!R19=0,"",'Where''s Waldo'!R19) -> 30 | I19: =IF('Where''s Waldo'!S19=0,"",'Where''s Waldo'!S19) -> 23 | J19: =IF('Where''s Waldo'!T19=0,"",'Where''s Waldo'!T19) | K19: =IF('Where''s Waldo'!U19=0,"",'Where''s Waldo'!U19) | L19: =IF('Where''s Waldo'!V19=0,"",'Where''s Waldo'!V19) | M19: =IF('Where''s Waldo'!W19=0,"",'Where''s Waldo'!W19) | N19: =IF('Where''s Waldo'!X19=0,"",'Where''s Waldo'!X19) | O19: =IF('Where''s Waldo'!AA19=0,"",'Where''s Waldo'!AA19) -> 22 | P19: =IF('Where''s Waldo'!AB19=0,"",'Where''s Waldo'!AB19) -> 6 | Q19: =IF('Where''s Waldo'!AC19=0,"",'Where''s Waldo'!AC19) -> 15 | R19: =IF('Where''s Waldo'!AD19=0,"",'Where''s Waldo'!AD19) | S19: =IF('Where''s Waldo'!AE19=0,"",'Where''s Waldo'!AE19) | T19: =IF('Where''s Waldo'!AF19=0,"",'Where''s Waldo'!AF19) | U19: =IF('Where''s Waldo'!AG19=0,"",'Where''s Waldo'!AG19) | V19: =IF('Where''s Waldo'!AH19=0,"",'Where''s Waldo'!AH19) | X19: ='Where''s Waldo'!F19 | Y19: ='Where''s Waldo'!G19 | AA19: =IF('Where''s Waldo'!AK19=0,"",'Where''s Waldo'!AK19) -> 22 | AB19: =IF('Where''s Waldo'!AL19=0,"",'Where''s Waldo'!AL19) -> 30 | AC19: =IF('Where''s Waldo'!AM19=0,"",'Where''s Waldo'!AM19) | AD19: =IF('Where''s Waldo'!AN19=0,"",'Where''s Waldo'!AN19) | AE19: =IF('Where''s Waldo'!AO19=0,"",'Where''s Waldo'!AO19) | AF19: =IF('Where''s Waldo'!AP19=0,"",'Where''s Waldo'!AP19) | AG19: =IF('Where''s Waldo'!AQ19=0,"",'Where''s Waldo'!AQ19) | AH19: =IF('Where''s Waldo'!AR19=0,"",'Where''s Waldo'!AR19) | AI19: =IF('Where''s Waldo'!AU19=0,"",'Where''s Waldo'!AU19) -> 9 | AJ19: =IF('Where''s Waldo'!AV19=0,"",'Where''s Waldo'!AV19) -> 6 | AK19: =IF('Where''s Waldo'!AW19=0,"",'Where''s Waldo'!AW19) -> 15 | AL19: =IF('Where''s Waldo'!AX19=0,"",'Where''s Waldo'!AX19) | AM19: =IF('Where''s Waldo'!AY19=0,"",'Where''s Waldo'!AY19) | AN19: =IF('Where''s Waldo'!AZ19=0,"",'Where''s Waldo'!AZ19) | AO19: =IF('Where''s Waldo'!BA19=0,"",'Where''s Waldo'!BA19) | AP19: =IF('Where''s Waldo'!BB19=0,"",'Where''s Waldo'!BB19) | AR19: =IF('Where''s Waldo'!I19="","",'Where''s Waldo'!I19) | AS19: =IF('Where''s Waldo'!J19="","",'Where''s Waldo'!J19) | AU19: =IF('Where''s Waldo'!BE19=0,"",'Where''s Waldo'!BE19) -> 9 | AV19: =IF('Where''s Waldo'!BF19=0,"",'Where''s Waldo'!BF19) -> 15 | AW19: =IF('Where''s Waldo'!BG19=0,"",'Where''s Waldo'!BG19) -> 23 | AX19: =IF('Where''s Waldo'!BH19=0,"",'Where''s Waldo'!BH19) | AY19: =IF('Where''s Waldo'!BI19=0,"",'Where''s Waldo'!BI19) | AZ19: =IF('Where''s Waldo'!BJ19=0,"",'Where''s Waldo'!BJ19) | BA19: =IF('Where''s Waldo'!BK19=0,"",'Where''s Waldo'!BK19) | BB19: =IF('Where''s Waldo'!BL19=0,"",'Where''s Waldo'!BL19) | BC19: =IF('Where''s Waldo'!BO19=0,"",'Where''s Waldo'!BO19) -> 22 | BD19: =IF('Where''s Waldo'!BP19=0,"",'Where''s Waldo'!BP19) -> 6 | BE19: =IF('Where''s Waldo'!BQ19=0,"",'Where''s Waldo'!BQ19) -> 30 | BF19: =IF('Where''s Waldo'!BR19=0,"",'Where''s Waldo'!BR19) | BG19: =IF('Where''s Waldo'!BS19=0,"",'Where''s Waldo'!BS19) | BH19: =IF('Where''s Waldo'!BT19=0,"",'Where''s Waldo'!BT19) | BI19: =IF('Where''s Waldo'!BU19=0,"",'Where''s Waldo'!BU19) | BJ19: =IF('Where''s Waldo'!BV19=0,"",'Where''s Waldo'!BV19)
A20: 17 | D20: ='Where''s Waldo'!C20 | E20: ='Where''s Waldo'!D20 | G20: =IF('Where''s Waldo'!Q20=0,"",'Where''s Waldo'!Q20) -> 9 | H20: =IF('Where''s Waldo'!R20=0,"",'Where''s Waldo'!R20) -> 30 | I20: =IF('Where''s Waldo'!S20=0,"",'Where''s Waldo'!S20) -> 23 | J20: =IF('Where''s Waldo'!T20=0,"",'Where''s Waldo'!T20) | K20: =IF('Where''s Waldo'!U20=0,"",'Where''s Waldo'!U20) | L20: =IF('Where''s Waldo'!V20=0,"",'Where''s Waldo'!V20) | M20: =IF('Where''s Waldo'!W20=0,"",'Where''s Waldo'!W20) | N20: =IF('Where''s Waldo'!X20=0,"",'Where''s Waldo'!X20) | O20: =IF('Where''s Waldo'!AA20=0,"",'Where''s Waldo'!AA20) -> 22 | P20: =IF('Where''s Waldo'!AB20=0,"",'Where''s Waldo'!AB20) -> 6 | Q20: =IF('Where''s Waldo'!AC20=0,"",'Where''s Waldo'!AC20) -> 15 | R20: =IF('Where''s Waldo'!AD20=0,"",'Where''s Waldo'!AD20) | S20: =IF('Where''s Waldo'!AE20=0,"",'Where''s Waldo'!AE20) | T20: =IF('Where''s Waldo'!AF20=0,"",'Where''s Waldo'!AF20) | U20: =IF('Where''s Waldo'!AG20=0,"",'Where''s Waldo'!AG20) | V20: =IF('Where''s Waldo'!AH20=0,"",'Where''s Waldo'!AH20) | X20: ='Where''s Waldo'!F20 | Y20: ='Where''s Waldo'!G20 | AA20: =IF('Where''s Waldo'!AK20=0,"",'Where''s Waldo'!AK20) -> 22 | AB20: =IF('Where''s Waldo'!AL20=0,"",'Where''s Waldo'!AL20) -> 30 | AC20: =IF('Where''s Waldo'!AM20=0,"",'Where''s Waldo'!AM20) | AD20: =IF('Where''s Waldo'!AN20=0,"",'Where''s Waldo'!AN20) | AE20: =IF('Where''s Waldo'!AO20=0,"",'Where''s Waldo'!AO20) | AF20: =IF('Where''s Waldo'!AP20=0,"",'Where''s Waldo'!AP20) | AG20: =IF('Where''s Waldo'!AQ20=0,"",'Where''s Waldo'!AQ20) | AH20: =IF('Where''s Waldo'!AR20=0,"",'Where''s Waldo'!AR20) | AI20: =IF('Where''s Waldo'!AU20=0,"",'Where''s Waldo'!AU20) -> 9 | AJ20: =IF('Where''s Waldo'!AV20=0,"",'Where''s Waldo'!AV20) -> 6 | AK20: =IF('Where''s Waldo'!AW20=0,"",'Where''s Waldo'!AW20) -> 15 | AL20: =IF('Where''s Waldo'!AX20=0,"",'Where''s Waldo'!AX20) | AM20: =IF('Where''s Waldo'!AY20=0,"",'Where''s Waldo'!AY20) | AN20: =IF('Where''s Waldo'!AZ20=0,"",'Where''s Waldo'!AZ20) | AO20: =IF('Where''s Waldo'!BA20=0,"",'Where''s Waldo'!BA20) | AP20: =IF('Where''s Waldo'!BB20=0,"",'Where''s Waldo'!BB20) | AR20: =IF('Where''s Waldo'!I20="","",'Where''s Waldo'!I20) | AS20: =IF('Where''s Waldo'!J20="","",'Where''s Waldo'!J20) | AU20: =IF('Where''s Waldo'!BE20=0,"",'Where''s Waldo'!BE20) -> 9 | AV20: =IF('Where''s Waldo'!BF20=0,"",'Where''s Waldo'!BF20) -> 15 | AW20: =IF('Where''s Waldo'!BG20=0,"",'Where''s Waldo'!BG20) -> 23 | AX20: =IF('Where''s Waldo'!BH20=0,"",'Where''s Waldo'!BH20) | AY20: =IF('Where''s Waldo'!BI20=0,"",'Where''s Waldo'!BI20) | AZ20: =IF('Where''s Waldo'!BJ20=0,"",'Where''s Waldo'!BJ20) | BA20: =IF('Where''s Waldo'!BK20=0,"",'Where''s Waldo'!BK20) | BB20: =IF('Where''s Waldo'!BL20=0,"",'Where''s Waldo'!BL20) | BC20: =IF('Where''s Waldo'!BO20=0,"",'Where''s Waldo'!BO20) -> 22 | BD20: =IF('Where''s Waldo'!BP20=0,"",'Where''s Waldo'!BP20) -> 6 | BE20: =IF('Where''s Waldo'!BQ20=0,"",'Where''s Waldo'!BQ20) -> 30 | BF20: =IF('Where''s Waldo'!BR20=0,"",'Where''s Waldo'!BR20) | BG20: =IF('Where''s Waldo'!BS20=0,"",'Where''s Waldo'!BS20) | BH20: =IF('Where''s Waldo'!BT20=0,"",'Where''s Waldo'!BT20) | BI20: =IF('Where''s Waldo'!BU20=0,"",'Where''s Waldo'!BU20) | BJ20: =IF('Where''s Waldo'!BV20=0,"",'Where''s Waldo'!BV20)
A21: 18 | D21: ='Where''s Waldo'!C21 | E21: ='Where''s Waldo'!D21 | G21: =IF('Where''s Waldo'!Q21=0,"",'Where''s Waldo'!Q21) -> 9 | H21: =IF('Where''s Waldo'!R21=0,"",'Where''s Waldo'!R21) -> 30 | I21: =IF('Where''s Waldo'!S21=0,"",'Where''s Waldo'!S21) -> 23 | J21: =IF('Where''s Waldo'!T21=0,"",'Where''s Waldo'!T21) | K21: =IF('Where''s Waldo'!U21=0,"",'Where''s Waldo'!U21) | L21: =IF('Where''s Waldo'!V21=0,"",'Where''s Waldo'!V21) | M21: =IF('Where''s Waldo'!W21=0,"",'Where''s Waldo'!W21) | N21: =IF('Where''s Waldo'!X21=0,"",'Where''s Waldo'!X21) | O21: =IF('Where''s Waldo'!AA21=0,"",'Where''s Waldo'!AA21) -> 22 | P21: =IF('Where''s Waldo'!AB21=0,"",'Where''s Waldo'!AB21) -> 6 | Q21: =IF('Where''s Waldo'!AC21=0,"",'Where''s Waldo'!AC21) -> 15 | R21: =IF('Where''s Waldo'!AD21=0,"",'Where''s Waldo'!AD21) | S21: =IF('Where''s Waldo'!AE21=0,"",'Where''s Waldo'!AE21) | T21: =IF('Where''s Waldo'!AF21=0,"",'Where''s Waldo'!AF21) | U21: =IF('Where''s Waldo'!AG21=0,"",'Where''s Waldo'!AG21) | V21: =IF('Where''s Waldo'!AH21=0,"",'Where''s Waldo'!AH21) | X21: ='Where''s Waldo'!F21 | Y21: ='Where''s Waldo'!G21 | AA21: =IF('Where''s Waldo'!AK21=0,"",'Where''s Waldo'!AK21) -> 22 | AB21: =IF('Where''s Waldo'!AL21=0,"",'Where''s Waldo'!AL21) -> 30 | AC21: =IF('Where''s Waldo'!AM21=0,"",'Where''s Waldo'!AM21) | AD21: =IF('Where''s Waldo'!AN21=0,"",'Where''s Waldo'!AN21) | AE21: =IF('Where''s Waldo'!AO21=0,"",'Where''s Waldo'!AO21) | AF21: =IF('Where''s Waldo'!AP21=0,"",'Where''s Waldo'!AP21) | AG21: =IF('Where''s Waldo'!AQ21=0,"",'Where''s Waldo'!AQ21) | AH21: =IF('Where''s Waldo'!AR21=0,"",'Where''s Waldo'!AR21) | AI21: =IF('Where''s Waldo'!AU21=0,"",'Where''s Waldo'!AU21) -> 9 | AJ21: =IF('Where''s Waldo'!AV21=0,"",'Where''s Waldo'!AV21) -> 6 | AK21: =IF('Where''s Waldo'!AW21=0,"",'Where''s Waldo'!AW21) -> 15 | AL21: =IF('Where''s Waldo'!AX21=0,"",'Where''s Waldo'!AX21) | AM21: =IF('Where''s Waldo'!AY21=0,"",'Where''s Waldo'!AY21) | AN21: =IF('Where''s Waldo'!AZ21=0,"",'Where''s Waldo'!AZ21) | AO21: =IF('Where''s Waldo'!BA21=0,"",'Where''s Waldo'!BA21) | AP21: =IF('Where''s Waldo'!BB21=0,"",'Where''s Waldo'!BB21) | AR21: =IF('Where''s Waldo'!I21="","",'Where''s Waldo'!I21) | AS21: =IF('Where''s Waldo'!J21="","",'Where''s Waldo'!J21) | AU21: =IF('Where''s Waldo'!BE21=0,"",'Where''s Waldo'!BE21) -> 9 | AV21: =IF('Where''s Waldo'!BF21=0,"",'Where''s Waldo'!BF21) -> 15 | AW21: =IF('Where''s Waldo'!BG21=0,"",'Where''s Waldo'!BG21) -> 23 | AX21: =IF('Where''s Waldo'!BH21=0,"",'Where''s Waldo'!BH21) | AY21: =IF('Where''s Waldo'!BI21=0,"",'Where''s Waldo'!BI21) | AZ21: =IF('Where''s Waldo'!BJ21=0,"",'Where''s Waldo'!BJ21) | BA21: =IF('Where''s Waldo'!BK21=0,"",'Where''s Waldo'!BK21) | BB21: =IF('Where''s Waldo'!BL21=0,"",'Where''s Waldo'!BL21) | BC21: =IF('Where''s Waldo'!BO21=0,"",'Where''s Waldo'!BO21) -> 22 | BD21: =IF('Where''s Waldo'!BP21=0,"",'Where''s Waldo'!BP21) -> 6 | BE21: =IF('Where''s Waldo'!BQ21=0,"",'Where''s Waldo'!BQ21) -> 30 | BF21: =IF('Where''s Waldo'!BR21=0,"",'Where''s Waldo'!BR21) | BG21: =IF('Where''s Waldo'!BS21=0,"",'Where''s Waldo'!BS21) | BH21: =IF('Where''s Waldo'!BT21=0,"",'Where''s Waldo'!BT21) | BI21: =IF('Where''s Waldo'!BU21=0,"",'Where''s Waldo'!BU21) | BJ21: =IF('Where''s Waldo'!BV21=0,"",'Where''s Waldo'!BV21)
