Workbook

Sheet RBLHOE
D1: Color | X1: Hi/Low | AR1: Odd/Even
G2: Red | O2: Black | AA2: High | AI2: Low | AU2: Odd | BC2: Even
A3: Spin | B3: Nr | D3: Red | E3: Black | G3: 1st | H3: 2nd | I3: 3rd | J3: 4th | K3: 5th | L3: 6th | M3: 7th | N3: 8th | O3: 1st | P3: 2nd | Q3: 3rd | R3: 4th | S3: 5th | T3: 6th | U3: 7th | V3: 8th | X3: High | Y3: Low | AA3: 1st | AB3: 2nd | AC3: 3rd | AD3: 4th | AE3: 5th | AF3: 6th | AG3: 7th | AH3: 8th | AI3: 1st | AJ3: 2nd | AK3: 3rd | AL3: 4th | AM3: 5th | AN3: 6th | AO3: 7th | AP3: 8th | AR3: Odd | AS3: Even | AU3: 1st | AV3: 2nd | AW3: 3rd | AX3: 4th | AY3: 5th | AZ3: 6th | BA3: 7th | BB3: 8th | BC3: 1st | BD3: 2nd | BE3: 3rd | BF3: 4th | BG3: 5th | BH3: 6th | BI3: 7th | BJ3: 8th
A4: 1 | B4: 23 | D4: ='Where''s Waldo'!C4 -> 23 | E4: ='Where''s Waldo'!D4 | G4: =IF('Where''s Waldo'!Q4=0,"",'Where''s Waldo'!Q4) -> 23 | H4: =IF('Where''s Waldo'!R4=0,"",'Where''s Waldo'!R4) | I4: =IF('Where''s Waldo'!S4=0,"",'Where''s Waldo'!S4) | J4: =IF('Where''s Waldo'!T4=0,"",'Where''s Waldo'!T4) | K4: =IF('Where''s Waldo'!U4=0,"",'Where''s Waldo'!U4) | L4: =IF('Where''s Waldo'!V4=0,"",'Where''s Waldo'!V4) | M4: =IF('Where''s Waldo'!W4=0,"",'Where''s Waldo'!W4) | N4: =IF('Where''s Waldo'!X4=0,"",'Where''s Waldo'!X4) | O4: =IF('Where''s Waldo'!AA4=0,"",'Where''s Waldo'!AA4) | P4: =IF('Where''s Waldo'!AB4=0,"",'Where''s Waldo'!AB4) | Q4: =IF('Where''s Waldo'!AC4=0,"",'Where''s Waldo'!AC4) | R4: =IF('Where''s Waldo'!AD4=0,"",'Where''s Waldo'!AD4) | S4: =IF('Where''s Waldo'!AE4=0,"",'Where''s Waldo'!AE4) | T4: =IF('Where''s Waldo'!AF4=0,"",'Where''s Waldo'!AF4) | U4: =IF('Where''s Waldo'!AG4=0,"",'Where''s Waldo'!AG4) | V4: =IF('Where''s Waldo'!AH4=0,"",'Where''s Waldo'!AH4) | X4: ='Where''s Waldo'!F4 -> 23 | Y4: ='Where''s Waldo'!G4 | AA4: =IF('Where''s Waldo'!AK4=0,"",'Where''s Waldo'!AK4) | AB4: =IF('Where''s Waldo'!AL4=0,"",'Where''s Waldo'!AL4) | AC4: =IF('Where''s Waldo'!AM4=0,"",'Where''s Waldo'!AM4) | AD4: =IF('Where''s Waldo'!AN4=0,"",'Where''s Waldo'!AN4) | AE4: =IF('Where''s Waldo'!AO4=0,"",'Where''s Waldo'!AO4) | AF4: =IF('Where''s Waldo'!AP4=0,"",'Where''s Waldo'!AP4) | AG4: =IF('Where''s Waldo'!AQ4=0,"",'Where''s Waldo'!AQ4) | AH4: =IF('Where''s Waldo'!AR4=0,"",'Where''s Waldo'!AR4) | AI4: =IF('Where''s Waldo'!AU4=0,"",'Where''s Waldo'!AU4) | AJ4: =IF('Where''s Waldo'!AV4=0,"",'Where''s Waldo'!AV4) | AK4: =IF('Where''s Waldo'!AW4=0,"",'Where''s Waldo'!AW4) | AL4: =IF('Where''s Waldo'!AX4=0,"",'Where''s Waldo'!AX4) | AM4: =IF('Where''s Waldo'!AY4=0,"",'Where''s Waldo'!AY4) | AN4: =IF('Where''s Waldo'!AZ4=0,"",'Where''s Waldo'!AZ4) | AO4: =IF('Where''s Waldo'!BA4=0,"",'Where''s Waldo'!BA4) | AP4: =IF('Where''s Waldo'!BB4=0,"",'Where''s Waldo'!BB4) | AR4: =IF('Where''s Waldo'!I4="","",'Where''s Waldo'!I4) -> 23 | AS4: =IF('Where''s Waldo'!J4="","",'Where''s Waldo'!J4) | AU4: =IF('Where''s Waldo'!BE4=0,"",'Where''s Waldo'!BE4) -> 23 | AV4: =IF('Where''s Waldo'!BF4=0,"",'Where''s Waldo'!BF4) | AW4: =IF('Where''s Waldo'!BG4=0,"",'Where''s Waldo'!BG4) | AX4: =IF('Where''s Waldo'!BH4=0,"",'Where''s Waldo'!BH4) | AY4: =IF('Where''s Waldo'!BI4=0,"",'Where''s Waldo'!BI4) | AZ4: =IF('Where''s Waldo'!BJ4=0,"",'Where''s Waldo'!BJ4) | BA4: =IF('Where''s Waldo'!BK4=0,"",'Where''s Waldo'!BK4) | BB4: =IF('Where''s Waldo'!BL4=0,"",'Where''s Waldo'!BL4) | BC4: =IF('Where''s Waldo'!BO4=0,"",'Where''s Waldo'!BO4) | BD4: =IF('Where''s Waldo'!BP4=0,"",'Where''s Waldo'!BP4) | BE4: =IF('Where''s Waldo'!BQ4=0,"",'Where''s Waldo'!BQ4) | BF4: =IF('Where''s Waldo'!BR4=0,"",'Where''s Waldo'!BR4) | BG4: =IF('Where''s Waldo'!BS4=0,"",'Where''s Waldo'!BS4) | BH4: =IF('Where''s Waldo'!BT4=0,"",'Where''s Waldo'!BT4) | BI4: =IF('Where''s Waldo'!BU4=0,"",'Where''s Waldo'!BU4) | BJ4: =IF('Where''s Waldo'!BV4=0,"",'Where''s Waldo'!BV4)
A5: 2 | B5: 15 | D5: ='Where''s Waldo'!C5 | E5: ='Where''s Waldo'!D5 -> 15 | G5: =IF('Where''s Waldo'!Q5=0,"",'Where''s Waldo'!Q5) -> 23 | H5: =IF('Where''s Waldo'!R5=0,"",'Where''s Waldo'!R5) | I5: =IF('Where''s Waldo'!S5=0,"",'Where''s Waldo'!S5) | J5: =IF('Where''s Waldo'!T5=0,"",'Where''s Waldo'!T5) | K5: =IF('Where''s Waldo'!U5=0,"",'Where''s Waldo'!U5) | L5: =IF('Where''s Waldo'!V5=0,"",'Where''s Waldo'!V5) | M5: =IF('Where''s Waldo'!W5=0,"",'Where''s Waldo'!W5) | N5: =IF('Where''s Waldo'!X5=0,"",'Where''s Waldo'!X5) | O5: =IF('Where''s Waldo'!AA5=0,"",'Where''s Waldo'!AA5) -> 15 | P5: =IF('Where''s Waldo'!AB5=0,"",'Where''s Waldo'!AB5) | Q5: =IF('Where''s Waldo'!AC5=0,"",'Where''s Waldo'!AC5) | R5: =IF('Where''s Waldo'!AD5=0,"",'Where''s Waldo'!AD5) | S5: =IF('Where''s Waldo'!AE5=0,"",'Where''s Waldo'!AE5) | T5: =IF('Where''s Waldo'!AF5=0,"",'Where''s Waldo'!AF5) | U5: =IF('Where''s Waldo'!AG5=0,"",'Where''s Waldo'!AG5) | V5: =IF('Where''s Waldo'!AH5=0,"",'Where''s Waldo'!AH5) | X5: ='Where''s Waldo'!F5 | Y5: ='Where''s Waldo'!G5 -> 15 | AA5: =IF('Where''s Waldo'!AK5=0,"",'Where''s Waldo'!AK5) | AB5: =IF('Where''s Waldo'!AL5=0,"",'Where''s Waldo'!AL5) | AC5: =IF('Where''s Waldo'!AM5=0,"",'Where''s Waldo'!AM5) | AD5: =IF('Where''s Waldo'!AN5=0,"",'Where''s Waldo'!AN5) | AE5: =IF('Where''s Waldo'!AO5=0,"",'Where''s Waldo'!AO5) | AF5: =IF('Where''s Waldo'!AP5=0,"",'Where''s Waldo'!AP5) | AG5: =IF('Where''s Waldo'!AQ5=0,"",'Where''s Waldo'!AQ5) | AH5: =IF('Where''s Waldo'!AR5=0,"",'Where''s Waldo'!AR5) | AI5: =IF('Where''s Waldo'!AU5=0,"",'Where''s Waldo'!AU5) -> 15 | AJ5: =IF('Where''s Waldo'!AV5=0,"",'Where''s Waldo'!AV5) | AK5: =IF('Where''s Waldo'!AW5=0,"",'Where''s Waldo'!AW5) | AL5: =IF('Where''s Waldo'!AX5=0,"",'Where''s Waldo'!AX5) | AM5: =IF('Where''s Waldo'!AY5=0,"",'Where''s Waldo'!AY5) | AN5: =IF('Where''s Waldo'!AZ5=0,"",'Where''s Waldo'!AZ5) | AO5: =IF('Where''s Waldo'!BA5=0,"",'Where''s Waldo'!BA5) | AP5: =IF('Where''s Waldo'!BB5=0,"",'Where''s Waldo'!BB5) | AR5: =IF('Where''s Waldo'!I5="","",'Where''s Waldo'!I5) -> 15 | AS5: =IF('Where''s Waldo'!J5="","",'Where''s Waldo'!J5) | AU5: =IF('Where''s Waldo'!BE5=0,"",'Where''s Waldo'!BE5) -> 15 | AV5: =IF('Where''s Waldo'!BF5=0,"",'Where''s Waldo'!BF5) -> 23 | AW5: =IF('Where''s Waldo'!BG5=0,"",'Where''s Waldo'!BG5) | AX5: =IF('Where''s Waldo'!BH5=0,"",'Where''s Waldo'!BH5) | AY5: =IF('Where''s Waldo'!BI5=0,"",'Where''s Waldo'!BI5) | AZ5: =IF('Where''s Waldo'!BJ5=0,"",'Where''s Waldo'!BJ5) | BA5: =IF('Where''s Waldo'!BK5=0,"",'Where''s Waldo'!BK5) | BB5: =IF('Where''s Waldo'!BL5=0,"",'Where''s Waldo'!BL5) | BC5: =IF('Where''s Waldo'!BO5=0,"",'Where''s Waldo'!BO5) | BD5: =IF('Where''s Waldo'!BP5=0,"",'Where''s Waldo'!BP5) | BE5: =IF('Where''s Waldo'!BQ5=0,"",'Where''s Waldo'!BQ5) | BF5: =IF('Where''s Waldo'!BR5=0,"",'Where''s Waldo'!BR5) | BG5: =IF('Where''s Waldo'!BS5=0,"",'Where''s Waldo'!BS5) | BH5: =IF('Where''s Waldo'!BT5=0,"",'Where''s Waldo'!BT5) | BI5: =IF('Where''s Waldo'!BU5=0,"",'Where''s Waldo'!BU5) | BJ5: =IF('Where''s Waldo'!BV5=0,"",'Where''s Waldo'!BV5)
A6: 3 | B6: 30 | D6: ='Where''s Waldo'!C6 -> 30 | E6: ='Where''s Waldo'!D6 | G6: =IF('Where''s Waldo'!Q6=0,"",'Where''s Waldo'!Q6) -> 30 | H6: =IF('Where''s Waldo'!R6=0,"",'Where''s Waldo'!R6) -> 23 | I6: =IF('Where''s Waldo'!S6=0,"",'Where''s Waldo'!S6) | J6: =IF('Where''s Waldo'!T6=0,"",'Where''s Waldo'!T6) | K6: =IF('Where''s Waldo'!U6=0,"",'Where''s Waldo'!U6) | L6: =IF('Where''s Waldo'!V6=0,"",'Where''s Waldo'!V6) | M6: =IF('Where''s Waldo'!W6=0,"",'Where''s Waldo'!W6) | N6: =IF('Where''s Waldo'!X6=0,"",'Where''s Waldo'!X6) | O6: =IF('Where''s Waldo'!AA6=0,"",'Where''s Waldo'!AA6) -> 15 | P6: =IF('Where''s Waldo'!AB6=0,"",'Where''s Waldo'!AB6) | Q6: =IF('Where''s Waldo'!AC6=0,"",'Where''s Waldo'!AC6) | R6: =IF('Where''s Waldo'!AD6=0,"",'Where''s Waldo'!AD6) | S6: =IF('Where''s Waldo'!AE6=0,"",'Where''s Waldo'!AE6) | T6: =IF('Where''s Waldo'!AF6=0,"",'Where''s Waldo'!AF6) | U6: =IF('Where''s Waldo'!AG6=0,"",'Where''s Waldo'!AG6) | V6: =IF('Where''s Waldo'!AH6=0,"",'Where''s Waldo'!AH6) | X6: ='Where''s Waldo'!F6 -> 30 | Y6: ='Where''s Waldo'!G6 | AA6: =IF('Where''s Waldo'!AK6=0,"",'Where''s Waldo'!AK6) -> 30 | AB6: =IF('Where''s Waldo'!AL6=0,"",'Where''s Waldo'!AL6) | AC6: =IF('Where''s Waldo'!AM6=0,"",'Where''s Waldo'!AM6) | AD6: =IF('Where''s Waldo'!AN6=0,"",'Where''s Waldo'!AN6) | AE6: =IF('Where''s Waldo'!AO6=0,"",'Where''s Waldo'!AO6) | AF6: =IF('Where''s Waldo'!AP6=0,"",'Where''s Waldo'!AP6) | AG6: =IF('Where''s Waldo'!AQ6=0,"",'Where''s Waldo'!AQ6) | AH6: =IF('Where''s Waldo'!AR6=0,"",'Where''s Waldo'!AR6) | AI6: =IF('Where''s Waldo'!AU6=0,"",'Where''s Waldo'!AU6) -> 15 | AJ6: =IF('Where''s Waldo'!AV6=0,"",'Where''s Waldo'!AV6) | AK6: =IF('Where''s Waldo'!AW6=0,"",'Where''s Waldo'!AW6) | AL6: =IF('Where''s Waldo'!AX6=0,"",'Where''s Waldo'!AX6) | AM6: =IF('Where''s Waldo'!AY6=0,"",'Where''s Waldo'!AY6) | AN6: =IF('Where''s Waldo'!AZ6=0,"",'Where''s Waldo'!AZ6) | AO6: =IF('Where''s Waldo'!BA6=0,"",'Where''s Waldo'!BA6) | AP6: =IF('Where''s Waldo'!BB6=0,"",'Where''s Waldo'!BB6) | AR6: =IF('Where''s Waldo'!I6="","",'Where''s Waldo'!I6) | AS6: =IF('Where''s Waldo'!J6="","",'Where''s Waldo'!J6) -> 30 | AU6: =IF('Where''s Waldo'!BE6=0,"",'Where''s Waldo'!BE6) -> 15 | AV6: =IF('Where''s Waldo'!BF6=0,"",'Where''s Waldo'!BF6) -> 23 | AW6: =IF('Where''s Waldo'!BG6=0,"",'Where''s Waldo'!BG6) | AX6: =IF('Where''s Waldo'!BH6=0,"",'Where''s Waldo'!BH6) | AY6: =IF('Where''s Waldo'!BI6=0,"",'Where''s Waldo'!BI6) | AZ6: =IF('Where''s Waldo'!BJ6=0,"",'Where''s Waldo'!BJ6) | BA6: =IF('Where''s Waldo'!BK6=0,"",'Where''s Waldo'!BK6) | BB6: =IF('Where''s Waldo'!BL6=0,"",'Where''s Waldo'!BL6) | BC6: =IF('Where''s Waldo'!BO6=0,"",'Where''s Waldo'!BO6) -> 30 | BD6: =IF('Where''s Waldo'!BP6=0,"",'Where''s Waldo'!BP6) | BE6: =IF('Where''s Waldo'!BQ6=0,"",'Where''s Waldo'!BQ6) | BF6: =IF('Where''s Waldo'!BR6=0,"",'Where''s Waldo'!BR6) | BG6: =IF('Where''s Waldo'!BS6=0,"",'Where''s Waldo'!BS6) | BH6: =IF('Where''s Waldo'!BT6=0,"",'Where''s Waldo'!BT6) | BI6: =IF('Where''s Waldo'!BU6=0,"",'Where''s Waldo'!BU6) | BJ6: =IF('Where''s Waldo'!BV6=0,"",'Where''s Waldo'!BV6)
A7: 4 | B7: 6 | D7: ='Where''s Waldo'!C7 | E7: ='Where''s Waldo'!D7 -> 6 | G7: =IF('Where''s Waldo'!Q7=0,"",'Where''s Waldo'!Q7) -> 30 | H7: =IF('Where''s Waldo'!R7=0,"",'Where''s Waldo'!R7) -> 23 | I7: =IF('Where''s Waldo'!S7=0,"",'Where''s Waldo'!S7) | J7: =IF('Where''s Waldo'!T7=0,"",'Where''s Waldo'!T7) | K7: =IF('Where''s Waldo'!U7=0,"",'Where''s Waldo'!U7) | L7: =IF('Where''s Waldo'!V7=0,"",'Where''s Waldo'!V7) | M7: =IF('Where''s Waldo'!W7=0,"",'Where''s Waldo'!W7) | N7: =IF('Where''s Waldo'!X7=0,"",'Where''s Waldo'!X7) | O7: =IF('Where''s Waldo'!AA7=0,"",'Where''s Waldo'!AA7) -> 6 | P7: =IF('Where''s Waldo'!AB7=0,"",'Where''s Waldo'!AB7) -> 15 | Q7: =IF('Where''s Waldo'!AC7=0,"",'Where''s Waldo'!AC7) | R7: =IF('Where''s Waldo'!AD7=0,"",'Where''s Waldo'!AD7) | S7: =IF('Where''s Waldo'!AE7=0,"",'Where''s Waldo'!AE7) | T7: =IF('Where''s Waldo'!AF7=0,"",'Where''s Waldo'!AF7) | U7: =IF('Where''s Waldo'!AG7=0,"",'Where''s Waldo'!AG7) | V7: =IF('Where''s Waldo'!AH7=0,"",'Where''s Waldo'!AH7) | X7: ='Where''s Waldo'!F7 | Y7: ='Where''s Waldo'!G7 -> 6 | AA7: =IF('Where''s Waldo'!AK7=0,"",'Where''s Waldo'!AK7) -> 30 | AB7: =IF('Where''s Waldo'!AL7=0,"",'Where''s Waldo'!AL7) | AC7: =IF('Where''s Waldo'!AM7=0,"",'Where''s Waldo'!AM7) | AD7: =IF('Where''s Waldo'!AN7=0,"",'Where''s Waldo'!AN7) | AE7: =IF('Where''s Waldo'!AO7=0,"",'Where''s Waldo'!AO7) | AF7: =IF('Where''s Waldo'!AP7=0,"",'Where''s Waldo'!AP7) | AG7: =IF('Where''s Waldo'!AQ7=0,"",'Where''s Waldo'!AQ7) | AH7: =IF('Where''s Waldo'!AR7=0,"",'Where''s Waldo'!AR7) | AI7: =IF('Where''s Waldo'!AU7=0,"",'Where''s Waldo'!AU7) -> 6 | AJ7: =IF('Where''s Waldo'!AV7=0,"",'Where''s Waldo'!AV7) -> 15 | AK7: =IF('Where''s Waldo'!AW7=0,"",'Where''s Waldo'!AW7) | AL7: =IF('Where''s Waldo'!AX7=0,"",'Where''s Waldo'!AX7) | AM7: =IF('Where''s Waldo'!AY7=0,"",'Where''s Waldo'!AY7) | AN7: =IF('Where''s Waldo'!AZ7=0,"",'Where''s Waldo'!AZ7) | AO7: =IF('Where''s Waldo'!BA7=0,"",'Where''s Waldo'!BA7) | AP7: =IF('Where''s Waldo'!BB7=0,"",'Where''s Waldo'!BB7) | AR7: =IF('Where''s Waldo'!I7="","",'Where''s Waldo'!I7) | AS7: =IF('Where''s Waldo'!J7="","",'Where''s Waldo'!J7) -> 6 | AU7: =IF('Where''s Waldo'!BE7=0,"",'Where''s Waldo'!BE7) -> 15 | AV7: =IF('Where''s Waldo'!BF7=0,"",'Where''s Waldo'!BF7) -> 23 | AW7: =IF('Where''s Waldo'!BG7=0,"",'Where''s Waldo'!BG7) | AX7: =IF('Where''s Waldo'!BH7=0,"",'Where''s Waldo'!BH7) | AY7: =IF('Where''s Waldo'!BI7=0,"",'Where''s Waldo'!BI7) | AZ7: =IF('Where''s Waldo'!BJ7=0,"",'Where''s Waldo'!BJ7) | BA7: =IF('Where''s Waldo'!BK7=0,"",'Where''s Waldo'!BK7) | BB7: =IF('Where''s Waldo'!BL7=0,"",'Where''s Waldo'!BL7) | BC7: =IF('Where''s Waldo'!BO7=0,"",'Where''s Waldo'!BO7) -> 6 | BD7: =IF('Where''s Waldo'!BP7=0,"",'Where''s Waldo'!BP7) -> 30 | BE7: =IF('Where''s Waldo'!BQ7=0,"",'Where''s Waldo'!BQ7) | BF7: =IF('Where''s Waldo'!BR7=0,"",'Where''s Waldo'!BR7) | BG7: =IF('Where''s Waldo'!BS7=0,"",'Where''s Waldo'!BS7) | BH7: =IF('Where''s Waldo'!BT7=0,"",'Where''s Waldo'!BT7) | BI7: =IF('Where''s Waldo'!BU7=0,"",'Where''s Waldo'!BU7) | BJ7: =IF('Where''s Waldo'!BV7=0,"",'Where''s Waldo'!BV7)
A8: 5 | B8: 22 | D8: ='Where''s Waldo'!C8 | E8: ='Where''s Waldo'!D8 -> 22 | G8: =IF('Where''s Waldo'!Q8=0,"",'Where''s Waldo'!Q8) -> 30 | H8: =IF('Where''s Waldo'!R8=0,"",'Where''s Waldo'!R8) -> 23 | I8: =IF('Where''s Waldo'!S8=0,"",'Where''s Waldo'!S8) | J8: =IF('Where''s Waldo'!T8=0,"",'Where''s Waldo'!T8) | K8: =IF('Where''s Waldo'!U8=0,"",'Where''s Waldo'!U8) | L8: =IF('Where''s Waldo'!V8=0,"",'Where''s Waldo'!V8) | M8: =IF('Where''s Waldo'!W8=0,"",'Where''s Waldo'!W8) | N8: =IF('Where''s Waldo'!X8=0,"",'Where''s Waldo'!X8) | O8: =IF('Where''s Waldo'!AA8=0,"",'Where''s Waldo'!AA8) -> 22 | P8: =IF('Where''s Waldo'!AB8=0,"",'Where''s Waldo'!AB8) -> 6 | Q8: =IF('Where''s Waldo'!AC8=0,"",'Where''s Waldo'!AC8) -> 15 | R8: =IF('Where''s Waldo'!AD8=0,"",'Where''s Waldo'!AD8) | S8: =IF('Where''s Waldo'!AE8=0,"",'Where''s Waldo'!AE8) | T8: =IF('Where''s Waldo'!AF8=0,"",'Where''s Waldo'!AF8) | U8: =IF('Where''s Waldo'!AG8=0,"",'Where''s Waldo'!AG8) | V8: =IF('Where''s Waldo'!AH8=0,"",'Where''s Waldo'!AH8) | X8: ='Where''s Waldo'!F8 -> 22 | Y8: ='Where''s Waldo'!G8 | AA8: =IF('Where''s Waldo'!AK8=0,"",'Where''s Waldo'!AK8) -> 22 | AB8: =IF('Where''s Waldo'!AL8=0,"",'Where''s Waldo'!AL8) -> 30 | AC8: =IF('Where''s Waldo'!AM8=0,"",'Where''s Waldo'!AM8) | AD8: =IF('Where''s Waldo'!AN8=0,"",'Where''s Waldo'!AN8) | AE8: =IF('Where''s Waldo'!AO8=0,"",'Where''s Waldo'!AO8) | AF8: =IF('Where''s Waldo'!AP8=0,"",'Where''s Waldo'!AP8) | AG8: =IF('Where''s Waldo'!AQ8=0,"",'Where''s Waldo'!AQ8) | AH8: =IF('Where''s Waldo'!AR8=0,"",'Where''s Waldo'!AR8) | AI8: =IF('Where''s Waldo'!AU8=0,"",'Where''s Waldo'!AU8) -> 6 | AJ8: =IF('Where''s Waldo'!AV8=0,"",'Where''s Waldo'!AV8) -> 15 | AK8: =IF('Where''s Waldo'!AW8=0,"",'Where''s Waldo'!AW8) | AL8: =IF('Where''s Waldo'!AX8=0,"",'Where''s Waldo'!AX8) | AM8: =IF('Where''s Waldo'!AY8=0,"",'Where''s Waldo'!AY8) | AN8: =IF('Where''s Waldo'!AZ8=0,"",'Where''s Waldo'!AZ8) | AO8: =IF('Where''s Waldo'!BA8=0,"",'Where''s Waldo'!BA8) | AP8: =IF('Where''s Waldo'!BB8=0,"",'Where''s Waldo'!BB8) | AR8: =IF('Where''s Waldo'!I8="","",'Where''s Waldo'!I8) | AS8: =IF('Where''s Waldo'!J8="","",'Where''s Waldo'!J8) -> 22 | AU8: =IF('Where''s Waldo'!BE8=0,"",'Where''s Waldo'!BE8) -> 15 | AV8: =IF('Where''s Waldo'!BF8=0,"",'Where''s Waldo'!BF8) -> 23 | AW8: =IF('Where''s Waldo'!BG8=0,"",'Where''s Waldo'!BG8) | AX8: =IF('Where''s Waldo'!BH8=0,"",'Where''s Waldo'!BH8) | AY8: =IF('Where''s Waldo'!BI8=0,"",'Where''s Waldo'!BI8) | AZ8: =IF('Where''s Waldo'!BJ8=0,"",'Where''s Waldo'!BJ8) | BA8: =IF('Where''s Waldo'!BK8=0,"",'Where''s Waldo'!BK8) | BB8: =IF('Where''s Waldo'!BL8=0,"",'Where''s Waldo'!BL8) | BC8: =IF('Where''s Waldo'!BO8=0,"",'Where''s Waldo'!BO8) -> 22 | BD8: =IF('Where''s Waldo'!BP8=0,"",'Where''s Waldo'!BP8) -> 6 | BE8: =IF('Where''s Waldo'!BQ8=0,"",'Where''s Waldo'!BQ8) -> 30 | BF8: =IF('Where''s Waldo'!BR8=0,"",'Where''s Waldo'!BR8) | BG8: =IF('Where''s Waldo'!BS8=0,"",'Where''s Waldo'!BS8) | BH8: =IF('Where''s Waldo'!BT8=0,"",'Where''s Waldo'!BT8) | BI8: =IF('Where''s Waldo'!BU8=0,"",'Where''s Waldo'!BU8) | BJ8: =IF('Where''s Waldo'!BV8=0,"",'Where''s Waldo'!BV8)
A9: 6 | B9: 9 | D9: ='Where''s Waldo'!C9 -> 9 | E9: ='Where''s Waldo'!D9 | G9: =IF('Where''s Waldo'!Q9=0,"",'Where''s Waldo'!Q9) -> 9 | H9: =IF('Where''s Waldo'!R9=0,"",'Where''s Waldo'!R9) -> 30 | I9: =IF('Where''s Waldo'!S9=0,"",'Where''s Waldo'!S9) -> 23 | J9: =IF('Where''s Waldo'!T9=0,"",'Where''s Waldo'!T9) | K9: =IF('Where''s Waldo'!U9=0,"",'Where''s Waldo'!U9) | L9: =IF('Where''s Waldo'!V9=0,"",'Where''s Waldo'!V9) | M9: =IF('Where''s Waldo'!W9=0,"",'Where''s Waldo'!W9) | N9: =IF('Where''s Waldo'!X9=0,"",'Where''s Waldo'!X9) | O9: =IF('Where''s Waldo'!AA9=0,"",'Where''s Waldo'!AA9) -> 22 | P9: =IF('Where''s Waldo'!AB9=0,"",'Where''s Waldo'!AB9) -> 6 | Q9: =IF('Where''s Waldo'!AC9=0,"",'Where''s Waldo'!AC9) -> 15 | R9: =IF('Where''s Waldo'!AD9=0,"",'Where''s Waldo'!AD9) | S9: =IF('Where''s Waldo'!AE9=0,"",'Where''s Waldo'!AE9) | T9: =IF('Where''s Waldo'!AF9=0,"",'Where''s Waldo'!AF9) | U9: =IF('Where''s Waldo'!AG9=0,"",'Where''s Waldo'!AG9) | V9: =IF('Where''s Waldo'!AH9=0,"",'Where''s Waldo'!AH9) | X9: ='Where''s Waldo'!F9 | Y9: ='Where''s Waldo'!G9 -> 9 | AA9: =IF('Where''s Waldo'!AK9=0,"",'Where''s Waldo'!AK9) -> 22 | AB9: =IF('Where''s Waldo'!AL9=0,"",'Where''s Waldo'!AL9) -> 30 | AC9: =IF('Where''s Waldo'!AM9=0,"",'Where''s Waldo'!AM9) | AD9: =IF('Where''s Waldo'!AN9=0,"",'Where''s Waldo'!AN9) | AE9: =IF('Where''s Waldo'!AO9=0,"",'Where''s Waldo'!AO9) | AF9: =IF('Where''s Waldo'!AP9=0,"",'Where''s Waldo'!AP9) | AG9: =IF('Where''s Waldo'!AQ9=0,"",'Where''s Waldo'!AQ9) | AH9: =IF('Where''s Waldo'!AR9=0,"",'Where''s Waldo'!AR9) | AI9: =IF('Where''s Waldo'!AU9=0,"",'Where''s Waldo'!AU9) -> 9 | AJ9: =IF('Where''s Waldo'!AV9=0,"",'Where''s Waldo'!AV9) -> 6 | AK9: =IF('Where''s Waldo'!AW9=0,"",'Where''s Waldo'!AW9) -> 15 | AL9: =IF('Where''s Waldo'!AX9=0,"",'Where''s Waldo'!AX9) | AM9: =IF('Where''s Waldo'!AY9=0,"",'Where''s Waldo'!AY9) | AN9: =IF('Where''s Waldo'!AZ9=0,"",'Where''s Waldo'!AZ9) | AO9: =IF('Where''s Waldo'!BA9=0,"",'Where''s Waldo'!BA9) | AP9: =IF('Where''s Waldo'!BB9=0,"",'Where''s Waldo'!BB9) | AR9: =IF('Where''s Waldo'!I9="","",'Where''s Waldo'!I9) -> 9 | AS9: =IF('Where''s Waldo'!J9="","",'Where''s Waldo'!J9) | AU9: =IF('Where''s Waldo'!BE9=0,"",'Where''s Waldo'!BE9) -> 9 | AV9: =IF('Where''s Waldo'!BF9=0,"",'Where''s Waldo'!BF9) -> 15 | AW9: =IF('Where''s Waldo'!BG9=0,"",'Where''s Waldo'!BG9) -> 23 | AX9: =IF('Where''s Waldo'!BH9=0,"",'Where''s Waldo'!BH9) | AY9: =IF('Where''s Waldo'!BI9=0,"",'Where''s Waldo'!BI9) | AZ9: =IF('Where''s Waldo'!BJ9=0,"",'Where''s Waldo'!BJ9) | BA9: =IF('Where''s Waldo'!BK9=0,"",'Where''s Waldo'!BK9) | BB9: =IF('Where''s Waldo'!BL9=0,"",'Where''s Waldo'!BL9) | BC9: =IF('Where''s Waldo'!BO9=0,"",'Where''s Waldo'!BO9) -> 22 | BD9: =IF('Where''s Waldo'!BP9=0,"",'Where''s Waldo'!BP9) -> 6 | BE9: =IF('Where''s Waldo'!BQ9=0,"",'Where''s Waldo'!BQ9) -> 30 | BF9: =IF('Where''s Waldo'!BR9=0,"",'Where''s Waldo'!BR9) | BG9: =IF('Where''s Waldo'!BS9=0,"",'Where''s Waldo'!BS9) | BH9: =IF('Where''s Waldo'!BT9=0,"",'Where''s Waldo'!BT9) | BI9: =IF('Where''s Waldo'!BU9=0,"",'Where''s Waldo'!BU9) | BJ9: =IF('Where''s Waldo'!BV9=0,"",'Where''s Waldo'!BV9)
A10: 7 | D10: ='Where''s Waldo'!C10 | E10: ='Where''s Waldo'!D10 | G10: =IF('Where''s Waldo'!Q10=0,"",'Where''s Waldo'!Q10) -> 9 | H10: =IF('Where''s Waldo'!R10=0,"",'Where''s Waldo'!R10) -> 30 | I10: =IF('Where''s Waldo'!S10=0,"",'Where''s Waldo'!S10) -> 23 | J10: =IF('Where''s Waldo'!T10=0,"",'Where''s Waldo'!T10) | K10: =IF('Where''s Waldo'!U10=0,"",'Where''s Waldo'!U10) | L10: =IF('Where''s Waldo'!V10=0,"",'Where''s Waldo'!V10) | M10: =IF('Where''s Waldo'!W10=0,"",'Where''s Waldo'!W10) | N10: =IF('Where''s Waldo'!X10=0,"",'Where''s Waldo'!X10) | O10: =IF('Where''s Waldo'!AA10=0,"",'Where''s Waldo'!AA10) -> 22 | P10: =IF('Where''s Waldo'!AB10=0,"",'Where''s Waldo'!AB10) -> 6 | Q10: =IF('Where''s Waldo'!AC10=0,"",'Where''s Waldo'!AC10) -> 15 | R10: =IF('Where''s Waldo'!AD10=0,"",'Where''s Waldo'!AD10) | S10: =IF('Where''s Waldo'!AE10=0,"",'Where''s Waldo'!AE10) | T10: =IF('Where''s Waldo'!AF10=0,"",'Where''s Waldo'!AF10) | U10: =IF('Where''s Waldo'!AG10=0,"",'Where''s Waldo'!AG10) | V10: =IF('Where''s Waldo'!AH10=0,"",'Where''s Waldo'!AH10) | X10: ='Where''s Waldo'!F10 | Y10: ='Where''s Waldo'!G10 | AA10: =IF('Where''s Waldo'!AK10=0,"",'Where''s Waldo'!AK10) -> 22 | AB10: =IF('Where''s Waldo'!AL10=0,"",'Where''s Waldo'!AL10) -> 30 | AC10: =IF('Where''s Waldo'!AM10=0,"",'Where''s Waldo'!AM10) | AD10: =IF('Where''s Waldo'!AN10=0,"",'Where''s Waldo'!AN10) | AE10: =IF('Where''s Waldo'!AO10=0,"",'Where''s Waldo'!AO10) | AF10: =IF('Where''s Waldo'!AP10=0,"",'Where''s Waldo'!AP10) | AG10: =IF('Where''s Waldo'!AQ10=0,"",'Where''s Waldo'!AQ10) | AH10: =IF('Where''s Waldo'!AR10=0,"",'Where''s Waldo'!AR10) | AI10: =IF('Where''s Waldo'!AU10=0,"",'Where''s Waldo'!AU10) -> 9 | AJ10: =IF('Where''s Waldo'!AV10=0,"",'Where''s Waldo'!AV10) -> 6 | AK10: =IF('Where''s Waldo'!AW10=0,"",'Where''s Waldo'!AW10) -> 15 | AL10: =IF('Where''s Waldo'!AX10=0,"",'Where''s Waldo'!AX10) | AM10: =IF('Where''s Waldo'!AY10=0,"",'Where''s Waldo'!AY10) | AN10: =IF('Where''s Waldo'!AZ10=0,"",'Where''s Waldo'!AZ10) | AO10: =IF('Where''s Waldo'!BA10=0,"",'Where''s Waldo'!BA10) | AP10: =IF('Where''s Waldo'!BB10=0,"",'Where''s Waldo'!BB10) | AR10: =IF('Where''s Waldo'!I10="","",'Where''s Waldo'!I10) | AS10: =IF('Where''s Waldo'!J10="","",'Where''s Waldo'!J10) | AU10: =IF('Where''s Waldo'!BE10=0,"",'Where''s Waldo'!BE10) -> 9 | AV10: =IF('Where''s Waldo'!BF10=0,"",'Where''s Waldo'!BF10) -> 15 | AW10: =IF('Where''s Waldo'!BG10=0,"",'Where''s Waldo'!BG10) -> 23 | AX10: =IF('Where''s Waldo'!BH10=0,"",'Where''s Waldo'!BH10) | AY10: =IF('Where''s Waldo'!BI10=0,"",'Where''s Waldo'!BI10) | AZ10: =IF('Where''s Waldo'!BJ10=0,"",'Where''s Waldo'!BJ10) | BA10: =IF('Where''s Waldo'!BK10=0,"",'Where''s Waldo'!BK10) | BB10: =IF('Where''s Waldo'!BL10=0,"",'Where''s Waldo'!BL10) | BC10: =IF('Where''s Waldo'!BO10=0,"",'Where''s Waldo'!BO10) -> 22 | BD10: =IF('Where''s Waldo'!BP10=0,"",'Where''s Waldo'!BP10) -> 6 | BE10: =IF('Where''s Waldo'!BQ10=0,"",'Where''s Waldo'!BQ10) -> 30 | BF10: =IF('Where''s Waldo'!BR10=0,"",'Where''s Waldo'!BR10) | BG10: =IF('Where''s Waldo'!BS10=0,"",'Where''s Waldo'!BS10) | BH10: =IF('Where''s Waldo'!BT10=0,"",'Where''s Waldo'!BT10) | BI10: =IF('Where''s Waldo'!BU10=0,"",'Where''s Waldo'!BU10) | BJ10: =IF('Where''s Waldo'!BV10=0,"",'Where''s Waldo'!BV10)
A11: 8 | D11: ='Where''s Waldo'!C11 | E11: ='Where''s Waldo'!D11 | G11: =IF('Where''s Waldo'!Q11=0,"",'Where''s Waldo'!Q11) -> 9 | H11: =IF('Where''s Waldo'!R11=0,"",'Where''s Waldo'!R11) -> 30 | I11: =IF('Where''s Waldo'!S11=0,"",'Where''s Waldo'!S11) -> 23 | J11: =IF('Where''s Waldo'!T11=0,"",'Where''s Waldo'!T11) | K11: =IF('Where''s Waldo'!U11=0,"",'Where''s Waldo'!U11) | L11: =IF('Where''s Waldo'!V11=0,"",'Where''s Waldo'!V11) | M11: =IF('Where''s Waldo'!W11=0,"",'Where''s Waldo'!W11) | N11: =IF('Where''s Waldo'!X11=0,"",'Where''s Waldo'!X11) | O11: =IF('Where''s Waldo'!AA11=0,"",'Where''s Waldo'!AA11) -> 22 | P11: =IF('Where''s Waldo'!AB11=0,"",'Where''s Waldo'!AB11) -> 6 | Q11: =IF('Where''s Waldo'!AC11=0,"",'Where''s Waldo'!AC11) -> 15 | R11: =IF('Where''s Waldo'!AD11=0,"",'Where''s Waldo'!AD11) | S11: =IF('Where''s Waldo'!AE11=0,"",'Where''s Waldo'!AE11) | T11: =IF('Where''s Waldo'!AF11=0,"",'Where''s Waldo'!AF11) | U11: =IF('Where''s Waldo'!AG11=0,"",'Where''s Waldo'!AG11) | V11: =IF('Where''s Waldo'!AH11=0,"",'Where''s Waldo'!AH11) | X11: ='Where''s Waldo'!F11 | Y11: ='Where''s Waldo'!G11 | AA11: =IF('Where''s Waldo'!AK11=0,"",'Where''s Waldo'!AK11) -> 22 | AB11: =IF('Where''s Waldo'!AL11=0,"",'Where''s Waldo'!AL11) -> 30 | AC11: =IF('Where''s Waldo'!AM11=0,"",'Where''s Waldo'!AM11) | AD11: =IF('Where''s Waldo'!AN11=0,"",'Where''s Waldo'!AN11) | AE11: =IF('Where''s Waldo'!AO11=0,"",'Where''s Waldo'!AO11) | AF11: =IF('Where''s Waldo'!AP11=0,"",'Where''s Waldo'!AP11) | AG11: =IF('Where''s Waldo'!AQ11=0,"",'Where''s Waldo'!AQ11) | AH11: =IF('Where''s Waldo'!AR11=0,"",'Where''s Waldo'!AR11) | AI11: =IF('Where''s Waldo'!AU11=0,"",'Where''s Waldo'!AU11) -> 9 | AJ11: =IF('Where''s Waldo'!AV11=0,"",'Where''s Waldo'!AV11) -> 6 | AK11: =IF('Where''s Waldo'!AW11=0,"",'Where''s Waldo'!AW11) -> 15 | AL11: =IF('Where''s Waldo'!AX11=0,"",'Where''s Waldo'!AX11) | AM11: =IF('Where''s Waldo'!AY11=0,"",'Where''s Waldo'!AY11) | AN11: =IF('Where''s Waldo'!AZ11=0,"",'Where''s Waldo'!AZ11) | AO11: =IF('Where''s Waldo'!BA11=0,"",'Where''s Waldo'!BA11) | AP11: =IF('Where''s Waldo'!BB11=0,"",'Where''s Waldo'!BB11) | AR11: =IF('Where''s Waldo'!I11="","",'Where''s Waldo'!I11) | AS11: =IF('Where''s Waldo'!J11="","",'Where''s Waldo'!J11) | AU11: =IF('Where''s Waldo'!BE11=0,"",'Where''s Waldo'!BE11) -> 9 | AV11: =IF('Where''s Waldo'!BF11=0,"",'Where''s Waldo'!BF11) -> 15 | AW11: =IF('Where''s Waldo'!BG11=0,"",'Where''s Waldo'!BG11) -> 23 | AX11: =IF('Where''s Waldo'!BH11=0,"",'Where''s Waldo'!BH11) | AY11: =IF('Where''s Waldo'!BI11=0,"",'Where''s Waldo'!BI11) | AZ11: =IF('Where''s Waldo'!BJ11=0,"",'Where''s Waldo'!BJ11) | BA11: =IF('Where''s Waldo'!BK11=0,"",'Where''s Waldo'!BK11) | BB11: =IF('Where''s Waldo'!BL11=0,"",'Where''s Waldo'!BL11) | BC11: =IF('Where''s Waldo'!BO11=0,"",'Where''s Waldo'!BO11) -> 22 | BD11: =IF('Where''s Waldo'!BP11=0,"",'Where''s Waldo'!BP11) -> 6 | BE11: =IF('Where''s Waldo'!BQ11=0,"",'Where''s Waldo'!BQ11) -> 30 | BF11: =IF('Where''s Waldo'!BR11=0,"",'Where''s Waldo'!BR11) | BG11: =IF('Where''s Waldo'!BS11=0,"",'Where''s Waldo'!BS11) | BH11: =IF('Where''s Waldo'!BT11=0,"",'Where''s Waldo'!BT11) | BI11: =IF('Where''s Waldo'!BU11=0,"",'Where''s Waldo'!BU11) | BJ11: =IF('Where''s Waldo'!BV11=0,"",'Where''s Waldo'!BV11)
A12: 9 | D12: ='Where''s Waldo'!C12 | E12: ='Where''s Waldo'!D12 | G12: =IF('Where''s Waldo'!Q12=0,"",'Where''s Waldo'!Q12) -> 9 | H12: =IF('Where''s Waldo'!R12=0,"",'Where''s Waldo'!R12) -> 30 | I12: =IF('Where''s Waldo'!S12=0,"",'Where''s Waldo'!S12) -> 23 | J12: =IF('Where''s Waldo'!T12=0,"",'Where''s Waldo'!T12) | K12: =IF('Where''s Waldo'!U12=0,"",'Where''s Waldo'!U12) | L12: =IF('Where''s Waldo'!V12=0,"",'Where''s Waldo'!V12) | M12: =IF('Where''s Waldo'!W12=0,"",'Where''s Waldo'!W12) | N12: =IF('Where''s Waldo'!X12=0,"",'Where''s Waldo'!X12) | O12: =IF('Where''s Waldo'!AA12=0,"",'Where''s Waldo'!AA12) -> 22 | P12: =IF('Where''s Waldo'!AB12=0,"",'Where''s Waldo'!AB12) -> 6 | Q12: =IF('Where''s Waldo'!AC12=0,"",'Where''s Waldo'!AC12) -> 15 | R12: =IF('Where''s Waldo'!AD12=0,"",'Where''s Waldo'!AD12) | S12: =IF('Where''s Waldo'!AE12=0,"",'Where''s Waldo'!AE12) | T12: =IF('Where''s Waldo'!AF12=0,"",'Where''s Waldo'!AF12) | U12: =IF('Where''s Waldo'!AG12=0,"",'Where''s Waldo'!AG12) | V12: =IF('Where''s Waldo'!AH12=0,"",'Where''s Waldo'!AH12) | X12: ='Where''s Waldo'!F12 | Y12: ='Where''s Waldo'!G12 | AA12: =IF('Where''s Waldo'!AK12=0,"",'Where''s Waldo'!AK12) -> 22 | AB12: =IF('Where''s Waldo'!AL12=0,"",'Where''s Waldo'!AL12) -> 30 | AC12: =IF('Where''s Waldo'!AM12=0,"",'Where''s Waldo'!AM12) | AD12: =IF('Where''s Waldo'!AN12=0,"",'Where''s Waldo'!AN12) | AE12: =IF('Where''s Waldo'!AO12=0,"",'Where''s Waldo'!AO12) | AF12: =IF('Where''s Waldo'!AP12=0,"",'Where''s Waldo'!AP12) | AG12: =IF('Where''s Waldo'!AQ12=0,"",'Where''s Waldo'!AQ12) | AH12: =IF('Where''s Waldo'!AR12=0,"",'Where''s Waldo'!AR12) | AI12: =IF('Where''s Waldo'!AU12=0,"",'Where''s Waldo'!AU12) -> 9 | AJ12: =IF('Where''s Waldo'!AV12=0,"",'Where''s Waldo'!AV12) -> 6 | AK12: =IF('Where''s Waldo'!AW12=0,"",'Where''s Waldo'!AW12) -> 15 | AL12: =IF('Where''s Waldo'!AX12=0,"",'Where''s Waldo'!AX12) | AM12: =IF('Where''s Waldo'!AY12=0,"",'Where''s Waldo'!AY12) | AN12: =IF('Where''s Waldo'!AZ12=0,"",'Where''s Waldo'!AZ12) | AO12: =IF('Where''s Waldo'!BA12=0,"",'Where''s Waldo'!BA12) | AP12: =IF('Where''s Waldo'!BB12=0,"",'Where''s Waldo'!BB12) | AR12: =IF('Where''s Waldo'!I12="","",'Where''s Waldo'!I12) | AS12: =IF('Where''s Waldo'!J12="","",'Where''s Waldo'!J12) | AU12: =IF('Where''s Waldo'!BE12=0,"",'Where''s Waldo'!BE12) -> 9 | AV12: =IF('Where''s Waldo'!BF12=0,"",'Where''s Waldo'!BF12) -> 15 | AW12: =IF('Where''s Waldo'!BG12=0,"",'Where''s Waldo'!BG12) -> 23 | AX12: =IF('Where''s Waldo'!BH12=0,"",'Where''s Waldo'!BH12) | AY12: =IF('Where''s Waldo'!BI12=0,"",'Where''s Waldo'!BI12) | AZ12: =IF('Where''s Waldo'!BJ12=0,"",'Where''s Waldo'!BJ12) | BA12: =IF('Where''s Waldo'!BK12=0,"",'Where''s Waldo'!BK12) | BB12: =IF('Where''s Waldo'!BL12=0,"",'Where''s Waldo'!BL12) | BC12: =IF('Where''s Waldo'!BO12=0,"",'Where''s Waldo'!BO12) -> 22 | BD12: =IF('Where''s Waldo'!BP12=0,"",'Where''s Waldo'!BP12) -> 6 | BE12: =IF('Where''s Waldo'!BQ12=0,"",'Where''s Waldo'!BQ12) -> 30 | BF12: =IF('Where''s Waldo'!BR12=0,"",'Where''s Waldo'!BR12) | BG12: =IF('Where''s Waldo'!BS12=0,"",'Where''s Waldo'!BS12) | BH12: =IF('Where''s Waldo'!BT12=0,"",'Where''s Waldo'!BT12) | BI12: =IF('Where''s Waldo'!BU12=0,"",'Where''s Waldo'!BU12) | BJ12: =IF('Where''s Waldo'!BV12=0,"",'Where''s Waldo'!BV12)
A13: 10 | D13: ='Where''s Waldo'!C13 | E13: ='Where''s Waldo'!D13 | G13: =IF('Where''s Waldo'!Q13=0,"",'Where''s Waldo'!Q13) -> 9 | H13: =IF('Where''s Waldo'!R13=0,"",'Where''s Waldo'!R13) -> 30 | I13: =IF('Where''s Waldo'!S13=0,"",'Where''s Waldo'!S13) -> 23 | J13: =IF('Where''s Waldo'!T13=0,"",'Where''s Waldo'!T13) | K13: =IF('Where''s Waldo'!U13=0,"",'Where''s Waldo'!U13) | L13: =IF('Where''s Waldo'!V13=0,"",'Where''s Waldo'!V13) | M13: =IF('Where''s Waldo'!W13=0,"",'Where''s Waldo'!W13) | N13: =IF('Where''s Waldo'!X13=0,"",'Where''s Waldo'!X13) | O13: =IF('Where''s Waldo'!AA13=0,"",'Where''s Waldo'!AA13) -> 22 | P13: =IF('Where''s Waldo'!AB13=0,"",'Where''s Waldo'!AB13) -> 6 | Q13: =IF('Where''s Waldo'!AC13=0,"",'Where''s Waldo'!AC13) -> 15 | R13: =IF('Where''s Waldo'!AD13=0,"",'Where''s Waldo'!AD13) | S13: =IF('Where''s Waldo'!AE13=0,"",'Where''s Waldo'!AE13) | T13: =IF('Where''s Waldo'!AF13=0,"",'Where''s Waldo'!AF13) | U13: =IF('Where''s Waldo'!AG13=0,"",'Where''s Waldo'!AG13) | V13: =IF('Where''s Waldo'!AH13=0,"",'Where''s Waldo'!AH13) | X13: ='Where''s Waldo'!F13 | Y13: ='Where''s Waldo'!G13 | AA13: =IF('Where''s Waldo'!AK13=0,"",'Where''s Waldo'!AK13) -> 22 | AB13: =IF('Where''s Waldo'!AL13=0,"",'Where''s Waldo'!AL13) -> 30 | AC13: =IF('Where''s Waldo'!AM13=0,"",'Where''s Waldo'!AM13) | AD13: =IF('Where''s Waldo'!AN13=0,"",'Where''s Waldo'!AN13) | AE13: =IF('Where''s Waldo'!AO13=0,"",'Where''s Waldo'!AO13) | AF13: =IF('Where''s Waldo'!AP13=0,"",'Where''s Waldo'!AP13) | AG13: =IF('Where''s Waldo'!AQ13=0,"",'Where''s Waldo'!AQ13) | AH13: =IF('Where''s Waldo'!AR13=0,"",'Where''s Waldo'!AR13) | AI13: =IF('Where''s Waldo'!AU13=0,"",'Where''s Waldo'!AU13) -> 9 | AJ13: =IF('Where''s Waldo'!AV13=0,"",'Where''s Waldo'!AV13) -> 6 | AK13: =IF('Where''s Waldo'!AW13=0,"",'Where''s Waldo'!AW13) -> 15 | AL13: =IF('Where''s Waldo'!AX13=0,"",'Where''s Waldo'!AX13) | AM13: =IF('Where''s Waldo'!AY13=0,"",'Where''s Waldo'!AY13) | AN13: =IF('Where''s Waldo'!AZ13=0,"",'Where''s Waldo'!AZ13) | AO13: =IF('Where''s Waldo'!BA13=0,"",'Where''s Waldo'!BA13) | AP13: =IF('Where''s Waldo'!BB13=0,"",'Where''s Waldo'!BB13) | AR13: =IF('Where''s Waldo'!I13="","",'Where''s Waldo'!I13) | AS13: =IF('Where''s Waldo'!J13="","",'Where''s Waldo'!J13) | AU13: =IF('Where''s Waldo'!BE13=0,"",'Where''s Waldo'!BE13) -> 9 | AV13: =IF('Where''s Waldo'!BF13=0,"",'Where''s Waldo'!BF13) -> 15 | AW13: =IF('Where''s Waldo'!BG13=0,"",'Where''s Waldo'!BG13) -> 23 | AX13: =IF('Where''s Waldo'!BH13=0,"",'Where''s Waldo'!BH13) | AY13: =IF('Where''s Waldo'!BI13=0,"",'Where''s Waldo'!BI13) | AZ13: =IF('Where''s Waldo'!BJ13=0,"",'Where''s Waldo'!BJ13) | BA13: =IF('Where''s Waldo'!BK13=0,"",'Where''s Waldo'!BK13) | BB13: =IF('Where''s Waldo'!BL13=0,"",'Where''s Waldo'!BL13) | BC13: =IF('Where''s Waldo'!BO13=0,"",'Where''s Waldo'!BO13) -> 22 | BD13: =IF('Where''s Waldo'!BP13=0,"",'Where''s Waldo'!BP13) -> 6 | BE13: =IF('Where''s Waldo'!BQ13=0,"",'Where''s Waldo'!BQ13) -> 30 | BF13: =IF('Where''s Waldo'!BR13=0,"",'Where''s Waldo'!BR13) | BG13: =IF('Where''s Waldo'!BS13=0,"",'Where''s Waldo'!BS13) | BH13: =IF('Where''s Waldo'!BT13=0,"",'Where''s Waldo'!BT13) | BI13: =IF('Where''s Waldo'!BU13=0,"",'Where''s Waldo'!BU13) | BJ13: =IF('Where''s Waldo'!BV13=0,"",'Where''s Waldo'!BV13)
A14: 11 | D14: ='Where''s Waldo'!C14 | E14: ='Where''s Waldo'!D14 | G14: =IF('Where''s Waldo'!Q14=0,"",'Where''s Waldo'!Q14) -> 9 | H14: =IF('Where''s Waldo'!R14=0,"",'Where''s Waldo'!R14) -> 30 | I14: =IF('Where''s Waldo'!S14=0,"",'Where''s Waldo'!S14) -> 23 | J14: =IF('Where''s Waldo'!T14=0,"",'Where''s Waldo'!T14) | K14: =IF('Where''s Waldo'!U14=0,"",'Where''s Waldo'!U14) | L14: =IF('Where''s Waldo'!V14=0,"",'Where''s Waldo'!V14) | M14: =IF('Where''s Waldo'!W14=0,"",'Where''s Waldo'!W14) | N14: =IF('Where''s Waldo'!X14=0,"",'Where''s Waldo'!X14) | O14: =IF('Where''s Waldo'!AA14=0,"",'Where''s Waldo'!AA14) -> 22 | P14: =IF('Where''s Waldo'!AB14=0,"",'Where''s Waldo'!AB14) -> 6 | Q14: =IF('Where''s Waldo'!AC14=0,"",'Where''s Waldo'!AC14) -> 15 | R14: =IF('Where''s Waldo'!AD14=0,"",'Where''s Waldo'!AD14) | S14: =IF('Where''s Waldo'!AE14=0,"",'Where''s Waldo'!AE14) | T14: =IF('Where''s Waldo'!AF14=0,"",'Where''s Waldo'!AF14) | U14: =IF('Where''s Waldo'!AG14=0,"",'Where''s Waldo'!AG14) | V14: =IF('Where''s Waldo'!AH14=0,"",'Where''s Waldo'!AH14) | X14: ='Where''s Waldo'!F14 | Y14: ='Where''s Waldo'!G14 | AA14: =IF('Where''s Waldo'!AK14=0,"",'Where''s Waldo'!AK14) -> 22 | AB14: =IF('Where''s Waldo'!AL14=0,"",'Where''s Waldo'!AL14) -> 30 | AC14: =IF('Where''s Waldo'!AM14=0,"",'Where''s Waldo'!AM14) | AD14: =IF('Where''s Waldo'!AN14=0,"",'Where''s Waldo'!AN14) | AE14: =IF('Where''s Waldo'!AO14=0,"",'Where''s Waldo'!AO14) | AF14: =IF('Where''s Waldo'!AP14=0,"",'Where''s Waldo'!AP14) | AG14: =IF('Where''s Waldo'!AQ14=0,"",'Where''s Waldo'!AQ14) | AH14: =IF('Where''s Waldo'!AR14=0,"",'Where''s Waldo'!AR14) | AI14: =IF('Where''s Waldo'!AU14=0,"",'Where''s Waldo'!AU14) -> 9 | AJ14: =IF('Where''s Waldo'!AV14=0,"",'Where''s Waldo'!AV14) -> 6 | AK14: =IF('Where''s Waldo'!AW14=0,"",'Where''s Waldo'!AW14) -> 15 | AL14: =IF('Where''s Waldo'!AX14=0,"",'Where''s Waldo'!AX14) | AM14: =IF('Where''s Waldo'!AY14=0,"",'Where''s Waldo'!AY14) | AN14: =IF('Where''s Waldo'!AZ14=0,"",'Where''s Waldo'!AZ14) | AO14: =IF('Where''s Waldo'!BA14=0,"",'Where''s Waldo'!BA14) | AP14: =IF('Where''s Waldo'!BB14=0,"",'Where''s Waldo'!BB14) | AR14: =IF('Where''s Waldo'!I14="","",'Where''s Waldo'!I14) | AS14: =IF('Where''s Waldo'!J14="","",'Where''s Waldo'!J14) | AU14: =IF('Where''s Waldo'!BE14=0,"",'Where''s Waldo'!BE14) -> 9 | AV14: =IF('Where''s Waldo'!BF14=0,"",'Where''s Waldo'!BF14) -> 15 | AW14: =IF('Where''s Waldo'!BG14=0,"",'Where''s Waldo'!BG14) -> 23 | AX14: =IF('Where''s Waldo'!BH14=0,"",'Where''s Waldo'!BH14) | AY14: =IF('Where''s Waldo'!BI14=0,"",'Where''s Waldo'!BI14) | AZ14: =IF('Where''s Waldo'!BJ14=0,"",'Where''s Waldo'!BJ14) | BA14: =IF('Where''s Waldo'!BK14=0,"",'Where''s Waldo'!BK14) | BB14: =IF('Where''s Waldo'!BL14=0,"",'Where''s Waldo'!BL14) | BC14: =IF('Where''s Waldo'!BO14=0,"",'Where''s Waldo'!BO14) -> 22 | BD14: =IF('Where''s Waldo'!BP14=0,"",'Where''s Waldo'!BP14) -> 6 | BE14: =IF('Where''s Waldo'!BQ14=0,"",'Where''s Waldo'!BQ14) -> 30 | BF14: =IF('Where''s Waldo'!BR14=0,"",'Where''s Waldo'!BR14) | BG14: =IF('Where''s Waldo'!BS14=0,"",'Where''s Waldo'!BS14) | BH14: =IF('Where''s Waldo'!BT14=0,"",'Where''s Waldo'!BT14) | BI14: =IF('Where''s Waldo'!BU14=0,"",'Where''s Waldo'!BU14) | BJ14: =IF('Where''s Waldo'!BV14=0,"",'Where''s Waldo'!BV14)
A15: 12 | D15: ='Where''s Waldo'!C15 | E15: ='Where''s Waldo'!D15 | G15: =IF('Where''s Waldo'!Q15=0,"",'Where''s Waldo'!Q15) -> 9 | H15: =IF('Where''s Waldo'!R15=0,"",'Where''s Waldo'!R15) -> 30 | I15: =IF('Where''s Waldo'!S15=0,"",'Where''s Waldo'!S15) -> 23 | J15: =IF('Where''s Waldo'!T15=0,"",'Where''s Waldo'!T15) | K15: =IF('Where''s Waldo'!U15=0,"",'Where''s Waldo'!U15) | L15: =IF('Where''s Waldo'!V15=0,"",'Where''s Waldo'!V15) | M15: =IF('Where''s Waldo'!W15=0,"",'Where''s Waldo'!W15) | N15: =IF('Where''s Waldo'!X15=0,"",'Where''s Waldo'!X15) | O15: =IF('Where''s Waldo'!AA15=0,"",'Where''s Waldo'!AA15) -> 22 | P15: =IF('Where''s Waldo'!AB15=0,"",'Where''s Waldo'!AB15) -> 6 | Q15: =IF('Where''s Waldo'!AC15=0,"",'Where''s Waldo'!AC15) -> 15 | R15: =IF('Where''s Waldo'!AD15=0,"",'Where''s Waldo'!AD15) | S15: =IF('Where''s Waldo'!AE15=0,"",'Where''s Waldo'!AE15) | T15: =IF('Where''s Waldo'!AF15=0,"",'Where''s Waldo'!AF15) | U15: =IF('Where''s Waldo'!AG15=0,"",'Where''s Waldo'!AG15) | V15: =IF('Where''s Waldo'!AH15=0,"",'Where''s Waldo'!AH15) | X15: ='Where''s Waldo'!F15 | Y15: ='Where''s Waldo'!G15 | AA15: =IF('Where''s Waldo'!AK15=0,"",'Where''s Waldo'!AK15) -> 22 | AB15: =IF('Where''s Waldo'!AL15=0,"",'Where''s Waldo'!AL15) -> 30 | AC15: =IF('Where''s Waldo'!AM15=0,"",'Where''s Waldo'!AM15) | AD15: =IF('Where''s Waldo'!AN15=0,"",'Where''s Waldo'!AN15) | AE15: =IF('Where''s Waldo'!AO15=0,"",'Where''s Waldo'!AO15) | AF15: =IF('Where''s Waldo'!AP15=0,"",'Where''s Waldo'!AP15) | AG15: =IF('Where''s Waldo'!AQ15=0,"",'Where''s Waldo'!AQ15) | AH15: =IF('Where''s Waldo'!AR15=0,"",'Where''s Waldo'!AR15) | AI15: =IF('Where''s Waldo'!AU15=0,"",'Where''s Waldo'!AU15) -> 9 | AJ15: =IF('Where''s Waldo'!AV15=0,"",'Where''s Waldo'!AV15) -> 6 | AK15: =IF('Where''s Waldo'!AW15=0,"",'Where''s Waldo'!AW15) -> 15 | AL15: =IF('Where''s Waldo'!AX15=0,"",'Where''s Waldo'!AX15) | AM15: =IF('Where''s Waldo'!AY15=0,"",'Where''s Waldo'!AY15) | AN15: =IF('Where''s Waldo'!AZ15=0,"",'Where''s Waldo'!AZ15) | AO15: =IF('Where''s Waldo'!BA15=0,"",'Where''s Waldo'!BA15) | AP15: =IF('Where''s Waldo'!BB15=0,"",'Where''s Waldo'!BB15) | AR15: =IF('Where''s Waldo'!I15="","",'Where''s Waldo'!I15) | AS15: =IF('Where''s Waldo'!J15="","",'Where''s Waldo'!J15) | AU15: =IF('Where''s Waldo'!BE15=0,"",'Where''s Waldo'!BE15) -> 9 | AV15: =IF('Where''s Waldo'!BF15=0,"",'Where''s Waldo'!BF15) -> 15 | AW15: =IF('Where''s Waldo'!BG15=0,"",'Where''s Waldo'!BG15) -> 23 | AX15: =IF('Where''s Waldo'!BH15=0,"",'Where''s Waldo'!BH15) | AY15: =IF('Where''s Waldo'!BI15=0,"",'Where''s Waldo'!BI15) | AZ15: =IF('Where''s Waldo'!BJ15=0,"",'Where''s Waldo'!BJ15) | BA15: =IF('Where''s Waldo'!BK15=0,"",'Where''s Waldo'!BK15) | BB15: =IF('Where''s Waldo'!BL15=0,"",'Where''s Waldo'!BL15) | BC15: =IF('Where''s Waldo'!BO15=0,"",'Where''s Waldo'!BO15) -> 22 | BD15: =IF('Where''s Waldo'!BP15=0,"",'Where''s Waldo'!BP15) -> 6 | BE15: =IF('Where''s Waldo'!BQ15=0,"",'Where''s Waldo'!BQ15) -> 30 | BF15: =IF('Where''s Waldo'!BR15=0,"",'Where''s Waldo'!BR15) | BG15: =IF('Where''s Waldo'!BS15=0,"",'Where''s Waldo'!BS15) | BH15: =IF('Where''s Waldo'!BT15=0,"",'Where''s Waldo'!BT15) | BI15: =IF('Where''s Waldo'!BU15=0,"",'Where''s Waldo'!BU15) | BJ15: =IF('Where''s Waldo'!BV15=0,"",'Where''s Waldo'!BV15)
A16: 13 | D16: ='Where''s Waldo'!C16 | E16: ='Where''s Waldo'!D16 | G16: =IF('Where''s Waldo'!Q16=0,"",'Where''s Waldo'!Q16) -> 9 | H16: =IF('Where''s Waldo'!R16=0,"",'Where''s Waldo'!R16) -> 30 | I16: =IF('Where''s Waldo'!S16=0,"",'Where''s Waldo'!S16) -> 23 | J16: =IF('Where''s Waldo'!T16=0,"",'Where''s Waldo'!T16) | K16: =IF('Where''s Waldo'!U16=0,"",'Where''s Waldo'!U16) | L16: =IF('Where''s Waldo'!V16=0,"",'Where''s Waldo'!V16) | M16: =IF('Where''s Waldo'!W16=0,"",'Where''s Waldo'!W16) | N16: =IF('Where''s Waldo'!X16=0,"",'Where''s Waldo'!X16) | O16: =IF('Where''s Waldo'!AA16=0,"",'Where''s Waldo'!AA16) -> 22 | P16: =IF('Where''s Waldo'!AB16=0,"",'Where''s Waldo'!AB16) -> 6 | Q16: =IF('Where''s Waldo'!AC16=0,"",'Where''s Waldo'!AC16) -> 15 | R16: =IF('Where''s Waldo'!AD16=0,"",'Where''s Waldo'!AD16) | S16: =IF('Where''s Waldo'!AE16=0,"",'Where''s Waldo'!AE16) | T16: =IF('Where''s Waldo'!AF16=0,"",'Where''s Waldo'!AF16) | U16: =IF('Where''s Waldo'!AG16=0,"",'Where''s Waldo'!AG16) | V16: =IF('Where''s Waldo'!AH16=0,"",'Where''s Waldo'!AH16) | X16: ='Where''s Waldo'!F16 | Y16: ='Where''s Waldo'!G16 | AA16: =IF('Where''s Waldo'!AK16=0,"",'Where''s Waldo'!AK16) -> 22 | AB16: =IF('Where''s Waldo'!AL16=0,"",'Where''s Waldo'!AL16) -> 30 | AC16: =IF('Where''s Waldo'!AM16=0,"",'Where''s Waldo'!AM16) | AD16: =IF('Where''s Waldo'!AN16=0,"",'Where''s Waldo'!AN16) | AE16: =IF('Where''s Waldo'!AO16=0,"",'Where''s Waldo'!AO16) | AF16: =IF('Where''s Waldo'!AP16=0,"",'Where''s Waldo'!AP16) | AG16: =IF('Where''s Waldo'!AQ16=0,"",'Where''s Waldo'!AQ16) | AH16: =IF('Where''s Waldo'!AR16=0,"",'Where''s Waldo'!AR16) | AI16: =IF('Where''s Waldo'!AU16=0,"",'Where''s Waldo'!AU16) -> 9 | AJ16: =IF('Where''s Waldo'!AV16=0,"",'Where''s Waldo'!AV16) -> 6 | AK16: =IF('Where''s Waldo'!AW16=0,"",'Where''s Waldo'!AW16) -> 15 | AL16: =IF('Where''s Waldo'!AX16=0,"",'Where''s Waldo'!AX16) | AM16: =IF('Where''s Waldo'!AY16=0,"",'Where''s Waldo'!AY16) | AN16: =IF('Where''s Waldo'!AZ16=0,"",'Where''s Waldo'!AZ16) | AO16: =IF('Where''s Waldo'!BA16=0,"",'Where''s Waldo'!BA16) | AP16: =IF('Where''s Waldo'!BB16=0,"",'Where''s Waldo'!BB16) | AR16: =IF('Where''s Waldo'!I16="","",'Where''s Waldo'!I16) | AS16: =IF('Where''s Waldo'!J16="","",'Where''s Waldo'!J16) | AU16: =IF('Where''s Waldo'!BE16=0,"",'Where''s Waldo'!BE16) -> 9 | AV16: =IF('Where''s Waldo'!BF16=0,"",'Where''s Waldo'!BF16) -> 15 | AW16: =IF('Where''s Waldo'!BG16=0,"",'Where''s Waldo'!BG16) -> 23 | AX16: =IF('Where''s Waldo'!BH16=0,"",'Where''s Waldo'!BH16) | AY16: =IF('Where''s Waldo'!BI16=0,"",'Where''s Waldo'!BI16) | AZ16: =IF('Where''s Waldo'!BJ16=0,"",'Where''s Waldo'!BJ16) | BA16: =IF('Where''s Waldo'!BK16=0,"",'Where''s Waldo'!BK16) | BB16: =IF('Where''s Waldo'!BL16=0,"",'Where''s Waldo'!BL16) | BC16: =IF('Where''s Waldo'!BO16=0,"",'Where''s Waldo'!BO16) -> 22 | BD16: =IF('Where''s Waldo'!BP16=0,"",'Where''s Waldo'!BP16) -> 6 | BE16: =IF('Where''s Waldo'!BQ16=0,"",'Where''s Waldo'!BQ16) -> 30 | BF16: =IF('Where''s Waldo'!BR16=0,"",'Where''s Waldo'!BR16) | BG16: =IF('Where''s Waldo'!BS16=0,"",'Where''s Waldo'!BS16) | BH16: =IF('Where''s Waldo'!BT16=0,"",'Where''s Waldo'!BT16) | BI16: =IF('Where''s Waldo'!BU16=0,"",'Where''s Waldo'!BU16) | BJ16: =IF('Where''s Waldo'!BV16=0,"",'Where''s Waldo'!BV16)
A17: 14 | D17: ='Where''s Waldo'!C17 | E17: ='Where''s Waldo'!D17 | G17: =IF('Where''s Waldo'!Q17=0,"",'Where''s Waldo'!Q17) -> 9 | H17: =IF('Where''s Waldo'!R17=0,"",'Where''s Waldo'!R17) -> 30 | I17: =IF('Where''s Waldo'!S17=0,"",'Where''s Waldo'!S17) -> 23 | J17: =IF('Where''s Waldo'!T17=0,"",'Where''s Waldo'!T17) | K17: =IF('Where''s Waldo'!U17=0,"",'Where''s Waldo'!U17) | L17: =IF('Where''s Waldo'!V17=0,"",'Where''s Waldo'!V17) | M17: =IF('Where''s Waldo'!W17=0,"",'Where''s Waldo'!W17) | N17: =IF('Where''s Waldo'!X17=0,"",'Where''s Waldo'!X17) | O17: =IF('Where''s Waldo'!AA17=0,"",'Where''s Waldo'!AA17) -> 22 | P17: =IF('Where''s Waldo'!AB17=0,"",'Where''s Waldo'!AB17) -> 6 | Q17: =IF('Where''s Waldo'!AC17=0,"",'Where''s Waldo'!AC17) -> 15 | R17: =IF('Where''s Waldo'!AD17=0,"",'Where''s Waldo'!AD17) | S17: =IF('Where''s Waldo'!AE17=0,"",'Where''s Waldo'!AE17) | T17: =IF('Where''s Waldo'!AF17=0,"",'Where''s Waldo'!AF17) | U17: =IF('Where''s Waldo'!AG17=0,"",'Where''s Waldo'!AG17) | V17: =IF('Where''s Waldo'!AH17=0,"",'Where''s Waldo'!AH17) | X17: ='Where''s Waldo'!F17 | Y17: ='Where''s Waldo'!G17 | AA17: =IF('Where''s Waldo'!AK17=0,"",'Where''s Waldo'!AK17) -> 22 | AB17: =IF('Where''s Waldo'!AL17=0,"",'Where''s Waldo'!AL17) -> 30 | AC17: =IF('Where''s Waldo'!AM17=0,"",'Where''s Waldo'!AM17) | AD17: =IF('Where''s Waldo'!AN17=0,"",'Where''s Waldo'!AN17) | AE17: =IF('Where''s Waldo'!AO17=0,"",'Where''s Waldo'!AO17) | AF17: =IF('Where''s Waldo'!AP17=0,"",'Where''s Waldo'!AP17) | AG17: =IF('Where''s Waldo'!AQ17=0,"",'Where''s Waldo'!AQ17) | AH17: =IF('Where''s Waldo'!AR17=0,"",'Where''s Waldo'!AR17) | AI17: =IF('Where''s Waldo'!AU17=0,"",'Where''s Waldo'!AU17) -> 9 | AJ17: =IF('Where''s Waldo'!AV17=0,"",'Where''s Waldo'!AV17) -> 6 | AK17: =IF('Where''s Waldo'!AW17=0,"",'Where''s Waldo'!AW17) -> 15 | AL17: =IF('Where''s Waldo'!AX17=0,"",'Where''s Waldo'!AX17) | AM17: =IF('Where''s Waldo'!AY17=0,"",'Where''s Waldo'!AY17) | AN17: =IF('Where''s Waldo'!AZ17=0,"",'Where''s Waldo'!AZ17) | AO17: =IF('Where''s Waldo'!BA17=0,"",'Where''s Waldo'!BA17) | AP17: =IF('Where''s Waldo'!BB17=0,"",'Where''s Waldo'!BB17) | AR17: =IF('Where''s Waldo'!I17="","",'Where''s Waldo'!I17) | AS17: =IF('Where''s Waldo'!J17="","",'Where''s Waldo'!J17) | AU17: =IF('Where''s Waldo'!BE17=0,"",'Where''s Waldo'!BE17) -> 9 | AV17: =IF('Where''s Waldo'!BF17=0,"",'Where''s Waldo'!BF17) -> 15 | AW17: =IF('Where''s Waldo'!BG17=0,"",'Where''s Waldo'!BG17) -> 23 | AX17: =IF('Where''s Waldo'!BH17=0,"",'Where''s Waldo'!BH17) | AY17: =IF('Where''s Waldo'!BI17=0,"",'Where''s Waldo'!BI17) | AZ17: =IF('Where''s Waldo'!BJ17=0,"",'Where''s Waldo'!BJ17) | BA17: =IF('Where''s Waldo'!BK17=0,"",'Where''s Waldo'!BK17) | BB17: =IF('Where''s Waldo'!BL17=0,"",'Where''s Waldo'!BL17) | BC17: =IF('Where''s Waldo'!BO17=0,"",'Where''s Waldo'!BO17) -> 22 | BD17: =IF('Where''s Waldo'!BP17=0,"",'Where''s Waldo'!BP17) -> 6 | BE17: =IF('Where''s Waldo'!BQ17=0,"",'Where''s Waldo'!BQ17) -> 30 | BF17: =IF('Where''s Waldo'!BR17=0,"",'Where''s Waldo'!BR17) | BG17: =IF('Where''s Waldo'!BS17=0,"",'Where''s Waldo'!BS17) | BH17: =IF('Where''s Waldo'!BT17=0,"",'Where''s Waldo'!BT17) | BI17: =IF('Where''s Waldo'!BU17=0,"",'Where''s Waldo'!BU17) | BJ17: =IF('Where''s Waldo'!BV17=0,"",'Where''s Waldo'!BV17)
A18: 15 | D18: ='Where''s Waldo'!C18 | E18: ='Where''s Waldo'!D18 | G18: =IF('Where''s Waldo'!Q18=0,"",'Where''s Waldo'!Q18) -> 9 | H18: =IF('Where''s Waldo'!R18=0,"",'Where''s Waldo'!R18) -> 30 | I18: =IF('Where''s Waldo'!S18=0,"",'Where''s Waldo'!S18) -> 23 | J18: =IF('Where''s Waldo'!T18=0,"",'Where''s Waldo'!T18) | K18: =IF('Where''s Waldo'!U18=0,"",'Where''s Waldo'!U18) | L18: =IF('Where''s Waldo'!V18=0,"",'Where''s Waldo'!V18) | M18: =IF('Where''s Waldo'!W18=0,"",'Where''s Waldo'!W18) | N18: =IF('Where''s Waldo'!X18=0,"",'Where''s Waldo'!X18) | O18: =IF('Where''s Waldo'!AA18=0,"",'Where''s Waldo'!AA18) -> 22 | P18: =IF('Where''s Waldo'!AB18=0,"",'Where''s Waldo'!AB18) -> 6 | Q18: =IF('Where''s Waldo'!AC18=0,"",'Where''s Waldo'!AC18) -> 15 | R18: =IF('Where''s Waldo'!AD18=0,"",'Where''s Waldo'!AD18) | S18: =IF('Where''s Waldo'!AE18=0,"",'Where''s Waldo'!AE18) | T18: =IF('Where''s Waldo'!AF18=0,"",'Where''s Waldo'!AF18) | U18: =IF('Where''s Waldo'!AG18=0,"",'Where''s Waldo'!AG18) | V18: =IF('Where''s Waldo'!AH18=0,"",'Where''s Waldo'!AH18) | X18: ='Where''s Waldo'!F18 | Y18: ='Where''s Waldo'!G18 | AA18: =IF('Where''s Waldo'!AK18=0,"",'Where''s Waldo'!AK18) -> 22 | AB18: =IF('Where''s Waldo'!AL18=0,"",'Where''s Waldo'!AL18) -> 30 | AC18: =IF('Where''s Waldo'!AM18=0,"",'Where''s Waldo'!AM18) | AD18: =IF('Where''s Waldo'!AN18=0,"",'Where''s Waldo'!AN18) | AE18: =IF('Where''s Waldo'!AO18=0,"",'Where''s Waldo'!AO18) | AF18: =IF('Where''s Waldo'!AP18=0,"",'Where''s Waldo'!AP18) | AG18: =IF('Where''s Waldo'!AQ18=0,"",'Where''s Waldo'!AQ18) | AH18: =IF('Where''s Waldo'!AR18=0,"",'Where''s Waldo'!AR18) | AI18: =IF('Where''s Waldo'!AU18=0,"",'Where''s Waldo'!AU18) -> 9 | AJ18: =IF('Where''s Waldo'!AV18=0,"",'Where''s Waldo'!AV18) -> 6 | AK18: =IF('Where''s Waldo'!AW18=0,"",'Where''s Waldo'!AW18) -> 15 | AL18: =IF('Where''s Waldo'!AX18=0,"",'Where''s Waldo'!AX18) | AM18: =IF('Where''s Waldo'!AY18=0,"",'Where''s Waldo'!AY18) | AN18: =IF('Where''s Waldo'!AZ18=0,"",'Where''s Waldo'!AZ18) | AO18: =IF('Where''s Waldo'!BA18=0,"",'Where''s Waldo'!BA18) | AP18: =IF('Where''s Waldo'!BB18=0,"",'Where''s Waldo'!BB18) | AR18: =IF('Where''s Waldo'!I18="","",'Where''s Waldo'!I18) | AS18: =IF('Where''s Waldo'!J18="","",'Where''s Waldo'!J18) | AU18: =IF('Where''s Waldo'!BE18=0,"",'Where''s Waldo'!BE18) -> 9 | AV18: =IF('Where''s Waldo'!BF18=0,"",'Where''s Waldo'!BF18) -> 15 | AW18: =IF('Where''s Waldo'!BG18=0,"",'Where''s Waldo'!BG18) -> 23 | AX18: =IF('Where''s Waldo'!BH18=0,"",'Where''s Waldo'!BH18) | AY18: =IF('Where''s Waldo'!BI18=0,"",'Where''s Waldo'!BI18) | AZ18: =IF('Where''s Waldo'!BJ18=0,"",'Where''s Waldo'!BJ18) | BA18: =IF('Where''s Waldo'!BK18=0,"",'Where''s Waldo'!BK18) | BB18: =IF('Where''s Waldo'!BL18=0,"",'Where''s Waldo'!BL18) | BC18: =IF('Where''s Waldo'!BO18=0,"",'Where''s Waldo'!BO18) -> 22 | BD18: =IF('Where''s Waldo'!BP18=0,"",'Where''s Waldo'!BP18) -> 6 | BE18: =IF('Where''s Waldo'!BQ18=0,"",'Where''s Waldo'!BQ18) -> 30 | BF18: =IF('Where''s Waldo'!BR18=0,"",'Where''s Waldo'!BR18) | BG18: =IF('Where''s Waldo'!BS18=0,"",'Where''s Waldo'!BS18) | BH18: =IF('Where''s Waldo'!BT18=0,"",'Where''s Waldo'!BT18) | BI18: =IF('Where''s Waldo'!BU18=0,"",'Where''s Waldo'!BU18) | BJ18: =IF('Where''s Waldo'!BV18=0,"",'Where''s Waldo'!BV18)
A19: 16 | D19: ='Where''s Waldo'!C19 | E19: ='Where''s Waldo'!D19 | G19: =IF('Where''s Waldo'!Q19=0,"",'Where''s Waldo'!Q19) -> 9 | H19: =IF('Where''s Waldo'!R19=0,"",'Where''s Waldo'!R19) -> 30 | I19: =IF('Where''s Waldo'!S19=0,"",'Where''s Waldo'!S19) -> 23 | J19: =IF('Where''s Waldo'!T19=0,"",'Where''s Waldo'!T19) | K19: =IF('Where''s Waldo'!U19=0,"",'Where''s Waldo'!U19) | L19: =IF('Where''s Waldo'!V19=0,"",'Where''s Waldo'!V19) | M19: =IF('Where''s Waldo'!W19=0,"",'Where''s Waldo'!W19) | N19: =IF('Where''s Waldo'!X19=0,"",'Where''s Waldo'!X19) | O19: =IF('Where''s Waldo'!AA19=0,"",'Where''s Waldo'!AA19) -> 22 | P19: =IF('Where''s Waldo'!AB19=0,"",'Where''s Waldo'!AB19) -> 6 | Q19: =IF('Where''s Waldo'!AC19=0,"",'Where''s Waldo'!AC19) -> 15 | R19: =IF('Where''s Waldo'!AD19=0,"",'Where''s Waldo'!AD19) | S19: =IF('Where''s Waldo'!AE19=0,"",'Where''s Waldo'!AE19) | T19: =IF('Where''s Waldo'!AF19=0,"",'Where''s Waldo'!AF19) | U19: =IF('Where''s Waldo'!AG19=0,"",'Where''s Waldo'!AG19) | V19: =IF('Where''s Waldo'!AH19=0,"",'Where''s Waldo'!AH19) | X19: ='Where''s Waldo'!F19 | Y19: ='Where''s Waldo'!G19 | AA19: =IF('Where''s Waldo'!AK19=0,"",'Where''s Waldo'!AK19) -> 22 | AB19: =IF('Where''s Waldo'!AL19=0,"",'Where''s Waldo'!AL19) -> 30 | AC19: =IF('Where''s Waldo'!AM19=0,"",'Where''s Waldo'!AM19) | AD19: =IF('Where''s Waldo'!AN19=0,"",'Where''s Waldo'!AN19) | AE19: =IF('Where''s Waldo'!AO19=0,"",'Where''s Waldo'!AO19) | AF19: =IF('Where''s Waldo'!AP19=0,"",'Where''s Waldo'!AP19) | AG19: =IF('Where''s Waldo'!AQ19=0,"",'Where''s Waldo'!AQ19) | AH19: =IF('Where''s Waldo'!AR19=0,"",'Where''s Waldo'!AR19) | AI19: =IF('Where''s Waldo'!AU19=0,"",'Where''s Waldo'!AU19) -> 9 | AJ19: =IF('Where''s Waldo'!AV19=0,"",'Where''s Waldo'!AV19) -> 6 | AK19: =IF('Where''s Waldo'!AW19=0,"",'Where''s Waldo'!AW19) -> 15 | AL19: =IF('Where''s Waldo'!AX19=0,"",'Where''s Waldo'!AX19) | AM19: =IF('Where''s Waldo'!AY19=0,"",'Where''s Waldo'!AY19) | AN19: =IF('Where''s Waldo'!AZ19=0,"",'Where''s Waldo'!AZ19) | AO19: =IF('Where''s Waldo'!BA19=0,"",'Where''s Waldo'!BA19) | AP19: =IF('Where''s Waldo'!BB19=0,"",'Where''s Waldo'!BB19) | AR19: =IF('Where''s Waldo'!I19="","",'Where''s Waldo'!I19) | AS19: =IF('Where''s Waldo'!J19="","",'Where''s Waldo'!J19) | AU19: =IF('Where''s Waldo'!BE19=0,"",'Where''s Waldo'!BE19) -> 9 | AV19: =IF('Where''s Waldo'!BF19=0,"",'Where''s Waldo'!BF19) -> 15 | AW19: =IF('Where''s Waldo'!BG19=0,"",'Where''s Waldo'!BG19) -> 23 | AX19: =IF('Where''s Waldo'!BH19=0,"",'Where''s Waldo'!BH19) | AY19: =IF('Where''s Waldo'!BI19=0,"",'Where''s Waldo'!BI19) | AZ19: =IF('Where''s Waldo'!BJ19=0,"",'Where''s Waldo'!BJ19) | BA19: =IF('Where''s Waldo'!BK19=0,"",'Where''s Waldo'!BK19) | BB19: =IF('Where''s Waldo'!BL19=0,"",'Where''s Waldo'!BL19) | BC19: =IF('Where''s Waldo'!BO19=0,"",'Where''s Waldo'!BO19) -> 22 | BD19: =IF('Where''s Waldo'!BP19=0,"",'Where''s Waldo'!BP19) -> 6 | BE19: =IF('Where''s Waldo'!BQ19=0,"",'Where''s Waldo'!BQ19) -> 30 | BF19: =IF('Where''s Waldo'!BR19=0,"",'Where''s Waldo'!BR19) | BG19: =IF('Where''s Waldo'!BS19=0,"",'Where''s Waldo'!BS19) | BH19: =IF('Where''s Waldo'!BT19=0,"",'Where''s Waldo'!BT19) | BI19: =IF('Where''s Waldo'!BU19=0,"",'Where''s Waldo'!BU19) | BJ19: =IF('Where''s Waldo'!BV19=0,"",'Where''s Waldo'!BV19)
A20: 17 | D20: ='Where''s Waldo'!C20 | E20: ='Where''s Waldo'!D20 | G20: =IF('Where''s Waldo'!Q20=0,"",'Where''s Waldo'!Q20) -> 9 | H20: =IF('Where''s Waldo'!R20=0,"",'Where''s Waldo'!R20) -> 30 | I20: =IF('Where''s Waldo'!S20=0,"",'Where''s Waldo'!S20) -> 23 | J20: =IF('Where''s Waldo'!T20=0,"",'Where''s Waldo'!T20) | K20: =IF('Where''s Waldo'!U20=0,"",'Where''s Waldo'!U20) | L20: =IF('Where''s Waldo'!V20=0,"",'Where''s Waldo'!V20) | M20: =IF('Where''s Waldo'!W20=0,"",'Where''s Waldo'!W20) | N20: =IF('Where''s Waldo'!X20=0,"",'Where''s Waldo'!X20) | O20: =IF('Where''s Waldo'!AA20=0,"",'Where''s Waldo'!AA20) -> 22 | P20: =IF('Where''s Waldo'!AB20=0,"",'Where''s Waldo'!AB20) -> 6 | Q20: =IF('Where''s Waldo'!AC20=0,"",'Where''s Waldo'!AC20) -> 15 | R20: =IF('Where''s Waldo'!AD20=0,"",'Where''s Waldo'!AD20) | S20: =IF('Where''s Waldo'!AE20=0,"",'Where''s Waldo'!AE20) | T20: =IF('Where''s Waldo'!AF20=0,"",'Where''s Waldo'!AF20) | U20: =IF('Where''s Waldo'!AG20=0,"",'Where''s Waldo'!AG20) | V20: =IF('Where''s Waldo'!AH20=0,"",'Where''s Waldo'!AH20) | X20: ='Where''s Waldo'!F20 | Y20: ='Where''s Waldo'!G20 | AA20: =IF('Where''s Waldo'!AK20=0,"",'Where''s Waldo'!AK20) -> 22 | AB20: =IF('Where''s Waldo'!AL20=0,"",'Where''s Waldo'!AL20) -> 30 | AC20: =IF('Where''s Waldo'!AM20=0,"",'Where''s Waldo'!AM20) | AD20: =IF('Where''s Waldo'!AN20=0,"",'Where''s Waldo'!AN20) | AE20: =IF('Where''s Waldo'!AO20=0,"",'Where''s Waldo'!AO20) | AF20: =IF('Where''s Waldo'!AP20=0,"",'Where''s Waldo'!AP20) | AG20: =IF('Where''s Waldo'!AQ20=0,"",'Where''s Waldo'!AQ20) | AH20: =IF('Where''s Waldo'!AR20=0,"",'Where''s Waldo'!AR20) | AI20: =IF('Where''s Waldo'!AU20=0,"",'Where''s Waldo'!AU20) -> 9 | AJ20: =IF('Where''s Waldo'!AV20=0,"",'Where''s Waldo'!AV20) -> 6 | AK20: =IF('Where''s Waldo'!AW20=0,"",'Where''s Waldo'!AW20) -> 15 | AL20: =IF('Where''s Waldo'!AX20=0,"",'Where''s Waldo'!AX20) | AM20: =IF('Where''s Waldo'!AY20=0,"",'Where''s Waldo'!AY20) | AN20: =IF('Where''s Waldo'!AZ20=0,"",'Where''s Waldo'!AZ20) | AO20: =IF('Where''s Waldo'!BA20=0,"",'Where''s Waldo'!BA20) | AP20: =IF('Where''s Waldo'!BB20=0,"",'Where''s Waldo'!BB20) | AR20: =IF('Where''s Waldo'!I20="","",'Where''s Waldo'!I20) | AS20: =IF('Where''s Waldo'!J20="","",'Where''s Waldo'!J20) | AU20: =IF('Where''s Waldo'!BE20=0,"",'Where''s Waldo'!BE20) -> 9 | AV20: =IF('Where''s Waldo'!BF20=0,"",'Where''s Waldo'!BF20) -> 15 | AW20: =IF('Where''s Waldo'!BG20=0,"",'Where''s Waldo'!BG20) -> 23 | AX20: =IF('Where''s Waldo'!BH20=0,"",'Where''s Waldo'!BH20) | AY20: =IF('Where''s Waldo'!BI20=0,"",'Where''s Waldo'!BI20) | AZ20: =IF('Where''s Waldo'!BJ20=0,"",'Where''s Waldo'!BJ20) | BA20: =IF('Where''s Waldo'!BK20=0,"",'Where''s Waldo'!BK20) | BB20: =IF('Where''s Waldo'!BL20=0,"",'Where''s Waldo'!BL20) | BC20: =IF('Where''s Waldo'!BO20=0,"",'Where''s Waldo'!BO20) -> 22 | BD20: =IF('Where''s Waldo'!BP20=0,"",'Where''s Waldo'!BP20) -> 6 | BE20: =IF('Where''s Waldo'!BQ20=0,"",'Where''s Waldo'!BQ20) -> 30 | BF20: =IF('Where''s Waldo'!BR20=0,"",'Where''s Waldo'!BR20) | BG20: =IF('Where''s Waldo'!BS20=0,"",'Where''s Waldo'!BS20) | BH20: =IF('Where''s Waldo'!BT20=0,"",'Where''s Waldo'!BT20) | BI20: =IF('Where''s Waldo'!BU20=0,"",'Where''s Waldo'!BU20) | BJ20: =IF('Where''s Waldo'!BV20=0,"",'Where''s Waldo'!BV20)
A21: 18 | D21: ='Where''s Waldo'!C21 | E21: ='Where''s Waldo'!D21 | G21: =IF('Where''s Waldo'!Q21=0,"",'Where''s Waldo'!Q21) -> 9 | H21: =IF('Where''s Waldo'!R21=0,"",'Where''s Waldo'!R21) -> 30 | I21: =IF('Where''s Waldo'!S21=0,"",'Where''s Waldo'!S21) -> 23 | J21: =IF('Where''s Waldo'!T21=0,"",'Where''s Waldo'!T21) | K21: =IF('Where''s Waldo'!U21=0,"",'Where''s Waldo'!U21) | L21: =IF('Where''s Waldo'!V21=0,"",'Where''s Waldo'!V21) | M21: =IF('Where''s Waldo'!W21=0,"",'Where''s Waldo'!W21) | N21: =IF('Where''s Waldo'!X21=0,"",'Where''s Waldo'!X21) | O21: =IF('Where''s Waldo'!AA21=0,"",'Where''s Waldo'!AA21) -> 22 | P21: =IF('Where''s Waldo'!AB21=0,"",'Where''s Waldo'!AB21) -> 6 | Q21: =IF('Where''s Waldo'!AC21=0,"",'Where''s Waldo'!AC21) -> 15 | R21: =IF('Where''s Waldo'!AD21=0,"",'Where''s Waldo'!AD21) | S21: =IF('Where''s Waldo'!AE21=0,"",'Where''s Waldo'!AE21) | T21: =IF('Where''s Waldo'!AF21=0,"",'Where''s Waldo'!AF21) | U21: =IF('Where''s Waldo'!AG21=0,"",'Where''s Waldo'!AG21) | V21: =IF('Where''s Waldo'!AH21=0,"",'Where''s Waldo'!AH21) | X21: ='Where''s Waldo'!F21 | Y21: ='Where''s Waldo'!G21 | AA21: =IF('Where''s Waldo'!AK21=0,"",'Where''s Waldo'!AK21) -> 22 | AB21: =IF('Where''s Waldo'!AL21=0,"",'Where''s Waldo'!AL21) -> 30 | AC21: =IF('Where''s Waldo'!AM21=0,"",'Where''s Waldo'!AM21) | AD21: =IF('Where''s Waldo'!AN21=0,"",'Where''s Waldo'!AN21) | AE21: =IF('Where''s Waldo'!AO21=0,"",'Where''s Waldo'!AO21) | AF21: =IF('Where''s Waldo'!AP21=0,"",'Where''s Waldo'!AP21) | AG21: =IF('Where''s Waldo'!AQ21=0,"",'Where''s Waldo'!AQ21) | AH21: =IF('Where''s Waldo'!AR21=0,"",'Where''s Waldo'!AR21) | AI21: =IF('Where''s Waldo'!AU21=0,"",'Where''s Waldo'!AU21) -> 9 | AJ21: =IF('Where''s Waldo'!AV21=0,"",'Where''s Waldo'!AV21) -> 6 | AK21: =IF('Where''s Waldo'!AW21=0,"",'Where''s Waldo'!AW21) -> 15 | AL21: =IF('Where''s Waldo'!AX21=0,"",'Where''s Waldo'!AX21) | AM21: =IF('Where''s Waldo'!AY21=0,"",'Where''s Waldo'!AY21) | AN21: =IF('Where''s Waldo'!AZ21=0,"",'Where''s Waldo'!AZ21) | AO21: =IF('Where''s Waldo'!BA21=0,"",'Where''s Waldo'!BA21) | AP21: =IF('Where''s Waldo'!BB21=0,"",'Where''s Waldo'!BB21) | AR21: =IF('Where''s Waldo'!I21="","",'Where''s Waldo'!I21) | AS21: =IF('Where''s Waldo'!J21="","",'Where''s Waldo'!J21) | AU21: =IF('Where''s Waldo'!BE21=0,"",'Where''s Waldo'!BE21) -> 9 | AV21: =IF('Where''s Waldo'!BF21=0,"",'Where''s Waldo'!BF21) -> 15 | AW21: =IF('Where''s Waldo'!BG21=0,"",'Where''s Waldo'!BG21) -> 23 | AX21: =IF('Where''s Waldo'!BH21=0,"",'Where''s Waldo'!BH21) | AY21: =IF('Where''s Waldo'!BI21=0,"",'Where''s Waldo'!BI21) | AZ21: =IF('Where''s Waldo'!BJ21=0,"",'Where''s Waldo'!BJ21) | BA21: =IF('Where''s Waldo'!BK21=0,"",'Where''s Waldo'!BK21) | BB21: =IF('Where''s Waldo'!BL21=0,"",'Where''s Waldo'!BL21) | BC21: =IF('Where''s Waldo'!BO21=0,"",'Where''s Waldo'!BO21) -> 22 | BD21: =IF('Where''s Waldo'!BP21=0,"",'Where''s Waldo'!BP21) -> 6 | BE21: =IF('Where''s Waldo'!BQ21=0,"",'Where''s Waldo'!BQ21) -> 30 | BF21: =IF('Where''s Waldo'!BR21=0,"",'Where''s Waldo'!BR21) | BG21: =IF('Where''s Waldo'!BS21=0,"",'Where''s Waldo'!BS21) | BH21: =IF('Where''s Waldo'!BT21=0,"",'Where''s Waldo'!BT21) | BI21: =IF('Where''s Waldo'!BU21=0,"",'Where''s Waldo'!BU21) | BJ21: =IF('Where''s Waldo'!BV21=0,"",'Where''s Waldo'!BV21)
... A1004: 1001 | D1004: ='Where''s Waldo'!C1004 | E1004: ='Where''s Waldo'!D1004 | G1004: =IF('Where''s Waldo'!Q1004=0,"",'Where''s Waldo'!Q1004) -> 9 | H1004: =IF('Where''s Waldo'!R1004=0,"",'Where''s Waldo'!R1004) -> 30 | I1004: =IF('Where''s Waldo'!S1004=0,"",'Where''s Waldo'!S1004) -> 23 | J1004: =IF('Where''s Waldo'!T1004=0,"",'Where''s Waldo'!T1004) | K1004: =IF('Where''s Waldo'!U1004=0,"",'Where''s Waldo'!U1004) | L1004: =IF('Where''s Waldo'!V1004=0,"",'Where''s Waldo'!V1004) | M1004: =IF('Where''s Waldo'!W1004=0,"",'Where''s Waldo'!W1004) | N1004: =IF('Where''s Waldo'!X1004=0,"",'Where''s Waldo'!X1004) | O1004: =IF('Where''s Waldo'!AA1004=0,"",'Where''s Waldo'!AA1004) -> 22 | P1004: =IF('Where''s Waldo'!AB1004=0,"",'Where''s Waldo'!AB1004) -> 6 | Q1004: =IF('Where''s Waldo'!AC1004=0,"",'Where''s Waldo'!AC1004) -> 15 | R1004: =IF('Where''s Waldo'!AD1004=0,"",'Where''s Waldo'!AD1004) | S1004: =IF('Where''s Waldo'!AE1004=0,"",'Where''s Waldo'!AE1004) | T1004: =IF('Where''s Waldo'!AF1004=0,"",'Where''s Waldo'!AF1004) | U1004: =IF('Where''s Waldo'!AG1004=0,"",'Where''s Waldo'!AG1004) | V1004: =IF('Where''s Waldo'!AH1004=0,"",'Where''s Waldo'!AH1004) | X1004: ='Where''s Waldo'!F1004 | Y1004: ='Where''s Waldo'!G1004 | AA1004: =IF('Where''s Waldo'!AK1004=0,"",'Where''s Waldo'!AK1004) -> 22 | AB1004: =IF('Where''s Waldo'!AL1004=0,"",'Where''s Waldo'!AL1004) -> 30 | AC1004: =IF('Where''s Waldo'!AM1004=0,"",'Where''s Waldo'!AM1004) | AD1004: =IF('Where''s Waldo'!AN1004=0,"",'Where''s Waldo'!AN1004) | AE1004: =IF('Where''s Waldo'!AO1004=0,"",'Where''s Waldo'!AO1004) | AF1004: =IF('Where''s Waldo'!AP1004=0,"",'Where''s Waldo'!AP1004) | AG1004: =IF('Where''s Waldo'!AQ1004=0,"",'Where''s Waldo'!AQ1004) | AH1004: =IF('Where''s Waldo'!AR1004=0,"",'Where''s Waldo'!AR1004) | AI1004: =IF('Where''s Waldo'!AU1004=0,"",'Where''s Waldo'!AU1004) -> 9 | AJ1004: =IF('Where''s Waldo'!AV1004=0,"",'Where''s Waldo'!AV1004) -> 6 | AK1004: =IF('Where''s Waldo'!AW1004=0,"",'Where''s Waldo'!AW1004) -> 15 | AL1004: =IF('Where''s Waldo'!AX1004=0,"",'Where''s Waldo'!AX1004) | AM1004: =IF('Where''s Waldo'!AY1004=0,"",'Where''s Waldo'!AY1004) | AN1004: =IF('Where''s Waldo'!AZ1004=0,"",'Where''s Waldo'!AZ1004) | AO1004: =IF('Where''s Waldo'!BA1004=0,"",'Where''s Waldo'!BA1004) | AP1004: =IF('Where''s Waldo'!BB1004=0,"",'Where''s Waldo'!BB1004) | AR1004: =IF('Where''s Waldo'!I1004="","",'Where''s Waldo'!I1004) | AS1004: =IF('Where''s Waldo'!J1004="","",'Where''s Waldo'!J1004) | AU1004: =IF('Where''s Waldo'!BE1004=0,"",'Where''s Waldo'!BE1004) -> 9 | AV1004: =IF('Where''s Waldo'!BF1004=0,"",'Where''s Waldo'!BF1004) -> 15 | AW1004: =IF('Where''s Waldo'!BG1004=0,"",'Where''s Waldo'!BG1004) -> 23 | AX1004: =IF('Where''s Waldo'!BH1004=0,"",'Where''s Waldo'!BH1004) | AY1004: =IF('Where''s Waldo'!BI1004=0,"",'Where''s Waldo'!BI1004) | AZ1004: =IF('Where''s Waldo'!BJ1004=0,"",'Where''s Waldo'!BJ1004) | BA1004: =IF('Where''s Waldo'!BK1004=0,"",'Where''s Waldo'!BK1004) | BB1004: =IF('Where''s Waldo'!BL1004=0,"",'Where''s Waldo'!BL1004) | BC1004: =IF('Where''s Waldo'!BO1004=0,"",'Where''s Waldo'!BO1004) -> 22 | BD1004: =IF('Where''s Waldo'!BP1004=0,"",'Where''s Waldo'!BP1004) -> 6 | BE1004: =IF('Where''s Waldo'!BQ1004=0,"",'Where''s Waldo'!BQ1004) -> 30 | BF1004: =IF('Where''s Waldo'!BR1004=0,"",'Where''s Waldo'!BR1004) | BG1004: =IF('Where''s Waldo'!BS1004=0,"",'Where''s Waldo'!BS1004) | BH1004: =IF('Where''s Waldo'!BT1004=0,"",'Where''s Waldo'!BT1004) | BI1004: =IF('Where''s Waldo'!BU1004=0,"",'Where''s Waldo'!BU1004) | BJ1004: =IF('Where''s Waldo'!BV1004=0,"",'Where''s Waldo'!BV1004)
A1005: 1002 | D1005: ='Where''s Waldo'!C1005 -> 0 | E1005: ='Where''s Waldo'!D1005 -> 0 | G1005: =IF('Where''s Waldo'!Q1005=0,"",'Where''s Waldo'!Q1005) | H1005: =IF('Where''s Waldo'!R1005=0,"",'Where''s Waldo'!R1005) | I1005: =IF('Where''s Waldo'!S1005=0,"",'Where''s Waldo'!S1005) | J1005: =IF('Where''s Waldo'!T1005=0,"",'Where''s Waldo'!T1005) | K1005: =IF('Where''s Waldo'!U1005=0,"",'Where''s Waldo'!U1005) | L1005: =IF('Where''s Waldo'!V1005=0,"",'Where''s Waldo'!V1005) | M1005: =IF('Where''s Waldo'!W1005=0,"",'Where''s Waldo'!W1005) | N1005: =IF('Where''s Waldo'!X1005=0,"",'Where''s Waldo'!X1005) | O1005: =IF('Where''s Waldo'!AA1005=0,"",'Where''s Waldo'!AA1005) | P1005: =IF('Where''s Waldo'!AB1005=0,"",'Where''s Waldo'!AB1005) | Q1005: =IF('Where''s Waldo'!AC1005=0,"",'Where''s Waldo'!AC1005) | R1005: =IF('Where''s Waldo'!AD1005=0,"",'Where''s Waldo'!AD1005) | S1005: =IF('Where''s Waldo'!AE1005=0,"",'Where''s Waldo'!AE1005) | T1005: =IF('Where''s Waldo'!AF1005=0,"",'Where''s Waldo'!AF1005) | U1005: =IF('Where''s Waldo'!AG1005=0,"",'Where''s Waldo'!AG1005) | V1005: =IF('Where''s Waldo'!AH1005=0,"",'Where''s Waldo'!AH1005)
A1006: 1003 | D1006: ='Where''s Waldo'!C1006 -> 0 | E1006: ='Where''s Waldo'!D1006 -> 0 | G1006: =IF('Where''s Waldo'!Q1006=0,"",'Where''s Waldo'!Q1006) | H1006: =IF('Where''s Waldo'!R1006=0,"",'Where''s Waldo'!R1006) | I1006: =IF('Where''s Waldo'!S1006=0,"",'Where''s Waldo'!S1006) | J1006: =IF('Where''s Waldo'!T1006=0,"",'Where''s Waldo'!T1006) | K1006: =IF('Where''s Waldo'!U1006=0,"",'Where''s Waldo'!U1006) | L1006: =IF('Where''s Waldo'!V1006=0,"",'Where''s Waldo'!V1006) | M1006: =IF('Where''s Waldo'!W1006=0,"",'Where''s Waldo'!W1006) | N1006: =IF('Where''s Waldo'!X1006=0,"",'Where''s Waldo'!X1006) | O1006: =IF('Where''s Waldo'!AA1006=0,"",'Where''s Waldo'!AA1006) | P1006: =IF('Where''s Waldo'!AB1006=0,"",'Where''s Waldo'!AB1006) | Q1006: =IF('Where''s Waldo'!AC1006=0,"",'Where''s Waldo'!AC1006) | R1006: =IF('Where''s Waldo'!AD1006=0,"",'Where''s Waldo'!AD1006) | S1006: =IF('Where''s Waldo'!AE1006=0,"",'Where''s Waldo'!AE1006) | T1006: =IF('Where''s Waldo'!AF1006=0,"",'Where''s Waldo'!AF1006) | U1006: =IF('Where''s Waldo'!AG1006=0,"",'Where''s Waldo'!AG1006) | V1006: =IF('Where''s Waldo'!AH1006=0,"",'Where''s Waldo'!AH1006)
A1007: 1004 | D1007: ='Where''s Waldo'!C1007 -> 0 | E1007: ='Where''s Waldo'!D1007 -> 0 | G1007: =IF('Where''s Waldo'!Q1007=0,"",'Where''s Waldo'!Q1007) | H1007: =IF('Where''s Waldo'!R1007=0,"",'Where''s Waldo'!R1007) | I1007: =IF('Where''s Waldo'!S1007=0,"",'Where''s Waldo'!S1007) | J1007: =IF('Where''s Waldo'!T1007=0,"",'Where''s Waldo'!T1007) | K1007: =IF('Where''s Waldo'!U1007=0,"",'Where''s Waldo'!U1007) | L1007: =IF('Where''s Waldo'!V1007=0,"",'Where''s Waldo'!V1007) | M1007: =IF('Where''s Waldo'!W1007=0,"",'Where''s Waldo'!W1007) | N1007: =IF('Where''s Waldo'!X1007=0,"",'Where''s Waldo'!X1007) | O1007: =IF('Where''s Waldo'!AA1007=0,"",'Where''s Waldo'!AA1007) | P1007: =IF('Where''s Waldo'!AB1007=0,"",'Where''s Waldo'!AB1007) | Q1007: =IF('Where''s Waldo'!AC1007=0,"",'Where''s Waldo'!AC1007) | R1007: =IF('Where''s Waldo'!AD1007=0,"",'Where''s Waldo'!AD1007) | S1007: =IF('Where''s Waldo'!AE1007=0,"",'Where''s Waldo'!AE1007) | T1007: =IF('Where''s Waldo'!AF1007=0,"",'Where''s Waldo'!AF1007) | U1007: =IF('Where''s Waldo'!AG1007=0,"",'Where''s Waldo'!AG1007) | V1007: =IF('Where''s Waldo'!AH1007=0,"",'Where''s Waldo'!AH1007)
A1008: 1005 | D1008: ='Where''s Waldo'!C1008 -> 0 | E1008: ='Where''s Waldo'!D1008 -> 0 | G1008: =IF('Where''s Waldo'!Q1008=0,"",'Where''s Waldo'!Q1008) | H1008: =IF('Where''s Waldo'!R1008=0,"",'Where''s Waldo'!R1008) | I1008: =IF('Where''s Waldo'!S1008=0,"",'Where''s Waldo'!S1008) | J1008: =IF('Where''s Waldo'!T1008=0,"",'Where''s Waldo'!T1008) | K1008: =IF('Where''s Waldo'!U1008=0,"",'Where''s Waldo'!U1008) | L1008: =IF('Where''s Waldo'!V1008=0,"",'Where''s Waldo'!V1008) | M1008: =IF('Where''s Waldo'!W1008=0,"",'Where''s Waldo'!W1008) | N1008: =IF('Where''s Waldo'!X1008=0,"",'Where''s Waldo'!X1008) | O1008: =IF('Where''s Waldo'!AA1008=0,"",'Where''s Waldo'!AA1008) | P1008: =IF('Where''s Waldo'!AB1008=0,"",'Where''s Waldo'!AB1008) | Q1008: =IF('Where''s Waldo'!AC1008=0,"",'Where''s Waldo'!AC1008) | R1008: =IF('Where''s Waldo'!AD1008=0,"",'Where''s Waldo'!AD1008) | S1008: =IF('Where''s Waldo'!AE1008=0,"",'Where''s Waldo'!AE1008) | T1008: =IF('Where''s Waldo'!AF1008=0,"",'Where''s Waldo'!AF1008) | U1008: =IF('Where''s Waldo'!AG1008=0,"",'Where''s Waldo'!AG1008) | V1008: =IF('Where''s Waldo'!AH1008=0,"",'Where''s Waldo'!AH1008)
A1009: 1006 | D1009: ='Where''s Waldo'!C1009 -> 0 | E1009: ='Where''s Waldo'!D1009 -> 0 | G1009: =IF('Where''s Waldo'!Q1009=0,"",'Where''s Waldo'!Q1009) | H1009: =IF('Where''s Waldo'!R1009=0,"",'Where''s Waldo'!R1009) | I1009: =IF('Where''s Waldo'!S1009=0,"",'Where''s Waldo'!S1009) | J1009: =IF('Where''s Waldo'!T1009=0,"",'Where''s Waldo'!T1009) | K1009: =IF('Where''s Waldo'!U1009=0,"",'Where''s Waldo'!U1009) | L1009: =IF('Where''s Waldo'!V1009=0,"",'Where''s Waldo'!V1009) | M1009: =IF('Where''s Waldo'!W1009=0,"",'Where''s Waldo'!W1009) | N1009: =IF('Where''s Waldo'!X1009=0,"",'Where''s Waldo'!X1009) | O1009: =IF('Where''s Waldo'!AA1009=0,"",'Where''s Waldo'!AA1009) | P1009: =IF('Where''s Waldo'!AB1009=0,"",'Where''s Waldo'!AB1009) | Q1009: =IF('Where''s Waldo'!AC1009=0,"",'Where''s Waldo'!AC1009) | R1009: =IF('Where''s Waldo'!AD1009=0,"",'Where''s Waldo'!AD1009) | S1009: =IF('Where''s Waldo'!AE1009=0,"",'Where''s Waldo'!AE1009) | T1009: =IF('Where''s Waldo'!AF1009=0,"",'Where''s Waldo'!AF1009) | U1009: =IF('Where''s Waldo'!AG1009=0,"",'Where''s Waldo'!AG1009) | V1009: =IF('Where''s Waldo'!AH1009=0,"",'Where''s Waldo'!AH1009)
A1010: 1007 | D1010: ='Where''s Waldo'!C1010 -> 0 | E1010: ='Where''s Waldo'!D1010 -> 0 | G1010: =IF('Where''s Waldo'!Q1010=0,"",'Where''s Waldo'!Q1010) | H1010: =IF('Where''s Waldo'!R1010=0,"",'Where''s Waldo'!R1010) | I1010: =IF('Where''s Waldo'!S1010=0,"",'Where''s Waldo'!S1010) | J1010: =IF('Where''s Waldo'!T1010=0,"",'Where''s Waldo'!T1010) | K1010: =IF('Where''s Waldo'!U1010=0,"",'Where''s Waldo'!U1010) | L1010: =IF('Where''s Waldo'!V1010=0,"",'Where''s Waldo'!V1010) | M1010: =IF('Where''s Waldo'!W1010=0,"",'Where''s Waldo'!W1010) | N1010: =IF('Where''s Waldo'!X1010=0,"",'Where''s Waldo'!X1010) | O1010: =IF('Where''s Waldo'!AA1010=0,"",'Where''s Waldo'!AA1010) | P1010: =IF('Where''s Waldo'!AB1010=0,"",'Where''s Waldo'!AB1010) | Q1010: =IF('Where''s Waldo'!AC1010=0,"",'Where''s Waldo'!AC1010) | R1010: =IF('Where''s Waldo'!AD1010=0,"",'Where''s Waldo'!AD1010) | S1010: =IF('Where''s Waldo'!AE1010=0,"",'Where''s Waldo'!AE1010) | T1010: =IF('Where''s Waldo'!AF1010=0,"",'Where''s Waldo'!AF1010) | U1010: =IF('Where''s Waldo'!AG1010=0,"",'Where''s Waldo'!AG1010) | V1010: =IF('Where''s Waldo'!AH1010=0,"",'Where''s Waldo'!AH1010)
A1011: 1008 | D1011: ='Where''s Waldo'!C1011 -> 0 | E1011: ='Where''s Waldo'!D1011 -> 0 | G1011: =IF('Where''s Waldo'!Q1011=0,"",'Where''s Waldo'!Q1011) | H1011: =IF('Where''s Waldo'!R1011=0,"",'Where''s Waldo'!R1011) | I1011: =IF('Where''s Waldo'!S1011=0,"",'Where''s Waldo'!S1011) | J1011: =IF('Where''s Waldo'!T1011=0,"",'Where''s Waldo'!T1011) | K1011: =IF('Where''s Waldo'!U1011=0,"",'Where''s Waldo'!U1011) | L1011: =IF('Where''s Waldo'!V1011=0,"",'Where''s Waldo'!V1011) | M1011: =IF('Where''s Waldo'!W1011=0,"",'Where''s Waldo'!W1011) | N1011: =IF('Where''s Waldo'!X1011=0,"",'Where''s Waldo'!X1011) | O1011: =IF('Where''s Waldo'!AA1011=0,"",'Where''s Waldo'!AA1011) | P1011: =IF('Where''s Waldo'!AB1011=0,"",'Where''s Waldo'!AB1011) | Q1011: =IF('Where''s Waldo'!AC1011=0,"",'Where''s Waldo'!AC1011) | R1011: =IF('Where''s Waldo'!AD1011=0,"",'Where''s Waldo'!AD1011) | S1011: =IF('Where''s Waldo'!AE1011=0,"",'Where''s Waldo'!AE1011) | T1011: =IF('Where''s Waldo'!AF1011=0,"",'Where''s Waldo'!AF1011) | U1011: =IF('Where''s Waldo'!AG1011=0,"",'Where''s Waldo'!AG1011) | V1011: =IF('Where''s Waldo'!AH1011=0,"",'Where''s Waldo'!AH1011)
A1012: 1009 | D1012: ='Where''s Waldo'!C1012 -> 0 | E1012: ='Where''s Waldo'!D1012 -> 0 | G1012: =IF('Where''s Waldo'!Q1012=0,"",'Where''s Waldo'!Q1012) | H1012: =IF('Where''s Waldo'!R1012=0,"",'Where''s Waldo'!R1012) | I1012: =IF('Where''s Waldo'!S1012=0,"",'Where''s Waldo'!S1012) | J1012: =IF('Where''s Waldo'!T1012=0,"",'Where''s Waldo'!T1012) | K1012: =IF('Where''s Waldo'!U1012=0,"",'Where''s Waldo'!U1012) | L1012: =IF('Where''s Waldo'!V1012=0,"",'Where''s Waldo'!V1012) | M1012: =IF('Where''s Waldo'!W1012=0,"",'Where''s Waldo'!W1012) | N1012: =IF('Where''s Waldo'!X1012=0,"",'Where''s Waldo'!X1012) | O1012: =IF('Where''s Waldo'!AA1012=0,"",'Where''s Waldo'!AA1012) | P1012: =IF('Where''s Waldo'!AB1012=0,"",'Where''s Waldo'!AB1012) | Q1012: =IF('Where''s Waldo'!AC1012=0,"",'Where''s Waldo'!AC1012) | R1012: =IF('Where''s Waldo'!AD1012=0,"",'Where''s Waldo'!AD1012) | S1012: =IF('Where''s Waldo'!AE1012=0,"",'Where''s Waldo'!AE1012) | T1012: =IF('Where''s Waldo'!AF1012=0,"",'Where''s Waldo'!AF1012) | U1012: =IF('Where''s Waldo'!AG1012=0,"",'Where''s Waldo'!AG1012) | V1012: =IF('Where''s Waldo'!AH1012=0,"",'Where''s Waldo'!AH1012)

Sheet Where's Waldo
B3: Color | C3: Red | D3: Black | E3: HL | F3: High | G3: Low | H3: Pair | I3: Odd | J3: Even | L3: col | M3: hl | N3: oe | P3: Red | Q3: 1 | R3: 2 | S3: 3 | T3: 4 | U3: 5 | V3: 6 | W3: 7 | X3: 8 | Z3: Black | AA3: 1 | AB3: 2 | AC3: 3 | AD3: 4 | AE3: 5 | AF3: 6 | AG3: 7 | AH3: 8 | AJ3: High | AK3: 1 | AL3: 2 | AM3: 3 | AN3: 4 | AO3: 5 | AP3: 6 | AQ3: 7 | AR3: 8 | AT3: Low | AU3: 1 | AV3: 2 | AW3: 3 | AX3: 4 | AY3: 5 | AZ3: 6 | BA3: 7 | BB3: 8 | BD3: Odd | BE3: 1 | BF3: 2 | BG3: 3 | BH3: 4 | BI3: 5 | BJ3: 6 | BK3: 7 | BL3: 8 | BN3: Even | BO3: 1 | BP3: 2 | BQ3: 3 | BR3: 4 | BS3: 5 | BT3: 6 | BU3: 7 | BV3: 8
A4: =RBLHOE!B4 -> 23 | B4: =LOOKUP(A4,K:K,L:L) -> Red | C4: =IF(B4="Red",A4,"") -> 23 | D4: =IF(B4="Black",A4,"" ) | E4: =LOOKUP(A4,K:K,M:M) -> High | F4: =IF(E4="High",A4,"") -> 23 | G4: =IF(E4="Low",A4,"") | H4: =LOOKUP(A4,K:K,N:N) -> Odd | I4: =IF(H4="Odd",A4,"") -> 23 | J4: =IF(H4="Even",A4,"" ) | K4: 0 | P4: =C4 -> 23 | Q4: =IF($C4<>"",C4,0) -> 23 | R4: 0 | S4: 0 | T4: 0 | U4: 0 | V4: 0 | W4: 0 | X4: 0 | Z4: =D4 | AA4: =IF($D4<>"",D4,0) -> 0 | AB4: 0 | AC4: 0 | AD4: 0 | AE4: 0 | AF4: 0 | AG4: 0 | AH4: 0 | AJ4: =F4 -> 23 | AK4: =IF($D4<>"",D4,0) -> 0 | AL4: 0 | AM4: 0 | AN4: 0 | AO4: 0 | AP4: 0 | AQ4: 0 | AR4: 0 | AT4: =G4 | AU4: =IF($G4<>"",G4,0) -> 0 | AV4: 0 | AW4: 0 | AX4: 0 | AY4: 0 | AZ4: 0 | BA4: 0 | BB4: 0 | BD4: =I4 -> 23 | BE4: =IF($I4<>"",I4,0) -> 23 | BF4: 0 | BG4: 0 | BH4: 0 | BI4: 0 | BJ4: 0 | BK4: 0 | BL4: 0 | BN4: =J4 | BO4: =IF($J4<>"",J4,0) -> 0 | BP4: 0 | BQ4: 0 | BR4: 0 | BS4: 0 | BT4: 0 | BU4: 0 | BV4: 0
A5: =RBLHOE!B5 -> 15 | B5: =LOOKUP(A5,K:K,L:L) -> Black | C5: =IF(B5="Red",A5,"") | D5: =IF(B5="Black",A5,"" ) -> 15 | E5: =LOOKUP(A5,K:K,M:M) -> Low | F5: =IF(E5="High",A5,"") | G5: =IF(E5="Low",A5,"") -> 15 | H5: =LOOKUP(A5,K:K,N:N) -> Odd | I5: =IF(H5="Odd",A5,"") -> 15 | J5: =IF(H5="Even",A5,"" ) | K5: 1 | L5: Red | M5: Low | N5: Odd | P5: =C5 | Q5: =IF($C5<>"",C5,Q4) -> 23 | R5: =IF($C5=$Q4,R4,IF($C5=$R4,Q4,IF($C5=$S4,Q4,IF($C5=$T4,Q4,IF($C5=$U4,Q4,IF($C5=$V4,Q4,IF($C5=$W4,Q4,IF($C5=$X4,Q4,IF($C5<>"",Q4,R4))))))))) -> 0 | S5: =IF($C5=$Q4,S4,IF($C5=$R4,S4,IF($C5=$S4,R4,IF($C5=$T4,R4,IF($C5=$U4,R4,IF($C5=$V4,R4,IF($C5=$W4,R4,IF($C5=$X4,R4,IF($C5<>"",R4,S4))))))))) -> 0 | T5: =IF($C5=$Q4,T4,IF($C5=$R4,T4,IF($C5=$S4,T4,IF($C5=$T4,S4,IF($C5=$U4,S4,IF($C5=$V4,S4,IF($C5=$W4,S4,IF($C5=$X4,S4,IF($C5<>"",S4,T4))))))))) -> 0 | U5: =IF($C5=$Q4,U4,IF($C5=$R4,U4,IF($C5=$S4,U4,IF($C5=$T4,U4,IF($C5=$U4,T4,IF($C5=$V4,T4,IF($C5=$W4,T4,IF($C5=$X4,T4,IF($C5<>"",T4,U4))))))))) -> 0 | V5: =IF($C5=$Q4,V4,IF($C5=$R4,V4,IF($C5=$S4,V4,IF($C5=$T4,V4,IF($C5=$U4,V4,IF($C5=$V4,U4,IF($C5=$W4,U4,IF($C5=$X4,U4,IF($C5<>"",U4,V4))))))))) -> 0 | W5: =IF($C5=$Q4,W4,IF($C5=$R4,W4,IF($C5=$S4,W4,IF($C5=$T4,W4,IF($C5=$U4,W4,IF($C5=$V4,W4,IF($C5=$W4,V4,IF($C5=$X4,V4,IF($C5<>"",V4,W4))))))))) -> 0 | X5: =IF($C5=$Q4,X4,IF($C5=$R4,X4,IF($C5=$S4,X4,IF($C5=$T4,X4,IF($C5=$U4,X4,IF($C5=$V4,X4,IF($C5=$W4,X4,IF($C5=$X4,W4,IF($C5<>"",W4,X4))))))))) -> 0 | Z5: =D5 -> 15 | AA5: =IF($D5<>"",D5,AA4) -> 15 | AB5: =IF(AND($D5="",AB4=0),0,IF($D5=$AA4,AB4,IF($D5=$AB4,AA4,IF($D5=$AC4,AA4,IF($D5=$AD4,AA4,IF($D5=$AE4,AA4,IF($D5=$AF4,AA4,IF($D5=$AG4,AA4,IF($D5=$AH4,AA4,IF($D5<>"",AA4,AB4)))))))))) -> 0 | AC5: =IF($D5=$AA4,AC4,IF($D5=$AB4,AC4,IF($D5=$AC4,AB4,IF($D5=$AD4,AB4,IF($D5=$AE4,AB4,IF($D5=$AF4,AB4,IF($D5=$AG4,AB4,IF($D5=$AH4,AB4,IF($D5<>"",AB4,AC4))))))))) -> 0 | AD5: =IF($D5=$AA4,AD4,IF($D5=$AB4,AD4,IF($D5=$AC4,AD4,IF($D5=$AD4,AC4,IF($D5=$AE4,AC4,IF($D5=$AF4,AC4,IF($D5=$AG4,AC4,IF($D5=$AH4,AC4,IF($D5<>"",AC4,AD4))))))))) -> 0 | AE5: =IF($D5=$AA4,AE4,IF($D5=$AB4,AE4,IF($D5=$AC4,AE4,IF($D5=$AD4,AE4,IF($D5=$AE4,AD4,IF($D5=$AF4,AD4,IF($D5=$AG4,AD4,IF($D5=$AH4,AD4,IF($D5<>"",AD4,AE4))))))))) -> 0 | AF5: =IF($D5=$AA4,AF4,IF($D5=$AB4,AF4,IF($D5=$AC4,AF4,IF($D5=$AD4,AF4,IF($D5=$AE4,AF4,IF($D5=$AF4,AE4,IF($D5=$AG4,AE4,IF($D5=$AH4,AE4,IF($D5<>"",AE4,AF4))))))))) -> 0 | AG5: =IF($D5=$AA4,AG4,IF($D5=$AB4,AG4,IF($D5=$AC4,AG4,IF($D5=$AD4,AG4,IF($D5=$AE4,AG4,IF($D5=$AF4,AG4,IF($D5=$AG4,AF4,IF($D5=$AH4,AF4,IF($D5<>"",AF4,AG4))))))))) -> 0 | AH5: =IF($D5=$AA4,AH4,IF($D5=$AB4,AH4,IF($D5=$AC4,AH4,IF($D5=$AD4,AH4,IF($D5=$AE4,AH4,IF($D5=$AF4,AH4,IF($D5=$AG4,AH4,IF($D5=$AH4,AG4,IF($D5<>"",AG4,AH4))))))))) -> 0 | AJ5: =F5 | AK5: =IF($F5<>"",F5,AK4) -> 0 | AL5: =IF($F5=$AK4,AL4,IF($F5=$AL4,AK4,IF($F5=$AM4,AK4,IF($F5=$AN4,AK4,IF($F5=$AO4,AK4,IF($F5=$AP4,AK4,IF($F5=$AQ4,AK4,IF($F5=$AR4,AK4,IF($F5<>"",AK4,AL4))))))))) -> 0 | AM5: =IF($F5=$AK4,AM4,IF($F5=$AL4,AM4,IF($F5=$AM4,AL4,IF($F5=$AN4,AL4,IF($F5=$AO4,AL4,IF($F5=$AP4,AL4,IF($F5=$AQ4,AL4,IF($F5=$AR4,AL4,IF($F5<>"",AL4,AM4))))))))) -> 0 | AN5: =IF($F5=$AK4,AN4,IF($F5=$AL4,AN4,IF($F5=$AM4,AN4,IF($F5=$AN4,AM4,IF($F5=$AO4,AM4,IF($F5=$AP4,AM4,IF($F5=$AQ4,AM4,IF($F5=$AR4,AM4,IF($F5<>"",AM4,AN4))))))))) -> 0 | AO5: =IF($F5=$AK4,AO4,IF($F5=$AL4,AO4,IF($F5=$AM4,AO4,IF($F5=$AN4,AO4,IF($F5=$AO4,AN4,IF($F5=$AP4,AN4,IF($F5=$AQ4,AN4,IF($F5=$AR4,AN4,IF($F5<>"",AN4,AO4))))))))) -> 0 | AP5: =IF($F5=$AK4,AP4,IF($F5=$AL4,AP4,IF($F5=$AM4,AP4,IF($F5=$AN4,AP4,IF($F5=$AO4,AP4,IF($F5=$AP4,AO4,IF($F5=$AQ4,AO4,IF($F5=$AR4,AO4,IF($F5<>"",AO4,AP4))))))))) -> 0 | AQ5: =IF($F5=$AK4,AQ4,IF($F5=$AL4,AQ4,IF($F5=$AM4,AQ4,IF($F5=$AN4,AQ4,IF($F5=$AO4,AQ4,IF($F5=$AP4,AQ4,IF($F5=$AQ4,AP4,IF($F5=$AR4,AP4,IF($F5<>"",AP4,AQ4))))))))) -> 0 | AR5: =IF($F5=$AK4,AR4,IF($F5=$AL4,AR4,IF($F5=$AM4,AR4,IF($F5=$AN4,AR4,IF($F5=$AO4,AR4,IF($F5=$AP4,AR4,IF($F5=$AQ4,AR4,IF($F5=$AR4,AQ4,IF($F5<>"",AQ4,AR4))))))))) -> 0 | AT5: =G5 -> 15 | AU5: =IF($G5<>"",G5,AU4) -> 15 | AV5: =IF($G5=$AU4,AV4,IF($G5=$AV4,AU4,IF($G5=$AW4,AU4,IF($G5=$AX4,AU4,IF($G5=$AY4,AU4,IF($G5=$AZ4,AU4,IF($G5=$BA4,AU4,IF($G5=$BB4,AU4,IF($G5<>"",AU4,AV4))))))))) -> 0 | AW5: =IF($G5=$AU4,AW4,IF($G5=$AV4,AW4,IF($G5=$AW4,AV4,IF($G5=$AX4,AV4,IF($G5=$AY4,AV4,IF($G5=$AZ4,AV4,IF($G5=$BA4,AV4,IF($G5=$BB4,AV4,IF($G5<>"",AV4,AW4))))))))) -> 0 | AX5: =IF($G5=$AU4,AX4,IF($G5=$AV4,AX4,IF($G5=$AW4,AX4,IF($G5=$AX4,AW4,IF($G5=$AY4,AW4,IF($G5=$AZ4,AW4,IF($G5=$BA4,AW4,IF($G5=$BB4,AW4,IF($G5<>"",AW4,AX4))))))))) -> 0 | AY5: =IF($G5=$AU4,AY4,IF($G5=$AV4,AY4,IF($G5=$AW4,AY4,IF($G5=$AX4,AY4,IF($G5=$AY4,AX4,IF($G5=$AZ4,AX4,IF($G5=$BA4,AX4,IF($G5=$BB4,AX4,IF($G5<>"",AX4,AY4))))))))) -> 0 | AZ5: =IF($G5=$AU4,AZ4,IF($G5=$AV4,AZ4,IF($G5=$AW4,AZ4,IF($G5=$AX4,AZ4,IF($G5=$AY4,AZ4,IF($G5=$AZ4,AY4,IF($G5=$BA4,AY4,IF($G5=$BB4,AY4,IF($G5<>"",AY4,AZ4))))))))) -> 0 | BA5: =IF($G5=$AU4,BA4,IF($G5=$AV4,BA4,IF($G5=$AW4,BA4,IF($G5=$AX4,BA4,IF($G5=$AY4,BA4,IF($G5=$AZ4,BA4,IF($G5=$BA4,AZ4,IF($G5=$BB4,AZ4,IF($G5<>"",AZ4,BA4))))))))) -> 0 | BB5: =IF($G5=$AU4,BB4,IF($G5=$AV4,BB4,IF($G5=$AW4,BB4,IF($G5=$AX4,BB4,IF($G5=$AY4,BB4,IF($G5=$AZ4,BB4,IF($G5=$BA4,BB4,IF($G5=$BB4,BA4,IF($G5<>"",BA4,BB4))))))))) -> 0 | BD5: =I5 -> 15 | BE5: =IF($I5<>"",I5,BE4) -> 15 | BF5: =IF($I5=$BE4,BF4,IF($I5=$BF4,BE4,IF($I5=$BG4,BE4,IF($I5=$BH4,BE4,IF($I5=$BI4,BE4,IF($I5=$BJ4,BE4,IF($I5=$BK4,BE4,IF($I5=$BL4,BE4,IF($I5<>"",BE4,BF4))))))))) -> 23 | BG5: =IF($I5=$BE4,BG4,IF($I5=$BF4,BG4,IF($I5=$BG4,BF4,IF($I5=$BH4,BF4,IF($I5=$BI4,BF4,IF($I5=$BJ4,BF4,IF($I5=$BK4,BF4,IF($I5=$BL4,BF4,IF($I5<>"",BF4,BG4))))))))) -> 0 | BH5: =IF($I5=$BE4,BH4,IF($I5=$BF4,BH4,IF($I5=$BG4,BH4,IF($I5=$BH4,BG4,IF($I5=$BI4,BG4,IF($I5=$BJ4,BG4,IF($I5=$BK4,BG4,IF($I5=$BL4,BG4,IF($I5<>"",BG4,BH4))))))))) -> 0 | BI5: =IF($I5=$BE4,BI4,IF($I5=$BF4,BI4,IF($I5=$BG4,BI4,IF($I5=$BH4,BI4,IF($I5=$BI4,BH4,IF($I5=$BJ4,BH4,IF($I5=$BK4,BH4,IF($I5=$BL4,BH4,IF($I5<>"",BH4,BI4))))))))) -> 0 | BJ5: =IF($I5=$BE4,BJ4,IF($I5=$BF4,BJ4,IF($I5=$BG4,BJ4,IF($I5=$BH4,BJ4,IF($I5=$BI4,BJ4,IF($I5=$BJ4,BI4,IF($I5=$BK4,BI4,IF($I5=$BL4,BI4,IF($I5<>"",BI4,BJ4))))))))) -> 0 | BK5: =IF($I5=$BE4,BK4,IF($I5=$BF4,BK4,IF($I5=$BG4,BK4,IF($I5=$BH4,BK4,IF($I5=$BI4,BK4,IF($I5=$BJ4,BK4,IF($I5=$BK4,BJ4,IF($I5=$BL4,BJ4,IF($I5<>"",BJ4,BK4))))))))) -> 0 | BL5: =IF($I5=$BE4,BL4,IF($I5=$BF4,BL4,IF($I5=$BG4,BL4,IF($I5=$BH4,BL4,IF($I5=$BI4,BL4,IF($I5=$BJ4,BL4,IF($I5=$BK4,BL4,IF($I5=$BL4,BK4,IF($I5<>"",BK4,BL4))))))))) -> 0 | BN5: =J5 | BO5: =IF($J5<>"",J5,BO4) -> 0 | BP5: =IF($J5=$BO4,BP4,IF($J5=$BP4,BO4,IF($J5=$BQ4,BO4,IF($J5=$BR4,BO4,IF($J5=$BS4,BO4,IF($J5=$BT4,BO4,IF($J5=$BU4,BO4,IF($J5=$BV4,BO4,IF($J5<>"",BO4,BP4))))))))) -> 0 | BQ5: =IF($J5=$BO4,BQ4,IF($J5=$BP4,BQ4,IF($J5=$BQ4,BP4,IF($J5=$BR4,BP4,IF($J5=$BS4,BP4,IF($J5=$BT4,BP4,IF($J5=$BU4,BP4,IF($J5=$BV4,BP4,IF($J5<>"",BP4,BQ4))))))))) -> 0 | BR5: =IF($J5=$BO4,BR4,IF($J5=$BP4,BR4,IF($J5=$BQ4,BR4,IF($J5=$BR4,BQ4,IF($J5=$BS4,BQ4,IF($J5=$BT4,BQ4,IF($J5=$BU4,BQ4,IF($J5=$BV4,BQ4,IF($J5<>"",BQ4,BR4))))))))) -> 0 | BS5: =IF($J5=$BO4,BS4,IF($J5=$BP4,BS4,IF($J5=$BQ4,BS4,IF($J5=$BR4,BS4,IF($J5=$BS4,BR4,IF($J5=$BT4,BR4,IF($J5=$BU4,BR4,IF($J5=$BV4,BR4,IF($J5<>"",BR4,BS4))))))))) -> 0 | BT5: =IF($J5=$BO4,BT4,IF($J5=$BP4,BT4,IF($J5=$BQ4,BT4,IF($J5=$BR4,BT4,IF($J5=$BS4,BT4,IF($J5=$BT4,BS4,IF($J5=$BU4,BS4,IF($J5=$BV4,BS4,IF($J5<>"",BS4,BT4))))))))) -> 0 | BU5: =IF($J5=$BO4,BU4,IF($J5=$BP4,BU4,IF($J5=$BQ4,BU4,IF($J5=$BR4,BU4,IF($J5=$BS4,BU4,IF($J5=$BT4,BU4,IF($J5=$BU4,BT4,IF($J5=$BV4,BT4,IF($J5<>"",BT4,BU4))))))))) -> 0 | BV5: =IF($J5=$BO4,BV4,IF($J5=$BP4,BV4,IF($J5=$BQ4,BV4,IF($J5=$BR4,BV4,IF($J5=$BS4,BV4,IF($J5=$BT4,BV4,IF($J5=$BU4,BV4,IF($J5=$BV4,BU4,IF($J5<>"",BU4,BV4))))))))) -> 0
A6: =RBLHOE!B6 -> 30 | B6: =LOOKUP(A6,K:K,L:L) -> Red | C6: =IF(B6="Red",A6,"") -> 30 | D6: =IF(B6="Black",A6,"" ) | E6: =LOOKUP(A6,K:K,M:M) -> High | F6: =IF(E6="High",A6,"") -> 30 | G6: =IF(E6="Low",A6,"") | H6: =LOOKUP(A6,K:K,N:N) -> Even | I6: =IF(H6="Odd",A6,"") | J6: =IF(H6="Even",A6,"" ) -> 30 | K6: 2 | L6: Black | M6: Low | N6: Even | P6: =C6 -> 30 | Q6: =IF($C6<>"",C6,Q5) -> 30 | R6: =IF($C6=$Q5,R5,IF($C6=$R5,Q5,IF($C6=$S5,Q5,IF($C6=$T5,Q5,IF($C6=$U5,Q5,IF($C6=$V5,Q5,IF($C6=$W5,Q5,IF($C6=$X5,Q5,IF($C6<>"",Q5,R5))))))))) -> 23 | S6: =IF($C6=$Q5,S5,IF($C6=$R5,S5,IF($C6=$S5,R5,IF($C6=$T5,R5,IF($C6=$U5,R5,IF($C6=$V5,R5,IF($C6=$W5,R5,IF($C6=$X5,R5,IF($C6<>"",R5,S5))))))))) -> 0 | T6: =IF($C6=$Q5,T5,IF($C6=$R5,T5,IF($C6=$S5,T5,IF($C6=$T5,S5,IF($C6=$U5,S5,IF($C6=$V5,S5,IF($C6=$W5,S5,IF($C6=$X5,S5,IF($C6<>"",S5,T5))))))))) -> 0 | U6: =IF($C6=$Q5,U5,IF($C6=$R5,U5,IF($C6=$S5,U5,IF($C6=$T5,U5,IF($C6=$U5,T5,IF($C6=$V5,T5,IF($C6=$W5,T5,IF($C6=$X5,T5,IF($C6<>"",T5,U5))))))))) -> 0 | V6: =IF($C6=$Q5,V5,IF($C6=$R5,V5,IF($C6=$S5,V5,IF($C6=$T5,V5,IF($C6=$U5,V5,IF($C6=$V5,U5,IF($C6=$W5,U5,IF($C6=$X5,U5,IF($C6<>"",U5,V5))))))))) -> 0 | W6: =IF($C6=$Q5,W5,IF($C6=$R5,W5,IF($C6=$S5,W5,IF($C6=$T5,W5,IF($C6=$U5,W5,IF($C6=$V5,W5,IF($C6=$W5,V5,IF($C6=$X5,V5,IF($C6<>"",V5,W5))))))))) -> 0 | X6: =IF($C6=$Q5,X5,IF($C6=$R5,X5,IF($C6=$S5,X5,IF($C6=$T5,X5,IF($C6=$U5,X5,IF($C6=$V5,X5,IF($C6=$W5,X5,IF($C6=$X5,W5,IF($C6<>"",W5,X5))))))))) -> 0 | Z6: =D6 | AA6: =IF($D6<>"",D6,AA5) -> 15 | AB6: =IF(AND($D6="",AB5=0),0,IF($D6=$AA5,AB5,IF($D6=$AB5,AA5,IF($D6=$AC5,AA5,IF($D6=$AD5,AA5,IF($D6=$AE5,AA5,IF($D6=$AF5,AA5,IF($D6=$AG5,AA5,IF($D6=$AH5,AA5,IF($D6<>"",AA5,AB5)))))))))) -> 0 | AC6: =IF($D6=$AA5,AC5,IF($D6=$AB5,AC5,IF($D6=$AC5,AB5,IF($D6=$AD5,AB5,IF($D6=$AE5,AB5,IF($D6=$AF5,AB5,IF($D6=$AG5,AB5,IF($D6=$AH5,AB5,IF($D6<>"",AB5,AC5))))))))) -> 0 | AD6: =IF($D6=$AA5,AD5,IF($D6=$AB5,AD5,IF($D6=$AC5,AD5,IF($D6=$AD5,AC5,IF($D6=$AE5,AC5,IF($D6=$AF5,AC5,IF($D6=$AG5,AC5,IF($D6=$AH5,AC5,IF($D6<>"",AC5,AD5))))))))) -> 0 | AE6: =IF($D6=$AA5,AE5,IF($D6=$AB5,AE5,IF($D6=$AC5,AE5,IF($D6=$AD5,AE5,IF($D6=$AE5,AD5,IF($D6=$AF5,AD5,IF($D6=$AG5,AD5,IF($D6=$AH5,AD5,IF($D6<>"",AD5,AE5))))))))) -> 0 | AF6: =IF($D6=$AA5,AF5,IF($D6=$AB5,AF5,IF($D6=$AC5,AF5,IF($D6=$AD5,AF5,IF($D6=$AE5,AF5,IF($D6=$AF5,AE5,IF($D6=$AG5,AE5,IF($D6=$AH5,AE5,IF($D6<>"",AE5,AF5))))))))) -> 0 | AG6: =IF($D6=$AA5,AG5,IF($D6=$AB5,AG5,IF($D6=$AC5,AG5,IF($D6=$AD5,AG5,IF($D6=$AE5,AG5,IF($D6=$AF5,AG5,IF($D6=$AG5,AF5,IF($D6=$AH5,AF5,IF($D6<>"",AF5,AG5))))))))) -> 0 | AH6: =IF($D6=$AA5,AH5,IF($D6=$AB5,AH5,IF($D6=$AC5,AH5,IF($D6=$AD5,AH5,IF($D6=$AE5,AH5,IF($D6=$AF5,AH5,IF($D6=$AG5,AH5,IF($D6=$AH5,AG5,IF($D6<>"",AG5,AH5))))))))) -> 0 | AJ6: =F6 -> 30 | AK6: =IF($F6<>"",F6,AK5) -> 30 | AL6: =IF($F6=$AK5,AL5,IF($F6=$AL5,AK5,IF($F6=$AM5,AK5,IF($F6=$AN5,AK5,IF($F6=$AO5,AK5,IF($F6=$AP5,AK5,IF($F6=$AQ5,AK5,IF($F6=$AR5,AK5,IF($F6<>"",AK5,AL5))))))))) -> 0 | AM6: =IF($F6=$AK5,AM5,IF($F6=$AL5,AM5,IF($F6=$AM5,AL5,IF($F6=$AN5,AL5,IF($F6=$AO5,AL5,IF($F6=$AP5,AL5,IF($F6=$AQ5,AL5,IF($F6=$AR5,AL5,IF($F6<>"",AL5,AM5))))))))) -> 0 | AN6: =IF($F6=$AK5,AN5,IF($F6=$AL5,AN5,IF($F6=$AM5,AN5,IF($F6=$AN5,AM5,IF($F6=$AO5,AM5,IF($F6=$AP5,AM5,IF($F6=$AQ5,AM5,IF($F6=$AR5,AM5,IF($F6<>"",AM5,AN5))))))))) -> 0 | AO6: =IF($F6=$AK5,AO5,IF($F6=$AL5,AO5,IF($F6=$AM5,AO5,IF($F6=$AN5,AO5,IF($F6=$AO5,AN5,IF($F6=$AP5,AN5,IF($F6=$AQ5,AN5,IF($F6=$AR5,AN5,IF($F6<>"",AN5,AO5))))))))) -> 0 | AP6: =IF($F6=$AK5,AP5,IF($F6=$AL5,AP5,IF($F6=$AM5,AP5,IF($F6=$AN5,AP5,IF($F6=$AO5,AP5,IF($F6=$AP5,AO5,IF($F6=$AQ5,AO5,IF($F6=$AR5,AO5,IF($F6<>"",AO5,AP5))))))))) -> 0 | AQ6: =IF($F6=$AK5,AQ5,IF($F6=$AL5,AQ5,IF($F6=$AM5,AQ5,IF($F6=$AN5,AQ5,IF($F6=$AO5,AQ5,IF($F6=$AP5,AQ5,IF($F6=$AQ5,AP5,IF($F6=$AR5,AP5,IF($F6<>"",AP5,AQ5))))))))) -> 0 | AR6: =IF($F6=$AK5,AR5,IF($F6=$AL5,AR5,IF($F6=$AM5,AR5,IF($F6=$AN5,AR5,IF($F6=$AO5,AR5,IF($F6=$AP5,AR5,IF($F6=$AQ5,AR5,IF($F6=$AR5,AQ5,IF($F6<>"",AQ5,AR5))))))))) -> 0 | AT6: =G6 | AU6: =IF($G6<>"",G6,AU5) -> 15 | AV6: =IF($G6=$AU5,AV5,IF($G6=$AV5,AU5,IF($G6=$AW5,AU5,IF($G6=$AX5,AU5,IF($G6=$AY5,AU5,IF($G6=$AZ5,AU5,IF($G6=$BA5,AU5,IF($G6=$BB5,AU5,IF($G6<>"",AU5,AV5))))))))) -> 0 | AW6: =IF($G6=$AU5,AW5,IF($G6=$AV5,AW5,IF($G6=$AW5,AV5,IF($G6=$AX5,AV5,IF($G6=$AY5,AV5,IF($G6=$AZ5,AV5,IF($G6=$BA5,AV5,IF($G6=$BB5,AV5,IF($G6<>"",AV5,AW5))))))))) -> 0 | AX6: =IF($G6=$AU5,AX5,IF($G6=$AV5,AX5,IF($G6=$AW5,AX5,IF($G6=$AX5,AW5,IF($G6=$AY5,AW5,IF($G6=$AZ5,AW5,IF($G6=$BA5,AW5,IF($G6=$BB5,AW5,IF($G6<>"",AW5,AX5))))))))) -> 0 | AY6: =IF($G6=$AU5,AY5,IF($G6=$AV5,AY5,IF($G6=$AW5,AY5,IF($G6=$AX5,AY5,IF($G6=$AY5,AX5,IF($G6=$AZ5,AX5,IF($G6=$BA5,AX5,IF($G6=$BB5,AX5,IF($G6<>"",AX5,AY5))))))))) -> 0 | AZ6: =IF($G6=$AU5,AZ5,IF($G6=$AV5,AZ5,IF($G6=$AW5,AZ5,IF($G6=$AX5,AZ5,IF($G6=$AY5,AZ5,IF($G6=$AZ5,AY5,IF($G6=$BA5,AY5,IF($G6=$BB5,AY5,IF($G6<>"",AY5,AZ5))))))))) -> 0 | BA6: =IF($G6=$AU5,BA5,IF($G6=$AV5,BA5,IF($G6=$AW5,BA5,IF($G6=$AX5,BA5,IF($G6=$AY5,BA5,IF($G6=$AZ5,BA5,IF($G6=$BA5,AZ5,IF($G6=$BB5,AZ5,IF($G6<>"",AZ5,BA5))))))))) -> 0 | BB6: =IF($G6=$AU5,BB5,IF($G6=$AV5,BB5,IF($G6=$AW5,BB5,IF($G6=$AX5,BB5,IF($G6=$AY5,BB5,IF($G6=$AZ5,BB5,IF($G6=$BA5,BB5,IF($G6=$BB5,BA5,IF($G6<>"",BA5,BB5))))))))) -> 0 | BD6: =I6 | BE6: =IF($I6<>"",I6,BE5) -> 15 | BF6: =IF($I6=$BE5,BF5,IF($I6=$BF5,BE5,IF($I6=$BG5,BE5,IF($I6=$BH5,BE5,IF($I6=$BI5,BE5,IF($I6=$BJ5,BE5,IF($I6=$BK5,BE5,IF($I6=$BL5,BE5,IF($I6<>"",BE5,BF5))))))))) -> 23 | BG6: =IF($I6=$BE5,BG5,IF($I6=$BF5,BG5,IF($I6=$BG5,BF5,IF($I6=$BH5,BF5,IF($I6=$BI5,BF5,IF($I6=$BJ5,BF5,IF($I6=$BK5,BF5,IF($I6=$BL5,BF5,IF($I6<>"",BF5,BG5))))))))) -> 0 | BH6: =IF($I6=$BE5,BH5,IF($I6=$BF5,BH5,IF($I6=$BG5,BH5,IF($I6=$BH5,BG5,IF($I6=$BI5,BG5,IF($I6=$BJ5,BG5,IF($I6=$BK5,BG5,IF($I6=$BL5,BG5,IF($I6<>"",BG5,BH5))))))))) -> 0 | BI6: =IF($I6=$BE5,BI5,IF($I6=$BF5,BI5,IF($I6=$BG5,BI5,IF($I6=$BH5,BI5,IF($I6=$BI5,BH5,IF($I6=$BJ5,BH5,IF($I6=$BK5,BH5,IF($I6=$BL5,BH5,IF($I6<>"",BH5,BI5))))))))) -> 0 | BJ6: =IF($I6=$BE5,BJ5,IF($I6=$BF5,BJ5,IF($I6=$BG5,BJ5,IF($I6=$BH5,BJ5,IF($I6=$BI5,BJ5,IF($I6=$BJ5,BI5,IF($I6=$BK5,BI5,IF($I6=$BL5,BI5,IF($I6<>"",BI5,BJ5))))))))) -> 0 | BK6: =IF($I6=$BE5,BK5,IF($I6=$BF5,BK5,IF($I6=$BG5,BK5,IF($I6=$BH5,BK5,IF($I6=$BI5,BK5,IF($I6=$BJ5,BK5,IF($I6=$BK5,BJ5,IF($I6=$BL5,BJ5,IF($I6<>"",BJ5,BK5))))))))) -> 0 | BL6: =IF($I6=$BE5,BL5,IF($I6=$BF5,BL5,IF($I6=$BG5,BL5,IF($I6=$BH5,BL5,IF($I6=$BI5,BL5,IF($I6=$BJ5,BL5,IF($I6=$BK5,BL5,IF($I6=$BL5,BK5,IF($I6<>"",BK5,BL5))))))))) -> 0 | BN6: =J6 -> 30 | BO6: =IF($J6<>"",J6,BO5) -> 30 | BP6: =IF($J6=$BO5,BP5,IF($J6=$BP5,BO5,IF($J6=$BQ5,BO5,IF($J6=$BR5,BO5,IF($J6=$BS5,BO5,IF($J6=$BT5,BO5,IF($J6=$BU5,BO5,IF($J6=$BV5,BO5,IF($J6<>"",BO5,BP5))))))))) -> 0 | BQ6: =IF($J6=$BO5,BQ5,IF($J6=$BP5,BQ5,IF($J6=$BQ5,BP5,IF($J6=$BR5,BP5,IF($J6=$BS5,BP5,IF($J6=$BT5,BP5,IF($J6=$BU5,BP5,IF($J6=$BV5,BP5,IF($J6<>"",BP5,BQ5))))))))) -> 0 | BR6: =IF($J6=$BO5,BR5,IF($J6=$BP5,BR5,IF($J6=$BQ5,BR5,IF($J6=$BR5,BQ5,IF($J6=$BS5,BQ5,IF($J6=$BT5,BQ5,IF($J6=$BU5,BQ5,IF($J6=$BV5,BQ5,IF($J6<>"",BQ5,BR5))))))))) -> 0 | BS6: =IF($J6=$BO5,BS5,IF($J6=$BP5,BS5,IF($J6=$BQ5,BS5,IF($J6=$BR5,BS5,IF($J6=$BS5,BR5,IF($J6=$BT5,BR5,IF($J6=$BU5,BR5,IF($J6=$BV5,BR5,IF($J6<>"",BR5,BS5))))))))) -> 0 | BT6: =IF($J6=$BO5,BT5,IF($J6=$BP5,BT5,IF($J6=$BQ5,BT5,IF($J6=$BR5,BT5,IF($J6=$BS5,BT5,IF($J6=$BT5,BS5,IF($J6=$BU5,BS5,IF($J6=$BV5,BS5,IF($J6<>"",BS5,BT5))))))))) -> 0 | BU6: =IF($J6=$BO5,BU5,IF($J6=$BP5,BU5,IF($J6=$BQ5,BU5,IF($J6=$BR5,BU5,IF($J6=$BS5,BU5,IF($J6=$BT5,BU5,IF($J6=$BU5,BT5,IF($J6=$BV5,BT5,IF($J6<>"",BT5,BU5))))))))) -> 0 | BV6: =IF($J6=$BO5,BV5,IF($J6=$BP5,BV5,IF($J6=$BQ5,BV5,IF($J6=$BR5,BV5,IF($J6=$BS5,BV5,IF($J6=$BT5,BV5,IF($J6=$BU5,BV5,IF($J6=$BV5,BU5,IF($J6<>"",BU5,BV5))))))))) -> 0
A7: =RBLHOE!B7 -> 6 | B7: =LOOKUP(A7,K:K,L:L) -> Black | C7: =IF(B7="Red",A7,"") | D7: =IF(B7="Black",A7,"" ) -> 6 | E7: =LOOKUP(A7,K:K,M:M) -> Low | F7: =IF(E7="High",A7,"") | G7: =IF(E7="Low",A7,"") -> 6 | H7: =LOOKUP(A7,K:K,N:N) -> Even | I7: =IF(H7="Odd",A7,"") | J7: =IF(H7="Even",A7,"" ) -> 6 | K7: 3 | L7: Red | M7: Low | N7: Odd | P7: =C7 | Q7: =IF($C7<>"",C7,Q6) -> 30 | R7: =IF($C7=$Q6,R6,IF($C7=$R6,Q6,IF($C7=$S6,Q6,IF($C7=$T6,Q6,IF($C7=$U6,Q6,IF($C7=$V6,Q6,IF($C7=$W6,Q6,IF($C7=$X6,Q6,IF($C7<>"",Q6,R6))))))))) -> 23 | S7: =IF($C7=$Q6,S6,IF($C7=$R6,S6,IF($C7=$S6,R6,IF($C7=$T6,R6,IF($C7=$U6,R6,IF($C7=$V6,R6,IF($C7=$W6,R6,IF($C7=$X6,R6,IF($C7<>"",R6,S6))))))))) -> 0 | T7: =IF($C7=$Q6,T6,IF($C7=$R6,T6,IF($C7=$S6,T6,IF($C7=$T6,S6,IF($C7=$U6,S6,IF($C7=$V6,S6,IF($C7=$W6,S6,IF($C7=$X6,S6,IF($C7<>"",S6,T6))))))))) -> 0 | U7: =IF($C7=$Q6,U6,IF($C7=$R6,U6,IF($C7=$S6,U6,IF($C7=$T6,U6,IF($C7=$U6,T6,IF($C7=$V6,T6,IF($C7=$W6,T6,IF($C7=$X6,T6,IF($C7<>"",T6,U6))))))))) -> 0 | V7: =IF($C7=$Q6,V6,IF($C7=$R6,V6,IF($C7=$S6,V6,IF($C7=$T6,V6,IF($C7=$U6,V6,IF($C7=$V6,U6,IF($C7=$W6,U6,IF($C7=$X6,U6,IF($C7<>"",U6,V6))))))))) -> 0 | W7: =IF($C7=$Q6,W6,IF($C7=$R6,W6,IF($C7=$S6,W6,IF($C7=$T6,W6,IF($C7=$U6,W6,IF($C7=$V6,W6,IF($C7=$W6,V6,IF($C7=$X6,V6,IF($C7<>"",V6,W6))))))))) -> 0 | X7: =IF($C7=$Q6,X6,IF($C7=$R6,X6,IF($C7=$S6,X6,IF($C7=$T6,X6,IF($C7=$U6,X6,IF($C7=$V6,X6,IF($C7=$W6,X6,IF($C7=$X6,W6,IF($C7<>"",W6,X6))))))))) -> 0 | Z7: =D7 -> 6 | AA7: =IF($D7<>"",D7,AA6) -> 6 | AB7: =IF(AND($D7="",AB6=0),0,IF($D7=$AA6,AB6,IF($D7=$AB6,AA6,IF($D7=$AC6,AA6,IF($D7=$AD6,AA6,IF($D7=$AE6,AA6,IF($D7=$AF6,AA6,IF($D7=$AG6,AA6,IF($D7=$AH6,AA6,IF($D7<>"",AA6,AB6)))))))))) -> 15 | AC7: =IF($D7=$AA6,AC6,IF($D7=$AB6,AC6,IF($D7=$AC6,AB6,IF($D7=$AD6,AB6,IF($D7=$AE6,AB6,IF($D7=$AF6,AB6,IF($D7=$AG6,AB6,IF($D7=$AH6,AB6,IF($D7<>"",AB6,AC6))))))))) -> 0 | AD7: =IF($D7=$AA6,AD6,IF($D7=$AB6,AD6,IF($D7=$AC6,AD6,IF($D7=$AD6,AC6,IF($D7=$AE6,AC6,IF($D7=$AF6,AC6,IF($D7=$AG6,AC6,IF($D7=$AH6,AC6,IF($D7<>"",AC6,AD6))))))))) -> 0 | AE7: =IF($D7=$AA6,AE6,IF($D7=$AB6,AE6,IF($D7=$AC6,AE6,IF($D7=$AD6,AE6,IF($D7=$AE6,AD6,IF($D7=$AF6,AD6,IF($D7=$AG6,AD6,IF($D7=$AH6,AD6,IF($D7<>"",AD6,AE6))))))))) -> 0 | AF7: =IF($D7=$AA6,AF6,IF($D7=$AB6,AF6,IF($D7=$AC6,AF6,IF($D7=$AD6,AF6,IF($D7=$AE6,AF6,IF($D7=$AF6,AE6,IF($D7=$AG6,AE6,IF($D7=$AH6,AE6,IF($D7<>"",AE6,AF6))))))))) -> 0 | AG7: =IF($D7=$AA6,AG6,IF($D7=$AB6,AG6,IF($D7=$AC6,AG6,IF($D7=$AD6,AG6,IF($D7=$AE6,AG6,IF($D7=$AF6,AG6,IF($D7=$AG6,AF6,IF($D7=$AH6,AF6,IF($D7<>"",AF6,AG6))))))))) -> 0 | AH7: =IF($D7=$AA6,AH6,IF($D7=$AB6,AH6,IF($D7=$AC6,AH6,IF($D7=$AD6,AH6,IF($D7=$AE6,AH6,IF($D7=$AF6,AH6,IF($D7=$AG6,AH6,IF($D7=$AH6,AG6,IF($D7<>"",AG6,AH6))))))))) -> 0 | AJ7: =F7 | AK7: =IF($F7<>"",F7,AK6) -> 30 | AL7: =IF($F7=$AK6,AL6,IF($F7=$AL6,AK6,IF($F7=$AM6,AK6,IF($F7=$AN6,AK6,IF($F7=$AO6,AK6,IF($F7=$AP6,AK6,IF($F7=$AQ6,AK6,IF($F7=$AR6,AK6,IF($F7<>"",AK6,AL6))))))))) -> 0 | AM7: =IF($F7=$AK6,AM6,IF($F7=$AL6,AM6,IF($F7=$AM6,AL6,IF($F7=$AN6,AL6,IF($F7=$AO6,AL6,IF($F7=$AP6,AL6,IF($F7=$AQ6,AL6,IF($F7=$AR6,AL6,IF($F7<>"",AL6,AM6))))))))) -> 0 | AN7: =IF($F7=$AK6,AN6,IF($F7=$AL6,AN6,IF($F7=$AM6,AN6,IF($F7=$AN6,AM6,IF($F7=$AO6,AM6,IF($F7=$AP6,AM6,IF($F7=$AQ6,AM6,IF($F7=$AR6,AM6,IF($F7<>"",AM6,AN6))))))))) -> 0 | AO7: =IF($F7=$AK6,AO6,IF($F7=$AL6,AO6,IF($F7=$AM6,AO6,IF($F7=$AN6,AO6,IF($F7=$AO6,AN6,IF($F7=$AP6,AN6,IF($F7=$AQ6,AN6,IF($F7=$AR6,AN6,IF($F7<>"",AN6,AO6))))))))) -> 0 | AP7: =IF($F7=$AK6,AP6,IF($F7=$AL6,AP6,IF($F7=$AM6,AP6,IF($F7=$AN6,AP6,IF($F7=$AO6,AP6,IF($F7=$AP6,AO6,IF($F7=$AQ6,AO6,IF($F7=$AR6,AO6,IF($F7<>"",AO6,AP6))))))))) -> 0 | AQ7: =IF($F7=$AK6,AQ6,IF($F7=$AL6,AQ6,IF($F7=$AM6,AQ6,IF($F7=$AN6,AQ6,IF($F7=$AO6,AQ6,IF($F7=$AP6,AQ6,IF($F7=$AQ6,AP6,IF($F7=$AR6,AP6,IF($F7<>"",AP6,AQ6))))))))) -> 0 | AR7: =IF($F7=$AK6,AR6,IF($F7=$AL6,AR6,IF($F7=$AM6,AR6,IF($F7=$AN6,AR6,IF($F7=$AO6,AR6,IF($F7=$AP6,AR6,IF($F7=$AQ6,AR6,IF($F7=$AR6,AQ6,IF($F7<>"",AQ6,AR6))))))))) -> 0 | AT7: =G7 -> 6 | AU7: =IF($G7<>"",G7,AU6) -> 6 | AV7: =IF($G7=$AU6,AV6,IF($G7=$AV6,AU6,IF($G7=$AW6,AU6,IF($G7=$AX6,AU6,IF($G7=$AY6,AU6,IF($G7=$AZ6,AU6,IF($G7=$BA6,AU6,IF($G7=$BB6,AU6,IF($G7<>"",AU6,AV6))))))))) -> 15 | AW7: =IF($G7=$AU6,AW6,IF($G7=$AV6,AW6,IF($G7=$AW6,AV6,IF($G7=$AX6,AV6,IF($G7=$AY6,AV6,IF($G7=$AZ6,AV6,IF($G7=$BA6,AV6,IF($G7=$BB6,AV6,IF($G7<>"",AV6,AW6))))))))) -> 0 | AX7: =IF($G7=$AU6,AX6,IF($G7=$AV6,AX6,IF($G7=$AW6,AX6,IF($G7=$AX6,AW6,IF($G7=$AY6,AW6,IF($G7=$AZ6,AW6,IF($G7=$BA6,AW6,IF($G7=$BB6,AW6,IF($G7<>"",AW6,AX6))))))))) -> 0 | AY7: =IF($G7=$AU6,AY6,IF($G7=$AV6,AY6,IF($G7=$AW6,AY6,IF($G7=$AX6,AY6,IF($G7=$AY6,AX6,IF($G7=$AZ6,AX6,IF($G7=$BA6,AX6,IF($G7=$BB6,AX6,IF($G7<>"",AX6,AY6))))))))) -> 0 | AZ7: =IF($G7=$AU6,AZ6,IF($G7=$AV6,AZ6,IF($G7=$AW6,AZ6,IF($G7=$AX6,AZ6,IF($G7=$AY6,AZ6,IF($G7=$AZ6,AY6,IF($G7=$BA6,AY6,IF($G7=$BB6,AY6,IF($G7<>"",AY6,AZ6))))))))) -> 0 | BA7: =IF($G7=$AU6,BA6,IF($G7=$AV6,BA6,IF($G7=$AW6,BA6,IF($G7=$AX6,BA6,IF($G7=$AY6,BA6,IF($G7=$AZ6,BA6,IF($G7=$BA6,AZ6,IF($G7=$BB6,AZ6,IF($G7<>"",AZ6,BA6))))))))) -> 0 | BB7: =IF($G7=$AU6,BB6,IF($G7=$AV6,BB6,IF($G7=$AW6,BB6,IF($G7=$AX6,BB6,IF($G7=$AY6,BB6,IF($G7=$AZ6,BB6,IF($G7=$BA6,BB6,IF($G7=$BB6,BA6,IF($G7<>"",BA6,BB6))))))))) -> 0 | BD7: =I7 | BE7: =IF($I7<>"",I7,BE6) -> 15 | BF7: =IF($I7=$BE6,BF6,IF($I7=$BF6,BE6,IF($I7=$BG6,BE6,IF($I7=$BH6,BE6,IF($I7=$BI6,BE6,IF($I7=$BJ6,BE6,IF($I7=$BK6,BE6,IF($I7=$BL6,BE6,IF($I7<>"",BE6,BF6))))))))) -> 23 | BG7: =IF($I7=$BE6,BG6,IF($I7=$BF6,BG6,IF($I7=$BG6,BF6,IF($I7=$BH6,BF6,IF($I7=$BI6,BF6,IF($I7=$BJ6,BF6,IF($I7=$BK6,BF6,IF($I7=$BL6,BF6,IF($I7<>"",BF6,BG6))))))))) -> 0 | BH7: =IF($I7=$BE6,BH6,IF($I7=$BF6,BH6,IF($I7=$BG6,BH6,IF($I7=$BH6,BG6,IF($I7=$BI6,BG6,IF($I7=$BJ6,BG6,IF($I7=$BK6,BG6,IF($I7=$BL6,BG6,IF($I7<>"",BG6,BH6))))))))) -> 0 | BI7: =IF($I7=$BE6,BI6,IF($I7=$BF6,BI6,IF($I7=$BG6,BI6,IF($I7=$BH6,BI6,IF($I7=$BI6,BH6,IF($I7=$BJ6,BH6,IF($I7=$BK6,BH6,IF($I7=$BL6,BH6,IF($I7<>"",BH6,BI6))))))))) -> 0 | BJ7: =IF($I7=$BE6,BJ6,IF($I7=$BF6,BJ6,IF($I7=$BG6,BJ6,IF($I7=$BH6,BJ6,IF($I7=$BI6,BJ6,IF($I7=$BJ6,BI6,IF($I7=$BK6,BI6,IF($I7=$BL6,BI6,IF($I7<>"",BI6,BJ6))))))))) -> 0 | BK7: =IF($I7=$BE6,BK6,IF($I7=$BF6,BK6,IF($I7=$BG6,BK6,IF($I7=$BH6,BK6,IF($I7=$BI6,BK6,IF($I7=$BJ6,BK6,IF($I7=$BK6,BJ6,IF($I7=$BL6,BJ6,IF($I7<>"",BJ6,BK6))))))))) -> 0 | BL7: =IF($I7=$BE6,BL6,IF($I7=$BF6,BL6,IF($I7=$BG6,BL6,IF($I7=$BH6,BL6,IF($I7=$BI6,BL6,IF($I7=$BJ6,BL6,IF($I7=$BK6,BL6,IF($I7=$BL6,BK6,IF($I7<>"",BK6,BL6))))))))) -> 0 | BN7: =J7 -> 6 | BO7: =IF($J7<>"",J7,BO6) -> 6 | BP7: =IF($J7=$BO6,BP6,IF($J7=$BP6,BO6,IF($J7=$BQ6,BO6,IF($J7=$BR6,BO6,IF($J7=$BS6,BO6,IF($J7=$BT6,BO6,IF($J7=$BU6,BO6,IF($J7=$BV6,BO6,IF($J7<>"",BO6,BP6))))))))) -> 30 | BQ7: =IF($J7=$BO6,BQ6,IF($J7=$BP6,BQ6,IF($J7=$BQ6,BP6,IF($J7=$BR6,BP6,IF($J7=$BS6,BP6,IF($J7=$BT6,BP6,IF($J7=$BU6,BP6,IF($J7=$BV6,BP6,IF($J7<>"",BP6,BQ6))))))))) -> 0 | BR7: =IF($J7=$BO6,BR6,IF($J7=$BP6,BR6,IF($J7=$BQ6,BR6,IF($J7=$BR6,BQ6,IF($J7=$BS6,BQ6,IF($J7=$BT6,BQ6,IF($J7=$BU6,BQ6,IF($J7=$BV6,BQ6,IF($J7<>"",BQ6,BR6))))))))) -> 0 | BS7: =IF($J7=$BO6,BS6,IF($J7=$BP6,BS6,IF($J7=$BQ6,BS6,IF($J7=$BR6,BS6,IF($J7=$BS6,BR6,IF($J7=$BT6,BR6,IF($J7=$BU6,BR6,IF($J7=$BV6,BR6,IF($J7<>"",BR6,BS6))))))))) -> 0 | BT7: =IF($J7=$BO6,BT6,IF($J7=$BP6,BT6,IF($J7=$BQ6,BT6,IF($J7=$BR6,BT6,IF($J7=$BS6,BT6,IF($J7=$BT6,BS6,IF($J7=$BU6,BS6,IF($J7=$BV6,BS6,IF($J7<>"",BS6,BT6))))))))) -> 0 | BU7: =IF($J7=$BO6,BU6,IF($J7=$BP6,BU6,IF($J7=$BQ6,BU6,IF($J7=$BR6,BU6,IF($J7=$BS6,BU6,IF($J7=$BT6,BU6,IF($J7=$BU6,BT6,IF($J7=$BV6,BT6,IF($J7<>"",BT6,BU6))))))))) -> 0 | BV7: =IF($J7=$BO6,BV6,IF($J7=$BP6,BV6,IF($J7=$BQ6,BV6,IF($J7=$BR6,BV6,IF($J7=$BS6,BV6,IF($J7=$BT6,BV6,IF($J7=$BU6,BV6,IF($J7=$BV6,BU6,IF($J7<>"",BU6,BV6))))))))) -> 0
A8: =RBLHOE!B8 -> 22 | B8: =LOOKUP(A8,K:K,L:L) -> Black | C8: =IF(B8="Red",A8,"") | D8: =IF(B8="Black",A8,"" ) -> 22 | E8: =LOOKUP(A8,K:K,M:M) -> High | F8: =IF(E8="High",A8,"") -> 22 | G8: =IF(E8="Low",A8,"") | H8: =LOOKUP(A8,K:K,N:N) -> Even | I8: =IF(H8="Odd",A8,"") | J8: =IF(H8="Even",A8,"" ) -> 22 | K8: 4 | L8: Black | M8: Low | N8: Even | P8: =C8 | Q8: =IF($C8<>"",C8,Q7) -> 30 | R8: =IF($C8=$Q7,R7,IF($C8=$R7,Q7,IF($C8=$S7,Q7,IF($C8=$T7,Q7,IF($C8=$U7,Q7,IF($C8=$V7,Q7,IF($C8=$W7,Q7,IF($C8=$X7,Q7,IF($C8<>"",Q7,R7))))))))) -> 23 | S8: =IF($C8=$Q7,S7,IF($C8=$R7,S7,IF($C8=$S7,R7,IF($C8=$T7,R7,IF($C8=$U7,R7,IF($C8=$V7,R7,IF($C8=$W7,R7,IF($C8=$X7,R7,IF($C8<>"",R7,S7))))))))) -> 0 | T8: =IF($C8=$Q7,T7,IF($C8=$R7,T7,IF($C8=$S7,T7,IF($C8=$T7,S7,IF($C8=$U7,S7,IF($C8=$V7,S7,IF($C8=$W7,S7,IF($C8=$X7,S7,IF($C8<>"",S7,T7))))))))) -> 0 | U8: =IF($C8=$Q7,U7,IF($C8=$R7,U7,IF($C8=$S7,U7,IF($C8=$T7,U7,IF($C8=$U7,T7,IF($C8=$V7,T7,IF($C8=$W7,T7,IF($C8=$X7,T7,IF($C8<>"",T7,U7))))))))) -> 0 | V8: =IF($C8=$Q7,V7,IF($C8=$R7,V7,IF($C8=$S7,V7,IF($C8=$T7,V7,IF($C8=$U7,V7,IF($C8=$V7,U7,IF($C8=$W7,U7,IF($C8=$X7,U7,IF($C8<>"",U7,V7))))))))) -> 0 | W8: =IF($C8=$Q7,W7,IF($C8=$R7,W7,IF($C8=$S7,W7,IF($C8=$T7,W7,IF($C8=$U7,W7,IF($C8=$V7,W7,IF($C8=$W7,V7,IF($C8=$X7,V7,IF($C8<>"",V7,W7))))))))) -> 0 | X8: =IF($C8=$Q7,X7,IF($C8=$R7,X7,IF($C8=$S7,X7,IF($C8=$T7,X7,IF($C8=$U7,X7,IF($C8=$V7,X7,IF($C8=$W7,X7,IF($C8=$X7,W7,IF($C8<>"",W7,X7))))))))) -> 0 | Z8: =D8 -> 22 | AA8: =IF($D8<>"",D8,AA7) -> 22 | AB8: =IF(AND($D8="",AB7=0),0,IF($D8=$AA7,AB7,IF($D8=$AB7,AA7,IF($D8=$AC7,AA7,IF($D8=$AD7,AA7,IF($D8=$AE7,AA7,IF($D8=$AF7,AA7,IF($D8=$AG7,AA7,IF($D8=$AH7,AA7,IF($D8<>"",AA7,AB7)))))))))) -> 6 | AC8: =IF($D8=$AA7,AC7,IF($D8=$AB7,AC7,IF($D8=$AC7,AB7,IF($D8=$AD7,AB7,IF($D8=$AE7,AB7,IF($D8=$AF7,AB7,IF($D8=$AG7,AB7,IF($D8=$AH7,AB7,IF($D8<>"",AB7,AC7))))))))) -> 15 | AD8: =IF($D8=$AA7,AD7,IF($D8=$AB7,AD7,IF($D8=$AC7,AD7,IF($D8=$AD7,AC7,IF($D8=$AE7,AC7,IF($D8=$AF7,AC7,IF($D8=$AG7,AC7,IF($D8=$AH7,AC7,IF($D8<>"",AC7,AD7))))))))) -> 0 | AE8: =IF($D8=$AA7,AE7,IF($D8=$AB7,AE7,IF($D8=$AC7,AE7,IF($D8=$AD7,AE7,IF($D8=$AE7,AD7,IF($D8=$AF7,AD7,IF($D8=$AG7,AD7,IF($D8=$AH7,AD7,IF($D8<>"",AD7,AE7))))))))) -> 0 | AF8: =IF($D8=$AA7,AF7,IF($D8=$AB7,AF7,IF($D8=$AC7,AF7,IF($D8=$AD7,AF7,IF($D8=$AE7,AF7,IF($D8=$AF7,AE7,IF($D8=$AG7,AE7,IF($D8=$AH7,AE7,IF($D8<>"",AE7,AF7))))))))) -> 0 | AG8: =IF($D8=$AA7,AG7,IF($D8=$AB7,AG7,IF($D8=$AC7,AG7,IF($D8=$AD7,AG7,IF($D8=$AE7,AG7,IF($D8=$AF7,AG7,IF($D8=$AG7,AF7,IF($D8=$AH7,AF7,IF($D8<>"",AF7,AG7))))))))) -> 0 | AH8: =IF($D8=$AA7,AH7,IF($D8=$AB7,AH7,IF($D8=$AC7,AH7,IF($D8=$AD7,AH7,IF($D8=$AE7,AH7,IF($D8=$AF7,AH7,IF($D8=$AG7,AH7,IF($D8=$AH7,AG7,IF($D8<>"",AG7,AH7))))))))) -> 0 | AJ8: =F8 -> 22 | AK8: =IF($F8<>"",F8,AK7) -> 22 | AL8: =IF($F8=$AK7,AL7,IF($F8=$AL7,AK7,IF($F8=$AM7,AK7,IF($F8=$AN7,AK7,IF($F8=$AO7,AK7,IF($F8=$AP7,AK7,IF($F8=$AQ7,AK7,IF($F8=$AR7,AK7,IF($F8<>"",AK7,AL7))))))))) -> 30 | AM8: =IF($F8=$AK7,AM7,IF($F8=$AL7,AM7,IF($F8=$AM7,AL7,IF($F8=$AN7,AL7,IF($F8=$AO7,AL7,IF($F8=$AP7,AL7,IF($F8=$AQ7,AL7,IF($F8=$AR7,AL7,IF($F8<>"",AL7,AM7))))))))) -> 0 | AN8: =IF($F8=$AK7,AN7,IF($F8=$AL7,AN7,IF($F8=$AM7,AN7,IF($F8=$AN7,AM7,IF($F8=$AO7,AM7,IF($F8=$AP7,AM7,IF($F8=$AQ7,AM7,IF($F8=$AR7,AM7,IF($F8<>"",AM7,AN7))))))))) -> 0 | AO8: =IF($F8=$AK7,AO7,IF($F8=$AL7,AO7,IF($F8=$AM7,AO7,IF($F8=$AN7,AO7,IF($F8=$AO7,AN7,IF($F8=$AP7,AN7,IF($F8=$AQ7,AN7,IF($F8=$AR7,AN7,IF($F8<>"",AN7,AO7))))))))) -> 0 | AP8: =IF($F8=$AK7,AP7,IF($F8=$AL7,AP7,IF($F8=$AM7,AP7,IF($F8=$AN7,AP7,IF($F8=$AO7,AP7,IF($F8=$AP7,AO7,IF($F8=$AQ7,AO7,IF($F8=$AR7,AO7,IF($F8<>"",AO7,AP7))))))))) -> 0 | AQ8: =IF($F8=$AK7,AQ7,IF($F8=$AL7,AQ7,IF($F8=$AM7,AQ7,IF($F8=$AN7,AQ7,IF($F8=$AO7,AQ7,IF($F8=$AP7,AQ7,IF($F8=$AQ7,AP7,IF($F8=$AR7,AP7,IF($F8<>"",AP7,AQ7))))))))) -> 0 | AR8: =IF($F8=$AK7,AR7,IF($F8=$AL7,AR7,IF($F8=$AM7,AR7,IF($F8=$AN7,AR7,IF($F8=$AO7,AR7,IF($F8=$AP7,AR7,IF($F8=$AQ7,AR7,IF($F8=$AR7,AQ7,IF($F8<>"",AQ7,AR7))))))))) -> 0 | AT8: =G8 | AU8: =IF($G8<>"",G8,AU7) -> 6 | AV8: =IF($G8=$AU7,AV7,IF($G8=$AV7,AU7,IF($G8=$AW7,AU7,IF($G8=$AX7,AU7,IF($G8=$AY7,AU7,IF($G8=$AZ7,AU7,IF($G8=$BA7,AU7,IF($G8=$BB7,AU7,IF($G8<>"",AU7,AV7))))))))) -> 15 | AW8: =IF($G8=$AU7,AW7,IF($G8=$AV7,AW7,IF($G8=$AW7,AV7,IF($G8=$AX7,AV7,IF($G8=$AY7,AV7,IF($G8=$AZ7,AV7,IF($G8=$BA7,AV7,IF($G8=$BB7,AV7,IF($G8<>"",AV7,AW7))))))))) -> 0 | AX8: =IF($G8=$AU7,AX7,IF($G8=$AV7,AX7,IF($G8=$AW7,AX7,IF($G8=$AX7,AW7,IF($G8=$AY7,AW7,IF($G8=$AZ7,AW7,IF($G8=$BA7,AW7,IF($G8=$BB7,AW7,IF($G8<>"",AW7,AX7))))))))) -> 0 | AY8: =IF($G8=$AU7,AY7,IF($G8=$AV7,AY7,IF($G8=$AW7,AY7,IF($G8=$AX7,AY7,IF($G8=$AY7,AX7,IF($G8=$AZ7,AX7,IF($G8=$BA7,AX7,IF($G8=$BB7,AX7,IF($G8<>"",AX7,AY7))))))))) -> 0 | AZ8: =IF($G8=$AU7,AZ7,IF($G8=$AV7,AZ7,IF($G8=$AW7,AZ7,IF($G8=$AX7,AZ7,IF($G8=$AY7,AZ7,IF($G8=$AZ7,AY7,IF($G8=$BA7,AY7,IF($G8=$BB7,AY7,IF($G8<>"",AY7,AZ7))))))))) -> 0 | BA8: =IF($G8=$AU7,BA7,IF($G8=$AV7,BA7,IF($G8=$AW7,BA7,IF($G8=$AX7,BA7,IF($G8=$AY7,BA7,IF($G8=$AZ7,BA7,IF($G8=$BA7,AZ7,IF($G8=$BB7,AZ7,IF($G8<>"",AZ7,BA7))))))))) -> 0 | BB8: =IF($G8=$AU7,BB7,IF($G8=$AV7,BB7,IF($G8=$AW7,BB7,IF($G8=$AX7,BB7,IF($G8=$AY7,BB7,IF($G8=$AZ7,BB7,IF($G8=$BA7,BB7,IF($G8=$BB7,BA7,IF($G8<>"",BA7,BB7))))))))) -> 0 | BD8: =I8 | BE8: =IF($I8<>"",I8,BE7) -> 15 | BF8: =IF($I8=$BE7,BF7,IF($I8=$BF7,BE7,IF($I8=$BG7,BE7,IF($I8=$BH7,BE7,IF($I8=$BI7,BE7,IF($I8=$BJ7,BE7,IF($I8=$BK7,BE7,IF($I8=$BL7,BE7,IF($I8<>"",BE7,BF7))))))))) -> 23 | BG8: =IF($I8=$BE7,BG7,IF($I8=$BF7,BG7,IF($I8=$BG7,BF7,IF($I8=$BH7,BF7,IF($I8=$BI7,BF7,IF($I8=$BJ7,BF7,IF($I8=$BK7,BF7,IF($I8=$BL7,BF7,IF($I8<>"",BF7,BG7))))))))) -> 0 | BH8: =IF($I8=$BE7,BH7,IF($I8=$BF7,BH7,IF($I8=$BG7,BH7,IF($I8=$BH7,BG7,IF($I8=$BI7,BG7,IF($I8=$BJ7,BG7,IF($I8=$BK7,BG7,IF($I8=$BL7,BG7,IF($I8<>"",BG7,BH7))))))))) -> 0 | BI8: =IF($I8=$BE7,BI7,IF($I8=$BF7,BI7,IF($I8=$BG7,BI7,IF($I8=$BH7,BI7,IF($I8=$BI7,BH7,IF($I8=$BJ7,BH7,IF($I8=$BK7,BH7,IF($I8=$BL7,BH7,IF($I8<>"",BH7,BI7))))))))) -> 0 | BJ8: =IF($I8=$BE7,BJ7,IF($I8=$BF7,BJ7,IF($I8=$BG7,BJ7,IF($I8=$BH7,BJ7,IF($I8=$BI7,BJ7,IF($I8=$BJ7,BI7,IF($I8=$BK7,BI7,IF($I8=$BL7,BI7,IF($I8<>"",BI7,BJ7))))))))) -> 0 | BK8: =IF($I8=$BE7,BK7,IF($I8=$BF7,BK7,IF($I8=$BG7,BK7,IF($I8=$BH7,BK7,IF($I8=$BI7,BK7,IF($I8=$BJ7,BK7,IF($I8=$BK7,BJ7,IF($I8=$BL7,BJ7,IF($I8<>"",BJ7,BK7))))))))) -> 0 | BL8: =IF($I8=$BE7,BL7,IF($I8=$BF7,BL7,IF($I8=$BG7,BL7,IF($I8=$BH7,BL7,IF($I8=$BI7,BL7,IF($I8=$BJ7,BL7,IF($I8=$BK7,BL7,IF($I8=$BL7,BK7,IF($I8<>"",BK7,BL7))))))))) -> 0 | BN8: =J8 -> 22 | BO8: =IF($J8<>"",J8,BO7) -> 22 | BP8: =IF($J8=$BO7,BP7,IF($J8=$BP7,BO7,IF($J8=$BQ7,BO7,IF($J8=$BR7,BO7,IF($J8=$BS7,BO7,IF($J8=$BT7,BO7,IF($J8=$BU7,BO7,IF($J8=$BV7,BO7,IF($J8<>"",BO7,BP7))))))))) -> 6 | BQ8: =IF($J8=$BO7,BQ7,IF($J8=$BP7,BQ7,IF($J8=$BQ7,BP7,IF($J8=$BR7,BP7,IF($J8=$BS7,BP7,IF($J8=$BT7,BP7,IF($J8=$BU7,BP7,IF($J8=$BV7,BP7,IF($J8<>"",BP7,BQ7))))))))) -> 30 | BR8: =IF($J8=$BO7,BR7,IF($J8=$BP7,BR7,IF($J8=$BQ7,BR7,IF($J8=$BR7,BQ7,IF($J8=$BS7,BQ7,IF($J8=$BT7,BQ7,IF($J8=$BU7,BQ7,IF($J8=$BV7,BQ7,IF($J8<>"",BQ7,BR7))))))))) -> 0 | BS8: =IF($J8=$BO7,BS7,IF($J8=$BP7,BS7,IF($J8=$BQ7,BS7,IF($J8=$BR7,BS7,IF($J8=$BS7,BR7,IF($J8=$BT7,BR7,IF($J8=$BU7,BR7,IF($J8=$BV7,BR7,IF($J8<>"",BR7,BS7))))))))) -> 0 | BT8: =IF($J8=$BO7,BT7,IF($J8=$BP7,BT7,IF($J8=$BQ7,BT7,IF($J8=$BR7,BT7,IF($J8=$BS7,BT7,IF($J8=$BT7,BS7,IF($J8=$BU7,BS7,IF($J8=$BV7,BS7,IF($J8<>"",BS7,BT7))))))))) -> 0 | BU8: =IF($J8=$BO7,BU7,IF($J8=$BP7,BU7,IF($J8=$BQ7,BU7,IF($J8=$BR7,BU7,IF($J8=$BS7,BU7,IF($J8=$BT7,BU7,IF($J8=$BU7,BT7,IF($J8=$BV7,BT7,IF($J8<>"",BT7,BU7))))))))) -> 0 | BV8: =IF($J8=$BO7,BV7,IF($J8=$BP7,BV7,IF($J8=$BQ7,BV7,IF($J8=$BR7,BV7,IF($J8=$BS7,BV7,IF($J8=$BT7,BV7,IF($J8=$BU7,BV7,IF($J8=$BV7,BU7,IF($J8<>"",BU7,BV7))))))))) -> 0
A9: =RBLHOE!B9 -> 9 | B9: =LOOKUP(A9,K:K,L:L) -> Red | C9: =IF(B9="Red",A9,"") -> 9 | D9: =IF(B9="Black",A9,"" ) | E9: =LOOKUP(A9,K:K,M:M) -> Low | F9: =IF(E9="High",A9,"") | G9: =IF(E9="Low",A9,"") -> 9 | H9: =LOOKUP(A9,K:K,N:N) -> Odd | I9: =IF(H9="Odd",A9,"") -> 9 | J9: =IF(H9="Even",A9,"" ) | K9: 5 | L9: Red | M9: Low | N9: Odd | P9: =C9 -> 9 | Q9: =IF($C9<>"",C9,Q8) -> 9 | R9: =IF($C9=$Q8,R8,IF($C9=$R8,Q8,IF($C9=$S8,Q8,IF($C9=$T8,Q8,IF($C9=$U8,Q8,IF($C9=$V8,Q8,IF($C9=$W8,Q8,IF($C9=$X8,Q8,IF($C9<>"",Q8,R8))))))))) -> 30 | S9: =IF($C9=$Q8,S8,IF($C9=$R8,S8,IF($C9=$S8,R8,IF($C9=$T8,R8,IF($C9=$U8,R8,IF($C9=$V8,R8,IF($C9=$W8,R8,IF($C9=$X8,R8,IF($C9<>"",R8,S8))))))))) -> 23 | T9: =IF($C9=$Q8,T8,IF($C9=$R8,T8,IF($C9=$S8,T8,IF($C9=$T8,S8,IF($C9=$U8,S8,IF($C9=$V8,S8,IF($C9=$W8,S8,IF($C9=$X8,S8,IF($C9<>"",S8,T8))))))))) -> 0 | U9: =IF($C9=$Q8,U8,IF($C9=$R8,U8,IF($C9=$S8,U8,IF($C9=$T8,U8,IF($C9=$U8,T8,IF($C9=$V8,T8,IF($C9=$W8,T8,IF($C9=$X8,T8,IF($C9<>"",T8,U8))))))))) -> 0 | V9: =IF($C9=$Q8,V8,IF($C9=$R8,V8,IF($C9=$S8,V8,IF($C9=$T8,V8,IF($C9=$U8,V8,IF($C9=$V8,U8,IF($C9=$W8,U8,IF($C9=$X8,U8,IF($C9<>"",U8,V8))))))))) -> 0 | W9: =IF($C9=$Q8,W8,IF($C9=$R8,W8,IF($C9=$S8,W8,IF($C9=$T8,W8,IF($C9=$U8,W8,IF($C9=$V8,W8,IF($C9=$W8,V8,IF($C9=$X8,V8,IF($C9<>"",V8,W8))))))))) -> 0 | X9: =IF($C9=$Q8,X8,IF($C9=$R8,X8,IF($C9=$S8,X8,IF($C9=$T8,X8,IF($C9=$U8,X8,IF($C9=$V8,X8,IF($C9=$W8,X8,IF($C9=$X8,W8,IF($C9<>"",W8,X8))))))))) -> 0 | Z9: =D9 | AA9: =IF($D9<>"",D9,AA8) -> 22 | AB9: =IF(AND($D9="",AB8=0),0,IF($D9=$AA8,AB8,IF($D9=$AB8,AA8,IF($D9=$AC8,AA8,IF($D9=$AD8,AA8,IF($D9=$AE8,AA8,IF($D9=$AF8,AA8,IF($D9=$AG8,AA8,IF($D9=$AH8,AA8,IF($D9<>"",AA8,AB8)))))))))) -> 6 | AC9: =IF($D9=$AA8,AC8,IF($D9=$AB8,AC8,IF($D9=$AC8,AB8,IF($D9=$AD8,AB8,IF($D9=$AE8,AB8,IF($D9=$AF8,AB8,IF($D9=$AG8,AB8,IF($D9=$AH8,AB8,IF($D9<>"",AB8,AC8))))))))) -> 15 | AD9: =IF($D9=$AA8,AD8,IF($D9=$AB8,AD8,IF($D9=$AC8,AD8,IF($D9=$AD8,AC8,IF($D9=$AE8,AC8,IF($D9=$AF8,AC8,IF($D9=$AG8,AC8,IF($D9=$AH8,AC8,IF($D9<>"",AC8,AD8))))))))) -> 0 | AE9: =IF($D9=$AA8,AE8,IF($D9=$AB8,AE8,IF($D9=$AC8,AE8,IF($D9=$AD8,AE8,IF($D9=$AE8,AD8,IF($D9=$AF8,AD8,IF($D9=$AG8,AD8,IF($D9=$AH8,AD8,IF($D9<>"",AD8,AE8))))))))) -> 0 | AF9: =IF($D9=$AA8,AF8,IF($D9=$AB8,AF8,IF($D9=$AC8,AF8,IF($D9=$AD8,AF8,IF($D9=$AE8,AF8,IF($D9=$AF8,AE8,IF($D9=$AG8,AE8,IF($D9=$AH8,AE8,IF($D9<>"",AE8,AF8))))))))) -> 0 | AG9: =IF($D9=$AA8,AG8,IF($D9=$AB8,AG8,IF($D9=$AC8,AG8,IF($D9=$AD8,AG8,IF($D9=$AE8,AG8,IF($D9=$AF8,AG8,IF($D9=$AG8,AF8,IF($D9=$AH8,AF8,IF($D9<>"",AF8,AG8))))))))) -> 0 | AH9: =IF($D9=$AA8,AH8,IF($D9=$AB8,AH8,IF($D9=$AC8,AH8,IF($D9=$AD8,AH8,IF($D9=$AE8,AH8,IF($D9=$AF8,AH8,IF($D9=$AG8,AH8,IF($D9=$AH8,AG8,IF($D9<>"",AG8,AH8))))))))) -> 0 | AJ9: =F9 | AK9: =IF($F9<>"",F9,AK8) -> 22 | AL9: =IF($F9=$AK8,AL8,IF($F9=$AL8,AK8,IF($F9=$AM8,AK8,IF($F9=$AN8,AK8,IF($F9=$AO8,AK8,IF($F9=$AP8,AK8,IF($F9=$AQ8,AK8,IF($F9=$AR8,AK8,IF($F9<>"",AK8,AL8))))))))) -> 30 | AM9: =IF($F9=$AK8,AM8,IF($F9=$AL8,AM8,IF($F9=$AM8,AL8,IF($F9=$AN8,AL8,IF($F9=$AO8,AL8,IF($F9=$AP8,AL8,IF($F9=$AQ8,AL8,IF($F9=$AR8,AL8,IF($F9<>"",AL8,AM8))))))))) -> 0 | AN9: =IF($F9=$AK8,AN8,IF($F9=$AL8,AN8,IF($F9=$AM8,AN8,IF($F9=$AN8,AM8,IF($F9=$AO8,AM8,IF($F9=$AP8,AM8,IF($F9=$AQ8,AM8,IF($F9=$AR8,AM8,IF($F9<>"",AM8,AN8))))))))) -> 0 | AO9: =IF($F9=$AK8,AO8,IF($F9=$AL8,AO8,IF($F9=$AM8,AO8,IF($F9=$AN8,AO8,IF($F9=$AO8,AN8,IF($F9=$AP8,AN8,IF($F9=$AQ8,AN8,IF($F9=$AR8,AN8,IF($F9<>"",AN8,AO8))))))))) -> 0 | AP9: =IF($F9=$AK8,AP8,IF($F9=$AL8,AP8,IF($F9=$AM8,AP8,IF($F9=$AN8,AP8,IF($F9=$AO8,AP8,IF($F9=$AP8,AO8,IF($F9=$AQ8,AO8,IF($F9=$AR8,AO8,IF($F9<>"",AO8,AP8))))))))) -> 0 | AQ9: =IF($F9=$AK8,AQ8,IF($F9=$AL8,AQ8,IF($F9=$AM8,AQ8,IF($F9=$AN8,AQ8,IF($F9=$AO8,AQ8,IF($F9=$AP8,AQ8,IF($F9=$AQ8,AP8,IF($F9=$AR8,AP8,IF($F9<>"",AP8,AQ8))))))))) -> 0 | AR9: =IF($F9=$AK8,AR8,IF($F9=$AL8,AR8,IF($F9=$AM8,AR8,IF($F9=$AN8,AR8,IF($F9=$AO8,AR8,IF($F9=$AP8,AR8,IF($F9=$AQ8,AR8,IF($F9=$AR8,AQ8,IF($F9<>"",AQ8,AR8))))))))) -> 0 | AT9: =G9 -> 9 | AU9: =IF($G9<>"",G9,AU8) -> 9 | AV9: =IF($G9=$AU8,AV8,IF($G9=$AV8,AU8,IF($G9=$AW8,AU8,IF($G9=$AX8,AU8,IF($G9=$AY8,AU8,IF($G9=$AZ8,AU8,IF($G9=$BA8,AU8,IF($G9=$BB8,AU8,IF($G9<>"",AU8,AV8))))))))) -> 6 | AW9: =IF($G9=$AU8,AW8,IF($G9=$AV8,AW8,IF($G9=$AW8,AV8,IF($G9=$AX8,AV8,IF($G9=$AY8,AV8,IF($G9=$AZ8,AV8,IF($G9=$BA8,AV8,IF($G9=$BB8,AV8,IF($G9<>"",AV8,AW8))))))))) -> 15 | AX9: =IF($G9=$AU8,AX8,IF($G9=$AV8,AX8,IF($G9=$AW8,AX8,IF($G9=$AX8,AW8,IF($G9=$AY8,AW8,IF($G9=$AZ8,AW8,IF($G9=$BA8,AW8,IF($G9=$BB8,AW8,IF($G9<>"",AW8,AX8))))))))) -> 0 | AY9: =IF($G9=$AU8,AY8,IF($G9=$AV8,AY8,IF($G9=$AW8,AY8,IF($G9=$AX8,AY8,IF($G9=$AY8,AX8,IF($G9=$AZ8,AX8,IF($G9=$BA8,AX8,IF($G9=$BB8,AX8,IF($G9<>"",AX8,AY8))))))))) -> 0 | AZ9: =IF($G9=$AU8,AZ8,IF($G9=$AV8,AZ8,IF($G9=$AW8,AZ8,IF($G9=$AX8,AZ8,IF($G9=$AY8,AZ8,IF($G9=$AZ8,AY8,IF($G9=$BA8,AY8,IF($G9=$BB8,AY8,IF($G9<>"",AY8,AZ8))))))))) -> 0 | BA9: =IF($G9=$AU8,BA8,IF($G9=$AV8,BA8,IF($G9=$AW8,BA8,IF($G9=$AX8,BA8,IF($G9=$AY8,BA8,IF($G9=$AZ8,BA8,IF($G9=$BA8,AZ8,IF($G9=$BB8,AZ8,IF($G9<>"",AZ8,BA8))))))))) -> 0 | BB9: =IF($G9=$AU8,BB8,IF($G9=$AV8,BB8,IF($G9=$AW8,BB8,IF($G9=$AX8,BB8,IF($G9=$AY8,BB8,IF($G9=$AZ8,BB8,IF($G9=$BA8,BB8,IF($G9=$BB8,BA8,IF($G9<>"",BA8,BB8))))))))) -> 0 | BD9: =I9 -> 9 | BE9: =IF($I9<>"",I9,BE8) -> 9 | BF9: =IF($I9=$BE8,BF8,IF($I9=$BF8,BE8,IF($I9=$BG8,BE8,IF($I9=$BH8,BE8,IF($I9=$BI8,BE8,IF($I9=$BJ8,BE8,IF($I9=$BK8,BE8,IF($I9=$BL8,BE8,IF($I9<>"",BE8,BF8))))))))) -> 15 | BG9: =IF($I9=$BE8,BG8,IF($I9=$BF8,BG8,IF($I9=$BG8,BF8,IF($I9=$BH8,BF8,IF($I9=$BI8,BF8,IF($I9=$BJ8,BF8,IF($I9=$BK8,BF8,IF($I9=$BL8,BF8,IF($I9<>"",BF8,BG8))))))))) -> 23 | BH9: =IF($I9=$BE8,BH8,IF($I9=$BF8,BH8,IF($I9=$BG8,BH8,IF($I9=$BH8,BG8,IF($I9=$BI8,BG8,IF($I9=$BJ8,BG8,IF($I9=$BK8,BG8,IF($I9=$BL8,BG8,IF($I9<>"",BG8,BH8))))))))) -> 0 | BI9: =IF($I9=$BE8,BI8,IF($I9=$BF8,BI8,IF($I9=$BG8,BI8,IF($I9=$BH8,BI8,IF($I9=$BI8,BH8,IF($I9=$BJ8,BH8,IF($I9=$BK8,BH8,IF($I9=$BL8,BH8,IF($I9<>"",BH8,BI8))))))))) -> 0 | BJ9: =IF($I9=$BE8,BJ8,IF($I9=$BF8,BJ8,IF($I9=$BG8,BJ8,IF($I9=$BH8,BJ8,IF($I9=$BI8,BJ8,IF($I9=$BJ8,BI8,IF($I9=$BK8,BI8,IF($I9=$BL8,BI8,IF($I9<>"",BI8,BJ8))))))))) -> 0 | BK9: =IF($I9=$BE8,BK8,IF($I9=$BF8,BK8,IF($I9=$BG8,BK8,IF($I9=$BH8,BK8,IF($I9=$BI8,BK8,IF($I9=$BJ8,BK8,IF($I9=$BK8,BJ8,IF($I9=$BL8,BJ8,IF($I9<>"",BJ8,BK8))))))))) -> 0 | BL9: =IF($I9=$BE8,BL8,IF($I9=$BF8,BL8,IF($I9=$BG8,BL8,IF($I9=$BH8,BL8,IF($I9=$BI8,BL8,IF($I9=$BJ8,BL8,IF($I9=$BK8,BL8,IF($I9=$BL8,BK8,IF($I9<>"",BK8,BL8))))))))) -> 0 | BN9: =J9 | BO9: =IF($J9<>"",J9,BO8) -> 22 | BP9: =IF($J9=$BO8,BP8,IF($J9=$BP8,BO8,IF($J9=$BQ8,BO8,IF($J9=$BR8,BO8,IF($J9=$BS8,BO8,IF($J9=$BT8,BO8,IF($J9=$BU8,BO8,IF($J9=$BV8,BO8,IF($J9<>"",BO8,BP8))))))))) -> 6 | BQ9: =IF($J9=$BO8,BQ8,IF($J9=$BP8,BQ8,IF($J9=$BQ8,BP8,IF($J9=$BR8,BP8,IF($J9=$BS8,BP8,IF($J9=$BT8,BP8,IF($J9=$BU8,BP8,IF($J9=$BV8,BP8,IF($J9<>"",BP8,BQ8))))))))) -> 30 | BR9: =IF($J9=$BO8,BR8,IF($J9=$BP8,BR8,IF($J9=$BQ8,BR8,IF($J9=$BR8,BQ8,IF($J9=$BS8,BQ8,IF($J9=$BT8,BQ8,IF($J9=$BU8,BQ8,IF($J9=$BV8,BQ8,IF($J9<>"",BQ8,BR8))))))))) -> 0 | BS9: =IF($J9=$BO8,BS8,IF($J9=$BP8,BS8,IF($J9=$BQ8,BS8,IF($J9=$BR8,BS8,IF($J9=$BS8,BR8,IF($J9=$BT8,BR8,IF($J9=$BU8,BR8,IF($J9=$BV8,BR8,IF($J9<>"",BR8,BS8))))))))) -> 0 | BT9: =IF($J9=$BO8,BT8,IF($J9=$BP8,BT8,IF($J9=$BQ8,BT8,IF($J9=$BR8,BT8,IF($J9=$BS8,BT8,IF($J9=$BT8,BS8,IF($J9=$BU8,BS8,IF($J9=$BV8,BS8,IF($J9<>"",BS8,BT8))))))))) -> 0 | BU9: =IF($J9=$BO8,BU8,IF($J9=$BP8,BU8,IF($J9=$BQ8,BU8,IF($J9=$BR8,BU8,IF($J9=$BS8,BU8,IF($J9=$BT8,BU8,IF($J9=$BU8,BT8,IF($J9=$BV8,BT8,IF($J9<>"",BT8,BU8))))))))) -> 0 | BV9: =IF($J9=$BO8,BV8,IF($J9=$BP8,BV8,IF($J9=$BQ8,BV8,IF($J9=$BR8,BV8,IF($J9=$BS8,BV8,IF($J9=$BT8,BV8,IF($J9=$BU8,BV8,IF($J9=$BV8,BU8,IF($J9<>"",BU8,BV8))))))))) -> 0
A10: =RBLHOE!B10 -> 0 | B10: =LOOKUP(A10,K:K,L:L) -> 0 | C10: =IF(B10="Red",A10,"") | D10: =IF(B10="Black",A10,"" ) | E10: =LOOKUP(A10,K:K,M:M) -> 0 | F10: =IF(E10="High",A10,"") | G10: =IF(E10="Low",A10,"") | H10: =LOOKUP(A10,K:K,N:N) -> 0 | I10: =IF(H10="Odd",A10,"") | J10: =IF(H10="Even",A10,"" ) | K10: 6 | L10: Black | M10: Low | N10: Even | P10: =C10 | Q10: =IF($C10<>"",C10,Q9) -> 9 | R10: =IF($C10=$Q9,R9,IF($C10=$R9,Q9,IF($C10=$S9,Q9,IF($C10=$T9,Q9,IF($C10=$U9,Q9,IF($C10=$V9,Q9,IF($C10=$W9,Q9,IF($C10=$X9,Q9,IF($C10<>"",Q9,R9))))))))) -> 30 | S10: =IF($C10=$Q9,S9,IF($C10=$R9,S9,IF($C10=$S9,R9,IF($C10=$T9,R9,IF($C10=$U9,R9,IF($C10=$V9,R9,IF($C10=$W9,R9,IF($C10=$X9,R9,IF($C10<>"",R9,S9))))))))) -> 23 | T10: =IF($C10=$Q9,T9,IF($C10=$R9,T9,IF($C10=$S9,T9,IF($C10=$T9,S9,IF($C10=$U9,S9,IF($C10=$V9,S9,IF($C10=$W9,S9,IF($C10=$X9,S9,IF($C10<>"",S9,T9))))))))) -> 0 | U10: =IF($C10=$Q9,U9,IF($C10=$R9,U9,IF($C10=$S9,U9,IF($C10=$T9,U9,IF($C10=$U9,T9,IF($C10=$V9,T9,IF($C10=$W9,T9,IF($C10=$X9,T9,IF($C10<>"",T9,U9))))))))) -> 0 | V10: =IF($C10=$Q9,V9,IF($C10=$R9,V9,IF($C10=$S9,V9,IF($C10=$T9,V9,IF($C10=$U9,V9,IF($C10=$V9,U9,IF($C10=$W9,U9,IF($C10=$X9,U9,IF($C10<>"",U9,V9))))))))) -> 0 | W10: =IF($C10=$Q9,W9,IF($C10=$R9,W9,IF($C10=$S9,W9,IF($C10=$T9,W9,IF($C10=$U9,W9,IF($C10=$V9,W9,IF($C10=$W9,V9,IF($C10=$X9,V9,IF($C10<>"",V9,W9))))))))) -> 0 | X10: =IF($C10=$Q9,X9,IF($C10=$R9,X9,IF($C10=$S9,X9,IF($C10=$T9,X9,IF($C10=$U9,X9,IF($C10=$V9,X9,IF($C10=$W9,X9,IF($C10=$X9,W9,IF($C10<>"",W9,X9))))))))) -> 0 | Z10: =D10 | AA10: =IF($D10<>"",D10,AA9) -> 22 | AB10: =IF(AND($D10="",AB9=0),0,IF($D10=$AA9,AB9,IF($D10=$AB9,AA9,IF($D10=$AC9,AA9,IF($D10=$AD9,AA9,IF($D10=$AE9,AA9,IF($D10=$AF9,AA9,IF($D10=$AG9,AA9,IF($D10=$AH9,AA9,IF($D10<>"",AA9,AB9)))))))))) -> 6 | AC10: =IF($D10=$AA9,AC9,IF($D10=$AB9,AC9,IF($D10=$AC9,AB9,IF($D10=$AD9,AB9,IF($D10=$AE9,AB9,IF($D10=$AF9,AB9,IF($D10=$AG9,AB9,IF($D10=$AH9,AB9,IF($D10<>"",AB9,AC9))))))))) -> 15 | AD10: =IF($D10=$AA9,AD9,IF($D10=$AB9,AD9,IF($D10=$AC9,AD9,IF($D10=$AD9,AC9,IF($D10=$AE9,AC9,IF($D10=$AF9,AC9,IF($D10=$AG9,AC9,IF($D10=$AH9,AC9,IF($D10<>"",AC9,AD9))))))))) -> 0 | AE10: =IF($D10=$AA9,AE9,IF($D10=$AB9,AE9,IF($D10=$AC9,AE9,IF($D10=$AD9,AE9,IF($D10=$AE9,AD9,IF($D10=$AF9,AD9,IF($D10=$AG9,AD9,IF($D10=$AH9,AD9,IF($D10<>"",AD9,AE9))))))))) -> 0 | AF10: =IF($D10=$AA9,AF9,IF($D10=$AB9,AF9,IF($D10=$AC9,AF9,IF($D10=$AD9,AF9,IF($D10=$AE9,AF9,IF($D10=$AF9,AE9,IF($D10=$AG9,AE9,IF($D10=$AH9,AE9,IF($D10<>"",AE9,AF9))))))))) -> 0 | AG10: =IF($D10=$AA9,AG9,IF($D10=$AB9,AG9,IF($D10=$AC9,AG9,IF($D10=$AD9,AG9,IF($D10=$AE9,AG9,IF($D10=$AF9,AG9,IF($D10=$AG9,AF9,IF($D10=$AH9,AF9,IF($D10<>"",AF9,AG9))))))))) -> 0 | AH10: =IF($D10=$AA9,AH9,IF($D10=$AB9,AH9,IF($D10=$AC9,AH9,IF($D10=$AD9,AH9,IF($D10=$AE9,AH9,IF($D10=$AF9,AH9,IF($D10=$AG9,AH9,IF($D10=$AH9,AG9,IF($D10<>"",AG9,AH9))))))))) -> 0 | AJ10: =F10 | AK10: =IF($D10<>"",N10,AK9) -> 22 | AL10: =IF($F10=$AK9,AL9,IF($F10=$AL9,AK9,IF($F10=$AM9,AK9,IF($F10=$AN9,AK9,IF($F10=$AO9,AK9,IF($F10=$AP9,AK9,IF($F10=$AQ9,AK9,IF($F10=$AR9,AK9,IF($F10<>"",AK9,AL9))))))))) -> 30 | AM10: =IF($F10=$AK9,AM9,IF($F10=$AL9,AM9,IF($F10=$AM9,AL9,IF($F10=$AN9,AL9,IF($F10=$AO9,AL9,IF($F10=$AP9,AL9,IF($F10=$AQ9,AL9,IF($F10=$AR9,AL9,IF($F10<>"",AL9,AM9))))))))) -> 0 | AN10: =IF($F10=$AK9,AN9,IF($F10=$AL9,AN9,IF($F10=$AM9,AN9,IF($F10=$AN9,AM9,IF($F10=$AO9,AM9,IF($F10=$AP9,AM9,IF($F10=$AQ9,AM9,IF($F10=$AR9,AM9,IF($F10<>"",AM9,AN9))))))))) -> 0 | AO10: =IF($F10=$AK9,AO9,IF($F10=$AL9,AO9,IF($F10=$AM9,AO9,IF($F10=$AN9,AO9,IF($F10=$AO9,AN9,IF($F10=$AP9,AN9,IF($F10=$AQ9,AN9,IF($F10=$AR9,AN9,IF($F10<>"",AN9,AO9))))))))) -> 0 | AP10: =IF($F10=$AK9,AP9,IF($F10=$AL9,AP9,IF($F10=$AM9,AP9,IF($F10=$AN9,AP9,IF($F10=$AO9,AP9,IF($F10=$AP9,AO9,IF($F10=$AQ9,AO9,IF($F10=$AR9,AO9,IF($F10<>"",AO9,AP9))))))))) -> 0 | AQ10: =IF($F10=$AK9,AQ9,IF($F10=$AL9,AQ9,IF($F10=$AM9,AQ9,IF($F10=$AN9,AQ9,IF($F10=$AO9,AQ9,IF($F10=$AP9,AQ9,IF($F10=$AQ9,AP9,IF($F10=$AR9,AP9,IF($F10<>"",AP9,AQ9))))))))) -> 0 | AR10: =IF($F10=$AK9,AR9,IF($F10=$AL9,AR9,IF($F10=$AM9,AR9,IF($F10=$AN9,AR9,IF($F10=$AO9,AR9,IF($F10=$AP9,AR9,IF($F10=$AQ9,AR9,IF($F10=$AR9,AQ9,IF($F10<>"",AQ9,AR9))))))))) -> 0 | AT10: =G10 | AU10: =IF($G10<>"",G10,AU9) -> 9 | AV10: =IF($G10=$AU9,AV9,IF($G10=$AV9,AU9,IF($G10=$AW9,AU9,IF($G10=$AX9,AU9,IF($G10=$AY9,AU9,IF($G10=$AZ9,AU9,IF($G10=$BA9,AU9,IF($G10=$BB9,AU9,IF($G10<>"",AU9,AV9))))))))) -> 6 | AW10: =IF($G10=$AU9,AW9,IF($G10=$AV9,AW9,IF($G10=$AW9,AV9,IF($G10=$AX9,AV9,IF($G10=$AY9,AV9,IF($G10=$AZ9,AV9,IF($G10=$BA9,AV9,IF($G10=$BB9,AV9,IF($G10<>"",AV9,AW9))))))))) -> 15 | AX10: =IF($G10=$AU9,AX9,IF($G10=$AV9,AX9,IF($G10=$AW9,AX9,IF($G10=$AX9,AW9,IF($G10=$AY9,AW9,IF($G10=$AZ9,AW9,IF($G10=$BA9,AW9,IF($G10=$BB9,AW9,IF($G10<>"",AW9,AX9))))))))) -> 0 | AY10: =IF($G10=$AU9,AY9,IF($G10=$AV9,AY9,IF($G10=$AW9,AY9,IF($G10=$AX9,AY9,IF($G10=$AY9,AX9,IF($G10=$AZ9,AX9,IF($G10=$BA9,AX9,IF($G10=$BB9,AX9,IF($G10<>"",AX9,AY9))))))))) -> 0 | AZ10: =IF($G10=$AU9,AZ9,IF($G10=$AV9,AZ9,IF($G10=$AW9,AZ9,IF($G10=$AX9,AZ9,IF($G10=$AY9,AZ9,IF($G10=$AZ9,AY9,IF($G10=$BA9,AY9,IF($G10=$BB9,AY9,IF($G10<>"",AY9,AZ9))))))))) -> 0 | BA10: =IF($G10=$AU9,BA9,IF($G10=$AV9,BA9,IF($G10=$AW9,BA9,IF($G10=$AX9,BA9,IF($G10=$AY9,BA9,IF($G10=$AZ9,BA9,IF($G10=$BA9,AZ9,IF($G10=$BB9,AZ9,IF($G10<>"",AZ9,BA9))))))))) -> 0 | BB10: =IF($G10=$AU9,BB9,IF($G10=$AV9,BB9,IF($G10=$AW9,BB9,IF($G10=$AX9,BB9,IF($G10=$AY9,BB9,IF($G10=$AZ9,BB9,IF($G10=$BA9,BB9,IF($G10=$BB9,BA9,IF($G10<>"",BA9,BB9))))))))) -> 0 | BD10: =I10 | BE10: =IF($I10<>"",I10,BE9) -> 9 | BF10: =IF($I10=$BE9,BF9,IF($I10=$BF9,BE9,IF($I10=$BG9,BE9,IF($I10=$BH9,BE9,IF($I10=$BI9,BE9,IF($I10=$BJ9,BE9,IF($I10=$BK9,BE9,IF($I10=$BL9,BE9,IF($I10<>"",BE9,BF9))))))))) -> 15 | BG10: =IF($I10=$BE9,BG9,IF($I10=$BF9,BG9,IF($I10=$BG9,BF9,IF($I10=$BH9,BF9,IF($I10=$BI9,BF9,IF($I10=$BJ9,BF9,IF($I10=$BK9,BF9,IF($I10=$BL9,BF9,IF($I10<>"",BF9,BG9))))))))) -> 23 | BH10: =IF($I10=$BE9,BH9,IF($I10=$BF9,BH9,IF($I10=$BG9,BH9,IF($I10=$BH9,BG9,IF($I10=$BI9,BG9,IF($I10=$BJ9,BG9,IF($I10=$BK9,BG9,IF($I10=$BL9,BG9,IF($I10<>"",BG9,BH9))))))))) -> 0 | BI10: =IF($I10=$BE9,BI9,IF($I10=$BF9,BI9,IF($I10=$BG9,BI9,IF($I10=$BH9,BI9,IF($I10=$BI9,BH9,IF($I10=$BJ9,BH9,IF($I10=$BK9,BH9,IF($I10=$BL9,BH9,IF($I10<>"",BH9,BI9))))))))) -> 0 | BJ10: =IF($I10=$BE9,BJ9,IF($I10=$BF9,BJ9,IF($I10=$BG9,BJ9,IF($I10=$BH9,BJ9,IF($I10=$BI9,BJ9,IF($I10=$BJ9,BI9,IF($I10=$BK9,BI9,IF($I10=$BL9,BI9,IF($I10<>"",BI9,BJ9))))))))) -> 0 | BK10: =IF($I10=$BE9,BK9,IF($I10=$BF9,BK9,IF($I10=$BG9,BK9,IF($I10=$BH9,BK9,IF($I10=$BI9,BK9,IF($I10=$BJ9,BK9,IF($I10=$BK9,BJ9,IF($I10=$BL9,BJ9,IF($I10<>"",BJ9,BK9))))))))) -> 0 | BL10: =IF($I10=$BE9,BL9,IF($I10=$BF9,BL9,IF($I10=$BG9,BL9,IF($I10=$BH9,BL9,IF($I10=$BI9,BL9,IF($I10=$BJ9,BL9,IF($I10=$BK9,BL9,IF($I10=$BL9,BK9,IF($I10<>"",BK9,BL9))))))))) -> 0 | BN10: =J10 | BO10: =IF($J10<>"",J10,BO9) -> 22 | BP10: =IF($J10=$BO9,BP9,IF($J10=$BP9,BO9,IF($J10=$BQ9,BO9,IF($J10=$BR9,BO9,IF($J10=$BS9,BO9,IF($J10=$BT9,BO9,IF($J10=$BU9,BO9,IF($J10=$BV9,BO9,IF($J10<>"",BO9,BP9))))))))) -> 6 | BQ10: =IF($J10=$BO9,BQ9,IF($J10=$BP9,BQ9,IF($J10=$BQ9,BP9,IF($J10=$BR9,BP9,IF($J10=$BS9,BP9,IF($J10=$BT9,BP9,IF($J10=$BU9,BP9,IF($J10=$BV9,BP9,IF($J10<>"",BP9,BQ9))))))))) -> 30 | BR10: =IF($J10=$BO9,BR9,IF($J10=$BP9,BR9,IF($J10=$BQ9,BR9,IF($J10=$BR9,BQ9,IF($J10=$BS9,BQ9,IF($J10=$BT9,BQ9,IF($J10=$BU9,BQ9,IF($J10=$BV9,BQ9,IF($J10<>"",BQ9,BR9))))))))) -> 0 | BS10: =IF($J10=$BO9,BS9,IF($J10=$BP9,BS9,IF($J10=$BQ9,BS9,IF($J10=$BR9,BS9,IF($J10=$BS9,BR9,IF($J10=$BT9,BR9,IF($J10=$BU9,BR9,IF($J10=$BV9,BR9,IF($J10<>"",BR9,BS9))))))))) -> 0 | BT10: =IF($J10=$BO9,BT9,IF($J10=$BP9,BT9,IF($J10=$BQ9,BT9,IF($J10=$BR9,BT9,IF($J10=$BS9,BT9,IF($J10=$BT9,BS9,IF($J10=$BU9,BS9,IF($J10=$BV9,BS9,IF($J10<>"",BS9,BT9))))))))) -> 0 | BU10: =IF($J10=$BO9,BU9,IF($J10=$BP9,BU9,IF($J10=$BQ9,BU9,IF($J10=$BR9,BU9,IF($J10=$BS9,BU9,IF($J10=$BT9,BU9,IF($J10=$BU9,BT9,IF($J10=$BV9,BT9,IF($J10<>"",BT9,BU9))))))))) -> 0 | BV10: =IF($J10=$BO9,BV9,IF($J10=$BP9,BV9,IF($J10=$BQ9,BV9,IF($J10=$BR9,BV9,IF($J10=$BS9,BV9,IF($J10=$BT9,BV9,IF($J10=$BU9,BV9,IF($J10=$BV9,BU9,IF($J10<>"",BU9,BV9))))))))) -> 0
A11: =RBLHOE!B11 -> 0 | B11: =LOOKUP(A11,K:K,L:L) -> 0 | C11: =IF(B11="Red",A11,"") | D11: =IF(B11="Black",A11,"" ) | E11: =LOOKUP(A11,K:K,M:M) -> 0 | F11: =IF(E11="High",A11,"") | G11: =IF(E11="Low",A11,"") | H11: =LOOKUP(A11,K:K,N:N) -> 0 | I11: =IF(H11="Odd",A11,"") | J11: =IF(H11="Even",A11,"" ) | K11: 7 | L11: Red | M11: Low | N11: Odd | P11: =C11 | Q11: =IF($C11<>"",C11,Q10) -> 9 | R11: =IF($C11=$Q10,R10,IF($C11=$R10,Q10,IF($C11=$S10,Q10,IF($C11=$T10,Q10,IF($C11=$U10,Q10,IF($C11=$V10,Q10,IF($C11=$W10,Q10,IF($C11=$X10,Q10,IF($C11<>"",Q10,R10))))))))) -> 30 | S11: =IF($C11=$Q10,S10,IF($C11=$R10,S10,IF($C11=$S10,R10,IF($C11=$T10,R10,IF($C11=$U10,R10,IF($C11=$V10,R10,IF($C11=$W10,R10,IF($C11=$X10,R10,IF($C11<>"",R10,S10))))))))) -> 23 | T11: =IF($C11=$Q10,T10,IF($C11=$R10,T10,IF($C11=$S10,T10,IF($C11=$T10,S10,IF($C11=$U10,S10,IF($C11=$V10,S10,IF($C11=$W10,S10,IF($C11=$X10,S10,IF($C11<>"",S10,T10))))))))) -> 0 | U11: =IF($C11=$Q10,U10,IF($C11=$R10,U10,IF($C11=$S10,U10,IF($C11=$T10,U10,IF($C11=$U10,T10,IF($C11=$V10,T10,IF($C11=$W10,T10,IF($C11=$X10,T10,IF($C11<>"",T10,U10))))))))) -> 0 | V11: =IF($C11=$Q10,V10,IF($C11=$R10,V10,IF($C11=$S10,V10,IF($C11=$T10,V10,IF($C11=$U10,V10,IF($C11=$V10,U10,IF($C11=$W10,U10,IF($C11=$X10,U10,IF($C11<>"",U10,V10))))))))) -> 0 | W11: =IF($C11=$Q10,W10,IF($C11=$R10,W10,IF($C11=$S10,W10,IF($C11=$T10,W10,IF($C11=$U10,W10,IF($C11=$V10,W10,IF($C11=$W10,V10,IF($C11=$X10,V10,IF($C11<>"",V10,W10))))))))) -> 0 | X11: =IF($C11=$Q10,X10,IF($C11=$R10,X10,IF($C11=$S10,X10,IF($C11=$T10,X10,IF($C11=$U10,X10,IF($C11=$V10,X10,IF($C11=$W10,X10,IF($C11=$X10,W10,IF($C11<>"",W10,X10))))))))) -> 0 | Z11: =D11 | AA11: =IF($D11<>"",D11,AA10) -> 22 | AB11: =IF(AND($D11="",AB10=0),0,IF($D11=$AA10,AB10,IF($D11=$AB10,AA10,IF($D11=$AC10,AA10,IF($D11=$AD10,AA10,IF($D11=$AE10,AA10,IF($D11=$AF10,AA10,IF($D11=$AG10,AA10,IF($D11=$AH10,AA10,IF($D11<>"",AA10,AB10)))))))))) -> 6 | AC11: =IF($D11=$AA10,AC10,IF($D11=$AB10,AC10,IF($D11=$AC10,AB10,IF($D11=$AD10,AB10,IF($D11=$AE10,AB10,IF($D11=$AF10,AB10,IF($D11=$AG10,AB10,IF($D11=$AH10,AB10,IF($D11<>"",AB10,AC10))))))))) -> 15 | AD11: =IF($D11=$AA10,AD10,IF($D11=$AB10,AD10,IF($D11=$AC10,AD10,IF($D11=$AD10,AC10,IF($D11=$AE10,AC10,IF($D11=$AF10,AC10,IF($D11=$AG10,AC10,IF($D11=$AH10,AC10,IF($D11<>"",AC10,AD10))))))))) -> 0 | AE11: =IF($D11=$AA10,AE10,IF($D11=$AB10,AE10,IF($D11=$AC10,AE10,IF($D11=$AD10,AE10,IF($D11=$AE10,AD10,IF($D11=$AF10,AD10,IF($D11=$AG10,AD10,IF($D11=$AH10,AD10,IF($D11<>"",AD10,AE10))))))))) -> 0 | AF11: =IF($D11=$AA10,AF10,IF($D11=$AB10,AF10,IF($D11=$AC10,AF10,IF($D11=$AD10,AF10,IF($D11=$AE10,AF10,IF($D11=$AF10,AE10,IF($D11=$AG10,AE10,IF($D11=$AH10,AE10,IF($D11<>"",AE10,AF10))))))))) -> 0 | AG11: =IF($D11=$AA10,AG10,IF($D11=$AB10,AG10,IF($D11=$AC10,AG10,IF($D11=$AD10,AG10,IF($D11=$AE10,AG10,IF($D11=$AF10,AG10,IF($D11=$AG10,AF10,IF($D11=$AH10,AF10,IF($D11<>"",AF10,AG10))))))))) -> 0 | AH11: =IF($D11=$AA10,AH10,IF($D11=$AB10,AH10,IF($D11=$AC10,AH10,IF($D11=$AD10,AH10,IF($D11=$AE10,AH10,IF($D11=$AF10,AH10,IF($D11=$AG10,AH10,IF($D11=$AH10,AG10,IF($D11<>"",AG10,AH10))))))))) -> 0 | AJ11: =F11 | AK11: =IF($F11<>"",F11,AK10) -> 22 | AL11: =IF($F11=$AK10,AL10,IF($F11=$AL10,AK10,IF($F11=$AM10,AK10,IF($F11=$AN10,AK10,IF($F11=$AO10,AK10,IF($F11=$AP10,AK10,IF($F11=$AQ10,AK10,IF($F11=$AR10,AK10,IF($F11<>"",AK10,AL10))))))))) -> 30 | AM11: =IF($F11=$AK10,AM10,IF($F11=$AL10,AM10,IF($F11=$AM10,AL10,IF($F11=$AN10,AL10,IF($F11=$AO10,AL10,IF($F11=$AP10,AL10,IF($F11=$AQ10,AL10,IF($F11=$AR10,AL10,IF($F11<>"",AL10,AM10))))))))) -> 0 | AN11: =IF($F11=$AK10,AN10,IF($F11=$AL10,AN10,IF($F11=$AM10,AN10,IF($F11=$AN10,AM10,IF($F11=$AO10,AM10,IF($F11=$AP10,AM10,IF($F11=$AQ10,AM10,IF($F11=$AR10,AM10,IF($F11<>"",AM10,AN10))))))))) -> 0 | AO11: =IF($F11=$AK10,AO10,IF($F11=$AL10,AO10,IF($F11=$AM10,AO10,IF($F11=$AN10,AO10,IF($F11=$AO10,AN10,IF($F11=$AP10,AN10,IF($F11=$AQ10,AN10,IF($F11=$AR10,AN10,IF($F11<>"",AN10,AO10))))))))) -> 0 | AP11: =IF($F11=$AK10,AP10,IF($F11=$AL10,AP10,IF($F11=$AM10,AP10,IF($F11=$AN10,AP10,IF($F11=$AO10,AP10,IF($F11=$AP10,AO10,IF($F11=$AQ10,AO10,IF($F11=$AR10,AO10,IF($F11<>"",AO10,AP10))))))))) -> 0 | AQ11: =IF($F11=$AK10,AQ10,IF($F11=$AL10,AQ10,IF($F11=$AM10,AQ10,IF($F11=$AN10,AQ10,IF($F11=$AO10,AQ10,IF($F11=$AP10,AQ10,IF($F11=$AQ10,AP10,IF($F11=$AR10,AP10,IF($F11<>"",AP10,AQ10))))))))) -> 0 | AR11: =IF($F11=$AK10,AR10,IF($F11=$AL10,AR10,IF($F11=$AM10,AR10,IF($F11=$AN10,AR10,IF($F11=$AO10,AR10,IF($F11=$AP10,AR10,IF($F11=$AQ10,AR10,IF($F11=$AR10,AQ10,IF($F11<>"",AQ10,AR10))))))))) -> 0 | AT11: =G11 | AU11: =IF($G11<>"",G11,AU10) -> 9 | AV11: =IF($G11=$AU10,AV10,IF($G11=$AV10,AU10,IF($G11=$AW10,AU10,IF($G11=$AX10,AU10,IF($G11=$AY10,AU10,IF($G11=$AZ10,AU10,IF($G11=$BA10,AU10,IF($G11=$BB10,AU10,IF($G11<>"",AU10,AV10))))))))) -> 6 | AW11: =IF($G11=$AU10,AW10,IF($G11=$AV10,AW10,IF($G11=$AW10,AV10,IF($G11=$AX10,AV10,IF($G11=$AY10,AV10,IF($G11=$AZ10,AV10,IF($G11=$BA10,AV10,IF($G11=$BB10,AV10,IF($G11<>"",AV10,AW10))))))))) -> 15 | AX11: =IF($G11=$AU10,AX10,IF($G11=$AV10,AX10,IF($G11=$AW10,AX10,IF($G11=$AX10,AW10,IF($G11=$AY10,AW10,IF($G11=$AZ10,AW10,IF($G11=$BA10,AW10,IF($G11=$BB10,AW10,IF($G11<>"",AW10,AX10))))))))) -> 0 | AY11: =IF($G11=$AU10,AY10,IF($G11=$AV10,AY10,IF($G11=$AW10,AY10,IF($G11=$AX10,AY10,IF($G11=$AY10,AX10,IF($G11=$AZ10,AX10,IF($G11=$BA10,AX10,IF($G11=$BB10,AX10,IF($G11<>"",AX10,AY10))))))))) -> 0 | AZ11: =IF($G11=$AU10,AZ10,IF($G11=$AV10,AZ10,IF($G11=$AW10,AZ10,IF($G11=$AX10,AZ10,IF($G11=$AY10,AZ10,IF($G11=$AZ10,AY10,IF($G11=$BA10,AY10,IF($G11=$BB10,AY10,IF($G11<>"",AY10,AZ10))))))))) -> 0 | BA11: =IF($G11=$AU10,BA10,IF($G11=$AV10,BA10,IF($G11=$AW10,BA10,IF($G11=$AX10,BA10,IF($G11=$AY10,BA10,IF($G11=$AZ10,BA10,IF($G11=$BA10,AZ10,IF($G11=$BB10,AZ10,IF($G11<>"",AZ10,BA10))))))))) -> 0 | BB11: =IF($G11=$AU10,BB10,IF($G11=$AV10,BB10,IF($G11=$AW10,BB10,IF($G11=$AX10,BB10,IF($G11=$AY10,BB10,IF($G11=$AZ10,BB10,IF($G11=$BA10,BB10,IF($G11=$BB10,BA10,IF($G11<>"",BA10,BB10))))))))) -> 0 | BD11: =I11 | BE11: =IF($I11<>"",I11,BE10) -> 9 | BF11: =IF($I11=$BE10,BF10,IF($I11=$BF10,BE10,IF($I11=$BG10,BE10,IF($I11=$BH10,BE10,IF($I11=$BI10,BE10,IF($I11=$BJ10,BE10,IF($I11=$BK10,BE10,IF($I11=$BL10,BE10,IF($I11<>"",BE10,BF10))))))))) -> 15 | BG11: =IF($I11=$BE10,BG10,IF($I11=$BF10,BG10,IF($I11=$BG10,BF10,IF($I11=$BH10,BF10,IF($I11=$BI10,BF10,IF($I11=$BJ10,BF10,IF($I11=$BK10,BF10,IF($I11=$BL10,BF10,IF($I11<>"",BF10,BG10))))))))) -> 23 | BH11: =IF($I11=$BE10,BH10,IF($I11=$BF10,BH10,IF($I11=$BG10,BH10,IF($I11=$BH10,BG10,IF($I11=$BI10,BG10,IF($I11=$BJ10,BG10,IF($I11=$BK10,BG10,IF($I11=$BL10,BG10,IF($I11<>"",BG10,BH10))))))))) -> 0 | BI11: =IF($I11=$BE10,BI10,IF($I11=$BF10,BI10,IF($I11=$BG10,BI10,IF($I11=$BH10,BI10,IF($I11=$BI10,BH10,IF($I11=$BJ10,BH10,IF($I11=$BK10,BH10,IF($I11=$BL10,BH10,IF($I11<>"",BH10,BI10))))))))) -> 0 | BJ11: =IF($I11=$BE10,BJ10,IF($I11=$BF10,BJ10,IF($I11=$BG10,BJ10,IF($I11=$BH10,BJ10,IF($I11=$BI10,BJ10,IF($I11=$BJ10,BI10,IF($I11=$BK10,BI10,IF($I11=$BL10,BI10,IF($I11<>"",BI10,BJ10))))))))) -> 0 | BK11: =IF($I11=$BE10,BK10,IF($I11=$BF10,BK10,IF($I11=$BG10,BK10,IF($I11=$BH10,BK10,IF($I11=$BI10,BK10,IF($I11=$BJ10,BK10,IF($I11=$BK10,BJ10,IF($I11=$BL10,BJ10,IF($I11<>"",BJ10,BK10))))))))) -> 0 | BL11: =IF($I11=$BE10,BL10,IF($I11=$BF10,BL10,IF($I11=$BG10,BL10,IF($I11=$BH10,BL10,IF($I11=$BI10,BL10,IF($I11=$BJ10,BL10,IF($I11=$BK10,BL10,IF($I11=$BL10,BK10,IF($I11<>"",BK10,BL10))))))))) -> 0 | BN11: =J11 | BO11: =IF($J11<>"",J11,BO10) -> 22 | BP11: =IF($J11=$BO10,BP10,IF($J11=$BP10,BO10,IF($J11=$BQ10,BO10,IF($J11=$BR10,BO10,IF($J11=$BS10,BO10,IF($J11=$BT10,BO10,IF($J11=$BU10,BO10,IF($J11=$BV10,BO10,IF($J11<>"",BO10,BP10))))))))) -> 6 | BQ11: =IF($J11=$BO10,BQ10,IF($J11=$BP10,BQ10,IF($J11=$BQ10,BP10,IF($J11=$BR10,BP10,IF($J11=$BS10,BP10,IF($J11=$BT10,BP10,IF($J11=$BU10,BP10,IF($J11=$BV10,BP10,IF($J11<>"",BP10,BQ10))))))))) -> 30 | BR11: =IF($J11=$BO10,BR10,IF($J11=$BP10,BR10,IF($J11=$BQ10,BR10,IF($J11=$BR10,BQ10,IF($J11=$BS10,BQ10,IF($J11=$BT10,BQ10,IF($J11=$BU10,BQ10,IF($J11=$BV10,BQ10,IF($J11<>"",BQ10,BR10))))))))) -> 0 | BS11: =IF($J11=$BO10,BS10,IF($J11=$BP10,BS10,IF($J11=$BQ10,BS10,IF($J11=$BR10,BS10,IF($J11=$BS10,BR10,IF($J11=$BT10,BR10,IF($J11=$BU10,BR10,IF($J11=$BV10,BR10,IF($J11<>"",BR10,BS10))))))))) -> 0 | BT11: =IF($J11=$BO10,BT10,IF($J11=$BP10,BT10,IF($J11=$BQ10,BT10,IF($J11=$BR10,BT10,IF($J11=$BS10,BT10,IF($J11=$BT10,BS10,IF($J11=$BU10,BS10,IF($J11=$BV10,BS10,IF($J11<>"",BS10,BT10))))))))) -> 0 | BU11: =IF($J11=$BO10,BU10,IF($J11=$BP10,BU10,IF($J11=$BQ10,BU10,IF($J11=$BR10,BU10,IF($J11=$BS10,BU10,IF($J11=$BT10,BU10,IF($J11=$BU10,BT10,IF($J11=$BV10,BT10,IF($J11<>"",BT10,BU10))))))))) -> 0 | BV11: =IF($J11=$BO10,BV10,IF($J11=$BP10,BV10,IF($J11=$BQ10,BV10,IF($J11=$BR10,BV10,IF($J11=$BS10,BV10,IF($J11=$BT10,BV10,IF($J11=$BU10,BV10,IF($J11=$BV10,BU10,IF($J11<>"",BU10,BV10))))))))) -> 0
A12: =RBLHOE!B12 -> 0 | B12: =LOOKUP(A12,K:K,L:L) -> 0 | C12: =IF(B12="Red",A12,"") | D12: =IF(B12="Black",A12,"" ) | E12: =LOOKUP(A12,K:K,M:M) -> 0 | F12: =IF(E12="High",A12,"") | G12: =IF(E12="Low",A12,"") | H12: =LOOKUP(A12,K:K,N:N) -> 0 | I12: =IF(H12="Odd",A12,"") | J12: =IF(H12="Even",A12,"" ) | K12: 8 | L12: Black | M12: Low | N12: Even | P12: =C12 | Q12: =IF($C12<>"",C12,Q11) -> 9 | R12: =IF($C12=$Q11,R11,IF($C12=$R11,Q11,IF($C12=$S11,Q11,IF($C12=$T11,Q11,IF($C12=$U11,Q11,IF($C12=$V11,Q11,IF($C12=$W11,Q11,IF($C12=$X11,Q11,IF($C12<>"",Q11,R11))))))))) -> 30 | S12: =IF($C12=$Q11,S11,IF($C12=$R11,S11,IF($C12=$S11,R11,IF($C12=$T11,R11,IF($C12=$U11,R11,IF($C12=$V11,R11,IF($C12=$W11,R11,IF($C12=$X11,R11,IF($C12<>"",R11,S11))))))))) -> 23 | T12: =IF($C12=$Q11,T11,IF($C12=$R11,T11,IF($C12=$S11,T11,IF($C12=$T11,S11,IF($C12=$U11,S11,IF($C12=$V11,S11,IF($C12=$W11,S11,IF($C12=$X11,S11,IF($C12<>"",S11,T11))))))))) -> 0 | U12: =IF($C12=$Q11,U11,IF($C12=$R11,U11,IF($C12=$S11,U11,IF($C12=$T11,U11,IF($C12=$U11,T11,IF($C12=$V11,T11,IF($C12=$W11,T11,IF($C12=$X11,T11,IF($C12<>"",T11,U11))))))))) -> 0 | V12: =IF($C12=$Q11,V11,IF($C12=$R11,V11,IF($C12=$S11,V11,IF($C12=$T11,V11,IF($C12=$U11,V11,IF($C12=$V11,U11,IF($C12=$W11,U11,IF($C12=$X11,U11,IF($C12<>"",U11,V11))))))))) -> 0 | W12: =IF($C12=$Q11,W11,IF($C12=$R11,W11,IF($C12=$S11,W11,IF($C12=$T11,W11,IF($C12=$U11,W11,IF($C12=$V11,W11,IF($C12=$W11,V11,IF($C12=$X11,V11,IF($C12<>"",V11,W11))))))))) -> 0 | X12: =IF($C12=$Q11,X11,IF($C12=$R11,X11,IF($C12=$S11,X11,IF($C12=$T11,X11,IF($C12=$U11,X11,IF($C12=$V11,X11,IF($C12=$W11,X11,IF($C12=$X11,W11,IF($C12<>"",W11,X11))))))))) -> 0 | Z12: =D12 | AA12: =IF($D12<>"",D12,AA11) -> 22 | AB12: =IF(AND($D12="",AB11=0),0,IF($D12=$AA11,AB11,IF($D12=$AB11,AA11,IF($D12=$AC11,AA11,IF($D12=$AD11,AA11,IF($D12=$AE11,AA11,IF($D12=$AF11,AA11,IF($D12=$AG11,AA11,IF($D12=$AH11,AA11,IF($D12<>"",AA11,AB11)))))))))) -> 6 | AC12: =IF($D12=$AA11,AC11,IF($D12=$AB11,AC11,IF($D12=$AC11,AB11,IF($D12=$AD11,AB11,IF($D12=$AE11,AB11,IF($D12=$AF11,AB11,IF($D12=$AG11,AB11,IF($D12=$AH11,AB11,IF($D12<>"",AB11,AC11))))))))) -> 15 | AD12: =IF($D12=$AA11,AD11,IF($D12=$AB11,AD11,IF($D12=$AC11,AD11,IF($D12=$AD11,AC11,IF($D12=$AE11,AC11,IF($D12=$AF11,AC11,IF($D12=$AG11,AC11,IF($D12=$AH11,AC11,IF($D12<>"",AC11,AD11))))))))) -> 0 | AE12: =IF($D12=$AA11,AE11,IF($D12=$AB11,AE11,IF($D12=$AC11,AE11,IF($D12=$AD11,AE11,IF($D12=$AE11,AD11,IF($D12=$AF11,AD11,IF($D12=$AG11,AD11,IF($D12=$AH11,AD11,IF($D12<>"",AD11,AE11))))))))) -> 0 | AF12: =IF($D12=$AA11,AF11,IF($D12=$AB11,AF11,IF($D12=$AC11,AF11,IF($D12=$AD11,AF11,IF($D12=$AE11,AF11,IF($D12=$AF11,AE11,IF($D12=$AG11,AE11,IF($D12=$AH11,AE11,IF($D12<>"",AE11,AF11))))))))) -> 0 | AG12: =IF($D12=$AA11,AG11,IF($D12=$AB11,AG11,IF($D12=$AC11,AG11,IF($D12=$AD11,AG11,IF($D12=$AE11,AG11,IF($D12=$AF11,AG11,IF($D12=$AG11,AF11,IF($D12=$AH11,AF11,IF($D12<>"",AF11,AG11))))))))) -> 0 | AH12: =IF($D12=$AA11,AH11,IF($D12=$AB11,AH11,IF($D12=$AC11,AH11,IF($D12=$AD11,AH11,IF($D12=$AE11,AH11,IF($D12=$AF11,AH11,IF($D12=$AG11,AH11,IF($D12=$AH11,AG11,IF($D12<>"",AG11,AH11))))))))) -> 0 | AJ12: =F12 | AK12: =IF($F12<>"",F12,AK11) -> 22 | AL12: =IF($F12=$AK11,AL11,IF($F12=$AL11,AK11,IF($F12=$AM11,AK11,IF($F12=$AN11,AK11,IF($F12=$AO11,AK11,IF($F12=$AP11,AK11,IF($F12=$AQ11,AK11,IF($F12=$AR11,AK11,IF($F12<>"",AK11,AL11))))))))) -> 30 | AM12: =IF($F12=$AK11,AM11,IF($F12=$AL11,AM11,IF($F12=$AM11,AL11,IF($F12=$AN11,AL11,IF($F12=$AO11,AL11,IF($F12=$AP11,AL11,IF($F12=$AQ11,AL11,IF($F12=$AR11,AL11,IF($F12<>"",AL11,AM11))))))))) -> 0 | AN12: =IF($F12=$AK11,AN11,IF($F12=$AL11,AN11,IF($F12=$AM11,AN11,IF($F12=$AN11,AM11,IF($F12=$AO11,AM11,IF($F12=$AP11,AM11,IF($F12=$AQ11,AM11,IF($F12=$AR11,AM11,IF($F12<>"",AM11,AN11))))))))) -> 0 | AO12: =IF($F12=$AK11,AO11,IF($F12=$AL11,AO11,IF($F12=$AM11,AO11,IF($F12=$AN11,AO11,IF($F12=$AO11,AN11,IF($F12=$AP11,AN11,IF($F12=$AQ11,AN11,IF($F12=$AR11,AN11,IF($F12<>"",AN11,AO11))))))))) -> 0 | AP12: =IF($F12=$AK11,AP11,IF($F12=$AL11,AP11,IF($F12=$AM11,AP11,IF($F12=$AN11,AP11,IF($F12=$AO11,AP11,IF($F12=$AP11,AO11,IF($F12=$AQ11,AO11,IF($F12=$AR11,AO11,IF($F12<>"",AO11,AP11))))))))) -> 0 | AQ12: =IF($F12=$AK11,AQ11,IF($F12=$AL11,AQ11,IF($F12=$AM11,AQ11,IF($F12=$AN11,AQ11,IF($F12=$AO11,AQ11,IF($F12=$AP11,AQ11,IF($F12=$AQ11,AP11,IF($F12=$AR11,AP11,IF($F12<>"",AP11,AQ11))))))))) -> 0 | AR12: =IF($F12=$AK11,AR11,IF($F12=$AL11,AR11,IF($F12=$AM11,AR11,IF($F12=$AN11,AR11,IF($F12=$AO11,AR11,IF($F12=$AP11,AR11,IF($F12=$AQ11,AR11,IF($F12=$AR11,AQ11,IF($F12<>"",AQ11,AR11))))))))) -> 0 | AT12: =G12 | AU12: =IF($G12<>"",G12,AU11) -> 9 | AV12: =IF($G12=$AU11,AV11,IF($G12=$AV11,AU11,IF($G12=$AW11,AU11,IF($G12=$AX11,AU11,IF($G12=$AY11,AU11,IF($G12=$AZ11,AU11,IF($G12=$BA11,AU11,IF($G12=$BB11,AU11,IF($G12<>"",AU11,AV11))))))))) -> 6 | AW12: =IF($G12=$AU11,AW11,IF($G12=$AV11,AW11,IF($G12=$AW11,AV11,IF($G12=$AX11,AV11,IF($G12=$AY11,AV11,IF($G12=$AZ11,AV11,IF($G12=$BA11,AV11,IF($G12=$BB11,AV11,IF($G12<>"",AV11,AW11))))))))) -> 15 | AX12: =IF($G12=$AU11,AX11,IF($G12=$AV11,AX11,IF($G12=$AW11,AX11,IF($G12=$AX11,AW11,IF($G12=$AY11,AW11,IF($G12=$AZ11,AW11,IF($G12=$BA11,AW11,IF($G12=$BB11,AW11,IF($G12<>"",AW11,AX11))))))))) -> 0 | AY12: =IF($G12=$AU11,AY11,IF($G12=$AV11,AY11,IF($G12=$AW11,AY11,IF($G12=$AX11,AY11,IF($G12=$AY11,AX11,IF($G12=$AZ11,AX11,IF($G12=$BA11,AX11,IF($G12=$BB11,AX11,IF($G12<>"",AX11,AY11))))))))) -> 0 | AZ12: =IF($G12=$AU11,AZ11,IF($G12=$AV11,AZ11,IF($G12=$AW11,AZ11,IF($G12=$AX11,AZ11,IF($G12=$AY11,AZ11,IF($G12=$AZ11,AY11,IF($G12=$BA11,AY11,IF($G12=$BB11,AY11,IF($G12<>"",AY11,AZ11))))))))) -> 0 | BA12: =IF($G12=$AU11,BA11,IF($G12=$AV11,BA11,IF($G12=$AW11,BA11,IF($G12=$AX11,BA11,IF($G12=$AY11,BA11,IF($G12=$AZ11,BA11,IF($G12=$BA11,AZ11,IF($G12=$BB11,AZ11,IF($G12<>"",AZ11,BA11))))))))) -> 0 | BB12: =IF($G12=$AU11,BB11,IF($G12=$AV11,BB11,IF($G12=$AW11,BB11,IF($G12=$AX11,BB11,IF($G12=$AY11,BB11,IF($G12=$AZ11,BB11,IF($G12=$BA11,BB11,IF($G12=$BB11,BA11,IF($G12<>"",BA11,BB11))))))))) -> 0 | BD12: =I12 | BE12: =IF($I12<>"",I12,BE11) -> 9 | BF12: =IF($I12=$BE11,BF11,IF($I12=$BF11,BE11,IF($I12=$BG11,BE11,IF($I12=$BH11,BE11,IF($I12=$BI11,BE11,IF($I12=$BJ11,BE11,IF($I12=$BK11,BE11,IF($I12=$BL11,BE11,IF($I12<>"",BE11,BF11))))))))) -> 15 | BG12: =IF($I12=$BE11,BG11,IF($I12=$BF11,BG11,IF($I12=$BG11,BF11,IF($I12=$BH11,BF11,IF($I12=$BI11,BF11,IF($I12=$BJ11,BF11,IF($I12=$BK11,BF11,IF($I12=$BL11,BF11,IF($I12<>"",BF11,BG11))))))))) -> 23 | BH12: =IF($I12=$BE11,BH11,IF($I12=$BF11,BH11,IF($I12=$BG11,BH11,IF($I12=$BH11,BG11,IF($I12=$BI11,BG11,IF($I12=$BJ11,BG11,IF($I12=$BK11,BG11,IF($I12=$BL11,BG11,IF($I12<>"",BG11,BH11))))))))) -> 0 | BI12: =IF($I12=$BE11,BI11,IF($I12=$BF11,BI11,IF($I12=$BG11,BI11,IF($I12=$BH11,BI11,IF($I12=$BI11,BH11,IF($I12=$BJ11,BH11,IF($I12=$BK11,BH11,IF($I12=$BL11,BH11,IF($I12<>"",BH11,BI11))))))))) -> 0 | BJ12: =IF($I12=$BE11,BJ11,IF($I12=$BF11,BJ11,IF($I12=$BG11,BJ11,IF($I12=$BH11,BJ11,IF($I12=$BI11,BJ11,IF($I12=$BJ11,BI11,IF($I12=$BK11,BI11,IF($I12=$BL11,BI11,IF($I12<>"",BI11,BJ11))))))))) -> 0 | BK12: =IF($I12=$BE11,BK11,IF($I12=$BF11,BK11,IF($I12=$BG11,BK11,IF($I12=$BH11,BK11,IF($I12=$BI11,BK11,IF($I12=$BJ11,BK11,IF($I12=$BK11,BJ11,IF($I12=$BL11,BJ11,IF($I12<>"",BJ11,BK11))))))))) -> 0 | BL12: =IF($I12=$BE11,BL11,IF($I12=$BF11,BL11,IF($I12=$BG11,BL11,IF($I12=$BH11,BL11,IF($I12=$BI11,BL11,IF($I12=$BJ11,BL11,IF($I12=$BK11,BL11,IF($I12=$BL11,BK11,IF($I12<>"",BK11,BL11))))))))) -> 0 | BN12: =J12 | BO12: =IF($J12<>"",J12,BO11) -> 22 | BP12: =IF($J12=$BO11,BP11,IF($J12=$BP11,BO11,IF($J12=$BQ11,BO11,IF($J12=$BR11,BO11,IF($J12=$BS11,BO11,IF($J12=$BT11,BO11,IF($J12=$BU11,BO11,IF($J12=$BV11,BO11,IF($J12<>"",BO11,BP11))))))))) -> 6 | BQ12: =IF($J12=$BO11,BQ11,IF($J12=$BP11,BQ11,IF($J12=$BQ11,BP11,IF($J12=$BR11,BP11,IF($J12=$BS11,BP11,IF($J12=$BT11,BP11,IF($J12=$BU11,BP11,IF($J12=$BV11,BP11,IF($J12<>"",BP11,BQ11))))))))) -> 30 | BR12: =IF($J12=$BO11,BR11,IF($J12=$BP11,BR11,IF($J12=$BQ11,BR11,IF($J12=$BR11,BQ11,IF($J12=$BS11,BQ11,IF($J12=$BT11,BQ11,IF($J12=$BU11,BQ11,IF($J12=$BV11,BQ11,IF($J12<>"",BQ11,BR11))))))))) -> 0 | BS12: =IF($J12=$BO11,BS11,IF($J12=$BP11,BS11,IF($J12=$BQ11,BS11,IF($J12=$BR11,BS11,IF($J12=$BS11,BR11,IF($J12=$BT11,BR11,IF($J12=$BU11,BR11,IF($J12=$BV11,BR11,IF($J12<>"",BR11,BS11))))))))) -> 0 | BT12: =IF($J12=$BO11,BT11,IF($J12=$BP11,BT11,IF($J12=$BQ11,BT11,IF($J12=$BR11,BT11,IF($J12=$BS11,BT11,IF($J12=$BT11,BS11,IF($J12=$BU11,BS11,IF($J12=$BV11,BS11,IF($J12<>"",BS11,BT11))))))))) -> 0 | BU12: =IF($J12=$BO11,BU11,IF($J12=$BP11,BU11,IF($J12=$BQ11,BU11,IF($J12=$BR11,BU11,IF($J12=$BS11,BU11,IF($J12=$BT11,BU11,IF($J12=$BU11,BT11,IF($J12=$BV11,BT11,IF($J12<>"",BT11,BU11))))))))) -> 0 | BV12: =IF($J12=$BO11,BV11,IF($J12=$BP11,BV11,IF($J12=$BQ11,BV11,IF($J12=$BR11,BV11,IF($J12=$BS11,BV11,IF($J12=$BT11,BV11,IF($J12=$BU11,BV11,IF($J12=$BV11,BU11,IF($J12<>"",BU11,BV11))))))))) -> 0
A13: =RBLHOE!B13 -> 0 | B13: =LOOKUP(A13,K:K,L:L) -> 0 | C13: =IF(B13="Red",A13,"") | D13: =IF(B13="Black",A13,"" ) | E13: =LOOKUP(A13,K:K,M:M) -> 0 | F13: =IF(E13="High",A13,"") | G13: =IF(E13="Low",A13,"") | H13: =LOOKUP(A13,K:K,N:N) -> 0 | I13: =IF(H13="Odd",A13,"") | J13: =IF(H13="Even",A13,"" ) | K13: 9 | L13: Red | M13: Low | N13: Odd | P13: =C13 | Q13: =IF($C13<>"",C13,Q12) -> 9 | R13: =IF($C13=$Q12,R12,IF($C13=$R12,Q12,IF($C13=$S12,Q12,IF($C13=$T12,Q12,IF($C13=$U12,Q12,IF($C13=$V12,Q12,IF($C13=$W12,Q12,IF($C13=$X12,Q12,IF($C13<>"",Q12,R12))))))))) -> 30 | S13: =IF($C13=$Q12,S12,IF($C13=$R12,S12,IF($C13=$S12,R12,IF($C13=$T12,R12,IF($C13=$U12,R12,IF($C13=$V12,R12,IF($C13=$W12,R12,IF($C13=$X12,R12,IF($C13<>"",R12,S12))))))))) -> 23 | T13: =IF($C13=$Q12,T12,IF($C13=$R12,T12,IF($C13=$S12,T12,IF($C13=$T12,S12,IF($C13=$U12,S12,IF($C13=$V12,S12,IF($C13=$W12,S12,IF($C13=$X12,S12,IF($C13<>"",S12,T12))))))))) -> 0 | U13: =IF($C13=$Q12,U12,IF($C13=$R12,U12,IF($C13=$S12,U12,IF($C13=$T12,U12,IF($C13=$U12,T12,IF($C13=$V12,T12,IF($C13=$W12,T12,IF($C13=$X12,T12,IF($C13<>"",T12,U12))))))))) -> 0 | V13: =IF($C13=$Q12,V12,IF($C13=$R12,V12,IF($C13=$S12,V12,IF($C13=$T12,V12,IF($C13=$U12,V12,IF($C13=$V12,U12,IF($C13=$W12,U12,IF($C13=$X12,U12,IF($C13<>"",U12,V12))))))))) -> 0 | W13: =IF($C13=$Q12,W12,IF($C13=$R12,W12,IF($C13=$S12,W12,IF($C13=$T12,W12,IF($C13=$U12,W12,IF($C13=$V12,W12,IF($C13=$W12,V12,IF($C13=$X12,V12,IF($C13<>"",V12,W12))))))))) -> 0 | X13: =IF($C13=$Q12,X12,IF($C13=$R12,X12,IF($C13=$S12,X12,IF($C13=$T12,X12,IF($C13=$U12,X12,IF($C13=$V12,X12,IF($C13=$W12,X12,IF($C13=$X12,W12,IF($C13<>"",W12,X12))))))))) -> 0 | Z13: =D13 | AA13: =IF($D13<>"",D13,AA12) -> 22 | AB13: =IF(AND($D13="",AB12=0),0,IF($D13=$AA12,AB12,IF($D13=$AB12,AA12,IF($D13=$AC12,AA12,IF($D13=$AD12,AA12,IF($D13=$AE12,AA12,IF($D13=$AF12,AA12,IF($D13=$AG12,AA12,IF($D13=$AH12,AA12,IF($D13<>"",AA12,AB12)))))))))) -> 6 | AC13: =IF($D13=$AA12,AC12,IF($D13=$AB12,AC12,IF($D13=$AC12,AB12,IF($D13=$AD12,AB12,IF($D13=$AE12,AB12,IF($D13=$AF12,AB12,IF($D13=$AG12,AB12,IF($D13=$AH12,AB12,IF($D13<>"",AB12,AC12))))))))) -> 15 | AD13: =IF($D13=$AA12,AD12,IF($D13=$AB12,AD12,IF($D13=$AC12,AD12,IF($D13=$AD12,AC12,IF($D13=$AE12,AC12,IF($D13=$AF12,AC12,IF($D13=$AG12,AC12,IF($D13=$AH12,AC12,IF($D13<>"",AC12,AD12))))))))) -> 0 | AE13: =IF($D13=$AA12,AE12,IF($D13=$AB12,AE12,IF($D13=$AC12,AE12,IF($D13=$AD12,AE12,IF($D13=$AE12,AD12,IF($D13=$AF12,AD12,IF($D13=$AG12,AD12,IF($D13=$AH12,AD12,IF($D13<>"",AD12,AE12))))))))) -> 0 | AF13: =IF($D13=$AA12,AF12,IF($D13=$AB12,AF12,IF($D13=$AC12,AF12,IF($D13=$AD12,AF12,IF($D13=$AE12,AF12,IF($D13=$AF12,AE12,IF($D13=$AG12,AE12,IF($D13=$AH12,AE12,IF($D13<>"",AE12,AF12))))))))) -> 0 | AG13: =IF($D13=$AA12,AG12,IF($D13=$AB12,AG12,IF($D13=$AC12,AG12,IF($D13=$AD12,AG12,IF($D13=$AE12,AG12,IF($D13=$AF12,AG12,IF($D13=$AG12,AF12,IF($D13=$AH12,AF12,IF($D13<>"",AF12,AG12))))))))) -> 0 | AH13: =IF($D13=$AA12,AH12,IF($D13=$AB12,AH12,IF($D13=$AC12,AH12,IF($D13=$AD12,AH12,IF($D13=$AE12,AH12,IF($D13=$AF12,AH12,IF($D13=$AG12,AH12,IF($D13=$AH12,AG12,IF($D13<>"",AG12,AH12))))))))) -> 0 | AJ13: =F13 | AK13: =IF($F13<>"",F13,AK12) -> 22 | AL13: =IF($F13=$AK12,AL12,IF($F13=$AL12,AK12,IF($F13=$AM12,AK12,IF($F13=$AN12,AK12,IF($F13=$AO12,AK12,IF($F13=$AP12,AK12,IF($F13=$AQ12,AK12,IF($F13=$AR12,AK12,IF($F13<>"",AK12,AL12))))))))) -> 30 | AM13: =IF($F13=$AK12,AM12,IF($F13=$AL12,AM12,IF($F13=$AM12,AL12,IF($F13=$AN12,AL12,IF($F13=$AO12,AL12,IF($F13=$AP12,AL12,IF($F13=$AQ12,AL12,IF($F13=$AR12,AL12,IF($F13<>"",AL12,AM12))))))))) -> 0 | AN13: =IF($F13=$AK12,AN12,IF($F13=$AL12,AN12,IF($F13=$AM12,AN12,IF($F13=$AN12,AM12,IF($F13=$AO12,AM12,IF($F13=$AP12,AM12,IF($F13=$AQ12,AM12,IF($F13=$AR12,AM12,IF($F13<>"",AM12,AN12))))))))) -> 0 | AO13: =IF($F13=$AK12,AO12,IF($F13=$AL12,AO12,IF($F13=$AM12,AO12,IF($F13=$AN12,AO12,IF($F13=$AO12,AN12,IF($F13=$AP12,AN12,IF($F13=$AQ12,AN12,IF($F13=$AR12,AN12,IF($F13<>"",AN12,AO12))))))))) -> 0 | AP13: =IF($F13=$AK12,AP12,IF($F13=$AL12,AP12,IF($F13=$AM12,AP12,IF($F13=$AN12,AP12,IF($F13=$AO12,AP12,IF($F13=$AP12,AO12,IF($F13=$AQ12,AO12,IF($F13=$AR12,AO12,IF($F13<>"",AO12,AP12))))))))) -> 0 | AQ13: =IF($F13=$AK12,AQ12,IF($F13=$AL12,AQ12,IF($F13=$AM12,AQ12,IF($F13=$AN12,AQ12,IF($F13=$AO12,AQ12,IF($F13=$AP12,AQ12,IF($F13=$AQ12,AP12,IF($F13=$AR12,AP12,IF($F13<>"",AP12,AQ12))))))))) -> 0 | AR13: =IF($F13=$AK12,AR12,IF($F13=$AL12,AR12,IF($F13=$AM12,AR12,IF($F13=$AN12,AR12,IF($F13=$AO12,AR12,IF($F13=$AP12,AR12,IF($F13=$AQ12,AR12,IF($F13=$AR12,AQ12,IF($F13<>"",AQ12,AR12))))))))) -> 0 | AT13: =G13 | AU13: =IF($G13<>"",G13,AU12) -> 9 | AV13: =IF($G13=$AU12,AV12,IF($G13=$AV12,AU12,IF($G13=$AW12,AU12,IF($G13=$AX12,AU12,IF($G13=$AY12,AU12,IF($G13=$AZ12,AU12,IF($G13=$BA12,AU12,IF($G13=$BB12,AU12,IF($G13<>"",AU12,AV12))))))))) -> 6 | AW13: =IF($G13=$AU12,AW12,IF($G13=$AV12,AW12,IF($G13=$AW12,AV12,IF($G13=$AX12,AV12,IF($G13=$AY12,AV12,IF($G13=$AZ12,AV12,IF($G13=$BA12,AV12,IF($G13=$BB12,AV12,IF($G13<>"",AV12,AW12))))))))) -> 15 | AX13: =IF($G13=$AU12,AX12,IF($G13=$AV12,AX12,IF($G13=$AW12,AX12,IF($G13=$AX12,AW12,IF($G13=$AY12,AW12,IF($G13=$AZ12,AW12,IF($G13=$BA12,AW12,IF($G13=$BB12,AW12,IF($G13<>"",AW12,AX12))))))))) -> 0 | AY13: =IF($G13=$AU12,AY12,IF($G13=$AV12,AY12,IF($G13=$AW12,AY12,IF($G13=$AX12,AY12,IF($G13=$AY12,AX12,IF($G13=$AZ12,AX12,IF($G13=$BA12,AX12,IF($G13=$BB12,AX12,IF($G13<>"",AX12,AY12))))))))) -> 0 | AZ13: =IF($G13=$AU12,AZ12,IF($G13=$AV12,AZ12,IF($G13=$AW12,AZ12,IF($G13=$AX12,AZ12,IF($G13=$AY12,AZ12,IF($G13=$AZ12,AY12,IF($G13=$BA12,AY12,IF($G13=$BB12,AY12,IF($G13<>"",AY12,AZ12))))))))) -> 0 | BA13: =IF($G13=$AU12,BA12,IF($G13=$AV12,BA12,IF($G13=$AW12,BA12,IF($G13=$AX12,BA12,IF($G13=$AY12,BA12,IF($G13=$AZ12,BA12,IF($G13=$BA12,AZ12,IF($G13=$BB12,AZ12,IF($G13<>"",AZ12,BA12))))))))) -> 0 | BB13: =IF($G13=$AU12,BB12,IF($G13=$AV12,BB12,IF($G13=$AW12,BB12,IF($G13=$AX12,BB12,IF($G13=$AY12,BB12,IF($G13=$AZ12,BB12,IF($G13=$BA12,BB12,IF($G13=$BB12,BA12,IF($G13<>"",BA12,BB12))))))))) -> 0 | BD13: =I13 | BE13: =IF($I13<>"",I13,BE12) -> 9 | BF13: =IF($I13=$BE12,BF12,IF($I13=$BF12,BE12,IF($I13=$BG12,BE12,IF($I13=$BH12,BE12,IF($I13=$BI12,BE12,IF($I13=$BJ12,BE12,IF($I13=$BK12,BE12,IF($I13=$BL12,BE12,IF($I13<>"",BE12,BF12))))))))) -> 15 | BG13: =IF($I13=$BE12,BG12,IF($I13=$BF12,BG12,IF($I13=$BG12,BF12,IF($I13=$BH12,BF12,IF($I13=$BI12,BF12,IF($I13=$BJ12,BF12,IF($I13=$BK12,BF12,IF($I13=$BL12,BF12,IF($I13<>"",BF12,BG12))))))))) -> 23 | BH13: =IF($I13=$BE12,BH12,IF($I13=$BF12,BH12,IF($I13=$BG12,BH12,IF($I13=$BH12,BG12,IF($I13=$BI12,BG12,IF($I13=$BJ12,BG12,IF($I13=$BK12,BG12,IF($I13=$BL12,BG12,IF($I13<>"",BG12,BH12))))))))) -> 0 | BI13: =IF($I13=$BE12,BI12,IF($I13=$BF12,BI12,IF($I13=$BG12,BI12,IF($I13=$BH12,BI12,IF($I13=$BI12,BH12,IF($I13=$BJ12,BH12,IF($I13=$BK12,BH12,IF($I13=$BL12,BH12,IF($I13<>"",BH12,BI12))))))))) -> 0 | BJ13: =IF($I13=$BE12,BJ12,IF($I13=$BF12,BJ12,IF($I13=$BG12,BJ12,IF($I13=$BH12,BJ12,IF($I13=$BI12,BJ12,IF($I13=$BJ12,BI12,IF($I13=$BK12,BI12,IF($I13=$BL12,BI12,IF($I13<>"",BI12,BJ12))))))))) -> 0 | BK13: =IF($I13=$BE12,BK12,IF($I13=$BF12,BK12,IF($I13=$BG12,BK12,IF($I13=$BH12,BK12,IF($I13=$BI12,BK12,IF($I13=$BJ12,BK12,IF($I13=$BK12,BJ12,IF($I13=$BL12,BJ12,IF($I13<>"",BJ12,BK12))))))))) -> 0 | BL13: =IF($I13=$BE12,BL12,IF($I13=$BF12,BL12,IF($I13=$BG12,BL12,IF($I13=$BH12,BL12,IF($I13=$BI12,BL12,IF($I13=$BJ12,BL12,IF($I13=$BK12,BL12,IF($I13=$BL12,BK12,IF($I13<>"",BK12,BL12))))))))) -> 0 | BN13: =J13 | BO13: =IF($J13<>"",J13,BO12) -> 22 | BP13: =IF($J13=$BO12,BP12,IF($J13=$BP12,BO12,IF($J13=$BQ12,BO12,IF($J13=$BR12,BO12,IF($J13=$BS12,BO12,IF($J13=$BT12,BO12,IF($J13=$BU12,BO12,IF($J13=$BV12,BO12,IF($J13<>"",BO12,BP12))))))))) -> 6 | BQ13: =IF($J13=$BO12,BQ12,IF($J13=$BP12,BQ12,IF($J13=$BQ12,BP12,IF($J13=$BR12,BP12,IF($J13=$BS12,BP12,IF($J13=$BT12,BP12,IF($J13=$BU12,BP12,IF($J13=$BV12,BP12,IF($J13<>"",BP12,BQ12))))))))) -> 30 | BR13: =IF($J13=$BO12,BR12,IF($J13=$BP12,BR12,IF($J13=$BQ12,BR12,IF($J13=$BR12,BQ12,IF($J13=$BS12,BQ12,IF($J13=$BT12,BQ12,IF($J13=$BU12,BQ12,IF($J13=$BV12,BQ12,IF($J13<>"",BQ12,BR12))))))))) -> 0 | BS13: =IF($J13=$BO12,BS12,IF($J13=$BP12,BS12,IF($J13=$BQ12,BS12,IF($J13=$BR12,BS12,IF($J13=$BS12,BR12,IF($J13=$BT12,BR12,IF($J13=$BU12,BR12,IF($J13=$BV12,BR12,IF($J13<>"",BR12,BS12))))))))) -> 0 | BT13: =IF($J13=$BO12,BT12,IF($J13=$BP12,BT12,IF($J13=$BQ12,BT12,IF($J13=$BR12,BT12,IF($J13=$BS12,BT12,IF($J13=$BT12,BS12,IF($J13=$BU12,BS12,IF($J13=$BV12,BS12,IF($J13<>"",BS12,BT12))))))))) -> 0 | BU13: =IF($J13=$BO12,BU12,IF($J13=$BP12,BU12,IF($J13=$BQ12,BU12,IF($J13=$BR12,BU12,IF($J13=$BS12,BU12,IF($J13=$BT12,BU12,IF($J13=$BU12,BT12,IF($J13=$BV12,BT12,IF($J13<>"",BT12,BU12))))))))) -> 0 | BV13: =IF($J13=$BO12,BV12,IF($J13=$BP12,BV12,IF($J13=$BQ12,BV12,IF($J13=$BR12,BV12,IF($J13=$BS12,BV12,IF($J13=$BT12,BV12,IF($J13=$BU12,BV12,IF($J13=$BV12,BU12,IF($J13<>"",BU12,BV12))))))))) -> 0
A14: =RBLHOE!B14 -> 0 | B14: =LOOKUP(A14,K:K,L:L) -> 0 | C14: =IF(B14="Red",A14,"") | D14: =IF(B14="Black",A14,"" ) | E14: =LOOKUP(A14,K:K,M:M) -> 0 | F14: =IF(E14="High",A14,"") | G14: =IF(E14="Low",A14,"") | H14: =LOOKUP(A14,K:K,N:N) -> 0 | I14: =IF(H14="Odd",A14,"") | J14: =IF(H14="Even",A14,"" ) | K14: 10 | L14: Black | M14: Low | N14: Even | P14: =C14 | Q14: =IF($C14<>"",C14,Q13) -> 9 | R14: =IF($C14=$Q13,R13,IF($C14=$R13,Q13,IF($C14=$S13,Q13,IF($C14=$T13,Q13,IF($C14=$U13,Q13,IF($C14=$V13,Q13,IF($C14=$W13,Q13,IF($C14=$X13,Q13,IF($C14<>"",Q13,R13))))))))) -> 30 | S14: =IF($C14=$Q13,S13,IF($C14=$R13,S13,IF($C14=$S13,R13,IF($C14=$T13,R13,IF($C14=$U13,R13,IF($C14=$V13,R13,IF($C14=$W13,R13,IF($C14=$X13,R13,IF($C14<>"",R13,S13))))))))) -> 23 | T14: =IF($C14=$Q13,T13,IF($C14=$R13,T13,IF($C14=$S13,T13,IF($C14=$T13,S13,IF($C14=$U13,S13,IF($C14=$V13,S13,IF($C14=$W13,S13,IF($C14=$X13,S13,IF($C14<>"",S13,T13))))))))) -> 0 | U14: =IF($C14=$Q13,U13,IF($C14=$R13,U13,IF($C14=$S13,U13,IF($C14=$T13,U13,IF($C14=$U13,T13,IF($C14=$V13,T13,IF($C14=$W13,T13,IF($C14=$X13,T13,IF($C14<>"",T13,U13))))))))) -> 0 | V14: =IF($C14=$Q13,V13,IF($C14=$R13,V13,IF($C14=$S13,V13,IF($C14=$T13,V13,IF($C14=$U13,V13,IF($C14=$V13,U13,IF($C14=$W13,U13,IF($C14=$X13,U13,IF($C14<>"",U13,V13))))))))) -> 0 | W14: =IF($C14=$Q13,W13,IF($C14=$R13,W13,IF($C14=$S13,W13,IF($C14=$T13,W13,IF($C14=$U13,W13,IF($C14=$V13,W13,IF($C14=$W13,V13,IF($C14=$X13,V13,IF($C14<>"",V13,W13))))))))) -> 0 | X14: =IF($C14=$Q13,X13,IF($C14=$R13,X13,IF($C14=$S13,X13,IF($C14=$T13,X13,IF($C14=$U13,X13,IF($C14=$V13,X13,IF($C14=$W13,X13,IF($C14=$X13,W13,IF($C14<>"",W13,X13))))))))) -> 0 | Z14: =D14 | AA14: =IF($D14<>"",D14,AA13) -> 22 | AB14: =IF(AND($D14="",AB13=0),0,IF($D14=$AA13,AB13,IF($D14=$AB13,AA13,IF($D14=$AC13,AA13,IF($D14=$AD13,AA13,IF($D14=$AE13,AA13,IF($D14=$AF13,AA13,IF($D14=$AG13,AA13,IF($D14=$AH13,AA13,IF($D14<>"",AA13,AB13)))))))))) -> 6 | AC14: =IF($D14=$AA13,AC13,IF($D14=$AB13,AC13,IF($D14=$AC13,AB13,IF($D14=$AD13,AB13,IF($D14=$AE13,AB13,IF($D14=$AF13,AB13,IF($D14=$AG13,AB13,IF($D14=$AH13,AB13,IF($D14<>"",AB13,AC13))))))))) -> 15 | AD14: =IF($D14=$AA13,AD13,IF($D14=$AB13,AD13,IF($D14=$AC13,AD13,IF($D14=$AD13,AC13,IF($D14=$AE13,AC13,IF($D14=$AF13,AC13,IF($D14=$AG13,AC13,IF($D14=$AH13,AC13,IF($D14<>"",AC13,AD13))))))))) -> 0 | AE14: =IF($D14=$AA13,AE13,IF($D14=$AB13,AE13,IF($D14=$AC13,AE13,IF($D14=$AD13,AE13,IF($D14=$AE13,AD13,IF($D14=$AF13,AD13,IF($D14=$AG13,AD13,IF($D14=$AH13,AD13,IF($D14<>"",AD13,AE13))))))))) -> 0 | AF14: =IF($D14=$AA13,AF13,IF($D14=$AB13,AF13,IF($D14=$AC13,AF13,IF($D14=$AD13,AF13,IF($D14=$AE13,AF13,IF($D14=$AF13,AE13,IF($D14=$AG13,AE13,IF($D14=$AH13,AE13,IF($D14<>"",AE13,AF13))))))))) -> 0 | AG14: =IF($D14=$AA13,AG13,IF($D14=$AB13,AG13,IF($D14=$AC13,AG13,IF($D14=$AD13,AG13,IF($D14=$AE13,AG13,IF($D14=$AF13,AG13,IF($D14=$AG13,AF13,IF($D14=$AH13,AF13,IF($D14<>"",AF13,AG13))))))))) -> 0 | AH14: =IF($D14=$AA13,AH13,IF($D14=$AB13,AH13,IF($D14=$AC13,AH13,IF($D14=$AD13,AH13,IF($D14=$AE13,AH13,IF($D14=$AF13,AH13,IF($D14=$AG13,AH13,IF($D14=$AH13,AG13,IF($D14<>"",AG13,AH13))))))))) -> 0 | AJ14: =F14 | AK14: =IF($F14<>"",F14,AK13) -> 22 | AL14: =IF($F14=$AK13,AL13,IF($F14=$AL13,AK13,IF($F14=$AM13,AK13,IF($F14=$AN13,AK13,IF($F14=$AO13,AK13,IF($F14=$AP13,AK13,IF($F14=$AQ13,AK13,IF($F14=$AR13,AK13,IF($F14<>"",AK13,AL13))))))))) -> 30 | AM14: =IF($F14=$AK13,AM13,IF($F14=$AL13,AM13,IF($F14=$AM13,AL13,IF($F14=$AN13,AL13,IF($F14=$AO13,AL13,IF($F14=$AP13,AL13,IF($F14=$AQ13,AL13,IF($F14=$AR13,AL13,IF($F14<>"",AL13,AM13))))))))) -> 0 | AN14: =IF($F14=$AK13,AN13,IF($F14=$AL13,AN13,IF($F14=$AM13,AN13,IF($F14=$AN13,AM13,IF($F14=$AO13,AM13,IF($F14=$AP13,AM13,IF($F14=$AQ13,AM13,IF($F14=$AR13,AM13,IF($F14<>"",AM13,AN13))))))))) -> 0 | AO14: =IF($F14=$AK13,AO13,IF($F14=$AL13,AO13,IF($F14=$AM13,AO13,IF($F14=$AN13,AO13,IF($F14=$AO13,AN13,IF($F14=$AP13,AN13,IF($F14=$AQ13,AN13,IF($F14=$AR13,AN13,IF($F14<>"",AN13,AO13))))))))) -> 0 | AP14: =IF($F14=$AK13,AP13,IF($F14=$AL13,AP13,IF($F14=$AM13,AP13,IF($F14=$AN13,AP13,IF($F14=$AO13,AP13,IF($F14=$AP13,AO13,IF($F14=$AQ13,AO13,IF($F14=$AR13,AO13,IF($F14<>"",AO13,AP13))))))))) -> 0 | AQ14: =IF($F14=$AK13,AQ13,IF($F14=$AL13,AQ13,IF($F14=$AM13,AQ13,IF($F14=$AN13,AQ13,IF($F14=$AO13,AQ13,IF($F14=$AP13,AQ13,IF($F14=$AQ13,AP13,IF($F14=$AR13,AP13,IF($F14<>"",AP13,AQ13))))))))) -> 0 | AR14: =IF($F14=$AK13,AR13,IF($F14=$AL13,AR13,IF($F14=$AM13,AR13,IF($F14=$AN13,AR13,IF($F14=$AO13,AR13,IF($F14=$AP13,AR13,IF($F14=$AQ13,AR13,IF($F14=$AR13,AQ13,IF($F14<>"",AQ13,AR13))))))))) -> 0 | AT14: =G14 | AU14: =IF($G14<>"",G14,AU13) -> 9 | AV14: =IF($G14=$AU13,AV13,IF($G14=$AV13,AU13,IF($G14=$AW13,AU13,IF($G14=$AX13,AU13,IF($G14=$AY13,AU13,IF($G14=$AZ13,AU13,IF($G14=$BA13,AU13,IF($G14=$BB13,AU13,IF($G14<>"",AU13,AV13))))))))) -> 6 | AW14: =IF($G14=$AU13,AW13,IF($G14=$AV13,AW13,IF($G14=$AW13,AV13,IF($G14=$AX13,AV13,IF($G14=$AY13,AV13,IF($G14=$AZ13,AV13,IF($G14=$BA13,AV13,IF($G14=$BB13,AV13,IF($G14<>"",AV13,AW13))))))))) -> 15 | AX14: =IF($G14=$AU13,AX13,IF($G14=$AV13,AX13,IF($G14=$AW13,AX13,IF($G14=$AX13,AW13,IF($G14=$AY13,AW13,IF($G14=$AZ13,AW13,IF($G14=$BA13,AW13,IF($G14=$BB13,AW13,IF($G14<>"",AW13,AX13))))))))) -> 0 | AY14: =IF($G14=$AU13,AY13,IF($G14=$AV13,AY13,IF($G14=$AW13,AY13,IF($G14=$AX13,AY13,IF($G14=$AY13,AX13,IF($G14=$AZ13,AX13,IF($G14=$BA13,AX13,IF($G14=$BB13,AX13,IF($G14<>"",AX13,AY13))))))))) -> 0 | AZ14: =IF($G14=$AU13,AZ13,IF($G14=$AV13,AZ13,IF($G14=$AW13,AZ13,IF($G14=$AX13,AZ13,IF($G14=$AY13,AZ13,IF($G14=$AZ13,AY13,IF($G14=$BA13,AY13,IF($G14=$BB13,AY13,IF($G14<>"",AY13,AZ13))))))))) -> 0 | BA14: =IF($G14=$AU13,BA13,IF($G14=$AV13,BA13,IF($G14=$AW13,BA13,IF($G14=$AX13,BA13,IF($G14=$AY13,BA13,IF($G14=$AZ13,BA13,IF($G14=$BA13,AZ13,IF($G14=$BB13,AZ13,IF($G14<>"",AZ13,BA13))))))))) -> 0 | BB14: =IF($G14=$AU13,BB13,IF($G14=$AV13,BB13,IF($G14=$AW13,BB13,IF($G14=$AX13,BB13,IF($G14=$AY13,BB13,IF($G14=$AZ13,BB13,IF($G14=$BA13,BB13,IF($G14=$BB13,BA13,IF($G14<>"",BA13,BB13))))))))) -> 0 | BD14: =I14 | BE14: =IF($I14<>"",I14,BE13) -> 9 | BF14: =IF($I14=$BE13,BF13,IF($I14=$BF13,BE13,IF($I14=$BG13,BE13,IF($I14=$BH13,BE13,IF($I14=$BI13,BE13,IF($I14=$BJ13,BE13,IF($I14=$BK13,BE13,IF($I14=$BL13,BE13,IF($I14<>"",BE13,BF13))))))))) -> 15 | BG14: =IF($I14=$BE13,BG13,IF($I14=$BF13,BG13,IF($I14=$BG13,BF13,IF($I14=$BH13,BF13,IF($I14=$BI13,BF13,IF($I14=$BJ13,BF13,IF($I14=$BK13,BF13,IF($I14=$BL13,BF13,IF($I14<>"",BF13,BG13))))))))) -> 23 | BH14: =IF($I14=$BE13,BH13,IF($I14=$BF13,BH13,IF($I14=$BG13,BH13,IF($I14=$BH13,BG13,IF($I14=$BI13,BG13,IF($I14=$BJ13,BG13,IF($I14=$BK13,BG13,IF($I14=$BL13,BG13,IF($I14<>"",BG13,BH13))))))))) -> 0 | BI14: =IF($I14=$BE13,BI13,IF($I14=$BF13,BI13,IF($I14=$BG13,BI13,IF($I14=$BH13,BI13,IF($I14=$BI13,BH13,IF($I14=$BJ13,BH13,IF($I14=$BK13,BH13,IF($I14=$BL13,BH13,IF($I14<>"",BH13,BI13))))))))) -> 0 | BJ14: =IF($I14=$BE13,BJ13,IF($I14=$BF13,BJ13,IF($I14=$BG13,BJ13,IF($I14=$BH13,BJ13,IF($I14=$BI13,BJ13,IF($I14=$BJ13,BI13,IF($I14=$BK13,BI13,IF($I14=$BL13,BI13,IF($I14<>"",BI13,BJ13))))))))) -> 0 | BK14: =IF($I14=$BE13,BK13,IF($I14=$BF13,BK13,IF($I14=$BG13,BK13,IF($I14=$BH13,BK13,IF($I14=$BI13,BK13,IF($I14=$BJ13,BK13,IF($I14=$BK13,BJ13,IF($I14=$BL13,BJ13,IF($I14<>"",BJ13,BK13))))))))) -> 0 | BL14: =IF($I14=$BE13,BL13,IF($I14=$BF13,BL13,IF($I14=$BG13,BL13,IF($I14=$BH13,BL13,IF($I14=$BI13,BL13,IF($I14=$BJ13,BL13,IF($I14=$BK13,BL13,IF($I14=$BL13,BK13,IF($I14<>"",BK13,BL13))))))))) -> 0 | BN14: =J14 | BO14: =IF($J14<>"",J14,BO13) -> 22 | BP14: =IF($J14=$BO13,BP13,IF($J14=$BP13,BO13,IF($J14=$BQ13,BO13,IF($J14=$BR13,BO13,IF($J14=$BS13,BO13,IF($J14=$BT13,BO13,IF($J14=$BU13,BO13,IF($J14=$BV13,BO13,IF($J14<>"",BO13,BP13))))))))) -> 6 | BQ14: =IF($J14=$BO13,BQ13,IF($J14=$BP13,BQ13,IF($J14=$BQ13,BP13,IF($J14=$BR13,BP13,IF($J14=$BS13,BP13,IF($J14=$BT13,BP13,IF($J14=$BU13,BP13,IF($J14=$BV13,BP13,IF($J14<>"",BP13,BQ13))))))))) -> 30 | BR14: =IF($J14=$BO13,BR13,IF($J14=$BP13,BR13,IF($J14=$BQ13,BR13,IF($J14=$BR13,BQ13,IF($J14=$BS13,BQ13,IF($J14=$BT13,BQ13,IF($J14=$BU13,BQ13,IF($J14=$BV13,BQ13,IF($J14<>"",BQ13,BR13))))))))) -> 0 | BS14: =IF($J14=$BO13,BS13,IF($J14=$BP13,BS13,IF($J14=$BQ13,BS13,IF($J14=$BR13,BS13,IF($J14=$BS13,BR13,IF($J14=$BT13,BR13,IF($J14=$BU13,BR13,IF($J14=$BV13,BR13,IF($J14<>"",BR13,BS13))))))))) -> 0 | BT14: =IF($J14=$BO13,BT13,IF($J14=$BP13,BT13,IF($J14=$BQ13,BT13,IF($J14=$BR13,BT13,IF($J14=$BS13,BT13,IF($J14=$BT13,BS13,IF($J14=$BU13,BS13,IF($J14=$BV13,BS13,IF($J14<>"",BS13,BT13))))))))) -> 0 | BU14: =IF($J14=$BO13,BU13,IF($J14=$BP13,BU13,IF($J14=$BQ13,BU13,IF($J14=$BR13,BU13,IF($J14=$BS13,BU13,IF($J14=$BT13,BU13,IF($J14=$BU13,BT13,IF($J14=$BV13,BT13,IF($J14<>"",BT13,BU13))))))))) -> 0 | BV14: =IF($J14=$BO13,BV13,IF($J14=$BP13,BV13,IF($J14=$BQ13,BV13,IF($J14=$BR13,BV13,IF($J14=$BS13,BV13,IF($J14=$BT13,BV13,IF($J14=$BU13,BV13,IF($J14=$BV13,BU13,IF($J14<>"",BU13,BV13))))))))) -> 0
A15: =RBLHOE!B15 -> 0 | B15: =LOOKUP(A15,K:K,L:L) -> 0 | C15: =IF(B15="Red",A15,"") | D15: =IF(B15="Black",A15,"" ) | E15: =LOOKUP(A15,K:K,M:M) -> 0 | F15: =IF(E15="High",A15,"") | G15: =IF(E15="Low",A15,"") | H15: =LOOKUP(A15,K:K,N:N) -> 0 | I15: =IF(H15="Odd",A15,"") | J15: =IF(H15="Even",A15,"" ) | K15: 11 | L15: Black | M15: Low | N15: Odd | P15: =C15 | Q15: =IF($C15<>"",C15,Q14) -> 9 | R15: =IF($C15=$Q14,R14,IF($C15=$R14,Q14,IF($C15=$S14,Q14,IF($C15=$T14,Q14,IF($C15=$U14,Q14,IF($C15=$V14,Q14,IF($C15=$W14,Q14,IF($C15=$X14,Q14,IF($C15<>"",Q14,R14))))))))) -> 30 | S15: =IF($C15=$Q14,S14,IF($C15=$R14,S14,IF($C15=$S14,R14,IF($C15=$T14,R14,IF($C15=$U14,R14,IF($C15=$V14,R14,IF($C15=$W14,R14,IF($C15=$X14,R14,IF($C15<>"",R14,S14))))))))) -> 23 | T15: =IF($C15=$Q14,T14,IF($C15=$R14,T14,IF($C15=$S14,T14,IF($C15=$T14,S14,IF($C15=$U14,S14,IF($C15=$V14,S14,IF($C15=$W14,S14,IF($C15=$X14,S14,IF($C15<>"",S14,T14))))))))) -> 0 | U15: =IF($C15=$Q14,U14,IF($C15=$R14,U14,IF($C15=$S14,U14,IF($C15=$T14,U14,IF($C15=$U14,T14,IF($C15=$V14,T14,IF($C15=$W14,T14,IF($C15=$X14,T14,IF($C15<>"",T14,U14))))))))) -> 0 | V15: =IF($C15=$Q14,V14,IF($C15=$R14,V14,IF($C15=$S14,V14,IF($C15=$T14,V14,IF($C15=$U14,V14,IF($C15=$V14,U14,IF($C15=$W14,U14,IF($C15=$X14,U14,IF($C15<>"",U14,V14))))))))) -> 0 | W15: =IF($C15=$Q14,W14,IF($C15=$R14,W14,IF($C15=$S14,W14,IF($C15=$T14,W14,IF($C15=$U14,W14,IF($C15=$V14,W14,IF($C15=$W14,V14,IF($C15=$X14,V14,IF($C15<>"",V14,W14))))))))) -> 0 | X15: =IF($C15=$Q14,X14,IF($C15=$R14,X14,IF($C15=$S14,X14,IF($C15=$T14,X14,IF($C15=$U14,X14,IF($C15=$V14,X14,IF($C15=$W14,X14,IF($C15=$X14,W14,IF($C15<>"",W14,X14))))))))) -> 0 | Z15: =D15 | AA15: =IF($D15<>"",D15,AA14) -> 22 | AB15: =IF(AND($D15="",AB14=0),0,IF($D15=$AA14,AB14,IF($D15=$AB14,AA14,IF($D15=$AC14,AA14,IF($D15=$AD14,AA14,IF($D15=$AE14,AA14,IF($D15=$AF14,AA14,IF($D15=$AG14,AA14,IF($D15=$AH14,AA14,IF($D15<>"",AA14,AB14)))))))))) -> 6 | AC15: =IF($D15=$AA14,AC14,IF($D15=$AB14,AC14,IF($D15=$AC14,AB14,IF($D15=$AD14,AB14,IF($D15=$AE14,AB14,IF($D15=$AF14,AB14,IF($D15=$AG14,AB14,IF($D15=$AH14,AB14,IF($D15<>"",AB14,AC14))))))))) -> 15 | AD15: =IF($D15=$AA14,AD14,IF($D15=$AB14,AD14,IF($D15=$AC14,AD14,IF($D15=$AD14,AC14,IF($D15=$AE14,AC14,IF($D15=$AF14,AC14,IF($D15=$AG14,AC14,IF($D15=$AH14,AC14,IF($D15<>"",AC14,AD14))))))))) -> 0 | AE15: =IF($D15=$AA14,AE14,IF($D15=$AB14,AE14,IF($D15=$AC14,AE14,IF($D15=$AD14,AE14,IF($D15=$AE14,AD14,IF($D15=$AF14,AD14,IF($D15=$AG14,AD14,IF($D15=$AH14,AD14,IF($D15<>"",AD14,AE14))))))))) -> 0 | AF15: =IF($D15=$AA14,AF14,IF($D15=$AB14,AF14,IF($D15=$AC14,AF14,IF($D15=$AD14,AF14,IF($D15=$AE14,AF14,IF($D15=$AF14,AE14,IF($D15=$AG14,AE14,IF($D15=$AH14,AE14,IF($D15<>"",AE14,AF14))))))))) -> 0 | AG15: =IF($D15=$AA14,AG14,IF($D15=$AB14,AG14,IF($D15=$AC14,AG14,IF($D15=$AD14,AG14,IF($D15=$AE14,AG14,IF($D15=$AF14,AG14,IF($D15=$AG14,AF14,IF($D15=$AH14,AF14,IF($D15<>"",AF14,AG14))))))))) -> 0 | AH15: =IF($D15=$AA14,AH14,IF($D15=$AB14,AH14,IF($D15=$AC14,AH14,IF($D15=$AD14,AH14,IF($D15=$AE14,AH14,IF($D15=$AF14,AH14,IF($D15=$AG14,AH14,IF($D15=$AH14,AG14,IF($D15<>"",AG14,AH14))))))))) -> 0 | AJ15: =F15 | AK15: =IF($F15<>"",F15,AK14) -> 22 | AL15: =IF($F15=$AK14,AL14,IF($F15=$AL14,AK14,IF($F15=$AM14,AK14,IF($F15=$AN14,AK14,IF($F15=$AO14,AK14,IF($F15=$AP14,AK14,IF($F15=$AQ14,AK14,IF($F15=$AR14,AK14,IF($F15<>"",AK14,AL14))))))))) -> 30 | AM15: =IF($F15=$AK14,AM14,IF($F15=$AL14,AM14,IF($F15=$AM14,AL14,IF($F15=$AN14,AL14,IF($F15=$AO14,AL14,IF($F15=$AP14,AL14,IF($F15=$AQ14,AL14,IF($F15=$AR14,AL14,IF($F15<>"",AL14,AM14))))))))) -> 0 | AN15: =IF($F15=$AK14,AN14,IF($F15=$AL14,AN14,IF($F15=$AM14,AN14,IF($F15=$AN14,AM14,IF($F15=$AO14,AM14,IF($F15=$AP14,AM14,IF($F15=$AQ14,AM14,IF($F15=$AR14,AM14,IF($F15<>"",AM14,AN14))))))))) -> 0 | AO15: =IF($F15=$AK14,AO14,IF($F15=$AL14,AO14,IF($F15=$AM14,AO14,IF($F15=$AN14,AO14,IF($F15=$AO14,AN14,IF($F15=$AP14,AN14,IF($F15=$AQ14,AN14,IF($F15=$AR14,AN14,IF($F15<>"",AN14,AO14))))))))) -> 0 | AP15: =IF($F15=$AK14,AP14,IF($F15=$AL14,AP14,IF($F15=$AM14,AP14,IF($F15=$AN14,AP14,IF($F15=$AO14,AP14,IF($F15=$AP14,AO14,IF($F15=$AQ14,AO14,IF($F15=$AR14,AO14,IF($F15<>"",AO14,AP14))))))))) -> 0 | AQ15: =IF($F15=$AK14,AQ14,IF($F15=$AL14,AQ14,IF($F15=$AM14,AQ14,IF($F15=$AN14,AQ14,IF($F15=$AO14,AQ14,IF($F15=$AP14,AQ14,IF($F15=$AQ14,AP14,IF($F15=$AR14,AP14,IF($F15<>"",AP14,AQ14))))))))) -> 0 | AR15: =IF($F15=$AK14,AR14,IF($F15=$AL14,AR14,IF($F15=$AM14,AR14,IF($F15=$AN14,AR14,IF($F15=$AO14,AR14,IF($F15=$AP14,AR14,IF($F15=$AQ14,AR14,IF($F15=$AR14,AQ14,IF($F15<>"",AQ14,AR14))))))))) -> 0 | AT15: =G15 | AU15: =IF($G15<>"",G15,AU14) -> 9 | AV15: =IF($G15=$AU14,AV14,IF($G15=$AV14,AU14,IF($G15=$AW14,AU14,IF($G15=$AX14,AU14,IF($G15=$AY14,AU14,IF($G15=$AZ14,AU14,IF($G15=$BA14,AU14,IF($G15=$BB14,AU14,IF($G15<>"",AU14,AV14))))))))) -> 6 | AW15: =IF($G15=$AU14,AW14,IF($G15=$AV14,AW14,IF($G15=$AW14,AV14,IF($G15=$AX14,AV14,IF($G15=$AY14,AV14,IF($G15=$AZ14,AV14,IF($G15=$BA14,AV14,IF($G15=$BB14,AV14,IF($G15<>"",AV14,AW14))))))))) -> 15 | AX15: =IF($G15=$AU14,AX14,IF($G15=$AV14,AX14,IF($G15=$AW14,AX14,IF($G15=$AX14,AW14,IF($G15=$AY14,AW14,IF($G15=$AZ14,AW14,IF($G15=$BA14,AW14,IF($G15=$BB14,AW14,IF($G15<>"",AW14,AX14))))))))) -> 0 | AY15: =IF($G15=$AU14,AY14,IF($G15=$AV14,AY14,IF($G15=$AW14,AY14,IF($G15=$AX14,AY14,IF($G15=$AY14,AX14,IF($G15=$AZ14,AX14,IF($G15=$BA14,AX14,IF($G15=$BB14,AX14,IF($G15<>"",AX14,AY14))))))))) -> 0 | AZ15: =IF($G15=$AU14,AZ14,IF($G15=$AV14,AZ14,IF($G15=$AW14,AZ14,IF($G15=$AX14,AZ14,IF($G15=$AY14,AZ14,IF($G15=$AZ14,AY14,IF($G15=$BA14,AY14,IF($G15=$BB14,AY14,IF($G15<>"",AY14,AZ14))))))))) -> 0 | BA15: =IF($G15=$AU14,BA14,IF($G15=$AV14,BA14,IF($G15=$AW14,BA14,IF($G15=$AX14,BA14,IF($G15=$AY14,BA14,IF($G15=$AZ14,BA14,IF($G15=$BA14,AZ14,IF($G15=$BB14,AZ14,IF($G15<>"",AZ14,BA14))))))))) -> 0 | BB15: =IF($G15=$AU14,BB14,IF($G15=$AV14,BB14,IF($G15=$AW14,BB14,IF($G15=$AX14,BB14,IF($G15=$AY14,BB14,IF($G15=$AZ14,BB14,IF($G15=$BA14,BB14,IF($G15=$BB14,BA14,IF($G15<>"",BA14,BB14))))))))) -> 0 | BD15: =I15 | BE15: =IF($I15<>"",I15,BE14) -> 9 | BF15: =IF($I15=$BE14,BF14,IF($I15=$BF14,BE14,IF($I15=$BG14,BE14,IF($I15=$BH14,BE14,IF($I15=$BI14,BE14,IF($I15=$BJ14,BE14,IF($I15=$BK14,BE14,IF($I15=$BL14,BE14,IF($I15<>"",BE14,BF14))))))))) -> 15 | BG15: =IF($I15=$BE14,BG14,IF($I15=$BF14,BG14,IF($I15=$BG14,BF14,IF($I15=$BH14,BF14,IF($I15=$BI14,BF14,IF($I15=$BJ14,BF14,IF($I15=$BK14,BF14,IF($I15=$BL14,BF14,IF($I15<>"",BF14,BG14))))))))) -> 23 | BH15: =IF($I15=$BE14,BH14,IF($I15=$BF14,BH14,IF($I15=$BG14,BH14,IF($I15=$BH14,BG14,IF($I15=$BI14,BG14,IF($I15=$BJ14,BG14,IF($I15=$BK14,BG14,IF($I15=$BL14,BG14,IF($I15<>"",BG14,BH14))))))))) -> 0 | BI15: =IF($I15=$BE14,BI14,IF($I15=$BF14,BI14,IF($I15=$BG14,BI14,IF($I15=$BH14,BI14,IF($I15=$BI14,BH14,IF($I15=$BJ14,BH14,IF($I15=$BK14,BH14,IF($I15=$BL14,BH14,IF($I15<>"",BH14,BI14))))))))) -> 0 | BJ15: =IF($I15=$BE14,BJ14,IF($I15=$BF14,BJ14,IF($I15=$BG14,BJ14,IF($I15=$BH14,BJ14,IF($I15=$BI14,BJ14,IF($I15=$BJ14,BI14,IF($I15=$BK14,BI14,IF($I15=$BL14,BI14,IF($I15<>"",BI14,BJ14))))))))) -> 0 | BK15: =IF($I15=$BE14,BK14,IF($I15=$BF14,BK14,IF($I15=$BG14,BK14,IF($I15=$BH14,BK14,IF($I15=$BI14,BK14,IF($I15=$BJ14,BK14,IF($I15=$BK14,BJ14,IF($I15=$BL14,BJ14,IF($I15<>"",BJ14,BK14))))))))) -> 0 | BL15: =IF($I15=$BE14,BL14,IF($I15=$BF14,BL14,IF($I15=$BG14,BL14,IF($I15=$BH14,BL14,IF($I15=$BI14,BL14,IF($I15=$BJ14,BL14,IF($I15=$BK14,BL14,IF($I15=$BL14,BK14,IF($I15<>"",BK14,BL14))))))))) -> 0 | BN15: =J15 | BO15: =IF($J15<>"",J15,BO14) -> 22 | BP15: =IF($J15=$BO14,BP14,IF($J15=$BP14,BO14,IF($J15=$BQ14,BO14,IF($J15=$BR14,BO14,IF($J15=$BS14,BO14,IF($J15=$BT14,BO14,IF($J15=$BU14,BO14,IF($J15=$BV14,BO14,IF($J15<>"",BO14,BP14))))))))) -> 6 | BQ15: =IF($J15=$BO14,BQ14,IF($J15=$BP14,BQ14,IF($J15=$BQ14,BP14,IF($J15=$BR14,BP14,IF($J15=$BS14,BP14,IF($J15=$BT14,BP14,IF($J15=$BU14,BP14,IF($J15=$BV14,BP14,IF($J15<>"",BP14,BQ14))))))))) -> 30 | BR15: =IF($J15=$BO14,BR14,IF($J15=$BP14,BR14,IF($J15=$BQ14,BR14,IF($J15=$BR14,BQ14,IF($J15=$BS14,BQ14,IF($J15=$BT14,BQ14,IF($J15=$BU14,BQ14,IF($J15=$BV14,BQ14,IF($J15<>"",BQ14,BR14))))))))) -> 0 | BS15: =IF($J15=$BO14,BS14,IF($J15=$BP14,BS14,IF($J15=$BQ14,BS14,IF($J15=$BR14,BS14,IF($J15=$BS14,BR14,IF($J15=$BT14,BR14,IF($J15=$BU14,BR14,IF($J15=$BV14,BR14,IF($J15<>"",BR14,BS14))))))))) -> 0 | BT15: =IF($J15=$BO14,BT14,IF($J15=$BP14,BT14,IF($J15=$BQ14,BT14,IF($J15=$BR14,BT14,IF($J15=$BS14,BT14,IF($J15=$BT14,BS14,IF($J15=$BU14,BS14,IF($J15=$BV14,BS14,IF($J15<>"",BS14,BT14))))))))) -> 0 | BU15: =IF($J15=$BO14,BU14,IF($J15=$BP14,BU14,IF($J15=$BQ14,BU14,IF($J15=$BR14,BU14,IF($J15=$BS14,BU14,IF($J15=$BT14,BU14,IF($J15=$BU14,BT14,IF($J15=$BV14,BT14,IF($J15<>"",BT14,BU14))))))))) -> 0 | BV15: =IF($J15=$BO14,BV14,IF($J15=$BP14,BV14,IF($J15=$BQ14,BV14,IF($J15=$BR14,BV14,IF($J15=$BS14,BV14,IF($J15=$BT14,BV14,IF($J15=$BU14,BV14,IF($J15=$BV14,BU14,IF($J15<>"",BU14,BV14))))))))) -> 0
A16: =RBLHOE!B16 -> 0 | B16: =LOOKUP(A16,K:K,L:L) -> 0 | C16: =IF(B16="Red",A16,"") | D16: =IF(B16="Black",A16,"" ) | E16: =LOOKUP(A16,K:K,M:M) -> 0 | F16: =IF(E16="High",A16,"") | G16: =IF(E16="Low",A16,"") | H16: =LOOKUP(A16,K:K,N:N) -> 0 | I16: =IF(H16="Odd",A16,"") | J16: =IF(H16="Even",A16,"" ) | K16: 12 | L16: Red | M16: Low | N16: Even | P16: =C16 | Q16: =IF($C16<>"",C16,Q15) -> 9 | R16: =IF($C16=$Q15,R15,IF($C16=$R15,Q15,IF($C16=$S15,Q15,IF($C16=$T15,Q15,IF($C16=$U15,Q15,IF($C16=$V15,Q15,IF($C16=$W15,Q15,IF($C16=$X15,Q15,IF($C16<>"",Q15,R15))))))))) -> 30 | S16: =IF($C16=$Q15,S15,IF($C16=$R15,S15,IF($C16=$S15,R15,IF($C16=$T15,R15,IF($C16=$U15,R15,IF($C16=$V15,R15,IF($C16=$W15,R15,IF($C16=$X15,R15,IF($C16<>"",R15,S15))))))))) -> 23 | T16: =IF($C16=$Q15,T15,IF($C16=$R15,T15,IF($C16=$S15,T15,IF($C16=$T15,S15,IF($C16=$U15,S15,IF($C16=$V15,S15,IF($C16=$W15,S15,IF($C16=$X15,S15,IF($C16<>"",S15,T15))))))))) -> 0 | U16: =IF($C16=$Q15,U15,IF($C16=$R15,U15,IF($C16=$S15,U15,IF($C16=$T15,U15,IF($C16=$U15,T15,IF($C16=$V15,T15,IF($C16=$W15,T15,IF($C16=$X15,T15,IF($C16<>"",T15,U15))))))))) -> 0 | V16: =IF($C16=$Q15,V15,IF($C16=$R15,V15,IF($C16=$S15,V15,IF($C16=$T15,V15,IF($C16=$U15,V15,IF($C16=$V15,U15,IF($C16=$W15,U15,IF($C16=$X15,U15,IF($C16<>"",U15,V15))))))))) -> 0 | W16: =IF($C16=$Q15,W15,IF($C16=$R15,W15,IF($C16=$S15,W15,IF($C16=$T15,W15,IF($C16=$U15,W15,IF($C16=$V15,W15,IF($C16=$W15,V15,IF($C16=$X15,V15,IF($C16<>"",V15,W15))))))))) -> 0 | X16: =IF($C16=$Q15,X15,IF($C16=$R15,X15,IF($C16=$S15,X15,IF($C16=$T15,X15,IF($C16=$U15,X15,IF($C16=$V15,X15,IF($C16=$W15,X15,IF($C16=$X15,W15,IF($C16<>"",W15,X15))))))))) -> 0 | Z16: =D16 | AA16: =IF($D16<>"",D16,AA15) -> 22 | AB16: =IF(AND($D16="",AB15=0),0,IF($D16=$AA15,AB15,IF($D16=$AB15,AA15,IF($D16=$AC15,AA15,IF($D16=$AD15,AA15,IF($D16=$AE15,AA15,IF($D16=$AF15,AA15,IF($D16=$AG15,AA15,IF($D16=$AH15,AA15,IF($D16<>"",AA15,AB15)))))))))) -> 6 | AC16: =IF($D16=$AA15,AC15,IF($D16=$AB15,AC15,IF($D16=$AC15,AB15,IF($D16=$AD15,AB15,IF($D16=$AE15,AB15,IF($D16=$AF15,AB15,IF($D16=$AG15,AB15,IF($D16=$AH15,AB15,IF($D16<>"",AB15,AC15))))))))) -> 15 | AD16: =IF($D16=$AA15,AD15,IF($D16=$AB15,AD15,IF($D16=$AC15,AD15,IF($D16=$AD15,AC15,IF($D16=$AE15,AC15,IF($D16=$AF15,AC15,IF($D16=$AG15,AC15,IF($D16=$AH15,AC15,IF($D16<>"",AC15,AD15))))))))) -> 0 | AE16: =IF($D16=$AA15,AE15,IF($D16=$AB15,AE15,IF($D16=$AC15,AE15,IF($D16=$AD15,AE15,IF($D16=$AE15,AD15,IF($D16=$AF15,AD15,IF($D16=$AG15,AD15,IF($D16=$AH15,AD15,IF($D16<>"",AD15,AE15))))))))) -> 0 | AF16: =IF($D16=$AA15,AF15,IF($D16=$AB15,AF15,IF($D16=$AC15,AF15,IF($D16=$AD15,AF15,IF($D16=$AE15,AF15,IF($D16=$AF15,AE15,IF($D16=$AG15,AE15,IF($D16=$AH15,AE15,IF($D16<>"",AE15,AF15))))))))) -> 0 | AG16: =IF($D16=$AA15,AG15,IF($D16=$AB15,AG15,IF($D16=$AC15,AG15,IF($D16=$AD15,AG15,IF($D16=$AE15,AG15,IF($D16=$AF15,AG15,IF($D16=$AG15,AF15,IF($D16=$AH15,AF15,IF($D16<>"",AF15,AG15))))))))) -> 0 | AH16: =IF($D16=$AA15,AH15,IF($D16=$AB15,AH15,IF($D16=$AC15,AH15,IF($D16=$AD15,AH15,IF($D16=$AE15,AH15,IF($D16=$AF15,AH15,IF($D16=$AG15,AH15,IF($D16=$AH15,AG15,IF($D16<>"",AG15,AH15))))))))) -> 0 | AJ16: =F16 | AK16: =IF($F16<>"",F16,AK15) -> 22 | AL16: =IF($F16=$AK15,AL15,IF($F16=$AL15,AK15,IF($F16=$AM15,AK15,IF($F16=$AN15,AK15,IF($F16=$AO15,AK15,IF($F16=$AP15,AK15,IF($F16=$AQ15,AK15,IF($F16=$AR15,AK15,IF($F16<>"",AK15,AL15))))))))) -> 30 | AM16: =IF($F16=$AK15,AM15,IF($F16=$AL15,AM15,IF($F16=$AM15,AL15,IF($F16=$AN15,AL15,IF($F16=$AO15,AL15,IF($F16=$AP15,AL15,IF($F16=$AQ15,AL15,IF($F16=$AR15,AL15,IF($F16<>"",AL15,AM15))))))))) -> 0 | AN16: =IF($F16=$AK15,AN15,IF($F16=$AL15,AN15,IF($F16=$AM15,AN15,IF($F16=$AN15,AM15,IF($F16=$AO15,AM15,IF($F16=$AP15,AM15,IF($F16=$AQ15,AM15,IF($F16=$AR15,AM15,IF($F16<>"",AM15,AN15))))))))) -> 0 | AO16: =IF($F16=$AK15,AO15,IF($F16=$AL15,AO15,IF($F16=$AM15,AO15,IF($F16=$AN15,AO15,IF($F16=$AO15,AN15,IF($F16=$AP15,AN15,IF($F16=$AQ15,AN15,IF($F16=$AR15,AN15,IF($F16<>"",AN15,AO15))))))))) -> 0 | AP16: =IF($F16=$AK15,AP15,IF($F16=$AL15,AP15,IF($F16=$AM15,AP15,IF($F16=$AN15,AP15,IF($F16=$AO15,AP15,IF($F16=$AP15,AO15,IF($F16=$AQ15,AO15,IF($F16=$AR15,AO15,IF($F16<>"",AO15,AP15))))))))) -> 0 | AQ16: =IF($F16=$AK15,AQ15,IF($F16=$AL15,AQ15,IF($F16=$AM15,AQ15,IF($F16=$AN15,AQ15,IF($F16=$AO15,AQ15,IF($F16=$AP15,AQ15,IF($F16=$AQ15,AP15,IF($F16=$AR15,AP15,IF($F16<>"",AP15,AQ15))))))))) -> 0 | AR16: =IF($F16=$AK15,AR15,IF($F16=$AL15,AR15,IF($F16=$AM15,AR15,IF($F16=$AN15,AR15,IF($F16=$AO15,AR15,IF($F16=$AP15,AR15,IF($F16=$AQ15,AR15,IF($F16=$AR15,AQ15,IF($F16<>"",AQ15,AR15))))))))) -> 0 | AT16: =G16 | AU16: =IF($G16<>"",G16,AU15) -> 9 | AV16: =IF($G16=$AU15,AV15,IF($G16=$AV15,AU15,IF($G16=$AW15,AU15,IF($G16=$AX15,AU15,IF($G16=$AY15,AU15,IF($G16=$AZ15,AU15,IF($G16=$BA15,AU15,IF($G16=$BB15,AU15,IF($G16<>"",AU15,AV15))))))))) -> 6 | AW16: =IF($G16=$AU15,AW15,IF($G16=$AV15,AW15,IF($G16=$AW15,AV15,IF($G16=$AX15,AV15,IF($G16=$AY15,AV15,IF($G16=$AZ15,AV15,IF($G16=$BA15,AV15,IF($G16=$BB15,AV15,IF($G16<>"",AV15,AW15))))))))) -> 15 | AX16: =IF($G16=$AU15,AX15,IF($G16=$AV15,AX15,IF($G16=$AW15,AX15,IF($G16=$AX15,AW15,IF($G16=$AY15,AW15,IF($G16=$AZ15,AW15,IF($G16=$BA15,AW15,IF($G16=$BB15,AW15,IF($G16<>"",AW15,AX15))))))))) -> 0 | AY16: =IF($G16=$AU15,AY15,IF($G16=$AV15,AY15,IF($G16=$AW15,AY15,IF($G16=$AX15,AY15,IF($G16=$AY15,AX15,IF($G16=$AZ15,AX15,IF($G16=$BA15,AX15,IF($G16=$BB15,AX15,IF($G16<>"",AX15,AY15))))))))) -> 0 | AZ16: =IF($G16=$AU15,AZ15,IF($G16=$AV15,AZ15,IF($G16=$AW15,AZ15,IF($G16=$AX15,AZ15,IF($G16=$AY15,AZ15,IF($G16=$AZ15,AY15,IF($G16=$BA15,AY15,IF($G16=$BB15,AY15,IF($G16<>"",AY15,AZ15))))))))) -> 0 | BA16: =IF($G16=$AU15,BA15,IF($G16=$AV15,BA15,IF($G16=$AW15,BA15,IF($G16=$AX15,BA15,IF($G16=$AY15,BA15,IF($G16=$AZ15,BA15,IF($G16=$BA15,AZ15,IF($G16=$BB15,AZ15,IF($G16<>"",AZ15,BA15))))))))) -> 0 | BB16: =IF($G16=$AU15,BB15,IF($G16=$AV15,BB15,IF($G16=$AW15,BB15,IF($G16=$AX15,BB15,IF($G16=$AY15,BB15,IF($G16=$AZ15,BB15,IF($G16=$BA15,BB15,IF($G16=$BB15,BA15,IF($G16<>"",BA15,BB15))))))))) -> 0 | BD16: =I16 | BE16: =IF($I16<>"",I16,BE15) -> 9 | BF16: =IF($I16=$BE15,BF15,IF($I16=$BF15,BE15,IF($I16=$BG15,BE15,IF($I16=$BH15,BE15,IF($I16=$BI15,BE15,IF($I16=$BJ15,BE15,IF($I16=$BK15,BE15,IF($I16=$BL15,BE15,IF($I16<>"",BE15,BF15))))))))) -> 15 | BG16: =IF($I16=$BE15,BG15,IF($I16=$BF15,BG15,IF($I16=$BG15,BF15,IF($I16=$BH15,BF15,IF($I16=$BI15,BF15,IF($I16=$BJ15,BF15,IF($I16=$BK15,BF15,IF($I16=$BL15,BF15,IF($I16<>"",BF15,BG15))))))))) -> 23 | BH16: =IF($I16=$BE15,BH15,IF($I16=$BF15,BH15,IF($I16=$BG15,BH15,IF($I16=$BH15,BG15,IF($I16=$BI15,BG15,IF($I16=$BJ15,BG15,IF($I16=$BK15,BG15,IF($I16=$BL15,BG15,IF($I16<>"",BG15,BH15))))))))) -> 0 | BI16: =IF($I16=$BE15,BI15,IF($I16=$BF15,BI15,IF($I16=$BG15,BI15,IF($I16=$BH15,BI15,IF($I16=$BI15,BH15,IF($I16=$BJ15,BH15,IF($I16=$BK15,BH15,IF($I16=$BL15,BH15,IF($I16<>"",BH15,BI15))))))))) -> 0 | BJ16: =IF($I16=$BE15,BJ15,IF($I16=$BF15,BJ15,IF($I16=$BG15,BJ15,IF($I16=$BH15,BJ15,IF($I16=$BI15,BJ15,IF($I16=$BJ15,BI15,IF($I16=$BK15,BI15,IF($I16=$BL15,BI15,IF($I16<>"",BI15,BJ15))))))))) -> 0 | BK16: =IF($I16=$BE15,BK15,IF($I16=$BF15,BK15,IF($I16=$BG15,BK15,IF($I16=$BH15,BK15,IF($I16=$BI15,BK15,IF($I16=$BJ15,BK15,IF($I16=$BK15,BJ15,IF($I16=$BL15,BJ15,IF($I16<>"",BJ15,BK15))))))))) -> 0 | BL16: =IF($I16=$BE15,BL15,IF($I16=$BF15,BL15,IF($I16=$BG15,BL15,IF($I16=$BH15,BL15,IF($I16=$BI15,BL15,IF($I16=$BJ15,BL15,IF($I16=$BK15,BL15,IF($I16=$BL15,BK15,IF($I16<>"",BK15,BL15))))))))) -> 0 | BN16: =J16 | BO16: =IF($J16<>"",J16,BO15) -> 22 | BP16: =IF($J16=$BO15,BP15,IF($J16=$BP15,BO15,IF($J16=$BQ15,BO15,IF($J16=$BR15,BO15,IF($J16=$BS15,BO15,IF($J16=$BT15,BO15,IF($J16=$BU15,BO15,IF($J16=$BV15,BO15,IF($J16<>"",BO15,BP15))))))))) -> 6 | BQ16: =IF($J16=$BO15,BQ15,IF($J16=$BP15,BQ15,IF($J16=$BQ15,BP15,IF($J16=$BR15,BP15,IF($J16=$BS15,BP15,IF($J16=$BT15,BP15,IF($J16=$BU15,BP15,IF($J16=$BV15,BP15,IF($J16<>"",BP15,BQ15))))))))) -> 30 | BR16: =IF($J16=$BO15,BR15,IF($J16=$BP15,BR15,IF($J16=$BQ15,BR15,IF($J16=$BR15,BQ15,IF($J16=$BS15,BQ15,IF($J16=$BT15,BQ15,IF($J16=$BU15,BQ15,IF($J16=$BV15,BQ15,IF($J16<>"",BQ15,BR15))))))))) -> 0 | BS16: =IF($J16=$BO15,BS15,IF($J16=$BP15,BS15,IF($J16=$BQ15,BS15,IF($J16=$BR15,BS15,IF($J16=$BS15,BR15,IF($J16=$BT15,BR15,IF($J16=$BU15,BR15,IF($J16=$BV15,BR15,IF($J16<>"",BR15,BS15))))))))) -> 0 | BT16: =IF($J16=$BO15,BT15,IF($J16=$BP15,BT15,IF($J16=$BQ15,BT15,IF($J16=$BR15,BT15,IF($J16=$BS15,BT15,IF($J16=$BT15,BS15,IF($J16=$BU15,BS15,IF($J16=$BV15,BS15,IF($J16<>"",BS15,BT15))))))))) -> 0 | BU16: =IF($J16=$BO15,BU15,IF($J16=$BP15,BU15,IF($J16=$BQ15,BU15,IF($J16=$BR15,BU15,IF($J16=$BS15,BU15,IF($J16=$BT15,BU15,IF($J16=$BU15,BT15,IF($J16=$BV15,BT15,IF($J16<>"",BT15,BU15))))))))) -> 0 | BV16: =IF($J16=$BO15,BV15,IF($J16=$BP15,BV15,IF($J16=$BQ15,BV15,IF($J16=$BR15,BV15,IF($J16=$BS15,BV15,IF($J16=$BT15,BV15,IF($J16=$BU15,BV15,IF($J16=$BV15,BU15,IF($J16<>"",BU15,BV15))))))))) -> 0
A17: =RBLHOE!B17 -> 0 | B17: =LOOKUP(A17,K:K,L:L) -> 0 | C17: =IF(B17="Red",A17,"") | D17: =IF(B17="Black",A17,"" ) | E17: =LOOKUP(A17,K:K,M:M) -> 0 | F17: =IF(E17="High",A17,"") | G17: =IF(E17="Low",A17,"") | H17: =LOOKUP(A17,K:K,N:N) -> 0 | I17: =IF(H17="Odd",A17,"") | J17: =IF(H17="Even",A17,"" ) | K17: 13 | L17: Black | M17: Low | N17: Odd | P17: =C17 | Q17: =IF($C17<>"",C17,Q16) -> 9 | R17: =IF($C17=$Q16,R16,IF($C17=$R16,Q16,IF($C17=$S16,Q16,IF($C17=$T16,Q16,IF($C17=$U16,Q16,IF($C17=$V16,Q16,IF($C17=$W16,Q16,IF($C17=$X16,Q16,IF($C17<>"",Q16,R16))))))))) -> 30 | S17: =IF($C17=$Q16,S16,IF($C17=$R16,S16,IF($C17=$S16,R16,IF($C17=$T16,R16,IF($C17=$U16,R16,IF($C17=$V16,R16,IF($C17=$W16,R16,IF($C17=$X16,R16,IF($C17<>"",R16,S16))))))))) -> 23 | T17: =IF($C17=$Q16,T16,IF($C17=$R16,T16,IF($C17=$S16,T16,IF($C17=$T16,S16,IF($C17=$U16,S16,IF($C17=$V16,S16,IF($C17=$W16,S16,IF($C17=$X16,S16,IF($C17<>"",S16,T16))))))))) -> 0 | U17: =IF($C17=$Q16,U16,IF($C17=$R16,U16,IF($C17=$S16,U16,IF($C17=$T16,U16,IF($C17=$U16,T16,IF($C17=$V16,T16,IF($C17=$W16,T16,IF($C17=$X16,T16,IF($C17<>"",T16,U16))))))))) -> 0 | V17: =IF($C17=$Q16,V16,IF($C17=$R16,V16,IF($C17=$S16,V16,IF($C17=$T16,V16,IF($C17=$U16,V16,IF($C17=$V16,U16,IF($C17=$W16,U16,IF($C17=$X16,U16,IF($C17<>"",U16,V16))))))))) -> 0 | W17: =IF($C17=$Q16,W16,IF($C17=$R16,W16,IF($C17=$S16,W16,IF($C17=$T16,W16,IF($C17=$U16,W16,IF($C17=$V16,W16,IF($C17=$W16,V16,IF($C17=$X16,V16,IF($C17<>"",V16,W16))))))))) -> 0 | X17: =IF($C17=$Q16,X16,IF($C17=$R16,X16,IF($C17=$S16,X16,IF($C17=$T16,X16,IF($C17=$U16,X16,IF($C17=$V16,X16,IF($C17=$W16,X16,IF($C17=$X16,W16,IF($C17<>"",W16,X16))))))))) -> 0 | Z17: =D17 | AA17: =IF($D17<>"",D17,AA16) -> 22 | AB17: =IF(AND($D17="",AB16=0),0,IF($D17=$AA16,AB16,IF($D17=$AB16,AA16,IF($D17=$AC16,AA16,IF($D17=$AD16,AA16,IF($D17=$AE16,AA16,IF($D17=$AF16,AA16,IF($D17=$AG16,AA16,IF($D17=$AH16,AA16,IF($D17<>"",AA16,AB16)))))))))) -> 6 | AC17: =IF($D17=$AA16,AC16,IF($D17=$AB16,AC16,IF($D17=$AC16,AB16,IF($D17=$AD16,AB16,IF($D17=$AE16,AB16,IF($D17=$AF16,AB16,IF($D17=$AG16,AB16,IF($D17=$AH16,AB16,IF($D17<>"",AB16,AC16))))))))) -> 15 | AD17: =IF($D17=$AA16,AD16,IF($D17=$AB16,AD16,IF($D17=$AC16,AD16,IF($D17=$AD16,AC16,IF($D17=$AE16,AC16,IF($D17=$AF16,AC16,IF($D17=$AG16,AC16,IF($D17=$AH16,AC16,IF($D17<>"",AC16,AD16))))))))) -> 0 | AE17: =IF($D17=$AA16,AE16,IF($D17=$AB16,AE16,IF($D17=$AC16,AE16,IF($D17=$AD16,AE16,IF($D17=$AE16,AD16,IF($D17=$AF16,AD16,IF($D17=$AG16,AD16,IF($D17=$AH16,AD16,IF($D17<>"",AD16,AE16))))))))) -> 0 | AF17: =IF($D17=$AA16,AF16,IF($D17=$AB16,AF16,IF($D17=$AC16,AF16,IF($D17=$AD16,AF16,IF($D17=$AE16,AF16,IF($D17=$AF16,AE16,IF($D17=$AG16,AE16,IF($D17=$AH16,AE16,IF($D17<>"",AE16,AF16))))))))) -> 0 | AG17: =IF($D17=$AA16,AG16,IF($D17=$AB16,AG16,IF($D17=$AC16,AG16,IF($D17=$AD16,AG16,IF($D17=$AE16,AG16,IF($D17=$AF16,AG16,IF($D17=$AG16,AF16,IF($D17=$AH16,AF16,IF($D17<>"",AF16,AG16))))))))) -> 0 | AH17: =IF($D17=$AA16,AH16,IF($D17=$AB16,AH16,IF($D17=$AC16,AH16,IF($D17=$AD16,AH16,IF($D17=$AE16,AH16,IF($D17=$AF16,AH16,IF($D17=$AG16,AH16,IF($D17=$AH16,AG16,IF($D17<>"",AG16,AH16))))))))) -> 0 | AJ17: =F17 | AK17: =IF($F17<>"",F17,AK16) -> 22 | AL17: =IF($F17=$AK16,AL16,IF($F17=$AL16,AK16,IF($F17=$AM16,AK16,IF($F17=$AN16,AK16,IF($F17=$AO16,AK16,IF($F17=$AP16,AK16,IF($F17=$AQ16,AK16,IF($F17=$AR16,AK16,IF($F17<>"",AK16,AL16))))))))) -> 30 | AM17: =IF($F17=$AK16,AM16,IF($F17=$AL16,AM16,IF($F17=$AM16,AL16,IF($F17=$AN16,AL16,IF($F17=$AO16,AL16,IF($F17=$AP16,AL16,IF($F17=$AQ16,AL16,IF($F17=$AR16,AL16,IF($F17<>"",AL16,AM16))))))))) -> 0 | AN17: =IF($F17=$AK16,AN16,IF($F17=$AL16,AN16,IF($F17=$AM16,AN16,IF($F17=$AN16,AM16,IF($F17=$AO16,AM16,IF($F17=$AP16,AM16,IF($F17=$AQ16,AM16,IF($F17=$AR16,AM16,IF($F17<>"",AM16,AN16))))))))) -> 0 | AO17: =IF($F17=$AK16,AO16,IF($F17=$AL16,AO16,IF($F17=$AM16,AO16,IF($F17=$AN16,AO16,IF($F17=$AO16,AN16,IF($F17=$AP16,AN16,IF($F17=$AQ16,AN16,IF($F17=$AR16,AN16,IF($F17<>"",AN16,AO16))))))))) -> 0 | AP17: =IF($F17=$AK16,AP16,IF($F17=$AL16,AP16,IF($F17=$AM16,AP16,IF($F17=$AN16,AP16,IF($F17=$AO16,AP16,IF($F17=$AP16,AO16,IF($F17=$AQ16,AO16,IF($F17=$AR16,AO16,IF($F17<>"",AO16,AP16))))))))) -> 0 | AQ17: =IF($F17=$AK16,AQ16,IF($F17=$AL16,AQ16,IF($F17=$AM16,AQ16,IF($F17=$AN16,AQ16,IF($F17=$AO16,AQ16,IF($F17=$AP16,AQ16,IF($F17=$AQ16,AP16,IF($F17=$AR16,AP16,IF($F17<>"",AP16,AQ16))))))))) -> 0 | AR17: =IF($F17=$AK16,AR16,IF($F17=$AL16,AR16,IF($F17=$AM16,AR16,IF($F17=$AN16,AR16,IF($F17=$AO16,AR16,IF($F17=$AP16,AR16,IF($F17=$AQ16,AR16,IF($F17=$AR16,AQ16,IF($F17<>"",AQ16,AR16))))))))) -> 0 | AT17: =G17 | AU17: =IF($G17<>"",G17,AU16) -> 9 | AV17: =IF($G17=$AU16,AV16,IF($G17=$AV16,AU16,IF($G17=$AW16,AU16,IF($G17=$AX16,AU16,IF($G17=$AY16,AU16,IF($G17=$AZ16,AU16,IF($G17=$BA16,AU16,IF($G17=$BB16,AU16,IF($G17<>"",AU16,AV16))))))))) -> 6 | AW17: =IF($G17=$AU16,AW16,IF($G17=$AV16,AW16,IF($G17=$AW16,AV16,IF($G17=$AX16,AV16,IF($G17=$AY16,AV16,IF($G17=$AZ16,AV16,IF($G17=$BA16,AV16,IF($G17=$BB16,AV16,IF($G17<>"",AV16,AW16))))))))) -> 15 | AX17: =IF($G17=$AU16,AX16,IF($G17=$AV16,AX16,IF($G17=$AW16,AX16,IF($G17=$AX16,AW16,IF($G17=$AY16,AW16,IF($G17=$AZ16,AW16,IF($G17=$BA16,AW16,IF($G17=$BB16,AW16,IF($G17<>"",AW16,AX16))))))))) -> 0 | AY17: =IF($G17=$AU16,AY16,IF($G17=$AV16,AY16,IF($G17=$AW16,AY16,IF($G17=$AX16,AY16,IF($G17=$AY16,AX16,IF($G17=$AZ16,AX16,IF($G17=$BA16,AX16,IF($G17=$BB16,AX16,IF($G17<>"",AX16,AY16))))))))) -> 0 | AZ17: =IF($G17=$AU16,AZ16,IF($G17=$AV16,AZ16,IF($G17=$AW16,AZ16,IF($G17=$AX16,AZ16,IF($G17=$AY16,AZ16,IF($G17=$AZ16,AY16,IF($G17=$BA16,AY16,IF($G17=$BB16,AY16,IF($G17<>"",AY16,AZ16))))))))) -> 0 | BA17: =IF($G17=$AU16,BA16,IF($G17=$AV16,BA16,IF($G17=$AW16,BA16,IF($G17=$AX16,BA16,IF($G17=$AY16,BA16,IF($G17=$AZ16,BA16,IF($G17=$BA16,AZ16,IF($G17=$BB16,AZ16,IF($G17<>"",AZ16,BA16))))))))) -> 0 | BB17: =IF($G17=$AU16,BB16,IF($G17=$AV16,BB16,IF($G17=$AW16,BB16,IF($G17=$AX16,BB16,IF($G17=$AY16,BB16,IF($G17=$AZ16,BB16,IF($G17=$BA16,BB16,IF($G17=$BB16,BA16,IF($G17<>"",BA16,BB16))))))))) -> 0 | BD17: =I17 | BE17: =IF($I17<>"",I17,BE16) -> 9 | BF17: =IF($I17=$BE16,BF16,IF($I17=$BF16,BE16,IF($I17=$BG16,BE16,IF($I17=$BH16,BE16,IF($I17=$BI16,BE16,IF($I17=$BJ16,BE16,IF($I17=$BK16,BE16,IF($I17=$BL16,BE16,IF($I17<>"",BE16,BF16))))))))) -> 15 | BG17: =IF($I17=$BE16,BG16,IF($I17=$BF16,BG16,IF($I17=$BG16,BF16,IF($I17=$BH16,BF16,IF($I17=$BI16,BF16,IF($I17=$BJ16,BF16,IF($I17=$BK16,BF16,IF($I17=$BL16,BF16,IF($I17<>"",BF16,BG16))))))))) -> 23 | BH17: =IF($I17=$BE16,BH16,IF($I17=$BF16,BH16,IF($I17=$BG16,BH16,IF($I17=$BH16,BG16,IF($I17=$BI16,BG16,IF($I17=$BJ16,BG16,IF($I17=$BK16,BG16,IF($I17=$BL16,BG16,IF($I17<>"",BG16,BH16))))))))) -> 0 | BI17: =IF($I17=$BE16,BI16,IF($I17=$BF16,BI16,IF($I17=$BG16,BI16,IF($I17=$BH16,BI16,IF($I17=$BI16,BH16,IF($I17=$BJ16,BH16,IF($I17=$BK16,BH16,IF($I17=$BL16,BH16,IF($I17<>"",BH16,BI16))))))))) -> 0 | BJ17: =IF($I17=$BE16,BJ16,IF($I17=$BF16,BJ16,IF($I17=$BG16,BJ16,IF($I17=$BH16,BJ16,IF($I17=$BI16,BJ16,IF($I17=$BJ16,BI16,IF($I17=$BK16,BI16,IF($I17=$BL16,BI16,IF($I17<>"",BI16,BJ16))))))))) -> 0 | BK17: =IF($I17=$BE16,BK16,IF($I17=$BF16,BK16,IF($I17=$BG16,BK16,IF($I17=$BH16,BK16,IF($I17=$BI16,BK16,IF($I17=$BJ16,BK16,IF($I17=$BK16,BJ16,IF($I17=$BL16,BJ16,IF($I17<>"",BJ16,BK16))))))))) -> 0 | BL17: =IF($I17=$BE16,BL16,IF($I17=$BF16,BL16,IF($I17=$BG16,BL16,IF($I17=$BH16,BL16,IF($I17=$BI16,BL16,IF($I17=$BJ16,BL16,IF($I17=$BK16,BL16,IF($I17=$BL16,BK16,IF($I17<>"",BK16,BL16))))))))) -> 0 | BN17: =J17 | BO17: =IF($J17<>"",J17,BO16) -> 22 | BP17: =IF($J17=$BO16,BP16,IF($J17=$BP16,BO16,IF($J17=$BQ16,BO16,IF($J17=$BR16,BO16,IF($J17=$BS16,BO16,IF($J17=$BT16,BO16,IF($J17=$BU16,BO16,IF($J17=$BV16,BO16,IF($J17<>"",BO16,BP16))))))))) -> 6 | BQ17: =IF($J17=$BO16,BQ16,IF($J17=$BP16,BQ16,IF($J17=$BQ16,BP16,IF($J17=$BR16,BP16,IF($J17=$BS16,BP16,IF($J17=$BT16,BP16,IF($J17=$BU16,BP16,IF($J17=$BV16,BP16,IF($J17<>"",BP16,BQ16))))))))) -> 30 | BR17: =IF($J17=$BO16,BR16,IF($J17=$BP16,BR16,IF($J17=$BQ16,BR16,IF($J17=$BR16,BQ16,IF($J17=$BS16,BQ16,IF($J17=$BT16,BQ16,IF($J17=$BU16,BQ16,IF($J17=$BV16,BQ16,IF($J17<>"",BQ16,BR16))))))))) -> 0 | BS17: =IF($J17=$BO16,BS16,IF($J17=$BP16,BS16,IF($J17=$BQ16,BS16,IF($J17=$BR16,BS16,IF($J17=$BS16,BR16,IF($J17=$BT16,BR16,IF($J17=$BU16,BR16,IF($J17=$BV16,BR16,IF($J17<>"",BR16,BS16))))))))) -> 0 | BT17: =IF($J17=$BO16,BT16,IF($J17=$BP16,BT16,IF($J17=$BQ16,BT16,IF($J17=$BR16,BT16,IF($J17=$BS16,BT16,IF($J17=$BT16,BS16,IF($J17=$BU16,BS16,IF($J17=$BV16,BS16,IF($J17<>"",BS16,BT16))))))))) -> 0 | BU17: =IF($J17=$BO16,BU16,IF($J17=$BP16,BU16,IF($J17=$BQ16,BU16,IF($J17=$BR16,BU16,IF($J17=$BS16,BU16,IF($J17=$BT16,BU16,IF($J17=$BU16,BT16,IF($J17=$BV16,BT16,IF($J17<>"",BT16,BU16))))))))) -> 0 | BV17: =IF($J17=$BO16,BV16,IF($J17=$BP16,BV16,IF($J17=$BQ16,BV16,IF($J17=$BR16,BV16,IF($J17=$BS16,BV16,IF($J17=$BT16,BV16,IF($J17=$BU16,BV16,IF($J17=$BV16,BU16,IF($J17<>"",BU16,BV16))))))))) -> 0
A18: =RBLHOE!B18 -> 0 | B18: =LOOKUP(A18,K:K,L:L) -> 0 | C18: =IF(B18="Red",A18,"") | D18: =IF(B18="Black",A18,"" ) | E18: =LOOKUP(A18,K:K,M:M) -> 0 | F18: =IF(E18="High",A18,"") | G18: =IF(E18="Low",A18,"") | H18: =LOOKUP(A18,K:K,N:N) -> 0 | I18: =IF(H18="Odd",A18,"") | J18: =IF(H18="Even",A18,"" ) | K18: 14 | L18: Red | M18: Low | N18: Even | P18: =C18 | Q18: =IF($C18<>"",C18,Q17) -> 9 | R18: =IF($C18=$Q17,R17,IF($C18=$R17,Q17,IF($C18=$S17,Q17,IF($C18=$T17,Q17,IF($C18=$U17,Q17,IF($C18=$V17,Q17,IF($C18=$W17,Q17,IF($C18=$X17,Q17,IF($C18<>"",Q17,R17))))))))) -> 30 | S18: =IF($C18=$Q17,S17,IF($C18=$R17,S17,IF($C18=$S17,R17,IF($C18=$T17,R17,IF($C18=$U17,R17,IF($C18=$V17,R17,IF($C18=$W17,R17,IF($C18=$X17,R17,IF($C18<>"",R17,S17))))))))) -> 23 | T18: =IF($C18=$Q17,T17,IF($C18=$R17,T17,IF($C18=$S17,T17,IF($C18=$T17,S17,IF($C18=$U17,S17,IF($C18=$V17,S17,IF($C18=$W17,S17,IF($C18=$X17,S17,IF($C18<>"",S17,T17))))))))) -> 0 | U18: =IF($C18=$Q17,U17,IF($C18=$R17,U17,IF($C18=$S17,U17,IF($C18=$T17,U17,IF($C18=$U17,T17,IF($C18=$V17,T17,IF($C18=$W17,T17,IF($C18=$X17,T17,IF($C18<>"",T17,U17))))))))) -> 0 | V18: =IF($C18=$Q17,V17,IF($C18=$R17,V17,IF($C18=$S17,V17,IF($C18=$T17,V17,IF($C18=$U17,V17,IF($C18=$V17,U17,IF($C18=$W17,U17,IF($C18=$X17,U17,IF($C18<>"",U17,V17))))))))) -> 0 | W18: =IF($C18=$Q17,W17,IF($C18=$R17,W17,IF($C18=$S17,W17,IF($C18=$T17,W17,IF($C18=$U17,W17,IF($C18=$V17,W17,IF($C18=$W17,V17,IF($C18=$X17,V17,IF($C18<>"",V17,W17))))))))) -> 0 | X18: =IF($C18=$Q17,X17,IF($C18=$R17,X17,IF($C18=$S17,X17,IF($C18=$T17,X17,IF($C18=$U17,X17,IF($C18=$V17,X17,IF($C18=$W17,X17,IF($C18=$X17,W17,IF($C18<>"",W17,X17))))))))) -> 0 | Z18: =D18 | AA18: =IF($D18<>"",D18,AA17) -> 22 | AB18: =IF(AND($D18="",AB17=0),0,IF($D18=$AA17,AB17,IF($D18=$AB17,AA17,IF($D18=$AC17,AA17,IF($D18=$AD17,AA17,IF($D18=$AE17,AA17,IF($D18=$AF17,AA17,IF($D18=$AG17,AA17,IF($D18=$AH17,AA17,IF($D18<>"",AA17,AB17)))))))))) -> 6 | AC18: =IF($D18=$AA17,AC17,IF($D18=$AB17,AC17,IF($D18=$AC17,AB17,IF($D18=$AD17,AB17,IF($D18=$AE17,AB17,IF($D18=$AF17,AB17,IF($D18=$AG17,AB17,IF($D18=$AH17,AB17,IF($D18<>"",AB17,AC17))))))))) -> 15 | AD18: =IF($D18=$AA17,AD17,IF($D18=$AB17,AD17,IF($D18=$AC17,AD17,IF($D18=$AD17,AC17,IF($D18=$AE17,AC17,IF($D18=$AF17,AC17,IF($D18=$AG17,AC17,IF($D18=$AH17,AC17,IF($D18<>"",AC17,AD17))))))))) -> 0 | AE18: =IF($D18=$AA17,AE17,IF($D18=$AB17,AE17,IF($D18=$AC17,AE17,IF($D18=$AD17,AE17,IF($D18=$AE17,AD17,IF($D18=$AF17,AD17,IF($D18=$AG17,AD17,IF($D18=$AH17,AD17,IF($D18<>"",AD17,AE17))))))))) -> 0 | AF18: =IF($D18=$AA17,AF17,IF($D18=$AB17,AF17,IF($D18=$AC17,AF17,IF($D18=$AD17,AF17,IF($D18=$AE17,AF17,IF($D18=$AF17,AE17,IF($D18=$AG17,AE17,IF($D18=$AH17,AE17,IF($D18<>"",AE17,AF17))))))))) -> 0 | AG18: =IF($D18=$AA17,AG17,IF($D18=$AB17,AG17,IF($D18=$AC17,AG17,IF($D18=$AD17,AG17,IF($D18=$AE17,AG17,IF($D18=$AF17,AG17,IF($D18=$AG17,AF17,IF($D18=$AH17,AF17,IF($D18<>"",AF17,AG17))))))))) -> 0 | AH18: =IF($D18=$AA17,AH17,IF($D18=$AB17,AH17,IF($D18=$AC17,AH17,IF($D18=$AD17,AH17,IF($D18=$AE17,AH17,IF($D18=$AF17,AH17,IF($D18=$AG17,AH17,IF($D18=$AH17,AG17,IF($D18<>"",AG17,AH17))))))))) -> 0 | AJ18: =F18 | AK18: =IF($F18<>"",F18,AK17) -> 22 | AL18: =IF($F18=$AK17,AL17,IF($F18=$AL17,AK17,IF($F18=$AM17,AK17,IF($F18=$AN17,AK17,IF($F18=$AO17,AK17,IF($F18=$AP17,AK17,IF($F18=$AQ17,AK17,IF($F18=$AR17,AK17,IF($F18<>"",AK17,AL17))))))))) -> 30 | AM18: =IF($F18=$AK17,AM17,IF($F18=$AL17,AM17,IF($F18=$AM17,AL17,IF($F18=$AN17,AL17,IF($F18=$AO17,AL17,IF($F18=$AP17,AL17,IF($F18=$AQ17,AL17,IF($F18=$AR17,AL17,IF($F18<>"",AL17,AM17))))))))) -> 0 | AN18: =IF($F18=$AK17,AN17,IF($F18=$AL17,AN17,IF($F18=$AM17,AN17,IF($F18=$AN17,AM17,IF($F18=$AO17,AM17,IF($F18=$AP17,AM17,IF($F18=$AQ17,AM17,IF($F18=$AR17,AM17,IF($F18<>"",AM17,AN17))))))))) -> 0 | AO18: =IF($F18=$AK17,AO17,IF($F18=$AL17,AO17,IF($F18=$AM17,AO17,IF($F18=$AN17,AO17,IF($F18=$AO17,AN17,IF($F18=$AP17,AN17,IF($F18=$AQ17,AN17,IF($F18=$AR17,AN17,IF($F18<>"",AN17,AO17))))))))) -> 0 | AP18: =IF($F18=$AK17,AP17,IF($F18=$AL17,AP17,IF($F18=$AM17,AP17,IF($F18=$AN17,AP17,IF($F18=$AO17,AP17,IF($F18=$AP17,AO17,IF($F18=$AQ17,AO17,IF($F18=$AR17,AO17,IF($F18<>"",AO17,AP17))))))))) -> 0 | AQ18: =IF($F18=$AK17,AQ17,IF($F18=$AL17,AQ17,IF($F18=$AM17,AQ17,IF($F18=$AN17,AQ17,IF($F18=$AO17,AQ17,IF($F18=$AP17,AQ17,IF($F18=$AQ17,AP17,IF($F18=$AR17,AP17,IF($F18<>"",AP17,AQ17))))))))) -> 0 | AR18: =IF($F18=$AK17,AR17,IF($F18=$AL17,AR17,IF($F18=$AM17,AR17,IF($F18=$AN17,AR17,IF($F18=$AO17,AR17,IF($F18=$AP17,AR17,IF($F18=$AQ17,AR17,IF($F18=$AR17,AQ17,IF($F18<>"",AQ17,AR17))))))))) -> 0 | AT18: =G18 | AU18: =IF($G18<>"",G18,AU17) -> 9 | AV18: =IF($G18=$AU17,AV17,IF($G18=$AV17,AU17,IF($G18=$AW17,AU17,IF($G18=$AX17,AU17,IF($G18=$AY17,AU17,IF($G18=$AZ17,AU17,IF($G18=$BA17,AU17,IF($G18=$BB17,AU17,IF($G18<>"",AU17,AV17))))))))) -> 6 | AW18: =IF($G18=$AU17,AW17,IF($G18=$AV17,AW17,IF($G18=$AW17,AV17,IF($G18=$AX17,AV17,IF($G18=$AY17,AV17,IF($G18=$AZ17,AV17,IF($G18=$BA17,AV17,IF($G18=$BB17,AV17,IF($G18<>"",AV17,AW17))))))))) -> 15 | AX18: =IF($G18=$AU17,AX17,IF($G18=$AV17,AX17,IF($G18=$AW17,AX17,IF($G18=$AX17,AW17,IF($G18=$AY17,AW17,IF($G18=$AZ17,AW17,IF($G18=$BA17,AW17,IF($G18=$BB17,AW17,IF($G18<>"",AW17,AX17))))))))) -> 0 | AY18: =IF($G18=$AU17,AY17,IF($G18=$AV17,AY17,IF($G18=$AW17,AY17,IF($G18=$AX17,AY17,IF($G18=$AY17,AX17,IF($G18=$AZ17,AX17,IF($G18=$BA17,AX17,IF($G18=$BB17,AX17,IF($G18<>"",AX17,AY17))))))))) -> 0 | AZ18: =IF($G18=$AU17,AZ17,IF($G18=$AV17,AZ17,IF($G18=$AW17,AZ17,IF($G18=$AX17,AZ17,IF($G18=$AY17,AZ17,IF($G18=$AZ17,AY17,IF($G18=$BA17,AY17,IF($G18=$BB17,AY17,IF($G18<>"",AY17,AZ17))))))))) -> 0 | BA18: =IF($G18=$AU17,BA17,IF($G18=$AV17,BA17,IF($G18=$AW17,BA17,IF($G18=$AX17,BA17,IF($G18=$AY17,BA17,IF($G18=$AZ17,BA17,IF($G18=$BA17,AZ17,IF($G18=$BB17,AZ17,IF($G18<>"",AZ17,BA17))))))))) -> 0 | BB18: =IF($G18=$AU17,BB17,IF($G18=$AV17,BB17,IF($G18=$AW17,BB17,IF($G18=$AX17,BB17,IF($G18=$AY17,BB17,IF($G18=$AZ17,BB17,IF($G18=$BA17,BB17,IF($G18=$BB17,BA17,IF($G18<>"",BA17,BB17))))))))) -> 0 | BD18: =I18 | BE18: =IF($I18<>"",I18,BE17) -> 9 | BF18: =IF($I18=$BE17,BF17,IF($I18=$BF17,BE17,IF($I18=$BG17,BE17,IF($I18=$BH17,BE17,IF($I18=$BI17,BE17,IF($I18=$BJ17,BE17,IF($I18=$BK17,BE17,IF($I18=$BL17,BE17,IF($I18<>"",BE17,BF17))))))))) -> 15 | BG18: =IF($I18=$BE17,BG17,IF($I18=$BF17,BG17,IF($I18=$BG17,BF17,IF($I18=$BH17,BF17,IF($I18=$BI17,BF17,IF($I18=$BJ17,BF17,IF($I18=$BK17,BF17,IF($I18=$BL17,BF17,IF($I18<>"",BF17,BG17))))))))) -> 23 | BH18: =IF($I18=$BE17,BH17,IF($I18=$BF17,BH17,IF($I18=$BG17,BH17,IF($I18=$BH17,BG17,IF($I18=$BI17,BG17,IF($I18=$BJ17,BG17,IF($I18=$BK17,BG17,IF($I18=$BL17,BG17,IF($I18<>"",BG17,BH17))))))))) -> 0 | BI18: =IF($I18=$BE17,BI17,IF($I18=$BF17,BI17,IF($I18=$BG17,BI17,IF($I18=$BH17,BI17,IF($I18=$BI17,BH17,IF($I18=$BJ17,BH17,IF($I18=$BK17,BH17,IF($I18=$BL17,BH17,IF($I18<>"",BH17,BI17))))))))) -> 0 | BJ18: =IF($I18=$BE17,BJ17,IF($I18=$BF17,BJ17,IF($I18=$BG17,BJ17,IF($I18=$BH17,BJ17,IF($I18=$BI17,BJ17,IF($I18=$BJ17,BI17,IF($I18=$BK17,BI17,IF($I18=$BL17,BI17,IF($I18<>"",BI17,BJ17))))))))) -> 0 | BK18: =IF($I18=$BE17,BK17,IF($I18=$BF17,BK17,IF($I18=$BG17,BK17,IF($I18=$BH17,BK17,IF($I18=$BI17,BK17,IF($I18=$BJ17,BK17,IF($I18=$BK17,BJ17,IF($I18=$BL17,BJ17,IF($I18<>"",BJ17,BK17))))))))) -> 0 | BL18: =IF($I18=$BE17,BL17,IF($I18=$BF17,BL17,IF($I18=$BG17,BL17,IF($I18=$BH17,BL17,IF($I18=$BI17,BL17,IF($I18=$BJ17,BL17,IF($I18=$BK17,BL17,IF($I18=$BL17,BK17,IF($I18<>"",BK17,BL17))))))))) -> 0 | BN18: =J18 | BO18: =IF($J18<>"",J18,BO17) -> 22 | BP18: =IF($J18=$BO17,BP17,IF($J18=$BP17,BO17,IF($J18=$BQ17,BO17,IF($J18=$BR17,BO17,IF($J18=$BS17,BO17,IF($J18=$BT17,BO17,IF($J18=$BU17,BO17,IF($J18=$BV17,BO17,IF($J18<>"",BO17,BP17))))))))) -> 6 | BQ18: =IF($J18=$BO17,BQ17,IF($J18=$BP17,BQ17,IF($J18=$BQ17,BP17,IF($J18=$BR17,BP17,IF($J18=$BS17,BP17,IF($J18=$BT17,BP17,IF($J18=$BU17,BP17,IF($J18=$BV17,BP17,IF($J18<>"",BP17,BQ17))))))))) -> 30 | BR18: =IF($J18=$BO17,BR17,IF($J18=$BP17,BR17,IF($J18=$BQ17,BR17,IF($J18=$BR17,BQ17,IF($J18=$BS17,BQ17,IF($J18=$BT17,BQ17,IF($J18=$BU17,BQ17,IF($J18=$BV17,BQ17,IF($J18<>"",BQ17,BR17))))))))) -> 0 | BS18: =IF($J18=$BO17,BS17,IF($J18=$BP17,BS17,IF($J18=$BQ17,BS17,IF($J18=$BR17,BS17,IF($J18=$BS17,BR17,IF($J18=$BT17,BR17,IF($J18=$BU17,BR17,IF($J18=$BV17,BR17,IF($J18<>"",BR17,BS17))))))))) -> 0 | BT18: =IF($J18=$BO17,BT17,IF($J18=$BP17,BT17,IF($J18=$BQ17,BT17,IF($J18=$BR17,BT17,IF($J18=$BS17,BT17,IF($J18=$BT17,BS17,IF($J18=$BU17,BS17,IF($J18=$BV17,BS17,IF($J18<>"",BS17,BT17))))))))) -> 0 | BU18: =IF($J18=$BO17,BU17,IF($J18=$BP17,BU17,IF($J18=$BQ17,BU17,IF($J18=$BR17,BU17,IF($J18=$BS17,BU17,IF($J18=$BT17,BU17,IF($J18=$BU17,BT17,IF($J18=$BV17,BT17,IF($J18<>"",BT17,BU17))))))))) -> 0 | BV18: =IF($J18=$BO17,BV17,IF($J18=$BP17,BV17,IF($J18=$BQ17,BV17,IF($J18=$BR17,BV17,IF($J18=$BS17,BV17,IF($J18=$BT17,BV17,IF($J18=$BU17,BV17,IF($J18=$BV17,BU17,IF($J18<>"",BU17,BV17))))))))) -> 0
A19: =RBLHOE!B19 -> 0 | B19: =LOOKUP(A19,K:K,L:L) -> 0 | C19: =IF(B19="Red",A19,"") | D19: =IF(B19="Black",A19,"" ) | E19: =LOOKUP(A19,K:K,M:M) -> 0 | F19: =IF(E19="High",A19,"") | G19: =IF(E19="Low",A19,"") | H19: =LOOKUP(A19,K:K,N:N) -> 0 | I19: =IF(H19="Odd",A19,"") | J19: =IF(H19="Even",A19,"" ) | K19: 15 | L19: Black | M19: Low | N19: Odd | P19: =C19 | Q19: =IF($C19<>"",C19,Q18) -> 9 | R19: =IF($C19=$Q18,R18,IF($C19=$R18,Q18,IF($C19=$S18,Q18,IF($C19=$T18,Q18,IF($C19=$U18,Q18,IF($C19=$V18,Q18,IF($C19=$W18,Q18,IF($C19=$X18,Q18,IF($C19<>"",Q18,R18))))))))) -> 30 | S19: =IF($C19=$Q18,S18,IF($C19=$R18,S18,IF($C19=$S18,R18,IF($C19=$T18,R18,IF($C19=$U18,R18,IF($C19=$V18,R18,IF($C19=$W18,R18,IF($C19=$X18,R18,IF($C19<>"",R18,S18))))))))) -> 23 | T19: =IF($C19=$Q18,T18,IF($C19=$R18,T18,IF($C19=$S18,T18,IF($C19=$T18,S18,IF($C19=$U18,S18,IF($C19=$V18,S18,IF($C19=$W18,S18,IF($C19=$X18,S18,IF($C19<>"",S18,T18))))))))) -> 0 | U19: =IF($C19=$Q18,U18,IF($C19=$R18,U18,IF($C19=$S18,U18,IF($C19=$T18,U18,IF($C19=$U18,T18,IF($C19=$V18,T18,IF($C19=$W18,T18,IF($C19=$X18,T18,IF($C19<>"",T18,U18))))))))) -> 0 | V19: =IF($C19=$Q18,V18,IF($C19=$R18,V18,IF($C19=$S18,V18,IF($C19=$T18,V18,IF($C19=$U18,V18,IF($C19=$V18,U18,IF($C19=$W18,U18,IF($C19=$X18,U18,IF($C19<>"",U18,V18))))))))) -> 0 | W19: =IF($C19=$Q18,W18,IF($C19=$R18,W18,IF($C19=$S18,W18,IF($C19=$T18,W18,IF($C19=$U18,W18,IF($C19=$V18,W18,IF($C19=$W18,V18,IF($C19=$X18,V18,IF($C19<>"",V18,W18))))))))) -> 0 | X19: =IF($C19=$Q18,X18,IF($C19=$R18,X18,IF($C19=$S18,X18,IF($C19=$T18,X18,IF($C19=$U18,X18,IF($C19=$V18,X18,IF($C19=$W18,X18,IF($C19=$X18,W18,IF($C19<>"",W18,X18))))))))) -> 0 | Z19: =D19 | AA19: =IF($D19<>"",D19,AA18) -> 22 | AB19: =IF(AND($D19="",AB18=0),0,IF($D19=$AA18,AB18,IF($D19=$AB18,AA18,IF($D19=$AC18,AA18,IF($D19=$AD18,AA18,IF($D19=$AE18,AA18,IF($D19=$AF18,AA18,IF($D19=$AG18,AA18,IF($D19=$AH18,AA18,IF($D19<>"",AA18,AB18)))))))))) -> 6 | AC19: =IF($D19=$AA18,AC18,IF($D19=$AB18,AC18,IF($D19=$AC18,AB18,IF($D19=$AD18,AB18,IF($D19=$AE18,AB18,IF($D19=$AF18,AB18,IF($D19=$AG18,AB18,IF($D19=$AH18,AB18,IF($D19<>"",AB18,AC18))))))))) -> 15 | AD19: =IF($D19=$AA18,AD18,IF($D19=$AB18,AD18,IF($D19=$AC18,AD18,IF($D19=$AD18,AC18,IF($D19=$AE18,AC18,IF($D19=$AF18,AC18,IF($D19=$AG18,AC18,IF($D19=$AH18,AC18,IF($D19<>"",AC18,AD18))))))))) -> 0 | AE19: =IF($D19=$AA18,AE18,IF($D19=$AB18,AE18,IF($D19=$AC18,AE18,IF($D19=$AD18,AE18,IF($D19=$AE18,AD18,IF($D19=$AF18,AD18,IF($D19=$AG18,AD18,IF($D19=$AH18,AD18,IF($D19<>"",AD18,AE18))))))))) -> 0 | AF19: =IF($D19=$AA18,AF18,IF($D19=$AB18,AF18,IF($D19=$AC18,AF18,IF($D19=$AD18,AF18,IF($D19=$AE18,AF18,IF($D19=$AF18,AE18,IF($D19=$AG18,AE18,IF($D19=$AH18,AE18,IF($D19<>"",AE18,AF18))))))))) -> 0 | AG19: =IF($D19=$AA18,AG18,IF($D19=$AB18,AG18,IF($D19=$AC18,AG18,IF($D19=$AD18,AG18,IF($D19=$AE18,AG18,IF($D19=$AF18,AG18,IF($D19=$AG18,AF18,IF($D19=$AH18,AF18,IF($D19<>"",AF18,AG18))))))))) -> 0 | AH19: =IF($D19=$AA18,AH18,IF($D19=$AB18,AH18,IF($D19=$AC18,AH18,IF($D19=$AD18,AH18,IF($D19=$AE18,AH18,IF($D19=$AF18,AH18,IF($D19=$AG18,AH18,IF($D19=$AH18,AG18,IF($D19<>"",AG18,AH18))))))))) -> 0 | AJ19: =F19 | AK19: =IF($F19<>"",F19,AK18) -> 22 | AL19: =IF($F19=$AK18,AL18,IF($F19=$AL18,AK18,IF($F19=$AM18,AK18,IF($F19=$AN18,AK18,IF($F19=$AO18,AK18,IF($F19=$AP18,AK18,IF($F19=$AQ18,AK18,IF($F19=$AR18,AK18,IF($F19<>"",AK18,AL18))))))))) -> 30 | AM19: =IF($F19=$AK18,AM18,IF($F19=$AL18,AM18,IF($F19=$AM18,AL18,IF($F19=$AN18,AL18,IF($F19=$AO18,AL18,IF($F19=$AP18,AL18,IF($F19=$AQ18,AL18,IF($F19=$AR18,AL18,IF($F19<>"",AL18,AM18))))))))) -> 0 | AN19: =IF($F19=$AK18,AN18,IF($F19=$AL18,AN18,IF($F19=$AM18,AN18,IF($F19=$AN18,AM18,IF($F19=$AO18,AM18,IF($F19=$AP18,AM18,IF($F19=$AQ18,AM18,IF($F19=$AR18,AM18,IF($F19<>"",AM18,AN18))))))))) -> 0 | AO19: =IF($F19=$AK18,AO18,IF($F19=$AL18,AO18,IF($F19=$AM18,AO18,IF($F19=$AN18,AO18,IF($F19=$AO18,AN18,IF($F19=$AP18,AN18,IF($F19=$AQ18,AN18,IF($F19=$AR18,AN18,IF($F19<>"",AN18,AO18))))))))) -> 0 | AP19: =IF($F19=$AK18,AP18,IF($F19=$AL18,AP18,IF($F19=$AM18,AP18,IF($F19=$AN18,AP18,IF($F19=$AO18,AP18,IF($F19=$AP18,AO18,IF($F19=$AQ18,AO18,IF($F19=$AR18,AO18,IF($F19<>"",AO18,AP18))))))))) -> 0 | AQ19: =IF($F19=$AK18,AQ18,IF($F19=$AL18,AQ18,IF($F19=$AM18,AQ18,IF($F19=$AN18,AQ18,IF($F19=$AO18,AQ18,IF($F19=$AP18,AQ18,IF($F19=$AQ18,AP18,IF($F19=$AR18,AP18,IF($F19<>"",AP18,AQ18))))))))) -> 0 | AR19: =IF($F19=$AK18,AR18,IF($F19=$AL18,AR18,IF($F19=$AM18,AR18,IF($F19=$AN18,AR18,IF($F19=$AO18,AR18,IF($F19=$AP18,AR18,IF($F19=$AQ18,AR18,IF($F19=$AR18,AQ18,IF($F19<>"",AQ18,AR18))))))))) -> 0 | AT19: =G19 | AU19: =IF($G19<>"",G19,AU18) -> 9 | AV19: =IF($G19=$AU18,AV18,IF($G19=$AV18,AU18,IF($G19=$AW18,AU18,IF($G19=$AX18,AU18,IF($G19=$AY18,AU18,IF($G19=$AZ18,AU18,IF($G19=$BA18,AU18,IF($G19=$BB18,AU18,IF($G19<>"",AU18,AV18))))))))) -> 6 | AW19: =IF($G19=$AU18,AW18,IF($G19=$AV18,AW18,IF($G19=$AW18,AV18,IF($G19=$AX18,AV18,IF($G19=$AY18,AV18,IF($G19=$AZ18,AV18,IF($G19=$BA18,AV18,IF($G19=$BB18,AV18,IF($G19<>"",AV18,AW18))))))))) -> 15 | AX19: =IF($G19=$AU18,AX18,IF($G19=$AV18,AX18,IF($G19=$AW18,AX18,IF($G19=$AX18,AW18,IF($G19=$AY18,AW18,IF($G19=$AZ18,AW18,IF($G19=$BA18,AW18,IF($G19=$BB18,AW18,IF($G19<>"",AW18,AX18))))))))) -> 0 | AY19: =IF($G19=$AU18,AY18,IF($G19=$AV18,AY18,IF($G19=$AW18,AY18,IF($G19=$AX18,AY18,IF($G19=$AY18,AX18,IF($G19=$AZ18,AX18,IF($G19=$BA18,AX18,IF($G19=$BB18,AX18,IF($G19<>"",AX18,AY18))))))))) -> 0 | AZ19: =IF($G19=$AU18,AZ18,IF($G19=$AV18,AZ18,IF($G19=$AW18,AZ18,IF($G19=$AX18,AZ18,IF($G19=$AY18,AZ18,IF($G19=$AZ18,AY18,IF($G19=$BA18,AY18,IF($G19=$BB18,AY18,IF($G19<>"",AY18,AZ18))))))))) -> 0 | BA19: =IF($G19=$AU18,BA18,IF($G19=$AV18,BA18,IF($G19=$AW18,BA18,IF($G19=$AX18,BA18,IF($G19=$AY18,BA18,IF($G19=$AZ18,BA18,IF($G19=$BA18,AZ18,IF($G19=$BB18,AZ18,IF($G19<>"",AZ18,BA18))))))))) -> 0 | BB19: =IF($G19=$AU18,BB18,IF($G19=$AV18,BB18,IF($G19=$AW18,BB18,IF($G19=$AX18,BB18,IF($G19=$AY18,BB18,IF($G19=$AZ18,BB18,IF($G19=$BA18,BB18,IF($G19=$BB18,BA18,IF($G19<>"",BA18,BB18))))))))) -> 0 | BD19: =I19 | BE19: =IF($I19<>"",I19,BE18) -> 9 | BF19: =IF($I19=$BE18,BF18,IF($I19=$BF18,BE18,IF($I19=$BG18,BE18,IF($I19=$BH18,BE18,IF($I19=$BI18,BE18,IF($I19=$BJ18,BE18,IF($I19=$BK18,BE18,IF($I19=$BL18,BE18,IF($I19<>"",BE18,BF18))))))))) -> 15 | BG19: =IF($I19=$BE18,BG18,IF($I19=$BF18,BG18,IF($I19=$BG18,BF18,IF($I19=$BH18,BF18,IF($I19=$BI18,BF18,IF($I19=$BJ18,BF18,IF($I19=$BK18,BF18,IF($I19=$BL18,BF18,IF($I19<>"",BF18,BG18))))))))) -> 23 | BH19: =IF($I19=$BE18,BH18,IF($I19=$BF18,BH18,IF($I19=$BG18,BH18,IF($I19=$BH18,BG18,IF($I19=$BI18,BG18,IF($I19=$BJ18,BG18,IF($I19=$BK18,BG18,IF($I19=$BL18,BG18,IF($I19<>"",BG18,BH18))))))))) -> 0 | BI19: =IF($I19=$BE18,BI18,IF($I19=$BF18,BI18,IF($I19=$BG18,BI18,IF($I19=$BH18,BI18,IF($I19=$BI18,BH18,IF($I19=$BJ18,BH18,IF($I19=$BK18,BH18,IF($I19=$BL18,BH18,IF($I19<>"",BH18,BI18))))))))) -> 0 | BJ19: =IF($I19=$BE18,BJ18,IF($I19=$BF18,BJ18,IF($I19=$BG18,BJ18,IF($I19=$BH18,BJ18,IF($I19=$BI18,BJ18,IF($I19=$BJ18,BI18,IF($I19=$BK18,BI18,IF($I19=$BL18,BI18,IF($I19<>"",BI18,BJ18))))))))) -> 0 | BK19: =IF($I19=$BE18,BK18,IF($I19=$BF18,BK18,IF($I19=$BG18,BK18,IF($I19=$BH18,BK18,IF($I19=$BI18,BK18,IF($I19=$BJ18,BK18,IF($I19=$BK18,BJ18,IF($I19=$BL18,BJ18,IF($I19<>"",BJ18,BK18))))))))) -> 0 | BL19: =IF($I19=$BE18,BL18,IF($I19=$BF18,BL18,IF($I19=$BG18,BL18,IF($I19=$BH18,BL18,IF($I19=$BI18,BL18,IF($I19=$BJ18,BL18,IF($I19=$BK18,BL18,IF($I19=$BL18,BK18,IF($I19<>"",BK18,BL18))))))))) -> 0 | BN19: =J19 | BO19: =IF($J19<>"",J19,BO18) -> 22 | BP19: =IF($J19=$BO18,BP18,IF($J19=$BP18,BO18,IF($J19=$BQ18,BO18,IF($J19=$BR18,BO18,IF($J19=$BS18,BO18,IF($J19=$BT18,BO18,IF($J19=$BU18,BO18,IF($J19=$BV18,BO18,IF($J19<>"",BO18,BP18))))))))) -> 6 | BQ19: =IF($J19=$BO18,BQ18,IF($J19=$BP18,BQ18,IF($J19=$BQ18,BP18,IF($J19=$BR18,BP18,IF($J19=$BS18,BP18,IF($J19=$BT18,BP18,IF($J19=$BU18,BP18,IF($J19=$BV18,BP18,IF($J19<>"",BP18,BQ18))))))))) -> 30 | BR19: =IF($J19=$BO18,BR18,IF($J19=$BP18,BR18,IF($J19=$BQ18,BR18,IF($J19=$BR18,BQ18,IF($J19=$BS18,BQ18,IF($J19=$BT18,BQ18,IF($J19=$BU18,BQ18,IF($J19=$BV18,BQ18,IF($J19<>"",BQ18,BR18))))))))) -> 0 | BS19: =IF($J19=$BO18,BS18,IF($J19=$BP18,BS18,IF($J19=$BQ18,BS18,IF($J19=$BR18,BS18,IF($J19=$BS18,BR18,IF($J19=$BT18,BR18,IF($J19=$BU18,BR18,IF($J19=$BV18,BR18,IF($J19<>"",BR18,BS18))))))))) -> 0 | BT19: =IF($J19=$BO18,BT18,IF($J19=$BP18,BT18,IF($J19=$BQ18,BT18,IF($J19=$BR18,BT18,IF($J19=$BS18,BT18,IF($J19=$BT18,BS18,IF($J19=$BU18,BS18,IF($J19=$BV18,BS18,IF($J19<>"",BS18,BT18))))))))) -> 0 | BU19: =IF($J19=$BO18,BU18,IF($J19=$BP18,BU18,IF($J19=$BQ18,BU18,IF($J19=$BR18,BU18,IF($J19=$BS18,BU18,IF($J19=$BT18,BU18,IF($J19=$BU18,BT18,IF($J19=$BV18,BT18,IF($J19<>"",BT18,BU18))))))))) -> 0 | BV19: =IF($J19=$BO18,BV18,IF($J19=$BP18,BV18,IF($J19=$BQ18,BV18,IF($J19=$BR18,BV18,IF($J19=$BS18,BV18,IF($J19=$BT18,BV18,IF($J19=$BU18,BV18,IF($J19=$BV18,BU18,IF($J19<>"",BU18,BV18))))))))) -> 0
