Workbook

Sheet CL
A1: 6 | B1: Spin # | D1: nn | E1: n01n02n03n04n05n06 | Q1: D6 | R1: D2 | S1: D3 | T1: D6 | U1: D12 | V1: D18
A2: =RANDBETWEEN(1,6) -> 6 | B2: =A2 -> 6 | C2: =TEXT(B2,"#00") -> 06 | D2: =CONCATENATE("n",C2) -> n06 | E2: =IFERROR(REPLACE(AB2, FIND(D2,AB2,2), 3, ""),D2) -> n06n01n02n03n04n05 | P2: =FIND(D2,E1,1)+2 -> 18 | Q2: =P2/3 -> 6 | R2: =ROUNDUP(SUM(Q2)/2,0) -> 3 | S2: =ROUNDUP(SUM(Q2)/3,0) -> 2 | T2: =ROUNDUP(SUM(Q2)/6,0) -> 1 | U2: =ROUNDUP(SUM(Q2)/12,0) -> 1 | V2: =ROUNDUP(SUM(Q2)/18.5,0) -> 1 | X2: =D2 -> n06 | Y2: =IF(LEN(X2)=3,"Y","") -> Y | AB2: =CONCATENATE(D2,E1) -> n06n01n02n03n04n05n06
A3: =RANDBETWEEN(1,6) -> 6 | B3: =A3 -> 6 | C3: =TEXT(B3,"#00") -> 06 | D3: =CONCATENATE("n",C3) -> n06 | E3: =IFERROR(REPLACE(AB3, FIND(D3,AB3,2), 3, ""),D3) -> n06n01n02n03n04n05 | P3: =FIND(D3,E2,1)+2 -> 3 | Q3: =P3/3 -> 1 | R3: =ROUNDUP(SUM(Q3)/2,0) -> 1 | S3: =ROUNDUP(SUM(Q3)/3,0) -> 1 | T3: =ROUNDUP(SUM(Q3)/6,0) -> 1 | U3: =ROUNDUP(SUM(Q3)/12,0) -> 1 | V3: =ROUNDUP(SUM(Q3)/18.5,0) -> 1 | X3: =IF(ISNUMBER(FIND(D3,X2)),D3,D3&","&X2) -> n06 | Y3: =IF(LEN(X3)=3,"Y","") -> Y | AB3: =CONCATENATE(D3,E2) -> n06n06n01n02n03n04n05
A4: =RANDBETWEEN(1,6) -> 4 | B4: =A4 -> 4 | C4: =TEXT(B4,"#00") -> 04 | D4: =CONCATENATE("n",C4) -> n04 | E4: =IFERROR(REPLACE(AB4, FIND(D4,AB4,2), 3, ""),D4) -> n04n06n01n02n03n05 | P4: =FIND(D4,E3,1)+2 -> 15 | Q4: =P4/3 -> 5 | R4: =ROUNDUP(SUM(Q4)/2,0) -> 3 | S4: =ROUNDUP(SUM(Q4)/3,0) -> 2 | T4: =ROUNDUP(SUM(Q4)/6,0) -> 1 | U4: =ROUNDUP(SUM(Q4)/12,0) -> 1 | V4: =ROUNDUP(SUM(Q4)/18.5,0) -> 1 | X4: =IF(ISNUMBER(FIND(D4,X3)),D4,D4&","&X3) -> n04,n06 | Y4: =IF(LEN(X4)=3,"Y","") | AB4: =CONCATENATE(D4,E3) -> n04n06n01n02n03n04n05
A5: =RANDBETWEEN(1,6) -> 3 | B5: =A5 -> 3 | C5: =TEXT(B5,"#00") -> 03 | D5: =CONCATENATE("n",C5) -> n03 | E5: =IFERROR(REPLACE(AB5, FIND(D5,AB5,2), 3, ""),D5) -> n03n04n06n01n02n05 | P5: =FIND(D5,E4,1)+2 -> 15 | Q5: =P5/3 -> 5 | R5: =ROUNDUP(SUM(Q5)/2,0) -> 3 | S5: =ROUNDUP(SUM(Q5)/3,0) -> 2 | T5: =ROUNDUP(SUM(Q5)/6,0) -> 1 | U5: =ROUNDUP(SUM(Q5)/12,0) -> 1 | V5: =ROUNDUP(SUM(Q5)/18.5,0) -> 1 | X5: =IF(ISNUMBER(FIND(D5,X4)),D5,D5&","&X4) -> n03,n04,n06 | Y5: =IF(LEN(X5)=3,"Y","") | AB5: =CONCATENATE(D5,E4) -> n03n04n06n01n02n03n05
A6: =RANDBETWEEN(1,6) -> 4 | B6: =A6 -> 4 | C6: =TEXT(B6,"#00") -> 04 | D6: =CONCATENATE("n",C6) -> n04 | E6: =IFERROR(REPLACE(AB6, FIND(D6,AB6,2), 3, ""),D6) -> n04n03n06n01n02n05 | P6: =FIND(D6,E5,1)+2 -> 6 | Q6: =P6/3 -> 2 | R6: =ROUNDUP(SUM(Q6)/2,0) -> 1 | S6: =ROUNDUP(SUM(Q6)/3,0) -> 1 | T6: =ROUNDUP(SUM(Q6)/6,0) -> 1 | U6: =ROUNDUP(SUM(Q6)/12,0) -> 1 | V6: =ROUNDUP(SUM(Q6)/18.5,0) -> 1 | X6: =IF(ISNUMBER(FIND(D6,X5)),D6,D6&","&X5) -> n04 | Y6: =IF(LEN(X6)=3,"Y","") -> Y | AB6: =CONCATENATE(D6,E5) -> n04n03n04n06n01n02n05
A7: =RANDBETWEEN(1,6) -> 3 | B7: =A7 -> 3 | C7: =TEXT(B7,"#00") -> 03 | D7: =CONCATENATE("n",C7) -> n03 | E7: =IFERROR(REPLACE(AB7, FIND(D7,AB7,2), 3, ""),D7) -> n03n04n06n01n02n05 | P7: =FIND(D7,E6,1)+2 -> 6 | Q7: =P7/3 -> 2 | R7: =ROUNDUP(SUM(Q7)/2,0) -> 1 | S7: =ROUNDUP(SUM(Q7)/3,0) -> 1 | T7: =ROUNDUP(SUM(Q7)/6,0) -> 1 | U7: =ROUNDUP(SUM(Q7)/12,0) -> 1 | V7: =ROUNDUP(SUM(Q7)/18.5,0) -> 1 | X7: =IF(ISNUMBER(FIND(D7,X6)),D7,D7&","&X6) -> n03,n04 | Y7: =IF(LEN(X7)=3,"Y","") | AB7: =CONCATENATE(D7,E6) -> n03n04n03n06n01n02n05
A8: =RANDBETWEEN(1,6) -> 5 | B8: =A8 -> 5 | C8: =TEXT(B8,"#00") -> 05 | D8: =CONCATENATE("n",C8) -> n05 | E8: =IFERROR(REPLACE(AB8, FIND(D8,AB8,2), 3, ""),D8) -> n05n03n04n06n01n02 | P8: =FIND(D8,E7,1)+2 -> 18 | Q8: =P8/3 -> 6 | R8: =ROUNDUP(SUM(Q8)/2,0) -> 3 | S8: =ROUNDUP(SUM(Q8)/3,0) -> 2 | T8: =ROUNDUP(SUM(Q8)/6,0) -> 1 | U8: =ROUNDUP(SUM(Q8)/12,0) -> 1 | V8: =ROUNDUP(SUM(Q8)/18.5,0) -> 1 | X8: =IF(ISNUMBER(FIND(D8,X7)),D8,D8&","&X7) -> n05,n03,n04 | Y8: =IF(LEN(X8)=3,"Y","") | AB8: =CONCATENATE(D8,E7) -> n05n03n04n06n01n02n05
A9: =RANDBETWEEN(1,6) -> 6 | B9: =A9 -> 6 | C9: =TEXT(B9,"#00") -> 06 | D9: =CONCATENATE("n",C9) -> n06 | E9: =IFERROR(REPLACE(AB9, FIND(D9,AB9,2), 3, ""),D9) -> n06n05n03n04n01n02 | P9: =FIND(D9,E8,1)+2 -> 12 | Q9: =P9/3 -> 4 | R9: =ROUNDUP(SUM(Q9)/2,0) -> 2 | S9: =ROUNDUP(SUM(Q9)/3,0) -> 2 | T9: =ROUNDUP(SUM(Q9)/6,0) -> 1 | U9: =ROUNDUP(SUM(Q9)/12,0) -> 1 | V9: =ROUNDUP(SUM(Q9)/18.5,0) -> 1 | X9: =IF(ISNUMBER(FIND(D9,X8)),D9,D9&","&X8) -> n06,n05,n03,n04 | Y9: =IF(LEN(X9)=3,"Y","") | AB9: =CONCATENATE(D9,E8) -> n06n05n03n04n06n01n02
A10: =RANDBETWEEN(1,6) -> 4 | B10: =A10 -> 4 | C10: =TEXT(B10,"#00") -> 04 | D10: =CONCATENATE("n",C10) -> n04 | E10: =IFERROR(REPLACE(AB10, FIND(D10,AB10,2), 3, ""),D10) -> n04n06n05n03n01n02 | P10: =FIND(D10,E9,1)+2 -> 12 | Q10: =P10/3 -> 4 | R10: =ROUNDUP(SUM(Q10)/2,0) -> 2 | S10: =ROUNDUP(SUM(Q10)/3,0) -> 2 | T10: =ROUNDUP(SUM(Q10)/6,0) -> 1 | U10: =ROUNDUP(SUM(Q10)/12,0) -> 1 | V10: =ROUNDUP(SUM(Q10)/18.5,0) -> 1 | X10: =IF(ISNUMBER(FIND(D10,X9)),D10,D10&","&X9) -> n04 | Y10: =IF(LEN(X10)=3,"Y","") -> Y | AB10: =CONCATENATE(D10,E9) -> n04n06n05n03n04n01n02
A11: =RANDBETWEEN(1,6) -> 5 | B11: =A11 -> 5 | C11: =TEXT(B11,"#00") -> 05 | D11: =CONCATENATE("n",C11) -> n05 | E11: =IFERROR(REPLACE(AB11, FIND(D11,AB11,2), 3, ""),D11) -> n05n04n06n03n01n02 | P11: =FIND(D11,E10,1)+2 -> 9 | Q11: =P11/3 -> 3 | R11: =ROUNDUP(SUM(Q11)/2,0) -> 2 | S11: =ROUNDUP(SUM(Q11)/3,0) -> 1 | T11: =ROUNDUP(SUM(Q11)/6,0) -> 1 | U11: =ROUNDUP(SUM(Q11)/12,0) -> 1 | V11: =ROUNDUP(SUM(Q11)/18.5,0) -> 1 | X11: =IF(ISNUMBER(FIND(D11,X10)),D11,D11&","&X10) -> n05,n04 | Y11: =IF(LEN(X11)=3,"Y","") | AB11: =CONCATENATE(D11,E10) -> n05n04n06n05n03n01n02
A12: =RANDBETWEEN(1,6) -> 4 | B12: =A12 -> 4 | C12: =TEXT(B12,"#00") -> 04 | D12: =CONCATENATE("n",C12) -> n04 | E12: =IFERROR(REPLACE(AB12, FIND(D12,AB12,2), 3, ""),D12) -> n04n05n06n03n01n02 | P12: =FIND(D12,E11,1)+2 -> 6 | Q12: =P12/3 -> 2 | R12: =ROUNDUP(SUM(Q12)/2,0) -> 1 | S12: =ROUNDUP(SUM(Q12)/3,0) -> 1 | T12: =ROUNDUP(SUM(Q12)/6,0) -> 1 | U12: =ROUNDUP(SUM(Q12)/12,0) -> 1 | V12: =ROUNDUP(SUM(Q12)/18.5,0) -> 1 | X12: =IF(ISNUMBER(FIND(D12,X11)),D12,D12&","&X11) -> n04 | Y12: =IF(LEN(X12)=3,"Y","") -> Y | AB12: =CONCATENATE(D12,E11) -> n04n05n04n06n03n01n02
A13: =RANDBETWEEN(1,6) -> 5 | B13: =A13 -> 5 | C13: =TEXT(B13,"#00") -> 05 | D13: =CONCATENATE("n",C13) -> n05 | E13: =IFERROR(REPLACE(AB13, FIND(D13,AB13,2), 3, ""),D13) -> n05n04n06n03n01n02 | P13: =FIND(D13,E12,1)+2 -> 6 | Q13: =P13/3 -> 2 | R13: =ROUNDUP(SUM(Q13)/2,0) -> 1 | S13: =ROUNDUP(SUM(Q13)/3,0) -> 1 | T13: =ROUNDUP(SUM(Q13)/6,0) -> 1 | U13: =ROUNDUP(SUM(Q13)/12,0) -> 1 | V13: =ROUNDUP(SUM(Q13)/18.5,0) -> 1 | X13: =IF(ISNUMBER(FIND(D13,X12)),D13,D13&","&X12) -> n05,n04 | Y13: =IF(LEN(X13)=3,"Y","") | AB13: =CONCATENATE(D13,E12) -> n05n04n05n06n03n01n02
A14: =RANDBETWEEN(1,6) -> 2 | B14: =A14 -> 2 | C14: =TEXT(B14,"#00") -> 02 | D14: =CONCATENATE("n",C14) -> n02 | E14: =IFERROR(REPLACE(AB14, FIND(D14,AB14,2), 3, ""),D14) -> n02n05n04n06n03n01 | P14: =FIND(D14,E13,1)+2 -> 18 | Q14: =P14/3 -> 6 | R14: =ROUNDUP(SUM(Q14)/2,0) -> 3 | S14: =ROUNDUP(SUM(Q14)/3,0) -> 2 | T14: =ROUNDUP(SUM(Q14)/6,0) -> 1 | U14: =ROUNDUP(SUM(Q14)/12,0) -> 1 | V14: =ROUNDUP(SUM(Q14)/18.5,0) -> 1 | X14: =IF(ISNUMBER(FIND(D14,X13)),D14,D14&","&X13) -> n02,n05,n04 | Y14: =IF(LEN(X14)=3,"Y","") | AB14: =CONCATENATE(D14,E13) -> n02n05n04n06n03n01n02
... A500: =RANDBETWEEN(1,6) -> 1 | B500: =A500 -> 1 | C500: =TEXT(B500,"#00") -> 01 | D500: =CONCATENATE("n",C500) -> n01 | E500: =IFERROR(REPLACE(AB500, FIND(D500,AB500,2), 3, ""),D500) -> n01n02n05n03n04n06 | P500: =FIND(D500,E499,1)+2 -> 3 | Q500: =P500/3 -> 1 | R500: =ROUNDUP(SUM(Q500)/2,0) -> 1 | S500: =ROUNDUP(SUM(Q500)/3,0) -> 1 | T500: =ROUNDUP(SUM(Q500)/6,0) -> 1 | U500: =ROUNDUP(SUM(Q500)/12,0) -> 1 | V500: =ROUNDUP(SUM(Q500)/18.5,0) -> 1 | X500: =IF(ISNUMBER(FIND(D500,X499)),D500,D500&","&X499) -> n01 | Y500: =IF(LEN(X500)=3,"Y","") -> Y | AB500: =CONCATENATE(D500,E499) -> n01n01n02n05n03n04n06

Sheet D6-Pos
A1: 6 | B1: Spin # | D1: nn | E1: n01n02n03n04n05n06 | Q1: D6 | R1: D2 | S1: D3 | T1: D6 | U1: D12 | V1: D18
A2: =CL!Q2 -> 6 | B2: =A2 -> 6 | C2: =TEXT(B2,"#00") -> 06 | D2: =CONCATENATE("n",C2) -> n06 | E2: =IFERROR(REPLACE(AC2, FIND(D2,AC2,2), 3, ""),D2) -> n06n01n02n03n04n05 | P2: =FIND(D2,E1,1)+2 -> 18 | Q2: =P2/3 -> 6 | R2: =ROUNDUP(SUM(Q2)/2,0) -> 3 | S2: =ROUNDUP(SUM(Q2)/3,0) -> 2 | T2: =ROUNDUP(SUM(Q2)/6,0) -> 1 | U2: =ROUNDUP(SUM(Q2)/12,0) -> 1 | V2: =ROUNDUP(SUM(Q2)/18.5,0) -> 1 | X2: =CONCATENATE(A2,":",Q2) -> 6:6 | Y2: =D2 -> n06 | Z2: =IF(LEN(Y2)=3,"Y","") -> Y | AC2: =CONCATENATE(D2,E1) -> n06n01n02n03n04n05n06
A3: =CL!Q3 -> 1 | B3: =A3 -> 1 | C3: =TEXT(B3,"#00") -> 01 | D3: =CONCATENATE("n",C3) -> n01 | E3: =IFERROR(REPLACE(AC3, FIND(D3,AC3,2), 3, ""),D3) -> n01n06n02n03n04n05 | P3: =FIND(D3,E2,1)+2 -> 6 | Q3: =P3/3 -> 2 | R3: =ROUNDUP(SUM(Q3)/2,0) -> 1 | S3: =ROUNDUP(SUM(Q3)/3,0) -> 1 | T3: =ROUNDUP(SUM(Q3)/6,0) -> 1 | U3: =ROUNDUP(SUM(Q3)/12,0) -> 1 | V3: =ROUNDUP(SUM(Q3)/18.5,0) -> 1 | X3: =CONCATENATE(A3,":",Q3) -> 1:2 | Y3: =IF(ISNUMBER(FIND(D3,Y2)),D3,D3&","&Y2) -> n01,n06 | Z3: =IF(LEN(Y3)=3,"Y","") | AC3: =CONCATENATE(D3,E2) -> n01n06n01n02n03n04n05
A4: =CL!Q4 -> 5 | B4: =A4 -> 5 | C4: =TEXT(B4,"#00") -> 05 | D4: =CONCATENATE("n",C4) -> n05 | E4: =IFERROR(REPLACE(AC4, FIND(D4,AC4,2), 3, ""),D4) -> n05n01n06n02n03n04 | P4: =FIND(D4,E3,1)+2 -> 18 | Q4: =P4/3 -> 6 | R4: =ROUNDUP(SUM(Q4)/2,0) -> 3 | S4: =ROUNDUP(SUM(Q4)/3,0) -> 2 | T4: =ROUNDUP(SUM(Q4)/6,0) -> 1 | U4: =ROUNDUP(SUM(Q4)/12,0) -> 1 | V4: =ROUNDUP(SUM(Q4)/18.5,0) -> 1 | X4: =CONCATENATE(A4,":",Q4) -> 5:6 | Y4: =IF(ISNUMBER(FIND(D4,Y3)),D4,D4&","&Y3) -> n05,n01,n06 | Z4: =IF(LEN(Y4)=3,"Y","") | AC4: =CONCATENATE(D4,E3) -> n05n01n06n02n03n04n05
A5: =CL!Q5 -> 5 | B5: =A5 -> 5 | C5: =TEXT(B5,"#00") -> 05 | D5: =CONCATENATE("n",C5) -> n05 | E5: =IFERROR(REPLACE(AC5, FIND(D5,AC5,2), 3, ""),D5) -> n05n01n06n02n03n04 | P5: =FIND(D5,E4,1)+2 -> 3 | Q5: =P5/3 -> 1 | R5: =ROUNDUP(SUM(Q5)/2,0) -> 1 | S5: =ROUNDUP(SUM(Q5)/3,0) -> 1 | T5: =ROUNDUP(SUM(Q5)/6,0) -> 1 | U5: =ROUNDUP(SUM(Q5)/12,0) -> 1 | V5: =ROUNDUP(SUM(Q5)/18.5,0) -> 1 | X5: =CONCATENATE(A5,":",Q5) -> 5:1 | Y5: =IF(ISNUMBER(FIND(D5,Y4)),D5,D5&","&Y4) -> n05 | Z5: =IF(LEN(Y5)=3,"Y","") -> Y | AC5: =CONCATENATE(D5,E4) -> n05n05n01n06n02n03n04
A6: =CL!Q6 -> 2 | B6: =A6 -> 2 | C6: =TEXT(B6,"#00") -> 02 | D6: =CONCATENATE("n",C6) -> n02 | E6: =IFERROR(REPLACE(AC6, FIND(D6,AC6,2), 3, ""),D6) -> n02n05n01n06n03n04 | P6: =FIND(D6,E5,1)+2 -> 12 | Q6: =P6/3 -> 4 | R6: =ROUNDUP(SUM(Q6)/2,0) -> 2 | S6: =ROUNDUP(SUM(Q6)/3,0) -> 2 | T6: =ROUNDUP(SUM(Q6)/6,0) -> 1 | U6: =ROUNDUP(SUM(Q6)/12,0) -> 1 | V6: =ROUNDUP(SUM(Q6)/18.5,0) -> 1 | X6: =CONCATENATE(A6,":",Q6) -> 2:4 | Y6: =IF(ISNUMBER(FIND(D6,Y5)),D6,D6&","&Y5) -> n02,n05 | Z6: =IF(LEN(Y6)=3,"Y","") | AC6: =CONCATENATE(D6,E5) -> n02n05n01n06n02n03n04
A7: =CL!Q7 -> 2 | B7: =A7 -> 2 | C7: =TEXT(B7,"#00") -> 02 | D7: =CONCATENATE("n",C7) -> n02 | E7: =IFERROR(REPLACE(AC7, FIND(D7,AC7,2), 3, ""),D7) -> n02n05n01n06n03n04 | P7: =FIND(D7,E6,1)+2 -> 3 | Q7: =P7/3 -> 1 | R7: =ROUNDUP(SUM(Q7)/2,0) -> 1 | S7: =ROUNDUP(SUM(Q7)/3,0) -> 1 | T7: =ROUNDUP(SUM(Q7)/6,0) -> 1 | U7: =ROUNDUP(SUM(Q7)/12,0) -> 1 | V7: =ROUNDUP(SUM(Q7)/18.5,0) -> 1 | X7: =CONCATENATE(A7,":",Q7) -> 2:1 | Y7: =IF(ISNUMBER(FIND(D7,Y6)),D7,D7&","&Y6) -> n02 | Z7: =IF(LEN(Y7)=3,"Y","") -> Y | AC7: =CONCATENATE(D7,E6) -> n02n02n05n01n06n03n04
A8: =CL!Q8 -> 6 | B8: =A8 -> 6 | C8: =TEXT(B8,"#00") -> 06 | D8: =CONCATENATE("n",C8) -> n06 | E8: =IFERROR(REPLACE(AC8, FIND(D8,AC8,2), 3, ""),D8) -> n06n02n05n01n03n04 | P8: =FIND(D8,E7,1)+2 -> 12 | Q8: =P8/3 -> 4 | R8: =ROUNDUP(SUM(Q8)/2,0) -> 2 | S8: =ROUNDUP(SUM(Q8)/3,0) -> 2 | T8: =ROUNDUP(SUM(Q8)/6,0) -> 1 | U8: =ROUNDUP(SUM(Q8)/12,0) -> 1 | V8: =ROUNDUP(SUM(Q8)/18.5,0) -> 1 | X8: =CONCATENATE(A8,":",Q8) -> 6:4 | Y8: =IF(ISNUMBER(FIND(D8,Y7)),D8,D8&","&Y7) -> n06,n02 | Z8: =IF(LEN(Y8)=3,"Y","") | AC8: =CONCATENATE(D8,E7) -> n06n02n05n01n06n03n04
A9: =CL!Q9 -> 4 | B9: =A9 -> 4 | C9: =TEXT(B9,"#00") -> 04 | D9: =CONCATENATE("n",C9) -> n04 | E9: =IFERROR(REPLACE(AC9, FIND(D9,AC9,2), 3, ""),D9) -> n04n06n02n05n01n03 | P9: =FIND(D9,E8,1)+2 -> 18 | Q9: =P9/3 -> 6 | R9: =ROUNDUP(SUM(Q9)/2,0) -> 3 | S9: =ROUNDUP(SUM(Q9)/3,0) -> 2 | T9: =ROUNDUP(SUM(Q9)/6,0) -> 1 | U9: =ROUNDUP(SUM(Q9)/12,0) -> 1 | V9: =ROUNDUP(SUM(Q9)/18.5,0) -> 1 | X9: =CONCATENATE(A9,":",Q9) -> 4:6 | Y9: =IF(ISNUMBER(FIND(D9,Y8)),D9,D9&","&Y8) -> n04,n06,n02 | Z9: =IF(LEN(Y9)=3,"Y","") | AC9: =CONCATENATE(D9,E8) -> n04n06n02n05n01n03n04
A10: =CL!Q10 -> 4 | B10: =A10 -> 4 | C10: =TEXT(B10,"#00") -> 04 | D10: =CONCATENATE("n",C10) -> n04 | E10: =IFERROR(REPLACE(AC10, FIND(D10,AC10,2), 3, ""),D10) -> n04n06n02n05n01n03 | P10: =FIND(D10,E9,1)+2 -> 3 | Q10: =P10/3 -> 1 | R10: =ROUNDUP(SUM(Q10)/2,0) -> 1 | S10: =ROUNDUP(SUM(Q10)/3,0) -> 1 | T10: =ROUNDUP(SUM(Q10)/6,0) -> 1 | U10: =ROUNDUP(SUM(Q10)/12,0) -> 1 | V10: =ROUNDUP(SUM(Q10)/18.5,0) -> 1 | X10: =CONCATENATE(A10,":",Q10) -> 4:1 | Y10: =IF(ISNUMBER(FIND(D10,Y9)),D10,D10&","&Y9) -> n04 | Z10: =IF(LEN(Y10)=3,"Y","") -> Y | AC10: =CONCATENATE(D10,E9) -> n04n04n06n02n05n01n03
A11: =CL!Q11 -> 3 | B11: =A11 -> 3 | C11: =TEXT(B11,"#00") -> 03 | D11: =CONCATENATE("n",C11) -> n03 | E11: =IFERROR(REPLACE(AC11, FIND(D11,AC11,2), 3, ""),D11) -> n03n04n06n02n05n01 | P11: =FIND(D11,E10,1)+2 -> 18 | Q11: =P11/3 -> 6 | R11: =ROUNDUP(SUM(Q11)/2,0) -> 3 | S11: =ROUNDUP(SUM(Q11)/3,0) -> 2 | T11: =ROUNDUP(SUM(Q11)/6,0) -> 1 | U11: =ROUNDUP(SUM(Q11)/12,0) -> 1 | V11: =ROUNDUP(SUM(Q11)/18.5,0) -> 1 | X11: =CONCATENATE(A11,":",Q11) -> 3:6 | Y11: =IF(ISNUMBER(FIND(D11,Y10)),D11,D11&","&Y10) -> n03,n04 | Z11: =IF(LEN(Y11)=3,"Y","") | AC11: =CONCATENATE(D11,E10) -> n03n04n06n02n05n01n03
A12: =CL!Q12 -> 2 | B12: =A12 -> 2 | C12: =TEXT(B12,"#00") -> 02 | D12: =CONCATENATE("n",C12) -> n02 | E12: =IFERROR(REPLACE(AC12, FIND(D12,AC12,2), 3, ""),D12) -> n02n03n04n06n05n01 | P12: =FIND(D12,E11,1)+2 -> 12 | Q12: =P12/3 -> 4 | R12: =ROUNDUP(SUM(Q12)/2,0) -> 2 | S12: =ROUNDUP(SUM(Q12)/3,0) -> 2 | T12: =ROUNDUP(SUM(Q12)/6,0) -> 1 | U12: =ROUNDUP(SUM(Q12)/12,0) -> 1 | V12: =ROUNDUP(SUM(Q12)/18.5,0) -> 1 | X12: =CONCATENATE(A12,":",Q12) -> 2:4 | Y12: =IF(ISNUMBER(FIND(D12,Y11)),D12,D12&","&Y11) -> n02,n03,n04 | Z12: =IF(LEN(Y12)=3,"Y","") | AC12: =CONCATENATE(D12,E11) -> n02n03n04n06n02n05n01
A13: =CL!Q13 -> 2 | B13: =A13 -> 2 | C13: =TEXT(B13,"#00") -> 02 | D13: =CONCATENATE("n",C13) -> n02 | E13: =IFERROR(REPLACE(AC13, FIND(D13,AC13,2), 3, ""),D13) -> n02n03n04n06n05n01 | P13: =FIND(D13,E12,1)+2 -> 3 | Q13: =P13/3 -> 1 | R13: =ROUNDUP(SUM(Q13)/2,0) -> 1 | S13: =ROUNDUP(SUM(Q13)/3,0) -> 1 | T13: =ROUNDUP(SUM(Q13)/6,0) -> 1 | U13: =ROUNDUP(SUM(Q13)/12,0) -> 1 | V13: =ROUNDUP(SUM(Q13)/18.5,0) -> 1 | X13: =CONCATENATE(A13,":",Q13) -> 2:1 | Y13: =IF(ISNUMBER(FIND(D13,Y12)),D13,D13&","&Y12) -> n02 | Z13: =IF(LEN(Y13)=3,"Y","") -> Y | AC13: =CONCATENATE(D13,E12) -> n02n02n03n04n06n05n01
A14: =CL!Q14 -> 6 | B14: =A14 -> 6 | C14: =TEXT(B14,"#00") -> 06 | D14: =CONCATENATE("n",C14) -> n06 | E14: =IFERROR(REPLACE(AC14, FIND(D14,AC14,2), 3, ""),D14) -> n06n02n03n04n05n01 | P14: =FIND(D14,E13,1)+2 -> 12 | Q14: =P14/3 -> 4 | R14: =ROUNDUP(SUM(Q14)/2,0) -> 2 | S14: =ROUNDUP(SUM(Q14)/3,0) -> 2 | T14: =ROUNDUP(SUM(Q14)/6,0) -> 1 | U14: =ROUNDUP(SUM(Q14)/12,0) -> 1 | V14: =ROUNDUP(SUM(Q14)/18.5,0) -> 1 | X14: =CONCATENATE(A14,":",Q14) -> 6:4 | Y14: =IF(ISNUMBER(FIND(D14,Y13)),D14,D14&","&Y13) -> n06,n02 | Z14: =IF(LEN(Y14)=3,"Y","") | AC14: =CONCATENATE(D14,E13) -> n06n02n03n04n06n05n01
... A500: =CL!Q500 -> 1 | B500: =A500 -> 1 | C500: =TEXT(B500,"#00") -> 01 | D500: =CONCATENATE("n",C500) -> n01 | E500: =IFERROR(REPLACE(AC500, FIND(D500,AC500,2), 3, ""),D500) -> n01n04n06n05n02n03 | P500: =FIND(D500,E499,1)+2 -> 12 | Q500: =P500/3 -> 4 | R500: =ROUNDUP(SUM(Q500)/2,0) -> 2 | S500: =ROUNDUP(SUM(Q500)/3,0) -> 2 | T500: =ROUNDUP(SUM(Q500)/6,0) -> 1 | U500: =ROUNDUP(SUM(Q500)/12,0) -> 1 | V500: =ROUNDUP(SUM(Q500)/18.5,0) -> 1 | X500: =CONCATENATE(A500,":",Q500) -> 1:4 | Y500: =IF(ISNUMBER(FIND(D500,Y499)),D500,D500&","&Y499) -> n01,n04 | Z500: =IF(LEN(Y500)=3,"Y","") | AC500: =CONCATENATE(D500,E499) -> n01n04n06n05n01n02n03
