Workbook
Name ResetProg: '[1]anti-ktf'!$AN$5:$AN$15633

Sheet Rev-KTF
E1: Ordinal Gap | F1: Hit nrs | S1: Max | T1: Goal | U1: Spin | V1: Minto goal | W1: Prog | X1: Rep | Y1: Rep | Z1: Rep | AA1: Rep | AB1: Gap | AC1: Gap | AD1: Gap | AE1: Gap | AO1: Spin | AS1: Gap
A2: Spin | B2: Nrs | D2: Rep? | G2: start rep | H2: start spin | I2: wl | J2: pr | K2: net | L2: Total | N2: Parameters | S2: =MAX(S4:S102) -> 83 | T2: =T102 -> 54 | U2: =U102 -> 51 | V2: =V102 -> -453 | W2: =W102 -> 11 | X2: 1 | Y2: 2 | Z2: 3 | AA2: 4 | AB2: 1 | AC2: 2 | AD2: 3 | AE2: 4 | AJ2: Goal | AK2: at spin | AL2: min. to goal | AM2: Max prog to goal | AN2: End | AO2: Rep1 | AP2: Rep2 | AQ2: Rep3 | AR2: Rep4 | AS2: Rep1 | AT2: Rep2 | AU2: Rep3 | AV2: Rep4
A3: 1 | B3: =RANDBETWEEN(1,37) -> 12 | C3: 0 | D3: =IF(C3>0,"R","") | F3: 0 | N3: Base unit | O3: 1 | Q3: KTF | AH3: Yes | AJ3: =R4 -> 54 | AK3: =R5 -> 51 | AL3: =R7 -> -453 | AM3: =R6 -> 11 | AN3: =L102 -> -330 | AO3: =X102 -> 5 | AP3: =Y102 -> 7 | AQ3: =Z102 -> 12 | AR3: =AA102 -> 17 | AS3: =AB102 -> 1 | AT3: =AC102 -> 4 | AU3: =AD102 -> 7 | AV3: =AE102 -> 2
A4: 2 | B4: =RANDBETWEEN(1,37) -> 35 | C4: =IF(B4="","",COUNTIF($B$3:B3,B4)) -> 0 | D4: =IF(B4="","",IF(C4>0,"R","")) | E4: =IF(B4="","",'Dynamic Ordinal tracker'!C3) | F4: =IF(B4="","",IF(C3=0,F3+1,F3)) -> 1 | G4: =IF(B4="","",IF(COUNTIFS(D$3:D3,"R")<O$13,0,1)) -> 1 | H4: =IF(B4="","",IF(A4>=O$12,1,0)) -> 0 | I4: =IF(B4="","",IF(H4*G4=0,"",IF(C4=0,-1,1))) | J4: =IF(B4="","",IF(G4*H4=0,"",IF(AND(G4*H4=1,G3*H3=0),1,IF(AND(O$6="No",I3=1,J3=1),1,IF(AND(O$6="Yes",I3=-1),J3,IF(AND(O9="Exponent",I3=1,O$6="Yes"),J3*O$10,IF(AND(O9="+/-",I3=1,O$6="Yes"),J3+O$10,IF(AND(O$9="+/-",I3=1),J3-O$11,IF(AND(O$9="+/-",I3=-1,O$6="No"),J3+O$10,IF(AND(O$9="Exponent",I3=1),J3/O$11,IF(AND(O$9="Exponent",I3=-1,O$6="No"),J3*O$10))))))))))) | K4: =IF(B4="","",IF(H4*G4=0,0,IF(I4=1,(36-F4)*J4*$O$3,IF(I4=-1,J4*I4*F4*$O$3)))) -> 0 | L4: =IF(B4="","",IF(A4<$O$12,0,K4+L3)) -> 0 | M4: =IF(AND(L4>=$O$4,MAX(L$3:L3)<$O$4),"KTF","") | N4: Goal | O4: 50 | Q4: Goal | R4: =IF(T2="",L102,T2) -> 54 | X4: =IF(X3<>"",X3,IF(COUNTIFS($D$3:$D4,"R")=X$2,$A4,"")) | Y4: =IF(Y3<>"",Y3,IF(COUNTIFS($D$3:$D4,"R")=Y$2,$A4,"")) | Z4: =IF(Z3<>"",Z3,IF(COUNTIFS($D$3:$D4,"R")=Z$2,$A4,"")) | AA4: =IF(AA3<>"",AA3,IF(COUNTIFS($D$3:$D4,"R")=AA$2,$A4,"")) | AB4: =IF(AB3<>"",AB3,IF(COUNTIFS($D$3:$D4,"R")=AB$2,$E4,"")) | AC4: =IF(AC3<>"",AC3,IF(COUNTIFS($D$3:$D4,"R")=AC$2,$E4,"")) | AD4: =IF(AD3<>"",AD3,IF(COUNTIFS($D$3:$D4,"R")=AD$2,$E4,"")) | AE4: =IF(AE3<>"",AE3,IF(COUNTIFS($D$3:$D4,"R")=AE$2,$E4,"")) | AH4: No | AJ4: 75 | AK4: 28 | AL4: -59 | AM4: 3 | AN4: -1320 | AO4: 6 | AP4: 7 | AQ4: 11 | AR4: 19 | AS4: 1 | AT4: 3 | AU4: 2 | AV4: 2
A5: 3 | B5: =RANDBETWEEN(1,37) -> 28 | C5: =IF(B5="","",COUNTIF($B$3:B4,B5)) -> 0 | D5: =IF(B5="","",IF(C5>0,"R","")) | E5: =IF(B5="","",'Dynamic Ordinal tracker'!C4) | F5: =IF(B5="","",IF(C4=0,F4+1,F4)) -> 2 | G5: =IF(B5="","",IF(COUNTIFS(D$3:D4,"R")<O$13,0,1)) -> 1 | H5: =IF(B5="","",IF(A5>=O$12,1,0)) -> 0 | I5: =IF(B5="","",IF(H5*G5=0,"",IF(C5=0,-1,1))) | J5: =IF(B5="","",IF(G5*H5=0,"",IF(AND(G5*H5=1,G4*H4=0),1,IF(AND(O$6="No",I4=1,J4=1),1,IF(AND(O$6="Yes",I4=-1),J4,IF(AND(O9="+/-",I4=1,O$6="Yes"),J4+O$10,IF(AND(O9="Exponent",I4=1,O$6="Yes"),J4*O$10,IF(AND(O$9="+/-",I4=1),J4-O$11,IF(AND(O$9="+/-",I4=-1,O$6="No"),J4+O$10,IF(AND(O$9="Exponent",I4=1),J4/O$11,IF(AND(O$9="Exponent",I4=-1,O$6="No"),J4*O$10))))))))))) | K5: =IF(B5="","",IF(H5*G5=0,0,IF(I5=1,(36-F5)*J5*$O$3,IF(I5=-1,J5*I5*F5*$O$3)))) -> 0 | L5: =IF(B5="","",IF(A5<$O$12,0,K5+L4)) -> 0 | M5: =IF(I5="","",IF(AND(L5>=$O$4,MAX(L$3:L4)<$O$4),"KTF","")) | N5: Stop-loss | O5: -5000 | Q5: Spin | R5: =IF(U2="",A102,U2) -> 51 | S5: =IF(L5>S4,L5,S4) -> 0 | T5: =IF(T4<>"",T4,IF(AND(T4="",L5<=O$5),L5,IF(M5="KTF",L5,""))) | U5: =IF(U4<>"",U4,IF(T5<>"",A5,"")) | V5: =IF(V4<>"",V4,IF(U5<>"",MIN(L$4:L4),"")) | W5: =IF(W4<>"",W4,IF(V5<>"",MAX(J$4:J5),"")) | X5: =IF(X4<>"",X4,IF(COUNTIFS($D$3:$D5,"R")=X$2,$A5,"")) | Y5: =IF(Y4<>"",Y4,IF(COUNTIFS($D$3:$D5,"R")=Y$2,$A5,"")) | Z5: =IF(Z4<>"",Z4,IF(COUNTIFS($D$3:$D5,"R")=Z$2,$A5,"")) | AA5: =IF(AA4<>"",AA4,IF(COUNTIFS($D$3:$D5,"R")=AA$2,$A5,"")) | AB5: =IF(AB4<>"",AB4,IF(COUNTIFS($D$3:$D5,"R")=AB$2,$E5,"")) | AC5: =IF(AC4<>"",AC4,IF(COUNTIFS($D$3:$D5,"R")=AC$2,$E5,"")) | AD5: =IF(AD4<>"",AD4,IF(COUNTIFS($D$3:$D5,"R")=AD$2,$E5,"")) | AE5: =IF(AE4<>"",AE4,IF(COUNTIFS($D$3:$D5,"R")=AE$2,$E5,"")) | AH5: Exponent | AI5: Sum | AJ5: =SUM(AJ9:AJ2348) -> 2654 | AN5: =SUM(AN9:AN2348) -> -24588
A6: 4 | B6: =RANDBETWEEN(1,37) -> 7 | C6: =IF(B6="","",COUNTIF($B$3:B5,B6)) -> 0 | D6: =IF(B6="","",IF(C6>0,"R","")) | E6: =IF(B6="","",'Dynamic Ordinal tracker'!C5) | F6: =IF(B6="","",IF(C5=0,F5+1,F5)) -> 3 | G6: =IF(B6="","",IF(COUNTIFS(D$3:D5,"R")<O$13,0,1)) -> 1 | H6: =IF(B6="","",IF(A6>=O$12,1,0)) -> 0 | I6: =IF(B6="","",IF(H6*G6=0,"",IF(C6=0,-1,1))) | J6: =IF(B6="","",IF(F6>=36,0,IF(G6*H6=0,"",IF(AND(G6*H6=1,G5*H5=0),1,IF(AND(O$6="Yes",O$8="No",S5>S4,J5=1,I5=1),1,IF(AND(O$6="No",I5=1,J5=1),1,IF(AND(O$6="Yes",I5=-1),J5,IF(AND(S5=S4,I5=1,O$9="+/-",O$6="Yes"),J5+O$10,IF(AND(S5=S4,I5=1,O$9="Exponent",O$6="Yes"),J5*O$10,IF(AND(S5>S4,O$8="Yes"),1,IF(AND(O$9="+/-",I5=1),J5-O$11,IF(AND(O$9="+/-",I5=-1,O$6="No"),J5+O$10,IF(AND(O$9="Exponent",I5=1),J5/O$11,IF(AND(O$9="Exponent",I5=-1,O$6="No"),J5*O$10)))))))))))))) | K6: =IF(B6="","",IF(H6*G6=0,0,IF(I6=1,(36-F6)*J6*$O$3,IF(I6=-1,J6*I6*F6*$O$3)))) -> 0 | L6: =IF(B6="","",IF(A6<$O$12,0,K6+L5)) -> 0 | M6: =IF(I6="","",IF(AND(L6>=$O$4,MAX(L$3:L5)<$O$4),"KTF","")) | N6: Rise prog only after win, if no new high? | O6: Yes | Q6: Prog to goal | R6: =IF(W2="",MAX(J5:J102),W2) -> 11 | S6: =IF(L6>S5,L6,S5) -> 0 | T6: =IF(T5<>"",T5,IF(AND(T5="",L6<=O$5),L6,IF(M6="KTF",L6,""))) | U6: =IF(U5<>"",U5,IF(T6<>"",A6,"")) | V6: =IF(V5<>"",V5,IF(U6<>"",MIN(L$4:L5),"")) | W6: =IF(W5<>"",W5,IF(V6<>"",MAX(J$4:J6),"")) | X6: =IF(X5<>"",X5,IF(COUNTIFS($D$3:$D6,"R")=X$2,$A6,"")) | Y6: =IF(Y5<>"",Y5,IF(COUNTIFS($D$3:$D6,"R")=Y$2,$A6,"")) | Z6: =IF(Z5<>"",Z5,IF(COUNTIFS($D$3:$D6,"R")=Z$2,$A6,"")) | AA6: =IF(AA5<>"",AA5,IF(COUNTIFS($D$3:$D6,"R")=AA$2,$A6,"")) | AB6: =IF(AB5<>"",AB5,IF(COUNTIFS($D$3:$D6,"R")=AB$2,$E6,"")) | AC6: =IF(AC5<>"",AC5,IF(COUNTIFS($D$3:$D6,"R")=AC$2,$E6,"")) | AD6: =IF(AD5<>"",AD5,IF(COUNTIFS($D$3:$D6,"R")=AD$2,$E6,"")) | AE6: =IF(AE5<>"",AE5,IF(COUNTIFS($D$3:$D6,"R")=AE$2,$E6,"")) | AH6: ="+/-" -> +/- | AI6: Min | AJ6: =MIN(AJ9:AJ2348) -> 50 | AK6: =MIN(AK9:AK2348) -> 16 | AL6: =MIN(AL9:AL2348) -> -1890 | AM6: =MIN(AM9:AM2348) -> 1 | AN6: =MIN(AN9:AN2348) -> -4446 | AO6: =MIN(AO9:AO2348) -> 2 | AP6: =MIN(AP9:AP2348) -> 5 | AQ6: =MIN(AQ9:AQ2348) -> 8 | ... AV6: =MIN(AV9:AV2348) -> 1
A7: 5 | B7: =RANDBETWEEN(1,37) -> 7 | C7: =IF(B7="","",COUNTIF($B$3:B6,B7)) -> 1 | D7: =IF(B7="","",IF(C7>0,"R","")) -> R | E7: =IF(B7="","",'Dynamic Ordinal tracker'!C6) -> 1 | F7: =IF(B7="","",IF(C6=0,F6+1,F6)) -> 4 | G7: =IF(B7="","",IF(COUNTIFS(D$3:D6,"R")<O$13,0,1)) -> 1 | H7: =IF(B7="","",IF(A7>=O$12,1,0)) -> 0 | I7: =IF(B7="","",IF(H7*G7=0,"",IF(C7=0,-1,1))) | J7: =IF(B7="","",IF(F7>=36,0,IF(G7*H7=0,"",IF(AND(G7*H7=1,G6*H6=0),1,IF(AND(O$6="Yes",O$8="No",S6>S5,J6=1,I6=1),1,IF(AND(O$6="No",I6=1,J6=1),1,IF(AND(O$6="Yes",I6=-1),J6,IF(AND(S6=S5,I6=1,O$9="+/-",O$6="Yes"),J6+O$10,IF(AND(S6=S5,I6=1,O$9="Exponent",O$6="Yes"),J6*O$10,IF(AND(S6>S5,O$8="Yes"),1,IF(AND(O$9="+/-",I6=1),J6-O$11,IF(AND(O$9="+/-",I6=-1,O$6="No"),J6+O$10,IF(AND(O$9="Exponent",I6=1),J6/O$11,IF(AND(O$9="Exponent",I6=-1,O$6="No"),J6*O$10)))))))))))))) | K7: =IF(B7="","",IF(H7*G7=0,0,IF(I7=1,(36-F7)*J7*$O$3,IF(I7=-1,J7*I7*F7*$O$3)))) -> 0 | L7: =IF(B7="","",IF(A7<$O$12,0,K7+L6)) -> 0 | M7: =IF(I7="","",IF(AND(L7>=$O$4,MAX(L$3:L6)<$O$4),"KTF","")) | Q7: Min to goal | R7: =IF(V2="",MIN(L3:L102),V2) -> -453 | S7: =IF(L7>S6,L7,S6) -> 0 | T7: =IF(T6<>"",T6,IF(AND(T6="",L7<=O$5),L7,IF(M7="KTF",L7,""))) | U7: =IF(U6<>"",U6,IF(T7<>"",A7,"")) | V7: =IF(V6<>"",V6,IF(U7<>"",MIN(L$4:L6),"")) | W7: =IF(W6<>"",W6,IF(V7<>"",MAX(J$4:J7),"")) | X7: =IF(X6<>"",X6,IF(COUNTIFS($D$3:$D7,"R")=X$2,$A7,"")) -> 5 | Y7: =IF(Y6<>"",Y6,IF(COUNTIFS($D$3:$D7,"R")=Y$2,$A7,"")) | Z7: =IF(Z6<>"",Z6,IF(COUNTIFS($D$3:$D7,"R")=Z$2,$A7,"")) | AA7: =IF(AA6<>"",AA6,IF(COUNTIFS($D$3:$D7,"R")=AA$2,$A7,"")) | AB7: =IF(AB6<>"",AB6,IF(COUNTIFS($D$3:$D7,"R")=AB$2,$E7,"")) -> 1 | AC7: =IF(AC6<>"",AC6,IF(COUNTIFS($D$3:$D7,"R")=AC$2,$E7,"")) | AD7: =IF(AD6<>"",AD6,IF(COUNTIFS($D$3:$D7,"R")=AD$2,$E7,"")) | AE7: =IF(AE6<>"",AE6,IF(COUNTIFS($D$3:$D7,"R")=AE$2,$E7,"")) | AI7: Max | AJ7: =MAX(AJ9:AJ2348) -> 155 | AK7: =MAX(AK9:AK2348) -> 83 | AL7: =MAX(AL9:AL2348) -> 0 | AM7: =MAX(AM9:AM2348) -> 46 | AN7: =MAX(AN9:AN2348) -> 398 | AO7: =MAX(AO9:AO2348) -> 19 | AP7: =MAX(AP9:AP2348) -> 20 | AQ7: =MAX(AQ9:AQ2348) -> 23 | ... AV7: =MAX(AV9:AV2348) -> 19
A8: 6 | B8: =RANDBETWEEN(1,37) -> 37 | C8: =IF(B8="","",COUNTIF($B$3:B7,B8)) -> 0 | D8: =IF(B8="","",IF(C8>0,"R","")) | E8: =IF(B8="","",'Dynamic Ordinal tracker'!C7) | F8: =IF(B8="","",IF(C7=0,F7+1,F7)) -> 4 | G8: =IF(B8="","",IF(COUNTIFS(D$3:D7,"R")<O$13,0,1)) -> 1 | H8: =IF(B8="","",IF(A8>=O$12,1,0)) -> 0 | I8: =IF(B8="","",IF(H8*G8=0,"",IF(C8=0,-1,1))) | J8: =IF(B8="","",IF(F8>=36,0,IF(G8*H8=0,"",IF(AND(G8*H8=1,G7*H7=0),1,IF(AND(O$6="Yes",O$8="No",S7>S6,J7=1,I7=1),1,IF(AND(O$6="No",I7=1,J7=1),1,IF(AND(O$6="Yes",I7=-1),J7,IF(AND(S7=S6,I7=1,O$9="+/-",O$6="Yes"),J7+O$10,IF(AND(S7=S6,I7=1,O$9="Exponent",O$6="Yes"),J7*O$10,IF(AND(S7>S6,O$8="Yes"),1,IF(AND(O$9="+/-",I7=1),J7-O$11,IF(AND(O$9="+/-",I7=-1,O$6="No"),J7+O$10,IF(AND(O$9="Exponent",I7=1),J7/O$11,IF(AND(O$9="Exponent",I7=-1,O$6="No"),J7*O$10)))))))))))))) | K8: =IF(B8="","",IF(H8*G8=0,0,IF(I8=1,(36-F8)*J8*$O$3,IF(I8=-1,J8*I8*F8*$O$3)))) -> 0 | L8: =IF(B8="","",IF(A8<$O$12,0,K8+L7)) -> 0 | M8: =IF(I8="","",IF(AND(L8>=$O$4,MAX(L$3:L7)<$O$4),"KTF","")) | N8: Reset at new high? | O8: Yes | S8: =IF(L8>S7,L8,S7) -> 0 | T8: =IF(T7<>"",T7,IF(AND(T7="",L8<=O$5),L8,IF(M8="KTF",L8,""))) | U8: =IF(U7<>"",U7,IF(T8<>"",A8,"")) | V8: =IF(V7<>"",V7,IF(U8<>"",MIN(L$4:L7),"")) | W8: =IF(W7<>"",W7,IF(V8<>"",MAX(J$4:J8),"")) | X8: =IF(X7<>"",X7,IF(COUNTIFS($D$3:$D8,"R")=X$2,$A8,"")) -> 5 | Y8: =IF(Y7<>"",Y7,IF(COUNTIFS($D$3:$D8,"R")=Y$2,$A8,"")) | Z8: =IF(Z7<>"",Z7,IF(COUNTIFS($D$3:$D8,"R")=Z$2,$A8,"")) | AA8: =IF(AA7<>"",AA7,IF(COUNTIFS($D$3:$D8,"R")=AA$2,$A8,"")) | AB8: =IF(AB7<>"",AB7,IF(COUNTIFS($D$3:$D8,"R")=AB$2,$E8,"")) -> 1 | AC8: =IF(AC7<>"",AC7,IF(COUNTIFS($D$3:$D8,"R")=AC$2,$E8,"")) | AD8: =IF(AD7<>"",AD7,IF(COUNTIFS($D$3:$D8,"R")=AD$2,$E8,"")) | AE8: =IF(AE7<>"",AE7,IF(COUNTIFS($D$3:$D8,"R")=AE$2,$E8,"")) | AI8: Average | AJ8: =AVERAGE(AJ9:AJ2348) -> 64.731707 | AK8: =AVERAGE(AK9:AK2348) -> 31.219512 | AL8: =AVERAGE(AL9:AL2348) -> -238.41463 | AM8: =AVERAGE(AM9:AM2348) -> 6.8292683 | AN8: =AVERAGE(AN9:AN2348) -> -599.70732 | AO8: =AVERAGE(AO9:AO2348) -> 9.097561 | AP8: =AVERAGE(AP9:AP2348) -> 12.487805 | AQ8: =AVERAGE(AQ9:AQ2348) -> 15.512195 | ... AV8: =AVERAGE(AV9:AV2348) -> 7.0243902
A9: 7 | B9: =RANDBETWEEN(1,37) -> 35 | C9: =IF(B9="","",COUNTIF($B$3:B8,B9)) -> 1 | D9: =IF(B9="","",IF(C9>0,"R","")) -> R | E9: =IF(B9="","",'Dynamic Ordinal tracker'!C8) -> 4 | F9: =IF(B9="","",IF(C8=0,F8+1,F8)) -> 5 | G9: =IF(B9="","",IF(COUNTIFS(D$3:D8,"R")<O$13,0,1)) -> 1 | H9: =IF(B9="","",IF(A9>=O$12,1,0)) -> 0 | I9: =IF(B9="","",IF(H9*G9=0,"",IF(C9=0,-1,1))) | J9: =IF(B9="","",IF(F9>=36,0,IF(G9*H9=0,"",IF(AND(G9*H9=1,G8*H8=0),1,IF(AND(O$6="Yes",O$8="No",S8>S7,J8=1,I8=1),1,IF(AND(O$6="No",I8=1,J8=1),1,IF(AND(O$6="Yes",I8=-1),J8,IF(AND(S8=S7,I8=1,O$9="+/-",O$6="Yes"),J8+O$10,IF(AND(S8=S7,I8=1,O$9="Exponent",O$6="Yes"),J8*O$10,IF(AND(S8>S7,O$8="Yes"),1,IF(AND(O$9="+/-",I8=1),J8-O$11,IF(AND(O$9="+/-",I8=-1,O$6="No"),J8+O$10,IF(AND(O$9="Exponent",I8=1),J8/O$11,IF(AND(O$9="Exponent",I8=-1,O$6="No"),J8*O$10)))))))))))))) | K9: =IF(B9="","",IF(H9*G9=0,0,IF(I9=1,(36-F9)*J9*$O$3,IF(I9=-1,J9*I9*F9*$O$3)))) -> 0 | L9: =IF(B9="","",IF(A9<$O$12,0,K9+L8)) -> 0 | M9: =IF(I9="","",IF(AND(L9>=$O$4,MAX(L$3:L8)<$O$4),"KTF","")) | N9: Prog type | O9: +/- | Q9: Rep stats | S9: =IF(L9>S8,L9,S8) -> 0 | T9: =IF(T8<>"",T8,IF(AND(T8="",L9<=O$5),L9,IF(M9="KTF",L9,""))) | U9: =IF(U8<>"",U8,IF(T9<>"",A9,"")) | V9: =IF(V8<>"",V8,IF(U9<>"",MIN(L$4:L8),"")) | W9: =IF(W8<>"",W8,IF(V9<>"",MAX(J$4:J9),"")) | X9: =IF(X8<>"",X8,IF(COUNTIFS($D$3:$D9,"R")=X$2,$A9,"")) -> 5 | Y9: =IF(Y8<>"",Y8,IF(COUNTIFS($D$3:$D9,"R")=Y$2,$A9,"")) -> 7 | Z9: =IF(Z8<>"",Z8,IF(COUNTIFS($D$3:$D9,"R")=Z$2,$A9,"")) | AA9: =IF(AA8<>"",AA8,IF(COUNTIFS($D$3:$D9,"R")=AA$2,$A9,"")) | AB9: =IF(AB8<>"",AB8,IF(COUNTIFS($D$3:$D9,"R")=AB$2,$E9,"")) -> 1 | AC9: =IF(AC8<>"",AC8,IF(COUNTIFS($D$3:$D9,"R")=AC$2,$E9,"")) -> 4 | AD9: =IF(AD8<>"",AD8,IF(COUNTIFS($D$3:$D9,"R")=AD$2,$E9,"")) | AE9: =IF(AE8<>"",AE8,IF(COUNTIFS($D$3:$D9,"R")=AE$2,$E9,""))
A10: 8 | B10: =RANDBETWEEN(1,37) -> 3 | C10: =IF(B10="","",COUNTIF($B$3:B9,B10)) -> 0 | D10: =IF(B10="","",IF(C10>0,"R","")) | E10: =IF(B10="","",'Dynamic Ordinal tracker'!C9) | F10: =IF(B10="","",IF(C9=0,F9+1,F9)) -> 5 | G10: =IF(B10="","",IF(COUNTIFS(D$3:D9,"R")<O$13,0,1)) -> 1 | H10: =IF(B10="","",IF(A10>=O$12,1,0)) -> 0 | I10: =IF(B10="","",IF(H10*G10=0,"",IF(C10=0,-1,1))) | J10: =IF(B10="","",IF(F10>=36,0,IF(G10*H10=0,"",IF(AND(G10*H10=1,G9*H9=0),1,IF(AND(O$6="Yes",O$8="No",S9>S8,J9=1,I9=1),1,IF(AND(O$6="No",I9=1,J9=1),1,IF(AND(O$6="Yes",I9=-1),J9,IF(AND(S9=S8,I9=1,O$9="+/-",O$6="Yes"),J9+O$10,IF(AND(S9=S8,I9=1,O$9="Exponent",O$6="Yes"),J9*O$10,IF(AND(S9>S8,O$8="Yes"),1,IF(AND(O$9="+/-",I9=1),J9-O$11,IF(AND(O$9="+/-",I9=-1,O$6="No"),J9+O$10,IF(AND(O$9="Exponent",I9=1),J9/O$11,IF(AND(O$9="Exponent",I9=-1,O$6="No"),J9*O$10)))))))))))))) | K10: =IF(B10="","",IF(H10*G10=0,0,IF(I10=1,(36-F10)*J10*$O$3,IF(I10=-1,J10*I10*F10*$O$3)))) -> 0 | L10: =IF(B10="","",IF(A10<$O$12,0,K10+L9)) -> 0 | M10: =IF(I10="","",IF(AND(L10>=$O$4,MAX(L$3:L9)<$O$4),"KTF","")) | N10: Prog. + | O10: 1 | Q10: Rep1 spin | R10: =AO3 -> 5 | S10: =IF(L10>S9,L10,S9) -> 0 | T10: =IF(T9<>"",T9,IF(AND(T9="",L10<=O$5),L10,IF(M10="KTF",L10,""))) | U10: =IF(U9<>"",U9,IF(T10<>"",A10,"")) | V10: =IF(V9<>"",V9,IF(U10<>"",MIN(L$4:L9),"")) | W10: =IF(W9<>"",W9,IF(V10<>"",MAX(J$4:J10),"")) | X10: =IF(X9<>"",X9,IF(COUNTIFS($D$3:$D10,"R")=X$2,$A10,"")) -> 5 | Y10: =IF(Y9<>"",Y9,IF(COUNTIFS($D$3:$D10,"R")=Y$2,$A10,"")) -> 7 | Z10: =IF(Z9<>"",Z9,IF(COUNTIFS($D$3:$D10,"R")=Z$2,$A10,"")) | AA10: =IF(AA9<>"",AA9,IF(COUNTIFS($D$3:$D10,"R")=AA$2,$A10,"")) | AB10: =IF(AB9<>"",AB9,IF(COUNTIFS($D$3:$D10,"R")=AB$2,$E10,"")) -> 1 | AC10: =IF(AC9<>"",AC9,IF(COUNTIFS($D$3:$D10,"R")=AC$2,$E10,"")) -> 4 | AD10: =IF(AD9<>"",AD9,IF(COUNTIFS($D$3:$D10,"R")=AD$2,$E10,"")) | AE10: =IF(AE9<>"",AE9,IF(COUNTIFS($D$3:$D10,"R")=AE$2,$E10,"")) | AJ10: 75 | AK10: 28 | AL10: -59 | AM10: 3 | AN10: -1320 | AO10: 6 | AP10: 7 | AQ10: 11 | AR10: 19 | AS10: 1 | AT10: 3 | AU10: 2 | AV10: 2
A11: 9 | B11: =RANDBETWEEN(1,37) -> 1 | C11: =IF(B11="","",COUNTIF($B$3:B10,B11)) -> 0 | D11: =IF(B11="","",IF(C11>0,"R","")) | E11: =IF(B11="","",'Dynamic Ordinal tracker'!C10) | F11: =IF(B11="","",IF(C10=0,F10+1,F10)) -> 6 | G11: =IF(B11="","",IF(COUNTIFS(D$3:D10,"R")<O$13,0,1)) -> 1 | H11: =IF(B11="","",IF(A11>=O$12,1,0)) -> 0 | I11: =IF(B11="","",IF(H11*G11=0,"",IF(C11=0,-1,1))) | J11: =IF(B11="","",IF(F11>=36,0,IF(G11*H11=0,"",IF(AND(G11*H11=1,G10*H10=0),1,IF(AND(O$6="Yes",O$8="No",S10>S9,J10=1,I10=1),1,IF(AND(O$6="No",I10=1,J10=1),1,IF(AND(O$6="Yes",I10=-1),J10,IF(AND(S10=S9,I10=1,O$9="+/-",O$6="Yes"),J10+O$10,IF(AND(S10=S9,I10=1,O$9="Exponent",O$6="Yes"),J10*O$10,IF(AND(S10>S9,O$8="Yes"),1,IF(AND(O$9="+/-",I10=1),J10-O$11,IF(AND(O$9="+/-",I10=-1,O$6="No"),J10+O$10,IF(AND(O$9="Exponent",I10=1),J10/O$11,IF(AND(O$9="Exponent",I10=-1,O$6="No"),J10*O$10)))))))))))))) | K11: =IF(B11="","",IF(H11*G11=0,0,IF(I11=1,(36-F11)*J11*$O$3,IF(I11=-1,J11*I11*F11*$O$3)))) -> 0 | L11: =IF(B11="","",IF(A11<$O$12,0,K11+L10)) -> 0 | M11: =IF(I11="","",IF(AND(L11>=$O$4,MAX(L$3:L10)<$O$4),"KTF","")) | N11: Prog. - | O11: 1 | Q11: Rep2 spin | R11: =AP3 -> 7 | S11: =IF(L11>S10,L11,S10) -> 0 | T11: =IF(T10<>"",T10,IF(AND(T10="",L11<=O$5),L11,IF(M11="KTF",L11,""))) | U11: =IF(U10<>"",U10,IF(T11<>"",A11,"")) | V11: =IF(V10<>"",V10,IF(U11<>"",MIN(L$4:L10),"")) | W11: =IF(W10<>"",W10,IF(V11<>"",MAX(J$4:J11),"")) | X11: =IF(X10<>"",X10,IF(COUNTIFS($D$3:$D11,"R")=X$2,$A11,"")) -> 5 | Y11: =IF(Y10<>"",Y10,IF(COUNTIFS($D$3:$D11,"R")=Y$2,$A11,"")) -> 7 | Z11: =IF(Z10<>"",Z10,IF(COUNTIFS($D$3:$D11,"R")=Z$2,$A11,"")) | AA11: =IF(AA10<>"",AA10,IF(COUNTIFS($D$3:$D11,"R")=AA$2,$A11,"")) | AB11: =IF(AB10<>"",AB10,IF(COUNTIFS($D$3:$D11,"R")=AB$2,$E11,"")) -> 1 | AC11: =IF(AC10<>"",AC10,IF(COUNTIFS($D$3:$D11,"R")=AC$2,$E11,"")) -> 4 | AD11: =IF(AD10<>"",AD10,IF(COUNTIFS($D$3:$D11,"R")=AD$2,$E11,"")) | AE11: =IF(AE10<>"",AE10,IF(COUNTIFS($D$3:$D11,"R")=AE$2,$E11,"")) | AJ11: 72 | AK11: 50 | AL11: -369 | AM11: 13 | AN11: 269 | AO11: 19 | AP11: 20 | AQ11: 23 | AR11: 24 | AS11: 9 | AT11: 15 | AU11: 5 | AV11: 4
A12: 10 | B12: =RANDBETWEEN(1,37) -> 6 | C12: =IF(B12="","",COUNTIF($B$3:B11,B12)) -> 0 | D12: =IF(B12="","",IF(C12>0,"R","")) | E12: =IF(B12="","",'Dynamic Ordinal tracker'!C11) | F12: =IF(B12="","",IF(C11=0,F11+1,F11)) -> 7 | G12: =IF(B12="","",IF(COUNTIFS(D$3:D11,"R")<O$13,0,1)) -> 1 | H12: =IF(B12="","",IF(A12>=O$12,1,0)) -> 0 | I12: =IF(B12="","",IF(H12*G12=0,"",IF(C12=0,-1,1))) | J12: =IF(B12="","",IF(F12>=36,0,IF(G12*H12=0,"",IF(AND(G12*H12=1,G11*H11=0),1,IF(AND(O$6="Yes",O$8="No",S11>S10,J11=1,I11=1),1,IF(AND(O$6="No",I11=1,J11=1),1,IF(AND(O$6="Yes",I11=-1),J11,IF(AND(S11=S10,I11=1,O$9="+/-",O$6="Yes"),J11+O$10,IF(AND(S11=S10,I11=1,O$9="Exponent",O$6="Yes"),J11*O$10,IF(AND(S11>S10,O$8="Yes"),1,IF(AND(O$9="+/-",I11=1),J11-O$11,IF(AND(O$9="+/-",I11=-1,O$6="No"),J11+O$10,IF(AND(O$9="Exponent",I11=1),J11/O$11,IF(AND(O$9="Exponent",I11=-1,O$6="No"),J11*O$10)))))))))))))) | K12: =IF(B12="","",IF(H12*G12=0,0,IF(I12=1,(36-F12)*J12*$O$3,IF(I12=-1,J12*I12*F12*$O$3)))) -> 0 | L12: =IF(B12="","",IF(A12<$O$12,0,K12+L11)) -> 0 | M12: =IF(I12="","",IF(AND(L12>=$O$4,MAX(L$3:L11)<$O$4),"KTF","")) | N12: Start spin | O12: 15 | Q12: Rep3 spin | R12: =AQ3 -> 12 | S12: =IF(L12>S11,L12,S11) -> 0 | T12: =IF(T11<>"",T11,IF(AND(T11="",L12<=O$5),L12,IF(M12="KTF",L12,""))) | U12: =IF(U11<>"",U11,IF(T12<>"",A12,"")) | V12: =IF(V11<>"",V11,IF(U12<>"",MIN(L$4:L11),"")) | W12: =IF(W11<>"",W11,IF(V12<>"",MAX(J$4:J12),"")) | X12: =IF(X11<>"",X11,IF(COUNTIFS($D$3:$D12,"R")=X$2,$A12,"")) -> 5 | Y12: =IF(Y11<>"",Y11,IF(COUNTIFS($D$3:$D12,"R")=Y$2,$A12,"")) -> 7 | Z12: =IF(Z11<>"",Z11,IF(COUNTIFS($D$3:$D12,"R")=Z$2,$A12,"")) | AA12: =IF(AA11<>"",AA11,IF(COUNTIFS($D$3:$D12,"R")=AA$2,$A12,"")) | AB12: =IF(AB11<>"",AB11,IF(COUNTIFS($D$3:$D12,"R")=AB$2,$E12,"")) -> 1 | AC12: =IF(AC11<>"",AC11,IF(COUNTIFS($D$3:$D12,"R")=AC$2,$E12,"")) -> 4 | AD12: =IF(AD11<>"",AD11,IF(COUNTIFS($D$3:$D12,"R")=AD$2,$E12,"")) | AE12: =IF(AE11<>"",AE11,IF(COUNTIFS($D$3:$D12,"R")=AE$2,$E12,"")) | AJ12: 62 | AK12: 18 | AL12: 0 | AM12: 1 | AN12: 207 | AO12: 11 | AP12: 12 | AQ12: 14 | AR12: 15 | AS12: 1 | AT12: 5 | AU12: 5 | AV12: 8
A13: 11 | B13: =RANDBETWEEN(1,37) -> 8 | C13: =IF(B13="","",COUNTIF($B$3:B12,B13)) -> 0 | D13: =IF(B13="","",IF(C13>0,"R","")) | E13: =IF(B13="","",'Dynamic Ordinal tracker'!C12) | F13: =IF(B13="","",IF(C12=0,F12+1,F12)) -> 8 | G13: =IF(B13="","",IF(COUNTIFS(D$3:D12,"R")<O$13,0,1)) -> 1 | H13: =IF(B13="","",IF(A13>=O$12,1,0)) -> 0 | I13: =IF(B13="","",IF(H13*G13=0,"",IF(C13=0,-1,1))) | J13: =IF(B13="","",IF(F13>=36,0,IF(G13*H13=0,"",IF(AND(G13*H13=1,G12*H12=0),1,IF(AND(O$6="Yes",O$8="No",S12>S11,J12=1,I12=1),1,IF(AND(O$6="No",I12=1,J12=1),1,IF(AND(O$6="Yes",I12=-1),J12,IF(AND(S12=S11,I12=1,O$9="+/-",O$6="Yes"),J12+O$10,IF(AND(S12=S11,I12=1,O$9="Exponent",O$6="Yes"),J12*O$10,IF(AND(S12>S11,O$8="Yes"),1,IF(AND(O$9="+/-",I12=1),J12-O$11,IF(AND(O$9="+/-",I12=-1,O$6="No"),J12+O$10,IF(AND(O$9="Exponent",I12=1),J12/O$11,IF(AND(O$9="Exponent",I12=-1,O$6="No"),J12*O$10)))))))))))))) | K13: =IF(B13="","",IF(H13*G13=0,0,IF(I13=1,(36-F13)*J13*$O$3,IF(I13=-1,J13*I13*F13*$O$3)))) -> 0 | L13: =IF(B13="","",IF(A13<$O$12,0,K13+L12)) -> 0 | M13: =IF(I13="","",IF(AND(L13>=$O$4,MAX(L$3:L12)<$O$4),"KTF","")) | N13: Start after repeater | O13: 0 | Q13: Rep4 spin | R13: =AR3 -> 17 | S13: =IF(L13>S12,L13,S12) -> 0 | T13: =IF(T12<>"",T12,IF(AND(T12="",L13<=O$5),L13,IF(M13="KTF",L13,""))) | U13: =IF(U12<>"",U12,IF(T13<>"",A13,"")) | V13: =IF(V12<>"",V12,IF(U13<>"",MIN(L$4:L12),"")) | W13: =IF(W12<>"",W12,IF(V13<>"",MAX(J$4:J13),"")) | X13: =IF(X12<>"",X12,IF(COUNTIFS($D$3:$D13,"R")=X$2,$A13,"")) -> 5 | Y13: =IF(Y12<>"",Y12,IF(COUNTIFS($D$3:$D13,"R")=Y$2,$A13,"")) -> 7 | Z13: =IF(Z12<>"",Z12,IF(COUNTIFS($D$3:$D13,"R")=Z$2,$A13,"")) | AA13: =IF(AA12<>"",AA12,IF(COUNTIFS($D$3:$D13,"R")=AA$2,$A13,"")) | AB13: =IF(AB12<>"",AB12,IF(COUNTIFS($D$3:$D13,"R")=AB$2,$E13,"")) -> 1 | AC13: =IF(AC12<>"",AC12,IF(COUNTIFS($D$3:$D13,"R")=AC$2,$E13,"")) -> 4 | AD13: =IF(AD12<>"",AD12,IF(COUNTIFS($D$3:$D13,"R")=AD$2,$E13,"")) | AE13: =IF(AE12<>"",AE12,IF(COUNTIFS($D$3:$D13,"R")=AE$2,$E13,"")) | AJ13: 54 | AK13: 18 | AL13: 0 | AM13: 1 | AN13: -3174 | AO13: 14 | AP13: 15 | AQ13: 17 | AR13: 18 | AS13: 2 | AT13: 13 | AU13: 2 | AV13: 1
A14: 12 | B14: =RANDBETWEEN(1,37) -> 7 | C14: =IF(B14="","",COUNTIF($B$3:B13,B14)) -> 2 | D14: =IF(B14="","",IF(C14>0,"R","")) -> R | E14: =IF(B14="","",'Dynamic Ordinal tracker'!C13) -> 7 | F14: =IF(B14="","",IF(C13=0,F13+1,F13)) -> 9 | G14: =IF(B14="","",IF(COUNTIFS(D$3:D13,"R")<O$13,0,1)) -> 1 | H14: =IF(B14="","",IF(A14>=O$12,1,0)) -> 0 | I14: =IF(B14="","",IF(H14*G14=0,"",IF(C14=0,-1,1))) | J14: =IF(B14="","",IF(F14>=36,0,IF(G14*H14=0,"",IF(AND(G14*H14=1,G13*H13=0),1,IF(AND(O$6="Yes",O$8="No",S13>S12,J13=1,I13=1),1,IF(AND(O$6="No",I13=1,J13=1),1,IF(AND(O$6="Yes",I13=-1),J13,IF(AND(S13=S12,I13=1,O$9="+/-",O$6="Yes"),J13+O$10,IF(AND(S13=S12,I13=1,O$9="Exponent",O$6="Yes"),J13*O$10,IF(AND(S13>S12,O$8="Yes"),1,IF(AND(O$9="+/-",I13=1),J13-O$11,IF(AND(O$9="+/-",I13=-1,O$6="No"),J13+O$10,IF(AND(O$9="Exponent",I13=1),J13/O$11,IF(AND(O$9="Exponent",I13=-1,O$6="No"),J13*O$10)))))))))))))) | K14: =IF(B14="","",IF(H14*G14=0,0,IF(I14=1,(36-F14)*J14*$O$3,IF(I14=-1,J14*I14*F14*$O$3)))) -> 0 | L14: =IF(B14="","",IF(A14<$O$12,0,K14+L13)) -> 0 | M14: =IF(I14="","",IF(AND(L14>=$O$4,MAX(L$3:L13)<$O$4),"KTF","")) | S14: =IF(F14=0,"",IF(L14>S13,L14,S13)) -> 0 | T14: =IF(T13<>"",T13,IF(AND(T13="",L14<=O$5),L14,IF(M14="KTF",L14,""))) | U14: =IF(U13<>"",U13,IF(T14<>"",A14,"")) | V14: =IF(V13<>"",V13,IF(U14<>"",MIN(L$4:L13),"")) | W14: =IF(W13<>"",W13,IF(V14<>"",MAX(J$4:J14),"")) | X14: =IF(X13<>"",X13,IF(COUNTIFS($D$3:$D14,"R")=X$2,$A14,"")) -> 5 | Y14: =IF(Y13<>"",Y13,IF(COUNTIFS($D$3:$D14,"R")=Y$2,$A14,"")) -> 7 | Z14: =IF(Z13<>"",Z13,IF(COUNTIFS($D$3:$D14,"R")=Z$2,$A14,"")) -> 12 | AA14: =IF(AA13<>"",AA13,IF(COUNTIFS($D$3:$D14,"R")=AA$2,$A14,"")) | AB14: =IF(AB13<>"",AB13,IF(COUNTIFS($D$3:$D14,"R")=AB$2,$E14,"")) -> 1 | AC14: =IF(AC13<>"",AC13,IF(COUNTIFS($D$3:$D14,"R")=AC$2,$E14,"")) -> 4 | AD14: =IF(AD13<>"",AD13,IF(COUNTIFS($D$3:$D14,"R")=AD$2,$E14,"")) -> 7 | AE14: =IF(AE13<>"",AE13,IF(COUNTIFS($D$3:$D14,"R")=AE$2,$E14,"")) | AJ14: 61 | AK14: 24 | AL14: -34 | AM14: 3 | AN14: -610 | AO14: 12 | AP14: 14 | AQ14: 16 | AR14: 17 | AS14: 5 | AT14: 4 | AU14: 13 | AV14: 3
A15: 13 | B15: =RANDBETWEEN(1,37) -> 10 | C15: =IF(B15="","",COUNTIF($B$3:B14,B15)) -> 0 | D15: =IF(B15="","",IF(C15>0,"R","")) | E15: =IF(B15="","",'Dynamic Ordinal tracker'!C14) | F15: =IF(B15="","",IF(C14=0,F14+1,F14)) -> 9 | G15: =IF(B15="","",IF(COUNTIFS(D$3:D14,"R")<O$13,0,1)) -> 1 | H15: =IF(B15="","",IF(A15>=O$12,1,0)) -> 0 | I15: =IF(B15="","",IF(H15*G15=0,"",IF(C15=0,-1,1))) | J15: =IF(B15="","",IF(F15>=36,0,IF(G15*H15=0,"",IF(AND(G15*H15=1,G14*H14=0),1,IF(AND(O$6="Yes",O$8="No",S14>S13,J14=1,I14=1),1,IF(AND(O$6="No",I14=1,J14=1),1,IF(AND(O$6="Yes",I14=-1),J14,IF(AND(S14=S13,I14=1,O$9="+/-",O$6="Yes"),J14+O$10,IF(AND(S14=S13,I14=1,O$9="Exponent",O$6="Yes"),J14*O$10,IF(AND(S14>S13,O$8="Yes"),1,IF(AND(O$9="+/-",I14=1),J14-O$11,IF(AND(O$9="+/-",I14=-1,O$6="No"),J14+O$10,IF(AND(O$9="Exponent",I14=1),J14/O$11,IF(AND(O$9="Exponent",I14=-1,O$6="No"),J14*O$10)))))))))))))) | K15: =IF(B15="","",IF(H15*G15=0,0,IF(I15=1,(36-F15)*J15*$O$3,IF(I15=-1,J15*I15*F15*$O$3)))) -> 0 | L15: =IF(B15="","",IF(A15<$O$12,0,K15+L14)) -> 0 | M15: =IF(I15="","",IF(AND(L15>=$O$4,MAX(L$3:L14)<$O$4),"KTF","")) | Q15: Rep1 gap | R15: =AS3 -> 1 | S15: =IF(F15=0,"",IF(L15>S14,L15,S14)) -> 0 | T15: =IF(T14<>"",T14,IF(AND(T14="",L15<=O$5),L15,IF(M15="KTF",L15,""))) | U15: =IF(U14<>"",U14,IF(T15<>"",A15,"")) | V15: =IF(V14<>"",V14,IF(U15<>"",MIN(L$4:L14),"")) | W15: =IF(W14<>"",W14,IF(V15<>"",MAX(J$4:J15),"")) | X15: =IF(X14<>"",X14,IF(COUNTIFS($D$3:$D15,"R")=X$2,$A15,"")) -> 5 | Y15: =IF(Y14<>"",Y14,IF(COUNTIFS($D$3:$D15,"R")=Y$2,$A15,"")) -> 7 | Z15: =IF(Z14<>"",Z14,IF(COUNTIFS($D$3:$D15,"R")=Z$2,$A15,"")) -> 12 | AA15: =IF(AA14<>"",AA14,IF(COUNTIFS($D$3:$D15,"R")=AA$2,$A15,"")) | AB15: =IF(AB14<>"",AB14,IF(COUNTIFS($D$3:$D15,"R")=AB$2,$E15,"")) -> 1 | AC15: =IF(AC14<>"",AC14,IF(COUNTIFS($D$3:$D15,"R")=AC$2,$E15,"")) -> 4 | AD15: =IF(AD14<>"",AD14,IF(COUNTIFS($D$3:$D15,"R")=AD$2,$E15,"")) -> 7 | AE15: =IF(AE14<>"",AE14,IF(COUNTIFS($D$3:$D15,"R")=AE$2,$E15,"")) | AG15: Not sure if Waldo is around... | AJ15: 51 | AK15: 75 | AL15: -781 | AM15: 18 | AN15: -218 | AO15: 8 | AP15: 9 | AQ15: 11 | AR15: 17 | AS15: 7 | AT15: 6 | AU15: 3 | AV15: 12
A16: 14 | B16: =RANDBETWEEN(1,37) -> 24 | C16: =IF(B16="","",COUNTIF($B$3:B15,B16)) -> 0 | D16: =IF(B16="","",IF(C16>0,"R","")) | E16: =IF(B16="","",'Dynamic Ordinal tracker'!C15) | F16: =IF(B16="","",IF(C15=0,F15+1,F15)) -> 10 | G16: =IF(B16="","",IF(COUNTIFS(D$3:D15,"R")<O$13,0,1)) -> 1 | H16: =IF(B16="","",IF(A16>=O$12,1,0)) -> 0 | I16: =IF(B16="","",IF(H16*G16=0,"",IF(C16=0,-1,1))) | J16: =IF(B16="","",IF(F16>=36,0,IF(G16*H16=0,"",IF(AND(G16*H16=1,G15*H15=0),1,IF(AND(O$6="Yes",O$8="No",S15>S14,J15=1,I15=1),1,IF(AND(O$6="No",I15=1,J15=1),1,IF(AND(O$6="Yes",I15=-1),J15,IF(AND(S15=S14,I15=1,O$9="+/-",O$6="Yes"),J15+O$10,IF(AND(S15=S14,I15=1,O$9="Exponent",O$6="Yes"),J15*O$10,IF(AND(S15>S14,O$8="Yes"),1,IF(AND(O$9="+/-",I15=1),J15-O$11,IF(AND(O$9="+/-",I15=-1,O$6="No"),J15+O$10,IF(AND(O$9="Exponent",I15=1),J15/O$11,IF(AND(O$9="Exponent",I15=-1,O$6="No"),J15*O$10)))))))))))))) | K16: =IF(B16="","",IF(H16*G16=0,0,IF(I16=1,(36-F16)*J16*$O$3,IF(I16=-1,J16*I16*F16*$O$3)))) -> 0 | L16: =IF(B16="","",IF(A16<$O$12,0,K16+L15)) -> 0 | M16: =IF(I16="","",IF(AND(L16>=$O$4,MAX(L$3:L15)<$O$4),"KTF","")) | Q16: Rep2 gap | R16: =AT3 -> 4 | S16: =IF(F16=0,"",IF(L16>S15,L16,S15)) -> 0 | T16: =IF(T15<>"",T15,IF(AND(T15="",L16<=O$5),L16,IF(M16="KTF",L16,""))) | U16: =IF(U15<>"",U15,IF(T16<>"",A16,"")) | V16: =IF(V15<>"",V15,IF(U16<>"",MIN(L$4:L15),"")) | W16: =IF(W15<>"",W15,IF(V16<>"",MAX(J$4:J16),"")) | X16: =IF(X15<>"",X15,IF(COUNTIFS($D$3:$D16,"R")=X$2,$A16,"")) -> 5 | Y16: =IF(Y15<>"",Y15,IF(COUNTIFS($D$3:$D16,"R")=Y$2,$A16,"")) -> 7 | Z16: =IF(Z15<>"",Z15,IF(COUNTIFS($D$3:$D16,"R")=Z$2,$A16,"")) -> 12 | AA16: =IF(AA15<>"",AA15,IF(COUNTIFS($D$3:$D16,"R")=AA$2,$A16,"")) | AB16: =IF(AB15<>"",AB15,IF(COUNTIFS($D$3:$D16,"R")=AB$2,$E16,"")) -> 1 | AC16: =IF(AC15<>"",AC15,IF(COUNTIFS($D$3:$D16,"R")=AC$2,$E16,"")) -> 4 | AD16: =IF(AD15<>"",AD15,IF(COUNTIFS($D$3:$D16,"R")=AD$2,$E16,"")) -> 7 | AE16: =IF(AE15<>"",AE15,IF(COUNTIFS($D$3:$D16,"R")=AE$2,$E16,"")) | AJ16: 58 | AK16: 20 | AL16: -13 | AM16: 1 | AN16: 386 | AO16: 9 | AP16: 16 | AQ16: 18 | AR16: 19 | AS16: 3 | AT16: 6 | AU16: 9 | AV16: 9
A17: 15 | B17: =RANDBETWEEN(1,37) -> 20 | C17: =IF(B17="","",COUNTIF($B$3:B16,B17)) -> 0 | D17: =IF(B17="","",IF(C17>0,"R","")) | E17: =IF(B17="","",'Dynamic Ordinal tracker'!C16) | F17: =IF(B17="","",IF(C16=0,F16+1,F16)) -> 11 | G17: =IF(B17="","",IF(COUNTIFS(D$3:D16,"R")<O$13,0,1)) -> 1 | H17: =IF(B17="","",IF(A17>=O$12,1,0)) -> 1 | I17: =IF(B17="","",IF(H17*G17=0,"",IF(C17=0,-1,1))) -> -1 | J17: =IF(B17="","",IF(F17>=36,0,IF(G17*H17=0,"",IF(AND(G17*H17=1,G16*H16=0),1,IF(AND(O$6="Yes",O$8="No",S16>S15,J16=1,I16=1),1,IF(AND(O$6="No",I16=1,J16=1),1,IF(AND(O$6="Yes",I16=-1),J16,IF(AND(S16=S15,I16=1,O$9="+/-",O$6="Yes"),J16+O$10,IF(AND(S16=S15,I16=1,O$9="Exponent",O$6="Yes"),J16*O$10,IF(AND(S16>S15,O$8="Yes"),1,IF(AND(O$9="+/-",I16=1),J16-O$11,IF(AND(O$9="+/-",I16=-1,O$6="No"),J16+O$10,IF(AND(O$9="Exponent",I16=1),J16/O$11,IF(AND(O$9="Exponent",I16=-1,O$6="No"),J16*O$10)))))))))))))) -> 1 | K17: =IF(B17="","",IF(H17*G17=0,0,IF(I17=1,(36-F17)*J17*$O$3,IF(I17=-1,J17*I17*F17*$O$3)))) -> -11 | L17: =IF(B17="","",IF(A17<$O$12,0,K17+L16)) -> -11 | M17: =IF(I17="","",IF(AND(L17>=$O$4,MAX(L$3:L16)<$O$4),"KTF","")) | Q17: Rep3 gap | R17: =AU3 -> 7 | S17: =IF(F17=0,"",IF(L17>S16,L17,S16)) -> 0 | T17: =IF(T16<>"",T16,IF(AND(T16="",L17<=O$5),L17,IF(M17="KTF",L17,""))) | U17: =IF(U16<>"",U16,IF(T17<>"",A17,"")) | V17: =IF(V16<>"",V16,IF(U17<>"",MIN(L$4:L16),"")) | W17: =IF(W16<>"",W16,IF(V17<>"",MAX(J$4:J17),"")) | X17: =IF(X16<>"",X16,IF(COUNTIFS($D$3:$D17,"R")=X$2,$A17,"")) -> 5 | Y17: =IF(Y16<>"",Y16,IF(COUNTIFS($D$3:$D17,"R")=Y$2,$A17,"")) -> 7 | Z17: =IF(Z16<>"",Z16,IF(COUNTIFS($D$3:$D17,"R")=Z$2,$A17,"")) -> 12 | AA17: =IF(AA16<>"",AA16,IF(COUNTIFS($D$3:$D17,"R")=AA$2,$A17,"")) | AB17: =IF(AB16<>"",AB16,IF(COUNTIFS($D$3:$D17,"R")=AB$2,$E17,"")) -> 1 | AC17: =IF(AC16<>"",AC16,IF(COUNTIFS($D$3:$D17,"R")=AC$2,$E17,"")) -> 4 | AD17: =IF(AD16<>"",AD16,IF(COUNTIFS($D$3:$D17,"R")=AD$2,$E17,"")) -> 7 | AE17: =IF(AE16<>"",AE16,IF(COUNTIFS($D$3:$D17,"R")=AE$2,$E17,"")) | AJ17: 50 | AK17: 16 | AL17: 0 | AM17: 1 | AN17: -3692 | AO17: 9 | AP17: 10 | AQ17: 11 | AR17: 15 | AS17: 7 | AT17: 1 | AU17: 8 | AV17: 11
A18: 16 | B18: =RANDBETWEEN(1,37) -> 15 | C18: =IF(B18="","",COUNTIF($B$3:B17,B18)) -> 0 | D18: =IF(B18="","",IF(C18>0,"R","")) | E18: =IF(B18="","",'Dynamic Ordinal tracker'!C17) | F18: =IF(B18="","",IF(C17=0,F17+1,F17)) -> 12 | G18: =IF(B18="","",IF(COUNTIFS(D$3:D17,"R")<O$13,0,1)) -> 1 | H18: =IF(B18="","",IF(A18>=O$12,1,0)) -> 1 | I18: =IF(B18="","",IF(H18*G18=0,"",IF(C18=0,-1,1))) -> -1 | J18: =IF(B18="","",IF(F18>=36,0,IF(G18*H18=0,"",IF(AND(G18*H18=1,G17*H17=0),1,IF(AND(O$6="Yes",O$8="No",S17>S16,J17=1,I17=1),1,IF(AND(O$6="No",I17=1,J17=1),1,IF(AND(O$6="Yes",I17=-1),J17,IF(AND(S17=S16,I17=1,O$9="+/-",O$6="Yes"),J17+O$10,IF(AND(S17=S16,I17=1,O$9="Exponent",O$6="Yes"),J17*O$10,IF(AND(S17>S16,O$8="Yes"),1,IF(AND(O$9="+/-",I17=1),J17-O$11,IF(AND(O$9="+/-",I17=-1,O$6="No"),J17+O$10,IF(AND(O$9="Exponent",I17=1),J17/O$11,IF(AND(O$9="Exponent",I17=-1,O$6="No"),J17*O$10)))))))))))))) -> 1 | K18: =IF(B18="","",IF(H18*G18=0,0,IF(I18=1,(36-F18)*J18*$O$3,IF(I18=-1,J18*I18*F18*$O$3)))) -> -12 | L18: =IF(B18="","",IF(A18<$O$12,0,K18+L17)) -> -23 | M18: =IF(I18="","",IF(AND(L18>=$O$4,MAX(L$3:L17)<$O$4),"KTF","")) | Q18: Rep4 gap | R18: =AV3 -> 2 | S18: =IF(F18=0,"",IF(L18>S17,L18,S17)) -> 0 | T18: =IF(T17<>"",T17,IF(AND(T17="",L18<=O$5),L18,IF(M18="KTF",L18,""))) | U18: =IF(U17<>"",U17,IF(T18<>"",A18,"")) | V18: =IF(V17<>"",V17,IF(U18<>"",MIN(L$4:L17),"")) | W18: =IF(W17<>"",W17,IF(V18<>"",MAX(J$4:J18),"")) | X18: =IF(X17<>"",X17,IF(COUNTIFS($D$3:$D18,"R")=X$2,$A18,"")) -> 5 | Y18: =IF(Y17<>"",Y17,IF(COUNTIFS($D$3:$D18,"R")=Y$2,$A18,"")) -> 7 | Z18: =IF(Z17<>"",Z17,IF(COUNTIFS($D$3:$D18,"R")=Z$2,$A18,"")) -> 12 | AA18: =IF(AA17<>"",AA17,IF(COUNTIFS($D$3:$D18,"R")=AA$2,$A18,"")) | AB18: =IF(AB17<>"",AB17,IF(COUNTIFS($D$3:$D18,"R")=AB$2,$E18,"")) -> 1 | AC18: =IF(AC17<>"",AC17,IF(COUNTIFS($D$3:$D18,"R")=AC$2,$E18,"")) -> 4 | AD18: =IF(AD17<>"",AD17,IF(COUNTIFS($D$3:$D18,"R")=AD$2,$E18,"")) -> 7 | AE18: =IF(AE17<>"",AE17,IF(COUNTIFS($D$3:$D18,"R")=AE$2,$E18,"")) | AJ18: 59 | AK18: 27 | AL18: -101 | AM18: 4 | AN18: 309 | AO18: 13 | AP18: 14 | AQ18: 16 | AR18: 24 | AS18: 5 | AT18: 1 | AU18: 12 | AV18: 8
A19: 17 | B19: =RANDBETWEEN(1,37) -> 20 | C19: =IF(B19="","",COUNTIF($B$3:B18,B19)) -> 1 | D19: =IF(B19="","",IF(C19>0,"R","")) -> R | E19: =IF(B19="","",'Dynamic Ordinal tracker'!C18) -> 2 | F19: =IF(B19="","",IF(C18=0,F18+1,F18)) -> 13 | G19: =IF(B19="","",IF(COUNTIFS(D$3:D18,"R")<O$13,0,1)) -> 1 | H19: =IF(B19="","",IF(A19>=O$12,1,0)) -> 1 | I19: =IF(B19="","",IF(H19*G19=0,"",IF(C19=0,-1,1))) -> 1 | J19: =IF(B19="","",IF(F19>=36,0,IF(G19*H19=0,"",IF(AND(G19*H19=1,G18*H18=0),1,IF(AND(O$6="Yes",O$8="No",S18>S17,J18=1,I18=1),1,IF(AND(O$6="No",I18=1,J18=1),1,IF(AND(O$6="Yes",I18=-1),J18,IF(AND(S18=S17,I18=1,O$9="+/-",O$6="Yes"),J18+O$10,IF(AND(S18=S17,I18=1,O$9="Exponent",O$6="Yes"),J18*O$10,IF(AND(S18>S17,O$8="Yes"),1,IF(AND(O$9="+/-",I18=1),J18-O$11,IF(AND(O$9="+/-",I18=-1,O$6="No"),J18+O$10,IF(AND(O$9="Exponent",I18=1),J18/O$11,IF(AND(O$9="Exponent",I18=-1,O$6="No"),J18*O$10)))))))))))))) -> 1 | K19: =IF(B19="","",IF(H19*G19=0,0,IF(I19=1,(36-F19)*J19*$O$3,IF(I19=-1,J19*I19*F19*$O$3)))) -> 23 | L19: =IF(B19="","",IF(A19<$O$12,0,K19+L18)) -> 0 | M19: =IF(I19="","",IF(AND(L19>=$O$4,MAX(L$3:L18)<$O$4),"KTF","")) | S19: =IF(F19=0,"",IF(L19>S18,L19,S18)) -> 0 | T19: =IF(T18<>"",T18,IF(AND(T18="",L19<=O$5),L19,IF(M19="KTF",L19,""))) | U19: =IF(U18<>"",U18,IF(T19<>"",A19,"")) | V19: =IF(V18<>"",V18,IF(U19<>"",MIN(L$4:L18),"")) | W19: =IF(W18<>"",W18,IF(V19<>"",MAX(J$4:J19),"")) | X19: =IF(X18<>"",X18,IF(COUNTIFS($D$3:$D19,"R")=X$2,$A19,"")) -> 5 | Y19: =IF(Y18<>"",Y18,IF(COUNTIFS($D$3:$D19,"R")=Y$2,$A19,"")) -> 7 | Z19: =IF(Z18<>"",Z18,IF(COUNTIFS($D$3:$D19,"R")=Z$2,$A19,"")) -> 12 | AA19: =IF(AA18<>"",AA18,IF(COUNTIFS($D$3:$D19,"R")=AA$2,$A19,"")) -> 17 | AB19: =IF(AB18<>"",AB18,IF(COUNTIFS($D$3:$D19,"R")=AB$2,$E19,"")) -> 1 | AC19: =IF(AC18<>"",AC18,IF(COUNTIFS($D$3:$D19,"R")=AC$2,$E19,"")) -> 4 | AD19: =IF(AD18<>"",AD18,IF(COUNTIFS($D$3:$D19,"R")=AD$2,$E19,"")) -> 7 | AE19: =IF(AE18<>"",AE18,IF(COUNTIFS($D$3:$D19,"R")=AE$2,$E19,"")) -> 2 | AJ19: 79 | AK19: 32 | AL19: -89 | AM19: 5 | AN19: -2756 | AO19: 13 | AP19: 16 | AQ19: 20 | AR19: 21 | AS19: 12 | AT19: 8 | AU19: 3 | AV19: 8
A20: 18 | B20: =RANDBETWEEN(1,37) -> 2 | C20: =IF(B20="","",COUNTIF($B$3:B19,B20)) -> 0 | D20: =IF(B20="","",IF(C20>0,"R","")) | E20: =IF(B20="","",'Dynamic Ordinal tracker'!C19) | F20: =IF(B20="","",IF(C19=0,F19+1,F19)) -> 13 | G20: =IF(B20="","",IF(COUNTIFS(D$3:D19,"R")<O$13,0,1)) -> 1 | H20: =IF(B20="","",IF(A20>=O$12,1,0)) -> 1 | I20: =IF(B20="","",IF(H20*G20=0,"",IF(C20=0,-1,1))) -> -1 | J20: =IF(B20="","",IF(F20>=36,0,IF(G20*H20=0,"",IF(AND(G20*H20=1,G19*H19=0),1,IF(AND(O$6="Yes",O$8="No",S19>S18,J19=1,I19=1),1,IF(AND(O$6="No",I19=1,J19=1),1,IF(AND(O$6="Yes",I19=-1),J19,IF(AND(S19=S18,I19=1,O$9="+/-",O$6="Yes"),J19+O$10,IF(AND(S19=S18,I19=1,O$9="Exponent",O$6="Yes"),J19*O$10,IF(AND(S19>S18,O$8="Yes"),1,IF(AND(O$9="+/-",I19=1),J19-O$11,IF(AND(O$9="+/-",I19=-1,O$6="No"),J19+O$10,IF(AND(O$9="Exponent",I19=1),J19/O$11,IF(AND(O$9="Exponent",I19=-1,O$6="No"),J19*O$10)))))))))))))) -> 2 | K20: =IF(B20="","",IF(H20*G20=0,0,IF(I20=1,(36-F20)*J20*$O$3,IF(I20=-1,J20*I20*F20*$O$3)))) -> -26 | L20: =IF(B20="","",IF(A20<$O$12,0,K20+L19)) -> -26 | M20: =IF(I20="","",IF(AND(L20>=$O$4,MAX(L$3:L19)<$O$4),"KTF","")) | S20: =IF(F20=0,"",IF(L20>S19,L20,S19)) -> 0 | T20: =IF(T19<>"",T19,IF(AND(T19="",L20<=O$5),L20,IF(M20="KTF",L20,""))) | U20: =IF(U19<>"",U19,IF(T20<>"",A20,"")) | V20: =IF(V19<>"",V19,IF(U20<>"",MIN(L$4:L19),"")) | W20: =IF(W19<>"",W19,IF(V20<>"",MAX(J$4:J20),"")) | X20: =IF(X19<>"",X19,IF(COUNTIFS($D$3:$D20,"R")=X$2,$A20,"")) -> 5 | Y20: =IF(Y19<>"",Y19,IF(COUNTIFS($D$3:$D20,"R")=Y$2,$A20,"")) -> 7 | Z20: =IF(Z19<>"",Z19,IF(COUNTIFS($D$3:$D20,"R")=Z$2,$A20,"")) -> 12 | AA20: =IF(AA19<>"",AA19,IF(COUNTIFS($D$3:$D20,"R")=AA$2,$A20,"")) -> 17 | AB20: =IF(AB19<>"",AB19,IF(COUNTIFS($D$3:$D20,"R")=AB$2,$E20,"")) -> 1 | AC20: =IF(AC19<>"",AC19,IF(COUNTIFS($D$3:$D20,"R")=AC$2,$E20,"")) -> 4 | AD20: =IF(AD19<>"",AD19,IF(COUNTIFS($D$3:$D20,"R")=AD$2,$E20,"")) -> 7 | AE20: =IF(AE19<>"",AE19,IF(COUNTIFS($D$3:$D20,"R")=AE$2,$E20,"")) -> 2 | AJ20: 65 | AK20: 27 | AL20: -71 | AM20: 3 | AN20: 165 | AO20: 2 | AP20: 16 | AQ20: 21 | AR20: 23 | AS20: 1 | AT20: 2 | AU20: 11 | AV20: 12
A21: 19 | B21: =RANDBETWEEN(1,37) -> 27 | C21: =IF(B21="","",COUNTIF($B$3:B20,B21)) -> 0 | D21: =IF(B21="","",IF(C21>0,"R","")) | E21: =IF(B21="","",'Dynamic Ordinal tracker'!C20) | F21: =IF(B21="","",IF(C20=0,F20+1,F20)) -> 14 | G21: =IF(B21="","",IF(COUNTIFS(D$3:D20,"R")<O$13,0,1)) -> 1 | H21: =IF(B21="","",IF(A21>=O$12,1,0)) -> 1 | I21: =IF(B21="","",IF(H21*G21=0,"",IF(C21=0,-1,1))) -> -1 | J21: =IF(B21="","",IF(F21>=36,0,IF(G21*H21=0,"",IF(AND(G21*H21=1,G20*H20=0),1,IF(AND(O$6="Yes",O$8="No",S20>S19,J20=1,I20=1),1,IF(AND(O$6="No",I20=1,J20=1),1,IF(AND(O$6="Yes",I20=-1),J20,IF(AND(S20=S19,I20=1,O$9="+/-",O$6="Yes"),J20+O$10,IF(AND(S20=S19,I20=1,O$9="Exponent",O$6="Yes"),J20*O$10,IF(AND(S20>S19,O$8="Yes"),1,IF(AND(O$9="+/-",I20=1),J20-O$11,IF(AND(O$9="+/-",I20=-1,O$6="No"),J20+O$10,IF(AND(O$9="Exponent",I20=1),J20/O$11,IF(AND(O$9="Exponent",I20=-1,O$6="No"),J20*O$10)))))))))))))) -> 2 | K21: =IF(B21="","",IF(H21*G21=0,0,IF(I21=1,(36-F21)*J21*$O$3,IF(I21=-1,J21*I21*F21*$O$3)))) -> -28 | L21: =IF(B21="","",IF(A21<$O$12,0,K21+L20)) -> -54 | M21: =IF(I21="","",IF(AND(L21>=$O$4,MAX(L$3:L20)<$O$4),"KTF","")) | S21: =IF(F21=0,"",IF(L21>S20,L21,S20)) -> 0 | T21: =IF(T20<>"",T20,IF(AND(T20="",L21<=O$5),L21,IF(M21="KTF",L21,""))) | U21: =IF(U20<>"",U20,IF(T21<>"",A21,"")) | V21: =IF(V20<>"",V20,IF(U21<>"",MIN(L$4:L20),"")) | W21: =IF(W20<>"",W20,IF(V21<>"",MAX(J$4:J21),"")) | X21: =IF(X20<>"",X20,IF(COUNTIFS($D$3:$D21,"R")=X$2,$A21,"")) -> 5 | Y21: =IF(Y20<>"",Y20,IF(COUNTIFS($D$3:$D21,"R")=Y$2,$A21,"")) -> 7 | Z21: =IF(Z20<>"",Z20,IF(COUNTIFS($D$3:$D21,"R")=Z$2,$A21,"")) -> 12 | AA21: =IF(AA20<>"",AA20,IF(COUNTIFS($D$3:$D21,"R")=AA$2,$A21,"")) -> 17 | AB21: =IF(AB20<>"",AB20,IF(COUNTIFS($D$3:$D21,"R")=AB$2,$E21,"")) -> 1 | AC21: =IF(AC20<>"",AC20,IF(COUNTIFS($D$3:$D21,"R")=AC$2,$E21,"")) -> 4 | AD21: =IF(AD20<>"",AD20,IF(COUNTIFS($D$3:$D21,"R")=AD$2,$E21,"")) -> 7 | AE21: =IF(AE20<>"",AE20,IF(COUNTIFS($D$3:$D21,"R")=AE$2,$E21,"")) -> 2 | AJ21: 54 | AK21: 19 | AL21: 0 | AM21: 1 | AN21: -4446 | AO21: 8 | AP21: 9 | AQ21: 13 | AR21: 14 | AS21: 4 | AT21: 7 | AU21: 8 | AV21: 3
A22: 20 | B22: =RANDBETWEEN(1,37) -> 27 | C22: =IF(B22="","",COUNTIF($B$3:B21,B22)) -> 1 | D22: =IF(B22="","",IF(C22>0,"R","")) -> R | E22: =IF(B22="","",'Dynamic Ordinal tracker'!C21) -> 1 | F22: =IF(B22="","",IF(C21=0,F21+1,F21)) -> 15 | G22: =IF(B22="","",IF(COUNTIFS(D$3:D21,"R")<O$13,0,1)) -> 1 | H22: =IF(B22="","",IF(A22>=O$12,1,0)) -> 1 | I22: =IF(B22="","",IF(H22*G22=0,"",IF(C22=0,-1,1))) -> 1 | J22: =IF(B22="","",IF(F22>=36,0,IF(G22*H22=0,"",IF(AND(G22*H22=1,G21*H21=0),1,IF(AND(O$6="Yes",O$8="No",S21>S20,J21=1,I21=1),1,IF(AND(O$6="No",I21=1,J21=1),1,IF(AND(O$6="Yes",I21=-1),J21,IF(AND(S21=S20,I21=1,O$9="+/-",O$6="Yes"),J21+O$10,IF(AND(S21=S20,I21=1,O$9="Exponent",O$6="Yes"),J21*O$10,IF(AND(S21>S20,O$8="Yes"),1,IF(AND(O$9="+/-",I21=1),J21-O$11,IF(AND(O$9="+/-",I21=-1,O$6="No"),J21+O$10,IF(AND(O$9="Exponent",I21=1),J21/O$11,IF(AND(O$9="Exponent",I21=-1,O$6="No"),J21*O$10)))))))))))))) -> 2 | K22: =IF(B22="","",IF(H22*G22=0,0,IF(I22=1,(36-F22)*J22*$O$3,IF(I22=-1,J22*I22*F22*$O$3)))) -> 42 | L22: =IF(B22="","",IF(A22<$O$12,0,K22+L21)) -> -12 | M22: =IF(I22="","",IF(AND(L22>=$O$4,MAX(L$3:L21)<$O$4),"KTF","")) | S22: =IF(F22=0,"",IF(L22>S21,L22,S21)) -> 0 | T22: =IF(T21<>"",T21,IF(AND(T21="",L22<=O$5),L22,IF(M22="KTF",L22,""))) | U22: =IF(U21<>"",U21,IF(T22<>"",A22,"")) | V22: =IF(V21<>"",V21,IF(U22<>"",MIN(L$4:L21),"")) | W22: =IF(W21<>"",W21,IF(V22<>"",MAX(J$4:J22),"")) | X22: =IF(X21<>"",X21,IF(COUNTIFS($D$3:$D22,"R")=X$2,$A22,"")) -> 5 | Y22: =IF(Y21<>"",Y21,IF(COUNTIFS($D$3:$D22,"R")=Y$2,$A22,"")) -> 7 | Z22: =IF(Z21<>"",Z21,IF(COUNTIFS($D$3:$D22,"R")=Z$2,$A22,"")) -> 12 | AA22: =IF(AA21<>"",AA21,IF(COUNTIFS($D$3:$D22,"R")=AA$2,$A22,"")) -> 17 | AB22: =IF(AB21<>"",AB21,IF(COUNTIFS($D$3:$D22,"R")=AB$2,$E22,"")) -> 1 | AC22: =IF(AC21<>"",AC21,IF(COUNTIFS($D$3:$D22,"R")=AC$2,$E22,"")) -> 4 | AD22: =IF(AD21<>"",AD21,IF(COUNTIFS($D$3:$D22,"R")=AD$2,$E22,"")) -> 7 | AE22: =IF(AE21<>"",AE21,IF(COUNTIFS($D$3:$D22,"R")=AE$2,$E22,"")) -> 2 | AJ22: 67 | AK22: 27 | AL22: -52 | AM22: 4 | AN22: -1824 | AO22: 12 | AP22: 14 | AQ22: 17 | AR22: 18 | AS22: 11 | AT22: 6 | AU22: 5 | AV22: 10
A23: 21 | B23: =RANDBETWEEN(1,37) -> 23 | C23: =IF(B23="","",COUNTIF($B$3:B22,B23)) -> 0 | D23: =IF(B23="","",IF(C23>0,"R","")) | E23: =IF(B23="","",'Dynamic Ordinal tracker'!C22) | F23: =IF(B23="","",IF(C22=0,F22+1,F22)) -> 15 | G23: =IF(B23="","",IF(COUNTIFS(D$3:D22,"R")<O$13,0,1)) -> 1 | H23: =IF(B23="","",IF(A23>=O$12,1,0)) -> 1 | I23: =IF(B23="","",IF(H23*G23=0,"",IF(C23=0,-1,1))) -> -1 | J23: =IF(B23="","",IF(F23>=36,0,IF(G23*H23=0,"",IF(AND(G23*H23=1,G22*H22=0),1,IF(AND(O$6="Yes",O$8="No",S22>S21,J22=1,I22=1),1,IF(AND(O$6="No",I22=1,J22=1),1,IF(AND(O$6="Yes",I22=-1),J22,IF(AND(S22=S21,I22=1,O$9="+/-",O$6="Yes"),J22+O$10,IF(AND(S22=S21,I22=1,O$9="Exponent",O$6="Yes"),J22*O$10,IF(AND(S22>S21,O$8="Yes"),1,IF(AND(O$9="+/-",I22=1),J22-O$11,IF(AND(O$9="+/-",I22=-1,O$6="No"),J22+O$10,IF(AND(O$9="Exponent",I22=1),J22/O$11,IF(AND(O$9="Exponent",I22=-1,O$6="No"),J22*O$10)))))))))))))) -> 3 | K23: =IF(B23="","",IF(H23*G23=0,0,IF(I23=1,(36-F23)*J23*$O$3,IF(I23=-1,J23*I23*F23*$O$3)))) -> -45 | L23: =IF(B23="","",IF(A23<$O$12,0,K23+L22)) -> -57 | M23: =IF(I23="","",IF(AND(L23>=$O$4,MAX(L$3:L22)<$O$4),"KTF","")) | S23: =IF(F23=0,"",IF(L23>S22,L23,S22)) -> 0 | T23: =IF(T22<>"",T22,IF(AND(T22="",L23<=O$5),L23,IF(M23="KTF",L23,""))) | U23: =IF(U22<>"",U22,IF(T23<>"",A23,"")) | V23: =IF(V22<>"",V22,IF(U23<>"",MIN(L$4:L22),"")) | W23: =IF(W22<>"",W22,IF(V23<>"",MAX(J$4:J23),"")) | X23: =IF(X22<>"",X22,IF(COUNTIFS($D$3:$D23,"R")=X$2,$A23,"")) -> 5 | Y23: =IF(Y22<>"",Y22,IF(COUNTIFS($D$3:$D23,"R")=Y$2,$A23,"")) -> 7 | Z23: =IF(Z22<>"",Z22,IF(COUNTIFS($D$3:$D23,"R")=Z$2,$A23,"")) -> 12 | AA23: =IF(AA22<>"",AA22,IF(COUNTIFS($D$3:$D23,"R")=AA$2,$A23,"")) -> 17 | AB23: =IF(AB22<>"",AB22,IF(COUNTIFS($D$3:$D23,"R")=AB$2,$E23,"")) -> 1 | AC23: =IF(AC22<>"",AC22,IF(COUNTIFS($D$3:$D23,"R")=AC$2,$E23,"")) -> 4 | AD23: =IF(AD22<>"",AD22,IF(COUNTIFS($D$3:$D23,"R")=AD$2,$E23,"")) -> 7 | AE23: =IF(AE22<>"",AE22,IF(COUNTIFS($D$3:$D23,"R")=AE$2,$E23,"")) -> 2 | AJ23: 69 | AK23: 17 | AL23: 0 | AM23: 1 | AN23: 398 | AO23: 9 | AP23: 15 | AQ23: 16 | AR23: 17 | AS23: 4 | AT23: 3 | AU23: 2 | AV23: 2
A24: 22 | B24: =RANDBETWEEN(1,37) -> 36 | C24: =IF(B24="","",COUNTIF($B$3:B23,B24)) -> 0 | D24: =IF(B24="","",IF(C24>0,"R","")) | E24: =IF(B24="","",'Dynamic Ordinal tracker'!C23) | F24: =IF(B24="","",IF(C23=0,F23+1,F23)) -> 16 | G24: =IF(B24="","",IF(COUNTIFS(D$3:D23,"R")<O$13,0,1)) -> 1 | H24: =IF(B24="","",IF(A24>=O$12,1,0)) -> 1 | I24: =IF(B24="","",IF(H24*G24=0,"",IF(C24=0,-1,1))) -> -1 | J24: =IF(B24="","",IF(F24>=36,0,IF(G24*H24=0,"",IF(AND(G24*H24=1,G23*H23=0),1,IF(AND(O$6="Yes",O$8="No",S23>S22,J23=1,I23=1),1,IF(AND(O$6="No",I23=1,J23=1),1,IF(AND(O$6="Yes",I23=-1),J23,IF(AND(S23=S22,I23=1,O$9="+/-",O$6="Yes"),J23+O$10,IF(AND(S23=S22,I23=1,O$9="Exponent",O$6="Yes"),J23*O$10,IF(AND(S23>S22,O$8="Yes"),1,IF(AND(O$9="+/-",I23=1),J23-O$11,IF(AND(O$9="+/-",I23=-1,O$6="No"),J23+O$10,IF(AND(O$9="Exponent",I23=1),J23/O$11,IF(AND(O$9="Exponent",I23=-1,O$6="No"),J23*O$10)))))))))))))) -> 3 | K24: =IF(B24="","",IF(H24*G24=0,0,IF(I24=1,(36-F24)*J24*$O$3,IF(I24=-1,J24*I24*F24*$O$3)))) -> -48 | L24: =IF(B24="","",IF(A24<$O$12,0,K24+L23)) -> -105 | M24: =IF(I24="","",IF(AND(L24>=$O$4,MAX(L$3:L23)<$O$4),"KTF","")) | S24: =IF(F24=0,"",IF(L24>S23,L24,S23)) -> 0 | T24: =IF(T23<>"",T23,IF(AND(T23="",L24<=O$5),L24,IF(M24="KTF",L24,""))) | U24: =IF(U23<>"",U23,IF(T24<>"",A24,"")) | V24: =IF(V23<>"",V23,IF(U24<>"",MIN(L$4:L23),"")) | W24: =IF(W23<>"",W23,IF(V24<>"",MAX(J$4:J24),"")) | X24: =IF(X23<>"",X23,IF(COUNTIFS($D$3:$D24,"R")=X$2,$A24,"")) -> 5 | Y24: =IF(Y23<>"",Y23,IF(COUNTIFS($D$3:$D24,"R")=Y$2,$A24,"")) -> 7 | Z24: =IF(Z23<>"",Z23,IF(COUNTIFS($D$3:$D24,"R")=Z$2,$A24,"")) -> 12 | AA24: =IF(AA23<>"",AA23,IF(COUNTIFS($D$3:$D24,"R")=AA$2,$A24,"")) -> 17 | AB24: =IF(AB23<>"",AB23,IF(COUNTIFS($D$3:$D24,"R")=AB$2,$E24,"")) -> 1 | AC24: =IF(AC23<>"",AC23,IF(COUNTIFS($D$3:$D24,"R")=AC$2,$E24,"")) -> 4 | AD24: =IF(AD23<>"",AD23,IF(COUNTIFS($D$3:$D24,"R")=AD$2,$E24,"")) -> 7 | AE24: =IF(AE23<>"",AE23,IF(COUNTIFS($D$3:$D24,"R")=AE$2,$E24,"")) -> 2 | AJ24: 59 | AK24: 48 | AL24: -771 | AM24: 16 | AN24: 212 | AO24: 4 | AP24: 6 | AQ24: 10 | AR24: 13 | AS24: 2 | AT24: 1 | AU24: 7 | AV24: 9
A25: 23 | B25: =RANDBETWEEN(1,37) -> 18 | C25: =IF(B25="","",COUNTIF($B$3:B24,B25)) -> 0 | D25: =IF(B25="","",IF(C25>0,"R","")) | E25: =IF(B25="","",'Dynamic Ordinal tracker'!C24) | F25: =IF(B25="","",IF(C24=0,F24+1,F24)) -> 17 | G25: =IF(B25="","",IF(COUNTIFS(D$3:D24,"R")<O$13,0,1)) -> 1 | H25: =IF(B25="","",IF(A25>=O$12,1,0)) -> 1 | I25: =IF(B25="","",IF(H25*G25=0,"",IF(C25=0,-1,1))) -> -1 | J25: =IF(B25="","",IF(F25>=36,0,IF(G25*H25=0,"",IF(AND(G25*H25=1,G24*H24=0),1,IF(AND(O$6="Yes",O$8="No",S24>S23,J24=1,I24=1),1,IF(AND(O$6="No",I24=1,J24=1),1,IF(AND(O$6="Yes",I24=-1),J24,IF(AND(S24=S23,I24=1,O$9="+/-",O$6="Yes"),J24+O$10,IF(AND(S24=S23,I24=1,O$9="Exponent",O$6="Yes"),J24*O$10,IF(AND(S24>S23,O$8="Yes"),1,IF(AND(O$9="+/-",I24=1),J24-O$11,IF(AND(O$9="+/-",I24=-1,O$6="No"),J24+O$10,IF(AND(O$9="Exponent",I24=1),J24/O$11,IF(AND(O$9="Exponent",I24=-1,O$6="No"),J24*O$10)))))))))))))) -> 3 | K25: =IF(B25="","",IF(H25*G25=0,0,IF(I25=1,(36-F25)*J25*$O$3,IF(I25=-1,J25*I25*F25*$O$3)))) -> -51 | L25: =IF(B25="","",IF(A25<$O$12,0,K25+L24)) -> -156 | M25: =IF(I25="","",IF(AND(L25>=$O$4,MAX(L$3:L24)<$O$4),"KTF","")) | S25: =IF(F25=0,"",IF(L25>S24,L25,S24)) -> 0 | T25: =IF(T24<>"",T24,IF(AND(T24="",L25<=O$5),L25,IF(M25="KTF",L25,""))) | U25: =IF(U24<>"",U24,IF(T25<>"",A25,"")) | V25: =IF(V24<>"",V24,IF(U25<>"",MIN(L$4:L24),"")) | W25: =IF(W24<>"",W24,IF(V25<>"",MAX(J$4:J25),"")) | X25: =IF(X24<>"",X24,IF(COUNTIFS($D$3:$D25,"R")=X$2,$A25,"")) -> 5 | Y25: =IF(Y24<>"",Y24,IF(COUNTIFS($D$3:$D25,"R")=Y$2,$A25,"")) -> 7 | Z25: =IF(Z24<>"",Z24,IF(COUNTIFS($D$3:$D25,"R")=Z$2,$A25,"")) -> 12 | AA25: =IF(AA24<>"",AA24,IF(COUNTIFS($D$3:$D25,"R")=AA$2,$A25,"")) -> 17 | AB25: =IF(AB24<>"",AB24,IF(COUNTIFS($D$3:$D25,"R")=AB$2,$E25,"")) -> 1 | AC25: =IF(AC24<>"",AC24,IF(COUNTIFS($D$3:$D25,"R")=AC$2,$E25,"")) -> 4 | AD25: =IF(AD24<>"",AD24,IF(COUNTIFS($D$3:$D25,"R")=AD$2,$E25,"")) -> 7 | AE25: =IF(AE24<>"",AE24,IF(COUNTIFS($D$3:$D25,"R")=AE$2,$E25,"")) -> 2 | AJ25: 53 | AK25: 21 | AL25: -31 | AM25: 2 | AN25: 145 | AO25: 7 | AP25: 13 | AQ25: 17 | AR25: 19 | AS25: 2 | AT25: 4 | AU25: 8 | AV25: 15
A26: 24 | B26: =RANDBETWEEN(1,37) -> 16 | C26: =IF(B26="","",COUNTIF($B$3:B25,B26)) -> 0 | D26: =IF(B26="","",IF(C26>0,"R","")) | E26: =IF(B26="","",'Dynamic Ordinal tracker'!C25) | F26: =IF(B26="","",IF(C25=0,F25+1,F25)) -> 18 | G26: =IF(B26="","",IF(COUNTIFS(D$3:D25,"R")<O$13,0,1)) -> 1 | H26: =IF(B26="","",IF(A26>=O$12,1,0)) -> 1 | I26: =IF(B26="","",IF(H26*G26=0,"",IF(C26=0,-1,1))) -> -1 | J26: =IF(B26="","",IF(F26>=36,0,IF(G26*H26=0,"",IF(AND(G26*H26=1,G25*H25=0),1,IF(AND(O$6="Yes",O$8="No",S25>S24,J25=1,I25=1),1,IF(AND(O$6="No",I25=1,J25=1),1,IF(AND(O$6="Yes",I25=-1),J25,IF(AND(S25=S24,I25=1,O$9="+/-",O$6="Yes"),J25+O$10,IF(AND(S25=S24,I25=1,O$9="Exponent",O$6="Yes"),J25*O$10,IF(AND(S25>S24,O$8="Yes"),1,IF(AND(O$9="+/-",I25=1),J25-O$11,IF(AND(O$9="+/-",I25=-1,O$6="No"),J25+O$10,IF(AND(O$9="Exponent",I25=1),J25/O$11,IF(AND(O$9="Exponent",I25=-1,O$6="No"),J25*O$10)))))))))))))) -> 3 | K26: =IF(B26="","",IF(H26*G26=0,0,IF(I26=1,(36-F26)*J26*$O$3,IF(I26=-1,J26*I26*F26*$O$3)))) -> -54 | L26: =IF(B26="","",IF(A26<$O$12,0,K26+L25)) -> -210 | M26: =IF(I26="","",IF(AND(L26>=$O$4,MAX(L$3:L25)<$O$4),"KTF","")) | S26: =IF(F26=0,"",IF(L26>S25,L26,S25)) -> 0 | T26: =IF(T25<>"",T25,IF(AND(T25="",L26<=O$5),L26,IF(M26="KTF",L26,""))) | U26: =IF(U25<>"",U25,IF(T26<>"",A26,"")) | V26: =IF(V25<>"",V25,IF(U26<>"",MIN(L$4:L25),"")) | W26: =IF(W25<>"",W25,IF(V26<>"",MAX(J$4:J26),"")) | X26: =IF(X25<>"",X25,IF(COUNTIFS($D$3:$D26,"R")=X$2,$A26,"")) -> 5 | Y26: =IF(Y25<>"",Y25,IF(COUNTIFS($D$3:$D26,"R")=Y$2,$A26,"")) -> 7 | Z26: =IF(Z25<>"",Z25,IF(COUNTIFS($D$3:$D26,"R")=Z$2,$A26,"")) -> 12 | AA26: =IF(AA25<>"",AA25,IF(COUNTIFS($D$3:$D26,"R")=AA$2,$A26,"")) -> 17 | AB26: =IF(AB25<>"",AB25,IF(COUNTIFS($D$3:$D26,"R")=AB$2,$E26,"")) -> 1 | AC26: =IF(AC25<>"",AC25,IF(COUNTIFS($D$3:$D26,"R")=AC$2,$E26,"")) -> 4 | AD26: =IF(AD25<>"",AD25,IF(COUNTIFS($D$3:$D26,"R")=AD$2,$E26,"")) -> 7 | AE26: =IF(AE25<>"",AE25,IF(COUNTIFS($D$3:$D26,"R")=AE$2,$E26,"")) -> 2 | AJ26: 53 | AK26: 28 | AL26: -25 | AM26: 2 | AN26: -837 | AO26: 9 | AP26: 13 | AQ26: 16 | AR26: 19 | AS26: 4 | AT26: 6 | AU26: 7 | AV26: 14
A27: 25 | B27: =RANDBETWEEN(1,37) -> 10 | C27: =IF(B27="","",COUNTIF($B$3:B26,B27)) -> 1 | D27: =IF(B27="","",IF(C27>0,"R","")) -> R | E27: =IF(B27="","",'Dynamic Ordinal tracker'!C26) -> 10 | F27: =IF(B27="","",IF(C26=0,F26+1,F26)) -> 19 | G27: =IF(B27="","",IF(COUNTIFS(D$3:D26,"R")<O$13,0,1)) -> 1 | H27: =IF(B27="","",IF(A27>=O$12,1,0)) -> 1 | I27: =IF(B27="","",IF(H27*G27=0,"",IF(C27=0,-1,1))) -> 1 | J27: =IF(B27="","",IF(F27>=36,0,IF(G27*H27=0,"",IF(AND(G27*H27=1,G26*H26=0),1,IF(AND(O$6="Yes",O$8="No",S26>S25,J26=1,I26=1),1,IF(AND(O$6="No",I26=1,J26=1),1,IF(AND(O$6="Yes",I26=-1),J26,IF(AND(S26=S25,I26=1,O$9="+/-",O$6="Yes"),J26+O$10,IF(AND(S26=S25,I26=1,O$9="Exponent",O$6="Yes"),J26*O$10,IF(AND(S26>S25,O$8="Yes"),1,IF(AND(O$9="+/-",I26=1),J26-O$11,IF(AND(O$9="+/-",I26=-1,O$6="No"),J26+O$10,IF(AND(O$9="Exponent",I26=1),J26/O$11,IF(AND(O$9="Exponent",I26=-1,O$6="No"),J26*O$10)))))))))))))) -> 3 | K27: =IF(B27="","",IF(H27*G27=0,0,IF(I27=1,(36-F27)*J27*$O$3,IF(I27=-1,J27*I27*F27*$O$3)))) -> 51 | L27: =IF(B27="","",IF(A27<$O$12,0,K27+L26)) -> -159 | M27: =IF(I27="","",IF(AND(L27>=$O$4,MAX(L$3:L26)<$O$4),"KTF","")) | S27: =IF(F27=0,"",IF(L27>S26,L27,S26)) -> 0 | T27: =IF(T26<>"",T26,IF(AND(T26="",L27<=O$5),L27,IF(M27="KTF",L27,""))) | U27: =IF(U26<>"",U26,IF(T27<>"",A27,"")) | V27: =IF(V26<>"",V26,IF(U27<>"",MIN(L$4:L26),"")) | W27: =IF(W26<>"",W26,IF(V27<>"",MAX(J$4:J27),"")) | X27: =IF(X26<>"",X26,IF(COUNTIFS($D$3:$D27,"R")=X$2,$A27,"")) -> 5 | Y27: =IF(Y26<>"",Y26,IF(COUNTIFS($D$3:$D27,"R")=Y$2,$A27,"")) -> 7 | Z27: =IF(Z26<>"",Z26,IF(COUNTIFS($D$3:$D27,"R")=Z$2,$A27,"")) -> 12 | AA27: =IF(AA26<>"",AA26,IF(COUNTIFS($D$3:$D27,"R")=AA$2,$A27,"")) -> 17 | AB27: =IF(AB26<>"",AB26,IF(COUNTIFS($D$3:$D27,"R")=AB$2,$E27,"")) -> 1 | AC27: =IF(AC26<>"",AC26,IF(COUNTIFS($D$3:$D27,"R")=AC$2,$E27,"")) -> 4 | AD27: =IF(AD26<>"",AD26,IF(COUNTIFS($D$3:$D27,"R")=AD$2,$E27,"")) -> 7 | AE27: =IF(AE26<>"",AE26,IF(COUNTIFS($D$3:$D27,"R")=AE$2,$E27,"")) -> 2 | AJ27: 54 | AK27: 29 | AL27: -19 | AM27: 3 | AN27: -2950 | AO27: 7 | AP27: 8 | AQ27: 12 | AR27: 16 | AS27: 2 | AT27: 1 | AU27: 5 | AV27: 9
A28: 26 | B28: =RANDBETWEEN(1,37) -> 29 | C28: =IF(B28="","",COUNTIF($B$3:B27,B28)) -> 0 | D28: =IF(B28="","",IF(C28>0,"R","")) | E28: =IF(B28="","",'Dynamic Ordinal tracker'!C27) | F28: =IF(B28="","",IF(C27=0,F27+1,F27)) -> 19 | G28: =IF(B28="","",IF(COUNTIFS(D$3:D27,"R")<O$13,0,1)) -> 1 | H28: =IF(B28="","",IF(A28>=O$12,1,0)) -> 1 | I28: =IF(B28="","",IF(H28*G28=0,"",IF(C28=0,-1,1))) -> -1 | J28: =IF(B28="","",IF(F28>=36,0,IF(G28*H28=0,"",IF(AND(G28*H28=1,G27*H27=0),1,IF(AND(O$6="Yes",O$8="No",S27>S26,J27=1,I27=1),1,IF(AND(O$6="No",I27=1,J27=1),1,IF(AND(O$6="Yes",I27=-1),J27,IF(AND(S27=S26,I27=1,O$9="+/-",O$6="Yes"),J27+O$10,IF(AND(S27=S26,I27=1,O$9="Exponent",O$6="Yes"),J27*O$10,IF(AND(S27>S26,O$8="Yes"),1,IF(AND(O$9="+/-",I27=1),J27-O$11,IF(AND(O$9="+/-",I27=-1,O$6="No"),J27+O$10,IF(AND(O$9="Exponent",I27=1),J27/O$11,IF(AND(O$9="Exponent",I27=-1,O$6="No"),J27*O$10)))))))))))))) -> 4 | K28: =IF(B28="","",IF(H28*G28=0,0,IF(I28=1,(36-F28)*J28*$O$3,IF(I28=-1,J28*I28*F28*$O$3)))) -> -76 | L28: =IF(B28="","",IF(A28<$O$12,0,K28+L27)) -> -235 | M28: =IF(I28="","",IF(AND(L28>=$O$4,MAX(L$3:L27)<$O$4),"KTF","")) | S28: =IF(F28=0,"",IF(L28>S27,L28,S27)) -> 0 | T28: =IF(T27<>"",T27,IF(AND(T27="",L28<=O$5),L28,IF(M28="KTF",L28,""))) | U28: =IF(U27<>"",U27,IF(T28<>"",A28,"")) | V28: =IF(V27<>"",V27,IF(U28<>"",MIN(L$4:L27),"")) | W28: =IF(W27<>"",W27,IF(V28<>"",MAX(J$4:J28),"")) | X28: =IF(X27<>"",X27,IF(COUNTIFS($D$3:$D28,"R")=X$2,$A28,"")) -> 5 | Y28: =IF(Y27<>"",Y27,IF(COUNTIFS($D$3:$D28,"R")=Y$2,$A28,"")) -> 7 | Z28: =IF(Z27<>"",Z27,IF(COUNTIFS($D$3:$D28,"R")=Z$2,$A28,"")) -> 12 | AA28: =IF(AA27<>"",AA27,IF(COUNTIFS($D$3:$D28,"R")=AA$2,$A28,"")) -> 17 | AB28: =IF(AB27<>"",AB27,IF(COUNTIFS($D$3:$D28,"R")=AB$2,$E28,"")) -> 1 | AC28: =IF(AC27<>"",AC27,IF(COUNTIFS($D$3:$D28,"R")=AC$2,$E28,"")) -> 4 | AD28: =IF(AD27<>"",AD27,IF(COUNTIFS($D$3:$D28,"R")=AD$2,$E28,"")) -> 7 | AE28: =IF(AE27<>"",AE27,IF(COUNTIFS($D$3:$D28,"R")=AE$2,$E28,"")) -> 2 | AJ28: 55 | AK28: 18 | AL28: 0 | AM28: 1 | AN28: 257 | AO28: 11 | AP28: 15 | AQ28: 16 | AR28: 18 | AS28: 7 | AT28: 3 | AU28: 4 | AV28: 3
A29: 27 | B29: =RANDBETWEEN(1,37) -> 9 | C29: =IF(B29="","",COUNTIF($B$3:B28,B29)) -> 0 | D29: =IF(B29="","",IF(C29>0,"R","")) | E29: =IF(B29="","",'Dynamic Ordinal tracker'!C28) | F29: =IF(B29="","",IF(C28=0,F28+1,F28)) -> 20 | G29: =IF(B29="","",IF(COUNTIFS(D$3:D28,"R")<O$13,0,1)) -> 1 | H29: =IF(B29="","",IF(A29>=O$12,1,0)) -> 1 | I29: =IF(B29="","",IF(H29*G29=0,"",IF(C29=0,-1,1))) -> -1 | J29: =IF(B29="","",IF(F29>=36,0,IF(G29*H29=0,"",IF(AND(G29*H29=1,G28*H28=0),1,IF(AND(O$6="Yes",O$8="No",S28>S27,J28=1,I28=1),1,IF(AND(O$6="No",I28=1,J28=1),1,IF(AND(O$6="Yes",I28=-1),J28,IF(AND(S28=S27,I28=1,O$9="+/-",O$6="Yes"),J28+O$10,IF(AND(S28=S27,I28=1,O$9="Exponent",O$6="Yes"),J28*O$10,IF(AND(S28>S27,O$8="Yes"),1,IF(AND(O$9="+/-",I28=1),J28-O$11,IF(AND(O$9="+/-",I28=-1,O$6="No"),J28+O$10,IF(AND(O$9="Exponent",I28=1),J28/O$11,IF(AND(O$9="Exponent",I28=-1,O$6="No"),J28*O$10)))))))))))))) -> 4 | K29: =IF(B29="","",IF(H29*G29=0,0,IF(I29=1,(36-F29)*J29*$O$3,IF(I29=-1,J29*I29*F29*$O$3)))) -> -80 | L29: =IF(B29="","",IF(A29<$O$12,0,K29+L28)) -> -315 | M29: =IF(I29="","",IF(AND(L29>=$O$4,MAX(L$3:L28)<$O$4),"KTF","")) | S29: =IF(F29=0,"",IF(L29>S28,L29,S28)) -> 0 | T29: =IF(T28<>"",T28,IF(AND(T28="",L29<=O$5),L29,IF(M29="KTF",L29,""))) | U29: =IF(U28<>"",U28,IF(T29<>"",A29,"")) | V29: =IF(V28<>"",V28,IF(U29<>"",MIN(L$4:L28),"")) | W29: =IF(W28<>"",W28,IF(V29<>"",MAX(J$4:J29),"")) | X29: =IF(X28<>"",X28,IF(COUNTIFS($D$3:$D29,"R")=X$2,$A29,"")) -> 5 | Y29: =IF(Y28<>"",Y28,IF(COUNTIFS($D$3:$D29,"R")=Y$2,$A29,"")) -> 7 | Z29: =IF(Z28<>"",Z28,IF(COUNTIFS($D$3:$D29,"R")=Z$2,$A29,"")) -> 12 | AA29: =IF(AA28<>"",AA28,IF(COUNTIFS($D$3:$D29,"R")=AA$2,$A29,"")) -> 17 | AB29: =IF(AB28<>"",AB28,IF(COUNTIFS($D$3:$D29,"R")=AB$2,$E29,"")) -> 1 | AC29: =IF(AC28<>"",AC28,IF(COUNTIFS($D$3:$D29,"R")=AC$2,$E29,"")) -> 4 | AD29: =IF(AD28<>"",AD28,IF(COUNTIFS($D$3:$D29,"R")=AD$2,$E29,"")) -> 7 | AE29: =IF(AE28<>"",AE28,IF(COUNTIFS($D$3:$D29,"R")=AE$2,$E29,"")) -> 2 | AJ29: 51 | AK29: 83 | AL29: -1890 | AM29: 46 | AN29: 48 | AO29: 7 | AP29: 13 | AQ29: 16 | AR29: 25 | AS29: 6 | AT29: 9 | AU29: 10 | AV29: 19
A30: 28 | B30: =RANDBETWEEN(1,37) -> 6 | C30: =IF(B30="","",COUNTIF($B$3:B29,B30)) -> 1 | D30: =IF(B30="","",IF(C30>0,"R","")) -> R | E30: =IF(B30="","",'Dynamic Ordinal tracker'!C29) -> 15 | F30: =IF(B30="","",IF(C29=0,F29+1,F29)) -> 21 | G30: =IF(B30="","",IF(COUNTIFS(D$3:D29,"R")<O$13,0,1)) -> 1 | H30: =IF(B30="","",IF(A30>=O$12,1,0)) -> 1 | I30: =IF(B30="","",IF(H30*G30=0,"",IF(C30=0,-1,1))) -> 1 | J30: =IF(B30="","",IF(F30>=36,0,IF(G30*H30=0,"",IF(AND(G30*H30=1,G29*H29=0),1,IF(AND(O$6="Yes",O$8="No",S29>S28,J29=1,I29=1),1,IF(AND(O$6="No",I29=1,J29=1),1,IF(AND(O$6="Yes",I29=-1),J29,IF(AND(S29=S28,I29=1,O$9="+/-",O$6="Yes"),J29+O$10,IF(AND(S29=S28,I29=1,O$9="Exponent",O$6="Yes"),J29*O$10,IF(AND(S29>S28,O$8="Yes"),1,IF(AND(O$9="+/-",I29=1),J29-O$11,IF(AND(O$9="+/-",I29=-1,O$6="No"),J29+O$10,IF(AND(O$9="Exponent",I29=1),J29/O$11,IF(AND(O$9="Exponent",I29=-1,O$6="No"),J29*O$10)))))))))))))) -> 4 | K30: =IF(B30="","",IF(H30*G30=0,0,IF(I30=1,(36-F30)*J30*$O$3,IF(I30=-1,J30*I30*F30*$O$3)))) -> 60 | L30: =IF(B30="","",IF(A30<$O$12,0,K30+L29)) -> -255 | M30: =IF(I30="","",IF(AND(L30>=$O$4,MAX(L$3:L29)<$O$4),"KTF","")) | S30: =IF(F30=0,"",IF(L30>S29,L30,S29)) -> 0 | T30: =IF(T29<>"",T29,IF(AND(T29="",L30<=O$5),L30,IF(M30="KTF",L30,""))) | U30: =IF(U29<>"",U29,IF(T30<>"",A30,"")) | V30: =IF(V29<>"",V29,IF(U30<>"",MIN(L$4:L29),"")) | W30: =IF(W29<>"",W29,IF(V30<>"",MAX(J$4:J30),"")) | X30: =IF(X29<>"",X29,IF(COUNTIFS($D$3:$D30,"R")=X$2,$A30,"")) -> 5 | Y30: =IF(Y29<>"",Y29,IF(COUNTIFS($D$3:$D30,"R")=Y$2,$A30,"")) -> 7 | Z30: =IF(Z29<>"",Z29,IF(COUNTIFS($D$3:$D30,"R")=Z$2,$A30,"")) -> 12 | AA30: =IF(AA29<>"",AA29,IF(COUNTIFS($D$3:$D30,"R")=AA$2,$A30,"")) -> 17 | AB30: =IF(AB29<>"",AB29,IF(COUNTIFS($D$3:$D30,"R")=AB$2,$E30,"")) -> 1 | AC30: =IF(AC29<>"",AC29,IF(COUNTIFS($D$3:$D30,"R")=AC$2,$E30,"")) -> 4 | AD30: =IF(AD29<>"",AD29,IF(COUNTIFS($D$3:$D30,"R")=AD$2,$E30,"")) -> 7 | AE30: =IF(AE29<>"",AE29,IF(COUNTIFS($D$3:$D30,"R")=AE$2,$E30,"")) -> 2 | AJ30: 58 | AK30: 46 | AL30: -569 | AM30: 13 | AN30: 212 | AO30: 5 | AP30: 8 | AQ30: 11 | AR30: 12 | AS30: 1 | AT30: 5 | AU30: 2 | AV30: 8
... A50: 48 | B50: =RANDBETWEEN(1,37) -> 28 | C50: =IF(B50="","",COUNTIF($B$3:B49,B50)) -> 2 | D50: =IF(B50="","",IF(C50>0,"R","")) -> R | E50: =IF(B50="","",'Dynamic Ordinal tracker'!C49) -> 9 | F50: =IF(B50="","",IF(C49=0,F49+1,F49)) -> 27 | G50: =IF(B50="","",IF(COUNTIFS(D$3:D49,"R")<O$13,0,1)) -> 1 | H50: =IF(B50="","",IF(A50>=O$12,1,0)) -> 1 | I50: =IF(B50="","",IF(H50*G50=0,"",IF(C50=0,-1,1))) -> 1 | J50: =IF(B50="","",IF(F50>=36,0,IF(G50*H50=0,"",IF(AND(G50*H50=1,G49*H49=0),1,IF(AND(O$6="Yes",O$8="No",S49>S48,J49=1,I49=1),1,IF(AND(O$6="No",I49=1,J49=1),1,IF(AND(O$6="Yes",I49=-1),J49,IF(AND(S49=S48,I49=1,O$9="+/-",O$6="Yes"),J49+O$10,IF(AND(S49=S48,I49=1,O$9="Exponent",O$6="Yes"),J49*O$10,IF(AND(S49>S48,O$8="Yes"),1,IF(AND(O$9="+/-",I49=1),J49-O$11,IF(AND(O$9="+/-",I49=-1,O$6="No"),J49+O$10,IF(AND(O$9="Exponent",I49=1),J49/O$11,IF(AND(O$9="Exponent",I49=-1,O$6="No"),J49*O$10)))))))))))))) -> 1 | K50: =IF(B50="","",IF(H50*G50=0,0,IF(I50=1,(36-F50)*J50*$O$3,IF(I50=-1,J50*I50*F50*$O$3)))) -> 9 | L50: =IF(B50="","",IF(A50<$O$12,0,K50+L49)) -> 27 | M50: =IF(I50="","",IF(AND(L50>=$O$4,MAX(L$3:L49)<$O$4),"KTF","")) | S50: =IF(F50=0,"",IF(L50>S49,L50,S49)) -> 27 | T50: =IF(T49<>"",T49,IF(AND(T49="",L50<=O$5),L50,IF(M50="KTF",L50,""))) | U50: =IF(U49<>"",U49,IF(T50<>"",A50,"")) | V50: =IF(V49<>"",V49,IF(U50<>"",MIN(L$4:L49),"")) | W50: =IF(W49<>"",W49,IF(V50<>"",MAX(J$4:J50),"")) | X50: =IF(X49<>"",X49,IF(COUNTIFS($D$3:$D50,"R")=X$2,$A50,"")) -> 5 | Y50: =IF(Y49<>"",Y49,IF(COUNTIFS($D$3:$D50,"R")=Y$2,$A50,"")) -> 7 | Z50: =IF(Z49<>"",Z49,IF(COUNTIFS($D$3:$D50,"R")=Z$2,$A50,"")) -> 12 | AA50: =IF(AA49<>"",AA49,IF(COUNTIFS($D$3:$D50,"R")=AA$2,$A50,"")) -> 17 | AB50: =IF(AB49<>"",AB49,IF(COUNTIFS($D$3:$D50,"R")=AB$2,$E50,"")) -> 1 | AC50: =IF(AC49<>"",AC49,IF(COUNTIFS($D$3:$D50,"R")=AC$2,$E50,"")) -> 4 | AD50: =IF(AD49<>"",AD49,IF(COUNTIFS($D$3:$D50,"R")=AD$2,$E50,"")) -> 7 | AE50: =IF(AE49<>"",AE49,IF(COUNTIFS($D$3:$D50,"R")=AE$2,$E50,"")) -> 2 | AJ50: 65 | AK50: 20 | AL50: -12 | AM50: 1 | AN50: 280 | AO50: 10 | AP50: 13 | AQ50: 16 | AR50: 17 | AS50: 9 | AT50: 8 | AU50: 11 | AV50: 3
