Workbook
Name ResetProg: '[1]anti-ktf'!$AN$5:$AN$15633

Sheet Rev-KTF
E1: Ordinal Gap | F1: Hit nrs | S1: Max | T1: Goal | U1: Spin | V1: Minto goal | W1: Prog | X1: Rep | Y1: Rep | Z1: Rep | AA1: Rep | AB1: Gap | AC1: Gap | AD1: Gap | AE1: Gap | AO1: Spin | AS1: Gap
A2: Spin | B2: Nrs | D2: Rep? | G2: start rep | H2: start spin | I2: wl | J2: pr | K2: net | L2: Total | N2: Parameters | S2: =MAX(S4:S102) -> 83 | T2: =T102 -> 54 | U2: =U102 -> 51 | V2: =V102 -> -453 | W2: =W102 -> 11 | X2: 1 | Y2: 2 | Z2: 3 | AA2: 4 | AB2: 1 | AC2: 2 | AD2: 3 | AE2: 4 | AJ2: Goal | AK2: at spin | AL2: min. to goal | AM2: Max prog to goal | AN2: End | AO2: Rep1 | AP2: Rep2 | AQ2: Rep3 | AR2: Rep4 | AS2: Rep1 | AT2: Rep2 | AU2: Rep3 | AV2: Rep4
A3: 1 | B3: =RANDBETWEEN(1,37) -> 12 | C3: 0 | D3: =IF(C3>0,"R","") | F3: 0 | N3: Base unit | O3: 1 | Q3: KTF | AH3: Yes | AJ3: =R4 -> 54 | AK3: =R5 -> 51 | AL3: =R7 -> -453 | AM3: =R6 -> 11 | AN3: =L102 -> -330 | AO3: =X102 -> 5 | AP3: =Y102 -> 7 | AQ3: =Z102 -> 12 | AR3: =AA102 -> 17 | AS3: =AB102 -> 1 | AT3: =AC102 -> 4 | AU3: =AD102 -> 7 | AV3: =AE102 -> 2
A4: 2 | B4: =RANDBETWEEN(1,37) -> 35 | C4: =IF(B4="","",COUNTIF($B$3:B3,B4)) -> 0 | D4: =IF(B4="","",IF(C4>0,"R","")) | E4: =IF(B4="","",'Dynamic Ordinal tracker'!C3) | F4: =IF(B4="","",IF(C3=0,F3+1,F3)) -> 1 | G4: =IF(B4="","",IF(COUNTIFS(D$3:D3,"R")<O$13,0,1)) -> 1 | H4: =IF(B4="","",IF(A4>=O$12,1,0)) -> 0 | I4: =IF(B4="","",IF(H4*G4=0,"",IF(C4=0,-1,1))) | J4: =IF(B4="","",IF(G4*H4=0,"",IF(AND(G4*H4=1,G3*H3=0),1,IF(AND(O$6="No",I3=1,J3=1),1,IF(AND(O$6="Yes",I3=-1),J3,IF(AND(O9="Exponent",I3=1,O$6="Yes"),J3*O$10,IF(AND(O9="+/-",I3=1,O$6="Yes"),J3+O$10,IF(AND(O$9="+/-",I3=1),J3-O$11,IF(AND(O$9="+/-",I3=-1,O$6="No"),J3+O$10,IF(AND(O$9="Exponent",I3=1),J3/O$11,IF(AND(O$9="Exponent",I3=-1,O$6="No"),J3*O$10))))))))))) | K4: =IF(B4="","",IF(H4*G4=0,0,IF(I4=1,(36-F4)*J4*$O$3,IF(I4=-1,J4*I4*F4*$O$3)))) -> 0 | L4: =IF(B4="","",IF(A4<$O$12,0,K4+L3)) -> 0 | M4: =IF(AND(L4>=$O$4,MAX(L$3:L3)<$O$4),"KTF","") | N4: Goal | O4: 50 | Q4: Goal | R4: =IF(T2="",L102,T2) -> 54 | X4: =IF(X3<>"",X3,IF(COUNTIFS($D$3:$D4,"R")=X$2,$A4,"")) | Y4: =IF(Y3<>"",Y3,IF(COUNTIFS($D$3:$D4,"R")=Y$2,$A4,"")) | Z4: =IF(Z3<>"",Z3,IF(COUNTIFS($D$3:$D4,"R")=Z$2,$A4,"")) | AA4: =IF(AA3<>"",AA3,IF(COUNTIFS($D$3:$D4,"R")=AA$2,$A4,"")) | AB4: =IF(AB3<>"",AB3,IF(COUNTIFS($D$3:$D4,"R")=AB$2,$E4,"")) | AC4: =IF(AC3<>"",AC3,IF(COUNTIFS($D$3:$D4,"R")=AC$2,$E4,"")) | AD4: =IF(AD3<>"",AD3,IF(COUNTIFS($D$3:$D4,"R")=AD$2,$E4,"")) | AE4: =IF(AE3<>"",AE3,IF(COUNTIFS($D$3:$D4,"R")=AE$2,$E4,"")) | AH4: No | AJ4: 75 | AK4: 28 | AL4: -59 | AM4: 3 | AN4: -1320 | AO4: 6 | AP4: 7 | AQ4: 11 | AR4: 19 | AS4: 1 | AT4: 3 | AU4: 2 | AV4: 2
A5: 3 | B5: =RANDBETWEEN(1,37) -> 28 | C5: =IF(B5="","",COUNTIF($B$3:B4,B5)) -> 0 | D5: =IF(B5="","",IF(C5>0,"R","")) | E5: =IF(B5="","",'Dynamic Ordinal tracker'!C4) | F5: =IF(B5="","",IF(C4=0,F4+1,F4)) -> 2 | G5: =IF(B5="","",IF(COUNTIFS(D$3:D4,"R")<O$13,0,1)) -> 1 | H5: =IF(B5="","",IF(A5>=O$12,1,0)) -> 0 | I5: =IF(B5="","",IF(H5*G5=0,"",IF(C5=0,-1,1))) | J5: =IF(B5="","",IF(G5*H5=0,"",IF(AND(G5*H5=1,G4*H4=0),1,IF(AND(O$6="No",I4=1,J4=1),1,IF(AND(O$6="Yes",I4=-1),J4,IF(AND(O9="+/-",I4=1,O$6="Yes"),J4+O$10,IF(AND(O9="Exponent",I4=1,O$6="Yes"),J4*O$10,IF(AND(O$9="+/-",I4=1),J4-O$11,IF(AND(O$9="+/-",I4=-1,O$6="No"),J4+O$10,IF(AND(O$9="Exponent",I4=1),J4/O$11,IF(AND(O$9="Exponent",I4=-1,O$6="No"),J4*O$10))))))))))) | K5: =IF(B5="","",IF(H5*G5=0,0,IF(I5=1,(36-F5)*J5*$O$3,IF(I5=-1,J5*I5*F5*$O$3)))) -> 0 | L5: =IF(B5="","",IF(A5<$O$12,0,K5+L4)) -> 0 | M5: =IF(I5="","",IF(AND(L5>=$O$4,MAX(L$3:L4)<$O$4),"KTF","")) | N5: Stop-loss | O5: -5000 | Q5: Spin | R5: =IF(U2="",A102,U2) -> 51 | S5: =IF(L5>S4,L5,S4) -> 0 | T5: =IF(T4<>"",T4,IF(AND(T4="",L5<=O$5),L5,IF(M5="KTF",L5,""))) | U5: =IF(U4<>"",U4,IF(T5<>"",A5,"")) | V5: =IF(V4<>"",V4,IF(U5<>"",MIN(L$4:L4),"")) | W5: =IF(W4<>"",W4,IF(V5<>"",MAX(J$4:J5),"")) | X5: =IF(X4<>"",X4,IF(COUNTIFS($D$3:$D5,"R")=X$2,$A5,"")) | Y5: =IF(Y4<>"",Y4,IF(COUNTIFS($D$3:$D5,"R")=Y$2,$A5,"")) | Z5: =IF(Z4<>"",Z4,IF(COUNTIFS($D$3:$D5,"R")=Z$2,$A5,"")) | AA5: =IF(AA4<>"",AA4,IF(COUNTIFS($D$3:$D5,"R")=AA$2,$A5,"")) | AB5: =IF(AB4<>"",AB4,IF(COUNTIFS($D$3:$D5,"R")=AB$2,$E5,"")) | AC5: =IF(AC4<>"",AC4,IF(COUNTIFS($D$3:$D5,"R")=AC$2,$E5,"")) | AD5: =IF(AD4<>"",AD4,IF(COUNTIFS($D$3:$D5,"R")=AD$2,$E5,"")) | AE5: =IF(AE4<>"",AE4,IF(COUNTIFS($D$3:$D5,"R")=AE$2,$E5,"")) | AH5: Exponent | AI5: Sum | AJ5: =SUM(AJ9:AJ2348) -> 2654 | AN5: =SUM(AN9:AN2348) -> -24588
A6: 4 | B6: =RANDBETWEEN(1,37) -> 7 | C6: =IF(B6="","",COUNTIF($B$3:B5,B6)) -> 0 | D6: =IF(B6="","",IF(C6>0,"R","")) | E6: =IF(B6="","",'Dynamic Ordinal tracker'!C5) | F6: =IF(B6="","",IF(C5=0,F5+1,F5)) -> 3 | G6: =IF(B6="","",IF(COUNTIFS(D$3:D5,"R")<O$13,0,1)) -> 1 | H6: =IF(B6="","",IF(A6>=O$12,1,0)) -> 0 | I6: =IF(B6="","",IF(H6*G6=0,"",IF(C6=0,-1,1))) | J6: =IF(B6="","",IF(F6>=36,0,IF(G6*H6=0,"",IF(AND(G6*H6=1,G5*H5=0),1,IF(AND(O$6="Yes",O$8="No",S5>S4,J5=1,I5=1),1,IF(AND(O$6="No",I5=1,J5=1),1,IF(AND(O$6="Yes",I5=-1),J5,IF(AND(S5=S4,I5=1,O$9="+/-",O$6="Yes"),J5+O$10,IF(AND(S5=S4,I5=1,O$9="Exponent",O$6="Yes"),J5*O$10,IF(AND(S5>S4,O$8="Yes"),1,IF(AND(O$9="+/-",I5=1),J5-O$11,IF(AND(O$9="+/-",I5=-1,O$6="No"),J5+O$10,IF(AND(O$9="Exponent",I5=1),J5/O$11,IF(AND(O$9="Exponent",I5=-1,O$6="No"),J5*O$10)))))))))))))) | K6: =IF(B6="","",IF(H6*G6=0,0,IF(I6=1,(36-F6)*J6*$O$3,IF(I6=-1,J6*I6*F6*$O$3)))) -> 0 | L6: =IF(B6="","",IF(A6<$O$12,0,K6+L5)) -> 0 | M6: =IF(I6="","",IF(AND(L6>=$O$4,MAX(L$3:L5)<$O$4),"KTF","")) | N6: Rise prog only after win, if no new high? | O6: Yes | Q6: Prog to goal | R6: =IF(W2="",MAX(J5:J102),W2) -> 11 | S6: =IF(L6>S5,L6,S5) -> 0 | T6: =IF(T5<>"",T5,IF(AND(T5="",L6<=O$5),L6,IF(M6="KTF",L6,""))) | U6: =IF(U5<>"",U5,IF(T6<>"",A6,"")) | V6: =IF(V5<>"",V5,IF(U6<>"",MIN(L$4:L5),"")) | W6: =IF(W5<>"",W5,IF(V6<>"",MAX(J$4:J6),"")) | X6: =IF(X5<>"",X5,IF(COUNTIFS($D$3:$D6,"R")=X$2,$A6,"")) | Y6: =IF(Y5<>"",Y5,IF(COUNTIFS($D$3:$D6,"R")=Y$2,$A6,"")) | Z6: =IF(Z5<>"",Z5,IF(COUNTIFS($D$3:$D6,"R")=Z$2,$A6,"")) | AA6: =IF(AA5<>"",AA5,IF(COUNTIFS($D$3:$D6,"R")=AA$2,$A6,"")) | AB6: =IF(AB5<>"",AB5,IF(COUNTIFS($D$3:$D6,"R")=AB$2,$E6,"")) | AC6: =IF(AC5<>"",AC5,IF(COUNTIFS($D$3:$D6,"R")=AC$2,$E6,"")) | AD6: =IF(AD5<>"",AD5,IF(COUNTIFS($D$3:$D6,"R")=AD$2,$E6,"")) | AE6: =IF(AE5<>"",AE5,IF(COUNTIFS($D$3:$D6,"R")=AE$2,$E6,"")) | AH6: ="+/-" -> +/- | AI6: Min | AJ6: =MIN(AJ9:AJ2348) -> 50 | AK6: =MIN(AK9:AK2348) -> 16 | AL6: =MIN(AL9:AL2348) -> -1890 | AM6: =MIN(AM9:AM2348) -> 1 | AN6: =MIN(AN9:AN2348) -> -4446 | AO6: =MIN(AO9:AO2348) -> 2 | AP6: =MIN(AP9:AP2348) -> 5 | AQ6: =MIN(AQ9:AQ2348) -> 8 | ... AV6: =MIN(AV9:AV2348) -> 1
A7: 5 | B7: =RANDBETWEEN(1,37) -> 7 | C7: =IF(B7="","",COUNTIF($B$3:B6,B7)) -> 1 | D7: =IF(B7="","",IF(C7>0,"R","")) -> R | E7: =IF(B7="","",'Dynamic Ordinal tracker'!C6) -> 1 | F7: =IF(B7="","",IF(C6=0,F6+1,F6)) -> 4 | G7: =IF(B7="","",IF(COUNTIFS(D$3:D6,"R")<O$13,0,1)) -> 1 | H7: =IF(B7="","",IF(A7>=O$12,1,0)) -> 0 | I7: =IF(B7="","",IF(H7*G7=0,"",IF(C7=0,-1,1))) | J7: =IF(B7="","",IF(F7>=36,0,IF(G7*H7=0,"",IF(AND(G7*H7=1,G6*H6=0),1,IF(AND(O$6="Yes",O$8="No",S6>S5,J6=1,I6=1),1,IF(AND(O$6="No",I6=1,J6=1),1,IF(AND(O$6="Yes",I6=-1),J6,IF(AND(S6=S5,I6=1,O$9="+/-",O$6="Yes"),J6+O$10,IF(AND(S6=S5,I6=1,O$9="Exponent",O$6="Yes"),J6*O$10,IF(AND(S6>S5,O$8="Yes"),1,IF(AND(O$9="+/-",I6=1),J6-O$11,IF(AND(O$9="+/-",I6=-1,O$6="No"),J6+O$10,IF(AND(O$9="Exponent",I6=1),J6/O$11,IF(AND(O$9="Exponent",I6=-1,O$6="No"),J6*O$10)))))))))))))) | K7: =IF(B7="","",IF(H7*G7=0,0,IF(I7=1,(36-F7)*J7*$O$3,IF(I7=-1,J7*I7*F7*$O$3)))) -> 0 | L7: =IF(B7="","",IF(A7<$O$12,0,K7+L6)) -> 0 | M7: =IF(I7="","",IF(AND(L7>=$O$4,MAX(L$3:L6)<$O$4),"KTF","")) | Q7: Min to goal | R7: =IF(V2="",MIN(L3:L102),V2) -> -453 | S7: =IF(L7>S6,L7,S6) -> 0 | T7: =IF(T6<>"",T6,IF(AND(T6="",L7<=O$5),L7,IF(M7="KTF",L7,""))) | U7: =IF(U6<>"",U6,IF(T7<>"",A7,"")) | V7: =IF(V6<>"",V6,IF(U7<>"",MIN(L$4:L6),"")) | W7: =IF(W6<>"",W6,IF(V7<>"",MAX(J$4:J7),"")) | X7: =IF(X6<>"",X6,IF(COUNTIFS($D$3:$D7,"R")=X$2,$A7,"")) -> 5 | Y7: =IF(Y6<>"",Y6,IF(COUNTIFS($D$3:$D7,"R")=Y$2,$A7,"")) | Z7: =IF(Z6<>"",Z6,IF(COUNTIFS($D$3:$D7,"R")=Z$2,$A7,"")) | AA7: =IF(AA6<>"",AA6,IF(COUNTIFS($D$3:$D7,"R")=AA$2,$A7,"")) | AB7: =IF(AB6<>"",AB6,IF(COUNTIFS($D$3:$D7,"R")=AB$2,$E7,"")) -> 1 | AC7: =IF(AC6<>"",AC6,IF(COUNTIFS($D$3:$D7,"R")=AC$2,$E7,"")) | AD7: =IF(AD6<>"",AD6,IF(COUNTIFS($D$3:$D7,"R")=AD$2,$E7,"")) | AE7: =IF(AE6<>"",AE6,IF(COUNTIFS($D$3:$D7,"R")=AE$2,$E7,"")) | AI7: Max | AJ7: =MAX(AJ9:AJ2348) -> 155 | AK7: =MAX(AK9:AK2348) -> 83 | AL7: =MAX(AL9:AL2348) -> 0 | AM7: =MAX(AM9:AM2348) -> 46 | AN7: =MAX(AN9:AN2348) -> 398 | AO7: =MAX(AO9:AO2348) -> 19 | AP7: =MAX(AP9:AP2348) -> 20 | AQ7: =MAX(AQ9:AQ2348) -> 23 | ... AV7: =MAX(AV9:AV2348) -> 19
A8: 6 | B8: =RANDBETWEEN(1,37) -> 37 | C8: =IF(B8="","",COUNTIF($B$3:B7,B8)) -> 0 | D8: =IF(B8="","",IF(C8>0,"R","")) | E8: =IF(B8="","",'Dynamic Ordinal tracker'!C7) | F8: =IF(B8="","",IF(C7=0,F7+1,F7)) -> 4 | G8: =IF(B8="","",IF(COUNTIFS(D$3:D7,"R")<O$13,0,1)) -> 1 | H8: =IF(B8="","",IF(A8>=O$12,1,0)) -> 0 | I8: =IF(B8="","",IF(H8*G8=0,"",IF(C8=0,-1,1))) | J8: =IF(B8="","",IF(F8>=36,0,IF(G8*H8=0,"",IF(AND(G8*H8=1,G7*H7=0),1,IF(AND(O$6="Yes",O$8="No",S7>S6,J7=1,I7=1),1,IF(AND(O$6="No",I7=1,J7=1),1,IF(AND(O$6="Yes",I7=-1),J7,IF(AND(S7=S6,I7=1,O$9="+/-",O$6="Yes"),J7+O$10,IF(AND(S7=S6,I7=1,O$9="Exponent",O$6="Yes"),J7*O$10,IF(AND(S7>S6,O$8="Yes"),1,IF(AND(O$9="+/-",I7=1),J7-O$11,IF(AND(O$9="+/-",I7=-1,O$6="No"),J7+O$10,IF(AND(O$9="Exponent",I7=1),J7/O$11,IF(AND(O$9="Exponent",I7=-1,O$6="No"),J7*O$10)))))))))))))) | K8: =IF(B8="","",IF(H8*G8=0,0,IF(I8=1,(36-F8)*J8*$O$3,IF(I8=-1,J8*I8*F8*$O$3)))) -> 0 | L8: =IF(B8="","",IF(A8<$O$12,0,K8+L7)) -> 0 | M8: =IF(I8="","",IF(AND(L8>=$O$4,MAX(L$3:L7)<$O$4),"KTF","")) | N8: Reset at new high? | O8: Yes | S8: =IF(L8>S7,L8,S7) -> 0 | T8: =IF(T7<>"",T7,IF(AND(T7="",L8<=O$5),L8,IF(M8="KTF",L8,""))) | U8: =IF(U7<>"",U7,IF(T8<>"",A8,"")) | V8: =IF(V7<>"",V7,IF(U8<>"",MIN(L$4:L7),"")) | W8: =IF(W7<>"",W7,IF(V8<>"",MAX(J$4:J8),"")) | X8: =IF(X7<>"",X7,IF(COUNTIFS($D$3:$D8,"R")=X$2,$A8,"")) -> 5 | Y8: =IF(Y7<>"",Y7,IF(COUNTIFS($D$3:$D8,"R")=Y$2,$A8,"")) | Z8: =IF(Z7<>"",Z7,IF(COUNTIFS($D$3:$D8,"R")=Z$2,$A8,"")) | AA8: =IF(AA7<>"",AA7,IF(COUNTIFS($D$3:$D8,"R")=AA$2,$A8,"")) | AB8: =IF(AB7<>"",AB7,IF(COUNTIFS($D$3:$D8,"R")=AB$2,$E8,"")) -> 1 | AC8: =IF(AC7<>"",AC7,IF(COUNTIFS($D$3:$D8,"R")=AC$2,$E8,"")) | AD8: =IF(AD7<>"",AD7,IF(COUNTIFS($D$3:$D8,"R")=AD$2,$E8,"")) | AE8: =IF(AE7<>"",AE7,IF(COUNTIFS($D$3:$D8,"R")=AE$2,$E8,"")) | AI8: Average | AJ8: =AVERAGE(AJ9:AJ2348) -> 64.731707 | AK8: =AVERAGE(AK9:AK2348) -> 31.219512 | AL8: =AVERAGE(AL9:AL2348) -> -238.41463 | AM8: =AVERAGE(AM9:AM2348) -> 6.8292683 | AN8: =AVERAGE(AN9:AN2348) -> -599.70732 | AO8: =AVERAGE(AO9:AO2348) -> 9.097561 | AP8: =AVERAGE(AP9:AP2348) -> 12.487805 | AQ8: =AVERAGE(AQ9:AQ2348) -> 15.512195 | ... AV8: =AVERAGE(AV9:AV2348) -> 7.0243902
A9: 7 | B9: =RANDBETWEEN(1,37) -> 35 | C9: =IF(B9="","",COUNTIF($B$3:B8,B9)) -> 1 | D9: =IF(B9="","",IF(C9>0,"R","")) -> R | E9: =IF(B9="","",'Dynamic Ordinal tracker'!C8) -> 4 | F9: =IF(B9="","",IF(C8=0,F8+1,F8)) -> 5 | G9: =IF(B9="","",IF(COUNTIFS(D$3:D8,"R")<O$13,0,1)) -> 1 | H9: =IF(B9="","",IF(A9>=O$12,1,0)) -> 0 | I9: =IF(B9="","",IF(H9*G9=0,"",IF(C9=0,-1,1))) | J9: =IF(B9="","",IF(F9>=36,0,IF(G9*H9=0,"",IF(AND(G9*H9=1,G8*H8=0),1,IF(AND(O$6="Yes",O$8="No",S8>S7,J8=1,I8=1),1,IF(AND(O$6="No",I8=1,J8=1),1,IF(AND(O$6="Yes",I8=-1),J8,IF(AND(S8=S7,I8=1,O$9="+/-",O$6="Yes"),J8+O$10,IF(AND(S8=S7,I8=1,O$9="Exponent",O$6="Yes"),J8*O$10,IF(AND(S8>S7,O$8="Yes"),1,IF(AND(O$9="+/-",I8=1),J8-O$11,IF(AND(O$9="+/-",I8=-1,O$6="No"),J8+O$10,IF(AND(O$9="Exponent",I8=1),J8/O$11,IF(AND(O$9="Exponent",I8=-1,O$6="No"),J8*O$10)))))))))))))) | K9: =IF(B9="","",IF(H9*G9=0,0,IF(I9=1,(36-F9)*J9*$O$3,IF(I9=-1,J9*I9*F9*$O$3)))) -> 0 | L9: =IF(B9="","",IF(A9<$O$12,0,K9+L8)) -> 0 | M9: =IF(I9="","",IF(AND(L9>=$O$4,MAX(L$3:L8)<$O$4),"KTF","")) | N9: Prog type | O9: +/- | Q9: Rep stats | S9: =IF(L9>S8,L9,S8) -> 0 | T9: =IF(T8<>"",T8,IF(AND(T8="",L9<=O$5),L9,IF(M9="KTF",L9,""))) | U9: =IF(U8<>"",U8,IF(T9<>"",A9,"")) | V9: =IF(V8<>"",V8,IF(U9<>"",MIN(L$4:L8),"")) | W9: =IF(W8<>"",W8,IF(V9<>"",MAX(J$4:J9),"")) | X9: =IF(X8<>"",X8,IF(COUNTIFS($D$3:$D9,"R")=X$2,$A9,"")) -> 5 | Y9: =IF(Y8<>"",Y8,IF(COUNTIFS($D$3:$D9,"R")=Y$2,$A9,"")) -> 7 | Z9: =IF(Z8<>"",Z8,IF(COUNTIFS($D$3:$D9,"R")=Z$2,$A9,"")) | AA9: =IF(AA8<>"",AA8,IF(COUNTIFS($D$3:$D9,"R")=AA$2,$A9,"")) | AB9: =IF(AB8<>"",AB8,IF(COUNTIFS($D$3:$D9,"R")=AB$2,$E9,"")) -> 1 | AC9: =IF(AC8<>"",AC8,IF(COUNTIFS($D$3:$D9,"R")=AC$2,$E9,"")) -> 4 | AD9: =IF(AD8<>"",AD8,IF(COUNTIFS($D$3:$D9,"R")=AD$2,$E9,"")) | AE9: =IF(AE8<>"",AE8,IF(COUNTIFS($D$3:$D9,"R")=AE$2,$E9,""))
A10: 8 | B10: =RANDBETWEEN(1,37) -> 3 | C10: =IF(B10="","",COUNTIF($B$3:B9,B10)) -> 0 | D10: =IF(B10="","",IF(C10>0,"R","")) | E10: =IF(B10="","",'Dynamic Ordinal tracker'!C9) | F10: =IF(B10="","",IF(C9=0,F9+1,F9)) -> 5 | G10: =IF(B10="","",IF(COUNTIFS(D$3:D9,"R")<O$13,0,1)) -> 1 | H10: =IF(B10="","",IF(A10>=O$12,1,0)) -> 0 | I10: =IF(B10="","",IF(H10*G10=0,"",IF(C10=0,-1,1))) | J10: =IF(B10="","",IF(F10>=36,0,IF(G10*H10=0,"",IF(AND(G10*H10=1,G9*H9=0),1,IF(AND(O$6="Yes",O$8="No",S9>S8,J9=1,I9=1),1,IF(AND(O$6="No",I9=1,J9=1),1,IF(AND(O$6="Yes",I9=-1),J9,IF(AND(S9=S8,I9=1,O$9="+/-",O$6="Yes"),J9+O$10,IF(AND(S9=S8,I9=1,O$9="Exponent",O$6="Yes"),J9*O$10,IF(AND(S9>S8,O$8="Yes"),1,IF(AND(O$9="+/-",I9=1),J9-O$11,IF(AND(O$9="+/-",I9=-1,O$6="No"),J9+O$10,IF(AND(O$9="Exponent",I9=1),J9/O$11,IF(AND(O$9="Exponent",I9=-1,O$6="No"),J9*O$10)))))))))))))) | K10: =IF(B10="","",IF(H10*G10=0,0,IF(I10=1,(36-F10)*J10*$O$3,IF(I10=-1,J10*I10*F10*$O$3)))) -> 0 | L10: =IF(B10="","",IF(A10<$O$12,0,K10+L9)) -> 0 | M10: =IF(I10="","",IF(AND(L10>=$O$4,MAX(L$3:L9)<$O$4),"KTF","")) | N10: Prog. + | O10: 1 | Q10: Rep1 spin | R10: =AO3 -> 5 | S10: =IF(L10>S9,L10,S9) -> 0 | T10: =IF(T9<>"",T9,IF(AND(T9="",L10<=O$5),L10,IF(M10="KTF",L10,""))) | U10: =IF(U9<>"",U9,IF(T10<>"",A10,"")) | V10: =IF(V9<>"",V9,IF(U10<>"",MIN(L$4:L9),"")) | W10: =IF(W9<>"",W9,IF(V10<>"",MAX(J$4:J10),"")) | X10: =IF(X9<>"",X9,IF(COUNTIFS($D$3:$D10,"R")=X$2,$A10,"")) -> 5 | Y10: =IF(Y9<>"",Y9,IF(COUNTIFS($D$3:$D10,"R")=Y$2,$A10,"")) -> 7 | Z10: =IF(Z9<>"",Z9,IF(COUNTIFS($D$3:$D10,"R")=Z$2,$A10,"")) | AA10: =IF(AA9<>"",AA9,IF(COUNTIFS($D$3:$D10,"R")=AA$2,$A10,"")) | AB10: =IF(AB9<>"",AB9,IF(COUNTIFS($D$3:$D10,"R")=AB$2,$E10,"")) -> 1 | AC10: =IF(AC9<>"",AC9,IF(COUNTIFS($D$3:$D10,"R")=AC$2,$E10,"")) -> 4 | AD10: =IF(AD9<>"",AD9,IF(COUNTIFS($D$3:$D10,"R")=AD$2,$E10,"")) | AE10: =IF(AE9<>"",AE9,IF(COUNTIFS($D$3:$D10,"R")=AE$2,$E10,"")) | AJ10: 75 | AK10: 28 | AL10: -59 | AM10: 3 | AN10: -1320 | AO10: 6 | AP10: 7 | AQ10: 11 | AR10: 19 | AS10: 1 | AT10: 3 | AU10: 2 | AV10: 2
A11: 9 | B11: =RANDBETWEEN(1,37) -> 1 | C11: =IF(B11="","",COUNTIF($B$3:B10,B11)) -> 0 | D11: =IF(B11="","",IF(C11>0,"R","")) | E11: =IF(B11="","",'Dynamic Ordinal tracker'!C10) | F11: =IF(B11="","",IF(C10=0,F10+1,F10)) -> 6 | G11: =IF(B11="","",IF(COUNTIFS(D$3:D10,"R")<O$13,0,1)) -> 1 | H11: =IF(B11="","",IF(A11>=O$12,1,0)) -> 0 | I11: =IF(B11="","",IF(H11*G11=0,"",IF(C11=0,-1,1))) | J11: =IF(B11="","",IF(F11>=36,0,IF(G11*H11=0,"",IF(AND(G11*H11=1,G10*H10=0),1,IF(AND(O$6="Yes",O$8="No",S10>S9,J10=1,I10=1),1,IF(AND(O$6="No",I10=1,J10=1),1,IF(AND(O$6="Yes",I10=-1),J10,IF(AND(S10=S9,I10=1,O$9="+/-",O$6="Yes"),J10+O$10,IF(AND(S10=S9,I10=1,O$9="Exponent",O$6="Yes"),J10*O$10,IF(AND(S10>S9,O$8="Yes"),1,IF(AND(O$9="+/-",I10=1),J10-O$11,IF(AND(O$9="+/-",I10=-1,O$6="No"),J10+O$10,IF(AND(O$9="Exponent",I10=1),J10/O$11,IF(AND(O$9="Exponent",I10=-1,O$6="No"),J10*O$10)))))))))))))) | K11: =IF(B11="","",IF(H11*G11=0,0,IF(I11=1,(36-F11)*J11*$O$3,IF(I11=-1,J11*I11*F11*$O$3)))) -> 0 | L11: =IF(B11="","",IF(A11<$O$12,0,K11+L10)) -> 0 | M11: =IF(I11="","",IF(AND(L11>=$O$4,MAX(L$3:L10)<$O$4),"KTF","")) | N11: Prog. - | O11: 1 | Q11: Rep2 spin | R11: =AP3 -> 7 | S11: =IF(L11>S10,L11,S10) -> 0 | T11: =IF(T10<>"",T10,IF(AND(T10="",L11<=O$5),L11,IF(M11="KTF",L11,""))) | U11: =IF(U10<>"",U10,IF(T11<>"",A11,"")) | V11: =IF(V10<>"",V10,IF(U11<>"",MIN(L$4:L10),"")) | W11: =IF(W10<>"",W10,IF(V11<>"",MAX(J$4:J11),"")) | X11: =IF(X10<>"",X10,IF(COUNTIFS($D$3:$D11,"R")=X$2,$A11,"")) -> 5 | Y11: =IF(Y10<>"",Y10,IF(COUNTIFS($D$3:$D11,"R")=Y$2,$A11,"")) -> 7 | Z11: =IF(Z10<>"",Z10,IF(COUNTIFS($D$3:$D11,"R")=Z$2,$A11,"")) | AA11: =IF(AA10<>"",AA10,IF(COUNTIFS($D$3:$D11,"R")=AA$2,$A11,"")) | AB11: =IF(AB10<>"",AB10,IF(COUNTIFS($D$3:$D11,"R")=AB$2,$E11,"")) -> 1 | AC11: =IF(AC10<>"",AC10,IF(COUNTIFS($D$3:$D11,"R")=AC$2,$E11,"")) -> 4 | AD11: =IF(AD10<>"",AD10,IF(COUNTIFS($D$3:$D11,"R")=AD$2,$E11,"")) | AE11: =IF(AE10<>"",AE10,IF(COUNTIFS($D$3:$D11,"R")=AE$2,$E11,"")) | AJ11: 72 | AK11: 50 | AL11: -369 | AM11: 13 | AN11: 269 | AO11: 19 | AP11: 20 | AQ11: 23 | AR11: 24 | AS11: 9 | AT11: 15 | AU11: 5 | AV11: 4
A12: 10 | B12: =RANDBETWEEN(1,37) -> 6 | C12: =IF(B12="","",COUNTIF($B$3:B11,B12)) -> 0 | D12: =IF(B12="","",IF(C12>0,"R","")) | E12: =IF(B12="","",'Dynamic Ordinal tracker'!C11) | F12: =IF(B12="","",IF(C11=0,F11+1,F11)) -> 7 | G12: =IF(B12="","",IF(COUNTIFS(D$3:D11,"R")<O$13,0,1)) -> 1 | H12: =IF(B12="","",IF(A12>=O$12,1,0)) -> 0 | I12: =IF(B12="","",IF(H12*G12=0,"",IF(C12=0,-1,1))) | J12: =IF(B12="","",IF(F12>=36,0,IF(G12*H12=0,"",IF(AND(G12*H12=1,G11*H11=0),1,IF(AND(O$6="Yes",O$8="No",S11>S10,J11=1,I11=1),1,IF(AND(O$6="No",I11=1,J11=1),1,IF(AND(O$6="Yes",I11=-1),J11,IF(AND(S11=S10,I11=1,O$9="+/-",O$6="Yes"),J11+O$10,IF(AND(S11=S10,I11=1,O$9="Exponent",O$6="Yes"),J11*O$10,IF(AND(S11>S10,O$8="Yes"),1,IF(AND(O$9="+/-",I11=1),J11-O$11,IF(AND(O$9="+/-",I11=-1,O$6="No"),J11+O$10,IF(AND(O$9="Exponent",I11=1),J11/O$11,IF(AND(O$9="Exponent",I11=-1,O$6="No"),J11*O$10)))))))))))))) | K12: =IF(B12="","",IF(H12*G12=0,0,IF(I12=1,(36-F12)*J12*$O$3,IF(I12=-1,J12*I12*F12*$O$3)))) -> 0 | L12: =IF(B12="","",IF(A12<$O$12,0,K12+L11)) -> 0 | M12: =IF(I12="","",IF(AND(L12>=$O$4,MAX(L$3:L11)<$O$4),"KTF","")) | N12: Start spin | O12: 15 | Q12: Rep3 spin | R12: =AQ3 -> 12 | S12: =IF(L12>S11,L12,S11) -> 0 | T12: =IF(T11<>"",T11,IF(AND(T11="",L12<=O$5),L12,IF(M12="KTF",L12,""))) | U12: =IF(U11<>"",U11,IF(T12<>"",A12,"")) | V12: =IF(V11<>"",V11,IF(U12<>"",MIN(L$4:L11),"")) | W12: =IF(W11<>"",W11,IF(V12<>"",MAX(J$4:J12),"")) | X12: =IF(X11<>"",X11,IF(COUNTIFS($D$3:$D12,"R")=X$2,$A12,"")) -> 5 | Y12: =IF(Y11<>"",Y11,IF(COUNTIFS($D$3:$D12,"R")=Y$2,$A12,"")) -> 7 | Z12: =IF(Z11<>"",Z11,IF(COUNTIFS($D$3:$D12,"R")=Z$2,$A12,"")) | AA12: =IF(AA11<>"",AA11,IF(COUNTIFS($D$3:$D12,"R")=AA$2,$A12,"")) | AB12: =IF(AB11<>"",AB11,IF(COUNTIFS($D$3:$D12,"R")=AB$2,$E12,"")) -> 1 | AC12: =IF(AC11<>"",AC11,IF(COUNTIFS($D$3:$D12,"R")=AC$2,$E12,"")) -> 4 | AD12: =IF(AD11<>"",AD11,IF(COUNTIFS($D$3:$D12,"R")=AD$2,$E12,"")) | AE12: =IF(AE11<>"",AE11,IF(COUNTIFS($D$3:$D12,"R")=AE$2,$E12,"")) | AJ12: 62 | AK12: 18 | AL12: 0 | AM12: 1 | AN12: 207 | AO12: 11 | AP12: 12 | AQ12: 14 | AR12: 15 | AS12: 1 | AT12: 5 | AU12: 5 | AV12: 8
A13: 11 | B13: =RANDBETWEEN(1,37) -> 8 | C13: =IF(B13="","",COUNTIF($B$3:B12,B13)) -> 0 | D13: =IF(B13="","",IF(C13>0,"R","")) | E13: =IF(B13="","",'Dynamic Ordinal tracker'!C12) | F13: =IF(B13="","",IF(C12=0,F12+1,F12)) -> 8 | G13: =IF(B13="","",IF(COUNTIFS(D$3:D12,"R")<O$13,0,1)) -> 1 | H13: =IF(B13="","",IF(A13>=O$12,1,0)) -> 0 | I13: =IF(B13="","",IF(H13*G13=0,"",IF(C13=0,-1,1))) | J13: =IF(B13="","",IF(F13>=36,0,IF(G13*H13=0,"",IF(AND(G13*H13=1,G12*H12=0),1,IF(AND(O$6="Yes",O$8="No",S12>S11,J12=1,I12=1),1,IF(AND(O$6="No",I12=1,J12=1),1,IF(AND(O$6="Yes",I12=-1),J12,IF(AND(S12=S11,I12=1,O$9="+/-",O$6="Yes"),J12+O$10,IF(AND(S12=S11,I12=1,O$9="Exponent",O$6="Yes"),J12*O$10,IF(AND(S12>S11,O$8="Yes"),1,IF(AND(O$9="+/-",I12=1),J12-O$11,IF(AND(O$9="+/-",I12=-1,O$6="No"),J12+O$10,IF(AND(O$9="Exponent",I12=1),J12/O$11,IF(AND(O$9="Exponent",I12=-1,O$6="No"),J12*O$10)))))))))))))) | K13: =IF(B13="","",IF(H13*G13=0,0,IF(I13=1,(36-F13)*J13*$O$3,IF(I13=-1,J13*I13*F13*$O$3)))) -> 0 | L13: =IF(B13="","",IF(A13<$O$12,0,K13+L12)) -> 0 | M13: =IF(I13="","",IF(AND(L13>=$O$4,MAX(L$3:L12)<$O$4),"KTF","")) | N13: Start after repeater | O13: 0 | Q13: Rep4 spin | R13: =AR3 -> 17 | S13: =IF(L13>S12,L13,S12) -> 0 | T13: =IF(T12<>"",T12,IF(AND(T12="",L13<=O$5),L13,IF(M13="KTF",L13,""))) | U13: =IF(U12<>"",U12,IF(T13<>"",A13,"")) | V13: =IF(V12<>"",V12,IF(U13<>"",MIN(L$4:L12),"")) | W13: =IF(W12<>"",W12,IF(V13<>"",MAX(J$4:J13),"")) | X13: =IF(X12<>"",X12,IF(COUNTIFS($D$3:$D13,"R")=X$2,$A13,"")) -> 5 | Y13: =IF(Y12<>"",Y12,IF(COUNTIFS($D$3:$D13,"R")=Y$2,$A13,"")) -> 7 | Z13: =IF(Z12<>"",Z12,IF(COUNTIFS($D$3:$D13,"R")=Z$2,$A13,"")) | AA13: =IF(AA12<>"",AA12,IF(COUNTIFS($D$3:$D13,"R")=AA$2,$A13,"")) | AB13: =IF(AB12<>"",AB12,IF(COUNTIFS($D$3:$D13,"R")=AB$2,$E13,"")) -> 1 | AC13: =IF(AC12<>"",AC12,IF(COUNTIFS($D$3:$D13,"R")=AC$2,$E13,"")) -> 4 | AD13: =IF(AD12<>"",AD12,IF(COUNTIFS($D$3:$D13,"R")=AD$2,$E13,"")) | AE13: =IF(AE12<>"",AE12,IF(COUNTIFS($D$3:$D13,"R")=AE$2,$E13,"")) | AJ13: 54 | AK13: 18 | AL13: 0 | AM13: 1 | AN13: -3174 | AO13: 14 | AP13: 15 | AQ13: 17 | AR13: 18 | AS13: 2 | AT13: 13 | AU13: 2 | AV13: 1
A14: 12 | B14: =RANDBETWEEN(1,37) -> 7 | C14: =IF(B14="","",COUNTIF($B$3:B13,B14)) -> 2 | D14: =IF(B14="","",IF(C14>0,"R","")) -> R | E14: =IF(B14="","",'Dynamic Ordinal tracker'!C13) -> 7 | F14: =IF(B14="","",IF(C13=0,F13+1,F13)) -> 9 | G14: =IF(B14="","",IF(COUNTIFS(D$3:D13,"R")<O$13,0,1)) -> 1 | H14: =IF(B14="","",IF(A14>=O$12,1,0)) -> 0 | I14: =IF(B14="","",IF(H14*G14=0,"",IF(C14=0,-1,1))) | J14: =IF(B14="","",IF(F14>=36,0,IF(G14*H14=0,"",IF(AND(G14*H14=1,G13*H13=0),1,IF(AND(O$6="Yes",O$8="No",S13>S12,J13=1,I13=1),1,IF(AND(O$6="No",I13=1,J13=1),1,IF(AND(O$6="Yes",I13=-1),J13,IF(AND(S13=S12,I13=1,O$9="+/-",O$6="Yes"),J13+O$10,IF(AND(S13=S12,I13=1,O$9="Exponent",O$6="Yes"),J13*O$10,IF(AND(S13>S12,O$8="Yes"),1,IF(AND(O$9="+/-",I13=1),J13-O$11,IF(AND(O$9="+/-",I13=-1,O$6="No"),J13+O$10,IF(AND(O$9="Exponent",I13=1),J13/O$11,IF(AND(O$9="Exponent",I13=-1,O$6="No"),J13*O$10)))))))))))))) | K14: =IF(B14="","",IF(H14*G14=0,0,IF(I14=1,(36-F14)*J14*$O$3,IF(I14=-1,J14*I14*F14*$O$3)))) -> 0 | L14: =IF(B14="","",IF(A14<$O$12,0,K14+L13)) -> 0 | M14: =IF(I14="","",IF(AND(L14>=$O$4,MAX(L$3:L13)<$O$4),"KTF","")) | S14: =IF(F14=0,"",IF(L14>S13,L14,S13)) -> 0 | T14: =IF(T13<>"",T13,IF(AND(T13="",L14<=O$5),L14,IF(M14="KTF",L14,""))) | U14: =IF(U13<>"",U13,IF(T14<>"",A14,"")) | V14: =IF(V13<>"",V13,IF(U14<>"",MIN(L$4:L13),"")) | W14: =IF(W13<>"",W13,IF(V14<>"",MAX(J$4:J14),"")) | X14: =IF(X13<>"",X13,IF(COUNTIFS($D$3:$D14,"R")=X$2,$A14,"")) -> 5 | Y14: =IF(Y13<>"",Y13,IF(COUNTIFS($D$3:$D14,"R")=Y$2,$A14,"")) -> 7 | Z14: =IF(Z13<>"",Z13,IF(COUNTIFS($D$3:$D14,"R")=Z$2,$A14,"")) -> 12 | AA14: =IF(AA13<>"",AA13,IF(COUNTIFS($D$3:$D14,"R")=AA$2,$A14,"")) | AB14: =IF(AB13<>"",AB13,IF(COUNTIFS($D$3:$D14,"R")=AB$2,$E14,"")) -> 1 | AC14: =IF(AC13<>"",AC13,IF(COUNTIFS($D$3:$D14,"R")=AC$2,$E14,"")) -> 4 | AD14: =IF(AD13<>"",AD13,IF(COUNTIFS($D$3:$D14,"R")=AD$2,$E14,"")) -> 7 | AE14: =IF(AE13<>"",AE13,IF(COUNTIFS($D$3:$D14,"R")=AE$2,$E14,"")) | AJ14: 61 | AK14: 24 | AL14: -34 | AM14: 3 | AN14: -610 | AO14: 12 | AP14: 14 | AQ14: 16 | AR14: 17 | AS14: 5 | AT14: 4 | AU14: 13 | AV14: 3
A15: 13 | B15: =RANDBETWEEN(1,37) -> 10 | C15: =IF(B15="","",COUNTIF($B$3:B14,B15)) -> 0 | D15: =IF(B15="","",IF(C15>0,"R","")) | E15: =IF(B15="","",'Dynamic Ordinal tracker'!C14) | F15: =IF(B15="","",IF(C14=0,F14+1,F14)) -> 9 | G15: =IF(B15="","",IF(COUNTIFS(D$3:D14,"R")<O$13,0,1)) -> 1 | H15: =IF(B15="","",IF(A15>=O$12,1,0)) -> 0 | I15: =IF(B15="","",IF(H15*G15=0,"",IF(C15=0,-1,1))) | J15: =IF(B15="","",IF(F15>=36,0,IF(G15*H15=0,"",IF(AND(G15*H15=1,G14*H14=0),1,IF(AND(O$6="Yes",O$8="No",S14>S13,J14=1,I14=1),1,IF(AND(O$6="No",I14=1,J14=1),1,IF(AND(O$6="Yes",I14=-1),J14,IF(AND(S14=S13,I14=1,O$9="+/-",O$6="Yes"),J14+O$10,IF(AND(S14=S13,I14=1,O$9="Exponent",O$6="Yes"),J14*O$10,IF(AND(S14>S13,O$8="Yes"),1,IF(AND(O$9="+/-",I14=1),J14-O$11,IF(AND(O$9="+/-",I14=-1,O$6="No"),J14+O$10,IF(AND(O$9="Exponent",I14=1),J14/O$11,IF(AND(O$9="Exponent",I14=-1,O$6="No"),J14*O$10)))))))))))))) | K15: =IF(B15="","",IF(H15*G15=0,0,IF(I15=1,(36-F15)*J15*$O$3,IF(I15=-1,J15*I15*F15*$O$3)))) -> 0 | L15: =IF(B15="","",IF(A15<$O$12,0,K15+L14)) -> 0 | M15: =IF(I15="","",IF(AND(L15>=$O$4,MAX(L$3:L14)<$O$4),"KTF","")) | Q15: Rep1 gap | R15: =AS3 -> 1 | S15: =IF(F15=0,"",IF(L15>S14,L15,S14)) -> 0 | T15: =IF(T14<>"",T14,IF(AND(T14="",L15<=O$5),L15,IF(M15="KTF",L15,""))) | U15: =IF(U14<>"",U14,IF(T15<>"",A15,"")) | V15: =IF(V14<>"",V14,IF(U15<>"",MIN(L$4:L14),"")) | W15: =IF(W14<>"",W14,IF(V15<>"",MAX(J$4:J15),"")) | X15: =IF(X14<>"",X14,IF(COUNTIFS($D$3:$D15,"R")=X$2,$A15,"")) -> 5 | Y15: =IF(Y14<>"",Y14,IF(COUNTIFS($D$3:$D15,"R")=Y$2,$A15,"")) -> 7 | Z15: =IF(Z14<>"",Z14,IF(COUNTIFS($D$3:$D15,"R")=Z$2,$A15,"")) -> 12 | AA15: =IF(AA14<>"",AA14,IF(COUNTIFS($D$3:$D15,"R")=AA$2,$A15,"")) | AB15: =IF(AB14<>"",AB14,IF(COUNTIFS($D$3:$D15,"R")=AB$2,$E15,"")) -> 1 | AC15: =IF(AC14<>"",AC14,IF(COUNTIFS($D$3:$D15,"R")=AC$2,$E15,"")) -> 4 | AD15: =IF(AD14<>"",AD14,IF(COUNTIFS($D$3:$D15,"R")=AD$2,$E15,"")) -> 7 | AE15: =IF(AE14<>"",AE14,IF(COUNTIFS($D$3:$D15,"R")=AE$2,$E15,"")) | AG15: Not sure if Waldo is around... | AJ15: 51 | AK15: 75 | AL15: -781 | AM15: 18 | AN15: -218 | AO15: 8 | AP15: 9 | AQ15: 11 | AR15: 17 | AS15: 7 | AT15: 6 | AU15: 3 | AV15: 12
A16: 14 | B16: =RANDBETWEEN(1,37) -> 24 | C16: =IF(B16="","",COUNTIF($B$3:B15,B16)) -> 0 | D16: =IF(B16="","",IF(C16>0,"R","")) | E16: =IF(B16="","",'Dynamic Ordinal tracker'!C15) | F16: =IF(B16="","",IF(C15=0,F15+1,F15)) -> 10 | G16: =IF(B16="","",IF(COUNTIFS(D$3:D15,"R")<O$13,0,1)) -> 1 | H16: =IF(B16="","",IF(A16>=O$12,1,0)) -> 0 | I16: =IF(B16="","",IF(H16*G16=0,"",IF(C16=0,-1,1))) | J16: =IF(B16="","",IF(F16>=36,0,IF(G16*H16=0,"",IF(AND(G16*H16=1,G15*H15=0),1,IF(AND(O$6="Yes",O$8="No",S15>S14,J15=1,I15=1),1,IF(AND(O$6="No",I15=1,J15=1),1,IF(AND(O$6="Yes",I15=-1),J15,IF(AND(S15=S14,I15=1,O$9="+/-",O$6="Yes"),J15+O$10,IF(AND(S15=S14,I15=1,O$9="Exponent",O$6="Yes"),J15*O$10,IF(AND(S15>S14,O$8="Yes"),1,IF(AND(O$9="+/-",I15=1),J15-O$11,IF(AND(O$9="+/-",I15=-1,O$6="No"),J15+O$10,IF(AND(O$9="Exponent",I15=1),J15/O$11,IF(AND(O$9="Exponent",I15=-1,O$6="No"),J15*O$10)))))))))))))) | K16: =IF(B16="","",IF(H16*G16=0,0,IF(I16=1,(36-F16)*J16*$O$3,IF(I16=-1,J16*I16*F16*$O$3)))) -> 0 | L16: =IF(B16="","",IF(A16<$O$12,0,K16+L15)) -> 0 | M16: =IF(I16="","",IF(AND(L16>=$O$4,MAX(L$3:L15)<$O$4),"KTF","")) | Q16: Rep2 gap | R16: =AT3 -> 4 | S16: =IF(F16=0,"",IF(L16>S15,L16,S15)) -> 0 | T16: =IF(T15<>"",T15,IF(AND(T15="",L16<=O$5),L16,IF(M16="KTF",L16,""))) | U16: =IF(U15<>"",U15,IF(T16<>"",A16,"")) | V16: =IF(V15<>"",V15,IF(U16<>"",MIN(L$4:L15),"")) | W16: =IF(W15<>"",W15,IF(V16<>"",MAX(J$4:J16),"")) | X16: =IF(X15<>"",X15,IF(COUNTIFS($D$3:$D16,"R")=X$2,$A16,"")) -> 5 | Y16: =IF(Y15<>"",Y15,IF(COUNTIFS($D$3:$D16,"R")=Y$2,$A16,"")) -> 7 | Z16: =IF(Z15<>"",Z15,IF(COUNTIFS($D$3:$D16,"R")=Z$2,$A16,"")) -> 12 | AA16: =IF(AA15<>"",AA15,IF(COUNTIFS($D$3:$D16,"R")=AA$2,$A16,"")) | AB16: =IF(AB15<>"",AB15,IF(COUNTIFS($D$3:$D16,"R")=AB$2,$E16,"")) -> 1 | AC16: =IF(AC15<>"",AC15,IF(COUNTIFS($D$3:$D16,"R")=AC$2,$E16,"")) -> 4 | AD16: =IF(AD15<>"",AD15,IF(COUNTIFS($D$3:$D16,"R")=AD$2,$E16,"")) -> 7 | AE16: =IF(AE15<>"",AE15,IF(COUNTIFS($D$3:$D16,"R")=AE$2,$E16,"")) | AJ16: 58 | AK16: 20 | AL16: -13 | AM16: 1 | AN16: 386 | AO16: 9 | AP16: 16 | AQ16: 18 | AR16: 19 | AS16: 3 | AT16: 6 | AU16: 9 | AV16: 9
A17: 15 | B17: =RANDBETWEEN(1,37) -> 20 | C17: =IF(B17="","",COUNTIF($B$3:B16,B17)) -> 0 | D17: =IF(B17="","",IF(C17>0,"R","")) | E17: =IF(B17="","",'Dynamic Ordinal tracker'!C16) | F17: =IF(B17="","",IF(C16=0,F16+1,F16)) -> 11 | G17: =IF(B17="","",IF(COUNTIFS(D$3:D16,"R")<O$13,0,1)) -> 1 | H17: =IF(B17="","",IF(A17>=O$12,1,0)) -> 1 | I17: =IF(B17="","",IF(H17*G17=0,"",IF(C17=0,-1,1))) -> -1 | J17: =IF(B17="","",IF(F17>=36,0,IF(G17*H17=0,"",IF(AND(G17*H17=1,G16*H16=0),1,IF(AND(O$6="Yes",O$8="No",S16>S15,J16=1,I16=1),1,IF(AND(O$6="No",I16=1,J16=1),1,IF(AND(O$6="Yes",I16=-1),J16,IF(AND(S16=S15,I16=1,O$9="+/-",O$6="Yes"),J16+O$10,IF(AND(S16=S15,I16=1,O$9="Exponent",O$6="Yes"),J16*O$10,IF(AND(S16>S15,O$8="Yes"),1,IF(AND(O$9="+/-",I16=1),J16-O$11,IF(AND(O$9="+/-",I16=-1,O$6="No"),J16+O$10,IF(AND(O$9="Exponent",I16=1),J16/O$11,IF(AND(O$9="Exponent",I16=-1,O$6="No"),J16*O$10)))))))))))))) -> 1 | K17: =IF(B17="","",IF(H17*G17=0,0,IF(I17=1,(36-F17)*J17*$O$3,IF(I17=-1,J17*I17*F17*$O$3)))) -> -11 | L17: =IF(B17="","",IF(A17<$O$12,0,K17+L16)) -> -11 | M17: =IF(I17="","",IF(AND(L17>=$O$4,MAX(L$3:L16)<$O$4),"KTF","")) | Q17: Rep3 gap | R17: =AU3 -> 7 | S17: =IF(F17=0,"",IF(L17>S16,L17,S16)) -> 0 | T17: =IF(T16<>"",T16,IF(AND(T16="",L17<=O$5),L17,IF(M17="KTF",L17,""))) | U17: =IF(U16<>"",U16,IF(T17<>"",A17,"")) | V17: =IF(V16<>"",V16,IF(U17<>"",MIN(L$4:L16),"")) | W17: =IF(W16<>"",W16,IF(V17<>"",MAX(J$4:J17),"")) | X17: =IF(X16<>"",X16,IF(COUNTIFS($D$3:$D17,"R")=X$2,$A17,"")) -> 5 | Y17: =IF(Y16<>"",Y16,IF(COUNTIFS($D$3:$D17,"R")=Y$2,$A17,"")) -> 7 | Z17: =IF(Z16<>"",Z16,IF(COUNTIFS($D$3:$D17,"R")=Z$2,$A17,"")) -> 12 | AA17: =IF(AA16<>"",AA16,IF(COUNTIFS($D$3:$D17,"R")=AA$2,$A17,"")) | AB17: =IF(AB16<>"",AB16,IF(COUNTIFS($D$3:$D17,"R")=AB$2,$E17,"")) -> 1 | AC17: =IF(AC16<>"",AC16,IF(COUNTIFS($D$3:$D17,"R")=AC$2,$E17,"")) -> 4 | AD17: =IF(AD16<>"",AD16,IF(COUNTIFS($D$3:$D17,"R")=AD$2,$E17,"")) -> 7 | AE17: =IF(AE16<>"",AE16,IF(COUNTIFS($D$3:$D17,"R")=AE$2,$E17,"")) | AJ17: 50 | AK17: 16 | AL17: 0 | AM17: 1 | AN17: -3692 | AO17: 9 | AP17: 10 | AQ17: 11 | AR17: 15 | AS17: 7 | AT17: 1 | AU17: 8 | AV17: 11
A18: 16 | B18: =RANDBETWEEN(1,37) -> 15 | C18: =IF(B18="","",COUNTIF($B$3:B17,B18)) -> 0 | D18: =IF(B18="","",IF(C18>0,"R","")) | E18: =IF(B18="","",'Dynamic Ordinal tracker'!C17) | F18: =IF(B18="","",IF(C17=0,F17+1,F17)) -> 12 | G18: =IF(B18="","",IF(COUNTIFS(D$3:D17,"R")<O$13,0,1)) -> 1 | H18: =IF(B18="","",IF(A18>=O$12,1,0)) -> 1 | I18: =IF(B18="","",IF(H18*G18=0,"",IF(C18=0,-1,1))) -> -1 | J18: =IF(B18="","",IF(F18>=36,0,IF(G18*H18=0,"",IF(AND(G18*H18=1,G17*H17=0),1,IF(AND(O$6="Yes",O$8="No",S17>S16,J17=1,I17=1),1,IF(AND(O$6="No",I17=1,J17=1),1,IF(AND(O$6="Yes",I17=-1),J17,IF(AND(S17=S16,I17=1,O$9="+/-",O$6="Yes"),J17+O$10,IF(AND(S17=S16,I17=1,O$9="Exponent",O$6="Yes"),J17*O$10,IF(AND(S17>S16,O$8="Yes"),1,IF(AND(O$9="+/-",I17=1),J17-O$11,IF(AND(O$9="+/-",I17=-1,O$6="No"),J17+O$10,IF(AND(O$9="Exponent",I17=1),J17/O$11,IF(AND(O$9="Exponent",I17=-1,O$6="No"),J17*O$10)))))))))))))) -> 1 | K18: =IF(B18="","",IF(H18*G18=0,0,IF(I18=1,(36-F18)*J18*$O$3,IF(I18=-1,J18*I18*F18*$O$3)))) -> -12 | L18: =IF(B18="","",IF(A18<$O$12,0,K18+L17)) -> -23 | M18: =IF(I18="","",IF(AND(L18>=$O$4,MAX(L$3:L17)<$O$4),"KTF","")) | Q18: Rep4 gap | R18: =AV3 -> 2 | S18: =IF(F18=0,"",IF(L18>S17,L18,S17)) -> 0 | T18: =IF(T17<>"",T17,IF(AND(T17="",L18<=O$5),L18,IF(M18="KTF",L18,""))) | U18: =IF(U17<>"",U17,IF(T18<>"",A18,"")) | V18: =IF(V17<>"",V17,IF(U18<>"",MIN(L$4:L17),"")) | W18: =IF(W17<>"",W17,IF(V18<>"",MAX(J$4:J18),"")) | X18: =IF(X17<>"",X17,IF(COUNTIFS($D$3:$D18,"R")=X$2,$A18,"")) -> 5 | Y18: =IF(Y17<>"",Y17,IF(COUNTIFS($D$3:$D18,"R")=Y$2,$A18,"")) -> 7 | Z18: =IF(Z17<>"",Z17,IF(COUNTIFS($D$3:$D18,"R")=Z$2,$A18,"")) -> 12 | AA18: =IF(AA17<>"",AA17,IF(COUNTIFS($D$3:$D18,"R")=AA$2,$A18,"")) | AB18: =IF(AB17<>"",AB17,IF(COUNTIFS($D$3:$D18,"R")=AB$2,$E18,"")) -> 1 | AC18: =IF(AC17<>"",AC17,IF(COUNTIFS($D$3:$D18,"R")=AC$2,$E18,"")) -> 4 | AD18: =IF(AD17<>"",AD17,IF(COUNTIFS($D$3:$D18,"R")=AD$2,$E18,"")) -> 7 | AE18: =IF(AE17<>"",AE17,IF(COUNTIFS($D$3:$D18,"R")=AE$2,$E18,"")) | AJ18: 59 | AK18: 27 | AL18: -101 | AM18: 4 | AN18: 309 | AO18: 13 | AP18: 14 | AQ18: 16 | AR18: 24 | AS18: 5 | AT18: 1 | AU18: 12 | AV18: 8
A19: 17 | B19: =RANDBETWEEN(1,37) -> 20 | C19: =IF(B19="","",COUNTIF($B$3:B18,B19)) -> 1 | D19: =IF(B19="","",IF(C19>0,"R","")) -> R | E19: =IF(B19="","",'Dynamic Ordinal tracker'!C18) -> 2 | F19: =IF(B19="","",IF(C18=0,F18+1,F18)) -> 13 | G19: =IF(B19="","",IF(COUNTIFS(D$3:D18,"R")<O$13,0,1)) -> 1 | H19: =IF(B19="","",IF(A19>=O$12,1,0)) -> 1 | I19: =IF(B19="","",IF(H19*G19=0,"",IF(C19=0,-1,1))) -> 1 | J19: =IF(B19="","",IF(F19>=36,0,IF(G19*H19=0,"",IF(AND(G19*H19=1,G18*H18=0),1,IF(AND(O$6="Yes",O$8="No",S18>S17,J18=1,I18=1),1,IF(AND(O$6="No",I18=1,J18=1),1,IF(AND(O$6="Yes",I18=-1),J18,IF(AND(S18=S17,I18=1,O$9="+/-",O$6="Yes"),J18+O$10,IF(AND(S18=S17,I18=1,O$9="Exponent",O$6="Yes"),J18*O$10,IF(AND(S18>S17,O$8="Yes"),1,IF(AND(O$9="+/-",I18=1),J18-O$11,IF(AND(O$9="+/-",I18=-1,O$6="No"),J18+O$10,IF(AND(O$9="Exponent",I18=1),J18/O$11,IF(AND(O$9="Exponent",I18=-1,O$6="No"),J18*O$10)))))))))))))) -> 1 | K19: =IF(B19="","",IF(H19*G19=0,0,IF(I19=1,(36-F19)*J19*$O$3,IF(I19=-1,J19*I19*F19*$O$3)))) -> 23 | L19: =IF(B19="","",IF(A19<$O$12,0,K19+L18)) -> 0 | M19: =IF(I19="","",IF(AND(L19>=$O$4,MAX(L$3:L18)<$O$4),"KTF","")) | S19: =IF(F19=0,"",IF(L19>S18,L19,S18)) -> 0 | T19: =IF(T18<>"",T18,IF(AND(T18="",L19<=O$5),L19,IF(M19="KTF",L19,""))) | U19: =IF(U18<>"",U18,IF(T19<>"",A19,"")) | V19: =IF(V18<>"",V18,IF(U19<>"",MIN(L$4:L18),"")) | W19: =IF(W18<>"",W18,IF(V19<>"",MAX(J$4:J19),"")) | X19: =IF(X18<>"",X18,IF(COUNTIFS($D$3:$D19,"R")=X$2,$A19,"")) -> 5 | Y19: =IF(Y18<>"",Y18,IF(COUNTIFS($D$3:$D19,"R")=Y$2,$A19,"")) -> 7 | Z19: =IF(Z18<>"",Z18,IF(COUNTIFS($D$3:$D19,"R")=Z$2,$A19,"")) -> 12 | AA19: =IF(AA18<>"",AA18,IF(COUNTIFS($D$3:$D19,"R")=AA$2,$A19,"")) -> 17 | AB19: =IF(AB18<>"",AB18,IF(COUNTIFS($D$3:$D19,"R")=AB$2,$E19,"")) -> 1 | AC19: =IF(AC18<>"",AC18,IF(COUNTIFS($D$3:$D19,"R")=AC$2,$E19,"")) -> 4 | AD19: =IF(AD18<>"",AD18,IF(COUNTIFS($D$3:$D19,"R")=AD$2,$E19,"")) -> 7 | AE19: =IF(AE18<>"",AE18,IF(COUNTIFS($D$3:$D19,"R")=AE$2,$E19,"")) -> 2 | AJ19: 79 | AK19: 32 | AL19: -89 | AM19: 5 | AN19: -2756 | AO19: 13 | AP19: 16 | AQ19: 20 | AR19: 21 | AS19: 12 | AT19: 8 | AU19: 3 | AV19: 8
A20: 18 | B20: =RANDBETWEEN(1,37) -> 2 | C20: =IF(B20="","",COUNTIF($B$3:B19,B20)) -> 0 | D20: =IF(B20="","",IF(C20>0,"R","")) | E20: =IF(B20="","",'Dynamic Ordinal tracker'!C19) | F20: =IF(B20="","",IF(C19=0,F19+1,F19)) -> 13 | G20: =IF(B20="","",IF(COUNTIFS(D$3:D19,"R")<O$13,0,1)) -> 1 | H20: =IF(B20="","",IF(A20>=O$12,1,0)) -> 1 | I20: =IF(B20="","",IF(H20*G20=0,"",IF(C20=0,-1,1))) -> -1 | J20: =IF(B20="","",IF(F20>=36,0,IF(G20*H20=0,"",IF(AND(G20*H20=1,G19*H19=0),1,IF(AND(O$6="Yes",O$8="No",S19>S18,J19=1,I19=1),1,IF(AND(O$6="No",I19=1,J19=1),1,IF(AND(O$6="Yes",I19=-1),J19,IF(AND(S19=S18,I19=1,O$9="+/-",O$6="Yes"),J19+O$10,IF(AND(S19=S18,I19=1,O$9="Exponent",O$6="Yes"),J19*O$10,IF(AND(S19>S18,O$8="Yes"),1,IF(AND(O$9="+/-",I19=1),J19-O$11,IF(AND(O$9="+/-",I19=-1,O$6="No"),J19+O$10,IF(AND(O$9="Exponent",I19=1),J19/O$11,IF(AND(O$9="Exponent",I19=-1,O$6="No"),J19*O$10)))))))))))))) -> 2 | K20: =IF(B20="","",IF(H20*G20=0,0,IF(I20=1,(36-F20)*J20*$O$3,IF(I20=-1,J20*I20*F20*$O$3)))) -> -26 | L20: =IF(B20="","",IF(A20<$O$12,0,K20+L19)) -> -26 | M20: =IF(I20="","",IF(AND(L20>=$O$4,MAX(L$3:L19)<$O$4),"KTF","")) | S20: =IF(F20=0,"",IF(L20>S19,L20,S19)) -> 0 | T20: =IF(T19<>"",T19,IF(AND(T19="",L20<=O$5),L20,IF(M20="KTF",L20,""))) | U20: =IF(U19<>"",U19,IF(T20<>"",A20,"")) | V20: =IF(V19<>"",V19,IF(U20<>"",MIN(L$4:L19),"")) | W20: =IF(W19<>"",W19,IF(V20<>"",MAX(J$4:J20),"")) | X20: =IF(X19<>"",X19,IF(COUNTIFS($D$3:$D20,"R")=X$2,$A20,"")) -> 5 | Y20: =IF(Y19<>"",Y19,IF(COUNTIFS($D$3:$D20,"R")=Y$2,$A20,"")) -> 7 | Z20: =IF(Z19<>"",Z19,IF(COUNTIFS($D$3:$D20,"R")=Z$2,$A20,"")) -> 12 | AA20: =IF(AA19<>"",AA19,IF(COUNTIFS($D$3:$D20,"R")=AA$2,$A20,"")) -> 17 | AB20: =IF(AB19<>"",AB19,IF(COUNTIFS($D$3:$D20,"R")=AB$2,$E20,"")) -> 1 | AC20: =IF(AC19<>"",AC19,IF(COUNTIFS($D$3:$D20,"R")=AC$2,$E20,"")) -> 4 | AD20: =IF(AD19<>"",AD19,IF(COUNTIFS($D$3:$D20,"R")=AD$2,$E20,"")) -> 7 | AE20: =IF(AE19<>"",AE19,IF(COUNTIFS($D$3:$D20,"R")=AE$2,$E20,"")) -> 2 | AJ20: 65 | AK20: 27 | AL20: -71 | AM20: 3 | AN20: 165 | AO20: 2 | AP20: 16 | AQ20: 21 | AR20: 23 | AS20: 1 | AT20: 2 | AU20: 11 | AV20: 12
A21: 19 | B21: =RANDBETWEEN(1,37) -> 27 | C21: =IF(B21="","",COUNTIF($B$3:B20,B21)) -> 0 | D21: =IF(B21="","",IF(C21>0,"R","")) | E21: =IF(B21="","",'Dynamic Ordinal tracker'!C20) | F21: =IF(B21="","",IF(C20=0,F20+1,F20)) -> 14 | G21: =IF(B21="","",IF(COUNTIFS(D$3:D20,"R")<O$13,0,1)) -> 1 | H21: =IF(B21="","",IF(A21>=O$12,1,0)) -> 1 | I21: =IF(B21="","",IF(H21*G21=0,"",IF(C21=0,-1,1))) -> -1 | J21: =IF(B21="","",IF(F21>=36,0,IF(G21*H21=0,"",IF(AND(G21*H21=1,G20*H20=0),1,IF(AND(O$6="Yes",O$8="No",S20>S19,J20=1,I20=1),1,IF(AND(O$6="No",I20=1,J20=1),1,IF(AND(O$6="Yes",I20=-1),J20,IF(AND(S20=S19,I20=1,O$9="+/-",O$6="Yes"),J20+O$10,IF(AND(S20=S19,I20=1,O$9="Exponent",O$6="Yes"),J20*O$10,IF(AND(S20>S19,O$8="Yes"),1,IF(AND(O$9="+/-",I20=1),J20-O$11,IF(AND(O$9="+/-",I20=-1,O$6="No"),J20+O$10,IF(AND(O$9="Exponent",I20=1),J20/O$11,IF(AND(O$9="Exponent",I20=-1,O$6="No"),J20*O$10)))))))))))))) -> 2 | K21: =IF(B21="","",IF(H21*G21=0,0,IF(I21=1,(36-F21)*J21*$O$3,IF(I21=-1,J21*I21*F21*$O$3)))) -> -28 | L21: =IF(B21="","",IF(A21<$O$12,0,K21+L20)) -> -54 | M21: =IF(I21="","",IF(AND(L21>=$O$4,MAX(L$3:L20)<$O$4),"KTF","")) | S21: =IF(F21=0,"",IF(L21>S20,L21,S20)) -> 0 | T21: =IF(T20<>"",T20,IF(AND(T20="",L21<=O$5),L21,IF(M21="KTF",L21,""))) | U21: =IF(U20<>"",U20,IF(T21<>"",A21,"")) | V21: =IF(V20<>"",V20,IF(U21<>"",MIN(L$4:L20),"")) | W21: =IF(W20<>"",W20,IF(V21<>"",MAX(J$4:J21),"")) | X21: =IF(X20<>"",X20,IF(COUNTIFS($D$3:$D21,"R")=X$2,$A21,"")) -> 5 | Y21: =IF(Y20<>"",Y20,IF(COUNTIFS($D$3:$D21,"R")=Y$2,$A21,"")) -> 7 | Z21: =IF(Z20<>"",Z20,IF(COUNTIFS($D$3:$D21,"R")=Z$2,$A21,"")) -> 12 | AA21: =IF(AA20<>"",AA20,IF(COUNTIFS($D$3:$D21,"R")=AA$2,$A21,"")) -> 17 | AB21: =IF(AB20<>"",AB20,IF(COUNTIFS($D$3:$D21,"R")=AB$2,$E21,"")) -> 1 | AC21: =IF(AC20<>"",AC20,IF(COUNTIFS($D$3:$D21,"R")=AC$2,$E21,"")) -> 4 | AD21: =IF(AD20<>"",AD20,IF(COUNTIFS($D$3:$D21,"R")=AD$2,$E21,"")) -> 7 | AE21: =IF(AE20<>"",AE20,IF(COUNTIFS($D$3:$D21,"R")=AE$2,$E21,"")) -> 2 | AJ21: 54 | AK21: 19 | AL21: 0 | AM21: 1 | AN21: -4446 | AO21: 8 | AP21: 9 | AQ21: 13 | AR21: 14 | AS21: 4 | AT21: 7 | AU21: 8 | AV21: 3
A22: 20 | B22: =RANDBETWEEN(1,37) -> 27 | C22: =IF(B22="","",COUNTIF($B$3:B21,B22)) -> 1 | D22: =IF(B22="","",IF(C22>0,"R","")) -> R | E22: =IF(B22="","",'Dynamic Ordinal tracker'!C21) -> 1 | F22: =IF(B22="","",IF(C21=0,F21+1,F21)) -> 15 | G22: =IF(B22="","",IF(COUNTIFS(D$3:D21,"R")<O$13,0,1)) -> 1 | H22: =IF(B22="","",IF(A22>=O$12,1,0)) -> 1 | I22: =IF(B22="","",IF(H22*G22=0,"",IF(C22=0,-1,1))) -> 1 | J22: =IF(B22="","",IF(F22>=36,0,IF(G22*H22=0,"",IF(AND(G22*H22=1,G21*H21=0),1,IF(AND(O$6="Yes",O$8="No",S21>S20,J21=1,I21=1),1,IF(AND(O$6="No",I21=1,J21=1),1,IF(AND(O$6="Yes",I21=-1),J21,IF(AND(S21=S20,I21=1,O$9="+/-",O$6="Yes"),J21+O$10,IF(AND(S21=S20,I21=1,O$9="Exponent",O$6="Yes"),J21*O$10,IF(AND(S21>S20,O$8="Yes"),1,IF(AND(O$9="+/-",I21=1),J21-O$11,IF(AND(O$9="+/-",I21=-1,O$6="No"),J21+O$10,IF(AND(O$9="Exponent",I21=1),J21/O$11,IF(AND(O$9="Exponent",I21=-1,O$6="No"),J21*O$10)))))))))))))) -> 2 | K22: =IF(B22="","",IF(H22*G22=0,0,IF(I22=1,(36-F22)*J22*$O$3,IF(I22=-1,J22*I22*F22*$O$3)))) -> 42 | L22: =IF(B22="","",IF(A22<$O$12,0,K22+L21)) -> -12 | M22: =IF(I22="","",IF(AND(L22>=$O$4,MAX(L$3:L21)<$O$4),"KTF","")) | S22: =IF(F22=0,"",IF(L22>S21,L22,S21)) -> 0 | T22: =IF(T21<>"",T21,IF(AND(T21="",L22<=O$5),L22,IF(M22="KTF",L22,""))) | U22: =IF(U21<>"",U21,IF(T22<>"",A22,"")) | V22: =IF(V21<>"",V21,IF(U22<>"",MIN(L$4:L21),"")) | W22: =IF(W21<>"",W21,IF(V22<>"",MAX(J$4:J22),"")) | X22: =IF(X21<>"",X21,IF(COUNTIFS($D$3:$D22,"R")=X$2,$A22,"")) -> 5 | Y22: =IF(Y21<>"",Y21,IF(COUNTIFS($D$3:$D22,"R")=Y$2,$A22,"")) -> 7 | Z22: =IF(Z21<>"",Z21,IF(COUNTIFS($D$3:$D22,"R")=Z$2,$A22,"")) -> 12 | AA22: =IF(AA21<>"",AA21,IF(COUNTIFS($D$3:$D22,"R")=AA$2,$A22,"")) -> 17 | AB22: =IF(AB21<>"",AB21,IF(COUNTIFS($D$3:$D22,"R")=AB$2,$E22,"")) -> 1 | AC22: =IF(AC21<>"",AC21,IF(COUNTIFS($D$3:$D22,"R")=AC$2,$E22,"")) -> 4 | AD22: =IF(AD21<>"",AD21,IF(COUNTIFS($D$3:$D22,"R")=AD$2,$E22,"")) -> 7 | AE22: =IF(AE21<>"",AE21,IF(COUNTIFS($D$3:$D22,"R")=AE$2,$E22,"")) -> 2 | AJ22: 67 | AK22: 27 | AL22: -52 | AM22: 4 | AN22: -1824 | AO22: 12 | AP22: 14 | AQ22: 17 | AR22: 18 | AS22: 11 | AT22: 6 | AU22: 5 | AV22: 10
A23: 21 | B23: =RANDBETWEEN(1,37) -> 23 | C23: =IF(B23="","",COUNTIF($B$3:B22,B23)) -> 0 | D23: =IF(B23="","",IF(C23>0,"R","")) | E23: =IF(B23="","",'Dynamic Ordinal tracker'!C22) | F23: =IF(B23="","",IF(C22=0,F22+1,F22)) -> 15 | G23: =IF(B23="","",IF(COUNTIFS(D$3:D22,"R")<O$13,0,1)) -> 1 | H23: =IF(B23="","",IF(A23>=O$12,1,0)) -> 1 | I23: =IF(B23="","",IF(H23*G23=0,"",IF(C23=0,-1,1))) -> -1 | J23: =IF(B23="","",IF(F23>=36,0,IF(G23*H23=0,"",IF(AND(G23*H23=1,G22*H22=0),1,IF(AND(O$6="Yes",O$8="No",S22>S21,J22=1,I22=1),1,IF(AND(O$6="No",I22=1,J22=1),1,IF(AND(O$6="Yes",I22=-1),J22,IF(AND(S22=S21,I22=1,O$9="+/-",O$6="Yes"),J22+O$10,IF(AND(S22=S21,I22=1,O$9="Exponent",O$6="Yes"),J22*O$10,IF(AND(S22>S21,O$8="Yes"),1,IF(AND(O$9="+/-",I22=1),J22-O$11,IF(AND(O$9="+/-",I22=-1,O$6="No"),J22+O$10,IF(AND(O$9="Exponent",I22=1),J22/O$11,IF(AND(O$9="Exponent",I22=-1,O$6="No"),J22*O$10)))))))))))))) -> 3 | K23: =IF(B23="","",IF(H23*G23=0,0,IF(I23=1,(36-F23)*J23*$O$3,IF(I23=-1,J23*I23*F23*$O$3)))) -> -45 | L23: =IF(B23="","",IF(A23<$O$12,0,K23+L22)) -> -57 | M23: =IF(I23="","",IF(AND(L23>=$O$4,MAX(L$3:L22)<$O$4),"KTF","")) | S23: =IF(F23=0,"",IF(L23>S22,L23,S22)) -> 0 | T23: =IF(T22<>"",T22,IF(AND(T22="",L23<=O$5),L23,IF(M23="KTF",L23,""))) | U23: =IF(U22<>"",U22,IF(T23<>"",A23,"")) | V23: =IF(V22<>"",V22,IF(U23<>"",MIN(L$4:L22),"")) | W23: =IF(W22<>"",W22,IF(V23<>"",MAX(J$4:J23),"")) | X23: =IF(X22<>"",X22,IF(COUNTIFS($D$3:$D23,"R")=X$2,$A23,"")) -> 5 | Y23: =IF(Y22<>"",Y22,IF(COUNTIFS($D$3:$D23,"R")=Y$2,$A23,"")) -> 7 | Z23: =IF(Z22<>"",Z22,IF(COUNTIFS($D$3:$D23,"R")=Z$2,$A23,"")) -> 12 | AA23: =IF(AA22<>"",AA22,IF(COUNTIFS($D$3:$D23,"R")=AA$2,$A23,"")) -> 17 | AB23: =IF(AB22<>"",AB22,IF(COUNTIFS($D$3:$D23,"R")=AB$2,$E23,"")) -> 1 | AC23: =IF(AC22<>"",AC22,IF(COUNTIFS($D$3:$D23,"R")=AC$2,$E23,"")) -> 4 | AD23: =IF(AD22<>"",AD22,IF(COUNTIFS($D$3:$D23,"R")=AD$2,$E23,"")) -> 7 | AE23: =IF(AE22<>"",AE22,IF(COUNTIFS($D$3:$D23,"R")=AE$2,$E23,"")) -> 2 | AJ23: 69 | AK23: 17 | AL23: 0 | AM23: 1 | AN23: 398 | AO23: 9 | AP23: 15 | AQ23: 16 | AR23: 17 | AS23: 4 | AT23: 3 | AU23: 2 | AV23: 2
A24: 22 | B24: =RANDBETWEEN(1,37) -> 36 | C24: =IF(B24="","",COUNTIF($B$3:B23,B24)) -> 0 | D24: =IF(B24="","",IF(C24>0,"R","")) | E24: =IF(B24="","",'Dynamic Ordinal tracker'!C23) | F24: =IF(B24="","",IF(C23=0,F23+1,F23)) -> 16 | G24: =IF(B24="","",IF(COUNTIFS(D$3:D23,"R")<O$13,0,1)) -> 1 | H24: =IF(B24="","",IF(A24>=O$12,1,0)) -> 1 | I24: =IF(B24="","",IF(H24*G24=0,"",IF(C24=0,-1,1))) -> -1 | J24: =IF(B24="","",IF(F24>=36,0,IF(G24*H24=0,"",IF(AND(G24*H24=1,G23*H23=0),1,IF(AND(O$6="Yes",O$8="No",S23>S22,J23=1,I23=1),1,IF(AND(O$6="No",I23=1,J23=1),1,IF(AND(O$6="Yes",I23=-1),J23,IF(AND(S23=S22,I23=1,O$9="+/-",O$6="Yes"),J23+O$10,IF(AND(S23=S22,I23=1,O$9="Exponent",O$6="Yes"),J23*O$10,IF(AND(S23>S22,O$8="Yes"),1,IF(AND(O$9="+/-",I23=1),J23-O$11,IF(AND(O$9="+/-",I23=-1,O$6="No"),J23+O$10,IF(AND(O$9="Exponent",I23=1),J23/O$11,IF(AND(O$9="Exponent",I23=-1,O$6="No"),J23*O$10)))))))))))))) -> 3 | K24: =IF(B24="","",IF(H24*G24=0,0,IF(I24=1,(36-F24)*J24*$O$3,IF(I24=-1,J24*I24*F24*$O$3)))) -> -48 | L24: =IF(B24="","",IF(A24<$O$12,0,K24+L23)) -> -105 | M24: =IF(I24="","",IF(AND(L24>=$O$4,MAX(L$3:L23)<$O$4),"KTF","")) | S24: =IF(F24=0,"",IF(L24>S23,L24,S23)) -> 0 | T24: =IF(T23<>"",T23,IF(AND(T23="",L24<=O$5),L24,IF(M24="KTF",L24,""))) | U24: =IF(U23<>"",U23,IF(T24<>"",A24,"")) | V24: =IF(V23<>"",V23,IF(U24<>"",MIN(L$4:L23),"")) | W24: =IF(W23<>"",W23,IF(V24<>"",MAX(J$4:J24),"")) | X24: =IF(X23<>"",X23,IF(COUNTIFS($D$3:$D24,"R")=X$2,$A24,"")) -> 5 | Y24: =IF(Y23<>"",Y23,IF(COUNTIFS($D$3:$D24,"R")=Y$2,$A24,"")) -> 7 | Z24: =IF(Z23<>"",Z23,IF(COUNTIFS($D$3:$D24,"R")=Z$2,$A24,"")) -> 12 | AA24: =IF(AA23<>"",AA23,IF(COUNTIFS($D$3:$D24,"R")=AA$2,$A24,"")) -> 17 | AB24: =IF(AB23<>"",AB23,IF(COUNTIFS($D$3:$D24,"R")=AB$2,$E24,"")) -> 1 | AC24: =IF(AC23<>"",AC23,IF(COUNTIFS($D$3:$D24,"R")=AC$2,$E24,"")) -> 4 | AD24: =IF(AD23<>"",AD23,IF(COUNTIFS($D$3:$D24,"R")=AD$2,$E24,"")) -> 7 | AE24: =IF(AE23<>"",AE23,IF(COUNTIFS($D$3:$D24,"R")=AE$2,$E24,"")) -> 2 | AJ24: 59 | AK24: 48 | AL24: -771 | AM24: 16 | AN24: 212 | AO24: 4 | AP24: 6 | AQ24: 10 | AR24: 13 | AS24: 2 | AT24: 1 | AU24: 7 | AV24: 9
A25: 23 | B25: =RANDBETWEEN(1,37) -> 18 | C25: =IF(B25="","",COUNTIF($B$3:B24,B25)) -> 0 | D25: =IF(B25="","",IF(C25>0,"R","")) | E25: =IF(B25="","",'Dynamic Ordinal tracker'!C24) | F25: =IF(B25="","",IF(C24=0,F24+1,F24)) -> 17 | G25: =IF(B25="","",IF(COUNTIFS(D$3:D24,"R")<O$13,0,1)) -> 1 | H25: =IF(B25="","",IF(A25>=O$12,1,0)) -> 1 | I25: =IF(B25="","",IF(H25*G25=0,"",IF(C25=0,-1,1))) -> -1 | J25: =IF(B25="","",IF(F25>=36,0,IF(G25*H25=0,"",IF(AND(G25*H25=1,G24*H24=0),1,IF(AND(O$6="Yes",O$8="No",S24>S23,J24=1,I24=1),1,IF(AND(O$6="No",I24=1,J24=1),1,IF(AND(O$6="Yes",I24=-1),J24,IF(AND(S24=S23,I24=1,O$9="+/-",O$6="Yes"),J24+O$10,IF(AND(S24=S23,I24=1,O$9="Exponent",O$6="Yes"),J24*O$10,IF(AND(S24>S23,O$8="Yes"),1,IF(AND(O$9="+/-",I24=1),J24-O$11,IF(AND(O$9="+/-",I24=-1,O$6="No"),J24+O$10,IF(AND(O$9="Exponent",I24=1),J24/O$11,IF(AND(O$9="Exponent",I24=-1,O$6="No"),J24*O$10)))))))))))))) -> 3 | K25: =IF(B25="","",IF(H25*G25=0,0,IF(I25=1,(36-F25)*J25*$O$3,IF(I25=-1,J25*I25*F25*$O$3)))) -> -51 | L25: =IF(B25="","",IF(A25<$O$12,0,K25+L24)) -> -156 | M25: =IF(I25="","",IF(AND(L25>=$O$4,MAX(L$3:L24)<$O$4),"KTF","")) | S25: =IF(F25=0,"",IF(L25>S24,L25,S24)) -> 0 | T25: =IF(T24<>"",T24,IF(AND(T24="",L25<=O$5),L25,IF(M25="KTF",L25,""))) | U25: =IF(U24<>"",U24,IF(T25<>"",A25,"")) | V25: =IF(V24<>"",V24,IF(U25<>"",MIN(L$4:L24),"")) | W25: =IF(W24<>"",W24,IF(V25<>"",MAX(J$4:J25),"")) | X25: =IF(X24<>"",X24,IF(COUNTIFS($D$3:$D25,"R")=X$2,$A25,"")) -> 5 | Y25: =IF(Y24<>"",Y24,IF(COUNTIFS($D$3:$D25,"R")=Y$2,$A25,"")) -> 7 | Z25: =IF(Z24<>"",Z24,IF(COUNTIFS($D$3:$D25,"R")=Z$2,$A25,"")) -> 12 | AA25: =IF(AA24<>"",AA24,IF(COUNTIFS($D$3:$D25,"R")=AA$2,$A25,"")) -> 17 | AB25: =IF(AB24<>"",AB24,IF(COUNTIFS($D$3:$D25,"R")=AB$2,$E25,"")) -> 1 | AC25: =IF(AC24<>"",AC24,IF(COUNTIFS($D$3:$D25,"R")=AC$2,$E25,"")) -> 4 | AD25: =IF(AD24<>"",AD24,IF(COUNTIFS($D$3:$D25,"R")=AD$2,$E25,"")) -> 7 | AE25: =IF(AE24<>"",AE24,IF(COUNTIFS($D$3:$D25,"R")=AE$2,$E25,"")) -> 2 | AJ25: 53 | AK25: 21 | AL25: -31 | AM25: 2 | AN25: 145 | AO25: 7 | AP25: 13 | AQ25: 17 | AR25: 19 | AS25: 2 | AT25: 4 | AU25: 8 | AV25: 15
A26: 24 | B26: =RANDBETWEEN(1,37) -> 16 | C26: =IF(B26="","",COUNTIF($B$3:B25,B26)) -> 0 | D26: =IF(B26="","",IF(C26>0,"R","")) | E26: =IF(B26="","",'Dynamic Ordinal tracker'!C25) | F26: =IF(B26="","",IF(C25=0,F25+1,F25)) -> 18 | G26: =IF(B26="","",IF(COUNTIFS(D$3:D25,"R")<O$13,0,1)) -> 1 | H26: =IF(B26="","",IF(A26>=O$12,1,0)) -> 1 | I26: =IF(B26="","",IF(H26*G26=0,"",IF(C26=0,-1,1))) -> -1 | J26: =IF(B26="","",IF(F26>=36,0,IF(G26*H26=0,"",IF(AND(G26*H26=1,G25*H25=0),1,IF(AND(O$6="Yes",O$8="No",S25>S24,J25=1,I25=1),1,IF(AND(O$6="No",I25=1,J25=1),1,IF(AND(O$6="Yes",I25=-1),J25,IF(AND(S25=S24,I25=1,O$9="+/-",O$6="Yes"),J25+O$10,IF(AND(S25=S24,I25=1,O$9="Exponent",O$6="Yes"),J25*O$10,IF(AND(S25>S24,O$8="Yes"),1,IF(AND(O$9="+/-",I25=1),J25-O$11,IF(AND(O$9="+/-",I25=-1,O$6="No"),J25+O$10,IF(AND(O$9="Exponent",I25=1),J25/O$11,IF(AND(O$9="Exponent",I25=-1,O$6="No"),J25*O$10)))))))))))))) -> 3 | K26: =IF(B26="","",IF(H26*G26=0,0,IF(I26=1,(36-F26)*J26*$O$3,IF(I26=-1,J26*I26*F26*$O$3)))) -> -54 | L26: =IF(B26="","",IF(A26<$O$12,0,K26+L25)) -> -210 | M26: =IF(I26="","",IF(AND(L26>=$O$4,MAX(L$3:L25)<$O$4),"KTF","")) | S26: =IF(F26=0,"",IF(L26>S25,L26,S25)) -> 0 | T26: =IF(T25<>"",T25,IF(AND(T25="",L26<=O$5),L26,IF(M26="KTF",L26,""))) | U26: =IF(U25<>"",U25,IF(T26<>"",A26,"")) | V26: =IF(V25<>"",V25,IF(U26<>"",MIN(L$4:L25),"")) | W26: =IF(W25<>"",W25,IF(V26<>"",MAX(J$4:J26),"")) | X26: =IF(X25<>"",X25,IF(COUNTIFS($D$3:$D26,"R")=X$2,$A26,"")) -> 5 | Y26: =IF(Y25<>"",Y25,IF(COUNTIFS($D$3:$D26,"R")=Y$2,$A26,"")) -> 7 | Z26: =IF(Z25<>"",Z25,IF(COUNTIFS($D$3:$D26,"R")=Z$2,$A26,"")) -> 12 | AA26: =IF(AA25<>"",AA25,IF(COUNTIFS($D$3:$D26,"R")=AA$2,$A26,"")) -> 17 | AB26: =IF(AB25<>"",AB25,IF(COUNTIFS($D$3:$D26,"R")=AB$2,$E26,"")) -> 1 | AC26: =IF(AC25<>"",AC25,IF(COUNTIFS($D$3:$D26,"R")=AC$2,$E26,"")) -> 4 | AD26: =IF(AD25<>"",AD25,IF(COUNTIFS($D$3:$D26,"R")=AD$2,$E26,"")) -> 7 | AE26: =IF(AE25<>"",AE25,IF(COUNTIFS($D$3:$D26,"R")=AE$2,$E26,"")) -> 2 | AJ26: 53 | AK26: 28 | AL26: -25 | AM26: 2 | AN26: -837 | AO26: 9 | AP26: 13 | AQ26: 16 | AR26: 19 | AS26: 4 | AT26: 6 | AU26: 7 | AV26: 14
A27: 25 | B27: =RANDBETWEEN(1,37) -> 10 | C27: =IF(B27="","",COUNTIF($B$3:B26,B27)) -> 1 | D27: =IF(B27="","",IF(C27>0,"R","")) -> R | E27: =IF(B27="","",'Dynamic Ordinal tracker'!C26) -> 10 | F27: =IF(B27="","",IF(C26=0,F26+1,F26)) -> 19 | G27: =IF(B27="","",IF(COUNTIFS(D$3:D26,"R")<O$13,0,1)) -> 1 | H27: =IF(B27="","",IF(A27>=O$12,1,0)) -> 1 | I27: =IF(B27="","",IF(H27*G27=0,"",IF(C27=0,-1,1))) -> 1 | J27: =IF(B27="","",IF(F27>=36,0,IF(G27*H27=0,"",IF(AND(G27*H27=1,G26*H26=0),1,IF(AND(O$6="Yes",O$8="No",S26>S25,J26=1,I26=1),1,IF(AND(O$6="No",I26=1,J26=1),1,IF(AND(O$6="Yes",I26=-1),J26,IF(AND(S26=S25,I26=1,O$9="+/-",O$6="Yes"),J26+O$10,IF(AND(S26=S25,I26=1,O$9="Exponent",O$6="Yes"),J26*O$10,IF(AND(S26>S25,O$8="Yes"),1,IF(AND(O$9="+/-",I26=1),J26-O$11,IF(AND(O$9="+/-",I26=-1,O$6="No"),J26+O$10,IF(AND(O$9="Exponent",I26=1),J26/O$11,IF(AND(O$9="Exponent",I26=-1,O$6="No"),J26*O$10)))))))))))))) -> 3 | K27: =IF(B27="","",IF(H27*G27=0,0,IF(I27=1,(36-F27)*J27*$O$3,IF(I27=-1,J27*I27*F27*$O$3)))) -> 51 | L27: =IF(B27="","",IF(A27<$O$12,0,K27+L26)) -> -159 | M27: =IF(I27="","",IF(AND(L27>=$O$4,MAX(L$3:L26)<$O$4),"KTF","")) | S27: =IF(F27=0,"",IF(L27>S26,L27,S26)) -> 0 | T27: =IF(T26<>"",T26,IF(AND(T26="",L27<=O$5),L27,IF(M27="KTF",L27,""))) | U27: =IF(U26<>"",U26,IF(T27<>"",A27,"")) | V27: =IF(V26<>"",V26,IF(U27<>"",MIN(L$4:L26),"")) | W27: =IF(W26<>"",W26,IF(V27<>"",MAX(J$4:J27),"")) | X27: =IF(X26<>"",X26,IF(COUNTIFS($D$3:$D27,"R")=X$2,$A27,"")) -> 5 | Y27: =IF(Y26<>"",Y26,IF(COUNTIFS($D$3:$D27,"R")=Y$2,$A27,"")) -> 7 | Z27: =IF(Z26<>"",Z26,IF(COUNTIFS($D$3:$D27,"R")=Z$2,$A27,"")) -> 12 | AA27: =IF(AA26<>"",AA26,IF(COUNTIFS($D$3:$D27,"R")=AA$2,$A27,"")) -> 17 | AB27: =IF(AB26<>"",AB26,IF(COUNTIFS($D$3:$D27,"R")=AB$2,$E27,"")) -> 1 | AC27: =IF(AC26<>"",AC26,IF(COUNTIFS($D$3:$D27,"R")=AC$2,$E27,"")) -> 4 | AD27: =IF(AD26<>"",AD26,IF(COUNTIFS($D$3:$D27,"R")=AD$2,$E27,"")) -> 7 | AE27: =IF(AE26<>"",AE26,IF(COUNTIFS($D$3:$D27,"R")=AE$2,$E27,"")) -> 2 | AJ27: 54 | AK27: 29 | AL27: -19 | AM27: 3 | AN27: -2950 | AO27: 7 | AP27: 8 | AQ27: 12 | AR27: 16 | AS27: 2 | AT27: 1 | AU27: 5 | AV27: 9
A28: 26 | B28: =RANDBETWEEN(1,37) -> 29 | C28: =IF(B28="","",COUNTIF($B$3:B27,B28)) -> 0 | D28: =IF(B28="","",IF(C28>0,"R","")) | E28: =IF(B28="","",'Dynamic Ordinal tracker'!C27) | F28: =IF(B28="","",IF(C27=0,F27+1,F27)) -> 19 | G28: =IF(B28="","",IF(COUNTIFS(D$3:D27,"R")<O$13,0,1)) -> 1 | H28: =IF(B28="","",IF(A28>=O$12,1,0)) -> 1 | I28: =IF(B28="","",IF(H28*G28=0,"",IF(C28=0,-1,1))) -> -1 | J28: =IF(B28="","",IF(F28>=36,0,IF(G28*H28=0,"",IF(AND(G28*H28=1,G27*H27=0),1,IF(AND(O$6="Yes",O$8="No",S27>S26,J27=1,I27=1),1,IF(AND(O$6="No",I27=1,J27=1),1,IF(AND(O$6="Yes",I27=-1),J27,IF(AND(S27=S26,I27=1,O$9="+/-",O$6="Yes"),J27+O$10,IF(AND(S27=S26,I27=1,O$9="Exponent",O$6="Yes"),J27*O$10,IF(AND(S27>S26,O$8="Yes"),1,IF(AND(O$9="+/-",I27=1),J27-O$11,IF(AND(O$9="+/-",I27=-1,O$6="No"),J27+O$10,IF(AND(O$9="Exponent",I27=1),J27/O$11,IF(AND(O$9="Exponent",I27=-1,O$6="No"),J27*O$10)))))))))))))) -> 4 | K28: =IF(B28="","",IF(H28*G28=0,0,IF(I28=1,(36-F28)*J28*$O$3,IF(I28=-1,J28*I28*F28*$O$3)))) -> -76 | L28: =IF(B28="","",IF(A28<$O$12,0,K28+L27)) -> -235 | M28: =IF(I28="","",IF(AND(L28>=$O$4,MAX(L$3:L27)<$O$4),"KTF","")) | S28: =IF(F28=0,"",IF(L28>S27,L28,S27)) -> 0 | T28: =IF(T27<>"",T27,IF(AND(T27="",L28<=O$5),L28,IF(M28="KTF",L28,""))) | U28: =IF(U27<>"",U27,IF(T28<>"",A28,"")) | V28: =IF(V27<>"",V27,IF(U28<>"",MIN(L$4:L27),"")) | W28: =IF(W27<>"",W27,IF(V28<>"",MAX(J$4:J28),"")) | X28: =IF(X27<>"",X27,IF(COUNTIFS($D$3:$D28,"R")=X$2,$A28,"")) -> 5 | Y28: =IF(Y27<>"",Y27,IF(COUNTIFS($D$3:$D28,"R")=Y$2,$A28,"")) -> 7 | Z28: =IF(Z27<>"",Z27,IF(COUNTIFS($D$3:$D28,"R")=Z$2,$A28,"")) -> 12 | AA28: =IF(AA27<>"",AA27,IF(COUNTIFS($D$3:$D28,"R")=AA$2,$A28,"")) -> 17 | AB28: =IF(AB27<>"",AB27,IF(COUNTIFS($D$3:$D28,"R")=AB$2,$E28,"")) -> 1 | AC28: =IF(AC27<>"",AC27,IF(COUNTIFS($D$3:$D28,"R")=AC$2,$E28,"")) -> 4 | AD28: =IF(AD27<>"",AD27,IF(COUNTIFS($D$3:$D28,"R")=AD$2,$E28,"")) -> 7 | AE28: =IF(AE27<>"",AE27,IF(COUNTIFS($D$3:$D28,"R")=AE$2,$E28,"")) -> 2 | AJ28: 55 | AK28: 18 | AL28: 0 | AM28: 1 | AN28: 257 | AO28: 11 | AP28: 15 | AQ28: 16 | AR28: 18 | AS28: 7 | AT28: 3 | AU28: 4 | AV28: 3
A29: 27 | B29: =RANDBETWEEN(1,37) -> 9 | C29: =IF(B29="","",COUNTIF($B$3:B28,B29)) -> 0 | D29: =IF(B29="","",IF(C29>0,"R","")) | E29: =IF(B29="","",'Dynamic Ordinal tracker'!C28) | F29: =IF(B29="","",IF(C28=0,F28+1,F28)) -> 20 | G29: =IF(B29="","",IF(COUNTIFS(D$3:D28,"R")<O$13,0,1)) -> 1 | H29: =IF(B29="","",IF(A29>=O$12,1,0)) -> 1 | I29: =IF(B29="","",IF(H29*G29=0,"",IF(C29=0,-1,1))) -> -1 | J29: =IF(B29="","",IF(F29>=36,0,IF(G29*H29=0,"",IF(AND(G29*H29=1,G28*H28=0),1,IF(AND(O$6="Yes",O$8="No",S28>S27,J28=1,I28=1),1,IF(AND(O$6="No",I28=1,J28=1),1,IF(AND(O$6="Yes",I28=-1),J28,IF(AND(S28=S27,I28=1,O$9="+/-",O$6="Yes"),J28+O$10,IF(AND(S28=S27,I28=1,O$9="Exponent",O$6="Yes"),J28*O$10,IF(AND(S28>S27,O$8="Yes"),1,IF(AND(O$9="+/-",I28=1),J28-O$11,IF(AND(O$9="+/-",I28=-1,O$6="No"),J28+O$10,IF(AND(O$9="Exponent",I28=1),J28/O$11,IF(AND(O$9="Exponent",I28=-1,O$6="No"),J28*O$10)))))))))))))) -> 4 | K29: =IF(B29="","",IF(H29*G29=0,0,IF(I29=1,(36-F29)*J29*$O$3,IF(I29=-1,J29*I29*F29*$O$3)))) -> -80 | L29: =IF(B29="","",IF(A29<$O$12,0,K29+L28)) -> -315 | M29: =IF(I29="","",IF(AND(L29>=$O$4,MAX(L$3:L28)<$O$4),"KTF","")) | S29: =IF(F29=0,"",IF(L29>S28,L29,S28)) -> 0 | T29: =IF(T28<>"",T28,IF(AND(T28="",L29<=O$5),L29,IF(M29="KTF",L29,""))) | U29: =IF(U28<>"",U28,IF(T29<>"",A29,"")) | V29: =IF(V28<>"",V28,IF(U29<>"",MIN(L$4:L28),"")) | W29: =IF(W28<>"",W28,IF(V29<>"",MAX(J$4:J29),"")) | X29: =IF(X28<>"",X28,IF(COUNTIFS($D$3:$D29,"R")=X$2,$A29,"")) -> 5 | Y29: =IF(Y28<>"",Y28,IF(COUNTIFS($D$3:$D29,"R")=Y$2,$A29,"")) -> 7 | Z29: =IF(Z28<>"",Z28,IF(COUNTIFS($D$3:$D29,"R")=Z$2,$A29,"")) -> 12 | AA29: =IF(AA28<>"",AA28,IF(COUNTIFS($D$3:$D29,"R")=AA$2,$A29,"")) -> 17 | AB29: =IF(AB28<>"",AB28,IF(COUNTIFS($D$3:$D29,"R")=AB$2,$E29,"")) -> 1 | AC29: =IF(AC28<>"",AC28,IF(COUNTIFS($D$3:$D29,"R")=AC$2,$E29,"")) -> 4 | AD29: =IF(AD28<>"",AD28,IF(COUNTIFS($D$3:$D29,"R")=AD$2,$E29,"")) -> 7 | AE29: =IF(AE28<>"",AE28,IF(COUNTIFS($D$3:$D29,"R")=AE$2,$E29,"")) -> 2 | AJ29: 51 | AK29: 83 | AL29: -1890 | AM29: 46 | AN29: 48 | AO29: 7 | AP29: 13 | AQ29: 16 | AR29: 25 | AS29: 6 | AT29: 9 | AU29: 10 | AV29: 19
A30: 28 | B30: =RANDBETWEEN(1,37) -> 6 | C30: =IF(B30="","",COUNTIF($B$3:B29,B30)) -> 1 | D30: =IF(B30="","",IF(C30>0,"R","")) -> R | E30: =IF(B30="","",'Dynamic Ordinal tracker'!C29) -> 15 | F30: =IF(B30="","",IF(C29=0,F29+1,F29)) -> 21 | G30: =IF(B30="","",IF(COUNTIFS(D$3:D29,"R")<O$13,0,1)) -> 1 | H30: =IF(B30="","",IF(A30>=O$12,1,0)) -> 1 | I30: =IF(B30="","",IF(H30*G30=0,"",IF(C30=0,-1,1))) -> 1 | J30: =IF(B30="","",IF(F30>=36,0,IF(G30*H30=0,"",IF(AND(G30*H30=1,G29*H29=0),1,IF(AND(O$6="Yes",O$8="No",S29>S28,J29=1,I29=1),1,IF(AND(O$6="No",I29=1,J29=1),1,IF(AND(O$6="Yes",I29=-1),J29,IF(AND(S29=S28,I29=1,O$9="+/-",O$6="Yes"),J29+O$10,IF(AND(S29=S28,I29=1,O$9="Exponent",O$6="Yes"),J29*O$10,IF(AND(S29>S28,O$8="Yes"),1,IF(AND(O$9="+/-",I29=1),J29-O$11,IF(AND(O$9="+/-",I29=-1,O$6="No"),J29+O$10,IF(AND(O$9="Exponent",I29=1),J29/O$11,IF(AND(O$9="Exponent",I29=-1,O$6="No"),J29*O$10)))))))))))))) -> 4 | K30: =IF(B30="","",IF(H30*G30=0,0,IF(I30=1,(36-F30)*J30*$O$3,IF(I30=-1,J30*I30*F30*$O$3)))) -> 60 | L30: =IF(B30="","",IF(A30<$O$12,0,K30+L29)) -> -255 | M30: =IF(I30="","",IF(AND(L30>=$O$4,MAX(L$3:L29)<$O$4),"KTF","")) | S30: =IF(F30=0,"",IF(L30>S29,L30,S29)) -> 0 | T30: =IF(T29<>"",T29,IF(AND(T29="",L30<=O$5),L30,IF(M30="KTF",L30,""))) | U30: =IF(U29<>"",U29,IF(T30<>"",A30,"")) | V30: =IF(V29<>"",V29,IF(U30<>"",MIN(L$4:L29),"")) | W30: =IF(W29<>"",W29,IF(V30<>"",MAX(J$4:J30),"")) | X30: =IF(X29<>"",X29,IF(COUNTIFS($D$3:$D30,"R")=X$2,$A30,"")) -> 5 | Y30: =IF(Y29<>"",Y29,IF(COUNTIFS($D$3:$D30,"R")=Y$2,$A30,"")) -> 7 | Z30: =IF(Z29<>"",Z29,IF(COUNTIFS($D$3:$D30,"R")=Z$2,$A30,"")) -> 12 | AA30: =IF(AA29<>"",AA29,IF(COUNTIFS($D$3:$D30,"R")=AA$2,$A30,"")) -> 17 | AB30: =IF(AB29<>"",AB29,IF(COUNTIFS($D$3:$D30,"R")=AB$2,$E30,"")) -> 1 | AC30: =IF(AC29<>"",AC29,IF(COUNTIFS($D$3:$D30,"R")=AC$2,$E30,"")) -> 4 | AD30: =IF(AD29<>"",AD29,IF(COUNTIFS($D$3:$D30,"R")=AD$2,$E30,"")) -> 7 | AE30: =IF(AE29<>"",AE29,IF(COUNTIFS($D$3:$D30,"R")=AE$2,$E30,"")) -> 2 | AJ30: 58 | AK30: 46 | AL30: -569 | AM30: 13 | AN30: 212 | AO30: 5 | AP30: 8 | AQ30: 11 | AR30: 12 | AS30: 1 | AT30: 5 | AU30: 2 | AV30: 8
... A50: 48 | B50: =RANDBETWEEN(1,37) -> 28 | C50: =IF(B50="","",COUNTIF($B$3:B49,B50)) -> 2 | D50: =IF(B50="","",IF(C50>0,"R","")) -> R | E50: =IF(B50="","",'Dynamic Ordinal tracker'!C49) -> 9 | F50: =IF(B50="","",IF(C49=0,F49+1,F49)) -> 27 | G50: =IF(B50="","",IF(COUNTIFS(D$3:D49,"R")<O$13,0,1)) -> 1 | H50: =IF(B50="","",IF(A50>=O$12,1,0)) -> 1 | I50: =IF(B50="","",IF(H50*G50=0,"",IF(C50=0,-1,1))) -> 1 | J50: =IF(B50="","",IF(F50>=36,0,IF(G50*H50=0,"",IF(AND(G50*H50=1,G49*H49=0),1,IF(AND(O$6="Yes",O$8="No",S49>S48,J49=1,I49=1),1,IF(AND(O$6="No",I49=1,J49=1),1,IF(AND(O$6="Yes",I49=-1),J49,IF(AND(S49=S48,I49=1,O$9="+/-",O$6="Yes"),J49+O$10,IF(AND(S49=S48,I49=1,O$9="Exponent",O$6="Yes"),J49*O$10,IF(AND(S49>S48,O$8="Yes"),1,IF(AND(O$9="+/-",I49=1),J49-O$11,IF(AND(O$9="+/-",I49=-1,O$6="No"),J49+O$10,IF(AND(O$9="Exponent",I49=1),J49/O$11,IF(AND(O$9="Exponent",I49=-1,O$6="No"),J49*O$10)))))))))))))) -> 1 | K50: =IF(B50="","",IF(H50*G50=0,0,IF(I50=1,(36-F50)*J50*$O$3,IF(I50=-1,J50*I50*F50*$O$3)))) -> 9 | L50: =IF(B50="","",IF(A50<$O$12,0,K50+L49)) -> 27 | M50: =IF(I50="","",IF(AND(L50>=$O$4,MAX(L$3:L49)<$O$4),"KTF","")) | S50: =IF(F50=0,"",IF(L50>S49,L50,S49)) -> 27 | T50: =IF(T49<>"",T49,IF(AND(T49="",L50<=O$5),L50,IF(M50="KTF",L50,""))) | U50: =IF(U49<>"",U49,IF(T50<>"",A50,"")) | V50: =IF(V49<>"",V49,IF(U50<>"",MIN(L$4:L49),"")) | W50: =IF(W49<>"",W49,IF(V50<>"",MAX(J$4:J50),"")) | X50: =IF(X49<>"",X49,IF(COUNTIFS($D$3:$D50,"R")=X$2,$A50,"")) -> 5 | Y50: =IF(Y49<>"",Y49,IF(COUNTIFS($D$3:$D50,"R")=Y$2,$A50,"")) -> 7 | Z50: =IF(Z49<>"",Z49,IF(COUNTIFS($D$3:$D50,"R")=Z$2,$A50,"")) -> 12 | AA50: =IF(AA49<>"",AA49,IF(COUNTIFS($D$3:$D50,"R")=AA$2,$A50,"")) -> 17 | AB50: =IF(AB49<>"",AB49,IF(COUNTIFS($D$3:$D50,"R")=AB$2,$E50,"")) -> 1 | AC50: =IF(AC49<>"",AC49,IF(COUNTIFS($D$3:$D50,"R")=AC$2,$E50,"")) -> 4 | AD50: =IF(AD49<>"",AD49,IF(COUNTIFS($D$3:$D50,"R")=AD$2,$E50,"")) -> 7 | AE50: =IF(AE49<>"",AE49,IF(COUNTIFS($D$3:$D50,"R")=AE$2,$E50,"")) -> 2 | AJ50: 65 | AK50: 20 | AL50: -12 | AM50: 1 | AN50: 280 | AO50: 10 | AP50: 13 | AQ50: 16 | AR50: 17 | AS50: 9 | AT50: 8 | AU50: 11 | AV50: 3
A51: 49 | B51: =RANDBETWEEN(1,37) -> 23 | C51: =IF(B51="","",COUNTIF($B$3:B50,B51)) -> 1 | D51: =IF(B51="","",IF(C51>0,"R","")) -> R | E51: =IF(B51="","",'Dynamic Ordinal tracker'!C50) -> 19 | F51: =IF(B51="","",IF(C50=0,F50+1,F50)) -> 27 | G51: =IF(B51="","",IF(COUNTIFS(D$3:D50,"R")<O$13,0,1)) -> 1 | H51: =IF(B51="","",IF(A51>=O$12,1,0)) -> 1 | I51: =IF(B51="","",IF(H51*G51=0,"",IF(C51=0,-1,1))) -> 1 | J51: =IF(B51="","",IF(F51>=36,0,IF(G51*H51=0,"",IF(AND(G51*H51=1,G50*H50=0),1,IF(AND(O$6="Yes",O$8="No",S50>S49,J50=1,I50=1),1,IF(AND(O$6="No",I50=1,J50=1),1,IF(AND(O$6="Yes",I50=-1),J50,IF(AND(S50=S49,I50=1,O$9="+/-",O$6="Yes"),J50+O$10,IF(AND(S50=S49,I50=1,O$9="Exponent",O$6="Yes"),J50*O$10,IF(AND(S50>S49,O$8="Yes"),1,IF(AND(O$9="+/-",I50=1),J50-O$11,IF(AND(O$9="+/-",I50=-1,O$6="No"),J50+O$10,IF(AND(O$9="Exponent",I50=1),J50/O$11,IF(AND(O$9="Exponent",I50=-1,O$6="No"),J50*O$10)))))))))))))) -> 1 | K51: =IF(B51="","",IF(H51*G51=0,0,IF(I51=1,(36-F51)*J51*$O$3,IF(I51=-1,J51*I51*F51*$O$3)))) -> 9 | L51: =IF(B51="","",IF(A51<$O$12,0,K51+L50)) -> 36 | M51: =IF(I51="","",IF(AND(L51>=$O$4,MAX(L$3:L50)<$O$4),"KTF","")) | S51: =IF(F51=0,"",IF(L51>S50,L51,S50)) -> 36 | T51: =IF(T50<>"",T50,IF(AND(T50="",L51<=O$5),L51,IF(M51="KTF",L51,""))) | U51: =IF(U50<>"",U50,IF(T51<>"",A51,"")) | V51: =IF(V50<>"",V50,IF(U51<>"",MIN(L$4:L50),"")) | W51: =IF(W50<>"",W50,IF(V51<>"",MAX(J$4:J51),"")) | X51: =IF(X50<>"",X50,IF(COUNTIFS($D$3:$D51,"R")=X$2,$A51,"")) -> 5 | Y51: =IF(Y50<>"",Y50,IF(COUNTIFS($D$3:$D51,"R")=Y$2,$A51,"")) -> 7 | Z51: =IF(Z50<>"",Z50,IF(COUNTIFS($D$3:$D51,"R")=Z$2,$A51,"")) -> 12 | AA51: =IF(AA50<>"",AA50,IF(COUNTIFS($D$3:$D51,"R")=AA$2,$A51,"")) -> 17 | AB51: =IF(AB50<>"",AB50,IF(COUNTIFS($D$3:$D51,"R")=AB$2,$E51,"")) -> 1 | AC51: =IF(AC50<>"",AC50,IF(COUNTIFS($D$3:$D51,"R")=AC$2,$E51,"")) -> 4 | AD51: =IF(AD50<>"",AD50,IF(COUNTIFS($D$3:$D51,"R")=AD$2,$E51,"")) -> 7 | AE51: =IF(AE50<>"",AE50,IF(COUNTIFS($D$3:$D51,"R")=AE$2,$E51,"")) -> 2
A52: 50 | B52: =RANDBETWEEN(1,37) -> 8 | C52: =IF(B52="","",COUNTIF($B$3:B51,B52)) -> 1 | D52: =IF(B52="","",IF(C52>0,"R","")) -> R | E52: =IF(B52="","",'Dynamic Ordinal tracker'!C51) -> 24 | F52: =IF(B52="","",IF(C51=0,F51+1,F51)) -> 27 | G52: =IF(B52="","",IF(COUNTIFS(D$3:D51,"R")<O$13,0,1)) -> 1 | H52: =IF(B52="","",IF(A52>=O$12,1,0)) -> 1 | I52: =IF(B52="","",IF(H52*G52=0,"",IF(C52=0,-1,1))) -> 1 | J52: =IF(B52="","",IF(F52>=36,0,IF(G52*H52=0,"",IF(AND(G52*H52=1,G51*H51=0),1,IF(AND(O$6="Yes",O$8="No",S51>S50,J51=1,I51=1),1,IF(AND(O$6="No",I51=1,J51=1),1,IF(AND(O$6="Yes",I51=-1),J51,IF(AND(S51=S50,I51=1,O$9="+/-",O$6="Yes"),J51+O$10,IF(AND(S51=S50,I51=1,O$9="Exponent",O$6="Yes"),J51*O$10,IF(AND(S51>S50,O$8="Yes"),1,IF(AND(O$9="+/-",I51=1),J51-O$11,IF(AND(O$9="+/-",I51=-1,O$6="No"),J51+O$10,IF(AND(O$9="Exponent",I51=1),J51/O$11,IF(AND(O$9="Exponent",I51=-1,O$6="No"),J51*O$10)))))))))))))) -> 1 | K52: =IF(B52="","",IF(H52*G52=0,0,IF(I52=1,(36-F52)*J52*$O$3,IF(I52=-1,J52*I52*F52*$O$3)))) -> 9 | L52: =IF(B52="","",IF(A52<$O$12,0,K52+L51)) -> 45 | M52: =IF(I52="","",IF(AND(L52>=$O$4,MAX(L$3:L51)<$O$4),"KTF","")) | S52: =IF(F52=0,"",IF(L52>S51,L52,S51)) -> 45 | T52: =IF(T51<>"",T51,IF(AND(T51="",L52<=O$5),L52,IF(M52="KTF",L52,""))) | U52: =IF(U51<>"",U51,IF(T52<>"",A52,"")) | V52: =IF(V51<>"",V51,IF(U52<>"",MIN(L$4:L51),"")) | W52: =IF(W51<>"",W51,IF(V52<>"",MAX(J$4:J52),"")) | X52: =IF(X51<>"",X51,IF(COUNTIFS($D$3:$D52,"R")=X$2,$A52,"")) -> 5 | Y52: =IF(Y51<>"",Y51,IF(COUNTIFS($D$3:$D52,"R")=Y$2,$A52,"")) -> 7 | Z52: =IF(Z51<>"",Z51,IF(COUNTIFS($D$3:$D52,"R")=Z$2,$A52,"")) -> 12 | AA52: =IF(AA51<>"",AA51,IF(COUNTIFS($D$3:$D52,"R")=AA$2,$A52,"")) -> 17 | AB52: =IF(AB51<>"",AB51,IF(COUNTIFS($D$3:$D52,"R")=AB$2,$E52,"")) -> 1 | AC52: =IF(AC51<>"",AC51,IF(COUNTIFS($D$3:$D52,"R")=AC$2,$E52,"")) -> 4 | AD52: =IF(AD51<>"",AD51,IF(COUNTIFS($D$3:$D52,"R")=AD$2,$E52,"")) -> 7 | AE52: =IF(AE51<>"",AE51,IF(COUNTIFS($D$3:$D52,"R")=AE$2,$E52,"")) -> 2
A53: 51 | B53: =RANDBETWEEN(1,37) -> 25 | C53: =IF(B53="","",COUNTIF($B$3:B52,B53)) -> 1 | D53: =IF(B53="","",IF(C53>0,"R","")) -> R | E53: =IF(B53="","",'Dynamic Ordinal tracker'!C52) -> 13 | F53: =IF(B53="","",IF(C52=0,F52+1,F52)) -> 27 | G53: =IF(B53="","",IF(COUNTIFS(D$3:D52,"R")<O$13,0,1)) -> 1 | H53: =IF(B53="","",IF(A53>=O$12,1,0)) -> 1 | I53: =IF(B53="","",IF(H53*G53=0,"",IF(C53=0,-1,1))) -> 1 | J53: =IF(B53="","",IF(F53>=36,0,IF(G53*H53=0,"",IF(AND(G53*H53=1,G52*H52=0),1,IF(AND(O$6="Yes",O$8="No",S52>S51,J52=1,I52=1),1,IF(AND(O$6="No",I52=1,J52=1),1,IF(AND(O$6="Yes",I52=-1),J52,IF(AND(S52=S51,I52=1,O$9="+/-",O$6="Yes"),J52+O$10,IF(AND(S52=S51,I52=1,O$9="Exponent",O$6="Yes"),J52*O$10,IF(AND(S52>S51,O$8="Yes"),1,IF(AND(O$9="+/-",I52=1),J52-O$11,IF(AND(O$9="+/-",I52=-1,O$6="No"),J52+O$10,IF(AND(O$9="Exponent",I52=1),J52/O$11,IF(AND(O$9="Exponent",I52=-1,O$6="No"),J52*O$10)))))))))))))) -> 1 | K53: =IF(B53="","",IF(H53*G53=0,0,IF(I53=1,(36-F53)*J53*$O$3,IF(I53=-1,J53*I53*F53*$O$3)))) -> 9 | L53: =IF(B53="","",IF(A53<$O$12,0,K53+L52)) -> 54 | M53: =IF(I53="","",IF(AND(L53>=$O$4,MAX(L$3:L52)<$O$4),"KTF","")) -> KTF | S53: =IF(F53=0,"",IF(L53>S52,L53,S52)) -> 54 | T53: =IF(T52<>"",T52,IF(AND(T52="",L53<=O$5),L53,IF(M53="KTF",L53,""))) -> 54 | U53: =IF(U52<>"",U52,IF(T53<>"",A53,"")) -> 51 | V53: =IF(V52<>"",V52,IF(U53<>"",MIN(L$4:L52),"")) -> -453 | W53: =IF(W52<>"",W52,IF(V53<>"",MAX(J$4:J53),"")) -> 11 | X53: =IF(X52<>"",X52,IF(COUNTIFS($D$3:$D53,"R")=X$2,$A53,"")) -> 5 | Y53: =IF(Y52<>"",Y52,IF(COUNTIFS($D$3:$D53,"R")=Y$2,$A53,"")) -> 7 | Z53: =IF(Z52<>"",Z52,IF(COUNTIFS($D$3:$D53,"R")=Z$2,$A53,"")) -> 12 | AA53: =IF(AA52<>"",AA52,IF(COUNTIFS($D$3:$D53,"R")=AA$2,$A53,"")) -> 17 | AB53: =IF(AB52<>"",AB52,IF(COUNTIFS($D$3:$D53,"R")=AB$2,$E53,"")) -> 1 | AC53: =IF(AC52<>"",AC52,IF(COUNTIFS($D$3:$D53,"R")=AC$2,$E53,"")) -> 4 | AD53: =IF(AD52<>"",AD52,IF(COUNTIFS($D$3:$D53,"R")=AD$2,$E53,"")) -> 7 | AE53: =IF(AE52<>"",AE52,IF(COUNTIFS($D$3:$D53,"R")=AE$2,$E53,"")) -> 2
A54: 52 | B54: =RANDBETWEEN(1,37) -> 30 | C54: =IF(B54="","",COUNTIF($B$3:B53,B54)) -> 0 | D54: =IF(B54="","",IF(C54>0,"R","")) | E54: =IF(B54="","",'Dynamic Ordinal tracker'!C53) | F54: =IF(B54="","",IF(C53=0,F53+1,F53)) -> 27 | G54: =IF(B54="","",IF(COUNTIFS(D$3:D53,"R")<O$13,0,1)) -> 1 | H54: =IF(B54="","",IF(A54>=O$12,1,0)) -> 1 | I54: =IF(B54="","",IF(H54*G54=0,"",IF(C54=0,-1,1))) -> -1 | J54: =IF(B54="","",IF(F54>=36,0,IF(G54*H54=0,"",IF(AND(G54*H54=1,G53*H53=0),1,IF(AND(O$6="Yes",O$8="No",S53>S52,J53=1,I53=1),1,IF(AND(O$6="No",I53=1,J53=1),1,IF(AND(O$6="Yes",I53=-1),J53,IF(AND(S53=S52,I53=1,O$9="+/-",O$6="Yes"),J53+O$10,IF(AND(S53=S52,I53=1,O$9="Exponent",O$6="Yes"),J53*O$10,IF(AND(S53>S52,O$8="Yes"),1,IF(AND(O$9="+/-",I53=1),J53-O$11,IF(AND(O$9="+/-",I53=-1,O$6="No"),J53+O$10,IF(AND(O$9="Exponent",I53=1),J53/O$11,IF(AND(O$9="Exponent",I53=-1,O$6="No"),J53*O$10)))))))))))))) -> 1 | K54: =IF(B54="","",IF(H54*G54=0,0,IF(I54=1,(36-F54)*J54*$O$3,IF(I54=-1,J54*I54*F54*$O$3)))) -> -27 | L54: =IF(B54="","",IF(A54<$O$12,0,K54+L53)) -> 27 | M54: =IF(I54="","",IF(AND(L54>=$O$4,MAX(L$3:L53)<$O$4),"KTF","")) | S54: =IF(F54=0,"",IF(L54>S53,L54,S53)) -> 54 | T54: =IF(T53<>"",T53,IF(AND(T53="",L54<=O$5),L54,IF(M54="KTF",L54,""))) -> 54 | U54: =IF(U53<>"",U53,IF(T54<>"",A54,"")) -> 51 | V54: =IF(V53<>"",V53,IF(U54<>"",MIN(L$4:L53),"")) -> -453 | W54: =IF(W53<>"",W53,IF(V54<>"",MAX(J$4:J54),"")) -> 11 | X54: =IF(X53<>"",X53,IF(COUNTIFS($D$3:$D54,"R")=X$2,$A54,"")) -> 5 | Y54: =IF(Y53<>"",Y53,IF(COUNTIFS($D$3:$D54,"R")=Y$2,$A54,"")) -> 7 | Z54: =IF(Z53<>"",Z53,IF(COUNTIFS($D$3:$D54,"R")=Z$2,$A54,"")) -> 12 | AA54: =IF(AA53<>"",AA53,IF(COUNTIFS($D$3:$D54,"R")=AA$2,$A54,"")) -> 17 | AB54: =IF(AB53<>"",AB53,IF(COUNTIFS($D$3:$D54,"R")=AB$2,$E54,"")) -> 1 | AC54: =IF(AC53<>"",AC53,IF(COUNTIFS($D$3:$D54,"R")=AC$2,$E54,"")) -> 4 | AD54: =IF(AD53<>"",AD53,IF(COUNTIFS($D$3:$D54,"R")=AD$2,$E54,"")) -> 7 | AE54: =IF(AE53<>"",AE53,IF(COUNTIFS($D$3:$D54,"R")=AE$2,$E54,"")) -> 2
A55: 53 | B55: =RANDBETWEEN(1,37) -> 1 | C55: =IF(B55="","",COUNTIF($B$3:B54,B55)) -> 1 | D55: =IF(B55="","",IF(C55>0,"R","")) -> R | E55: =IF(B55="","",'Dynamic Ordinal tracker'!C54) -> 26 | F55: =IF(B55="","",IF(C54=0,F54+1,F54)) -> 28 | G55: =IF(B55="","",IF(COUNTIFS(D$3:D54,"R")<O$13,0,1)) -> 1 | H55: =IF(B55="","",IF(A55>=O$12,1,0)) -> 1 | I55: =IF(B55="","",IF(H55*G55=0,"",IF(C55=0,-1,1))) -> 1 | J55: =IF(B55="","",IF(F55>=36,0,IF(G55*H55=0,"",IF(AND(G55*H55=1,G54*H54=0),1,IF(AND(O$6="Yes",O$8="No",S54>S53,J54=1,I54=1),1,IF(AND(O$6="No",I54=1,J54=1),1,IF(AND(O$6="Yes",I54=-1),J54,IF(AND(S54=S53,I54=1,O$9="+/-",O$6="Yes"),J54+O$10,IF(AND(S54=S53,I54=1,O$9="Exponent",O$6="Yes"),J54*O$10,IF(AND(S54>S53,O$8="Yes"),1,IF(AND(O$9="+/-",I54=1),J54-O$11,IF(AND(O$9="+/-",I54=-1,O$6="No"),J54+O$10,IF(AND(O$9="Exponent",I54=1),J54/O$11,IF(AND(O$9="Exponent",I54=-1,O$6="No"),J54*O$10)))))))))))))) -> 1 | K55: =IF(B55="","",IF(H55*G55=0,0,IF(I55=1,(36-F55)*J55*$O$3,IF(I55=-1,J55*I55*F55*$O$3)))) -> 8 | L55: =IF(B55="","",IF(A55<$O$12,0,K55+L54)) -> 35 | M55: =IF(I55="","",IF(AND(L55>=$O$4,MAX(L$3:L54)<$O$4),"KTF","")) | S55: =IF(F55=0,"",IF(L55>S54,L55,S54)) -> 54 | T55: =IF(T54<>"",T54,IF(AND(T54="",L55<=O$5),L55,IF(M55="KTF",L55,""))) -> 54 | U55: =IF(U54<>"",U54,IF(T55<>"",A55,"")) -> 51 | V55: =IF(V54<>"",V54,IF(U55<>"",MIN(L$4:L54),"")) -> -453 | W55: =IF(W54<>"",W54,IF(V55<>"",MAX(J$4:J55),"")) -> 11 | X55: =IF(X54<>"",X54,IF(COUNTIFS($D$3:$D55,"R")=X$2,$A55,"")) -> 5 | Y55: =IF(Y54<>"",Y54,IF(COUNTIFS($D$3:$D55,"R")=Y$2,$A55,"")) -> 7 | Z55: =IF(Z54<>"",Z54,IF(COUNTIFS($D$3:$D55,"R")=Z$2,$A55,"")) -> 12 | AA55: =IF(AA54<>"",AA54,IF(COUNTIFS($D$3:$D55,"R")=AA$2,$A55,"")) -> 17 | AB55: =IF(AB54<>"",AB54,IF(COUNTIFS($D$3:$D55,"R")=AB$2,$E55,"")) -> 1 | AC55: =IF(AC54<>"",AC54,IF(COUNTIFS($D$3:$D55,"R")=AC$2,$E55,"")) -> 4 | AD55: =IF(AD54<>"",AD54,IF(COUNTIFS($D$3:$D55,"R")=AD$2,$E55,"")) -> 7 | AE55: =IF(AE54<>"",AE54,IF(COUNTIFS($D$3:$D55,"R")=AE$2,$E55,"")) -> 2
A56: 54 | B56: =RANDBETWEEN(1,37) -> 12 | C56: =IF(B56="","",COUNTIF($B$3:B55,B56)) -> 1 | D56: =IF(B56="","",IF(C56>0,"R","")) -> R | E56: =IF(B56="","",'Dynamic Ordinal tracker'!C55) -> 28 | F56: =IF(B56="","",IF(C55=0,F55+1,F55)) -> 28 | G56: =IF(B56="","",IF(COUNTIFS(D$3:D55,"R")<O$13,0,1)) -> 1 | H56: =IF(B56="","",IF(A56>=O$12,1,0)) -> 1 | I56: =IF(B56="","",IF(H56*G56=0,"",IF(C56=0,-1,1))) -> 1 | J56: =IF(B56="","",IF(F56>=36,0,IF(G56*H56=0,"",IF(AND(G56*H56=1,G55*H55=0),1,IF(AND(O$6="Yes",O$8="No",S55>S54,J55=1,I55=1),1,IF(AND(O$6="No",I55=1,J55=1),1,IF(AND(O$6="Yes",I55=-1),J55,IF(AND(S55=S54,I55=1,O$9="+/-",O$6="Yes"),J55+O$10,IF(AND(S55=S54,I55=1,O$9="Exponent",O$6="Yes"),J55*O$10,IF(AND(S55>S54,O$8="Yes"),1,IF(AND(O$9="+/-",I55=1),J55-O$11,IF(AND(O$9="+/-",I55=-1,O$6="No"),J55+O$10,IF(AND(O$9="Exponent",I55=1),J55/O$11,IF(AND(O$9="Exponent",I55=-1,O$6="No"),J55*O$10)))))))))))))) -> 2 | K56: =IF(B56="","",IF(H56*G56=0,0,IF(I56=1,(36-F56)*J56*$O$3,IF(I56=-1,J56*I56*F56*$O$3)))) -> 16 | L56: =IF(B56="","",IF(A56<$O$12,0,K56+L55)) -> 51 | M56: =IF(I56="","",IF(AND(L56>=$O$4,MAX(L$3:L55)<$O$4),"KTF","")) | S56: =IF(F56=0,"",IF(L56>S55,L56,S55)) -> 54 | T56: =IF(T55<>"",T55,IF(AND(T55="",L56<=O$5),L56,IF(M56="KTF",L56,""))) -> 54 | U56: =IF(U55<>"",U55,IF(T56<>"",A56,"")) -> 51 | V56: =IF(V55<>"",V55,IF(U56<>"",MIN(L$4:L55),"")) -> -453 | W56: =IF(W55<>"",W55,IF(V56<>"",MAX(J$4:J56),"")) -> 11 | X56: =IF(X55<>"",X55,IF(COUNTIFS($D$3:$D56,"R")=X$2,$A56,"")) -> 5 | Y56: =IF(Y55<>"",Y55,IF(COUNTIFS($D$3:$D56,"R")=Y$2,$A56,"")) -> 7 | Z56: =IF(Z55<>"",Z55,IF(COUNTIFS($D$3:$D56,"R")=Z$2,$A56,"")) -> 12 | AA56: =IF(AA55<>"",AA55,IF(COUNTIFS($D$3:$D56,"R")=AA$2,$A56,"")) -> 17 | AB56: =IF(AB55<>"",AB55,IF(COUNTIFS($D$3:$D56,"R")=AB$2,$E56,"")) -> 1 | AC56: =IF(AC55<>"",AC55,IF(COUNTIFS($D$3:$D56,"R")=AC$2,$E56,"")) -> 4 | AD56: =IF(AD55<>"",AD55,IF(COUNTIFS($D$3:$D56,"R")=AD$2,$E56,"")) -> 7 | AE56: =IF(AE55<>"",AE55,IF(COUNTIFS($D$3:$D56,"R")=AE$2,$E56,"")) -> 2
A57: 55 | B57: =RANDBETWEEN(1,37) -> 24 | C57: =IF(B57="","",COUNTIF($B$3:B56,B57)) -> 2 | D57: =IF(B57="","",IF(C57>0,"R","")) -> R | E57: =IF(B57="","",'Dynamic Ordinal tracker'!C56) -> 9 | F57: =IF(B57="","",IF(C56=0,F56+1,F56)) -> 28 | G57: =IF(B57="","",IF(COUNTIFS(D$3:D56,"R")<O$13,0,1)) -> 1 | H57: =IF(B57="","",IF(A57>=O$12,1,0)) -> 1 | I57: =IF(B57="","",IF(H57*G57=0,"",IF(C57=0,-1,1))) -> 1 | J57: =IF(B57="","",IF(F57>=36,0,IF(G57*H57=0,"",IF(AND(G57*H57=1,G56*H56=0),1,IF(AND(O$6="Yes",O$8="No",S56>S55,J56=1,I56=1),1,IF(AND(O$6="No",I56=1,J56=1),1,IF(AND(O$6="Yes",I56=-1),J56,IF(AND(S56=S55,I56=1,O$9="+/-",O$6="Yes"),J56+O$10,IF(AND(S56=S55,I56=1,O$9="Exponent",O$6="Yes"),J56*O$10,IF(AND(S56>S55,O$8="Yes"),1,IF(AND(O$9="+/-",I56=1),J56-O$11,IF(AND(O$9="+/-",I56=-1,O$6="No"),J56+O$10,IF(AND(O$9="Exponent",I56=1),J56/O$11,IF(AND(O$9="Exponent",I56=-1,O$6="No"),J56*O$10)))))))))))))) -> 3 | K57: =IF(B57="","",IF(H57*G57=0,0,IF(I57=1,(36-F57)*J57*$O$3,IF(I57=-1,J57*I57*F57*$O$3)))) -> 24 | L57: =IF(B57="","",IF(A57<$O$12,0,K57+L56)) -> 75 | M57: =IF(I57="","",IF(AND(L57>=$O$4,MAX(L$3:L56)<$O$4),"KTF","")) | S57: =IF(F57=0,"",IF(L57>S56,L57,S56)) -> 75 | T57: =IF(T56<>"",T56,IF(AND(T56="",L57<=O$5),L57,IF(M57="KTF",L57,""))) -> 54 | U57: =IF(U56<>"",U56,IF(T57<>"",A57,"")) -> 51 | V57: =IF(V56<>"",V56,IF(U57<>"",MIN(L$4:L56),"")) -> -453 | W57: =IF(W56<>"",W56,IF(V57<>"",MAX(J$4:J57),"")) -> 11 | X57: =IF(X56<>"",X56,IF(COUNTIFS($D$3:$D57,"R")=X$2,$A57,"")) -> 5 | Y57: =IF(Y56<>"",Y56,IF(COUNTIFS($D$3:$D57,"R")=Y$2,$A57,"")) -> 7 | Z57: =IF(Z56<>"",Z56,IF(COUNTIFS($D$3:$D57,"R")=Z$2,$A57,"")) -> 12 | AA57: =IF(AA56<>"",AA56,IF(COUNTIFS($D$3:$D57,"R")=AA$2,$A57,"")) -> 17 | AB57: =IF(AB56<>"",AB56,IF(COUNTIFS($D$3:$D57,"R")=AB$2,$E57,"")) -> 1 | AC57: =IF(AC56<>"",AC56,IF(COUNTIFS($D$3:$D57,"R")=AC$2,$E57,"")) -> 4 | AD57: =IF(AD56<>"",AD56,IF(COUNTIFS($D$3:$D57,"R")=AD$2,$E57,"")) -> 7 | AE57: =IF(AE56<>"",AE56,IF(COUNTIFS($D$3:$D57,"R")=AE$2,$E57,"")) -> 2
A58: 56 | B58: =RANDBETWEEN(1,37) -> 29 | C58: =IF(B58="","",COUNTIF($B$3:B57,B58)) -> 2 | D58: =IF(B58="","",IF(C58>0,"R","")) -> R | E58: =IF(B58="","",'Dynamic Ordinal tracker'!C57) -> 13 | F58: =IF(B58="","",IF(C57=0,F57+1,F57)) -> 28 | G58: =IF(B58="","",IF(COUNTIFS(D$3:D57,"R")<O$13,0,1)) -> 1 | H58: =IF(B58="","",IF(A58>=O$12,1,0)) -> 1 | I58: =IF(B58="","",IF(H58*G58=0,"",IF(C58=0,-1,1))) -> 1 | J58: =IF(B58="","",IF(F58>=36,0,IF(G58*H58=0,"",IF(AND(G58*H58=1,G57*H57=0),1,IF(AND(O$6="Yes",O$8="No",S57>S56,J57=1,I57=1),1,IF(AND(O$6="No",I57=1,J57=1),1,IF(AND(O$6="Yes",I57=-1),J57,IF(AND(S57=S56,I57=1,O$9="+/-",O$6="Yes"),J57+O$10,IF(AND(S57=S56,I57=1,O$9="Exponent",O$6="Yes"),J57*O$10,IF(AND(S57>S56,O$8="Yes"),1,IF(AND(O$9="+/-",I57=1),J57-O$11,IF(AND(O$9="+/-",I57=-1,O$6="No"),J57+O$10,IF(AND(O$9="Exponent",I57=1),J57/O$11,IF(AND(O$9="Exponent",I57=-1,O$6="No"),J57*O$10)))))))))))))) -> 1 | K58: =IF(B58="","",IF(H58*G58=0,0,IF(I58=1,(36-F58)*J58*$O$3,IF(I58=-1,J58*I58*F58*$O$3)))) -> 8 | L58: =IF(B58="","",IF(A58<$O$12,0,K58+L57)) -> 83 | M58: =IF(I58="","",IF(AND(L58>=$O$4,MAX(L$3:L57)<$O$4),"KTF","")) | S58: =IF(F58=0,"",IF(L58>S57,L58,S57)) -> 83 | T58: =IF(T57<>"",T57,IF(AND(T57="",L58<=O$5),L58,IF(M58="KTF",L58,""))) -> 54 | U58: =IF(U57<>"",U57,IF(T58<>"",A58,"")) -> 51 | V58: =IF(V57<>"",V57,IF(U58<>"",MIN(L$4:L57),"")) -> -453 | W58: =IF(W57<>"",W57,IF(V58<>"",MAX(J$4:J58),"")) -> 11 | X58: =IF(X57<>"",X57,IF(COUNTIFS($D$3:$D58,"R")=X$2,$A58,"")) -> 5 | Y58: =IF(Y57<>"",Y57,IF(COUNTIFS($D$3:$D58,"R")=Y$2,$A58,"")) -> 7 | Z58: =IF(Z57<>"",Z57,IF(COUNTIFS($D$3:$D58,"R")=Z$2,$A58,"")) -> 12 | AA58: =IF(AA57<>"",AA57,IF(COUNTIFS($D$3:$D58,"R")=AA$2,$A58,"")) -> 17 | AB58: =IF(AB57<>"",AB57,IF(COUNTIFS($D$3:$D58,"R")=AB$2,$E58,"")) -> 1 | AC58: =IF(AC57<>"",AC57,IF(COUNTIFS($D$3:$D58,"R")=AC$2,$E58,"")) -> 4 | AD58: =IF(AD57<>"",AD57,IF(COUNTIFS($D$3:$D58,"R")=AD$2,$E58,"")) -> 7 | AE58: =IF(AE57<>"",AE57,IF(COUNTIFS($D$3:$D58,"R")=AE$2,$E58,"")) -> 2
A59: 57 | B59: =RANDBETWEEN(1,37) -> 31 | C59: =IF(B59="","",COUNTIF($B$3:B58,B59)) -> 0 | D59: =IF(B59="","",IF(C59>0,"R","")) | E59: =IF(B59="","",'Dynamic Ordinal tracker'!C58) | F59: =IF(B59="","",IF(C58=0,F58+1,F58)) -> 28 | G59: =IF(B59="","",IF(COUNTIFS(D$3:D58,"R")<O$13,0,1)) -> 1 | H59: =IF(B59="","",IF(A59>=O$12,1,0)) -> 1 | I59: =IF(B59="","",IF(H59*G59=0,"",IF(C59=0,-1,1))) -> -1 | J59: =IF(B59="","",IF(F59>=36,0,IF(G59*H59=0,"",IF(AND(G59*H59=1,G58*H58=0),1,IF(AND(O$6="Yes",O$8="No",S58>S57,J58=1,I58=1),1,IF(AND(O$6="No",I58=1,J58=1),1,IF(AND(O$6="Yes",I58=-1),J58,IF(AND(S58=S57,I58=1,O$9="+/-",O$6="Yes"),J58+O$10,IF(AND(S58=S57,I58=1,O$9="Exponent",O$6="Yes"),J58*O$10,IF(AND(S58>S57,O$8="Yes"),1,IF(AND(O$9="+/-",I58=1),J58-O$11,IF(AND(O$9="+/-",I58=-1,O$6="No"),J58+O$10,IF(AND(O$9="Exponent",I58=1),J58/O$11,IF(AND(O$9="Exponent",I58=-1,O$6="No"),J58*O$10)))))))))))))) -> 1 | K59: =IF(B59="","",IF(H59*G59=0,0,IF(I59=1,(36-F59)*J59*$O$3,IF(I59=-1,J59*I59*F59*$O$3)))) -> -28 | L59: =IF(B59="","",IF(A59<$O$12,0,K59+L58)) -> 55 | M59: =IF(I59="","",IF(AND(L59>=$O$4,MAX(L$3:L58)<$O$4),"KTF","")) | S59: =IF(F59=0,"",IF(L59>S58,L59,S58)) -> 83 | T59: =IF(T58<>"",T58,IF(AND(T58="",L59<=O$5),L59,IF(M59="KTF",L59,""))) -> 54 | U59: =IF(U58<>"",U58,IF(T59<>"",A59,"")) -> 51 | V59: =IF(V58<>"",V58,IF(U59<>"",MIN(L$4:L58),"")) -> -453 | W59: =IF(W58<>"",W58,IF(V59<>"",MAX(J$4:J59),"")) -> 11 | X59: =IF(X58<>"",X58,IF(COUNTIFS($D$3:$D59,"R")=X$2,$A59,"")) -> 5 | Y59: =IF(Y58<>"",Y58,IF(COUNTIFS($D$3:$D59,"R")=Y$2,$A59,"")) -> 7 | Z59: =IF(Z58<>"",Z58,IF(COUNTIFS($D$3:$D59,"R")=Z$2,$A59,"")) -> 12 | AA59: =IF(AA58<>"",AA58,IF(COUNTIFS($D$3:$D59,"R")=AA$2,$A59,"")) -> 17 | AB59: =IF(AB58<>"",AB58,IF(COUNTIFS($D$3:$D59,"R")=AB$2,$E59,"")) -> 1 | AC59: =IF(AC58<>"",AC58,IF(COUNTIFS($D$3:$D59,"R")=AC$2,$E59,"")) -> 4 | AD59: =IF(AD58<>"",AD58,IF(COUNTIFS($D$3:$D59,"R")=AD$2,$E59,"")) -> 7 | AE59: =IF(AE58<>"",AE58,IF(COUNTIFS($D$3:$D59,"R")=AE$2,$E59,"")) -> 2
A60: 58 | B60: =RANDBETWEEN(1,37) -> 28 | C60: =IF(B60="","",COUNTIF($B$3:B59,B60)) -> 3 | D60: =IF(B60="","",IF(C60>0,"R","")) -> R | E60: =IF(B60="","",'Dynamic Ordinal tracker'!C59) -> 10 | F60: =IF(B60="","",IF(C59=0,F59+1,F59)) -> 29 | G60: =IF(B60="","",IF(COUNTIFS(D$3:D59,"R")<O$13,0,1)) -> 1 | H60: =IF(B60="","",IF(A60>=O$12,1,0)) -> 1 | I60: =IF(B60="","",IF(H60*G60=0,"",IF(C60=0,-1,1))) -> 1 | J60: =IF(B60="","",IF(F60>=36,0,IF(G60*H60=0,"",IF(AND(G60*H60=1,G59*H59=0),1,IF(AND(O$6="Yes",O$8="No",S59>S58,J59=1,I59=1),1,IF(AND(O$6="No",I59=1,J59=1),1,IF(AND(O$6="Yes",I59=-1),J59,IF(AND(S59=S58,I59=1,O$9="+/-",O$6="Yes"),J59+O$10,IF(AND(S59=S58,I59=1,O$9="Exponent",O$6="Yes"),J59*O$10,IF(AND(S59>S58,O$8="Yes"),1,IF(AND(O$9="+/-",I59=1),J59-O$11,IF(AND(O$9="+/-",I59=-1,O$6="No"),J59+O$10,IF(AND(O$9="Exponent",I59=1),J59/O$11,IF(AND(O$9="Exponent",I59=-1,O$6="No"),J59*O$10)))))))))))))) -> 1 | K60: =IF(B60="","",IF(H60*G60=0,0,IF(I60=1,(36-F60)*J60*$O$3,IF(I60=-1,J60*I60*F60*$O$3)))) -> 7 | L60: =IF(B60="","",IF(A60<$O$12,0,K60+L59)) -> 62 | M60: =IF(I60="","",IF(AND(L60>=$O$4,MAX(L$3:L59)<$O$4),"KTF","")) | S60: =IF(F60=0,"",IF(L60>S59,L60,S59)) -> 83 | T60: =IF(T59<>"",T59,IF(AND(T59="",L60<=O$5),L60,IF(M60="KTF",L60,""))) -> 54 | U60: =IF(U59<>"",U59,IF(T60<>"",A60,"")) -> 51 | V60: =IF(V59<>"",V59,IF(U60<>"",MIN(L$4:L59),"")) -> -453 | W60: =IF(W59<>"",W59,IF(V60<>"",MAX(J$4:J60),"")) -> 11 | X60: =IF(X59<>"",X59,IF(COUNTIFS($D$3:$D60,"R")=X$2,$A60,"")) -> 5 | Y60: =IF(Y59<>"",Y59,IF(COUNTIFS($D$3:$D60,"R")=Y$2,$A60,"")) -> 7 | Z60: =IF(Z59<>"",Z59,IF(COUNTIFS($D$3:$D60,"R")=Z$2,$A60,"")) -> 12 | AA60: =IF(AA59<>"",AA59,IF(COUNTIFS($D$3:$D60,"R")=AA$2,$A60,"")) -> 17 | AB60: =IF(AB59<>"",AB59,IF(COUNTIFS($D$3:$D60,"R")=AB$2,$E60,"")) -> 1 | AC60: =IF(AC59<>"",AC59,IF(COUNTIFS($D$3:$D60,"R")=AC$2,$E60,"")) -> 4 | AD60: =IF(AD59<>"",AD59,IF(COUNTIFS($D$3:$D60,"R")=AD$2,$E60,"")) -> 7 | AE60: =IF(AE59<>"",AE59,IF(COUNTIFS($D$3:$D60,"R")=AE$2,$E60,"")) -> 2
A61: 59 | B61: =RANDBETWEEN(1,37) -> 26 | C61: =IF(B61="","",COUNTIF($B$3:B60,B61)) -> 0 | D61: =IF(B61="","",IF(C61>0,"R","")) | E61: =IF(B61="","",'Dynamic Ordinal tracker'!C60) | F61: =IF(B61="","",IF(C60=0,F60+1,F60)) -> 29 | G61: =IF(B61="","",IF(COUNTIFS(D$3:D60,"R")<O$13,0,1)) -> 1 | H61: =IF(B61="","",IF(A61>=O$12,1,0)) -> 1 | I61: =IF(B61="","",IF(H61*G61=0,"",IF(C61=0,-1,1))) -> -1 | J61: =IF(B61="","",IF(F61>=36,0,IF(G61*H61=0,"",IF(AND(G61*H61=1,G60*H60=0),1,IF(AND(O$6="Yes",O$8="No",S60>S59,J60=1,I60=1),1,IF(AND(O$6="No",I60=1,J60=1),1,IF(AND(O$6="Yes",I60=-1),J60,IF(AND(S60=S59,I60=1,O$9="+/-",O$6="Yes"),J60+O$10,IF(AND(S60=S59,I60=1,O$9="Exponent",O$6="Yes"),J60*O$10,IF(AND(S60>S59,O$8="Yes"),1,IF(AND(O$9="+/-",I60=1),J60-O$11,IF(AND(O$9="+/-",I60=-1,O$6="No"),J60+O$10,IF(AND(O$9="Exponent",I60=1),J60/O$11,IF(AND(O$9="Exponent",I60=-1,O$6="No"),J60*O$10)))))))))))))) -> 2 | K61: =IF(B61="","",IF(H61*G61=0,0,IF(I61=1,(36-F61)*J61*$O$3,IF(I61=-1,J61*I61*F61*$O$3)))) -> -58 | L61: =IF(B61="","",IF(A61<$O$12,0,K61+L60)) -> 4 | M61: =IF(I61="","",IF(AND(L61>=$O$4,MAX(L$3:L60)<$O$4),"KTF","")) | S61: =IF(F61=0,"",IF(L61>S60,L61,S60)) -> 83 | T61: =IF(T60<>"",T60,IF(AND(T60="",L61<=O$5),L61,IF(M61="KTF",L61,""))) -> 54 | U61: =IF(U60<>"",U60,IF(T61<>"",A61,"")) -> 51 | V61: =IF(V60<>"",V60,IF(U61<>"",MIN(L$4:L60),"")) -> -453 | W61: =IF(W60<>"",W60,IF(V61<>"",MAX(J$4:J61),"")) -> 11 | X61: =IF(X60<>"",X60,IF(COUNTIFS($D$3:$D61,"R")=X$2,$A61,"")) -> 5 | Y61: =IF(Y60<>"",Y60,IF(COUNTIFS($D$3:$D61,"R")=Y$2,$A61,"")) -> 7 | Z61: =IF(Z60<>"",Z60,IF(COUNTIFS($D$3:$D61,"R")=Z$2,$A61,"")) -> 12 | AA61: =IF(AA60<>"",AA60,IF(COUNTIFS($D$3:$D61,"R")=AA$2,$A61,"")) -> 17 | AB61: =IF(AB60<>"",AB60,IF(COUNTIFS($D$3:$D61,"R")=AB$2,$E61,"")) -> 1 | AC61: =IF(AC60<>"",AC60,IF(COUNTIFS($D$3:$D61,"R")=AC$2,$E61,"")) -> 4 | AD61: =IF(AD60<>"",AD60,IF(COUNTIFS($D$3:$D61,"R")=AD$2,$E61,"")) -> 7 | AE61: =IF(AE60<>"",AE60,IF(COUNTIFS($D$3:$D61,"R")=AE$2,$E61,"")) -> 2
A62: 60 | B62: =RANDBETWEEN(1,37) -> 17 | C62: =IF(B62="","",COUNTIF($B$3:B61,B62)) -> 0 | D62: =IF(B62="","",IF(C62>0,"R","")) | E62: =IF(B62="","",'Dynamic Ordinal tracker'!C61) | F62: =IF(B62="","",IF(C61=0,F61+1,F61)) -> 30 | G62: =IF(B62="","",IF(COUNTIFS(D$3:D61,"R")<O$13,0,1)) -> 1 | H62: =IF(B62="","",IF(A62>=O$12,1,0)) -> 1 | I62: =IF(B62="","",IF(H62*G62=0,"",IF(C62=0,-1,1))) -> -1 | J62: =IF(B62="","",IF(F62>=36,0,IF(G62*H62=0,"",IF(AND(G62*H62=1,G61*H61=0),1,IF(AND(O$6="Yes",O$8="No",S61>S60,J61=1,I61=1),1,IF(AND(O$6="No",I61=1,J61=1),1,IF(AND(O$6="Yes",I61=-1),J61,IF(AND(S61=S60,I61=1,O$9="+/-",O$6="Yes"),J61+O$10,IF(AND(S61=S60,I61=1,O$9="Exponent",O$6="Yes"),J61*O$10,IF(AND(S61>S60,O$8="Yes"),1,IF(AND(O$9="+/-",I61=1),J61-O$11,IF(AND(O$9="+/-",I61=-1,O$6="No"),J61+O$10,IF(AND(O$9="Exponent",I61=1),J61/O$11,IF(AND(O$9="Exponent",I61=-1,O$6="No"),J61*O$10)))))))))))))) -> 2 | K62: =IF(B62="","",IF(H62*G62=0,0,IF(I62=1,(36-F62)*J62*$O$3,IF(I62=-1,J62*I62*F62*$O$3)))) -> -60 | L62: =IF(B62="","",IF(A62<$O$12,0,K62+L61)) -> -56 | M62: =IF(I62="","",IF(AND(L62>=$O$4,MAX(L$3:L61)<$O$4),"KTF","")) | S62: =IF(F62=0,"",IF(L62>S61,L62,S61)) -> 83 | T62: =IF(T61<>"",T61,IF(AND(T61="",L62<=O$5),L62,IF(M62="KTF",L62,""))) -> 54 | U62: =IF(U61<>"",U61,IF(T62<>"",A62,"")) -> 51 | V62: =IF(V61<>"",V61,IF(U62<>"",MIN(L$4:L61),"")) -> -453 | W62: =IF(W61<>"",W61,IF(V62<>"",MAX(J$4:J62),"")) -> 11 | X62: =IF(X61<>"",X61,IF(COUNTIFS($D$3:$D62,"R")=X$2,$A62,"")) -> 5 | Y62: =IF(Y61<>"",Y61,IF(COUNTIFS($D$3:$D62,"R")=Y$2,$A62,"")) -> 7 | Z62: =IF(Z61<>"",Z61,IF(COUNTIFS($D$3:$D62,"R")=Z$2,$A62,"")) -> 12 | AA62: =IF(AA61<>"",AA61,IF(COUNTIFS($D$3:$D62,"R")=AA$2,$A62,"")) -> 17 | AB62: =IF(AB61<>"",AB61,IF(COUNTIFS($D$3:$D62,"R")=AB$2,$E62,"")) -> 1 | AC62: =IF(AC61<>"",AC61,IF(COUNTIFS($D$3:$D62,"R")=AC$2,$E62,"")) -> 4 | AD62: =IF(AD61<>"",AD61,IF(COUNTIFS($D$3:$D62,"R")=AD$2,$E62,"")) -> 7 | AE62: =IF(AE61<>"",AE61,IF(COUNTIFS($D$3:$D62,"R")=AE$2,$E62,"")) -> 2
... A102: 100 | B102: =RANDBETWEEN(1,37) -> 28 | C102: =IF(B102="","",COUNTIF($B$3:B101,B102)) -> 6 | D102: =IF(B102="","",IF(C102>0,"R","")) -> R | E102: =IF(B102="","",'Dynamic Ordinal tracker'!C101) -> 15 | F102: =IF(B102="","",IF(C101=0,F101+1,F101)) -> 35 | G102: =IF(B102="","",IF(COUNTIFS(D$3:D101,"R")<O$13,0,1)) -> 1 | H102: =IF(B102="","",IF(A102>=O$12,1,0)) -> 1 | I102: =IF(B102="","",IF(H102*G102=0,"",IF(C102=0,-1,1))) -> 1 | J102: =IF(B102="","",IF(F102>=36,0,IF(G102*H102=0,"",IF(AND(G102*H102=1,G101*H101=0),1,IF(AND(O$6="Yes",O$8="No",S101>S100,J101=1,I101=1),1,IF(AND(O$6="No",I101=1,J101=1),1,IF(AND(O$6="Yes",I101=-1),J101,IF(AND(S101=S100,I101=1,O$9="+/-",O$6="Yes"),J101+O$10,IF(AND(S101=S100,I101=1,O$9="Exponent",O$6="Yes"),J101*O$10,IF(AND(S101>S100,O$8="Yes"),1,IF(AND(O$9="+/-",I101=1),J101-O$11,IF(AND(O$9="+/-",I101=-1,O$6="No"),J101+O$10,IF(AND(O$9="Exponent",I101=1),J101/O$11,IF(AND(O$9="Exponent",I101=-1,O$6="No"),J101*O$10)))))))))))))) -> 37 | K102: =IF(B102="","",IF(H102*G102=0,0,IF(I102=1,(36-F102)*J102*$O$3,IF(I102=-1,J102*I102*F102*$O$3)))) -> 37 | L102: =IF(B102="","",IF(A102<$O$12,0,K102+L101)) -> -330 | M102: =IF(I102="","",IF(AND(L102>=$O$4,MAX(L$3:L101)<$O$4),"KTF","")) | S102: =IF(F102=0,"",IF(L102>S101,L102,S101)) -> 83 | T102: =IF(T101<>"",T101,IF(AND(T101="",L102<=O$5),L102,IF(M102="KTF",L102,""))) -> 54 | U102: =IF(U101<>"",U101,IF(T102<>"",A102,"")) -> 51 | V102: =IF(V101<>"",V101,IF(U102<>"",MIN(L$4:L101),"")) -> -453 | W102: =IF(W101<>"",W101,IF(V102<>"",MAX(J$4:J102),"")) -> 11 | X102: =IF(X101<>"",X101,IF(COUNTIFS($D$3:$D102,"R")=X$2,$A102,"")) -> 5 | Y102: =IF(Y101<>"",Y101,IF(COUNTIFS($D$3:$D102,"R")=Y$2,$A102,"")) -> 7 | Z102: =IF(Z101<>"",Z101,IF(COUNTIFS($D$3:$D102,"R")=Z$2,$A102,"")) -> 12 | AA102: =IF(AA101<>"",AA101,IF(COUNTIFS($D$3:$D102,"R")=AA$2,$A102,"")) -> 17 | AB102: =IF(AB101<>"",AB101,IF(COUNTIFS($D$3:$D102,"R")=AB$2,$E102,"")) -> 1 | AC102: =IF(AC101<>"",AC101,IF(COUNTIFS($D$3:$D102,"R")=AC$2,$E102,"")) -> 4 | AD102: =IF(AD101<>"",AD101,IF(COUNTIFS($D$3:$D102,"R")=AD$2,$E102,"")) -> 7 | AE102: =IF(AE101<>"",AE101,IF(COUNTIFS($D$3:$D102,"R")=AE$2,$E102,"")) -> 2
E103: =IF(B103="","",'Dynamic Ordinal tracker'!C102) | G103: =IF(B103="","",IF(COUNTIFS(D$3:D102,"R")<O$13,0,1)) | H103: =IF(B103="","",IF(A103>=O$12,1,0)) | M103: =IF(I103="","",IF(AND(L103>=$O$4,MAX(L$3:L102)<$O$4),"KTF",""))
AP2428: =IF(AJ65935>=O$4,AO65935,"")
AP2429: =IF(AJ65936>=O$4,AO65936,"")
AP2430: =IF(AJ65937>=O$4,AO65937,"")
AP2431: =IF(AJ65938>=O$4,AO65938,"")
AP2432: =IF(AJ65939>=O$4,AO65939,"")
AP2433: =IF(AJ65940>=O$4,AO65940,"")
AP2434: =IF(AJ65941>=O$4,AO65941,"")
AP2435: =IF(AJ65942>=O$4,AO65942,"")
AP2436: =IF(AJ65943>=O$4,AO65943,"")
AP2437: =IF(AJ65944>=O$4,AO65944,"")
AP2438: =IF(AJ65945>=O$4,AO65945,"")
AP2439: =IF(AJ65946>=O$4,AO65946,"")
... AP2767: =IF(AJ66274>=O$4,AO66274,"")

Sheet Dynamic Ordinal tracker
A1: spin | C1: Gap | D1: Ord | E1: 1 | F1: 2 | G1: 3 | H1: 4 | I1: 5 | J1: 6 | K1: 7 | L1: 8 | M1: 9 | N1: 10 | O1: 11 | P1: 12 | Q1: 13 | R1: 14 | S1: 15 | T1: 16 | U1: 17 | V1: 18 | W1: 19 | X1: 20 | Y1: 21 | Z1: 22 | AA1: 23 | AB1: 24 | AC1: 25 | AD1: 26 | AE1: 27 | AF1: 28 | AG1: 29 | AH1: 30 | AI1: 31 | AJ1: 32 | AK1: 33 | AL1: 34 | AM1: 35 | AN1: 36 | AO1: 37 | AQ1: 1 | AR1: 2 | AS1: 3 | AT1: 4 | AU1: 5 | AV1: 6 | AW1: 7 | AX1: 8 | AY1: 9 | AZ1: 10 | BA1: 11 | BB1: 12 | BC1: 13 | BD1: 14 | BE1: 15 | BF1: 16 | BG1: 17 | BH1: 18 | BI1: 19 | BJ1: 20 | BK1: 21 | BL1: 22 | BM1: 23 | BN1: 24 | BO1: 25 | BP1: 26 | BQ1: 27 | BR1: 28 | BS1: 29 | BT1: 30 | BU1: 31 | BV1: 32 | BW1: 33 | BX1: 34 | BY1: 35 | BZ1: 36 | CA1: 37 | CE1: 1 | CF1: 2 | CG1: 3 | CH1: 4 | CI1: 5 | CJ1: 6 | CK1: 7 | CL1: 8 | CM1: 9 | CN1: 10 | CO1: 11 | CP1: 12 | CQ1: 13 | CR1: 14 | CS1: 15 | CT1: 16 | CU1: 17 | CV1: 18 | CW1: 19 | CX1: 20 | CY1: 21 | CZ1: 22 | DA1: 23 | DB1: 24 | DC1: 25 | DD1: 26 | DE1: 27 | DF1: 28 | DG1: 29 | DH1: 30 | DI1: 31 | DJ1: 32 | DK1: 33 | DL1: 34 | DM1: 35 | DN1: 36 | DO1: 37
A2: 1 | B2: ='Rev-KTF'!B3 -> 12 | E2: =IF(AND($B3="",$B2<>""),AQ2,IF(AND($B4="",$B3<>"",$B2<>""),E$1,"")) | F2: =IF(AND($B3="",$B2<>""),AR2,IF(AND($B4="",$B3<>"",$B2<>""),F$1,"")) | G2: =IF(AND($B3="",$B2<>""),AS2,IF(AND($B4="",$B3<>"",$B2<>""),G$1,"")) | H2: =IF(AND($B3="",$B2<>""),AT2,IF(AND($B4="",$B3<>"",$B2<>""),H$1,"")) | I2: =IF(AND($B3="",$B2<>""),AU2,IF(AND($B4="",$B3<>"",$B2<>""),I$1,"")) | J2: =IF(AND($B3="",$B2<>""),AV2,IF(AND($B4="",$B3<>"",$B2<>""),J$1,"")) | K2: =IF(AND($B3="",$B2<>""),AW2,IF(AND($B4="",$B3<>"",$B2<>""),K$1,"")) | L2: =IF(AND($B3="",$B2<>""),AX2,IF(AND($B4="",$B3<>"",$B2<>""),L$1,"")) | ... AO2: =IF(AND($B3="",$B2<>""),CA2,IF(AND($B4="",$B3<>"",$B2<>""),AO$1,"")) | AQ2: =B2 -> 12 | CE2: =IF($B2=CE$1,1,"") | CF2: =IF($B2=CF$1,1,"") | CG2: =IF($B2=CG$1,1,"") | CH2: =IF($B2=CH$1,1,"") | CI2: =IF($B2=CI$1,1,"") | CJ2: =IF($B2=CJ$1,1,"") | CK2: =IF($B2=CK$1,1,"") | CL2: =IF($B2=CL$1,1,"") | ... DO2: =IF($B2=DO$1,1,"")
A3: 2 | B3: ='Rev-KTF'!B4 -> 35 | C3: =IF(B3="","",LOOKUP(B3,$CE$1:$DO$1,CE2:DO2)) | D3: =IF(AND($B4="",$B3<>""),"Nrs",IF(AND($B5="",$B4<>"",$B3<>""),D$1,"")) | E3: =IF(AND($B4="",$B3<>""),AQ3,IF(AND($B5="",$B4<>"",$B3<>""),E$1,"")) | F3: =IF(AND($B4="",$B3<>""),AR3,IF(AND($B5="",$B4<>"",$B3<>""),F$1,"")) | G3: =IF(AND($B4="",$B3<>""),AS3,IF(AND($B5="",$B4<>"",$B3<>""),G$1,"")) | H3: =IF(AND($B4="",$B3<>""),AT3,IF(AND($B5="",$B4<>"",$B3<>""),H$1,"")) | I3: =IF(AND($B4="",$B3<>""),AU3,IF(AND($B5="",$B4<>"",$B3<>""),I$1,"")) | J3: =IF(AND($B4="",$B3<>""),AV3,IF(AND($B5="",$B4<>"",$B3<>""),J$1,"")) | K3: =IF(AND($B4="",$B3<>""),AW3,IF(AND($B5="",$B4<>"",$B3<>""),K$1,"")) | L3: =IF(AND($B4="",$B3<>""),AX3,IF(AND($B5="",$B4<>"",$B3<>""),L$1,"")) | ... AO3: =IF(AND($B4="",$B3<>""),CA3,IF(AND($B5="",$B4<>"",$B3<>""),AO$1,"")) | AQ3: =B3 -> 35 | AR3: =IF($B3=$AQ2,AR2,AQ2) -> 12 | AS3: =IF(AR2="","",IF(OR($B3=$AQ2,$B3=$AR2),AS2,AR2)) | AT3: =IF(AS2="","",IF(OR($B3=$AS2,$B3=$AQ2,$B3=$AR2),AT2,AS2)) | AU3: =IF(AT2="","",IF(OR($B3=$AS2,$B3=$AQ2,$B3=$AR2,$B3=$AT2),AU2,AT2)) | AV3: =IF(AU2="","",IF(OR($B3=$AS2,$B3=$AQ2,$B3=$AR2,$B3=$AT2,$B3=$AU2),AV2,AU2)) | AW3: =IF(AV2="","",IF(OR($B3=$AS2,$B3=$AQ2,$B3=$AR2,$B3=$AT2,$B3=$AU2,$B3=$AV2),AW2,AV2)) | AX3: =IF(AW2="","",IF(OR($B3=$AS2,$B3=$AQ2,$B3=$AR2,$B3=$AT2,$B3=$AU2,$B3=$AV2,$B3=$AW2),AX2,AW2)) | AY3: =IF(AX2="","",IF(OR($B3=$AS2,$B3=$AQ2,$B3=$AR2,$B3=$AT2,$B3=$AU2,$B3=$AV2,$B3=$AW2,$B3=$AX2),AY2,AX2)) | AZ3: =IF(AY2="","",IF(OR($B3=$AS2,$B3=$AQ2,$B3=$AR2,$B3=$AT2,$B3=$AU2,$B3=$AV2,$B3=$AW2,$B3=$AX2,$B3=$AY2),AZ2,AY2)) | BA3: =IF(AZ2="","",IF(OR($B3=$AS2,$B3=$AQ2,$B3=$AR2,$B3=$AT2,$B3=$AU2,$B3=$AV2,$B3=$AW2,$B3=$AY2,$B3=$AZ2,$B3=$AX2),BA2,AZ2)) | BB3: =IF(BA2="","",IF(OR($B3=$AS2,$B3=$AQ2,$B3=$AR2,$B3=$AT2,$B3=$AU2,$B3=$AV2,$B3=$AW2,$B3=$AY2,$B3=$AZ2,$B3=$BA2,$B3=$AX2),BB2,BA2)) | BC3: =IF(BB2="","",IF(OR($B3=$AS2,$B3=$AQ2,$B3=$AR2,$B3=$AT2,$B3=$AU2,$B3=$AV2,$B3=$AW2,$B3=$AY2,$B3=$AZ2,$B3=$BA2,$B3=$BB2,$B3=$AX2),BC2,BB2)) | BD3: =IF(BC2="","",IF(OR($B3=$AS2,$B3=$AQ2,$B3=$AR2,$B3=$AT2,$B3=$AU2,$B3=$AV2,$B3=$AW2,$B3=$AY2,$B3=$AZ2,$B3=$BA2,$B3=$BB2,$B3=$BC2,$B3=$AX2),BD2,BC2)) | BE3: =IF(BD2="","",IF(OR($B3=$AS2,$B3=$AQ2,$B3=$AR2,$B3=$AT2,$B3=$AU2,$B3=$AV2,$B3=$AW2,$B3=$AY2,$B3=$AZ2,$B3=$BA2,$B3=$BB2,$B3=$BC2,$B3=$BD2,$B3=$AX2),BE2,BD2)) | BF3: =IF(BE2="","",IF(OR($B3=$AS2,$B3=$AQ2,$B3=$AR2,$B3=$AT2,$B3=$AU2,$B3=$AV2,$B3=$AW2,$B3=$AY2,$B3=$AZ2,$B3=$BA2,$B3=$BB2,$B3=$BC2,$B3=$BD2,$B3=$BE2,$B3=$AX2),BF2,BE2)) | BG3: =IF(BF2="","",IF(OR($B3=$AS2,$B3=$AQ2,$B3=$AR2,$B3=$AT2,$B3=$AU2,$B3=$AV2,$B3=$AW2,$B3=$AY2,$B3=$AZ2,$B3=$BA2,$B3=$BB2,$B3=$BC2,$B3=$BD2,$B3=$BE2,$B3=$BF2,$B3=$AX2),BG2,BF2)) | BH3: =IF(BG2="","",IF(OR($B3=$AS2,$B3=$AQ2,$B3=$AR2,$B3=$AT2,$B3=$AU2,$B3=$AV2,$B3=$AW2,$B3=$AY2,$B3=$AZ2,$B3=$BA2,$B3=$BB2,$B3=$BC2,$B3=$BD2,$B3=$BE2,$B3=$BF2,$B3=$BG2,$B3=$AX2),BH2,BG2)) | BI3: =IF(BH2="","",IF(OR($B3=$AS2,$B3=$AQ2,$B3=$AR2,$B3=$AT2,$B3=$AU2,$B3=$AV2,$B3=$AW2,$B3=$AY2,$B3=$AZ2,$B3=$BA2,$B3=$BB2,$B3=$BC2,$B3=$BD2,$B3=$BE2,$B3=$BF2,$B3=$BG2,$B3=$BH2,$B3=$AX2),BI2,BH2)) | BJ3: =IF(BI2="","",IF(OR($B3=$AS2,$B3=$AQ2,$B3=$AR2,$B3=$AT2,$B3=$AU2,$B3=$AV2,$B3=$AW2,$B3=$AY2,$B3=$AZ2,$B3=$BA2,$B3=$BB2,$B3=$BC2,$B3=$BD2,$B3=$BE2,$B3=$BF2,$B3=$BG2,$B3=$BH2,$B3=$BI2,$B3=$AX2),BJ2,BI2)) | BK3: =IF(BJ2="","",IF(OR($B3=$AS2,$B3=$AQ2,$B3=$AR2,$B3=$AT2,$B3=$AU2,$B3=$AV2,$B3=$AW2,$B3=$AY2,$B3=$AZ2,$B3=$BA2,$B3=$BB2,$B3=$BC2,$B3=$BD2,$B3=$BE2,$B3=$BF2,$B3=$BG2,$B3=$BH2,$B3=$BI2,$B3=$BJ2,$B3=$AX2),BK2,BJ2)) | BL3: =IF(BK2="","",IF(OR($B3=$AS2,$B3=$AQ2,$B3=$AR2,$B3=$AT2,$B3=$AU2,$B3=$AV2,$B3=$AW2,$B3=$AY2,$B3=$AZ2,$B3=$BA2,$B3=$BB2,$B3=$BC2,$B3=$BD2,$B3=$BE2,$B3=$BF2,$B3=$BG2,$B3=$BH2,$B3=$BI2,$B3=$BJ2,$B3=$BK2,$B3=$AX2),BL2,BK2)) | BM3: =IF(BL2="","",IF(OR($B3=$AS2,$B3=$AQ2,$B3=$AR2,$B3=$AT2,$B3=$AU2,$B3=$AV2,$B3=$AW2,$B3=$AY2,$B3=$AZ2,$B3=$BA2,$B3=$BB2,$B3=$BC2,$B3=$BD2,$B3=$BE2,$B3=$BF2,$B3=$BG2,$B3=$BH2,$B3=$BI2,$B3=$BJ2,$B3=$BK2,$B3=$BL2,$B3=$AX2),BM2,BL2)) | BN3: =IF(BM2="","",IF(OR($B3=$AS2,$B3=$AQ2,$B3=$AR2,$B3=$AT2,$B3=$AU2,$B3=$AV2,$B3=$AW2,$B3=$AY2,$B3=$AZ2,$B3=$BA2,$B3=$BB2,$B3=$BC2,$B3=$BD2,$B3=$BE2,$B3=$BF2,$B3=$BG2,$B3=$BH2,$B3=$BI2,$B3=$BJ2,$B3=$BK2,$B3=$BL2,$B3=$BM2,$B3=$AX2),BN2,BM2)) | BO3: =IF(BN2="","",IF(OR($B3=$AS2,$B3=$AQ2,$B3=$AR2,$B3=$AT2,$B3=$AU2,$B3=$AV2,$B3=$AW2,$B3=$AY2,$B3=$AZ2,$B3=$BA2,$B3=$BB2,$B3=$BC2,$B3=$BD2,$B3=$BE2,$B3=$BF2,$B3=$BG2,$B3=$BH2,$B3=$BI2,$B3=$BJ2,$B3=$BK2,$B3=$BL2,$B3=$BM2,$B3=$BN2,$B3=$AX2),BO2,BN2)) | BP3: =IF(BO2="","",IF(OR($B3=$AS2,$B3=$AQ2,$B3=$AR2,$B3=$AT2,$B3=$AU2,$B3=$AV2,$B3=$AW2,$B3=$AY2,$B3=$AZ2,$B3=$BA2,$B3=$BB2,$B3=$BC2,$B3=$BD2,$B3=$BE2,$B3=$BF2,$B3=$BG2,$B3=$BH2,$B3=$BI2,$B3=$BJ2,$B3=$BK2,$B3=$BL2,$B3=$BM2,$B3=$BN2,$B3=$BO2,$B3=$AX2),BP2,BO2)) | BQ3: =IF(BP2="","",IF(OR($B3=$AS2,$B3=$AQ2,$B3=$AR2,$B3=$AT2,$B3=$AU2,$B3=$AV2,$B3=$AW2,$B3=$AY2,$B3=$AZ2,$B3=$BA2,$B3=$BB2,$B3=$BC2,$B3=$BD2,$B3=$BE2,$B3=$BF2,$B3=$BG2,$B3=$BH2,$B3=$BI2,$B3=$BJ2,$B3=$BK2,$B3=$BL2,$B3=$BM2,$B3=$BN2,$B3=$BO2,$B3=$BP2,$B3=$AX2),BQ2,BP2)) | BR3: =IF(BQ2="","",IF(OR($B3=$AS2,$B3=$AQ2,$B3=$AR2,$B3=$AT2,$B3=$AU2,$B3=$AV2,$B3=$AW2,$B3=$AY2,$B3=$AZ2,$B3=$BA2,$B3=$BB2,$B3=$BC2,$B3=$BD2,$B3=$BE2,$B3=$BF2,$B3=$BG2,$B3=$BH2,$B3=$BI2,$B3=$BJ2,$B3=$BK2,$B3=$BL2,$B3=$BM2,$B3=$BN2,$B3=$BO2,$B3=$BP2,$B3=$BQ2,$B3=$AX2),BR2,BQ2)) | BS3: =IF(BR2="","",IF(OR($B3=$AS2,$B3=$AQ2,$B3=$AR2,$B3=$AT2,$B3=$AU2,$B3=$AV2,$B3=$AW2,$B3=$AY2,$B3=$AZ2,$B3=$BA2,$B3=$BB2,$B3=$BC2,$B3=$BD2,$B3=$BE2,$B3=$BF2,$B3=$BG2,$B3=$BH2,$B3=$BI2,$B3=$BJ2,$B3=$BK2,$B3=$BL2,$B3=$BM2,$B3=$BN2,$B3=$BO2,$B3=$BP2,$B3=$BQ2,$B3=$BR2,$B3=$AX2),BS2,BR2)) | BT3: =IF(BS2="","",IF(OR($B3=$AS2,$B3=$AQ2,$B3=$AR2,$B3=$AT2,$B3=$AU2,$B3=$AV2,$B3=$AW2,$B3=$AY2,$B3=$AZ2,$B3=$BA2,$B3=$BB2,$B3=$BC2,$B3=$BD2,$B3=$BE2,$B3=$BF2,$B3=$BG2,$B3=$BH2,$B3=$BI2,$B3=$BJ2,$B3=$BK2,$B3=$BL2,$B3=$BM2,$B3=$BN2,$B3=$BO2,$B3=$BP2,$B3=$BQ2,$B3=$BR2,$B3=$BS2,$B3=$AX2),BT2,BS2)) | BU3: =IF(BT2="","",IF(OR($B3=$AS2,$B3=$AQ2,$B3=$AR2,$B3=$AT2,$B3=$AU2,$B3=$AV2,$B3=$AW2,$B3=$AY2,$B3=$AZ2,$B3=$BA2,$B3=$BB2,$B3=$BC2,$B3=$BD2,$B3=$BE2,$B3=$BF2,$B3=$BG2,$B3=$BH2,$B3=$BI2,$B3=$BJ2,$B3=$BK2,$B3=$BL2,$B3=$BM2,$B3=$BN2,$B3=$BO2,$B3=$BP2,$B3=$BQ2,$B3=$BR2,$B3=$BS2,$B3=$BT2,$B3=$AX2),BU2,BT2)) | BV3: =IF(BU2="","",IF(OR($B3=$AS2,$B3=$AQ2,$B3=$AR2,$B3=$AT2,$B3=$AU2,$B3=$AV2,$B3=$AW2,$B3=$AY2,$B3=$AZ2,$B3=$BA2,$B3=$BB2,$B3=$BC2,$B3=$BD2,$B3=$BE2,$B3=$BF2,$B3=$BG2,$B3=$BH2,$B3=$BI2,$B3=$BJ2,$B3=$BK2,$B3=$BL2,$B3=$BM2,$B3=$BN2,$B3=$BO2,$B3=$BP2,$B3=$BQ2,$B3=$BR2,$B3=$BS2,$B3=$BT2,$B3=$BU2,$B3=$AX2),BV2,BU2)) | BW3: =IF(BV2="","",IF(OR($B3=$AS2,$B3=$AQ2,$B3=$AR2,$B3=$AT2,$B3=$AU2,$B3=$AV2,$B3=$AW2,$B3=$AY2,$B3=$AZ2,$B3=$BA2,$B3=$BB2,$B3=$BC2,$B3=$BD2,$B3=$BE2,$B3=$BF2,$B3=$BG2,$B3=$BH2,$B3=$BI2,$B3=$BJ2,$B3=$BK2,$B3=$BL2,$B3=$BM2,$B3=$BN2,$B3=$BO2,$B3=$BP2,$B3=$BQ2,$B3=$BR2,$B3=$BS2,$B3=$BT2,$B3=$BU2,$B3=$BV2,$B3=$AX2),BW2,BV2)) | BX3: =IF(BW2="","",IF(OR($B3=$AS2,$B3=$AQ2,$B3=$AR2,$B3=$AT2,$B3=$AU2,$B3=$AV2,$B3=$AW2,$B3=$AY2,$B3=$AZ2,$B3=$BA2,$B3=$BB2,$B3=$BC2,$B3=$BD2,$B3=$BE2,$B3=$BF2,$B3=$BG2,$B3=$BH2,$B3=$BI2,$B3=$BJ2,$B3=$BK2,$B3=$BL2,$B3=$BM2,$B3=$BN2,$B3=$BO2,$B3=$BP2,$B3=$BQ2,$B3=$BR2,$B3=$BS2,$B3=$BT2,$B3=$BU2,$B3=$BV2,$B3=$BW2,$B3=$AX2),BX2,BW2)) | BY3: =IF(BX2="","",IF(OR($B3=$AS2,$B3=$AQ2,$B3=$AR2,$B3=$AT2,$B3=$AU2,$B3=$AV2,$B3=$AW2,$B3=$AY2,$B3=$AZ2,$B3=$BA2,$B3=$BB2,$B3=$BC2,$B3=$BD2,$B3=$BE2,$B3=$BF2,$B3=$BG2,$B3=$BH2,$B3=$BI2,$B3=$BJ2,$B3=$BK2,$B3=$BL2,$B3=$BM2,$B3=$BN2,$B3=$BO2,$B3=$BP2,$B3=$BQ2,$B3=$BR2,$B3=$BS2,$B3=$BT2,$B3=$BU2,$B3=$BV2,$B3=$BW2,$B3=$BX2,$B3=$AX2),BY2,BX2)) | BZ3: =IF(BY2="","",IF(OR($B3=$AS2,$B3=$AQ2,$B3=$AR2,$B3=$AT2,$B3=$AU2,$B3=$AV2,$B3=$AW2,$B3=$AY2,$B3=$AZ2,$B3=$BA2,$B3=$BB2,$B3=$BC2,$B3=$BD2,$B3=$BE2,$B3=$BF2,$B3=$BG2,$B3=$BH2,$B3=$BI2,$B3=$BJ2,$B3=$BK2,$B3=$BL2,$B3=$BM2,$B3=$BN2,$B3=$BO2,$B3=$BP2,$B3=$BQ2,$B3=$BR2,$B3=$BS2,$B3=$BT2,$B3=$BU2,$B3=$BV2,$B3=$BW2,$B3=$BX2,$B3=$BY2,$B3=$AX2),BZ2,BY2)) | CA3: =IF(BZ2="","",IF(OR($B3=$AS2,$B3=$AQ2,$B3=$AR2,$B3=$AT2,$B3=$AU2,$B3=$AV2,$B3=$AW2,$B3=$AY2,$B3=$AZ2,$B3=$BA2,$B3=$BB2,$B3=$BC2,$B3=$BD2,$B3=$BE2,$B3=$BF2,$B3=$BG2,$B3=$BH2,$B3=$BI2,$B3=$BJ2,$B3=$BK2,$B3=$BL2,$B3=$BM2,$B3=$BN2,$B3=$BO2,$B3=$BP2,$B3=$BQ2,$B3=$BR2,$B3=$BS2,$B3=$BT2,$B3=$BU2,$B3=$BV2,$B3=$BW2,$B3=$BX2,$B3=$BY2,$B3=$BZ2,$B3=$AX2),CA2,BZ2)) | CE3: =IF(AND(CE2="",$B3<>CE$1),"",IF($C3<CE2,CE2,IF($B3=CE$1,1,1+CE2))) | CF3: =IF(AND(CF2="",$B3<>CF$1),"",IF($C3<CF2,CF2,IF($B3=CF$1,1,1+CF2))) | CG3: =IF(AND(CG2="",$B3<>CG$1),"",IF($C3<CG2,CG2,IF($B3=CG$1,1,1+CG2))) | CH3: =IF(AND(CH2="",$B3<>CH$1),"",IF($C3<CH2,CH2,IF($B3=CH$1,1,1+CH2))) | CI3: =IF(AND(CI2="",$B3<>CI$1),"",IF($C3<CI2,CI2,IF($B3=CI$1,1,1+CI2))) | CJ3: =IF(AND(CJ2="",$B3<>CJ$1),"",IF($C3<CJ2,CJ2,IF($B3=CJ$1,1,1+CJ2))) | CK3: =IF(AND(CK2="",$B3<>CK$1),"",IF($C3<CK2,CK2,IF($B3=CK$1,1,1+CK2))) | CL3: =IF(AND(CL2="",$B3<>CL$1),"",IF($C3<CL2,CL2,IF($B3=CL$1,1,1+CL2))) | ... DO3: =IF(AND(DO2="",$B3<>DO$1),"",IF($C3<DO2,DO2,IF($B3=DO$1,1,1+DO2)))
A4: 3 | B4: ='Rev-KTF'!B5 -> 28 | C4: =IF(B4="","",LOOKUP(B4,$CE$1:$DO$1,CE3:DO3)) | D4: =IF(AND($B5="",$B4<>""),"Nrs",IF(AND($B6="",$B5<>"",$B4<>""),D$1,"")) | E4: =IF(AND($B5="",$B4<>""),AQ4,IF(AND($B6="",$B5<>"",$B4<>""),E$1,"")) | F4: =IF(AND($B5="",$B4<>""),AR4,IF(AND($B6="",$B5<>"",$B4<>""),F$1,"")) | G4: =IF(AND($B5="",$B4<>""),AS4,IF(AND($B6="",$B5<>"",$B4<>""),G$1,"")) | H4: =IF(AND($B5="",$B4<>""),AT4,IF(AND($B6="",$B5<>"",$B4<>""),H$1,"")) | I4: =IF(AND($B5="",$B4<>""),AU4,IF(AND($B6="",$B5<>"",$B4<>""),I$1,"")) | J4: =IF(AND($B5="",$B4<>""),AV4,IF(AND($B6="",$B5<>"",$B4<>""),J$1,"")) | K4: =IF(AND($B5="",$B4<>""),AW4,IF(AND($B6="",$B5<>"",$B4<>""),K$1,"")) | L4: =IF(AND($B5="",$B4<>""),AX4,IF(AND($B6="",$B5<>"",$B4<>""),L$1,"")) | ... AO4: =IF(AND($B5="",$B4<>""),CA4,IF(AND($B6="",$B5<>"",$B4<>""),AO$1,"")) | AQ4: =B4 -> 28 | AR4: =IF($B4=$AQ3,AR3,AQ3) -> 35 | AS4: =IF(OR($B4=$AQ3,$B4=$AR3),AS3,AR3) -> 12 | AT4: =IF(OR($B4=$AS3,$B4=$AQ3,$B4=$AR3),AT3,AS3) | AU4: =IF(OR($B4=$AS3,$B4=$AQ3,$B4=$AR3,$B4=$AT3),AU3,AT3) | AV4: =IF(OR($B4=$AS3,$B4=$AQ3,$B4=$AR3,$B4=$AT3,$B4=$AU3),AV3,AU3) | AW4: =IF(OR($B4=$AS3,$B4=$AQ3,$B4=$AR3,$B4=$AT3,$B4=$AU3,$B4=$AV3),AW3,AV3) | AX4: =IF(OR($B4=$AS3,$B4=$AQ3,$B4=$AR3,$B4=$AT3,$B4=$AU3,$B4=$AV3,$B4=$AW3),AX3,AW3) | AY4: =IF(OR($B4=$AS3,$B4=$AQ3,$B4=$AR3,$B4=$AT3,$B4=$AU3,$B4=$AV3,$B4=$AW3,$B4=$AX3),AY3,AX3) | AZ4: =IF(OR($B4=$AS3,$B4=$AQ3,$B4=$AR3,$B4=$AT3,$B4=$AU3,$B4=$AV3,$B4=$AW3,$B4=$AX3,$B4=$AY3),AZ3,AY3) | BA4: =IF(OR($B4=$AS3,$B4=$AQ3,$B4=$AR3,$B4=$AT3,$B4=$AU3,$B4=$AV3,$B4=$AW3,$B4=$AY3,$B4=$AZ3,$B4=$AX3),BA3,AZ3) | BB4: =IF(OR($B4=$AS3,$B4=$AQ3,$B4=$AR3,$B4=$AT3,$B4=$AU3,$B4=$AV3,$B4=$AW3,$B4=$AY3,$B4=$AZ3,$B4=$BA3,$B4=$AX3),BB3,BA3) | BC4: =IF(OR($B4=$AS3,$B4=$AQ3,$B4=$AR3,$B4=$AT3,$B4=$AU3,$B4=$AV3,$B4=$AW3,$B4=$AY3,$B4=$AZ3,$B4=$BA3,$B4=$BB3,$B4=$AX3),BC3,BB3) | BD4: =IF(OR($B4=$AS3,$B4=$AQ3,$B4=$AR3,$B4=$AT3,$B4=$AU3,$B4=$AV3,$B4=$AW3,$B4=$AY3,$B4=$AZ3,$B4=$BA3,$B4=$BB3,$B4=$BC3,$B4=$AX3),BD3,BC3) | BE4: =IF(OR($B4=$AS3,$B4=$AQ3,$B4=$AR3,$B4=$AT3,$B4=$AU3,$B4=$AV3,$B4=$AW3,$B4=$AY3,$B4=$AZ3,$B4=$BA3,$B4=$BB3,$B4=$BC3,$B4=$BD3,$B4=$AX3),BE3,BD3) | BF4: =IF(OR($B4=$AS3,$B4=$AQ3,$B4=$AR3,$B4=$AT3,$B4=$AU3,$B4=$AV3,$B4=$AW3,$B4=$AY3,$B4=$AZ3,$B4=$BA3,$B4=$BB3,$B4=$BC3,$B4=$BD3,$B4=$BE3,$B4=$AX3),BF3,BE3) | BG4: =IF(OR($B4=$AS3,$B4=$AQ3,$B4=$AR3,$B4=$AT3,$B4=$AU3,$B4=$AV3,$B4=$AW3,$B4=$AY3,$B4=$AZ3,$B4=$BA3,$B4=$BB3,$B4=$BC3,$B4=$BD3,$B4=$BE3,$B4=$BF3,$B4=$AX3),BG3,BF3) | BH4: =IF(OR($B4=$AS3,$B4=$AQ3,$B4=$AR3,$B4=$AT3,$B4=$AU3,$B4=$AV3,$B4=$AW3,$B4=$AY3,$B4=$AZ3,$B4=$BA3,$B4=$BB3,$B4=$BC3,$B4=$BD3,$B4=$BE3,$B4=$BF3,$B4=$BG3,$B4=$AX3),BH3,BG3) | BI4: =IF(OR($B4=$AS3,$B4=$AQ3,$B4=$AR3,$B4=$AT3,$B4=$AU3,$B4=$AV3,$B4=$AW3,$B4=$AY3,$B4=$AZ3,$B4=$BA3,$B4=$BB3,$B4=$BC3,$B4=$BD3,$B4=$BE3,$B4=$BF3,$B4=$BG3,$B4=$BH3,$B4=$AX3),BI3,BH3) | BJ4: =IF(OR($B4=$AS3,$B4=$AQ3,$B4=$AR3,$B4=$AT3,$B4=$AU3,$B4=$AV3,$B4=$AW3,$B4=$AY3,$B4=$AZ3,$B4=$BA3,$B4=$BB3,$B4=$BC3,$B4=$BD3,$B4=$BE3,$B4=$BF3,$B4=$BG3,$B4=$BH3,$B4=$BI3,$B4=$AX3),BJ3,BI3) | BK4: =IF(OR($B4=$AS3,$B4=$AQ3,$B4=$AR3,$B4=$AT3,$B4=$AU3,$B4=$AV3,$B4=$AW3,$B4=$AY3,$B4=$AZ3,$B4=$BA3,$B4=$BB3,$B4=$BC3,$B4=$BD3,$B4=$BE3,$B4=$BF3,$B4=$BG3,$B4=$BH3,$B4=$BI3,$B4=$BJ3,$B4=$AX3),BK3,BJ3) | BL4: =IF(OR($B4=$AS3,$B4=$AQ3,$B4=$AR3,$B4=$AT3,$B4=$AU3,$B4=$AV3,$B4=$AW3,$B4=$AY3,$B4=$AZ3,$B4=$BA3,$B4=$BB3,$B4=$BC3,$B4=$BD3,$B4=$BE3,$B4=$BF3,$B4=$BG3,$B4=$BH3,$B4=$BI3,$B4=$BJ3,$B4=$BK3,$B4=$AX3),BL3,BK3) | BM4: =IF(OR($B4=$AS3,$B4=$AQ3,$B4=$AR3,$B4=$AT3,$B4=$AU3,$B4=$AV3,$B4=$AW3,$B4=$AY3,$B4=$AZ3,$B4=$BA3,$B4=$BB3,$B4=$BC3,$B4=$BD3,$B4=$BE3,$B4=$BF3,$B4=$BG3,$B4=$BH3,$B4=$BI3,$B4=$BJ3,$B4=$BK3,$B4=$BL3,$B4=$AX3),BM3,BL3) | BN4: =IF(OR($B4=$AS3,$B4=$AQ3,$B4=$AR3,$B4=$AT3,$B4=$AU3,$B4=$AV3,$B4=$AW3,$B4=$AY3,$B4=$AZ3,$B4=$BA3,$B4=$BB3,$B4=$BC3,$B4=$BD3,$B4=$BE3,$B4=$BF3,$B4=$BG3,$B4=$BH3,$B4=$BI3,$B4=$BJ3,$B4=$BK3,$B4=$BL3,$B4=$BM3,$B4=$AX3),BN3,BM3) | BO4: =IF(OR($B4=$AS3,$B4=$AQ3,$B4=$AR3,$B4=$AT3,$B4=$AU3,$B4=$AV3,$B4=$AW3,$B4=$AY3,$B4=$AZ3,$B4=$BA3,$B4=$BB3,$B4=$BC3,$B4=$BD3,$B4=$BE3,$B4=$BF3,$B4=$BG3,$B4=$BH3,$B4=$BI3,$B4=$BJ3,$B4=$BK3,$B4=$BL3,$B4=$BM3,$B4=$BN3,$B4=$AX3),BO3,BN3) | BP4: =IF(OR($B4=$AS3,$B4=$AQ3,$B4=$AR3,$B4=$AT3,$B4=$AU3,$B4=$AV3,$B4=$AW3,$B4=$AY3,$B4=$AZ3,$B4=$BA3,$B4=$BB3,$B4=$BC3,$B4=$BD3,$B4=$BE3,$B4=$BF3,$B4=$BG3,$B4=$BH3,$B4=$BI3,$B4=$BJ3,$B4=$BK3,$B4=$BL3,$B4=$BM3,$B4=$BN3,$B4=$BO3,$B4=$AX3),BP3,BO3) | BQ4: =IF(OR($B4=$AS3,$B4=$AQ3,$B4=$AR3,$B4=$AT3,$B4=$AU3,$B4=$AV3,$B4=$AW3,$B4=$AY3,$B4=$AZ3,$B4=$BA3,$B4=$BB3,$B4=$BC3,$B4=$BD3,$B4=$BE3,$B4=$BF3,$B4=$BG3,$B4=$BH3,$B4=$BI3,$B4=$BJ3,$B4=$BK3,$B4=$BL3,$B4=$BM3,$B4=$BN3,$B4=$BO3,$B4=$BP3,$B4=$AX3),BQ3,BP3) | BR4: =IF(OR($B4=$AS3,$B4=$AQ3,$B4=$AR3,$B4=$AT3,$B4=$AU3,$B4=$AV3,$B4=$AW3,$B4=$AY3,$B4=$AZ3,$B4=$BA3,$B4=$BB3,$B4=$BC3,$B4=$BD3,$B4=$BE3,$B4=$BF3,$B4=$BG3,$B4=$BH3,$B4=$BI3,$B4=$BJ3,$B4=$BK3,$B4=$BL3,$B4=$BM3,$B4=$BN3,$B4=$BO3,$B4=$BP3,$B4=$BQ3,$B4=$AX3),BR3,BQ3) | BS4: =IF(OR($B4=$AS3,$B4=$AQ3,$B4=$AR3,$B4=$AT3,$B4=$AU3,$B4=$AV3,$B4=$AW3,$B4=$AY3,$B4=$AZ3,$B4=$BA3,$B4=$BB3,$B4=$BC3,$B4=$BD3,$B4=$BE3,$B4=$BF3,$B4=$BG3,$B4=$BH3,$B4=$BI3,$B4=$BJ3,$B4=$BK3,$B4=$BL3,$B4=$BM3,$B4=$BN3,$B4=$BO3,$B4=$BP3,$B4=$BQ3,$B4=$BR3,$B4=$AX3),BS3,BR3) | BT4: =IF(OR($B4=$AS3,$B4=$AQ3,$B4=$AR3,$B4=$AT3,$B4=$AU3,$B4=$AV3,$B4=$AW3,$B4=$AY3,$B4=$AZ3,$B4=$BA3,$B4=$BB3,$B4=$BC3,$B4=$BD3,$B4=$BE3,$B4=$BF3,$B4=$BG3,$B4=$BH3,$B4=$BI3,$B4=$BJ3,$B4=$BK3,$B4=$BL3,$B4=$BM3,$B4=$BN3,$B4=$BO3,$B4=$BP3,$B4=$BQ3,$B4=$BR3,$B4=$BS3,$B4=$AX3),BT3,BS3) | BU4: =IF(OR($B4=$AS3,$B4=$AQ3,$B4=$AR3,$B4=$AT3,$B4=$AU3,$B4=$AV3,$B4=$AW3,$B4=$AY3,$B4=$AZ3,$B4=$BA3,$B4=$BB3,$B4=$BC3,$B4=$BD3,$B4=$BE3,$B4=$BF3,$B4=$BG3,$B4=$BH3,$B4=$BI3,$B4=$BJ3,$B4=$BK3,$B4=$BL3,$B4=$BM3,$B4=$BN3,$B4=$BO3,$B4=$BP3,$B4=$BQ3,$B4=$BR3,$B4=$BS3,$B4=$BT3,$B4=$AX3),BU3,BT3) | BV4: =IF(OR($B4=$AS3,$B4=$AQ3,$B4=$AR3,$B4=$AT3,$B4=$AU3,$B4=$AV3,$B4=$AW3,$B4=$AY3,$B4=$AZ3,$B4=$BA3,$B4=$BB3,$B4=$BC3,$B4=$BD3,$B4=$BE3,$B4=$BF3,$B4=$BG3,$B4=$BH3,$B4=$BI3,$B4=$BJ3,$B4=$BK3,$B4=$BL3,$B4=$BM3,$B4=$BN3,$B4=$BO3,$B4=$BP3,$B4=$BQ3,$B4=$BR3,$B4=$BS3,$B4=$BT3,$B4=$BU3,$B4=$AX3),BV3,BU3) | BW4: =IF(OR($B4=$AS3,$B4=$AQ3,$B4=$AR3,$B4=$AT3,$B4=$AU3,$B4=$AV3,$B4=$AW3,$B4=$AY3,$B4=$AZ3,$B4=$BA3,$B4=$BB3,$B4=$BC3,$B4=$BD3,$B4=$BE3,$B4=$BF3,$B4=$BG3,$B4=$BH3,$B4=$BI3,$B4=$BJ3,$B4=$BK3,$B4=$BL3,$B4=$BM3,$B4=$BN3,$B4=$BO3,$B4=$BP3,$B4=$BQ3,$B4=$BR3,$B4=$BS3,$B4=$BT3,$B4=$BU3,$B4=$BV3,$B4=$AX3),BW3,BV3) | BX4: =IF(OR($B4=$AS3,$B4=$AQ3,$B4=$AR3,$B4=$AT3,$B4=$AU3,$B4=$AV3,$B4=$AW3,$B4=$AY3,$B4=$AZ3,$B4=$BA3,$B4=$BB3,$B4=$BC3,$B4=$BD3,$B4=$BE3,$B4=$BF3,$B4=$BG3,$B4=$BH3,$B4=$BI3,$B4=$BJ3,$B4=$BK3,$B4=$BL3,$B4=$BM3,$B4=$BN3,$B4=$BO3,$B4=$BP3,$B4=$BQ3,$B4=$BR3,$B4=$BS3,$B4=$BT3,$B4=$BU3,$B4=$BV3,$B4=$BW3,$B4=$AX3),BX3,BW3) | BY4: =IF(OR($B4=$AS3,$B4=$AQ3,$B4=$AR3,$B4=$AT3,$B4=$AU3,$B4=$AV3,$B4=$AW3,$B4=$AY3,$B4=$AZ3,$B4=$BA3,$B4=$BB3,$B4=$BC3,$B4=$BD3,$B4=$BE3,$B4=$BF3,$B4=$BG3,$B4=$BH3,$B4=$BI3,$B4=$BJ3,$B4=$BK3,$B4=$BL3,$B4=$BM3,$B4=$BN3,$B4=$BO3,$B4=$BP3,$B4=$BQ3,$B4=$BR3,$B4=$BS3,$B4=$BT3,$B4=$BU3,$B4=$BV3,$B4=$BW3,$B4=$BX3,$B4=$AX3),BY3,BX3) | BZ4: =IF(OR($B4=$AS3,$B4=$AQ3,$B4=$AR3,$B4=$AT3,$B4=$AU3,$B4=$AV3,$B4=$AW3,$B4=$AY3,$B4=$AZ3,$B4=$BA3,$B4=$BB3,$B4=$BC3,$B4=$BD3,$B4=$BE3,$B4=$BF3,$B4=$BG3,$B4=$BH3,$B4=$BI3,$B4=$BJ3,$B4=$BK3,$B4=$BL3,$B4=$BM3,$B4=$BN3,$B4=$BO3,$B4=$BP3,$B4=$BQ3,$B4=$BR3,$B4=$BS3,$B4=$BT3,$B4=$BU3,$B4=$BV3,$B4=$BW3,$B4=$BX3,$B4=$BY3,$B4=$AX3),BZ3,BY3) | CA4: =IF(OR($B4=$AS3,$B4=$AQ3,$B4=$AR3,$B4=$AT3,$B4=$AU3,$B4=$AV3,$B4=$AW3,$B4=$AY3,$B4=$AZ3,$B4=$BA3,$B4=$BB3,$B4=$BC3,$B4=$BD3,$B4=$BE3,$B4=$BF3,$B4=$BG3,$B4=$BH3,$B4=$BI3,$B4=$BJ3,$B4=$BK3,$B4=$BL3,$B4=$BM3,$B4=$BN3,$B4=$BO3,$B4=$BP3,$B4=$BQ3,$B4=$BR3,$B4=$BS3,$B4=$BT3,$B4=$BU3,$B4=$BV3,$B4=$BW3,$B4=$BX3,$B4=$BY3,$B4=$BZ3,$B4=$AX3),CA3,BZ3) | CE4: =IF(AND(CE3="",$B4<>CE$1),"",IF($C4<CE3,CE3,IF($B4=CE$1,1,1+CE3))) | CF4: =IF(AND(CF3="",$B4<>CF$1),"",IF($C4<CF3,CF3,IF($B4=CF$1,1,1+CF3))) | CG4: =IF(AND(CG3="",$B4<>CG$1),"",IF($C4<CG3,CG3,IF($B4=CG$1,1,1+CG3))) | CH4: =IF(AND(CH3="",$B4<>CH$1),"",IF($C4<CH3,CH3,IF($B4=CH$1,1,1+CH3))) | CI4: =IF(AND(CI3="",$B4<>CI$1),"",IF($C4<CI3,CI3,IF($B4=CI$1,1,1+CI3))) | CJ4: =IF(AND(CJ3="",$B4<>CJ$1),"",IF($C4<CJ3,CJ3,IF($B4=CJ$1,1,1+CJ3))) | CK4: =IF(AND(CK3="",$B4<>CK$1),"",IF($C4<CK3,CK3,IF($B4=CK$1,1,1+CK3))) | CL4: =IF(AND(CL3="",$B4<>CL$1),"",IF($C4<CL3,CL3,IF($B4=CL$1,1,1+CL3))) | ... DO4: =IF(AND(DO3="",$B4<>DO$1),"",IF($C4<DO3,DO3,IF($B4=DO$1,1,1+DO3)))
A5: 4 | B5: ='Rev-KTF'!B6 -> 7 | C5: =IF(B5="","",LOOKUP(B5,$CE$1:$DO$1,CE4:DO4)) | D5: =IF(AND($B6="",$B5<>""),"Nrs",IF(AND($B7="",$B6<>"",$B5<>""),D$1,"")) | E5: =IF(AND($B6="",$B5<>""),AQ5,IF(AND($B7="",$B6<>"",$B5<>""),E$1,"")) | F5: =IF(AND($B6="",$B5<>""),AR5,IF(AND($B7="",$B6<>"",$B5<>""),F$1,"")) | G5: =IF(AND($B6="",$B5<>""),AS5,IF(AND($B7="",$B6<>"",$B5<>""),G$1,"")) | H5: =IF(AND($B6="",$B5<>""),AT5,IF(AND($B7="",$B6<>"",$B5<>""),H$1,"")) | I5: =IF(AND($B6="",$B5<>""),AU5,IF(AND($B7="",$B6<>"",$B5<>""),I$1,"")) | J5: =IF(AND($B6="",$B5<>""),AV5,IF(AND($B7="",$B6<>"",$B5<>""),J$1,"")) | K5: =IF(AND($B6="",$B5<>""),AW5,IF(AND($B7="",$B6<>"",$B5<>""),K$1,"")) | L5: =IF(AND($B6="",$B5<>""),AX5,IF(AND($B7="",$B6<>"",$B5<>""),L$1,"")) | ... AO5: =IF(AND($B6="",$B5<>""),CA5,IF(AND($B7="",$B6<>"",$B5<>""),AO$1,"")) | AQ5: =B5 -> 7 | AR5: =IF($B5=$AQ4,AR4,AQ4) -> 28 | AS5: =IF(OR($B5=$AQ4,$B5=$AR4),AS4,AR4) -> 35 | AT5: =IF(OR($B5=$AS4,$B5=$AQ4,$B5=$AR4),AT4,AS4) -> 12 | AU5: =IF(OR($B5=$AS4,$B5=$AQ4,$B5=$AR4,$B5=$AT4),AU4,AT4) | AV5: =IF(OR($B5=$AS4,$B5=$AQ4,$B5=$AR4,$B5=$AT4,$B5=$AU4),AV4,AU4) | AW5: =IF(OR($B5=$AS4,$B5=$AQ4,$B5=$AR4,$B5=$AT4,$B5=$AU4,$B5=$AV4),AW4,AV4) | AX5: =IF(OR($B5=$AS4,$B5=$AQ4,$B5=$AR4,$B5=$AT4,$B5=$AU4,$B5=$AV4,$B5=$AW4),AX4,AW4) | AY5: =IF(OR($B5=$AS4,$B5=$AQ4,$B5=$AR4,$B5=$AT4,$B5=$AU4,$B5=$AV4,$B5=$AW4,$B5=$AX4),AY4,AX4) | AZ5: =IF(OR($B5=$AS4,$B5=$AQ4,$B5=$AR4,$B5=$AT4,$B5=$AU4,$B5=$AV4,$B5=$AW4,$B5=$AX4,$B5=$AY4),AZ4,AY4) | BA5: =IF(OR($B5=$AS4,$B5=$AQ4,$B5=$AR4,$B5=$AT4,$B5=$AU4,$B5=$AV4,$B5=$AW4,$B5=$AY4,$B5=$AZ4,$B5=$AX4),BA4,AZ4) | BB5: =IF(OR($B5=$AS4,$B5=$AQ4,$B5=$AR4,$B5=$AT4,$B5=$AU4,$B5=$AV4,$B5=$AW4,$B5=$AY4,$B5=$AZ4,$B5=$BA4,$B5=$AX4),BB4,BA4) | BC5: =IF(OR($B5=$AS4,$B5=$AQ4,$B5=$AR4,$B5=$AT4,$B5=$AU4,$B5=$AV4,$B5=$AW4,$B5=$AY4,$B5=$AZ4,$B5=$BA4,$B5=$BB4,$B5=$AX4),BC4,BB4) | BD5: =IF(OR($B5=$AS4,$B5=$AQ4,$B5=$AR4,$B5=$AT4,$B5=$AU4,$B5=$AV4,$B5=$AW4,$B5=$AY4,$B5=$AZ4,$B5=$BA4,$B5=$BB4,$B5=$BC4,$B5=$AX4),BD4,BC4) | BE5: =IF(OR($B5=$AS4,$B5=$AQ4,$B5=$AR4,$B5=$AT4,$B5=$AU4,$B5=$AV4,$B5=$AW4,$B5=$AY4,$B5=$AZ4,$B5=$BA4,$B5=$BB4,$B5=$BC4,$B5=$BD4,$B5=$AX4),BE4,BD4) | BF5: =IF(OR($B5=$AS4,$B5=$AQ4,$B5=$AR4,$B5=$AT4,$B5=$AU4,$B5=$AV4,$B5=$AW4,$B5=$AY4,$B5=$AZ4,$B5=$BA4,$B5=$BB4,$B5=$BC4,$B5=$BD4,$B5=$BE4,$B5=$AX4),BF4,BE4) | BG5: =IF(OR($B5=$AS4,$B5=$AQ4,$B5=$AR4,$B5=$AT4,$B5=$AU4,$B5=$AV4,$B5=$AW4,$B5=$AY4,$B5=$AZ4,$B5=$BA4,$B5=$BB4,$B5=$BC4,$B5=$BD4,$B5=$BE4,$B5=$BF4,$B5=$AX4),BG4,BF4) | BH5: =IF(OR($B5=$AS4,$B5=$AQ4,$B5=$AR4,$B5=$AT4,$B5=$AU4,$B5=$AV4,$B5=$AW4,$B5=$AY4,$B5=$AZ4,$B5=$BA4,$B5=$BB4,$B5=$BC4,$B5=$BD4,$B5=$BE4,$B5=$BF4,$B5=$BG4,$B5=$AX4),BH4,BG4) | BI5: =IF(OR($B5=$AS4,$B5=$AQ4,$B5=$AR4,$B5=$AT4,$B5=$AU4,$B5=$AV4,$B5=$AW4,$B5=$AY4,$B5=$AZ4,$B5=$BA4,$B5=$BB4,$B5=$BC4,$B5=$BD4,$B5=$BE4,$B5=$BF4,$B5=$BG4,$B5=$BH4,$B5=$AX4),BI4,BH4) | BJ5: =IF(OR($B5=$AS4,$B5=$AQ4,$B5=$AR4,$B5=$AT4,$B5=$AU4,$B5=$AV4,$B5=$AW4,$B5=$AY4,$B5=$AZ4,$B5=$BA4,$B5=$BB4,$B5=$BC4,$B5=$BD4,$B5=$BE4,$B5=$BF4,$B5=$BG4,$B5=$BH4,$B5=$BI4,$B5=$AX4),BJ4,BI4) | BK5: =IF(OR($B5=$AS4,$B5=$AQ4,$B5=$AR4,$B5=$AT4,$B5=$AU4,$B5=$AV4,$B5=$AW4,$B5=$AY4,$B5=$AZ4,$B5=$BA4,$B5=$BB4,$B5=$BC4,$B5=$BD4,$B5=$BE4,$B5=$BF4,$B5=$BG4,$B5=$BH4,$B5=$BI4,$B5=$BJ4,$B5=$AX4),BK4,BJ4) | BL5: =IF(OR($B5=$AS4,$B5=$AQ4,$B5=$AR4,$B5=$AT4,$B5=$AU4,$B5=$AV4,$B5=$AW4,$B5=$AY4,$B5=$AZ4,$B5=$BA4,$B5=$BB4,$B5=$BC4,$B5=$BD4,$B5=$BE4,$B5=$BF4,$B5=$BG4,$B5=$BH4,$B5=$BI4,$B5=$BJ4,$B5=$BK4,$B5=$AX4),BL4,BK4) | BM5: =IF(OR($B5=$AS4,$B5=$AQ4,$B5=$AR4,$B5=$AT4,$B5=$AU4,$B5=$AV4,$B5=$AW4,$B5=$AY4,$B5=$AZ4,$B5=$BA4,$B5=$BB4,$B5=$BC4,$B5=$BD4,$B5=$BE4,$B5=$BF4,$B5=$BG4,$B5=$BH4,$B5=$BI4,$B5=$BJ4,$B5=$BK4,$B5=$BL4,$B5=$AX4),BM4,BL4) | BN5: =IF(OR($B5=$AS4,$B5=$AQ4,$B5=$AR4,$B5=$AT4,$B5=$AU4,$B5=$AV4,$B5=$AW4,$B5=$AY4,$B5=$AZ4,$B5=$BA4,$B5=$BB4,$B5=$BC4,$B5=$BD4,$B5=$BE4,$B5=$BF4,$B5=$BG4,$B5=$BH4,$B5=$BI4,$B5=$BJ4,$B5=$BK4,$B5=$BL4,$B5=$BM4,$B5=$AX4),BN4,BM4) | BO5: =IF(OR($B5=$AS4,$B5=$AQ4,$B5=$AR4,$B5=$AT4,$B5=$AU4,$B5=$AV4,$B5=$AW4,$B5=$AY4,$B5=$AZ4,$B5=$BA4,$B5=$BB4,$B5=$BC4,$B5=$BD4,$B5=$BE4,$B5=$BF4,$B5=$BG4,$B5=$BH4,$B5=$BI4,$B5=$BJ4,$B5=$BK4,$B5=$BL4,$B5=$BM4,$B5=$BN4,$B5=$AX4),BO4,BN4) | BP5: =IF(OR($B5=$AS4,$B5=$AQ4,$B5=$AR4,$B5=$AT4,$B5=$AU4,$B5=$AV4,$B5=$AW4,$B5=$AY4,$B5=$AZ4,$B5=$BA4,$B5=$BB4,$B5=$BC4,$B5=$BD4,$B5=$BE4,$B5=$BF4,$B5=$BG4,$B5=$BH4,$B5=$BI4,$B5=$BJ4,$B5=$BK4,$B5=$BL4,$B5=$BM4,$B5=$BN4,$B5=$BO4,$B5=$AX4),BP4,BO4) | BQ5: =IF(OR($B5=$AS4,$B5=$AQ4,$B5=$AR4,$B5=$AT4,$B5=$AU4,$B5=$AV4,$B5=$AW4,$B5=$AY4,$B5=$AZ4,$B5=$BA4,$B5=$BB4,$B5=$BC4,$B5=$BD4,$B5=$BE4,$B5=$BF4,$B5=$BG4,$B5=$BH4,$B5=$BI4,$B5=$BJ4,$B5=$BK4,$B5=$BL4,$B5=$BM4,$B5=$BN4,$B5=$BO4,$B5=$BP4,$B5=$AX4),BQ4,BP4) | BR5: =IF(OR($B5=$AS4,$B5=$AQ4,$B5=$AR4,$B5=$AT4,$B5=$AU4,$B5=$AV4,$B5=$AW4,$B5=$AY4,$B5=$AZ4,$B5=$BA4,$B5=$BB4,$B5=$BC4,$B5=$BD4,$B5=$BE4,$B5=$BF4,$B5=$BG4,$B5=$BH4,$B5=$BI4,$B5=$BJ4,$B5=$BK4,$B5=$BL4,$B5=$BM4,$B5=$BN4,$B5=$BO4,$B5=$BP4,$B5=$BQ4,$B5=$AX4),BR4,BQ4) | BS5: =IF(OR($B5=$AS4,$B5=$AQ4,$B5=$AR4,$B5=$AT4,$B5=$AU4,$B5=$AV4,$B5=$AW4,$B5=$AY4,$B5=$AZ4,$B5=$BA4,$B5=$BB4,$B5=$BC4,$B5=$BD4,$B5=$BE4,$B5=$BF4,$B5=$BG4,$B5=$BH4,$B5=$BI4,$B5=$BJ4,$B5=$BK4,$B5=$BL4,$B5=$BM4,$B5=$BN4,$B5=$BO4,$B5=$BP4,$B5=$BQ4,$B5=$BR4,$B5=$AX4),BS4,BR4) | BT5: =IF(OR($B5=$AS4,$B5=$AQ4,$B5=$AR4,$B5=$AT4,$B5=$AU4,$B5=$AV4,$B5=$AW4,$B5=$AY4,$B5=$AZ4,$B5=$BA4,$B5=$BB4,$B5=$BC4,$B5=$BD4,$B5=$BE4,$B5=$BF4,$B5=$BG4,$B5=$BH4,$B5=$BI4,$B5=$BJ4,$B5=$BK4,$B5=$BL4,$B5=$BM4,$B5=$BN4,$B5=$BO4,$B5=$BP4,$B5=$BQ4,$B5=$BR4,$B5=$BS4,$B5=$AX4),BT4,BS4) | BU5: =IF(OR($B5=$AS4,$B5=$AQ4,$B5=$AR4,$B5=$AT4,$B5=$AU4,$B5=$AV4,$B5=$AW4,$B5=$AY4,$B5=$AZ4,$B5=$BA4,$B5=$BB4,$B5=$BC4,$B5=$BD4,$B5=$BE4,$B5=$BF4,$B5=$BG4,$B5=$BH4,$B5=$BI4,$B5=$BJ4,$B5=$BK4,$B5=$BL4,$B5=$BM4,$B5=$BN4,$B5=$BO4,$B5=$BP4,$B5=$BQ4,$B5=$BR4,$B5=$BS4,$B5=$BT4,$B5=$AX4),BU4,BT4) | BV5: =IF(OR($B5=$AS4,$B5=$AQ4,$B5=$AR4,$B5=$AT4,$B5=$AU4,$B5=$AV4,$B5=$AW4,$B5=$AY4,$B5=$AZ4,$B5=$BA4,$B5=$BB4,$B5=$BC4,$B5=$BD4,$B5=$BE4,$B5=$BF4,$B5=$BG4,$B5=$BH4,$B5=$BI4,$B5=$BJ4,$B5=$BK4,$B5=$BL4,$B5=$BM4,$B5=$BN4,$B5=$BO4,$B5=$BP4,$B5=$BQ4,$B5=$BR4,$B5=$BS4,$B5=$BT4,$B5=$BU4,$B5=$AX4),BV4,BU4) | BW5: =IF(OR($B5=$AS4,$B5=$AQ4,$B5=$AR4,$B5=$AT4,$B5=$AU4,$B5=$AV4,$B5=$AW4,$B5=$AY4,$B5=$AZ4,$B5=$BA4,$B5=$BB4,$B5=$BC4,$B5=$BD4,$B5=$BE4,$B5=$BF4,$B5=$BG4,$B5=$BH4,$B5=$BI4,$B5=$BJ4,$B5=$BK4,$B5=$BL4,$B5=$BM4,$B5=$BN4,$B5=$BO4,$B5=$BP4,$B5=$BQ4,$B5=$BR4,$B5=$BS4,$B5=$BT4,$B5=$BU4,$B5=$BV4,$B5=$AX4),BW4,BV4) | BX5: =IF(OR($B5=$AS4,$B5=$AQ4,$B5=$AR4,$B5=$AT4,$B5=$AU4,$B5=$AV4,$B5=$AW4,$B5=$AY4,$B5=$AZ4,$B5=$BA4,$B5=$BB4,$B5=$BC4,$B5=$BD4,$B5=$BE4,$B5=$BF4,$B5=$BG4,$B5=$BH4,$B5=$BI4,$B5=$BJ4,$B5=$BK4,$B5=$BL4,$B5=$BM4,$B5=$BN4,$B5=$BO4,$B5=$BP4,$B5=$BQ4,$B5=$BR4,$B5=$BS4,$B5=$BT4,$B5=$BU4,$B5=$BV4,$B5=$BW4,$B5=$AX4),BX4,BW4) | BY5: =IF(OR($B5=$AS4,$B5=$AQ4,$B5=$AR4,$B5=$AT4,$B5=$AU4,$B5=$AV4,$B5=$AW4,$B5=$AY4,$B5=$AZ4,$B5=$BA4,$B5=$BB4,$B5=$BC4,$B5=$BD4,$B5=$BE4,$B5=$BF4,$B5=$BG4,$B5=$BH4,$B5=$BI4,$B5=$BJ4,$B5=$BK4,$B5=$BL4,$B5=$BM4,$B5=$BN4,$B5=$BO4,$B5=$BP4,$B5=$BQ4,$B5=$BR4,$B5=$BS4,$B5=$BT4,$B5=$BU4,$B5=$BV4,$B5=$BW4,$B5=$BX4,$B5=$AX4),BY4,BX4) | BZ5: =IF(OR($B5=$AS4,$B5=$AQ4,$B5=$AR4,$B5=$AT4,$B5=$AU4,$B5=$AV4,$B5=$AW4,$B5=$AY4,$B5=$AZ4,$B5=$BA4,$B5=$BB4,$B5=$BC4,$B5=$BD4,$B5=$BE4,$B5=$BF4,$B5=$BG4,$B5=$BH4,$B5=$BI4,$B5=$BJ4,$B5=$BK4,$B5=$BL4,$B5=$BM4,$B5=$BN4,$B5=$BO4,$B5=$BP4,$B5=$BQ4,$B5=$BR4,$B5=$BS4,$B5=$BT4,$B5=$BU4,$B5=$BV4,$B5=$BW4,$B5=$BX4,$B5=$BY4,$B5=$AX4),BZ4,BY4) | CA5: =IF(OR($B5=$AS4,$B5=$AQ4,$B5=$AR4,$B5=$AT4,$B5=$AU4,$B5=$AV4,$B5=$AW4,$B5=$AY4,$B5=$AZ4,$B5=$BA4,$B5=$BB4,$B5=$BC4,$B5=$BD4,$B5=$BE4,$B5=$BF4,$B5=$BG4,$B5=$BH4,$B5=$BI4,$B5=$BJ4,$B5=$BK4,$B5=$BL4,$B5=$BM4,$B5=$BN4,$B5=$BO4,$B5=$BP4,$B5=$BQ4,$B5=$BR4,$B5=$BS4,$B5=$BT4,$B5=$BU4,$B5=$BV4,$B5=$BW4,$B5=$BX4,$B5=$BY4,$B5=$BZ4,$B5=$AX4),CA4,BZ4) | CE5: =IF(AND(CE4="",$B5<>CE$1),"",IF($C5<CE4,CE4,IF($B5=CE$1,1,1+CE4))) | CF5: =IF(AND(CF4="",$B5<>CF$1),"",IF($C5<CF4,CF4,IF($B5=CF$1,1,1+CF4))) | CG5: =IF(AND(CG4="",$B5<>CG$1),"",IF($C5<CG4,CG4,IF($B5=CG$1,1,1+CG4))) | CH5: =IF(AND(CH4="",$B5<>CH$1),"",IF($C5<CH4,CH4,IF($B5=CH$1,1,1+CH4))) | CI5: =IF(AND(CI4="",$B5<>CI$1),"",IF($C5<CI4,CI4,IF($B5=CI$1,1,1+CI4))) | CJ5: =IF(AND(CJ4="",$B5<>CJ$1),"",IF($C5<CJ4,CJ4,IF($B5=CJ$1,1,1+CJ4))) | CK5: =IF(AND(CK4="",$B5<>CK$1),"",IF($C5<CK4,CK4,IF($B5=CK$1,1,1+CK4))) -> 1 | CL5: =IF(AND(CL4="",$B5<>CL$1),"",IF($C5<CL4,CL4,IF($B5=CL$1,1,1+CL4))) | ... DO5: =IF(AND(DO4="",$B5<>DO$1),"",IF($C5<DO4,DO4,IF($B5=DO$1,1,1+DO4)))
A6: 5 | B6: ='Rev-KTF'!B7 -> 7 | C6: =IF(B6="","",LOOKUP(B6,$CE$1:$DO$1,CE5:DO5)) -> 1 | D6: =IF(AND($B7="",$B6<>""),"Nrs",IF(AND($B8="",$B7<>"",$B6<>""),D$1,"")) | E6: =IF(AND($B7="",$B6<>""),AQ6,IF(AND($B8="",$B7<>"",$B6<>""),E$1,"")) | F6: =IF(AND($B7="",$B6<>""),AR6,IF(AND($B8="",$B7<>"",$B6<>""),F$1,"")) | G6: =IF(AND($B7="",$B6<>""),AS6,IF(AND($B8="",$B7<>"",$B6<>""),G$1,"")) | H6: =IF(AND($B7="",$B6<>""),AT6,IF(AND($B8="",$B7<>"",$B6<>""),H$1,"")) | I6: =IF(AND($B7="",$B6<>""),AU6,IF(AND($B8="",$B7<>"",$B6<>""),I$1,"")) | J6: =IF(AND($B7="",$B6<>""),AV6,IF(AND($B8="",$B7<>"",$B6<>""),J$1,"")) | K6: =IF(AND($B7="",$B6<>""),AW6,IF(AND($B8="",$B7<>"",$B6<>""),K$1,"")) | L6: =IF(AND($B7="",$B6<>""),AX6,IF(AND($B8="",$B7<>"",$B6<>""),L$1,"")) | ... AO6: =IF(AND($B7="",$B6<>""),CA6,IF(AND($B8="",$B7<>"",$B6<>""),AO$1,"")) | AQ6: =B6 -> 7 | AR6: =IF($B6=$AQ5,AR5,AQ5) -> 28 | AS6: =IF(OR($B6=$AQ5,$B6=$AR5),AS5,AR5) -> 35 | AT6: =IF(OR($B6=$AS5,$B6=$AQ5,$B6=$AR5),AT5,AS5) -> 12 | AU6: =IF(OR($B6=$AS5,$B6=$AQ5,$B6=$AR5,$B6=$AT5),AU5,AT5) | AV6: =IF(OR($B6=$AS5,$B6=$AQ5,$B6=$AR5,$B6=$AT5,$B6=$AU5),AV5,AU5) | AW6: =IF(OR($B6=$AS5,$B6=$AQ5,$B6=$AR5,$B6=$AT5,$B6=$AU5,$B6=$AV5),AW5,AV5) | AX6: =IF(OR($B6=$AS5,$B6=$AQ5,$B6=$AR5,$B6=$AT5,$B6=$AU5,$B6=$AV5,$B6=$AW5),AX5,AW5) | AY6: =IF(OR($B6=$AS5,$B6=$AQ5,$B6=$AR5,$B6=$AT5,$B6=$AU5,$B6=$AV5,$B6=$AW5,$B6=$AX5),AY5,AX5) | AZ6: =IF(OR($B6=$AS5,$B6=$AQ5,$B6=$AR5,$B6=$AT5,$B6=$AU5,$B6=$AV5,$B6=$AW5,$B6=$AX5,$B6=$AY5),AZ5,AY5) | BA6: =IF(OR($B6=$AS5,$B6=$AQ5,$B6=$AR5,$B6=$AT5,$B6=$AU5,$B6=$AV5,$B6=$AW5,$B6=$AY5,$B6=$AZ5,$B6=$AX5),BA5,AZ5) | BB6: =IF(OR($B6=$AS5,$B6=$AQ5,$B6=$AR5,$B6=$AT5,$B6=$AU5,$B6=$AV5,$B6=$AW5,$B6=$AY5,$B6=$AZ5,$B6=$BA5,$B6=$AX5),BB5,BA5) | BC6: =IF(OR($B6=$AS5,$B6=$AQ5,$B6=$AR5,$B6=$AT5,$B6=$AU5,$B6=$AV5,$B6=$AW5,$B6=$AY5,$B6=$AZ5,$B6=$BA5,$B6=$BB5,$B6=$AX5),BC5,BB5) | BD6: =IF(OR($B6=$AS5,$B6=$AQ5,$B6=$AR5,$B6=$AT5,$B6=$AU5,$B6=$AV5,$B6=$AW5,$B6=$AY5,$B6=$AZ5,$B6=$BA5,$B6=$BB5,$B6=$BC5,$B6=$AX5),BD5,BC5) | BE6: =IF(OR($B6=$AS5,$B6=$AQ5,$B6=$AR5,$B6=$AT5,$B6=$AU5,$B6=$AV5,$B6=$AW5,$B6=$AY5,$B6=$AZ5,$B6=$BA5,$B6=$BB5,$B6=$BC5,$B6=$BD5,$B6=$AX5),BE5,BD5) | BF6: =IF(OR($B6=$AS5,$B6=$AQ5,$B6=$AR5,$B6=$AT5,$B6=$AU5,$B6=$AV5,$B6=$AW5,$B6=$AY5,$B6=$AZ5,$B6=$BA5,$B6=$BB5,$B6=$BC5,$B6=$BD5,$B6=$BE5,$B6=$AX5),BF5,BE5) | BG6: =IF(OR($B6=$AS5,$B6=$AQ5,$B6=$AR5,$B6=$AT5,$B6=$AU5,$B6=$AV5,$B6=$AW5,$B6=$AY5,$B6=$AZ5,$B6=$BA5,$B6=$BB5,$B6=$BC5,$B6=$BD5,$B6=$BE5,$B6=$BF5,$B6=$AX5),BG5,BF5) | BH6: =IF(OR($B6=$AS5,$B6=$AQ5,$B6=$AR5,$B6=$AT5,$B6=$AU5,$B6=$AV5,$B6=$AW5,$B6=$AY5,$B6=$AZ5,$B6=$BA5,$B6=$BB5,$B6=$BC5,$B6=$BD5,$B6=$BE5,$B6=$BF5,$B6=$BG5,$B6=$AX5),BH5,BG5) | BI6: =IF(OR($B6=$AS5,$B6=$AQ5,$B6=$AR5,$B6=$AT5,$B6=$AU5,$B6=$AV5,$B6=$AW5,$B6=$AY5,$B6=$AZ5,$B6=$BA5,$B6=$BB5,$B6=$BC5,$B6=$BD5,$B6=$BE5,$B6=$BF5,$B6=$BG5,$B6=$BH5,$B6=$AX5),BI5,BH5) | BJ6: =IF(OR($B6=$AS5,$B6=$AQ5,$B6=$AR5,$B6=$AT5,$B6=$AU5,$B6=$AV5,$B6=$AW5,$B6=$AY5,$B6=$AZ5,$B6=$BA5,$B6=$BB5,$B6=$BC5,$B6=$BD5,$B6=$BE5,$B6=$BF5,$B6=$BG5,$B6=$BH5,$B6=$BI5,$B6=$AX5),BJ5,BI5) | BK6: =IF(OR($B6=$AS5,$B6=$AQ5,$B6=$AR5,$B6=$AT5,$B6=$AU5,$B6=$AV5,$B6=$AW5,$B6=$AY5,$B6=$AZ5,$B6=$BA5,$B6=$BB5,$B6=$BC5,$B6=$BD5,$B6=$BE5,$B6=$BF5,$B6=$BG5,$B6=$BH5,$B6=$BI5,$B6=$BJ5,$B6=$AX5),BK5,BJ5) | BL6: =IF(OR($B6=$AS5,$B6=$AQ5,$B6=$AR5,$B6=$AT5,$B6=$AU5,$B6=$AV5,$B6=$AW5,$B6=$AY5,$B6=$AZ5,$B6=$BA5,$B6=$BB5,$B6=$BC5,$B6=$BD5,$B6=$BE5,$B6=$BF5,$B6=$BG5,$B6=$BH5,$B6=$BI5,$B6=$BJ5,$B6=$BK5,$B6=$AX5),BL5,BK5) | BM6: =IF(OR($B6=$AS5,$B6=$AQ5,$B6=$AR5,$B6=$AT5,$B6=$AU5,$B6=$AV5,$B6=$AW5,$B6=$AY5,$B6=$AZ5,$B6=$BA5,$B6=$BB5,$B6=$BC5,$B6=$BD5,$B6=$BE5,$B6=$BF5,$B6=$BG5,$B6=$BH5,$B6=$BI5,$B6=$BJ5,$B6=$BK5,$B6=$BL5,$B6=$AX5),BM5,BL5) | BN6: =IF(OR($B6=$AS5,$B6=$AQ5,$B6=$AR5,$B6=$AT5,$B6=$AU5,$B6=$AV5,$B6=$AW5,$B6=$AY5,$B6=$AZ5,$B6=$BA5,$B6=$BB5,$B6=$BC5,$B6=$BD5,$B6=$BE5,$B6=$BF5,$B6=$BG5,$B6=$BH5,$B6=$BI5,$B6=$BJ5,$B6=$BK5,$B6=$BL5,$B6=$BM5,$B6=$AX5),BN5,BM5) | BO6: =IF(OR($B6=$AS5,$B6=$AQ5,$B6=$AR5,$B6=$AT5,$B6=$AU5,$B6=$AV5,$B6=$AW5,$B6=$AY5,$B6=$AZ5,$B6=$BA5,$B6=$BB5,$B6=$BC5,$B6=$BD5,$B6=$BE5,$B6=$BF5,$B6=$BG5,$B6=$BH5,$B6=$BI5,$B6=$BJ5,$B6=$BK5,$B6=$BL5,$B6=$BM5,$B6=$BN5,$B6=$AX5),BO5,BN5) | BP6: =IF(OR($B6=$AS5,$B6=$AQ5,$B6=$AR5,$B6=$AT5,$B6=$AU5,$B6=$AV5,$B6=$AW5,$B6=$AY5,$B6=$AZ5,$B6=$BA5,$B6=$BB5,$B6=$BC5,$B6=$BD5,$B6=$BE5,$B6=$BF5,$B6=$BG5,$B6=$BH5,$B6=$BI5,$B6=$BJ5,$B6=$BK5,$B6=$BL5,$B6=$BM5,$B6=$BN5,$B6=$BO5,$B6=$AX5),BP5,BO5) | BQ6: =IF(OR($B6=$AS5,$B6=$AQ5,$B6=$AR5,$B6=$AT5,$B6=$AU5,$B6=$AV5,$B6=$AW5,$B6=$AY5,$B6=$AZ5,$B6=$BA5,$B6=$BB5,$B6=$BC5,$B6=$BD5,$B6=$BE5,$B6=$BF5,$B6=$BG5,$B6=$BH5,$B6=$BI5,$B6=$BJ5,$B6=$BK5,$B6=$BL5,$B6=$BM5,$B6=$BN5,$B6=$BO5,$B6=$BP5,$B6=$AX5),BQ5,BP5) | BR6: =IF(OR($B6=$AS5,$B6=$AQ5,$B6=$AR5,$B6=$AT5,$B6=$AU5,$B6=$AV5,$B6=$AW5,$B6=$AY5,$B6=$AZ5,$B6=$BA5,$B6=$BB5,$B6=$BC5,$B6=$BD5,$B6=$BE5,$B6=$BF5,$B6=$BG5,$B6=$BH5,$B6=$BI5,$B6=$BJ5,$B6=$BK5,$B6=$BL5,$B6=$BM5,$B6=$BN5,$B6=$BO5,$B6=$BP5,$B6=$BQ5,$B6=$AX5),BR5,BQ5) | BS6: =IF(OR($B6=$AS5,$B6=$AQ5,$B6=$AR5,$B6=$AT5,$B6=$AU5,$B6=$AV5,$B6=$AW5,$B6=$AY5,$B6=$AZ5,$B6=$BA5,$B6=$BB5,$B6=$BC5,$B6=$BD5,$B6=$BE5,$B6=$BF5,$B6=$BG5,$B6=$BH5,$B6=$BI5,$B6=$BJ5,$B6=$BK5,$B6=$BL5,$B6=$BM5,$B6=$BN5,$B6=$BO5,$B6=$BP5,$B6=$BQ5,$B6=$BR5,$B6=$AX5),BS5,BR5) | BT6: =IF(OR($B6=$AS5,$B6=$AQ5,$B6=$AR5,$B6=$AT5,$B6=$AU5,$B6=$AV5,$B6=$AW5,$B6=$AY5,$B6=$AZ5,$B6=$BA5,$B6=$BB5,$B6=$BC5,$B6=$BD5,$B6=$BE5,$B6=$BF5,$B6=$BG5,$B6=$BH5,$B6=$BI5,$B6=$BJ5,$B6=$BK5,$B6=$BL5,$B6=$BM5,$B6=$BN5,$B6=$BO5,$B6=$BP5,$B6=$BQ5,$B6=$BR5,$B6=$BS5,$B6=$AX5),BT5,BS5) | BU6: =IF(OR($B6=$AS5,$B6=$AQ5,$B6=$AR5,$B6=$AT5,$B6=$AU5,$B6=$AV5,$B6=$AW5,$B6=$AY5,$B6=$AZ5,$B6=$BA5,$B6=$BB5,$B6=$BC5,$B6=$BD5,$B6=$BE5,$B6=$BF5,$B6=$BG5,$B6=$BH5,$B6=$BI5,$B6=$BJ5,$B6=$BK5,$B6=$BL5,$B6=$BM5,$B6=$BN5,$B6=$BO5,$B6=$BP5,$B6=$BQ5,$B6=$BR5,$B6=$BS5,$B6=$BT5,$B6=$AX5),BU5,BT5) | BV6: =IF(OR($B6=$AS5,$B6=$AQ5,$B6=$AR5,$B6=$AT5,$B6=$AU5,$B6=$AV5,$B6=$AW5,$B6=$AY5,$B6=$AZ5,$B6=$BA5,$B6=$BB5,$B6=$BC5,$B6=$BD5,$B6=$BE5,$B6=$BF5,$B6=$BG5,$B6=$BH5,$B6=$BI5,$B6=$BJ5,$B6=$BK5,$B6=$BL5,$B6=$BM5,$B6=$BN5,$B6=$BO5,$B6=$BP5,$B6=$BQ5,$B6=$BR5,$B6=$BS5,$B6=$BT5,$B6=$BU5,$B6=$AX5),BV5,BU5) | BW6: =IF(OR($B6=$AS5,$B6=$AQ5,$B6=$AR5,$B6=$AT5,$B6=$AU5,$B6=$AV5,$B6=$AW5,$B6=$AY5,$B6=$AZ5,$B6=$BA5,$B6=$BB5,$B6=$BC5,$B6=$BD5,$B6=$BE5,$B6=$BF5,$B6=$BG5,$B6=$BH5,$B6=$BI5,$B6=$BJ5,$B6=$BK5,$B6=$BL5,$B6=$BM5,$B6=$BN5,$B6=$BO5,$B6=$BP5,$B6=$BQ5,$B6=$BR5,$B6=$BS5,$B6=$BT5,$B6=$BU5,$B6=$BV5,$B6=$AX5),BW5,BV5) | BX6: =IF(OR($B6=$AS5,$B6=$AQ5,$B6=$AR5,$B6=$AT5,$B6=$AU5,$B6=$AV5,$B6=$AW5,$B6=$AY5,$B6=$AZ5,$B6=$BA5,$B6=$BB5,$B6=$BC5,$B6=$BD5,$B6=$BE5,$B6=$BF5,$B6=$BG5,$B6=$BH5,$B6=$BI5,$B6=$BJ5,$B6=$BK5,$B6=$BL5,$B6=$BM5,$B6=$BN5,$B6=$BO5,$B6=$BP5,$B6=$BQ5,$B6=$BR5,$B6=$BS5,$B6=$BT5,$B6=$BU5,$B6=$BV5,$B6=$BW5,$B6=$AX5),BX5,BW5) | BY6: =IF(OR($B6=$AS5,$B6=$AQ5,$B6=$AR5,$B6=$AT5,$B6=$AU5,$B6=$AV5,$B6=$AW5,$B6=$AY5,$B6=$AZ5,$B6=$BA5,$B6=$BB5,$B6=$BC5,$B6=$BD5,$B6=$BE5,$B6=$BF5,$B6=$BG5,$B6=$BH5,$B6=$BI5,$B6=$BJ5,$B6=$BK5,$B6=$BL5,$B6=$BM5,$B6=$BN5,$B6=$BO5,$B6=$BP5,$B6=$BQ5,$B6=$BR5,$B6=$BS5,$B6=$BT5,$B6=$BU5,$B6=$BV5,$B6=$BW5,$B6=$BX5,$B6=$AX5),BY5,BX5) | BZ6: =IF(OR($B6=$AS5,$B6=$AQ5,$B6=$AR5,$B6=$AT5,$B6=$AU5,$B6=$AV5,$B6=$AW5,$B6=$AY5,$B6=$AZ5,$B6=$BA5,$B6=$BB5,$B6=$BC5,$B6=$BD5,$B6=$BE5,$B6=$BF5,$B6=$BG5,$B6=$BH5,$B6=$BI5,$B6=$BJ5,$B6=$BK5,$B6=$BL5,$B6=$BM5,$B6=$BN5,$B6=$BO5,$B6=$BP5,$B6=$BQ5,$B6=$BR5,$B6=$BS5,$B6=$BT5,$B6=$BU5,$B6=$BV5,$B6=$BW5,$B6=$BX5,$B6=$BY5,$B6=$AX5),BZ5,BY5) | CA6: =IF(OR($B6=$AS5,$B6=$AQ5,$B6=$AR5,$B6=$AT5,$B6=$AU5,$B6=$AV5,$B6=$AW5,$B6=$AY5,$B6=$AZ5,$B6=$BA5,$B6=$BB5,$B6=$BC5,$B6=$BD5,$B6=$BE5,$B6=$BF5,$B6=$BG5,$B6=$BH5,$B6=$BI5,$B6=$BJ5,$B6=$BK5,$B6=$BL5,$B6=$BM5,$B6=$BN5,$B6=$BO5,$B6=$BP5,$B6=$BQ5,$B6=$BR5,$B6=$BS5,$B6=$BT5,$B6=$BU5,$B6=$BV5,$B6=$BW5,$B6=$BX5,$B6=$BY5,$B6=$BZ5,$B6=$AX5),CA5,BZ5) | CE6: =IF(AND(CE5="",$B6<>CE$1),"",IF($C6<CE5,CE5,IF($B6=CE$1,1,1+CE5))) | CF6: =IF(AND(CF5="",$B6<>CF$1),"",IF($C6<CF5,CF5,IF($B6=CF$1,1,1+CF5))) | CG6: =IF(AND(CG5="",$B6<>CG$1),"",IF($C6<CG5,CG5,IF($B6=CG$1,1,1+CG5))) | CH6: =IF(AND(CH5="",$B6<>CH$1),"",IF($C6<CH5,CH5,IF($B6=CH$1,1,1+CH5))) | CI6: =IF(AND(CI5="",$B6<>CI$1),"",IF($C6<CI5,CI5,IF($B6=CI$1,1,1+CI5))) | CJ6: =IF(AND(CJ5="",$B6<>CJ$1),"",IF($C6<CJ5,CJ5,IF($B6=CJ$1,1,1+CJ5))) | CK6: =IF(AND(CK5="",$B6<>CK$1),"",IF($C6<CK5,CK5,IF($B6=CK$1,1,1+CK5))) -> 1 | CL6: =IF(AND(CL5="",$B6<>CL$1),"",IF($C6<CL5,CL5,IF($B6=CL$1,1,1+CL5))) | ... DO6: =IF(AND(DO5="",$B6<>DO$1),"",IF($C6<DO5,DO5,IF($B6=DO$1,1,1+DO5)))
A7: 6 | B7: ='Rev-KTF'!B8 -> 37 | C7: =IF(B7="","",LOOKUP(B7,$CE$1:$DO$1,CE6:DO6)) | D7: =IF(AND($B8="",$B7<>""),"Nrs",IF(AND($B9="",$B8<>"",$B7<>""),D$1,"")) | E7: =IF(AND($B8="",$B7<>""),AQ7,IF(AND($B9="",$B8<>"",$B7<>""),E$1,"")) | F7: =IF(AND($B8="",$B7<>""),AR7,IF(AND($B9="",$B8<>"",$B7<>""),F$1,"")) | G7: =IF(AND($B8="",$B7<>""),AS7,IF(AND($B9="",$B8<>"",$B7<>""),G$1,"")) | H7: =IF(AND($B8="",$B7<>""),AT7,IF(AND($B9="",$B8<>"",$B7<>""),H$1,"")) | I7: =IF(AND($B8="",$B7<>""),AU7,IF(AND($B9="",$B8<>"",$B7<>""),I$1,"")) | J7: =IF(AND($B8="",$B7<>""),AV7,IF(AND($B9="",$B8<>"",$B7<>""),J$1,"")) | K7: =IF(AND($B8="",$B7<>""),AW7,IF(AND($B9="",$B8<>"",$B7<>""),K$1,"")) | L7: =IF(AND($B8="",$B7<>""),AX7,IF(AND($B9="",$B8<>"",$B7<>""),L$1,"")) | ... AO7: =IF(AND($B8="",$B7<>""),CA7,IF(AND($B9="",$B8<>"",$B7<>""),AO$1,"")) | AQ7: =B7 -> 37 | AR7: =IF($B7=$AQ6,AR6,AQ6) -> 7 | AS7: =IF(OR($B7=$AQ6,$B7=$AR6),AS6,AR6) -> 28 | AT7: =IF(OR($B7=$AS6,$B7=$AQ6,$B7=$AR6),AT6,AS6) -> 35 | AU7: =IF(OR($B7=$AS6,$B7=$AQ6,$B7=$AR6,$B7=$AT6),AU6,AT6) -> 12 | AV7: =IF(OR($B7=$AS6,$B7=$AQ6,$B7=$AR6,$B7=$AT6,$B7=$AU6),AV6,AU6) | AW7: =IF(OR($B7=$AS6,$B7=$AQ6,$B7=$AR6,$B7=$AT6,$B7=$AU6,$B7=$AV6),AW6,AV6) | AX7: =IF(OR($B7=$AS6,$B7=$AQ6,$B7=$AR6,$B7=$AT6,$B7=$AU6,$B7=$AV6,$B7=$AW6),AX6,AW6) | AY7: =IF(OR($B7=$AS6,$B7=$AQ6,$B7=$AR6,$B7=$AT6,$B7=$AU6,$B7=$AV6,$B7=$AW6,$B7=$AX6),AY6,AX6) | AZ7: =IF(OR($B7=$AS6,$B7=$AQ6,$B7=$AR6,$B7=$AT6,$B7=$AU6,$B7=$AV6,$B7=$AW6,$B7=$AX6,$B7=$AY6),AZ6,AY6) | BA7: =IF(OR($B7=$AS6,$B7=$AQ6,$B7=$AR6,$B7=$AT6,$B7=$AU6,$B7=$AV6,$B7=$AW6,$B7=$AY6,$B7=$AZ6,$B7=$AX6),BA6,AZ6) | BB7: =IF(OR($B7=$AS6,$B7=$AQ6,$B7=$AR6,$B7=$AT6,$B7=$AU6,$B7=$AV6,$B7=$AW6,$B7=$AY6,$B7=$AZ6,$B7=$BA6,$B7=$AX6),BB6,BA6) | BC7: =IF(OR($B7=$AS6,$B7=$AQ6,$B7=$AR6,$B7=$AT6,$B7=$AU6,$B7=$AV6,$B7=$AW6,$B7=$AY6,$B7=$AZ6,$B7=$BA6,$B7=$BB6,$B7=$AX6),BC6,BB6) | BD7: =IF(OR($B7=$AS6,$B7=$AQ6,$B7=$AR6,$B7=$AT6,$B7=$AU6,$B7=$AV6,$B7=$AW6,$B7=$AY6,$B7=$AZ6,$B7=$BA6,$B7=$BB6,$B7=$BC6,$B7=$AX6),BD6,BC6) | BE7: =IF(OR($B7=$AS6,$B7=$AQ6,$B7=$AR6,$B7=$AT6,$B7=$AU6,$B7=$AV6,$B7=$AW6,$B7=$AY6,$B7=$AZ6,$B7=$BA6,$B7=$BB6,$B7=$BC6,$B7=$BD6,$B7=$AX6),BE6,BD6) | BF7: =IF(OR($B7=$AS6,$B7=$AQ6,$B7=$AR6,$B7=$AT6,$B7=$AU6,$B7=$AV6,$B7=$AW6,$B7=$AY6,$B7=$AZ6,$B7=$BA6,$B7=$BB6,$B7=$BC6,$B7=$BD6,$B7=$BE6,$B7=$AX6),BF6,BE6) | BG7: =IF(OR($B7=$AS6,$B7=$AQ6,$B7=$AR6,$B7=$AT6,$B7=$AU6,$B7=$AV6,$B7=$AW6,$B7=$AY6,$B7=$AZ6,$B7=$BA6,$B7=$BB6,$B7=$BC6,$B7=$BD6,$B7=$BE6,$B7=$BF6,$B7=$AX6),BG6,BF6) | BH7: =IF(OR($B7=$AS6,$B7=$AQ6,$B7=$AR6,$B7=$AT6,$B7=$AU6,$B7=$AV6,$B7=$AW6,$B7=$AY6,$B7=$AZ6,$B7=$BA6,$B7=$BB6,$B7=$BC6,$B7=$BD6,$B7=$BE6,$B7=$BF6,$B7=$BG6,$B7=$AX6),BH6,BG6) | BI7: =IF(OR($B7=$AS6,$B7=$AQ6,$B7=$AR6,$B7=$AT6,$B7=$AU6,$B7=$AV6,$B7=$AW6,$B7=$AY6,$B7=$AZ6,$B7=$BA6,$B7=$BB6,$B7=$BC6,$B7=$BD6,$B7=$BE6,$B7=$BF6,$B7=$BG6,$B7=$BH6,$B7=$AX6),BI6,BH6) | BJ7: =IF(OR($B7=$AS6,$B7=$AQ6,$B7=$AR6,$B7=$AT6,$B7=$AU6,$B7=$AV6,$B7=$AW6,$B7=$AY6,$B7=$AZ6,$B7=$BA6,$B7=$BB6,$B7=$BC6,$B7=$BD6,$B7=$BE6,$B7=$BF6,$B7=$BG6,$B7=$BH6,$B7=$BI6,$B7=$AX6),BJ6,BI6) | BK7: =IF(OR($B7=$AS6,$B7=$AQ6,$B7=$AR6,$B7=$AT6,$B7=$AU6,$B7=$AV6,$B7=$AW6,$B7=$AY6,$B7=$AZ6,$B7=$BA6,$B7=$BB6,$B7=$BC6,$B7=$BD6,$B7=$BE6,$B7=$BF6,$B7=$BG6,$B7=$BH6,$B7=$BI6,$B7=$BJ6,$B7=$AX6),BK6,BJ6) | BL7: =IF(OR($B7=$AS6,$B7=$AQ6,$B7=$AR6,$B7=$AT6,$B7=$AU6,$B7=$AV6,$B7=$AW6,$B7=$AY6,$B7=$AZ6,$B7=$BA6,$B7=$BB6,$B7=$BC6,$B7=$BD6,$B7=$BE6,$B7=$BF6,$B7=$BG6,$B7=$BH6,$B7=$BI6,$B7=$BJ6,$B7=$BK6,$B7=$AX6),BL6,BK6) | BM7: =IF(OR($B7=$AS6,$B7=$AQ6,$B7=$AR6,$B7=$AT6,$B7=$AU6,$B7=$AV6,$B7=$AW6,$B7=$AY6,$B7=$AZ6,$B7=$BA6,$B7=$BB6,$B7=$BC6,$B7=$BD6,$B7=$BE6,$B7=$BF6,$B7=$BG6,$B7=$BH6,$B7=$BI6,$B7=$BJ6,$B7=$BK6,$B7=$BL6,$B7=$AX6),BM6,BL6) | BN7: =IF(OR($B7=$AS6,$B7=$AQ6,$B7=$AR6,$B7=$AT6,$B7=$AU6,$B7=$AV6,$B7=$AW6,$B7=$AY6,$B7=$AZ6,$B7=$BA6,$B7=$BB6,$B7=$BC6,$B7=$BD6,$B7=$BE6,$B7=$BF6,$B7=$BG6,$B7=$BH6,$B7=$BI6,$B7=$BJ6,$B7=$BK6,$B7=$BL6,$B7=$BM6,$B7=$AX6),BN6,BM6) | BO7: =IF(OR($B7=$AS6,$B7=$AQ6,$B7=$AR6,$B7=$AT6,$B7=$AU6,$B7=$AV6,$B7=$AW6,$B7=$AY6,$B7=$AZ6,$B7=$BA6,$B7=$BB6,$B7=$BC6,$B7=$BD6,$B7=$BE6,$B7=$BF6,$B7=$BG6,$B7=$BH6,$B7=$BI6,$B7=$BJ6,$B7=$BK6,$B7=$BL6,$B7=$BM6,$B7=$BN6,$B7=$AX6),BO6,BN6) | BP7: =IF(OR($B7=$AS6,$B7=$AQ6,$B7=$AR6,$B7=$AT6,$B7=$AU6,$B7=$AV6,$B7=$AW6,$B7=$AY6,$B7=$AZ6,$B7=$BA6,$B7=$BB6,$B7=$BC6,$B7=$BD6,$B7=$BE6,$B7=$BF6,$B7=$BG6,$B7=$BH6,$B7=$BI6,$B7=$BJ6,$B7=$BK6,$B7=$BL6,$B7=$BM6,$B7=$BN6,$B7=$BO6,$B7=$AX6),BP6,BO6) | BQ7: =IF(OR($B7=$AS6,$B7=$AQ6,$B7=$AR6,$B7=$AT6,$B7=$AU6,$B7=$AV6,$B7=$AW6,$B7=$AY6,$B7=$AZ6,$B7=$BA6,$B7=$BB6,$B7=$BC6,$B7=$BD6,$B7=$BE6,$B7=$BF6,$B7=$BG6,$B7=$BH6,$B7=$BI6,$B7=$BJ6,$B7=$BK6,$B7=$BL6,$B7=$BM6,$B7=$BN6,$B7=$BO6,$B7=$BP6,$B7=$AX6),BQ6,BP6) | BR7: =IF(OR($B7=$AS6,$B7=$AQ6,$B7=$AR6,$B7=$AT6,$B7=$AU6,$B7=$AV6,$B7=$AW6,$B7=$AY6,$B7=$AZ6,$B7=$BA6,$B7=$BB6,$B7=$BC6,$B7=$BD6,$B7=$BE6,$B7=$BF6,$B7=$BG6,$B7=$BH6,$B7=$BI6,$B7=$BJ6,$B7=$BK6,$B7=$BL6,$B7=$BM6,$B7=$BN6,$B7=$BO6,$B7=$BP6,$B7=$BQ6,$B7=$AX6),BR6,BQ6) | BS7: =IF(OR($B7=$AS6,$B7=$AQ6,$B7=$AR6,$B7=$AT6,$B7=$AU6,$B7=$AV6,$B7=$AW6,$B7=$AY6,$B7=$AZ6,$B7=$BA6,$B7=$BB6,$B7=$BC6,$B7=$BD6,$B7=$BE6,$B7=$BF6,$B7=$BG6,$B7=$BH6,$B7=$BI6,$B7=$BJ6,$B7=$BK6,$B7=$BL6,$B7=$BM6,$B7=$BN6,$B7=$BO6,$B7=$BP6,$B7=$BQ6,$B7=$BR6,$B7=$AX6),BS6,BR6) | BT7: =IF(OR($B7=$AS6,$B7=$AQ6,$B7=$AR6,$B7=$AT6,$B7=$AU6,$B7=$AV6,$B7=$AW6,$B7=$AY6,$B7=$AZ6,$B7=$BA6,$B7=$BB6,$B7=$BC6,$B7=$BD6,$B7=$BE6,$B7=$BF6,$B7=$BG6,$B7=$BH6,$B7=$BI6,$B7=$BJ6,$B7=$BK6,$B7=$BL6,$B7=$BM6,$B7=$BN6,$B7=$BO6,$B7=$BP6,$B7=$BQ6,$B7=$BR6,$B7=$BS6,$B7=$AX6),BT6,BS6) | BU7: =IF(OR($B7=$AS6,$B7=$AQ6,$B7=$AR6,$B7=$AT6,$B7=$AU6,$B7=$AV6,$B7=$AW6,$B7=$AY6,$B7=$AZ6,$B7=$BA6,$B7=$BB6,$B7=$BC6,$B7=$BD6,$B7=$BE6,$B7=$BF6,$B7=$BG6,$B7=$BH6,$B7=$BI6,$B7=$BJ6,$B7=$BK6,$B7=$BL6,$B7=$BM6,$B7=$BN6,$B7=$BO6,$B7=$BP6,$B7=$BQ6,$B7=$BR6,$B7=$BS6,$B7=$BT6,$B7=$AX6),BU6,BT6) | BV7: =IF(OR($B7=$AS6,$B7=$AQ6,$B7=$AR6,$B7=$AT6,$B7=$AU6,$B7=$AV6,$B7=$AW6,$B7=$AY6,$B7=$AZ6,$B7=$BA6,$B7=$BB6,$B7=$BC6,$B7=$BD6,$B7=$BE6,$B7=$BF6,$B7=$BG6,$B7=$BH6,$B7=$BI6,$B7=$BJ6,$B7=$BK6,$B7=$BL6,$B7=$BM6,$B7=$BN6,$B7=$BO6,$B7=$BP6,$B7=$BQ6,$B7=$BR6,$B7=$BS6,$B7=$BT6,$B7=$BU6,$B7=$AX6),BV6,BU6) | BW7: =IF(OR($B7=$AS6,$B7=$AQ6,$B7=$AR6,$B7=$AT6,$B7=$AU6,$B7=$AV6,$B7=$AW6,$B7=$AY6,$B7=$AZ6,$B7=$BA6,$B7=$BB6,$B7=$BC6,$B7=$BD6,$B7=$BE6,$B7=$BF6,$B7=$BG6,$B7=$BH6,$B7=$BI6,$B7=$BJ6,$B7=$BK6,$B7=$BL6,$B7=$BM6,$B7=$BN6,$B7=$BO6,$B7=$BP6,$B7=$BQ6,$B7=$BR6,$B7=$BS6,$B7=$BT6,$B7=$BU6,$B7=$BV6,$B7=$AX6),BW6,BV6) | BX7: =IF(OR($B7=$AS6,$B7=$AQ6,$B7=$AR6,$B7=$AT6,$B7=$AU6,$B7=$AV6,$B7=$AW6,$B7=$AY6,$B7=$AZ6,$B7=$BA6,$B7=$BB6,$B7=$BC6,$B7=$BD6,$B7=$BE6,$B7=$BF6,$B7=$BG6,$B7=$BH6,$B7=$BI6,$B7=$BJ6,$B7=$BK6,$B7=$BL6,$B7=$BM6,$B7=$BN6,$B7=$BO6,$B7=$BP6,$B7=$BQ6,$B7=$BR6,$B7=$BS6,$B7=$BT6,$B7=$BU6,$B7=$BV6,$B7=$BW6,$B7=$AX6),BX6,BW6) | BY7: =IF(OR($B7=$AS6,$B7=$AQ6,$B7=$AR6,$B7=$AT6,$B7=$AU6,$B7=$AV6,$B7=$AW6,$B7=$AY6,$B7=$AZ6,$B7=$BA6,$B7=$BB6,$B7=$BC6,$B7=$BD6,$B7=$BE6,$B7=$BF6,$B7=$BG6,$B7=$BH6,$B7=$BI6,$B7=$BJ6,$B7=$BK6,$B7=$BL6,$B7=$BM6,$B7=$BN6,$B7=$BO6,$B7=$BP6,$B7=$BQ6,$B7=$BR6,$B7=$BS6,$B7=$BT6,$B7=$BU6,$B7=$BV6,$B7=$BW6,$B7=$BX6,$B7=$AX6),BY6,BX6) | BZ7: =IF(OR($B7=$AS6,$B7=$AQ6,$B7=$AR6,$B7=$AT6,$B7=$AU6,$B7=$AV6,$B7=$AW6,$B7=$AY6,$B7=$AZ6,$B7=$BA6,$B7=$BB6,$B7=$BC6,$B7=$BD6,$B7=$BE6,$B7=$BF6,$B7=$BG6,$B7=$BH6,$B7=$BI6,$B7=$BJ6,$B7=$BK6,$B7=$BL6,$B7=$BM6,$B7=$BN6,$B7=$BO6,$B7=$BP6,$B7=$BQ6,$B7=$BR6,$B7=$BS6,$B7=$BT6,$B7=$BU6,$B7=$BV6,$B7=$BW6,$B7=$BX6,$B7=$BY6,$B7=$AX6),BZ6,BY6) | CA7: =IF(OR($B7=$AS6,$B7=$AQ6,$B7=$AR6,$B7=$AT6,$B7=$AU6,$B7=$AV6,$B7=$AW6,$B7=$AY6,$B7=$AZ6,$B7=$BA6,$B7=$BB6,$B7=$BC6,$B7=$BD6,$B7=$BE6,$B7=$BF6,$B7=$BG6,$B7=$BH6,$B7=$BI6,$B7=$BJ6,$B7=$BK6,$B7=$BL6,$B7=$BM6,$B7=$BN6,$B7=$BO6,$B7=$BP6,$B7=$BQ6,$B7=$BR6,$B7=$BS6,$B7=$BT6,$B7=$BU6,$B7=$BV6,$B7=$BW6,$B7=$BX6,$B7=$BY6,$B7=$BZ6,$B7=$AX6),CA6,BZ6) | CE7: =IF(AND(CE6="",$B7<>CE$1),"",IF($C7<CE6,CE6,IF($B7=CE$1,1,1+CE6))) | CF7: =IF(AND(CF6="",$B7<>CF$1),"",IF($C7<CF6,CF6,IF($B7=CF$1,1,1+CF6))) | CG7: =IF(AND(CG6="",$B7<>CG$1),"",IF($C7<CG6,CG6,IF($B7=CG$1,1,1+CG6))) | CH7: =IF(AND(CH6="",$B7<>CH$1),"",IF($C7<CH6,CH6,IF($B7=CH$1,1,1+CH6))) | CI7: =IF(AND(CI6="",$B7<>CI$1),"",IF($C7<CI6,CI6,IF($B7=CI$1,1,1+CI6))) | CJ7: =IF(AND(CJ6="",$B7<>CJ$1),"",IF($C7<CJ6,CJ6,IF($B7=CJ$1,1,1+CJ6))) | CK7: =IF(AND(CK6="",$B7<>CK$1),"",IF($C7<CK6,CK6,IF($B7=CK$1,1,1+CK6))) -> 2 | CL7: =IF(AND(CL6="",$B7<>CL$1),"",IF($C7<CL6,CL6,IF($B7=CL$1,1,1+CL6))) | ... DO7: =IF(AND(DO6="",$B7<>DO$1),"",IF($C7<DO6,DO6,IF($B7=DO$1,1,1+DO6))) -> 1
A8: 7 | B8: ='Rev-KTF'!B9 -> 35 | C8: =IF(B8="","",LOOKUP(B8,$CE$1:$DO$1,CE7:DO7)) -> 4 | D8: =IF(AND($B9="",$B8<>""),"Nrs",IF(AND($B10="",$B9<>"",$B8<>""),D$1,"")) | E8: =IF(AND($B9="",$B8<>""),AQ8,IF(AND($B10="",$B9<>"",$B8<>""),E$1,"")) | F8: =IF(AND($B9="",$B8<>""),AR8,IF(AND($B10="",$B9<>"",$B8<>""),F$1,"")) | G8: =IF(AND($B9="",$B8<>""),AS8,IF(AND($B10="",$B9<>"",$B8<>""),G$1,"")) | H8: =IF(AND($B9="",$B8<>""),AT8,IF(AND($B10="",$B9<>"",$B8<>""),H$1,"")) | I8: =IF(AND($B9="",$B8<>""),AU8,IF(AND($B10="",$B9<>"",$B8<>""),I$1,"")) | J8: =IF(AND($B9="",$B8<>""),AV8,IF(AND($B10="",$B9<>"",$B8<>""),J$1,"")) | K8: =IF(AND($B9="",$B8<>""),AW8,IF(AND($B10="",$B9<>"",$B8<>""),K$1,"")) | L8: =IF(AND($B9="",$B8<>""),AX8,IF(AND($B10="",$B9<>"",$B8<>""),L$1,"")) | ... AO8: =IF(AND($B9="",$B8<>""),CA8,IF(AND($B10="",$B9<>"",$B8<>""),AO$1,"")) | AQ8: =B8 -> 35 | AR8: =IF($B8=$AQ7,AR7,AQ7) -> 37 | AS8: =IF(OR($B8=$AQ7,$B8=$AR7),AS7,AR7) -> 7 | AT8: =IF(OR($B8=$AS7,$B8=$AQ7,$B8=$AR7),AT7,AS7) -> 28 | AU8: =IF(OR($B8=$AS7,$B8=$AQ7,$B8=$AR7,$B8=$AT7),AU7,AT7) -> 12 | AV8: =IF(OR($B8=$AS7,$B8=$AQ7,$B8=$AR7,$B8=$AT7,$B8=$AU7),AV7,AU7) | AW8: =IF(OR($B8=$AS7,$B8=$AQ7,$B8=$AR7,$B8=$AT7,$B8=$AU7,$B8=$AV7),AW7,AV7) | AX8: =IF(OR($B8=$AS7,$B8=$AQ7,$B8=$AR7,$B8=$AT7,$B8=$AU7,$B8=$AV7,$B8=$AW7),AX7,AW7) | AY8: =IF(OR($B8=$AS7,$B8=$AQ7,$B8=$AR7,$B8=$AT7,$B8=$AU7,$B8=$AV7,$B8=$AW7,$B8=$AX7),AY7,AX7) | AZ8: =IF(OR($B8=$AS7,$B8=$AQ7,$B8=$AR7,$B8=$AT7,$B8=$AU7,$B8=$AV7,$B8=$AW7,$B8=$AX7,$B8=$AY7),AZ7,AY7) | BA8: =IF(OR($B8=$AS7,$B8=$AQ7,$B8=$AR7,$B8=$AT7,$B8=$AU7,$B8=$AV7,$B8=$AW7,$B8=$AY7,$B8=$AZ7,$B8=$AX7),BA7,AZ7) | BB8: =IF(OR($B8=$AS7,$B8=$AQ7,$B8=$AR7,$B8=$AT7,$B8=$AU7,$B8=$AV7,$B8=$AW7,$B8=$AY7,$B8=$AZ7,$B8=$BA7,$B8=$AX7),BB7,BA7) | BC8: =IF(OR($B8=$AS7,$B8=$AQ7,$B8=$AR7,$B8=$AT7,$B8=$AU7,$B8=$AV7,$B8=$AW7,$B8=$AY7,$B8=$AZ7,$B8=$BA7,$B8=$BB7,$B8=$AX7),BC7,BB7) | BD8: =IF(OR($B8=$AS7,$B8=$AQ7,$B8=$AR7,$B8=$AT7,$B8=$AU7,$B8=$AV7,$B8=$AW7,$B8=$AY7,$B8=$AZ7,$B8=$BA7,$B8=$BB7,$B8=$BC7,$B8=$AX7),BD7,BC7) | BE8: =IF(OR($B8=$AS7,$B8=$AQ7,$B8=$AR7,$B8=$AT7,$B8=$AU7,$B8=$AV7,$B8=$AW7,$B8=$AY7,$B8=$AZ7,$B8=$BA7,$B8=$BB7,$B8=$BC7,$B8=$BD7,$B8=$AX7),BE7,BD7) | BF8: =IF(OR($B8=$AS7,$B8=$AQ7,$B8=$AR7,$B8=$AT7,$B8=$AU7,$B8=$AV7,$B8=$AW7,$B8=$AY7,$B8=$AZ7,$B8=$BA7,$B8=$BB7,$B8=$BC7,$B8=$BD7,$B8=$BE7,$B8=$AX7),BF7,BE7) | BG8: =IF(OR($B8=$AS7,$B8=$AQ7,$B8=$AR7,$B8=$AT7,$B8=$AU7,$B8=$AV7,$B8=$AW7,$B8=$AY7,$B8=$AZ7,$B8=$BA7,$B8=$BB7,$B8=$BC7,$B8=$BD7,$B8=$BE7,$B8=$BF7,$B8=$AX7),BG7,BF7) | BH8: =IF(OR($B8=$AS7,$B8=$AQ7,$B8=$AR7,$B8=$AT7,$B8=$AU7,$B8=$AV7,$B8=$AW7,$B8=$AY7,$B8=$AZ7,$B8=$BA7,$B8=$BB7,$B8=$BC7,$B8=$BD7,$B8=$BE7,$B8=$BF7,$B8=$BG7,$B8=$AX7),BH7,BG7) | BI8: =IF(OR($B8=$AS7,$B8=$AQ7,$B8=$AR7,$B8=$AT7,$B8=$AU7,$B8=$AV7,$B8=$AW7,$B8=$AY7,$B8=$AZ7,$B8=$BA7,$B8=$BB7,$B8=$BC7,$B8=$BD7,$B8=$BE7,$B8=$BF7,$B8=$BG7,$B8=$BH7,$B8=$AX7),BI7,BH7) | BJ8: =IF(OR($B8=$AS7,$B8=$AQ7,$B8=$AR7,$B8=$AT7,$B8=$AU7,$B8=$AV7,$B8=$AW7,$B8=$AY7,$B8=$AZ7,$B8=$BA7,$B8=$BB7,$B8=$BC7,$B8=$BD7,$B8=$BE7,$B8=$BF7,$B8=$BG7,$B8=$BH7,$B8=$BI7,$B8=$AX7),BJ7,BI7) | BK8: =IF(OR($B8=$AS7,$B8=$AQ7,$B8=$AR7,$B8=$AT7,$B8=$AU7,$B8=$AV7,$B8=$AW7,$B8=$AY7,$B8=$AZ7,$B8=$BA7,$B8=$BB7,$B8=$BC7,$B8=$BD7,$B8=$BE7,$B8=$BF7,$B8=$BG7,$B8=$BH7,$B8=$BI7,$B8=$BJ7,$B8=$AX7),BK7,BJ7) | BL8: =IF(OR($B8=$AS7,$B8=$AQ7,$B8=$AR7,$B8=$AT7,$B8=$AU7,$B8=$AV7,$B8=$AW7,$B8=$AY7,$B8=$AZ7,$B8=$BA7,$B8=$BB7,$B8=$BC7,$B8=$BD7,$B8=$BE7,$B8=$BF7,$B8=$BG7,$B8=$BH7,$B8=$BI7,$B8=$BJ7,$B8=$BK7,$B8=$AX7),BL7,BK7) | BM8: =IF(OR($B8=$AS7,$B8=$AQ7,$B8=$AR7,$B8=$AT7,$B8=$AU7,$B8=$AV7,$B8=$AW7,$B8=$AY7,$B8=$AZ7,$B8=$BA7,$B8=$BB7,$B8=$BC7,$B8=$BD7,$B8=$BE7,$B8=$BF7,$B8=$BG7,$B8=$BH7,$B8=$BI7,$B8=$BJ7,$B8=$BK7,$B8=$BL7,$B8=$AX7),BM7,BL7) | BN8: =IF(OR($B8=$AS7,$B8=$AQ7,$B8=$AR7,$B8=$AT7,$B8=$AU7,$B8=$AV7,$B8=$AW7,$B8=$AY7,$B8=$AZ7,$B8=$BA7,$B8=$BB7,$B8=$BC7,$B8=$BD7,$B8=$BE7,$B8=$BF7,$B8=$BG7,$B8=$BH7,$B8=$BI7,$B8=$BJ7,$B8=$BK7,$B8=$BL7,$B8=$BM7,$B8=$AX7),BN7,BM7) | BO8: =IF(OR($B8=$AS7,$B8=$AQ7,$B8=$AR7,$B8=$AT7,$B8=$AU7,$B8=$AV7,$B8=$AW7,$B8=$AY7,$B8=$AZ7,$B8=$BA7,$B8=$BB7,$B8=$BC7,$B8=$BD7,$B8=$BE7,$B8=$BF7,$B8=$BG7,$B8=$BH7,$B8=$BI7,$B8=$BJ7,$B8=$BK7,$B8=$BL7,$B8=$BM7,$B8=$BN7,$B8=$AX7),BO7,BN7) | BP8: =IF(OR($B8=$AS7,$B8=$AQ7,$B8=$AR7,$B8=$AT7,$B8=$AU7,$B8=$AV7,$B8=$AW7,$B8=$AY7,$B8=$AZ7,$B8=$BA7,$B8=$BB7,$B8=$BC7,$B8=$BD7,$B8=$BE7,$B8=$BF7,$B8=$BG7,$B8=$BH7,$B8=$BI7,$B8=$BJ7,$B8=$BK7,$B8=$BL7,$B8=$BM7,$B8=$BN7,$B8=$BO7,$B8=$AX7),BP7,BO7) | BQ8: =IF(OR($B8=$AS7,$B8=$AQ7,$B8=$AR7,$B8=$AT7,$B8=$AU7,$B8=$AV7,$B8=$AW7,$B8=$AY7,$B8=$AZ7,$B8=$BA7,$B8=$BB7,$B8=$BC7,$B8=$BD7,$B8=$BE7,$B8=$BF7,$B8=$BG7,$B8=$BH7,$B8=$BI7,$B8=$BJ7,$B8=$BK7,$B8=$BL7,$B8=$BM7,$B8=$BN7,$B8=$BO7,$B8=$BP7,$B8=$AX7),BQ7,BP7) | BR8: =IF(OR($B8=$AS7,$B8=$AQ7,$B8=$AR7,$B8=$AT7,$B8=$AU7,$B8=$AV7,$B8=$AW7,$B8=$AY7,$B8=$AZ7,$B8=$BA7,$B8=$BB7,$B8=$BC7,$B8=$BD7,$B8=$BE7,$B8=$BF7,$B8=$BG7,$B8=$BH7,$B8=$BI7,$B8=$BJ7,$B8=$BK7,$B8=$BL7,$B8=$BM7,$B8=$BN7,$B8=$BO7,$B8=$BP7,$B8=$BQ7,$B8=$AX7),BR7,BQ7) | BS8: =IF(OR($B8=$AS7,$B8=$AQ7,$B8=$AR7,$B8=$AT7,$B8=$AU7,$B8=$AV7,$B8=$AW7,$B8=$AY7,$B8=$AZ7,$B8=$BA7,$B8=$BB7,$B8=$BC7,$B8=$BD7,$B8=$BE7,$B8=$BF7,$B8=$BG7,$B8=$BH7,$B8=$BI7,$B8=$BJ7,$B8=$BK7,$B8=$BL7,$B8=$BM7,$B8=$BN7,$B8=$BO7,$B8=$BP7,$B8=$BQ7,$B8=$BR7,$B8=$AX7),BS7,BR7) | BT8: =IF(OR($B8=$AS7,$B8=$AQ7,$B8=$AR7,$B8=$AT7,$B8=$AU7,$B8=$AV7,$B8=$AW7,$B8=$AY7,$B8=$AZ7,$B8=$BA7,$B8=$BB7,$B8=$BC7,$B8=$BD7,$B8=$BE7,$B8=$BF7,$B8=$BG7,$B8=$BH7,$B8=$BI7,$B8=$BJ7,$B8=$BK7,$B8=$BL7,$B8=$BM7,$B8=$BN7,$B8=$BO7,$B8=$BP7,$B8=$BQ7,$B8=$BR7,$B8=$BS7,$B8=$AX7),BT7,BS7) | BU8: =IF(OR($B8=$AS7,$B8=$AQ7,$B8=$AR7,$B8=$AT7,$B8=$AU7,$B8=$AV7,$B8=$AW7,$B8=$AY7,$B8=$AZ7,$B8=$BA7,$B8=$BB7,$B8=$BC7,$B8=$BD7,$B8=$BE7,$B8=$BF7,$B8=$BG7,$B8=$BH7,$B8=$BI7,$B8=$BJ7,$B8=$BK7,$B8=$BL7,$B8=$BM7,$B8=$BN7,$B8=$BO7,$B8=$BP7,$B8=$BQ7,$B8=$BR7,$B8=$BS7,$B8=$BT7,$B8=$AX7),BU7,BT7) | BV8: =IF(OR($B8=$AS7,$B8=$AQ7,$B8=$AR7,$B8=$AT7,$B8=$AU7,$B8=$AV7,$B8=$AW7,$B8=$AY7,$B8=$AZ7,$B8=$BA7,$B8=$BB7,$B8=$BC7,$B8=$BD7,$B8=$BE7,$B8=$BF7,$B8=$BG7,$B8=$BH7,$B8=$BI7,$B8=$BJ7,$B8=$BK7,$B8=$BL7,$B8=$BM7,$B8=$BN7,$B8=$BO7,$B8=$BP7,$B8=$BQ7,$B8=$BR7,$B8=$BS7,$B8=$BT7,$B8=$BU7,$B8=$AX7),BV7,BU7) | BW8: =IF(OR($B8=$AS7,$B8=$AQ7,$B8=$AR7,$B8=$AT7,$B8=$AU7,$B8=$AV7,$B8=$AW7,$B8=$AY7,$B8=$AZ7,$B8=$BA7,$B8=$BB7,$B8=$BC7,$B8=$BD7,$B8=$BE7,$B8=$BF7,$B8=$BG7,$B8=$BH7,$B8=$BI7,$B8=$BJ7,$B8=$BK7,$B8=$BL7,$B8=$BM7,$B8=$BN7,$B8=$BO7,$B8=$BP7,$B8=$BQ7,$B8=$BR7,$B8=$BS7,$B8=$BT7,$B8=$BU7,$B8=$BV7,$B8=$AX7),BW7,BV7) | BX8: =IF(OR($B8=$AS7,$B8=$AQ7,$B8=$AR7,$B8=$AT7,$B8=$AU7,$B8=$AV7,$B8=$AW7,$B8=$AY7,$B8=$AZ7,$B8=$BA7,$B8=$BB7,$B8=$BC7,$B8=$BD7,$B8=$BE7,$B8=$BF7,$B8=$BG7,$B8=$BH7,$B8=$BI7,$B8=$BJ7,$B8=$BK7,$B8=$BL7,$B8=$BM7,$B8=$BN7,$B8=$BO7,$B8=$BP7,$B8=$BQ7,$B8=$BR7,$B8=$BS7,$B8=$BT7,$B8=$BU7,$B8=$BV7,$B8=$BW7,$B8=$AX7),BX7,BW7) | BY8: =IF(OR($B8=$AS7,$B8=$AQ7,$B8=$AR7,$B8=$AT7,$B8=$AU7,$B8=$AV7,$B8=$AW7,$B8=$AY7,$B8=$AZ7,$B8=$BA7,$B8=$BB7,$B8=$BC7,$B8=$BD7,$B8=$BE7,$B8=$BF7,$B8=$BG7,$B8=$BH7,$B8=$BI7,$B8=$BJ7,$B8=$BK7,$B8=$BL7,$B8=$BM7,$B8=$BN7,$B8=$BO7,$B8=$BP7,$B8=$BQ7,$B8=$BR7,$B8=$BS7,$B8=$BT7,$B8=$BU7,$B8=$BV7,$B8=$BW7,$B8=$BX7,$B8=$AX7),BY7,BX7) | BZ8: =IF(OR($B8=$AS7,$B8=$AQ7,$B8=$AR7,$B8=$AT7,$B8=$AU7,$B8=$AV7,$B8=$AW7,$B8=$AY7,$B8=$AZ7,$B8=$BA7,$B8=$BB7,$B8=$BC7,$B8=$BD7,$B8=$BE7,$B8=$BF7,$B8=$BG7,$B8=$BH7,$B8=$BI7,$B8=$BJ7,$B8=$BK7,$B8=$BL7,$B8=$BM7,$B8=$BN7,$B8=$BO7,$B8=$BP7,$B8=$BQ7,$B8=$BR7,$B8=$BS7,$B8=$BT7,$B8=$BU7,$B8=$BV7,$B8=$BW7,$B8=$BX7,$B8=$BY7,$B8=$AX7),BZ7,BY7) | CA8: =IF(OR($B8=$AS7,$B8=$AQ7,$B8=$AR7,$B8=$AT7,$B8=$AU7,$B8=$AV7,$B8=$AW7,$B8=$AY7,$B8=$AZ7,$B8=$BA7,$B8=$BB7,$B8=$BC7,$B8=$BD7,$B8=$BE7,$B8=$BF7,$B8=$BG7,$B8=$BH7,$B8=$BI7,$B8=$BJ7,$B8=$BK7,$B8=$BL7,$B8=$BM7,$B8=$BN7,$B8=$BO7,$B8=$BP7,$B8=$BQ7,$B8=$BR7,$B8=$BS7,$B8=$BT7,$B8=$BU7,$B8=$BV7,$B8=$BW7,$B8=$BX7,$B8=$BY7,$B8=$BZ7,$B8=$AX7),CA7,BZ7) | CE8: =IF(AND(CE7="",$B8<>CE$1),"",IF($C8<CE7,CE7,IF($B8=CE$1,1,1+CE7))) | CF8: =IF(AND(CF7="",$B8<>CF$1),"",IF($C8<CF7,CF7,IF($B8=CF$1,1,1+CF7))) | CG8: =IF(AND(CG7="",$B8<>CG$1),"",IF($C8<CG7,CG7,IF($B8=CG$1,1,1+CG7))) | CH8: =IF(AND(CH7="",$B8<>CH$1),"",IF($C8<CH7,CH7,IF($B8=CH$1,1,1+CH7))) | CI8: =IF(AND(CI7="",$B8<>CI$1),"",IF($C8<CI7,CI7,IF($B8=CI$1,1,1+CI7))) | CJ8: =IF(AND(CJ7="",$B8<>CJ$1),"",IF($C8<CJ7,CJ7,IF($B8=CJ$1,1,1+CJ7))) | CK8: =IF(AND(CK7="",$B8<>CK$1),"",IF($C8<CK7,CK7,IF($B8=CK$1,1,1+CK7))) -> 3 | CL8: =IF(AND(CL7="",$B8<>CL$1),"",IF($C8<CL7,CL7,IF($B8=CL$1,1,1+CL7))) | ... DO8: =IF(AND(DO7="",$B8<>DO$1),"",IF($C8<DO7,DO7,IF($B8=DO$1,1,1+DO7))) -> 2
A9: 8 | B9: ='Rev-KTF'!B10 -> 3 | C9: =IF(B9="","",LOOKUP(B9,$CE$1:$DO$1,CE8:DO8)) | D9: =IF(AND($B10="",$B9<>""),"Nrs",IF(AND($B11="",$B10<>"",$B9<>""),D$1,"")) | E9: =IF(AND($B10="",$B9<>""),AQ9,IF(AND($B11="",$B10<>"",$B9<>""),E$1,"")) | F9: =IF(AND($B10="",$B9<>""),AR9,IF(AND($B11="",$B10<>"",$B9<>""),F$1,"")) | G9: =IF(AND($B10="",$B9<>""),AS9,IF(AND($B11="",$B10<>"",$B9<>""),G$1,"")) | H9: =IF(AND($B10="",$B9<>""),AT9,IF(AND($B11="",$B10<>"",$B9<>""),H$1,"")) | I9: =IF(AND($B10="",$B9<>""),AU9,IF(AND($B11="",$B10<>"",$B9<>""),I$1,"")) | J9: =IF(AND($B10="",$B9<>""),AV9,IF(AND($B11="",$B10<>"",$B9<>""),J$1,"")) | K9: =IF(AND($B10="",$B9<>""),AW9,IF(AND($B11="",$B10<>"",$B9<>""),K$1,"")) | L9: =IF(AND($B10="",$B9<>""),AX9,IF(AND($B11="",$B10<>"",$B9<>""),L$1,"")) | ... AO9: =IF(AND($B10="",$B9<>""),CA9,IF(AND($B11="",$B10<>"",$B9<>""),AO$1,"")) | AQ9: =B9 -> 3 | AR9: =IF($B9=$AQ8,AR8,AQ8) -> 35 | AS9: =IF(OR($B9=$AQ8,$B9=$AR8),AS8,AR8) -> 37 | AT9: =IF(OR($B9=$AS8,$B9=$AQ8,$B9=$AR8),AT8,AS8) -> 7 | AU9: =IF(OR($B9=$AS8,$B9=$AQ8,$B9=$AR8,$B9=$AT8),AU8,AT8) -> 28 | AV9: =IF(OR($B9=$AS8,$B9=$AQ8,$B9=$AR8,$B9=$AT8,$B9=$AU8),AV8,AU8) -> 12 | AW9: =IF(OR($B9=$AS8,$B9=$AQ8,$B9=$AR8,$B9=$AT8,$B9=$AU8,$B9=$AV8),AW8,AV8) | AX9: =IF(OR($B9=$AS8,$B9=$AQ8,$B9=$AR8,$B9=$AT8,$B9=$AU8,$B9=$AV8,$B9=$AW8),AX8,AW8) | AY9: =IF(OR($B9=$AS8,$B9=$AQ8,$B9=$AR8,$B9=$AT8,$B9=$AU8,$B9=$AV8,$B9=$AW8,$B9=$AX8),AY8,AX8) | AZ9: =IF(OR($B9=$AS8,$B9=$AQ8,$B9=$AR8,$B9=$AT8,$B9=$AU8,$B9=$AV8,$B9=$AW8,$B9=$AX8,$B9=$AY8),AZ8,AY8) | BA9: =IF(OR($B9=$AS8,$B9=$AQ8,$B9=$AR8,$B9=$AT8,$B9=$AU8,$B9=$AV8,$B9=$AW8,$B9=$AY8,$B9=$AZ8,$B9=$AX8),BA8,AZ8) | BB9: =IF(OR($B9=$AS8,$B9=$AQ8,$B9=$AR8,$B9=$AT8,$B9=$AU8,$B9=$AV8,$B9=$AW8,$B9=$AY8,$B9=$AZ8,$B9=$BA8,$B9=$AX8),BB8,BA8) | BC9: =IF(OR($B9=$AS8,$B9=$AQ8,$B9=$AR8,$B9=$AT8,$B9=$AU8,$B9=$AV8,$B9=$AW8,$B9=$AY8,$B9=$AZ8,$B9=$BA8,$B9=$BB8,$B9=$AX8),BC8,BB8) | BD9: =IF(OR($B9=$AS8,$B9=$AQ8,$B9=$AR8,$B9=$AT8,$B9=$AU8,$B9=$AV8,$B9=$AW8,$B9=$AY8,$B9=$AZ8,$B9=$BA8,$B9=$BB8,$B9=$BC8,$B9=$AX8),BD8,BC8) | BE9: =IF(OR($B9=$AS8,$B9=$AQ8,$B9=$AR8,$B9=$AT8,$B9=$AU8,$B9=$AV8,$B9=$AW8,$B9=$AY8,$B9=$AZ8,$B9=$BA8,$B9=$BB8,$B9=$BC8,$B9=$BD8,$B9=$AX8),BE8,BD8) | BF9: =IF(OR($B9=$AS8,$B9=$AQ8,$B9=$AR8,$B9=$AT8,$B9=$AU8,$B9=$AV8,$B9=$AW8,$B9=$AY8,$B9=$AZ8,$B9=$BA8,$B9=$BB8,$B9=$BC8,$B9=$BD8,$B9=$BE8,$B9=$AX8),BF8,BE8) | BG9: =IF(OR($B9=$AS8,$B9=$AQ8,$B9=$AR8,$B9=$AT8,$B9=$AU8,$B9=$AV8,$B9=$AW8,$B9=$AY8,$B9=$AZ8,$B9=$BA8,$B9=$BB8,$B9=$BC8,$B9=$BD8,$B9=$BE8,$B9=$BF8,$B9=$AX8),BG8,BF8) | BH9: =IF(OR($B9=$AS8,$B9=$AQ8,$B9=$AR8,$B9=$AT8,$B9=$AU8,$B9=$AV8,$B9=$AW8,$B9=$AY8,$B9=$AZ8,$B9=$BA8,$B9=$BB8,$B9=$BC8,$B9=$BD8,$B9=$BE8,$B9=$BF8,$B9=$BG8,$B9=$AX8),BH8,BG8) | BI9: =IF(OR($B9=$AS8,$B9=$AQ8,$B9=$AR8,$B9=$AT8,$B9=$AU8,$B9=$AV8,$B9=$AW8,$B9=$AY8,$B9=$AZ8,$B9=$BA8,$B9=$BB8,$B9=$BC8,$B9=$BD8,$B9=$BE8,$B9=$BF8,$B9=$BG8,$B9=$BH8,$B9=$AX8),BI8,BH8) | BJ9: =IF(OR($B9=$AS8,$B9=$AQ8,$B9=$AR8,$B9=$AT8,$B9=$AU8,$B9=$AV8,$B9=$AW8,$B9=$AY8,$B9=$AZ8,$B9=$BA8,$B9=$BB8,$B9=$BC8,$B9=$BD8,$B9=$BE8,$B9=$BF8,$B9=$BG8,$B9=$BH8,$B9=$BI8,$B9=$AX8),BJ8,BI8) | BK9: =IF(OR($B9=$AS8,$B9=$AQ8,$B9=$AR8,$B9=$AT8,$B9=$AU8,$B9=$AV8,$B9=$AW8,$B9=$AY8,$B9=$AZ8,$B9=$BA8,$B9=$BB8,$B9=$BC8,$B9=$BD8,$B9=$BE8,$B9=$BF8,$B9=$BG8,$B9=$BH8,$B9=$BI8,$B9=$BJ8,$B9=$AX8),BK8,BJ8) | BL9: =IF(OR($B9=$AS8,$B9=$AQ8,$B9=$AR8,$B9=$AT8,$B9=$AU8,$B9=$AV8,$B9=$AW8,$B9=$AY8,$B9=$AZ8,$B9=$BA8,$B9=$BB8,$B9=$BC8,$B9=$BD8,$B9=$BE8,$B9=$BF8,$B9=$BG8,$B9=$BH8,$B9=$BI8,$B9=$BJ8,$B9=$BK8,$B9=$AX8),BL8,BK8) | BM9: =IF(OR($B9=$AS8,$B9=$AQ8,$B9=$AR8,$B9=$AT8,$B9=$AU8,$B9=$AV8,$B9=$AW8,$B9=$AY8,$B9=$AZ8,$B9=$BA8,$B9=$BB8,$B9=$BC8,$B9=$BD8,$B9=$BE8,$B9=$BF8,$B9=$BG8,$B9=$BH8,$B9=$BI8,$B9=$BJ8,$B9=$BK8,$B9=$BL8,$B9=$AX8),BM8,BL8) | BN9: =IF(OR($B9=$AS8,$B9=$AQ8,$B9=$AR8,$B9=$AT8,$B9=$AU8,$B9=$AV8,$B9=$AW8,$B9=$AY8,$B9=$AZ8,$B9=$BA8,$B9=$BB8,$B9=$BC8,$B9=$BD8,$B9=$BE8,$B9=$BF8,$B9=$BG8,$B9=$BH8,$B9=$BI8,$B9=$BJ8,$B9=$BK8,$B9=$BL8,$B9=$BM8,$B9=$AX8),BN8,BM8) | BO9: =IF(OR($B9=$AS8,$B9=$AQ8,$B9=$AR8,$B9=$AT8,$B9=$AU8,$B9=$AV8,$B9=$AW8,$B9=$AY8,$B9=$AZ8,$B9=$BA8,$B9=$BB8,$B9=$BC8,$B9=$BD8,$B9=$BE8,$B9=$BF8,$B9=$BG8,$B9=$BH8,$B9=$BI8,$B9=$BJ8,$B9=$BK8,$B9=$BL8,$B9=$BM8,$B9=$BN8,$B9=$AX8),BO8,BN8) | BP9: =IF(OR($B9=$AS8,$B9=$AQ8,$B9=$AR8,$B9=$AT8,$B9=$AU8,$B9=$AV8,$B9=$AW8,$B9=$AY8,$B9=$AZ8,$B9=$BA8,$B9=$BB8,$B9=$BC8,$B9=$BD8,$B9=$BE8,$B9=$BF8,$B9=$BG8,$B9=$BH8,$B9=$BI8,$B9=$BJ8,$B9=$BK8,$B9=$BL8,$B9=$BM8,$B9=$BN8,$B9=$BO8,$B9=$AX8),BP8,BO8) | BQ9: =IF(OR($B9=$AS8,$B9=$AQ8,$B9=$AR8,$B9=$AT8,$B9=$AU8,$B9=$AV8,$B9=$AW8,$B9=$AY8,$B9=$AZ8,$B9=$BA8,$B9=$BB8,$B9=$BC8,$B9=$BD8,$B9=$BE8,$B9=$BF8,$B9=$BG8,$B9=$BH8,$B9=$BI8,$B9=$BJ8,$B9=$BK8,$B9=$BL8,$B9=$BM8,$B9=$BN8,$B9=$BO8,$B9=$BP8,$B9=$AX8),BQ8,BP8) | BR9: =IF(OR($B9=$AS8,$B9=$AQ8,$B9=$AR8,$B9=$AT8,$B9=$AU8,$B9=$AV8,$B9=$AW8,$B9=$AY8,$B9=$AZ8,$B9=$BA8,$B9=$BB8,$B9=$BC8,$B9=$BD8,$B9=$BE8,$B9=$BF8,$B9=$BG8,$B9=$BH8,$B9=$BI8,$B9=$BJ8,$B9=$BK8,$B9=$BL8,$B9=$BM8,$B9=$BN8,$B9=$BO8,$B9=$BP8,$B9=$BQ8,$B9=$AX8),BR8,BQ8) | BS9: =IF(OR($B9=$AS8,$B9=$AQ8,$B9=$AR8,$B9=$AT8,$B9=$AU8,$B9=$AV8,$B9=$AW8,$B9=$AY8,$B9=$AZ8,$B9=$BA8,$B9=$BB8,$B9=$BC8,$B9=$BD8,$B9=$BE8,$B9=$BF8,$B9=$BG8,$B9=$BH8,$B9=$BI8,$B9=$BJ8,$B9=$BK8,$B9=$BL8,$B9=$BM8,$B9=$BN8,$B9=$BO8,$B9=$BP8,$B9=$BQ8,$B9=$BR8,$B9=$AX8),BS8,BR8) | BT9: =IF(OR($B9=$AS8,$B9=$AQ8,$B9=$AR8,$B9=$AT8,$B9=$AU8,$B9=$AV8,$B9=$AW8,$B9=$AY8,$B9=$AZ8,$B9=$BA8,$B9=$BB8,$B9=$BC8,$B9=$BD8,$B9=$BE8,$B9=$BF8,$B9=$BG8,$B9=$BH8,$B9=$BI8,$B9=$BJ8,$B9=$BK8,$B9=$BL8,$B9=$BM8,$B9=$BN8,$B9=$BO8,$B9=$BP8,$B9=$BQ8,$B9=$BR8,$B9=$BS8,$B9=$AX8),BT8,BS8) | BU9: =IF(OR($B9=$AS8,$B9=$AQ8,$B9=$AR8,$B9=$AT8,$B9=$AU8,$B9=$AV8,$B9=$AW8,$B9=$AY8,$B9=$AZ8,$B9=$BA8,$B9=$BB8,$B9=$BC8,$B9=$BD8,$B9=$BE8,$B9=$BF8,$B9=$BG8,$B9=$BH8,$B9=$BI8,$B9=$BJ8,$B9=$BK8,$B9=$BL8,$B9=$BM8,$B9=$BN8,$B9=$BO8,$B9=$BP8,$B9=$BQ8,$B9=$BR8,$B9=$BS8,$B9=$BT8,$B9=$AX8),BU8,BT8) | BV9: =IF(OR($B9=$AS8,$B9=$AQ8,$B9=$AR8,$B9=$AT8,$B9=$AU8,$B9=$AV8,$B9=$AW8,$B9=$AY8,$B9=$AZ8,$B9=$BA8,$B9=$BB8,$B9=$BC8,$B9=$BD8,$B9=$BE8,$B9=$BF8,$B9=$BG8,$B9=$BH8,$B9=$BI8,$B9=$BJ8,$B9=$BK8,$B9=$BL8,$B9=$BM8,$B9=$BN8,$B9=$BO8,$B9=$BP8,$B9=$BQ8,$B9=$BR8,$B9=$BS8,$B9=$BT8,$B9=$BU8,$B9=$AX8),BV8,BU8) | BW9: =IF(OR($B9=$AS8,$B9=$AQ8,$B9=$AR8,$B9=$AT8,$B9=$AU8,$B9=$AV8,$B9=$AW8,$B9=$AY8,$B9=$AZ8,$B9=$BA8,$B9=$BB8,$B9=$BC8,$B9=$BD8,$B9=$BE8,$B9=$BF8,$B9=$BG8,$B9=$BH8,$B9=$BI8,$B9=$BJ8,$B9=$BK8,$B9=$BL8,$B9=$BM8,$B9=$BN8,$B9=$BO8,$B9=$BP8,$B9=$BQ8,$B9=$BR8,$B9=$BS8,$B9=$BT8,$B9=$BU8,$B9=$BV8,$B9=$AX8),BW8,BV8) | BX9: =IF(OR($B9=$AS8,$B9=$AQ8,$B9=$AR8,$B9=$AT8,$B9=$AU8,$B9=$AV8,$B9=$AW8,$B9=$AY8,$B9=$AZ8,$B9=$BA8,$B9=$BB8,$B9=$BC8,$B9=$BD8,$B9=$BE8,$B9=$BF8,$B9=$BG8,$B9=$BH8,$B9=$BI8,$B9=$BJ8,$B9=$BK8,$B9=$BL8,$B9=$BM8,$B9=$BN8,$B9=$BO8,$B9=$BP8,$B9=$BQ8,$B9=$BR8,$B9=$BS8,$B9=$BT8,$B9=$BU8,$B9=$BV8,$B9=$BW8,$B9=$AX8),BX8,BW8) | BY9: =IF(OR($B9=$AS8,$B9=$AQ8,$B9=$AR8,$B9=$AT8,$B9=$AU8,$B9=$AV8,$B9=$AW8,$B9=$AY8,$B9=$AZ8,$B9=$BA8,$B9=$BB8,$B9=$BC8,$B9=$BD8,$B9=$BE8,$B9=$BF8,$B9=$BG8,$B9=$BH8,$B9=$BI8,$B9=$BJ8,$B9=$BK8,$B9=$BL8,$B9=$BM8,$B9=$BN8,$B9=$BO8,$B9=$BP8,$B9=$BQ8,$B9=$BR8,$B9=$BS8,$B9=$BT8,$B9=$BU8,$B9=$BV8,$B9=$BW8,$B9=$BX8,$B9=$AX8),BY8,BX8) | BZ9: =IF(OR($B9=$AS8,$B9=$AQ8,$B9=$AR8,$B9=$AT8,$B9=$AU8,$B9=$AV8,$B9=$AW8,$B9=$AY8,$B9=$AZ8,$B9=$BA8,$B9=$BB8,$B9=$BC8,$B9=$BD8,$B9=$BE8,$B9=$BF8,$B9=$BG8,$B9=$BH8,$B9=$BI8,$B9=$BJ8,$B9=$BK8,$B9=$BL8,$B9=$BM8,$B9=$BN8,$B9=$BO8,$B9=$BP8,$B9=$BQ8,$B9=$BR8,$B9=$BS8,$B9=$BT8,$B9=$BU8,$B9=$BV8,$B9=$BW8,$B9=$BX8,$B9=$BY8,$B9=$AX8),BZ8,BY8) | CA9: =IF(OR($B9=$AS8,$B9=$AQ8,$B9=$AR8,$B9=$AT8,$B9=$AU8,$B9=$AV8,$B9=$AW8,$B9=$AY8,$B9=$AZ8,$B9=$BA8,$B9=$BB8,$B9=$BC8,$B9=$BD8,$B9=$BE8,$B9=$BF8,$B9=$BG8,$B9=$BH8,$B9=$BI8,$B9=$BJ8,$B9=$BK8,$B9=$BL8,$B9=$BM8,$B9=$BN8,$B9=$BO8,$B9=$BP8,$B9=$BQ8,$B9=$BR8,$B9=$BS8,$B9=$BT8,$B9=$BU8,$B9=$BV8,$B9=$BW8,$B9=$BX8,$B9=$BY8,$B9=$BZ8,$B9=$AX8),CA8,BZ8) | CE9: =IF(AND(CE8="",$B9<>CE$1),"",IF($C9<CE8,CE8,IF($B9=CE$1,1,1+CE8))) | CF9: =IF(AND(CF8="",$B9<>CF$1),"",IF($C9<CF8,CF8,IF($B9=CF$1,1,1+CF8))) | CG9: =IF(AND(CG8="",$B9<>CG$1),"",IF($C9<CG8,CG8,IF($B9=CG$1,1,1+CG8))) -> 1 | CH9: =IF(AND(CH8="",$B9<>CH$1),"",IF($C9<CH8,CH8,IF($B9=CH$1,1,1+CH8))) | CI9: =IF(AND(CI8="",$B9<>CI$1),"",IF($C9<CI8,CI8,IF($B9=CI$1,1,1+CI8))) | CJ9: =IF(AND(CJ8="",$B9<>CJ$1),"",IF($C9<CJ8,CJ8,IF($B9=CJ$1,1,1+CJ8))) | CK9: =IF(AND(CK8="",$B9<>CK$1),"",IF($C9<CK8,CK8,IF($B9=CK$1,1,1+CK8))) -> 4 | CL9: =IF(AND(CL8="",$B9<>CL$1),"",IF($C9<CL8,CL8,IF($B9=CL$1,1,1+CL8))) | ... DO9: =IF(AND(DO8="",$B9<>DO$1),"",IF($C9<DO8,DO8,IF($B9=DO$1,1,1+DO8))) -> 3
A10: 9 | B10: ='Rev-KTF'!B11 -> 1 | C10: =IF(B10="","",LOOKUP(B10,$CE$1:$DO$1,CE9:DO9)) | D10: =IF(AND($B11="",$B10<>""),"Nrs",IF(AND($B12="",$B11<>"",$B10<>""),D$1,"")) | E10: =IF(AND($B11="",$B10<>""),AQ10,IF(AND($B12="",$B11<>"",$B10<>""),E$1,"")) | F10: =IF(AND($B11="",$B10<>""),AR10,IF(AND($B12="",$B11<>"",$B10<>""),F$1,"")) | G10: =IF(AND($B11="",$B10<>""),AS10,IF(AND($B12="",$B11<>"",$B10<>""),G$1,"")) | H10: =IF(AND($B11="",$B10<>""),AT10,IF(AND($B12="",$B11<>"",$B10<>""),H$1,"")) | I10: =IF(AND($B11="",$B10<>""),AU10,IF(AND($B12="",$B11<>"",$B10<>""),I$1,"")) | J10: =IF(AND($B11="",$B10<>""),AV10,IF(AND($B12="",$B11<>"",$B10<>""),J$1,"")) | K10: =IF(AND($B11="",$B10<>""),AW10,IF(AND($B12="",$B11<>"",$B10<>""),K$1,"")) | L10: =IF(AND($B11="",$B10<>""),AX10,IF(AND($B12="",$B11<>"",$B10<>""),L$1,"")) | ... AO10: =IF(AND($B11="",$B10<>""),CA10,IF(AND($B12="",$B11<>"",$B10<>""),AO$1,"")) | AQ10: =B10 -> 1 | AR10: =IF($B10=$AQ9,AR9,AQ9) -> 3 | AS10: =IF(OR($B10=$AQ9,$B10=$AR9),AS9,AR9) -> 35 | AT10: =IF(OR($B10=$AS9,$B10=$AQ9,$B10=$AR9),AT9,AS9) -> 37 | AU10: =IF(OR($B10=$AS9,$B10=$AQ9,$B10=$AR9,$B10=$AT9),AU9,AT9) -> 7 | AV10: =IF(OR($B10=$AS9,$B10=$AQ9,$B10=$AR9,$B10=$AT9,$B10=$AU9),AV9,AU9) -> 28 | AW10: =IF(OR($B10=$AS9,$B10=$AQ9,$B10=$AR9,$B10=$AT9,$B10=$AU9,$B10=$AV9),AW9,AV9) -> 12 | AX10: =IF(OR($B10=$AS9,$B10=$AQ9,$B10=$AR9,$B10=$AT9,$B10=$AU9,$B10=$AV9,$B10=$AW9),AX9,AW9) | AY10: =IF(OR($B10=$AS9,$B10=$AQ9,$B10=$AR9,$B10=$AT9,$B10=$AU9,$B10=$AV9,$B10=$AW9,$B10=$AX9),AY9,AX9) | AZ10: =IF(OR($B10=$AS9,$B10=$AQ9,$B10=$AR9,$B10=$AT9,$B10=$AU9,$B10=$AV9,$B10=$AW9,$B10=$AX9,$B10=$AY9),AZ9,AY9) | BA10: =IF(OR($B10=$AS9,$B10=$AQ9,$B10=$AR9,$B10=$AT9,$B10=$AU9,$B10=$AV9,$B10=$AW9,$B10=$AY9,$B10=$AZ9,$B10=$AX9),BA9,AZ9) | BB10: =IF(OR($B10=$AS9,$B10=$AQ9,$B10=$AR9,$B10=$AT9,$B10=$AU9,$B10=$AV9,$B10=$AW9,$B10=$AY9,$B10=$AZ9,$B10=$BA9,$B10=$AX9),BB9,BA9) | BC10: =IF(OR($B10=$AS9,$B10=$AQ9,$B10=$AR9,$B10=$AT9,$B10=$AU9,$B10=$AV9,$B10=$AW9,$B10=$AY9,$B10=$AZ9,$B10=$BA9,$B10=$BB9,$B10=$AX9),BC9,BB9) | BD10: =IF(OR($B10=$AS9,$B10=$AQ9,$B10=$AR9,$B10=$AT9,$B10=$AU9,$B10=$AV9,$B10=$AW9,$B10=$AY9,$B10=$AZ9,$B10=$BA9,$B10=$BB9,$B10=$BC9,$B10=$AX9),BD9,BC9) | BE10: =IF(OR($B10=$AS9,$B10=$AQ9,$B10=$AR9,$B10=$AT9,$B10=$AU9,$B10=$AV9,$B10=$AW9,$B10=$AY9,$B10=$AZ9,$B10=$BA9,$B10=$BB9,$B10=$BC9,$B10=$BD9,$B10=$AX9),BE9,BD9) | BF10: =IF(OR($B10=$AS9,$B10=$AQ9,$B10=$AR9,$B10=$AT9,$B10=$AU9,$B10=$AV9,$B10=$AW9,$B10=$AY9,$B10=$AZ9,$B10=$BA9,$B10=$BB9,$B10=$BC9,$B10=$BD9,$B10=$BE9,$B10=$AX9),BF9,BE9) | BG10: =IF(OR($B10=$AS9,$B10=$AQ9,$B10=$AR9,$B10=$AT9,$B10=$AU9,$B10=$AV9,$B10=$AW9,$B10=$AY9,$B10=$AZ9,$B10=$BA9,$B10=$BB9,$B10=$BC9,$B10=$BD9,$B10=$BE9,$B10=$BF9,$B10=$AX9),BG9,BF9) | BH10: =IF(OR($B10=$AS9,$B10=$AQ9,$B10=$AR9,$B10=$AT9,$B10=$AU9,$B10=$AV9,$B10=$AW9,$B10=$AY9,$B10=$AZ9,$B10=$BA9,$B10=$BB9,$B10=$BC9,$B10=$BD9,$B10=$BE9,$B10=$BF9,$B10=$BG9,$B10=$AX9),BH9,BG9) | BI10: =IF(OR($B10=$AS9,$B10=$AQ9,$B10=$AR9,$B10=$AT9,$B10=$AU9,$B10=$AV9,$B10=$AW9,$B10=$AY9,$B10=$AZ9,$B10=$BA9,$B10=$BB9,$B10=$BC9,$B10=$BD9,$B10=$BE9,$B10=$BF9,$B10=$BG9,$B10=$BH9,$B10=$AX9),BI9,BH9) | BJ10: =IF(OR($B10=$AS9,$B10=$AQ9,$B10=$AR9,$B10=$AT9,$B10=$AU9,$B10=$AV9,$B10=$AW9,$B10=$AY9,$B10=$AZ9,$B10=$BA9,$B10=$BB9,$B10=$BC9,$B10=$BD9,$B10=$BE9,$B10=$BF9,$B10=$BG9,$B10=$BH9,$B10=$BI9,$B10=$AX9),BJ9,BI9) | BK10: =IF(OR($B10=$AS9,$B10=$AQ9,$B10=$AR9,$B10=$AT9,$B10=$AU9,$B10=$AV9,$B10=$AW9,$B10=$AY9,$B10=$AZ9,$B10=$BA9,$B10=$BB9,$B10=$BC9,$B10=$BD9,$B10=$BE9,$B10=$BF9,$B10=$BG9,$B10=$BH9,$B10=$BI9,$B10=$BJ9,$B10=$AX9),BK9,BJ9) | BL10: =IF(OR($B10=$AS9,$B10=$AQ9,$B10=$AR9,$B10=$AT9,$B10=$AU9,$B10=$AV9,$B10=$AW9,$B10=$AY9,$B10=$AZ9,$B10=$BA9,$B10=$BB9,$B10=$BC9,$B10=$BD9,$B10=$BE9,$B10=$BF9,$B10=$BG9,$B10=$BH9,$B10=$BI9,$B10=$BJ9,$B10=$BK9,$B10=$AX9),BL9,BK9) | BM10: =IF(OR($B10=$AS9,$B10=$AQ9,$B10=$AR9,$B10=$AT9,$B10=$AU9,$B10=$AV9,$B10=$AW9,$B10=$AY9,$B10=$AZ9,$B10=$BA9,$B10=$BB9,$B10=$BC9,$B10=$BD9,$B10=$BE9,$B10=$BF9,$B10=$BG9,$B10=$BH9,$B10=$BI9,$B10=$BJ9,$B10=$BK9,$B10=$BL9,$B10=$AX9),BM9,BL9) | BN10: =IF(OR($B10=$AS9,$B10=$AQ9,$B10=$AR9,$B10=$AT9,$B10=$AU9,$B10=$AV9,$B10=$AW9,$B10=$AY9,$B10=$AZ9,$B10=$BA9,$B10=$BB9,$B10=$BC9,$B10=$BD9,$B10=$BE9,$B10=$BF9,$B10=$BG9,$B10=$BH9,$B10=$BI9,$B10=$BJ9,$B10=$BK9,$B10=$BL9,$B10=$BM9,$B10=$AX9),BN9,BM9) | BO10: =IF(OR($B10=$AS9,$B10=$AQ9,$B10=$AR9,$B10=$AT9,$B10=$AU9,$B10=$AV9,$B10=$AW9,$B10=$AY9,$B10=$AZ9,$B10=$BA9,$B10=$BB9,$B10=$BC9,$B10=$BD9,$B10=$BE9,$B10=$BF9,$B10=$BG9,$B10=$BH9,$B10=$BI9,$B10=$BJ9,$B10=$BK9,$B10=$BL9,$B10=$BM9,$B10=$BN9,$B10=$AX9),BO9,BN9) | BP10: =IF(OR($B10=$AS9,$B10=$AQ9,$B10=$AR9,$B10=$AT9,$B10=$AU9,$B10=$AV9,$B10=$AW9,$B10=$AY9,$B10=$AZ9,$B10=$BA9,$B10=$BB9,$B10=$BC9,$B10=$BD9,$B10=$BE9,$B10=$BF9,$B10=$BG9,$B10=$BH9,$B10=$BI9,$B10=$BJ9,$B10=$BK9,$B10=$BL9,$B10=$BM9,$B10=$BN9,$B10=$BO9,$B10=$AX9),BP9,BO9) | BQ10: =IF(OR($B10=$AS9,$B10=$AQ9,$B10=$AR9,$B10=$AT9,$B10=$AU9,$B10=$AV9,$B10=$AW9,$B10=$AY9,$B10=$AZ9,$B10=$BA9,$B10=$BB9,$B10=$BC9,$B10=$BD9,$B10=$BE9,$B10=$BF9,$B10=$BG9,$B10=$BH9,$B10=$BI9,$B10=$BJ9,$B10=$BK9,$B10=$BL9,$B10=$BM9,$B10=$BN9,$B10=$BO9,$B10=$BP9,$B10=$AX9),BQ9,BP9) | BR10: =IF(OR($B10=$AS9,$B10=$AQ9,$B10=$AR9,$B10=$AT9,$B10=$AU9,$B10=$AV9,$B10=$AW9,$B10=$AY9,$B10=$AZ9,$B10=$BA9,$B10=$BB9,$B10=$BC9,$B10=$BD9,$B10=$BE9,$B10=$BF9,$B10=$BG9,$B10=$BH9,$B10=$BI9,$B10=$BJ9,$B10=$BK9,$B10=$BL9,$B10=$BM9,$B10=$BN9,$B10=$BO9,$B10=$BP9,$B10=$BQ9,$B10=$AX9),BR9,BQ9) | BS10: =IF(OR($B10=$AS9,$B10=$AQ9,$B10=$AR9,$B10=$AT9,$B10=$AU9,$B10=$AV9,$B10=$AW9,$B10=$AY9,$B10=$AZ9,$B10=$BA9,$B10=$BB9,$B10=$BC9,$B10=$BD9,$B10=$BE9,$B10=$BF9,$B10=$BG9,$B10=$BH9,$B10=$BI9,$B10=$BJ9,$B10=$BK9,$B10=$BL9,$B10=$BM9,$B10=$BN9,$B10=$BO9,$B10=$BP9,$B10=$BQ9,$B10=$BR9,$B10=$AX9),BS9,BR9) | BT10: =IF(OR($B10=$AS9,$B10=$AQ9,$B10=$AR9,$B10=$AT9,$B10=$AU9,$B10=$AV9,$B10=$AW9,$B10=$AY9,$B10=$AZ9,$B10=$BA9,$B10=$BB9,$B10=$BC9,$B10=$BD9,$B10=$BE9,$B10=$BF9,$B10=$BG9,$B10=$BH9,$B10=$BI9,$B10=$BJ9,$B10=$BK9,$B10=$BL9,$B10=$BM9,$B10=$BN9,$B10=$BO9,$B10=$BP9,$B10=$BQ9,$B10=$BR9,$B10=$BS9,$B10=$AX9),BT9,BS9) | BU10: =IF(OR($B10=$AS9,$B10=$AQ9,$B10=$AR9,$B10=$AT9,$B10=$AU9,$B10=$AV9,$B10=$AW9,$B10=$AY9,$B10=$AZ9,$B10=$BA9,$B10=$BB9,$B10=$BC9,$B10=$BD9,$B10=$BE9,$B10=$BF9,$B10=$BG9,$B10=$BH9,$B10=$BI9,$B10=$BJ9,$B10=$BK9,$B10=$BL9,$B10=$BM9,$B10=$BN9,$B10=$BO9,$B10=$BP9,$B10=$BQ9,$B10=$BR9,$B10=$BS9,$B10=$BT9,$B10=$AX9),BU9,BT9) | BV10: =IF(OR($B10=$AS9,$B10=$AQ9,$B10=$AR9,$B10=$AT9,$B10=$AU9,$B10=$AV9,$B10=$AW9,$B10=$AY9,$B10=$AZ9,$B10=$BA9,$B10=$BB9,$B10=$BC9,$B10=$BD9,$B10=$BE9,$B10=$BF9,$B10=$BG9,$B10=$BH9,$B10=$BI9,$B10=$BJ9,$B10=$BK9,$B10=$BL9,$B10=$BM9,$B10=$BN9,$B10=$BO9,$B10=$BP9,$B10=$BQ9,$B10=$BR9,$B10=$BS9,$B10=$BT9,$B10=$BU9,$B10=$AX9),BV9,BU9) | BW10: =IF(OR($B10=$AS9,$B10=$AQ9,$B10=$AR9,$B10=$AT9,$B10=$AU9,$B10=$AV9,$B10=$AW9,$B10=$AY9,$B10=$AZ9,$B10=$BA9,$B10=$BB9,$B10=$BC9,$B10=$BD9,$B10=$BE9,$B10=$BF9,$B10=$BG9,$B10=$BH9,$B10=$BI9,$B10=$BJ9,$B10=$BK9,$B10=$BL9,$B10=$BM9,$B10=$BN9,$B10=$BO9,$B10=$BP9,$B10=$BQ9,$B10=$BR9,$B10=$BS9,$B10=$BT9,$B10=$BU9,$B10=$BV9,$B10=$AX9),BW9,BV9) | BX10: =IF(OR($B10=$AS9,$B10=$AQ9,$B10=$AR9,$B10=$AT9,$B10=$AU9,$B10=$AV9,$B10=$AW9,$B10=$AY9,$B10=$AZ9,$B10=$BA9,$B10=$BB9,$B10=$BC9,$B10=$BD9,$B10=$BE9,$B10=$BF9,$B10=$BG9,$B10=$BH9,$B10=$BI9,$B10=$BJ9,$B10=$BK9,$B10=$BL9,$B10=$BM9,$B10=$BN9,$B10=$BO9,$B10=$BP9,$B10=$BQ9,$B10=$BR9,$B10=$BS9,$B10=$BT9,$B10=$BU9,$B10=$BV9,$B10=$BW9,$B10=$AX9),BX9,BW9) | BY10: =IF(OR($B10=$AS9,$B10=$AQ9,$B10=$AR9,$B10=$AT9,$B10=$AU9,$B10=$AV9,$B10=$AW9,$B10=$AY9,$B10=$AZ9,$B10=$BA9,$B10=$BB9,$B10=$BC9,$B10=$BD9,$B10=$BE9,$B10=$BF9,$B10=$BG9,$B10=$BH9,$B10=$BI9,$B10=$BJ9,$B10=$BK9,$B10=$BL9,$B10=$BM9,$B10=$BN9,$B10=$BO9,$B10=$BP9,$B10=$BQ9,$B10=$BR9,$B10=$BS9,$B10=$BT9,$B10=$BU9,$B10=$BV9,$B10=$BW9,$B10=$BX9,$B10=$AX9),BY9,BX9) | BZ10: =IF(OR($B10=$AS9,$B10=$AQ9,$B10=$AR9,$B10=$AT9,$B10=$AU9,$B10=$AV9,$B10=$AW9,$B10=$AY9,$B10=$AZ9,$B10=$BA9,$B10=$BB9,$B10=$BC9,$B10=$BD9,$B10=$BE9,$B10=$BF9,$B10=$BG9,$B10=$BH9,$B10=$BI9,$B10=$BJ9,$B10=$BK9,$B10=$BL9,$B10=$BM9,$B10=$BN9,$B10=$BO9,$B10=$BP9,$B10=$BQ9,$B10=$BR9,$B10=$BS9,$B10=$BT9,$B10=$BU9,$B10=$BV9,$B10=$BW9,$B10=$BX9,$B10=$BY9,$B10=$AX9),BZ9,BY9) | CA10: =IF(OR($B10=$AS9,$B10=$AQ9,$B10=$AR9,$B10=$AT9,$B10=$AU9,$B10=$AV9,$B10=$AW9,$B10=$AY9,$B10=$AZ9,$B10=$BA9,$B10=$BB9,$B10=$BC9,$B10=$BD9,$B10=$BE9,$B10=$BF9,$B10=$BG9,$B10=$BH9,$B10=$BI9,$B10=$BJ9,$B10=$BK9,$B10=$BL9,$B10=$BM9,$B10=$BN9,$B10=$BO9,$B10=$BP9,$B10=$BQ9,$B10=$BR9,$B10=$BS9,$B10=$BT9,$B10=$BU9,$B10=$BV9,$B10=$BW9,$B10=$BX9,$B10=$BY9,$B10=$BZ9,$B10=$AX9),CA9,BZ9) | CE10: =IF(AND(CE9="",$B10<>CE$1),"",IF($C10<CE9,CE9,IF($B10=CE$1,1,1+CE9))) -> 1 | CF10: =IF(AND(CF9="",$B10<>CF$1),"",IF($C10<CF9,CF9,IF($B10=CF$1,1,1+CF9))) | CG10: =IF(AND(CG9="",$B10<>CG$1),"",IF($C10<CG9,CG9,IF($B10=CG$1,1,1+CG9))) -> 2 | CH10: =IF(AND(CH9="",$B10<>CH$1),"",IF($C10<CH9,CH9,IF($B10=CH$1,1,1+CH9))) | CI10: =IF(AND(CI9="",$B10<>CI$1),"",IF($C10<CI9,CI9,IF($B10=CI$1,1,1+CI9))) | CJ10: =IF(AND(CJ9="",$B10<>CJ$1),"",IF($C10<CJ9,CJ9,IF($B10=CJ$1,1,1+CJ9))) | CK10: =IF(AND(CK9="",$B10<>CK$1),"",IF($C10<CK9,CK9,IF($B10=CK$1,1,1+CK9))) -> 5 | CL10: =IF(AND(CL9="",$B10<>CL$1),"",IF($C10<CL9,CL9,IF($B10=CL$1,1,1+CL9))) | ... DO10: =IF(AND(DO9="",$B10<>DO$1),"",IF($C10<DO9,DO9,IF($B10=DO$1,1,1+DO9))) -> 4
A11: 10 | B11: ='Rev-KTF'!B12 -> 6 | C11: =IF(B11="","",LOOKUP(B11,$CE$1:$DO$1,CE10:DO10)) | D11: =IF(AND($B12="",$B11<>""),"Nrs",IF(AND($B13="",$B12<>"",$B11<>""),D$1,"")) | E11: =IF(AND($B12="",$B11<>""),AQ11,IF(AND($B13="",$B12<>"",$B11<>""),E$1,"")) | F11: =IF(AND($B12="",$B11<>""),AR11,IF(AND($B13="",$B12<>"",$B11<>""),F$1,"")) | G11: =IF(AND($B12="",$B11<>""),AS11,IF(AND($B13="",$B12<>"",$B11<>""),G$1,"")) | H11: =IF(AND($B12="",$B11<>""),AT11,IF(AND($B13="",$B12<>"",$B11<>""),H$1,"")) | I11: =IF(AND($B12="",$B11<>""),AU11,IF(AND($B13="",$B12<>"",$B11<>""),I$1,"")) | J11: =IF(AND($B12="",$B11<>""),AV11,IF(AND($B13="",$B12<>"",$B11<>""),J$1,"")) | K11: =IF(AND($B12="",$B11<>""),AW11,IF(AND($B13="",$B12<>"",$B11<>""),K$1,"")) | L11: =IF(AND($B12="",$B11<>""),AX11,IF(AND($B13="",$B12<>"",$B11<>""),L$1,"")) | ... AO11: =IF(AND($B12="",$B11<>""),CA11,IF(AND($B13="",$B12<>"",$B11<>""),AO$1,"")) | AQ11: =B11 -> 6 | AR11: =IF($B11=$AQ10,AR10,AQ10) -> 1 | AS11: =IF(OR($B11=$AQ10,$B11=$AR10),AS10,AR10) -> 3 | AT11: =IF(OR($B11=$AS10,$B11=$AQ10,$B11=$AR10),AT10,AS10) -> 35 | AU11: =IF(OR($B11=$AS10,$B11=$AQ10,$B11=$AR10,$B11=$AT10),AU10,AT10) -> 37 | AV11: =IF(OR($B11=$AS10,$B11=$AQ10,$B11=$AR10,$B11=$AT10,$B11=$AU10),AV10,AU10) -> 7 | AW11: =IF(OR($B11=$AS10,$B11=$AQ10,$B11=$AR10,$B11=$AT10,$B11=$AU10,$B11=$AV10),AW10,AV10) -> 28 | AX11: =IF(OR($B11=$AS10,$B11=$AQ10,$B11=$AR10,$B11=$AT10,$B11=$AU10,$B11=$AV10,$B11=$AW10),AX10,AW10) -> 12 | AY11: =IF(OR($B11=$AS10,$B11=$AQ10,$B11=$AR10,$B11=$AT10,$B11=$AU10,$B11=$AV10,$B11=$AW10,$B11=$AX10),AY10,AX10) | AZ11: =IF(OR($B11=$AS10,$B11=$AQ10,$B11=$AR10,$B11=$AT10,$B11=$AU10,$B11=$AV10,$B11=$AW10,$B11=$AX10,$B11=$AY10),AZ10,AY10) | BA11: =IF(OR($B11=$AS10,$B11=$AQ10,$B11=$AR10,$B11=$AT10,$B11=$AU10,$B11=$AV10,$B11=$AW10,$B11=$AY10,$B11=$AZ10,$B11=$AX10),BA10,AZ10) | BB11: =IF(OR($B11=$AS10,$B11=$AQ10,$B11=$AR10,$B11=$AT10,$B11=$AU10,$B11=$AV10,$B11=$AW10,$B11=$AY10,$B11=$AZ10,$B11=$BA10,$B11=$AX10),BB10,BA10) | BC11: =IF(OR($B11=$AS10,$B11=$AQ10,$B11=$AR10,$B11=$AT10,$B11=$AU10,$B11=$AV10,$B11=$AW10,$B11=$AY10,$B11=$AZ10,$B11=$BA10,$B11=$BB10,$B11=$AX10),BC10,BB10) | BD11: =IF(OR($B11=$AS10,$B11=$AQ10,$B11=$AR10,$B11=$AT10,$B11=$AU10,$B11=$AV10,$B11=$AW10,$B11=$AY10,$B11=$AZ10,$B11=$BA10,$B11=$BB10,$B11=$BC10,$B11=$AX10),BD10,BC10) | BE11: =IF(OR($B11=$AS10,$B11=$AQ10,$B11=$AR10,$B11=$AT10,$B11=$AU10,$B11=$AV10,$B11=$AW10,$B11=$AY10,$B11=$AZ10,$B11=$BA10,$B11=$BB10,$B11=$BC10,$B11=$BD10,$B11=$AX10),BE10,BD10) | BF11: =IF(OR($B11=$AS10,$B11=$AQ10,$B11=$AR10,$B11=$AT10,$B11=$AU10,$B11=$AV10,$B11=$AW10,$B11=$AY10,$B11=$AZ10,$B11=$BA10,$B11=$BB10,$B11=$BC10,$B11=$BD10,$B11=$BE10,$B11=$AX10),BF10,BE10) | BG11: =IF(OR($B11=$AS10,$B11=$AQ10,$B11=$AR10,$B11=$AT10,$B11=$AU10,$B11=$AV10,$B11=$AW10,$B11=$AY10,$B11=$AZ10,$B11=$BA10,$B11=$BB10,$B11=$BC10,$B11=$BD10,$B11=$BE10,$B11=$BF10,$B11=$AX10),BG10,BF10) | BH11: =IF(OR($B11=$AS10,$B11=$AQ10,$B11=$AR10,$B11=$AT10,$B11=$AU10,$B11=$AV10,$B11=$AW10,$B11=$AY10,$B11=$AZ10,$B11=$BA10,$B11=$BB10,$B11=$BC10,$B11=$BD10,$B11=$BE10,$B11=$BF10,$B11=$BG10,$B11=$AX10),BH10,BG10) | BI11: =IF(OR($B11=$AS10,$B11=$AQ10,$B11=$AR10,$B11=$AT10,$B11=$AU10,$B11=$AV10,$B11=$AW10,$B11=$AY10,$B11=$AZ10,$B11=$BA10,$B11=$BB10,$B11=$BC10,$B11=$BD10,$B11=$BE10,$B11=$BF10,$B11=$BG10,$B11=$BH10,$B11=$AX10),BI10,BH10) | BJ11: =IF(OR($B11=$AS10,$B11=$AQ10,$B11=$AR10,$B11=$AT10,$B11=$AU10,$B11=$AV10,$B11=$AW10,$B11=$AY10,$B11=$AZ10,$B11=$BA10,$B11=$BB10,$B11=$BC10,$B11=$BD10,$B11=$BE10,$B11=$BF10,$B11=$BG10,$B11=$BH10,$B11=$BI10,$B11=$AX10),BJ10,BI10) | BK11: =IF(OR($B11=$AS10,$B11=$AQ10,$B11=$AR10,$B11=$AT10,$B11=$AU10,$B11=$AV10,$B11=$AW10,$B11=$AY10,$B11=$AZ10,$B11=$BA10,$B11=$BB10,$B11=$BC10,$B11=$BD10,$B11=$BE10,$B11=$BF10,$B11=$BG10,$B11=$BH10,$B11=$BI10,$B11=$BJ10,$B11=$AX10),BK10,BJ10) | BL11: =IF(OR($B11=$AS10,$B11=$AQ10,$B11=$AR10,$B11=$AT10,$B11=$AU10,$B11=$AV10,$B11=$AW10,$B11=$AY10,$B11=$AZ10,$B11=$BA10,$B11=$BB10,$B11=$BC10,$B11=$BD10,$B11=$BE10,$B11=$BF10,$B11=$BG10,$B11=$BH10,$B11=$BI10,$B11=$BJ10,$B11=$BK10,$B11=$AX10),BL10,BK10) | BM11: =IF(OR($B11=$AS10,$B11=$AQ10,$B11=$AR10,$B11=$AT10,$B11=$AU10,$B11=$AV10,$B11=$AW10,$B11=$AY10,$B11=$AZ10,$B11=$BA10,$B11=$BB10,$B11=$BC10,$B11=$BD10,$B11=$BE10,$B11=$BF10,$B11=$BG10,$B11=$BH10,$B11=$BI10,$B11=$BJ10,$B11=$BK10,$B11=$BL10,$B11=$AX10),BM10,BL10) | BN11: =IF(OR($B11=$AS10,$B11=$AQ10,$B11=$AR10,$B11=$AT10,$B11=$AU10,$B11=$AV10,$B11=$AW10,$B11=$AY10,$B11=$AZ10,$B11=$BA10,$B11=$BB10,$B11=$BC10,$B11=$BD10,$B11=$BE10,$B11=$BF10,$B11=$BG10,$B11=$BH10,$B11=$BI10,$B11=$BJ10,$B11=$BK10,$B11=$BL10,$B11=$BM10,$B11=$AX10),BN10,BM10) | BO11: =IF(OR($B11=$AS10,$B11=$AQ10,$B11=$AR10,$B11=$AT10,$B11=$AU10,$B11=$AV10,$B11=$AW10,$B11=$AY10,$B11=$AZ10,$B11=$BA10,$B11=$BB10,$B11=$BC10,$B11=$BD10,$B11=$BE10,$B11=$BF10,$B11=$BG10,$B11=$BH10,$B11=$BI10,$B11=$BJ10,$B11=$BK10,$B11=$BL10,$B11=$BM10,$B11=$BN10,$B11=$AX10),BO10,BN10) | BP11: =IF(OR($B11=$AS10,$B11=$AQ10,$B11=$AR10,$B11=$AT10,$B11=$AU10,$B11=$AV10,$B11=$AW10,$B11=$AY10,$B11=$AZ10,$B11=$BA10,$B11=$BB10,$B11=$BC10,$B11=$BD10,$B11=$BE10,$B11=$BF10,$B11=$BG10,$B11=$BH10,$B11=$BI10,$B11=$BJ10,$B11=$BK10,$B11=$BL10,$B11=$BM10,$B11=$BN10,$B11=$BO10,$B11=$AX10),BP10,BO10) | BQ11: =IF(OR($B11=$AS10,$B11=$AQ10,$B11=$AR10,$B11=$AT10,$B11=$AU10,$B11=$AV10,$B11=$AW10,$B11=$AY10,$B11=$AZ10,$B11=$BA10,$B11=$BB10,$B11=$BC10,$B11=$BD10,$B11=$BE10,$B11=$BF10,$B11=$BG10,$B11=$BH10,$B11=$BI10,$B11=$BJ10,$B11=$BK10,$B11=$BL10,$B11=$BM10,$B11=$BN10,$B11=$BO10,$B11=$BP10,$B11=$AX10),BQ10,BP10) | BR11: =IF(OR($B11=$AS10,$B11=$AQ10,$B11=$AR10,$B11=$AT10,$B11=$AU10,$B11=$AV10,$B11=$AW10,$B11=$AY10,$B11=$AZ10,$B11=$BA10,$B11=$BB10,$B11=$BC10,$B11=$BD10,$B11=$BE10,$B11=$BF10,$B11=$BG10,$B11=$BH10,$B11=$BI10,$B11=$BJ10,$B11=$BK10,$B11=$BL10,$B11=$BM10,$B11=$BN10,$B11=$BO10,$B11=$BP10,$B11=$BQ10,$B11=$AX10),BR10,BQ10) | BS11: =IF(OR($B11=$AS10,$B11=$AQ10,$B11=$AR10,$B11=$AT10,$B11=$AU10,$B11=$AV10,$B11=$AW10,$B11=$AY10,$B11=$AZ10,$B11=$BA10,$B11=$BB10,$B11=$BC10,$B11=$BD10,$B11=$BE10,$B11=$BF10,$B11=$BG10,$B11=$BH10,$B11=$BI10,$B11=$BJ10,$B11=$BK10,$B11=$BL10,$B11=$BM10,$B11=$BN10,$B11=$BO10,$B11=$BP10,$B11=$BQ10,$B11=$BR10,$B11=$AX10),BS10,BR10) | BT11: =IF(OR($B11=$AS10,$B11=$AQ10,$B11=$AR10,$B11=$AT10,$B11=$AU10,$B11=$AV10,$B11=$AW10,$B11=$AY10,$B11=$AZ10,$B11=$BA10,$B11=$BB10,$B11=$BC10,$B11=$BD10,$B11=$BE10,$B11=$BF10,$B11=$BG10,$B11=$BH10,$B11=$BI10,$B11=$BJ10,$B11=$BK10,$B11=$BL10,$B11=$BM10,$B11=$BN10,$B11=$BO10,$B11=$BP10,$B11=$BQ10,$B11=$BR10,$B11=$BS10,$B11=$AX10),BT10,BS10) | BU11: =IF(OR($B11=$AS10,$B11=$AQ10,$B11=$AR10,$B11=$AT10,$B11=$AU10,$B11=$AV10,$B11=$AW10,$B11=$AY10,$B11=$AZ10,$B11=$BA10,$B11=$BB10,$B11=$BC10,$B11=$BD10,$B11=$BE10,$B11=$BF10,$B11=$BG10,$B11=$BH10,$B11=$BI10,$B11=$BJ10,$B11=$BK10,$B11=$BL10,$B11=$BM10,$B11=$BN10,$B11=$BO10,$B11=$BP10,$B11=$BQ10,$B11=$BR10,$B11=$BS10,$B11=$BT10,$B11=$AX10),BU10,BT10) | BV11: =IF(OR($B11=$AS10,$B11=$AQ10,$B11=$AR10,$B11=$AT10,$B11=$AU10,$B11=$AV10,$B11=$AW10,$B11=$AY10,$B11=$AZ10,$B11=$BA10,$B11=$BB10,$B11=$BC10,$B11=$BD10,$B11=$BE10,$B11=$BF10,$B11=$BG10,$B11=$BH10,$B11=$BI10,$B11=$BJ10,$B11=$BK10,$B11=$BL10,$B11=$BM10,$B11=$BN10,$B11=$BO10,$B11=$BP10,$B11=$BQ10,$B11=$BR10,$B11=$BS10,$B11=$BT10,$B11=$BU10,$B11=$AX10),BV10,BU10) | BW11: =IF(OR($B11=$AS10,$B11=$AQ10,$B11=$AR10,$B11=$AT10,$B11=$AU10,$B11=$AV10,$B11=$AW10,$B11=$AY10,$B11=$AZ10,$B11=$BA10,$B11=$BB10,$B11=$BC10,$B11=$BD10,$B11=$BE10,$B11=$BF10,$B11=$BG10,$B11=$BH10,$B11=$BI10,$B11=$BJ10,$B11=$BK10,$B11=$BL10,$B11=$BM10,$B11=$BN10,$B11=$BO10,$B11=$BP10,$B11=$BQ10,$B11=$BR10,$B11=$BS10,$B11=$BT10,$B11=$BU10,$B11=$BV10,$B11=$AX10),BW10,BV10) | BX11: =IF(OR($B11=$AS10,$B11=$AQ10,$B11=$AR10,$B11=$AT10,$B11=$AU10,$B11=$AV10,$B11=$AW10,$B11=$AY10,$B11=$AZ10,$B11=$BA10,$B11=$BB10,$B11=$BC10,$B11=$BD10,$B11=$BE10,$B11=$BF10,$B11=$BG10,$B11=$BH10,$B11=$BI10,$B11=$BJ10,$B11=$BK10,$B11=$BL10,$B11=$BM10,$B11=$BN10,$B11=$BO10,$B11=$BP10,$B11=$BQ10,$B11=$BR10,$B11=$BS10,$B11=$BT10,$B11=$BU10,$B11=$BV10,$B11=$BW10,$B11=$AX10),BX10,BW10) | BY11: =IF(OR($B11=$AS10,$B11=$AQ10,$B11=$AR10,$B11=$AT10,$B11=$AU10,$B11=$AV10,$B11=$AW10,$B11=$AY10,$B11=$AZ10,$B11=$BA10,$B11=$BB10,$B11=$BC10,$B11=$BD10,$B11=$BE10,$B11=$BF10,$B11=$BG10,$B11=$BH10,$B11=$BI10,$B11=$BJ10,$B11=$BK10,$B11=$BL10,$B11=$BM10,$B11=$BN10,$B11=$BO10,$B11=$BP10,$B11=$BQ10,$B11=$BR10,$B11=$BS10,$B11=$BT10,$B11=$BU10,$B11=$BV10,$B11=$BW10,$B11=$BX10,$B11=$AX10),BY10,BX10) | BZ11: =IF(OR($B11=$AS10,$B11=$AQ10,$B11=$AR10,$B11=$AT10,$B11=$AU10,$B11=$AV10,$B11=$AW10,$B11=$AY10,$B11=$AZ10,$B11=$BA10,$B11=$BB10,$B11=$BC10,$B11=$BD10,$B11=$BE10,$B11=$BF10,$B11=$BG10,$B11=$BH10,$B11=$BI10,$B11=$BJ10,$B11=$BK10,$B11=$BL10,$B11=$BM10,$B11=$BN10,$B11=$BO10,$B11=$BP10,$B11=$BQ10,$B11=$BR10,$B11=$BS10,$B11=$BT10,$B11=$BU10,$B11=$BV10,$B11=$BW10,$B11=$BX10,$B11=$BY10,$B11=$AX10),BZ10,BY10) | CA11: =IF(OR($B11=$AS10,$B11=$AQ10,$B11=$AR10,$B11=$AT10,$B11=$AU10,$B11=$AV10,$B11=$AW10,$B11=$AY10,$B11=$AZ10,$B11=$BA10,$B11=$BB10,$B11=$BC10,$B11=$BD10,$B11=$BE10,$B11=$BF10,$B11=$BG10,$B11=$BH10,$B11=$BI10,$B11=$BJ10,$B11=$BK10,$B11=$BL10,$B11=$BM10,$B11=$BN10,$B11=$BO10,$B11=$BP10,$B11=$BQ10,$B11=$BR10,$B11=$BS10,$B11=$BT10,$B11=$BU10,$B11=$BV10,$B11=$BW10,$B11=$BX10,$B11=$BY10,$B11=$BZ10,$B11=$AX10),CA10,BZ10) | CE11: =IF(AND(CE10="",$B11<>CE$1),"",IF($C11<CE10,CE10,IF($B11=CE$1,1,1+CE10))) -> 2 | CF11: =IF(AND(CF10="",$B11<>CF$1),"",IF($C11<CF10,CF10,IF($B11=CF$1,1,1+CF10))) | CG11: =IF(AND(CG10="",$B11<>CG$1),"",IF($C11<CG10,CG10,IF($B11=CG$1,1,1+CG10))) -> 3 | CH11: =IF(AND(CH10="",$B11<>CH$1),"",IF($C11<CH10,CH10,IF($B11=CH$1,1,1+CH10))) | CI11: =IF(AND(CI10="",$B11<>CI$1),"",IF($C11<CI10,CI10,IF($B11=CI$1,1,1+CI10))) | CJ11: =IF(AND(CJ10="",$B11<>CJ$1),"",IF($C11<CJ10,CJ10,IF($B11=CJ$1,1,1+CJ10))) -> 1 | CK11: =IF(AND(CK10="",$B11<>CK$1),"",IF($C11<CK10,CK10,IF($B11=CK$1,1,1+CK10))) -> 6 | CL11: =IF(AND(CL10="",$B11<>CL$1),"",IF($C11<CL10,CL10,IF($B11=CL$1,1,1+CL10))) | ... DO11: =IF(AND(DO10="",$B11<>DO$1),"",IF($C11<DO10,DO10,IF($B11=DO$1,1,1+DO10))) -> 5
A12: 11 | B12: ='Rev-KTF'!B13 -> 8 | C12: =IF(B12="","",LOOKUP(B12,$CE$1:$DO$1,CE11:DO11)) | D12: =IF(AND($B13="",$B12<>""),"Nrs",IF(AND($B14="",$B13<>"",$B12<>""),D$1,"")) | E12: =IF(AND($B13="",$B12<>""),AQ12,IF(AND($B14="",$B13<>"",$B12<>""),E$1,"")) | F12: =IF(AND($B13="",$B12<>""),AR12,IF(AND($B14="",$B13<>"",$B12<>""),F$1,"")) | G12: =IF(AND($B13="",$B12<>""),AS12,IF(AND($B14="",$B13<>"",$B12<>""),G$1,"")) | H12: =IF(AND($B13="",$B12<>""),AT12,IF(AND($B14="",$B13<>"",$B12<>""),H$1,"")) | I12: =IF(AND($B13="",$B12<>""),AU12,IF(AND($B14="",$B13<>"",$B12<>""),I$1,"")) | J12: =IF(AND($B13="",$B12<>""),AV12,IF(AND($B14="",$B13<>"",$B12<>""),J$1,"")) | K12: =IF(AND($B13="",$B12<>""),AW12,IF(AND($B14="",$B13<>"",$B12<>""),K$1,"")) | L12: =IF(AND($B13="",$B12<>""),AX12,IF(AND($B14="",$B13<>"",$B12<>""),L$1,"")) | ... AO12: =IF(AND($B13="",$B12<>""),CA12,IF(AND($B14="",$B13<>"",$B12<>""),AO$1,"")) | AQ12: =B12 -> 8 | AR12: =IF($B12=$AQ11,AR11,AQ11) -> 6 | AS12: =IF(OR($B12=$AQ11,$B12=$AR11),AS11,AR11) -> 1 | AT12: =IF(OR($B12=$AS11,$B12=$AQ11,$B12=$AR11),AT11,AS11) -> 3 | AU12: =IF(OR($B12=$AS11,$B12=$AQ11,$B12=$AR11,$B12=$AT11),AU11,AT11) -> 35 | AV12: =IF(OR($B12=$AS11,$B12=$AQ11,$B12=$AR11,$B12=$AT11,$B12=$AU11),AV11,AU11) -> 37 | AW12: =IF(OR($B12=$AS11,$B12=$AQ11,$B12=$AR11,$B12=$AT11,$B12=$AU11,$B12=$AV11),AW11,AV11) -> 7 | AX12: =IF(OR($B12=$AS11,$B12=$AQ11,$B12=$AR11,$B12=$AT11,$B12=$AU11,$B12=$AV11,$B12=$AW11),AX11,AW11) -> 28 | AY12: =IF(OR($B12=$AS11,$B12=$AQ11,$B12=$AR11,$B12=$AT11,$B12=$AU11,$B12=$AV11,$B12=$AW11,$B12=$AX11),AY11,AX11) -> 12 | AZ12: =IF(OR($B12=$AS11,$B12=$AQ11,$B12=$AR11,$B12=$AT11,$B12=$AU11,$B12=$AV11,$B12=$AW11,$B12=$AX11,$B12=$AY11),AZ11,AY11) | BA12: =IF(OR($B12=$AS11,$B12=$AQ11,$B12=$AR11,$B12=$AT11,$B12=$AU11,$B12=$AV11,$B12=$AW11,$B12=$AY11,$B12=$AZ11,$B12=$AX11),BA11,AZ11) | BB12: =IF(OR($B12=$AS11,$B12=$AQ11,$B12=$AR11,$B12=$AT11,$B12=$AU11,$B12=$AV11,$B12=$AW11,$B12=$AY11,$B12=$AZ11,$B12=$BA11,$B12=$AX11),BB11,BA11) | BC12: =IF(OR($B12=$AS11,$B12=$AQ11,$B12=$AR11,$B12=$AT11,$B12=$AU11,$B12=$AV11,$B12=$AW11,$B12=$AY11,$B12=$AZ11,$B12=$BA11,$B12=$BB11,$B12=$AX11),BC11,BB11) | BD12: =IF(OR($B12=$AS11,$B12=$AQ11,$B12=$AR11,$B12=$AT11,$B12=$AU11,$B12=$AV11,$B12=$AW11,$B12=$AY11,$B12=$AZ11,$B12=$BA11,$B12=$BB11,$B12=$BC11,$B12=$AX11),BD11,BC11) | BE12: =IF(OR($B12=$AS11,$B12=$AQ11,$B12=$AR11,$B12=$AT11,$B12=$AU11,$B12=$AV11,$B12=$AW11,$B12=$AY11,$B12=$AZ11,$B12=$BA11,$B12=$BB11,$B12=$BC11,$B12=$BD11,$B12=$AX11),BE11,BD11) | BF12: =IF(OR($B12=$AS11,$B12=$AQ11,$B12=$AR11,$B12=$AT11,$B12=$AU11,$B12=$AV11,$B12=$AW11,$B12=$AY11,$B12=$AZ11,$B12=$BA11,$B12=$BB11,$B12=$BC11,$B12=$BD11,$B12=$BE11,$B12=$AX11),BF11,BE11) | BG12: =IF(OR($B12=$AS11,$B12=$AQ11,$B12=$AR11,$B12=$AT11,$B12=$AU11,$B12=$AV11,$B12=$AW11,$B12=$AY11,$B12=$AZ11,$B12=$BA11,$B12=$BB11,$B12=$BC11,$B12=$BD11,$B12=$BE11,$B12=$BF11,$B12=$AX11),BG11,BF11) | BH12: =IF(OR($B12=$AS11,$B12=$AQ11,$B12=$AR11,$B12=$AT11,$B12=$AU11,$B12=$AV11,$B12=$AW11,$B12=$AY11,$B12=$AZ11,$B12=$BA11,$B12=$BB11,$B12=$BC11,$B12=$BD11,$B12=$BE11,$B12=$BF11,$B12=$BG11,$B12=$AX11),BH11,BG11) | BI12: =IF(OR($B12=$AS11,$B12=$AQ11,$B12=$AR11,$B12=$AT11,$B12=$AU11,$B12=$AV11,$B12=$AW11,$B12=$AY11,$B12=$AZ11,$B12=$BA11,$B12=$BB11,$B12=$BC11,$B12=$BD11,$B12=$BE11,$B12=$BF11,$B12=$BG11,$B12=$BH11,$B12=$AX11),BI11,BH11) | BJ12: =IF(OR($B12=$AS11,$B12=$AQ11,$B12=$AR11,$B12=$AT11,$B12=$AU11,$B12=$AV11,$B12=$AW11,$B12=$AY11,$B12=$AZ11,$B12=$BA11,$B12=$BB11,$B12=$BC11,$B12=$BD11,$B12=$BE11,$B12=$BF11,$B12=$BG11,$B12=$BH11,$B12=$BI11,$B12=$AX11),BJ11,BI11) | BK12: =IF(OR($B12=$AS11,$B12=$AQ11,$B12=$AR11,$B12=$AT11,$B12=$AU11,$B12=$AV11,$B12=$AW11,$B12=$AY11,$B12=$AZ11,$B12=$BA11,$B12=$BB11,$B12=$BC11,$B12=$BD11,$B12=$BE11,$B12=$BF11,$B12=$BG11,$B12=$BH11,$B12=$BI11,$B12=$BJ11,$B12=$AX11),BK11,BJ11) | BL12: =IF(OR($B12=$AS11,$B12=$AQ11,$B12=$AR11,$B12=$AT11,$B12=$AU11,$B12=$AV11,$B12=$AW11,$B12=$AY11,$B12=$AZ11,$B12=$BA11,$B12=$BB11,$B12=$BC11,$B12=$BD11,$B12=$BE11,$B12=$BF11,$B12=$BG11,$B12=$BH11,$B12=$BI11,$B12=$BJ11,$B12=$BK11,$B12=$AX11),BL11,BK11) | BM12: =IF(OR($B12=$AS11,$B12=$AQ11,$B12=$AR11,$B12=$AT11,$B12=$AU11,$B12=$AV11,$B12=$AW11,$B12=$AY11,$B12=$AZ11,$B12=$BA11,$B12=$BB11,$B12=$BC11,$B12=$BD11,$B12=$BE11,$B12=$BF11,$B12=$BG11,$B12=$BH11,$B12=$BI11,$B12=$BJ11,$B12=$BK11,$B12=$BL11,$B12=$AX11),BM11,BL11) | BN12: =IF(OR($B12=$AS11,$B12=$AQ11,$B12=$AR11,$B12=$AT11,$B12=$AU11,$B12=$AV11,$B12=$AW11,$B12=$AY11,$B12=$AZ11,$B12=$BA11,$B12=$BB11,$B12=$BC11,$B12=$BD11,$B12=$BE11,$B12=$BF11,$B12=$BG11,$B12=$BH11,$B12=$BI11,$B12=$BJ11,$B12=$BK11,$B12=$BL11,$B12=$BM11,$B12=$AX11),BN11,BM11) | BO12: =IF(OR($B12=$AS11,$B12=$AQ11,$B12=$AR11,$B12=$AT11,$B12=$AU11,$B12=$AV11,$B12=$AW11,$B12=$AY11,$B12=$AZ11,$B12=$BA11,$B12=$BB11,$B12=$BC11,$B12=$BD11,$B12=$BE11,$B12=$BF11,$B12=$BG11,$B12=$BH11,$B12=$BI11,$B12=$BJ11,$B12=$BK11,$B12=$BL11,$B12=$BM11,$B12=$BN11,$B12=$AX11),BO11,BN11) | BP12: =IF(OR($B12=$AS11,$B12=$AQ11,$B12=$AR11,$B12=$AT11,$B12=$AU11,$B12=$AV11,$B12=$AW11,$B12=$AY11,$B12=$AZ11,$B12=$BA11,$B12=$BB11,$B12=$BC11,$B12=$BD11,$B12=$BE11,$B12=$BF11,$B12=$BG11,$B12=$BH11,$B12=$BI11,$B12=$BJ11,$B12=$BK11,$B12=$BL11,$B12=$BM11,$B12=$BN11,$B12=$BO11,$B12=$AX11),BP11,BO11) | BQ12: =IF(OR($B12=$AS11,$B12=$AQ11,$B12=$AR11,$B12=$AT11,$B12=$AU11,$B12=$AV11,$B12=$AW11,$B12=$AY11,$B12=$AZ11,$B12=$BA11,$B12=$BB11,$B12=$BC11,$B12=$BD11,$B12=$BE11,$B12=$BF11,$B12=$BG11,$B12=$BH11,$B12=$BI11,$B12=$BJ11,$B12=$BK11,$B12=$BL11,$B12=$BM11,$B12=$BN11,$B12=$BO11,$B12=$BP11,$B12=$AX11),BQ11,BP11) | BR12: =IF(OR($B12=$AS11,$B12=$AQ11,$B12=$AR11,$B12=$AT11,$B12=$AU11,$B12=$AV11,$B12=$AW11,$B12=$AY11,$B12=$AZ11,$B12=$BA11,$B12=$BB11,$B12=$BC11,$B12=$BD11,$B12=$BE11,$B12=$BF11,$B12=$BG11,$B12=$BH11,$B12=$BI11,$B12=$BJ11,$B12=$BK11,$B12=$BL11,$B12=$BM11,$B12=$BN11,$B12=$BO11,$B12=$BP11,$B12=$BQ11,$B12=$AX11),BR11,BQ11) | BS12: =IF(OR($B12=$AS11,$B12=$AQ11,$B12=$AR11,$B12=$AT11,$B12=$AU11,$B12=$AV11,$B12=$AW11,$B12=$AY11,$B12=$AZ11,$B12=$BA11,$B12=$BB11,$B12=$BC11,$B12=$BD11,$B12=$BE11,$B12=$BF11,$B12=$BG11,$B12=$BH11,$B12=$BI11,$B12=$BJ11,$B12=$BK11,$B12=$BL11,$B12=$BM11,$B12=$BN11,$B12=$BO11,$B12=$BP11,$B12=$BQ11,$B12=$BR11,$B12=$AX11),BS11,BR11) | BT12: =IF(OR($B12=$AS11,$B12=$AQ11,$B12=$AR11,$B12=$AT11,$B12=$AU11,$B12=$AV11,$B12=$AW11,$B12=$AY11,$B12=$AZ11,$B12=$BA11,$B12=$BB11,$B12=$BC11,$B12=$BD11,$B12=$BE11,$B12=$BF11,$B12=$BG11,$B12=$BH11,$B12=$BI11,$B12=$BJ11,$B12=$BK11,$B12=$BL11,$B12=$BM11,$B12=$BN11,$B12=$BO11,$B12=$BP11,$B12=$BQ11,$B12=$BR11,$B12=$BS11,$B12=$AX11),BT11,BS11) | BU12: =IF(OR($B12=$AS11,$B12=$AQ11,$B12=$AR11,$B12=$AT11,$B12=$AU11,$B12=$AV11,$B12=$AW11,$B12=$AY11,$B12=$AZ11,$B12=$BA11,$B12=$BB11,$B12=$BC11,$B12=$BD11,$B12=$BE11,$B12=$BF11,$B12=$BG11,$B12=$BH11,$B12=$BI11,$B12=$BJ11,$B12=$BK11,$B12=$BL11,$B12=$BM11,$B12=$BN11,$B12=$BO11,$B12=$BP11,$B12=$BQ11,$B12=$BR11,$B12=$BS11,$B12=$BT11,$B12=$AX11),BU11,BT11) | BV12: =IF(OR($B12=$AS11,$B12=$AQ11,$B12=$AR11,$B12=$AT11,$B12=$AU11,$B12=$AV11,$B12=$AW11,$B12=$AY11,$B12=$AZ11,$B12=$BA11,$B12=$BB11,$B12=$BC11,$B12=$BD11,$B12=$BE11,$B12=$BF11,$B12=$BG11,$B12=$BH11,$B12=$BI11,$B12=$BJ11,$B12=$BK11,$B12=$BL11,$B12=$BM11,$B12=$BN11,$B12=$BO11,$B12=$BP11,$B12=$BQ11,$B12=$BR11,$B12=$BS11,$B12=$BT11,$B12=$BU11,$B12=$AX11),BV11,BU11) | BW12: =IF(OR($B12=$AS11,$B12=$AQ11,$B12=$AR11,$B12=$AT11,$B12=$AU11,$B12=$AV11,$B12=$AW11,$B12=$AY11,$B12=$AZ11,$B12=$BA11,$B12=$BB11,$B12=$BC11,$B12=$BD11,$B12=$BE11,$B12=$BF11,$B12=$BG11,$B12=$BH11,$B12=$BI11,$B12=$BJ11,$B12=$BK11,$B12=$BL11,$B12=$BM11,$B12=$BN11,$B12=$BO11,$B12=$BP11,$B12=$BQ11,$B12=$BR11,$B12=$BS11,$B12=$BT11,$B12=$BU11,$B12=$BV11,$B12=$AX11),BW11,BV11) | BX12: =IF(OR($B12=$AS11,$B12=$AQ11,$B12=$AR11,$B12=$AT11,$B12=$AU11,$B12=$AV11,$B12=$AW11,$B12=$AY11,$B12=$AZ11,$B12=$BA11,$B12=$BB11,$B12=$BC11,$B12=$BD11,$B12=$BE11,$B12=$BF11,$B12=$BG11,$B12=$BH11,$B12=$BI11,$B12=$BJ11,$B12=$BK11,$B12=$BL11,$B12=$BM11,$B12=$BN11,$B12=$BO11,$B12=$BP11,$B12=$BQ11,$B12=$BR11,$B12=$BS11,$B12=$BT11,$B12=$BU11,$B12=$BV11,$B12=$BW11,$B12=$AX11),BX11,BW11) | BY12: =IF(OR($B12=$AS11,$B12=$AQ11,$B12=$AR11,$B12=$AT11,$B12=$AU11,$B12=$AV11,$B12=$AW11,$B12=$AY11,$B12=$AZ11,$B12=$BA11,$B12=$BB11,$B12=$BC11,$B12=$BD11,$B12=$BE11,$B12=$BF11,$B12=$BG11,$B12=$BH11,$B12=$BI11,$B12=$BJ11,$B12=$BK11,$B12=$BL11,$B12=$BM11,$B12=$BN11,$B12=$BO11,$B12=$BP11,$B12=$BQ11,$B12=$BR11,$B12=$BS11,$B12=$BT11,$B12=$BU11,$B12=$BV11,$B12=$BW11,$B12=$BX11,$B12=$AX11),BY11,BX11) | BZ12: =IF(OR($B12=$AS11,$B12=$AQ11,$B12=$AR11,$B12=$AT11,$B12=$AU11,$B12=$AV11,$B12=$AW11,$B12=$AY11,$B12=$AZ11,$B12=$BA11,$B12=$BB11,$B12=$BC11,$B12=$BD11,$B12=$BE11,$B12=$BF11,$B12=$BG11,$B12=$BH11,$B12=$BI11,$B12=$BJ11,$B12=$BK11,$B12=$BL11,$B12=$BM11,$B12=$BN11,$B12=$BO11,$B12=$BP11,$B12=$BQ11,$B12=$BR11,$B12=$BS11,$B12=$BT11,$B12=$BU11,$B12=$BV11,$B12=$BW11,$B12=$BX11,$B12=$BY11,$B12=$AX11),BZ11,BY11) | CA12: =IF(OR($B12=$AS11,$B12=$AQ11,$B12=$AR11,$B12=$AT11,$B12=$AU11,$B12=$AV11,$B12=$AW11,$B12=$AY11,$B12=$AZ11,$B12=$BA11,$B12=$BB11,$B12=$BC11,$B12=$BD11,$B12=$BE11,$B12=$BF11,$B12=$BG11,$B12=$BH11,$B12=$BI11,$B12=$BJ11,$B12=$BK11,$B12=$BL11,$B12=$BM11,$B12=$BN11,$B12=$BO11,$B12=$BP11,$B12=$BQ11,$B12=$BR11,$B12=$BS11,$B12=$BT11,$B12=$BU11,$B12=$BV11,$B12=$BW11,$B12=$BX11,$B12=$BY11,$B12=$BZ11,$B12=$AX11),CA11,BZ11) | CE12: =IF(AND(CE11="",$B12<>CE$1),"",IF($C12<CE11,CE11,IF($B12=CE$1,1,1+CE11))) -> 3 | CF12: =IF(AND(CF11="",$B12<>CF$1),"",IF($C12<CF11,CF11,IF($B12=CF$1,1,1+CF11))) | CG12: =IF(AND(CG11="",$B12<>CG$1),"",IF($C12<CG11,CG11,IF($B12=CG$1,1,1+CG11))) -> 4 | CH12: =IF(AND(CH11="",$B12<>CH$1),"",IF($C12<CH11,CH11,IF($B12=CH$1,1,1+CH11))) | CI12: =IF(AND(CI11="",$B12<>CI$1),"",IF($C12<CI11,CI11,IF($B12=CI$1,1,1+CI11))) | CJ12: =IF(AND(CJ11="",$B12<>CJ$1),"",IF($C12<CJ11,CJ11,IF($B12=CJ$1,1,1+CJ11))) -> 2 | CK12: =IF(AND(CK11="",$B12<>CK$1),"",IF($C12<CK11,CK11,IF($B12=CK$1,1,1+CK11))) -> 7 | CL12: =IF(AND(CL11="",$B12<>CL$1),"",IF($C12<CL11,CL11,IF($B12=CL$1,1,1+CL11))) -> 1 | ... DO12: =IF(AND(DO11="",$B12<>DO$1),"",IF($C12<DO11,DO11,IF($B12=DO$1,1,1+DO11))) -> 6
A13: 12 | B13: ='Rev-KTF'!B14 -> 7 | C13: =IF(B13="","",LOOKUP(B13,$CE$1:$DO$1,CE12:DO12)) -> 7 | D13: =IF(AND($B14="",$B13<>""),"Nrs",IF(AND($B15="",$B14<>"",$B13<>""),D$1,"")) | E13: =IF(AND($B14="",$B13<>""),AQ13,IF(AND($B15="",$B14<>"",$B13<>""),E$1,"")) | F13: =IF(AND($B14="",$B13<>""),AR13,IF(AND($B15="",$B14<>"",$B13<>""),F$1,"")) | G13: =IF(AND($B14="",$B13<>""),AS13,IF(AND($B15="",$B14<>"",$B13<>""),G$1,"")) | H13: =IF(AND($B14="",$B13<>""),AT13,IF(AND($B15="",$B14<>"",$B13<>""),H$1,"")) | I13: =IF(AND($B14="",$B13<>""),AU13,IF(AND($B15="",$B14<>"",$B13<>""),I$1,"")) | J13: =IF(AND($B14="",$B13<>""),AV13,IF(AND($B15="",$B14<>"",$B13<>""),J$1,"")) | K13: =IF(AND($B14="",$B13<>""),AW13,IF(AND($B15="",$B14<>"",$B13<>""),K$1,"")) | L13: =IF(AND($B14="",$B13<>""),AX13,IF(AND($B15="",$B14<>"",$B13<>""),L$1,"")) | ... AO13: =IF(AND($B14="",$B13<>""),CA13,IF(AND($B15="",$B14<>"",$B13<>""),AO$1,"")) | AQ13: =B13 -> 7 | AR13: =IF($B13=$AQ12,AR12,AQ12) -> 8 | AS13: =IF(OR($B13=$AQ12,$B13=$AR12),AS12,AR12) -> 6 | AT13: =IF(OR($B13=$AS12,$B13=$AQ12,$B13=$AR12),AT12,AS12) -> 1 | AU13: =IF(OR($B13=$AS12,$B13=$AQ12,$B13=$AR12,$B13=$AT12),AU12,AT12) -> 3 | AV13: =IF(OR($B13=$AS12,$B13=$AQ12,$B13=$AR12,$B13=$AT12,$B13=$AU12),AV12,AU12) -> 35 | AW13: =IF(OR($B13=$AS12,$B13=$AQ12,$B13=$AR12,$B13=$AT12,$B13=$AU12,$B13=$AV12),AW12,AV12) -> 37 | AX13: =IF(OR($B13=$AS12,$B13=$AQ12,$B13=$AR12,$B13=$AT12,$B13=$AU12,$B13=$AV12,$B13=$AW12),AX12,AW12) -> 28 | AY13: =IF(OR($B13=$AS12,$B13=$AQ12,$B13=$AR12,$B13=$AT12,$B13=$AU12,$B13=$AV12,$B13=$AW12,$B13=$AX12),AY12,AX12) -> 12 | AZ13: =IF(OR($B13=$AS12,$B13=$AQ12,$B13=$AR12,$B13=$AT12,$B13=$AU12,$B13=$AV12,$B13=$AW12,$B13=$AX12,$B13=$AY12),AZ12,AY12) | BA13: =IF(OR($B13=$AS12,$B13=$AQ12,$B13=$AR12,$B13=$AT12,$B13=$AU12,$B13=$AV12,$B13=$AW12,$B13=$AY12,$B13=$AZ12,$B13=$AX12),BA12,AZ12) | BB13: =IF(OR($B13=$AS12,$B13=$AQ12,$B13=$AR12,$B13=$AT12,$B13=$AU12,$B13=$AV12,$B13=$AW12,$B13=$AY12,$B13=$AZ12,$B13=$BA12,$B13=$AX12),BB12,BA12) | BC13: =IF(OR($B13=$AS12,$B13=$AQ12,$B13=$AR12,$B13=$AT12,$B13=$AU12,$B13=$AV12,$B13=$AW12,$B13=$AY12,$B13=$AZ12,$B13=$BA12,$B13=$BB12,$B13=$AX12),BC12,BB12) | BD13: =IF(OR($B13=$AS12,$B13=$AQ12,$B13=$AR12,$B13=$AT12,$B13=$AU12,$B13=$AV12,$B13=$AW12,$B13=$AY12,$B13=$AZ12,$B13=$BA12,$B13=$BB12,$B13=$BC12,$B13=$AX12),BD12,BC12) | BE13: =IF(OR($B13=$AS12,$B13=$AQ12,$B13=$AR12,$B13=$AT12,$B13=$AU12,$B13=$AV12,$B13=$AW12,$B13=$AY12,$B13=$AZ12,$B13=$BA12,$B13=$BB12,$B13=$BC12,$B13=$BD12,$B13=$AX12),BE12,BD12) | BF13: =IF(OR($B13=$AS12,$B13=$AQ12,$B13=$AR12,$B13=$AT12,$B13=$AU12,$B13=$AV12,$B13=$AW12,$B13=$AY12,$B13=$AZ12,$B13=$BA12,$B13=$BB12,$B13=$BC12,$B13=$BD12,$B13=$BE12,$B13=$AX12),BF12,BE12) | BG13: =IF(OR($B13=$AS12,$B13=$AQ12,$B13=$AR12,$B13=$AT12,$B13=$AU12,$B13=$AV12,$B13=$AW12,$B13=$AY12,$B13=$AZ12,$B13=$BA12,$B13=$BB12,$B13=$BC12,$B13=$BD12,$B13=$BE12,$B13=$BF12,$B13=$AX12),BG12,BF12) | BH13: =IF(OR($B13=$AS12,$B13=$AQ12,$B13=$AR12,$B13=$AT12,$B13=$AU12,$B13=$AV12,$B13=$AW12,$B13=$AY12,$B13=$AZ12,$B13=$BA12,$B13=$BB12,$B13=$BC12,$B13=$BD12,$B13=$BE12,$B13=$BF12,$B13=$BG12,$B13=$AX12),BH12,BG12) | BI13: =IF(OR($B13=$AS12,$B13=$AQ12,$B13=$AR12,$B13=$AT12,$B13=$AU12,$B13=$AV12,$B13=$AW12,$B13=$AY12,$B13=$AZ12,$B13=$BA12,$B13=$BB12,$B13=$BC12,$B13=$BD12,$B13=$BE12,$B13=$BF12,$B13=$BG12,$B13=$BH12,$B13=$AX12),BI12,BH12) | BJ13: =IF(OR($B13=$AS12,$B13=$AQ12,$B13=$AR12,$B13=$AT12,$B13=$AU12,$B13=$AV12,$B13=$AW12,$B13=$AY12,$B13=$AZ12,$B13=$BA12,$B13=$BB12,$B13=$BC12,$B13=$BD12,$B13=$BE12,$B13=$BF12,$B13=$BG12,$B13=$BH12,$B13=$BI12,$B13=$AX12),BJ12,BI12) | BK13: =IF(OR($B13=$AS12,$B13=$AQ12,$B13=$AR12,$B13=$AT12,$B13=$AU12,$B13=$AV12,$B13=$AW12,$B13=$AY12,$B13=$AZ12,$B13=$BA12,$B13=$BB12,$B13=$BC12,$B13=$BD12,$B13=$BE12,$B13=$BF12,$B13=$BG12,$B13=$BH12,$B13=$BI12,$B13=$BJ12,$B13=$AX12),BK12,BJ12) | BL13: =IF(OR($B13=$AS12,$B13=$AQ12,$B13=$AR12,$B13=$AT12,$B13=$AU12,$B13=$AV12,$B13=$AW12,$B13=$AY12,$B13=$AZ12,$B13=$BA12,$B13=$BB12,$B13=$BC12,$B13=$BD12,$B13=$BE12,$B13=$BF12,$B13=$BG12,$B13=$BH12,$B13=$BI12,$B13=$BJ12,$B13=$BK12,$B13=$AX12),BL12,BK12) | BM13: =IF(OR($B13=$AS12,$B13=$AQ12,$B13=$AR12,$B13=$AT12,$B13=$AU12,$B13=$AV12,$B13=$AW12,$B13=$AY12,$B13=$AZ12,$B13=$BA12,$B13=$BB12,$B13=$BC12,$B13=$BD12,$B13=$BE12,$B13=$BF12,$B13=$BG12,$B13=$BH12,$B13=$BI12,$B13=$BJ12,$B13=$BK12,$B13=$BL12,$B13=$AX12),BM12,BL12) | BN13: =IF(OR($B13=$AS12,$B13=$AQ12,$B13=$AR12,$B13=$AT12,$B13=$AU12,$B13=$AV12,$B13=$AW12,$B13=$AY12,$B13=$AZ12,$B13=$BA12,$B13=$BB12,$B13=$BC12,$B13=$BD12,$B13=$BE12,$B13=$BF12,$B13=$BG12,$B13=$BH12,$B13=$BI12,$B13=$BJ12,$B13=$BK12,$B13=$BL12,$B13=$BM12,$B13=$AX12),BN12,BM12) | BO13: =IF(OR($B13=$AS12,$B13=$AQ12,$B13=$AR12,$B13=$AT12,$B13=$AU12,$B13=$AV12,$B13=$AW12,$B13=$AY12,$B13=$AZ12,$B13=$BA12,$B13=$BB12,$B13=$BC12,$B13=$BD12,$B13=$BE12,$B13=$BF12,$B13=$BG12,$B13=$BH12,$B13=$BI12,$B13=$BJ12,$B13=$BK12,$B13=$BL12,$B13=$BM12,$B13=$BN12,$B13=$AX12),BO12,BN12) | BP13: =IF(OR($B13=$AS12,$B13=$AQ12,$B13=$AR12,$B13=$AT12,$B13=$AU12,$B13=$AV12,$B13=$AW12,$B13=$AY12,$B13=$AZ12,$B13=$BA12,$B13=$BB12,$B13=$BC12,$B13=$BD12,$B13=$BE12,$B13=$BF12,$B13=$BG12,$B13=$BH12,$B13=$BI12,$B13=$BJ12,$B13=$BK12,$B13=$BL12,$B13=$BM12,$B13=$BN12,$B13=$BO12,$B13=$AX12),BP12,BO12) | BQ13: =IF(OR($B13=$AS12,$B13=$AQ12,$B13=$AR12,$B13=$AT12,$B13=$AU12,$B13=$AV12,$B13=$AW12,$B13=$AY12,$B13=$AZ12,$B13=$BA12,$B13=$BB12,$B13=$BC12,$B13=$BD12,$B13=$BE12,$B13=$BF12,$B13=$BG12,$B13=$BH12,$B13=$BI12,$B13=$BJ12,$B13=$BK12,$B13=$BL12,$B13=$BM12,$B13=$BN12,$B13=$BO12,$B13=$BP12,$B13=$AX12),BQ12,BP12) | BR13: =IF(OR($B13=$AS12,$B13=$AQ12,$B13=$AR12,$B13=$AT12,$B13=$AU12,$B13=$AV12,$B13=$AW12,$B13=$AY12,$B13=$AZ12,$B13=$BA12,$B13=$BB12,$B13=$BC12,$B13=$BD12,$B13=$BE12,$B13=$BF12,$B13=$BG12,$B13=$BH12,$B13=$BI12,$B13=$BJ12,$B13=$BK12,$B13=$BL12,$B13=$BM12,$B13=$BN12,$B13=$BO12,$B13=$BP12,$B13=$BQ12,$B13=$AX12),BR12,BQ12) | BS13: =IF(OR($B13=$AS12,$B13=$AQ12,$B13=$AR12,$B13=$AT12,$B13=$AU12,$B13=$AV12,$B13=$AW12,$B13=$AY12,$B13=$AZ12,$B13=$BA12,$B13=$BB12,$B13=$BC12,$B13=$BD12,$B13=$BE12,$B13=$BF12,$B13=$BG12,$B13=$BH12,$B13=$BI12,$B13=$BJ12,$B13=$BK12,$B13=$BL12,$B13=$BM12,$B13=$BN12,$B13=$BO12,$B13=$BP12,$B13=$BQ12,$B13=$BR12,$B13=$AX12),BS12,BR12) | BT13: =IF(OR($B13=$AS12,$B13=$AQ12,$B13=$AR12,$B13=$AT12,$B13=$AU12,$B13=$AV12,$B13=$AW12,$B13=$AY12,$B13=$AZ12,$B13=$BA12,$B13=$BB12,$B13=$BC12,$B13=$BD12,$B13=$BE12,$B13=$BF12,$B13=$BG12,$B13=$BH12,$B13=$BI12,$B13=$BJ12,$B13=$BK12,$B13=$BL12,$B13=$BM12,$B13=$BN12,$B13=$BO12,$B13=$BP12,$B13=$BQ12,$B13=$BR12,$B13=$BS12,$B13=$AX12),BT12,BS12) | BU13: =IF(OR($B13=$AS12,$B13=$AQ12,$B13=$AR12,$B13=$AT12,$B13=$AU12,$B13=$AV12,$B13=$AW12,$B13=$AY12,$B13=$AZ12,$B13=$BA12,$B13=$BB12,$B13=$BC12,$B13=$BD12,$B13=$BE12,$B13=$BF12,$B13=$BG12,$B13=$BH12,$B13=$BI12,$B13=$BJ12,$B13=$BK12,$B13=$BL12,$B13=$BM12,$B13=$BN12,$B13=$BO12,$B13=$BP12,$B13=$BQ12,$B13=$BR12,$B13=$BS12,$B13=$BT12,$B13=$AX12),BU12,BT12) | BV13: =IF(OR($B13=$AS12,$B13=$AQ12,$B13=$AR12,$B13=$AT12,$B13=$AU12,$B13=$AV12,$B13=$AW12,$B13=$AY12,$B13=$AZ12,$B13=$BA12,$B13=$BB12,$B13=$BC12,$B13=$BD12,$B13=$BE12,$B13=$BF12,$B13=$BG12,$B13=$BH12,$B13=$BI12,$B13=$BJ12,$B13=$BK12,$B13=$BL12,$B13=$BM12,$B13=$BN12,$B13=$BO12,$B13=$BP12,$B13=$BQ12,$B13=$BR12,$B13=$BS12,$B13=$BT12,$B13=$BU12,$B13=$AX12),BV12,BU12) | BW13: =IF(OR($B13=$AS12,$B13=$AQ12,$B13=$AR12,$B13=$AT12,$B13=$AU12,$B13=$AV12,$B13=$AW12,$B13=$AY12,$B13=$AZ12,$B13=$BA12,$B13=$BB12,$B13=$BC12,$B13=$BD12,$B13=$BE12,$B13=$BF12,$B13=$BG12,$B13=$BH12,$B13=$BI12,$B13=$BJ12,$B13=$BK12,$B13=$BL12,$B13=$BM12,$B13=$BN12,$B13=$BO12,$B13=$BP12,$B13=$BQ12,$B13=$BR12,$B13=$BS12,$B13=$BT12,$B13=$BU12,$B13=$BV12,$B13=$AX12),BW12,BV12) | BX13: =IF(OR($B13=$AS12,$B13=$AQ12,$B13=$AR12,$B13=$AT12,$B13=$AU12,$B13=$AV12,$B13=$AW12,$B13=$AY12,$B13=$AZ12,$B13=$BA12,$B13=$BB12,$B13=$BC12,$B13=$BD12,$B13=$BE12,$B13=$BF12,$B13=$BG12,$B13=$BH12,$B13=$BI12,$B13=$BJ12,$B13=$BK12,$B13=$BL12,$B13=$BM12,$B13=$BN12,$B13=$BO12,$B13=$BP12,$B13=$BQ12,$B13=$BR12,$B13=$BS12,$B13=$BT12,$B13=$BU12,$B13=$BV12,$B13=$BW12,$B13=$AX12),BX12,BW12) | BY13: =IF(OR($B13=$AS12,$B13=$AQ12,$B13=$AR12,$B13=$AT12,$B13=$AU12,$B13=$AV12,$B13=$AW12,$B13=$AY12,$B13=$AZ12,$B13=$BA12,$B13=$BB12,$B13=$BC12,$B13=$BD12,$B13=$BE12,$B13=$BF12,$B13=$BG12,$B13=$BH12,$B13=$BI12,$B13=$BJ12,$B13=$BK12,$B13=$BL12,$B13=$BM12,$B13=$BN12,$B13=$BO12,$B13=$BP12,$B13=$BQ12,$B13=$BR12,$B13=$BS12,$B13=$BT12,$B13=$BU12,$B13=$BV12,$B13=$BW12,$B13=$BX12,$B13=$AX12),BY12,BX12) | BZ13: =IF(OR($B13=$AS12,$B13=$AQ12,$B13=$AR12,$B13=$AT12,$B13=$AU12,$B13=$AV12,$B13=$AW12,$B13=$AY12,$B13=$AZ12,$B13=$BA12,$B13=$BB12,$B13=$BC12,$B13=$BD12,$B13=$BE12,$B13=$BF12,$B13=$BG12,$B13=$BH12,$B13=$BI12,$B13=$BJ12,$B13=$BK12,$B13=$BL12,$B13=$BM12,$B13=$BN12,$B13=$BO12,$B13=$BP12,$B13=$BQ12,$B13=$BR12,$B13=$BS12,$B13=$BT12,$B13=$BU12,$B13=$BV12,$B13=$BW12,$B13=$BX12,$B13=$BY12,$B13=$AX12),BZ12,BY12) | CA13: =IF(OR($B13=$AS12,$B13=$AQ12,$B13=$AR12,$B13=$AT12,$B13=$AU12,$B13=$AV12,$B13=$AW12,$B13=$AY12,$B13=$AZ12,$B13=$BA12,$B13=$BB12,$B13=$BC12,$B13=$BD12,$B13=$BE12,$B13=$BF12,$B13=$BG12,$B13=$BH12,$B13=$BI12,$B13=$BJ12,$B13=$BK12,$B13=$BL12,$B13=$BM12,$B13=$BN12,$B13=$BO12,$B13=$BP12,$B13=$BQ12,$B13=$BR12,$B13=$BS12,$B13=$BT12,$B13=$BU12,$B13=$BV12,$B13=$BW12,$B13=$BX12,$B13=$BY12,$B13=$BZ12,$B13=$AX12),CA12,BZ12) | CE13: =IF(AND(CE12="",$B13<>CE$1),"",IF($C13<CE12,CE12,IF($B13=CE$1,1,1+CE12))) -> 4 | CF13: =IF(AND(CF12="",$B13<>CF$1),"",IF($C13<CF12,CF12,IF($B13=CF$1,1,1+CF12))) | CG13: =IF(AND(CG12="",$B13<>CG$1),"",IF($C13<CG12,CG12,IF($B13=CG$1,1,1+CG12))) -> 5 | CH13: =IF(AND(CH12="",$B13<>CH$1),"",IF($C13<CH12,CH12,IF($B13=CH$1,1,1+CH12))) | CI13: =IF(AND(CI12="",$B13<>CI$1),"",IF($C13<CI12,CI12,IF($B13=CI$1,1,1+CI12))) | CJ13: =IF(AND(CJ12="",$B13<>CJ$1),"",IF($C13<CJ12,CJ12,IF($B13=CJ$1,1,1+CJ12))) -> 3 | CK13: =IF(AND(CK12="",$B13<>CK$1),"",IF($C13<CK12,CK12,IF($B13=CK$1,1,1+CK12))) -> 1 | CL13: =IF(AND(CL12="",$B13<>CL$1),"",IF($C13<CL12,CL12,IF($B13=CL$1,1,1+CL12))) -> 2 | ... DO13: =IF(AND(DO12="",$B13<>DO$1),"",IF($C13<DO12,DO12,IF($B13=DO$1,1,1+DO12))) -> 7
A14: 13 | B14: ='Rev-KTF'!B15 -> 10 | C14: =IF(B14="","",LOOKUP(B14,$CE$1:$DO$1,CE13:DO13)) | D14: =IF(AND($B15="",$B14<>""),"Nrs",IF(AND($B16="",$B15<>"",$B14<>""),D$1,"")) | E14: =IF(AND($B15="",$B14<>""),AQ14,IF(AND($B16="",$B15<>"",$B14<>""),E$1,"")) | F14: =IF(AND($B15="",$B14<>""),AR14,IF(AND($B16="",$B15<>"",$B14<>""),F$1,"")) | G14: =IF(AND($B15="",$B14<>""),AS14,IF(AND($B16="",$B15<>"",$B14<>""),G$1,"")) | H14: =IF(AND($B15="",$B14<>""),AT14,IF(AND($B16="",$B15<>"",$B14<>""),H$1,"")) | I14: =IF(AND($B15="",$B14<>""),AU14,IF(AND($B16="",$B15<>"",$B14<>""),I$1,"")) | J14: =IF(AND($B15="",$B14<>""),AV14,IF(AND($B16="",$B15<>"",$B14<>""),J$1,"")) | K14: =IF(AND($B15="",$B14<>""),AW14,IF(AND($B16="",$B15<>"",$B14<>""),K$1,"")) | L14: =IF(AND($B15="",$B14<>""),AX14,IF(AND($B16="",$B15<>"",$B14<>""),L$1,"")) | ... AO14: =IF(AND($B15="",$B14<>""),CA14,IF(AND($B16="",$B15<>"",$B14<>""),AO$1,"")) | AQ14: =B14 -> 10 | AR14: =IF($B14=$AQ13,AR13,AQ13) -> 7 | AS14: =IF(OR($B14=$AQ13,$B14=$AR13),AS13,AR13) -> 8 | AT14: =IF(OR($B14=$AS13,$B14=$AQ13,$B14=$AR13),AT13,AS13) -> 6 | AU14: =IF(OR($B14=$AS13,$B14=$AQ13,$B14=$AR13,$B14=$AT13),AU13,AT13) -> 1 | AV14: =IF(OR($B14=$AS13,$B14=$AQ13,$B14=$AR13,$B14=$AT13,$B14=$AU13),AV13,AU13) -> 3 | AW14: =IF(OR($B14=$AS13,$B14=$AQ13,$B14=$AR13,$B14=$AT13,$B14=$AU13,$B14=$AV13),AW13,AV13) -> 35 | AX14: =IF(OR($B14=$AS13,$B14=$AQ13,$B14=$AR13,$B14=$AT13,$B14=$AU13,$B14=$AV13,$B14=$AW13),AX13,AW13) -> 37 | AY14: =IF(OR($B14=$AS13,$B14=$AQ13,$B14=$AR13,$B14=$AT13,$B14=$AU13,$B14=$AV13,$B14=$AW13,$B14=$AX13),AY13,AX13) -> 28 | AZ14: =IF(OR($B14=$AS13,$B14=$AQ13,$B14=$AR13,$B14=$AT13,$B14=$AU13,$B14=$AV13,$B14=$AW13,$B14=$AX13,$B14=$AY13),AZ13,AY13) -> 12 | BA14: =IF(OR($B14=$AS13,$B14=$AQ13,$B14=$AR13,$B14=$AT13,$B14=$AU13,$B14=$AV13,$B14=$AW13,$B14=$AY13,$B14=$AZ13,$B14=$AX13),BA13,AZ13) | BB14: =IF(OR($B14=$AS13,$B14=$AQ13,$B14=$AR13,$B14=$AT13,$B14=$AU13,$B14=$AV13,$B14=$AW13,$B14=$AY13,$B14=$AZ13,$B14=$BA13,$B14=$AX13),BB13,BA13) | BC14: =IF(OR($B14=$AS13,$B14=$AQ13,$B14=$AR13,$B14=$AT13,$B14=$AU13,$B14=$AV13,$B14=$AW13,$B14=$AY13,$B14=$AZ13,$B14=$BA13,$B14=$BB13,$B14=$AX13),BC13,BB13) | BD14: =IF(OR($B14=$AS13,$B14=$AQ13,$B14=$AR13,$B14=$AT13,$B14=$AU13,$B14=$AV13,$B14=$AW13,$B14=$AY13,$B14=$AZ13,$B14=$BA13,$B14=$BB13,$B14=$BC13,$B14=$AX13),BD13,BC13) | BE14: =IF(OR($B14=$AS13,$B14=$AQ13,$B14=$AR13,$B14=$AT13,$B14=$AU13,$B14=$AV13,$B14=$AW13,$B14=$AY13,$B14=$AZ13,$B14=$BA13,$B14=$BB13,$B14=$BC13,$B14=$BD13,$B14=$AX13),BE13,BD13) | BF14: =IF(OR($B14=$AS13,$B14=$AQ13,$B14=$AR13,$B14=$AT13,$B14=$AU13,$B14=$AV13,$B14=$AW13,$B14=$AY13,$B14=$AZ13,$B14=$BA13,$B14=$BB13,$B14=$BC13,$B14=$BD13,$B14=$BE13,$B14=$AX13),BF13,BE13) | BG14: =IF(OR($B14=$AS13,$B14=$AQ13,$B14=$AR13,$B14=$AT13,$B14=$AU13,$B14=$AV13,$B14=$AW13,$B14=$AY13,$B14=$AZ13,$B14=$BA13,$B14=$BB13,$B14=$BC13,$B14=$BD13,$B14=$BE13,$B14=$BF13,$B14=$AX13),BG13,BF13) | BH14: =IF(OR($B14=$AS13,$B14=$AQ13,$B14=$AR13,$B14=$AT13,$B14=$AU13,$B14=$AV13,$B14=$AW13,$B14=$AY13,$B14=$AZ13,$B14=$BA13,$B14=$BB13,$B14=$BC13,$B14=$BD13,$B14=$BE13,$B14=$BF13,$B14=$BG13,$B14=$AX13),BH13,BG13) | BI14: =IF(OR($B14=$AS13,$B14=$AQ13,$B14=$AR13,$B14=$AT13,$B14=$AU13,$B14=$AV13,$B14=$AW13,$B14=$AY13,$B14=$AZ13,$B14=$BA13,$B14=$BB13,$B14=$BC13,$B14=$BD13,$B14=$BE13,$B14=$BF13,$B14=$BG13,$B14=$BH13,$B14=$AX13),BI13,BH13) | BJ14: =IF(OR($B14=$AS13,$B14=$AQ13,$B14=$AR13,$B14=$AT13,$B14=$AU13,$B14=$AV13,$B14=$AW13,$B14=$AY13,$B14=$AZ13,$B14=$BA13,$B14=$BB13,$B14=$BC13,$B14=$BD13,$B14=$BE13,$B14=$BF13,$B14=$BG13,$B14=$BH13,$B14=$BI13,$B14=$AX13),BJ13,BI13) | BK14: =IF(OR($B14=$AS13,$B14=$AQ13,$B14=$AR13,$B14=$AT13,$B14=$AU13,$B14=$AV13,$B14=$AW13,$B14=$AY13,$B14=$AZ13,$B14=$BA13,$B14=$BB13,$B14=$BC13,$B14=$BD13,$B14=$BE13,$B14=$BF13,$B14=$BG13,$B14=$BH13,$B14=$BI13,$B14=$BJ13,$B14=$AX13),BK13,BJ13) | BL14: =IF(OR($B14=$AS13,$B14=$AQ13,$B14=$AR13,$B14=$AT13,$B14=$AU13,$B14=$AV13,$B14=$AW13,$B14=$AY13,$B14=$AZ13,$B14=$BA13,$B14=$BB13,$B14=$BC13,$B14=$BD13,$B14=$BE13,$B14=$BF13,$B14=$BG13,$B14=$BH13,$B14=$BI13,$B14=$BJ13,$B14=$BK13,$B14=$AX13),BL13,BK13) | BM14: =IF(OR($B14=$AS13,$B14=$AQ13,$B14=$AR13,$B14=$AT13,$B14=$AU13,$B14=$AV13,$B14=$AW13,$B14=$AY13,$B14=$AZ13,$B14=$BA13,$B14=$BB13,$B14=$BC13,$B14=$BD13,$B14=$BE13,$B14=$BF13,$B14=$BG13,$B14=$BH13,$B14=$BI13,$B14=$BJ13,$B14=$BK13,$B14=$BL13,$B14=$AX13),BM13,BL13) | BN14: =IF(OR($B14=$AS13,$B14=$AQ13,$B14=$AR13,$B14=$AT13,$B14=$AU13,$B14=$AV13,$B14=$AW13,$B14=$AY13,$B14=$AZ13,$B14=$BA13,$B14=$BB13,$B14=$BC13,$B14=$BD13,$B14=$BE13,$B14=$BF13,$B14=$BG13,$B14=$BH13,$B14=$BI13,$B14=$BJ13,$B14=$BK13,$B14=$BL13,$B14=$BM13,$B14=$AX13),BN13,BM13) | BO14: =IF(OR($B14=$AS13,$B14=$AQ13,$B14=$AR13,$B14=$AT13,$B14=$AU13,$B14=$AV13,$B14=$AW13,$B14=$AY13,$B14=$AZ13,$B14=$BA13,$B14=$BB13,$B14=$BC13,$B14=$BD13,$B14=$BE13,$B14=$BF13,$B14=$BG13,$B14=$BH13,$B14=$BI13,$B14=$BJ13,$B14=$BK13,$B14=$BL13,$B14=$BM13,$B14=$BN13,$B14=$AX13),BO13,BN13) | BP14: =IF(OR($B14=$AS13,$B14=$AQ13,$B14=$AR13,$B14=$AT13,$B14=$AU13,$B14=$AV13,$B14=$AW13,$B14=$AY13,$B14=$AZ13,$B14=$BA13,$B14=$BB13,$B14=$BC13,$B14=$BD13,$B14=$BE13,$B14=$BF13,$B14=$BG13,$B14=$BH13,$B14=$BI13,$B14=$BJ13,$B14=$BK13,$B14=$BL13,$B14=$BM13,$B14=$BN13,$B14=$BO13,$B14=$AX13),BP13,BO13) | BQ14: =IF(OR($B14=$AS13,$B14=$AQ13,$B14=$AR13,$B14=$AT13,$B14=$AU13,$B14=$AV13,$B14=$AW13,$B14=$AY13,$B14=$AZ13,$B14=$BA13,$B14=$BB13,$B14=$BC13,$B14=$BD13,$B14=$BE13,$B14=$BF13,$B14=$BG13,$B14=$BH13,$B14=$BI13,$B14=$BJ13,$B14=$BK13,$B14=$BL13,$B14=$BM13,$B14=$BN13,$B14=$BO13,$B14=$BP13,$B14=$AX13),BQ13,BP13) | BR14: =IF(OR($B14=$AS13,$B14=$AQ13,$B14=$AR13,$B14=$AT13,$B14=$AU13,$B14=$AV13,$B14=$AW13,$B14=$AY13,$B14=$AZ13,$B14=$BA13,$B14=$BB13,$B14=$BC13,$B14=$BD13,$B14=$BE13,$B14=$BF13,$B14=$BG13,$B14=$BH13,$B14=$BI13,$B14=$BJ13,$B14=$BK13,$B14=$BL13,$B14=$BM13,$B14=$BN13,$B14=$BO13,$B14=$BP13,$B14=$BQ13,$B14=$AX13),BR13,BQ13) | BS14: =IF(OR($B14=$AS13,$B14=$AQ13,$B14=$AR13,$B14=$AT13,$B14=$AU13,$B14=$AV13,$B14=$AW13,$B14=$AY13,$B14=$AZ13,$B14=$BA13,$B14=$BB13,$B14=$BC13,$B14=$BD13,$B14=$BE13,$B14=$BF13,$B14=$BG13,$B14=$BH13,$B14=$BI13,$B14=$BJ13,$B14=$BK13,$B14=$BL13,$B14=$BM13,$B14=$BN13,$B14=$BO13,$B14=$BP13,$B14=$BQ13,$B14=$BR13,$B14=$AX13),BS13,BR13) | BT14: =IF(OR($B14=$AS13,$B14=$AQ13,$B14=$AR13,$B14=$AT13,$B14=$AU13,$B14=$AV13,$B14=$AW13,$B14=$AY13,$B14=$AZ13,$B14=$BA13,$B14=$BB13,$B14=$BC13,$B14=$BD13,$B14=$BE13,$B14=$BF13,$B14=$BG13,$B14=$BH13,$B14=$BI13,$B14=$BJ13,$B14=$BK13,$B14=$BL13,$B14=$BM13,$B14=$BN13,$B14=$BO13,$B14=$BP13,$B14=$BQ13,$B14=$BR13,$B14=$BS13,$B14=$AX13),BT13,BS13) | BU14: =IF(OR($B14=$AS13,$B14=$AQ13,$B14=$AR13,$B14=$AT13,$B14=$AU13,$B14=$AV13,$B14=$AW13,$B14=$AY13,$B14=$AZ13,$B14=$BA13,$B14=$BB13,$B14=$BC13,$B14=$BD13,$B14=$BE13,$B14=$BF13,$B14=$BG13,$B14=$BH13,$B14=$BI13,$B14=$BJ13,$B14=$BK13,$B14=$BL13,$B14=$BM13,$B14=$BN13,$B14=$BO13,$B14=$BP13,$B14=$BQ13,$B14=$BR13,$B14=$BS13,$B14=$BT13,$B14=$AX13),BU13,BT13) | BV14: =IF(OR($B14=$AS13,$B14=$AQ13,$B14=$AR13,$B14=$AT13,$B14=$AU13,$B14=$AV13,$B14=$AW13,$B14=$AY13,$B14=$AZ13,$B14=$BA13,$B14=$BB13,$B14=$BC13,$B14=$BD13,$B14=$BE13,$B14=$BF13,$B14=$BG13,$B14=$BH13,$B14=$BI13,$B14=$BJ13,$B14=$BK13,$B14=$BL13,$B14=$BM13,$B14=$BN13,$B14=$BO13,$B14=$BP13,$B14=$BQ13,$B14=$BR13,$B14=$BS13,$B14=$BT13,$B14=$BU13,$B14=$AX13),BV13,BU13) | BW14: =IF(OR($B14=$AS13,$B14=$AQ13,$B14=$AR13,$B14=$AT13,$B14=$AU13,$B14=$AV13,$B14=$AW13,$B14=$AY13,$B14=$AZ13,$B14=$BA13,$B14=$BB13,$B14=$BC13,$B14=$BD13,$B14=$BE13,$B14=$BF13,$B14=$BG13,$B14=$BH13,$B14=$BI13,$B14=$BJ13,$B14=$BK13,$B14=$BL13,$B14=$BM13,$B14=$BN13,$B14=$BO13,$B14=$BP13,$B14=$BQ13,$B14=$BR13,$B14=$BS13,$B14=$BT13,$B14=$BU13,$B14=$BV13,$B14=$AX13),BW13,BV13) | BX14: =IF(OR($B14=$AS13,$B14=$AQ13,$B14=$AR13,$B14=$AT13,$B14=$AU13,$B14=$AV13,$B14=$AW13,$B14=$AY13,$B14=$AZ13,$B14=$BA13,$B14=$BB13,$B14=$BC13,$B14=$BD13,$B14=$BE13,$B14=$BF13,$B14=$BG13,$B14=$BH13,$B14=$BI13,$B14=$BJ13,$B14=$BK13,$B14=$BL13,$B14=$BM13,$B14=$BN13,$B14=$BO13,$B14=$BP13,$B14=$BQ13,$B14=$BR13,$B14=$BS13,$B14=$BT13,$B14=$BU13,$B14=$BV13,$B14=$BW13,$B14=$AX13),BX13,BW13) | BY14: =IF(OR($B14=$AS13,$B14=$AQ13,$B14=$AR13,$B14=$AT13,$B14=$AU13,$B14=$AV13,$B14=$AW13,$B14=$AY13,$B14=$AZ13,$B14=$BA13,$B14=$BB13,$B14=$BC13,$B14=$BD13,$B14=$BE13,$B14=$BF13,$B14=$BG13,$B14=$BH13,$B14=$BI13,$B14=$BJ13,$B14=$BK13,$B14=$BL13,$B14=$BM13,$B14=$BN13,$B14=$BO13,$B14=$BP13,$B14=$BQ13,$B14=$BR13,$B14=$BS13,$B14=$BT13,$B14=$BU13,$B14=$BV13,$B14=$BW13,$B14=$BX13,$B14=$AX13),BY13,BX13) | BZ14: =IF(OR($B14=$AS13,$B14=$AQ13,$B14=$AR13,$B14=$AT13,$B14=$AU13,$B14=$AV13,$B14=$AW13,$B14=$AY13,$B14=$AZ13,$B14=$BA13,$B14=$BB13,$B14=$BC13,$B14=$BD13,$B14=$BE13,$B14=$BF13,$B14=$BG13,$B14=$BH13,$B14=$BI13,$B14=$BJ13,$B14=$BK13,$B14=$BL13,$B14=$BM13,$B14=$BN13,$B14=$BO13,$B14=$BP13,$B14=$BQ13,$B14=$BR13,$B14=$BS13,$B14=$BT13,$B14=$BU13,$B14=$BV13,$B14=$BW13,$B14=$BX13,$B14=$BY13,$B14=$AX13),BZ13,BY13) | CA14: =IF(OR($B14=$AS13,$B14=$AQ13,$B14=$AR13,$B14=$AT13,$B14=$AU13,$B14=$AV13,$B14=$AW13,$B14=$AY13,$B14=$AZ13,$B14=$BA13,$B14=$BB13,$B14=$BC13,$B14=$BD13,$B14=$BE13,$B14=$BF13,$B14=$BG13,$B14=$BH13,$B14=$BI13,$B14=$BJ13,$B14=$BK13,$B14=$BL13,$B14=$BM13,$B14=$BN13,$B14=$BO13,$B14=$BP13,$B14=$BQ13,$B14=$BR13,$B14=$BS13,$B14=$BT13,$B14=$BU13,$B14=$BV13,$B14=$BW13,$B14=$BX13,$B14=$BY13,$B14=$BZ13,$B14=$AX13),CA13,BZ13) | CE14: =IF(AND(CE13="",$B14<>CE$1),"",IF($C14<CE13,CE13,IF($B14=CE$1,1,1+CE13))) -> 5 | CF14: =IF(AND(CF13="",$B14<>CF$1),"",IF($C14<CF13,CF13,IF($B14=CF$1,1,1+CF13))) | CG14: =IF(AND(CG13="",$B14<>CG$1),"",IF($C14<CG13,CG13,IF($B14=CG$1,1,1+CG13))) -> 6 | CH14: =IF(AND(CH13="",$B14<>CH$1),"",IF($C14<CH13,CH13,IF($B14=CH$1,1,1+CH13))) | CI14: =IF(AND(CI13="",$B14<>CI$1),"",IF($C14<CI13,CI13,IF($B14=CI$1,1,1+CI13))) | CJ14: =IF(AND(CJ13="",$B14<>CJ$1),"",IF($C14<CJ13,CJ13,IF($B14=CJ$1,1,1+CJ13))) -> 4 | CK14: =IF(AND(CK13="",$B14<>CK$1),"",IF($C14<CK13,CK13,IF($B14=CK$1,1,1+CK13))) -> 2 | CL14: =IF(AND(CL13="",$B14<>CL$1),"",IF($C14<CL13,CL13,IF($B14=CL$1,1,1+CL13))) -> 3 | ... DO14: =IF(AND(DO13="",$B14<>DO$1),"",IF($C14<DO13,DO13,IF($B14=DO$1,1,1+DO13))) -> 8
