Workbook
Name ResetProg: '[1]anti-ktf'!$AN$5:$AN$15633

Sheet Finals
A1: Stop on 1st win? | J1: Played nrs
B2: No | C2: Spin | D2: Nrs | E2: Finals | F2: Wait/Play | G2: W/L | H2: Net | I2: Total
C3: 1 | D3: =RANDBETWEEN(0,36) -> 26 | E3: =IF(D3="","",Calc!F4) -> 6 | F3: =IF(Calc!G4="","Wait",IF(Calc!G4<>"","Play")) -> Wait | G3: =IF(D3="","",IF(Calc!H4="","",IF(Calc!H4=1,"W",IF(Calc!H4=-1,"L")))) | H3: =IF(D3="","",IF(Finals!G3="","",IF(Calc!H4=-1,-Calc!BF3,IF(Calc!H4=1,36-Calc!BF3)))) | I3: 0
C4: 2 | D4: =RANDBETWEEN(0,36) -> 2 | E4: =IF(D4="","",Calc!F5) -> 2 | F4: =IF(Calc!G5="","Wait",IF(Calc!G5<>"","Play")) -> Wait | G4: =IF(D4="","",IF(Calc!H5="","",IF(Calc!H5=1,"W",IF(Calc!H5=-1,"L")))) | H4: =IF(D4="","",IF(Finals!G4="","",IF(Calc!H5=-1,-Calc!BF4,IF(Calc!H5=1,36-Calc!BF4)))) | I4: =IF(H4="",I3,H4+I3) -> 0 | J4: =IF(AND($D3<>"",$D4=""),Calc!CZ4,"") | K4: =IF(AND($D3<>"",$D4=""),Calc!DA4,"") | L4: =IF(AND($D3<>"",$D4=""),Calc!DB4,"") | M4: =IF(AND($D3<>"",$D4=""),Calc!DC4,"") | N4: =IF(AND($D3<>"",$D4=""),Calc!DD4,"") | O4: =IF(AND($D3<>"",$D4=""),Calc!DE4,"") | P4: =IF(AND($D3<>"",$D4=""),Calc!DF4,"") | Q4: =IF(AND($D3<>"",$D4=""),Calc!DG4,"") | ... AS4: =IF(AND($D3<>"",$D4=""),Calc!EI4,"") | AT4: =IF(AND($D4<>"",$D5=""),Calc!EJ4,"")
C5: 3 | D5: =RANDBETWEEN(0,36) -> 25 | E5: =IF(D5="","",Calc!F6) -> 5 | F5: =IF(Calc!G6="","Wait",IF(Calc!G6<>"","Play")) -> Wait | G5: =IF(D5="","",IF(Calc!H6="","",IF(AND(B$2="Yes",OR(G4="W",G3="W")),"",IF(Calc!H6=1,"W",IF(Calc!H6=-1,"L"))))) | H5: =IF(D5="","",IF(Finals!G5="","",IF(Calc!H6=-1,-Calc!BF5,IF(Calc!H6=1,36-Calc!BF5)))) | I5: =IF(H5="",I4,H5+I4) -> 0 | J5: =IF(AND($D4<>"",$D5=""),Calc!CZ5,"") | K5: =IF(AND($D4<>"",$D5=""),Calc!DA5,"") | L5: =IF(AND($D4<>"",$D5=""),Calc!DB5,"") | M5: =IF(AND($D4<>"",$D5=""),Calc!DC5,"") | N5: =IF(AND($D4<>"",$D5=""),Calc!DD5,"") | O5: =IF(AND($D4<>"",$D5=""),Calc!DE5,"") | P5: =IF(AND($D4<>"",$D5=""),Calc!DF5,"") | Q5: =IF(AND($D4<>"",$D5=""),Calc!DG5,"") | ... AS5: =IF(AND($D4<>"",$D5=""),Calc!EI5,"") | AT5: =IF(AND($D5<>"",$D6=""),Calc!EJ5,"")
C6: 4 | D6: =RANDBETWEEN(0,36) -> 28 | E6: =IF(D6="","",Calc!F7) -> 8 | F6: =IF(Calc!G7="","Wait",IF(Calc!G7<>"","Play")) -> Wait | G6: =IF(D6="","",IF(Calc!H7="","",IF(AND(B$2="Yes",OR(G5="W",G4="W")),"",IF(Calc!H7=1,"W",IF(Calc!H7=-1,"L"))))) | H6: =IF(D6="","",IF(Finals!G6="","",IF(Calc!H7=-1,-Calc!BF6,IF(Calc!H7=1,36-Calc!BF6)))) | I6: =IF(H6="",I5,H6+I5) -> 0 | J6: =IF(AND($D5<>"",$D6=""),Calc!CZ6,"") | K6: =IF(AND($D5<>"",$D6=""),Calc!DA6,"") | L6: =IF(AND($D5<>"",$D6=""),Calc!DB6,"") | M6: =IF(AND($D5<>"",$D6=""),Calc!DC6,"") | N6: =IF(AND($D5<>"",$D6=""),Calc!DD6,"") | O6: =IF(AND($D5<>"",$D6=""),Calc!DE6,"") | P6: =IF(AND($D5<>"",$D6=""),Calc!DF6,"") | Q6: =IF(AND($D5<>"",$D6=""),Calc!DG6,"") | ... AS6: =IF(AND($D5<>"",$D6=""),Calc!EI6,"") | AT6: =IF(AND($D6<>"",$D7=""),Calc!EJ6,"")
C7: 5 | D7: =RANDBETWEEN(0,36) -> 26 | E7: =IF(D7="","",Calc!F8) -> 6 | F7: =IF(Calc!G8="","Wait",IF(Calc!G8<>"","Play")) -> Wait | G7: =IF(D7="","",IF(Calc!H8="","",IF(AND(B$2="Yes",OR(G6="W",G5="W")),"",IF(Calc!H8=1,"W",IF(Calc!H8=-1,"L"))))) | H7: =IF(D7="","",IF(Finals!G7="","",IF(Calc!H8=-1,-Calc!BF7,IF(Calc!H8=1,36-Calc!BF7)))) | I7: =IF(H7="",I6,H7+I6) -> 0 | J7: =IF(AND($D6<>"",$D7=""),Calc!CZ7,"") | K7: =IF(AND($D6<>"",$D7=""),Calc!DA7,"") | L7: =IF(AND($D6<>"",$D7=""),Calc!DB7,"") | M7: =IF(AND($D6<>"",$D7=""),Calc!DC7,"") | N7: =IF(AND($D6<>"",$D7=""),Calc!DD7,"") | O7: =IF(AND($D6<>"",$D7=""),Calc!DE7,"") | P7: =IF(AND($D6<>"",$D7=""),Calc!DF7,"") | Q7: =IF(AND($D6<>"",$D7=""),Calc!DG7,"") | ... AS7: =IF(AND($D6<>"",$D7=""),Calc!EI7,"") | AT7: =IF(AND($D7<>"",$D8=""),Calc!EJ7,"")
C8: 6 | D8: =RANDBETWEEN(0,36) -> 12 | E8: =IF(D8="","",Calc!F9) -> 2 | F8: =IF(Calc!G9="","Wait",IF(Calc!G9<>"","Play")) -> Wait | G8: =IF(D8="","",IF(Calc!H9="","",IF(AND(B$2="Yes",OR(G7="W",G6="W")),"",IF(Calc!H9=1,"W",IF(Calc!H9=-1,"L"))))) | H8: =IF(D8="","",IF(Finals!G8="","",IF(Calc!H9=-1,-Calc!BF8,IF(Calc!H9=1,36-Calc!BF8)))) | I8: =IF(H8="",I7,H8+I7) -> 0 | J8: =IF(AND($D7<>"",$D8=""),Calc!CZ8,"") | K8: =IF(AND($D7<>"",$D8=""),Calc!DA8,"") | L8: =IF(AND($D7<>"",$D8=""),Calc!DB8,"") | M8: =IF(AND($D7<>"",$D8=""),Calc!DC8,"") | N8: =IF(AND($D7<>"",$D8=""),Calc!DD8,"") | O8: =IF(AND($D7<>"",$D8=""),Calc!DE8,"") | P8: =IF(AND($D7<>"",$D8=""),Calc!DF8,"") | Q8: =IF(AND($D7<>"",$D8=""),Calc!DG8,"") | ... AS8: =IF(AND($D7<>"",$D8=""),Calc!EI8,"") | AT8: =IF(AND($D8<>"",$D9=""),Calc!EJ8,"")
C9: 7 | D9: =RANDBETWEEN(0,36) -> 11 | E9: =IF(D9="","",Calc!F10) -> 1 | F9: =IF(Calc!G10="","Wait",IF(Calc!G10<>"","Play")) -> Wait | G9: =IF(D9="","",IF(Calc!H10="","",IF(AND(B$2="Yes",OR(G8="W",G7="W")),"",IF(Calc!H10=1,"W",IF(Calc!H10=-1,"L"))))) | H9: =IF(D9="","",IF(Finals!G9="","",IF(Calc!H10=-1,-Calc!BF9,IF(Calc!H10=1,36-Calc!BF9)))) | I9: =IF(H9="",I8,H9+I8) -> 0 | J9: =IF(AND($D8<>"",$D9=""),Calc!CZ9,"") | K9: =IF(AND($D8<>"",$D9=""),Calc!DA9,"") | L9: =IF(AND($D8<>"",$D9=""),Calc!DB9,"") | M9: =IF(AND($D8<>"",$D9=""),Calc!DC9,"") | N9: =IF(AND($D8<>"",$D9=""),Calc!DD9,"") | O9: =IF(AND($D8<>"",$D9=""),Calc!DE9,"") | P9: =IF(AND($D8<>"",$D9=""),Calc!DF9,"") | Q9: =IF(AND($D8<>"",$D9=""),Calc!DG9,"") | ... AS9: =IF(AND($D8<>"",$D9=""),Calc!EI9,"") | AT9: =IF(AND($D9<>"",$D10=""),Calc!EJ9,"")
C10: 8 | D10: =RANDBETWEEN(0,36) -> 34 | E10: =IF(D10="","",Calc!F11) -> 4 | F10: =IF(Calc!G11="","Wait",IF(Calc!G11<>"","Play")) -> Play | G10: =IF(D10="","",IF(Calc!H11="","",IF(AND(B$2="Yes",OR(G9="W",G8="W")),"",IF(Calc!H11=1,"W",IF(Calc!H11=-1,"L"))))) -> W | H10: =IF(D10="","",IF(Finals!G10="","",IF(Calc!H11=-1,-Calc!BF10,IF(Calc!H11=1,36-Calc!BF10)))) -> 18 | I10: =IF(H10="",I9,H10+I9) -> 18 | J10: =IF(AND($D9<>"",$D10=""),Calc!CZ10,"") | K10: =IF(AND($D9<>"",$D10=""),Calc!DA10,"") | L10: =IF(AND($D9<>"",$D10=""),Calc!DB10,"") | M10: =IF(AND($D9<>"",$D10=""),Calc!DC10,"") | N10: =IF(AND($D9<>"",$D10=""),Calc!DD10,"") | O10: =IF(AND($D9<>"",$D10=""),Calc!DE10,"") | P10: =IF(AND($D9<>"",$D10=""),Calc!DF10,"") | Q10: =IF(AND($D9<>"",$D10=""),Calc!DG10,"") | ... AS10: =IF(AND($D9<>"",$D10=""),Calc!EI10,"") | AT10: =IF(AND($D10<>"",$D11=""),Calc!EJ10,"")
C11: 9 | D11: =RANDBETWEEN(0,36) -> 16 | E11: =IF(D11="","",Calc!F12) -> 6 | F11: =IF(Calc!G12="","Wait",IF(Calc!G12<>"","Play")) -> Play | G11: =IF(D11="","",IF(Calc!H12="","",IF(AND(B$2="Yes",OR(G10="W",G9="W")),"",IF(Calc!H12=1,"W",IF(Calc!H12=-1,"L"))))) -> L | H11: =IF(D11="","",IF(Finals!G11="","",IF(Calc!H12=-1,-Calc!BF11,IF(Calc!H12=1,36-Calc!BF11)))) -> -14 | I11: =IF(H11="",I10,H11+I10) -> 4 | J11: =IF(AND($D10<>"",$D11=""),Calc!CZ11,"") | K11: =IF(AND($D10<>"",$D11=""),Calc!DA11,"") | L11: =IF(AND($D10<>"",$D11=""),Calc!DB11,"") | M11: =IF(AND($D10<>"",$D11=""),Calc!DC11,"") | N11: =IF(AND($D10<>"",$D11=""),Calc!DD11,"") | O11: =IF(AND($D10<>"",$D11=""),Calc!DE11,"") | P11: =IF(AND($D10<>"",$D11=""),Calc!DF11,"") | Q11: =IF(AND($D10<>"",$D11=""),Calc!DG11,"") | ... AS11: =IF(AND($D10<>"",$D11=""),Calc!EI11,"") | AT11: =IF(AND($D11<>"",$D12=""),Calc!EJ11,"")
C12: 10 | E12: =IF(D12="","",Calc!F13) | F12: =IF(Calc!G13="","Wait",IF(Calc!G13<>"","Play")) -> Play | G12: =IF(D12="","",IF(Calc!H13="","",IF(AND(B$2="Yes",OR(G11="W",G10="W")),"",IF(Calc!H13=1,"W",IF(Calc!H13=-1,"L"))))) | H12: =IF(D12="","",IF(Finals!G12="","",IF(Calc!H13=-1,-Calc!BF12,IF(Calc!H13=1,36-Calc!BF12)))) | I12: =IF(H12="",I11,H12+I11) -> 4 | J12: =IF(AND($D11<>"",$D12=""),Calc!CZ12,"") -> 0 | K12: =IF(AND($D11<>"",$D12=""),Calc!DA12,"") -> 3 | L12: =IF(AND($D11<>"",$D12=""),Calc!DB12,"") -> 7 | M12: =IF(AND($D11<>"",$D12=""),Calc!DC12,"") -> 9 | N12: =IF(AND($D11<>"",$D12=""),Calc!DD12,"") -> 10 | O12: =IF(AND($D11<>"",$D12=""),Calc!DE12,"") -> 13 | P12: =IF(AND($D11<>"",$D12=""),Calc!DF12,"") -> 17 | Q12: =IF(AND($D11<>"",$D12=""),Calc!DG12,"") -> 19 | ... AS12: =IF(AND($D11<>"",$D12=""),Calc!EI12,"") | AT12: =IF(AND($D12<>"",$D13=""),Calc!EJ12,"")
C13: 11 | E13: =IF(D13="","",Calc!F14) | F13: =IF(Calc!G14="","Wait",IF(Calc!G14<>"","Play")) -> Wait | G13: =IF(D13="","",IF(Calc!H14="","",IF(AND(B$2="Yes",OR(G12="W",G11="W")),"",IF(Calc!H14=1,"W",IF(Calc!H14=-1,"L"))))) | H13: =IF(D13="","",IF(Finals!G13="","",IF(Calc!H14=-1,-Calc!BF13,IF(Calc!H14=1,36-Calc!BF13)))) | I13: =IF(H13="",I12,H13+I12) -> 4 | J13: =IF(AND($D12<>"",$D13=""),Calc!CZ13,"") | K13: =IF(AND($D12<>"",$D13=""),Calc!DA13,"") | L13: =IF(AND($D12<>"",$D13=""),Calc!DB13,"") | M13: =IF(AND($D12<>"",$D13=""),Calc!DC13,"") | N13: =IF(AND($D12<>"",$D13=""),Calc!DD13,"") | O13: =IF(AND($D12<>"",$D13=""),Calc!DE13,"") | P13: =IF(AND($D12<>"",$D13=""),Calc!DF13,"") | Q13: =IF(AND($D12<>"",$D13=""),Calc!DG13,"") | ... AS13: =IF(AND($D12<>"",$D13=""),Calc!EI13,"") | AT13: =IF(AND($D13<>"",$D14=""),Calc!EJ13,"")
C14: 12 | E14: =IF(D14="","",Calc!F15) | F14: =IF(Calc!G15="","Wait",IF(Calc!G15<>"","Play")) -> Wait | G14: =IF(D14="","",IF(Calc!H15="","",IF(AND(B$2="Yes",OR(G13="W",G12="W")),"",IF(Calc!H15=1,"W",IF(Calc!H15=-1,"L"))))) | H14: =IF(D14="","",IF(Finals!G14="","",IF(Calc!H15=-1,-Calc!BF14,IF(Calc!H15=1,36-Calc!BF14)))) | I14: =IF(H14="",I13,H14+I13) -> 4 | J14: =IF(AND($D13<>"",$D14=""),Calc!CZ14,"") | K14: =IF(AND($D13<>"",$D14=""),Calc!DA14,"") | L14: =IF(AND($D13<>"",$D14=""),Calc!DB14,"") | M14: =IF(AND($D13<>"",$D14=""),Calc!DC14,"") | N14: =IF(AND($D13<>"",$D14=""),Calc!DD14,"") | O14: =IF(AND($D13<>"",$D14=""),Calc!DE14,"") | P14: =IF(AND($D13<>"",$D14=""),Calc!DF14,"") | Q14: =IF(AND($D13<>"",$D14=""),Calc!DG14,"") | ... AS14: =IF(AND($D13<>"",$D14=""),Calc!EI14,"") | AT14: =IF(AND($D14<>"",$D15=""),Calc!EJ14,"")
C15: 13 | E15: =IF(D15="","",Calc!F16) | F15: =IF(Calc!G16="","Wait",IF(Calc!G16<>"","Play")) -> Wait | G15: =IF(D15="","",IF(Calc!H16="","",IF(AND(B$2="Yes",OR(G14="W",G13="W")),"",IF(Calc!H16=1,"W",IF(Calc!H16=-1,"L"))))) | H15: =IF(D15="","",IF(Finals!G15="","",IF(Calc!H16=-1,-Calc!BF15,IF(Calc!H16=1,36-Calc!BF15)))) | I15: =IF(H15="",I14,H15+I14) -> 4 | J15: =IF(AND($D14<>"",$D15=""),Calc!CZ15,"") | K15: =IF(AND($D14<>"",$D15=""),Calc!DA15,"") | L15: =IF(AND($D14<>"",$D15=""),Calc!DB15,"") | M15: =IF(AND($D14<>"",$D15=""),Calc!DC15,"") | N15: =IF(AND($D14<>"",$D15=""),Calc!DD15,"") | O15: =IF(AND($D14<>"",$D15=""),Calc!DE15,"") | P15: =IF(AND($D14<>"",$D15=""),Calc!DF15,"") | Q15: =IF(AND($D14<>"",$D15=""),Calc!DG15,"") | ... AS15: =IF(AND($D14<>"",$D15=""),Calc!EI15,"") | AT15: =IF(AND($D15<>"",$D16=""),Calc!EJ15,"")
C16: 14 | E16: =IF(D16="","",Calc!F17) | F16: =IF(Calc!G17="","Wait",IF(Calc!G17<>"","Play")) -> Wait | G16: =IF(D16="","",IF(Calc!H17="","",IF(AND(B$2="Yes",OR(G15="W",G14="W")),"",IF(Calc!H17=1,"W",IF(Calc!H17=-1,"L"))))) | H16: =IF(D16="","",IF(Finals!G16="","",IF(Calc!H17=-1,-Calc!BF16,IF(Calc!H17=1,36-Calc!BF16)))) | I16: =IF(H16="",I15,H16+I15) -> 4 | J16: =IF(AND($D15<>"",$D16=""),Calc!CZ16,"") | K16: =IF(AND($D15<>"",$D16=""),Calc!DA16,"") | L16: =IF(AND($D15<>"",$D16=""),Calc!DB16,"") | M16: =IF(AND($D15<>"",$D16=""),Calc!DC16,"") | N16: =IF(AND($D15<>"",$D16=""),Calc!DD16,"") | O16: =IF(AND($D15<>"",$D16=""),Calc!DE16,"") | P16: =IF(AND($D15<>"",$D16=""),Calc!DF16,"") | Q16: =IF(AND($D15<>"",$D16=""),Calc!DG16,"") | ... AS16: =IF(AND($D15<>"",$D16=""),Calc!EI16,"") | AT16: =IF(AND($D16<>"",$D17=""),Calc!EJ16,"")
C17: 15 | E17: =IF(D17="","",Calc!F18) | F17: =IF(Calc!G18="","Wait",IF(Calc!G18<>"","Play")) -> Wait | G17: =IF(D17="","",IF(Calc!H18="","",IF(AND(B$2="Yes",OR(G16="W",G15="W")),"",IF(Calc!H18=1,"W",IF(Calc!H18=-1,"L"))))) | H17: =IF(D17="","",IF(Finals!G17="","",IF(Calc!H18=-1,-Calc!BF17,IF(Calc!H18=1,36-Calc!BF17)))) | I17: =IF(H17="",I16,H17+I16) -> 4 | J17: =IF(AND($D16<>"",$D17=""),Calc!CZ17,"") | K17: =IF(AND($D16<>"",$D17=""),Calc!DA17,"") | L17: =IF(AND($D16<>"",$D17=""),Calc!DB17,"") | M17: =IF(AND($D16<>"",$D17=""),Calc!DC17,"") | N17: =IF(AND($D16<>"",$D17=""),Calc!DD17,"") | O17: =IF(AND($D16<>"",$D17=""),Calc!DE17,"") | P17: =IF(AND($D16<>"",$D17=""),Calc!DF17,"") | Q17: =IF(AND($D16<>"",$D17=""),Calc!DG17,"") | ... AS17: =IF(AND($D16<>"",$D17=""),Calc!EI17,"") | AT17: =IF(AND($D17<>"",$D18=""),Calc!EJ17,"")
C18: 16 | E18: =IF(D18="","",Calc!F19) | F18: =IF(Calc!G19="","Wait",IF(Calc!G19<>"","Play")) -> Wait | G18: =IF(D18="","",IF(Calc!H19="","",IF(AND(B$2="Yes",OR(G17="W",G16="W")),"",IF(Calc!H19=1,"W",IF(Calc!H19=-1,"L"))))) | H18: =IF(D18="","",IF(Finals!G18="","",IF(Calc!H19=-1,-Calc!BF18,IF(Calc!H19=1,36-Calc!BF18)))) | I18: =IF(H18="",I17,H18+I17) -> 4 | J18: =IF(AND($D17<>"",$D18=""),Calc!CZ18,"") | K18: =IF(AND($D17<>"",$D18=""),Calc!DA18,"") | L18: =IF(AND($D17<>"",$D18=""),Calc!DB18,"") | M18: =IF(AND($D17<>"",$D18=""),Calc!DC18,"") | N18: =IF(AND($D17<>"",$D18=""),Calc!DD18,"") | O18: =IF(AND($D17<>"",$D18=""),Calc!DE18,"") | P18: =IF(AND($D17<>"",$D18=""),Calc!DF18,"") | Q18: =IF(AND($D17<>"",$D18=""),Calc!DG18,"") | ... AS18: =IF(AND($D17<>"",$D18=""),Calc!EI18,"") | AT18: =IF(AND($D18<>"",$D19=""),Calc!EJ18,"")
C19: 17 | E19: =IF(D19="","",Calc!F20) | F19: =IF(Calc!G20="","Wait",IF(Calc!G20<>"","Play")) -> Wait | G19: =IF(D19="","",IF(Calc!H20="","",IF(AND(B$2="Yes",OR(G18="W",G17="W")),"",IF(Calc!H20=1,"W",IF(Calc!H20=-1,"L"))))) | H19: =IF(D19="","",IF(Finals!G19="","",IF(Calc!H20=-1,-Calc!BF19,IF(Calc!H20=1,36-Calc!BF19)))) | I19: =IF(H19="",I18,H19+I18) -> 4 | J19: =IF(AND($D18<>"",$D19=""),Calc!CZ19,"") | K19: =IF(AND($D18<>"",$D19=""),Calc!DA19,"") | L19: =IF(AND($D18<>"",$D19=""),Calc!DB19,"") | M19: =IF(AND($D18<>"",$D19=""),Calc!DC19,"") | N19: =IF(AND($D18<>"",$D19=""),Calc!DD19,"") | O19: =IF(AND($D18<>"",$D19=""),Calc!DE19,"") | P19: =IF(AND($D18<>"",$D19=""),Calc!DF19,"") | Q19: =IF(AND($D18<>"",$D19=""),Calc!DG19,"") | ... AS19: =IF(AND($D18<>"",$D19=""),Calc!EI19,"") | AT19: =IF(AND($D19<>"",$D20=""),Calc!EJ19,"")
C20: 18 | E20: =IF(D20="","",Calc!F21) | F20: =IF(Calc!G21="","Wait",IF(Calc!G21<>"","Play")) -> Play | G20: =IF(D20="","",IF(Calc!H21="","",IF(AND(B$2="Yes",OR(G19="W",G18="W")),"",IF(Calc!H21=1,"W",IF(Calc!H21=-1,"L"))))) | H20: =IF(D20="","",IF(Finals!G20="","",IF(Calc!H21=-1,-Calc!BF20,IF(Calc!H21=1,36-Calc!BF20)))) | I20: =IF(H20="",I19,H20+I19) -> 4 | J20: =IF(AND($D19<>"",$D20=""),Calc!CZ20,"") | K20: =IF(AND($D19<>"",$D20=""),Calc!DA20,"") | L20: =IF(AND($D19<>"",$D20=""),Calc!DB20,"") | M20: =IF(AND($D19<>"",$D20=""),Calc!DC20,"") | N20: =IF(AND($D19<>"",$D20=""),Calc!DD20,"") | O20: =IF(AND($D19<>"",$D20=""),Calc!DE20,"") | P20: =IF(AND($D19<>"",$D20=""),Calc!DF20,"") | Q20: =IF(AND($D19<>"",$D20=""),Calc!DG20,"") | ... AS20: =IF(AND($D19<>"",$D20=""),Calc!EI20,"") | AT20: =IF(AND($D20<>"",$D21=""),Calc!EJ20,"")
C21: 19 | E21: =IF(D21="","",Calc!F22) | F21: =IF(Calc!G22="","Wait",IF(Calc!G22<>"","Play")) -> Play | G21: =IF(D21="","",IF(Calc!H22="","",IF(AND(B$2="Yes",OR(G20="W",G19="W")),"",IF(Calc!H22=1,"W",IF(Calc!H22=-1,"L"))))) | H21: =IF(D21="","",IF(Finals!G21="","",IF(Calc!H22=-1,-Calc!BF21,IF(Calc!H22=1,36-Calc!BF21)))) | I21: =IF(H21="",I20,H21+I20) -> 4 | J21: =IF(AND($D20<>"",$D21=""),Calc!CZ21,"") | K21: =IF(AND($D20<>"",$D21=""),Calc!DA21,"") | L21: =IF(AND($D20<>"",$D21=""),Calc!DB21,"") | M21: =IF(AND($D20<>"",$D21=""),Calc!DC21,"") | N21: =IF(AND($D20<>"",$D21=""),Calc!DD21,"") | O21: =IF(AND($D20<>"",$D21=""),Calc!DE21,"") | P21: =IF(AND($D20<>"",$D21=""),Calc!DF21,"") | Q21: =IF(AND($D20<>"",$D21=""),Calc!DG21,"") | ... AS21: =IF(AND($D20<>"",$D21=""),Calc!EI21,"") | AT21: =IF(AND($D21<>"",$D22=""),Calc!EJ21,"")
C22: 20 | E22: =IF(D22="","",Calc!F23) | F22: =IF(Calc!G23="","Wait",IF(Calc!G23<>"","Play")) -> Play | G22: =IF(D22="","",IF(Calc!H23="","",IF(AND(B$2="Yes",OR(G21="W",G20="W")),"",IF(Calc!H23=1,"W",IF(Calc!H23=-1,"L"))))) | H22: =IF(D22="","",IF(Finals!G22="","",IF(Calc!H23=-1,-Calc!BF22,IF(Calc!H23=1,36-Calc!BF22)))) | I22: =IF(H22="",I21,H22+I21) -> 4 | J22: =IF(AND($D21<>"",$D22=""),Calc!CZ22,"") | K22: =IF(AND($D21<>"",$D22=""),Calc!DA22,"") | L22: =IF(AND($D21<>"",$D22=""),Calc!DB22,"") | M22: =IF(AND($D21<>"",$D22=""),Calc!DC22,"") | N22: =IF(AND($D21<>"",$D22=""),Calc!DD22,"") | O22: =IF(AND($D21<>"",$D22=""),Calc!DE22,"") | P22: =IF(AND($D21<>"",$D22=""),Calc!DF22,"") | Q22: =IF(AND($D21<>"",$D22=""),Calc!DG22,"") | ... AS22: =IF(AND($D21<>"",$D22=""),Calc!EI22,"") | AT22: =IF(AND($D22<>"",$D23=""),Calc!EJ22,"")
C23: 21 | E23: =IF(D23="","",Calc!F24) | F23: =IF(Calc!G24="","Wait",IF(Calc!G24<>"","Play")) -> Wait | G23: =IF(D23="","",IF(Calc!H24="","",IF(AND(B$2="Yes",OR(G22="W",G21="W")),"",IF(Calc!H24=1,"W",IF(Calc!H24=-1,"L"))))) | H23: =IF(D23="","",IF(Finals!G23="","",IF(Calc!H24=-1,-Calc!BF23,IF(Calc!H24=1,36-Calc!BF23)))) | I23: =IF(H23="",I22,H23+I22) -> 4 | J23: =IF(AND($D22<>"",$D23=""),Calc!CZ23,"") | K23: =IF(AND($D22<>"",$D23=""),Calc!DA23,"") | L23: =IF(AND($D22<>"",$D23=""),Calc!DB23,"") | M23: =IF(AND($D22<>"",$D23=""),Calc!DC23,"") | N23: =IF(AND($D22<>"",$D23=""),Calc!DD23,"") | O23: =IF(AND($D22<>"",$D23=""),Calc!DE23,"") | P23: =IF(AND($D22<>"",$D23=""),Calc!DF23,"") | Q23: =IF(AND($D22<>"",$D23=""),Calc!DG23,"") | ... AS23: =IF(AND($D22<>"",$D23=""),Calc!EI23,"") | AT23: =IF(AND($D23<>"",$D24=""),Calc!EJ23,"")
... C1002: 1000 | E1002: =IF(D1002="","",Calc!F1003) | F1002: =IF(Calc!G1003="","Wait",IF(Calc!G1003<>"","Play")) -> Wait | G1002: =IF(D1002="","",IF(Calc!H1003="","",IF(AND(B$2="Yes",OR(G1001="W",G1000="W")),"",IF(Calc!H1003=1,"W",IF(Calc!H1003=-1,"L"))))) | H1002: =IF(D1002="","",IF(Finals!G1002="","",IF(Calc!H1003=-1,-Calc!BF1002,IF(Calc!H1003=1,36-Calc!BF1002)))) | I1002: =IF(H1002="",I1001,H1002+I1001) -> 4 | J1002: =IF(AND($D1001<>"",$D1002=""),Calc!CZ1002,"") | K1002: =IF(AND($D1001<>"",$D1002=""),Calc!DA1002,"") | L1002: =IF(AND($D1001<>"",$D1002=""),Calc!DB1002,"") | M1002: =IF(AND($D1001<>"",$D1002=""),Calc!DC1002,"") | N1002: =IF(AND($D1001<>"",$D1002=""),Calc!DD1002,"") | O1002: =IF(AND($D1001<>"",$D1002=""),Calc!DE1002,"") | P1002: =IF(AND($D1001<>"",$D1002=""),Calc!DF1002,"") | Q1002: =IF(AND($D1001<>"",$D1002=""),Calc!DG1002,"") | ... AS1002: =IF(AND($D1001<>"",$D1002=""),Calc!EI1002,"") | AT1002: =IF(AND($D1002<>"",$D1003=""),Calc!EJ1002,"")

Sheet Calc
A1: Yes | U1: play-noplay | BO1: lookup | CZ1: display
A2: No | K2: Final | U2: 0 | V2: 1 | W2: 2 | X2: 3 | Y2: 4 | Z2: 5 | AA2: 6 | AB2: 7 | AC2: 8 | AD2: 9 | AE2: 0 | AF2: 1 | AG2: 2 | AH2: 3 | AI2: 4 | AJ2: 5 | AK2: 6 | AL2: 7 | AM2: 8 | AN2: 9 | AO2: 0 | AP2: 1 | AQ2: 2 | AR2: 3 | AS2: 4 | AT2: 5 | AU2: 6 | AV2: 7 | AW2: 8 | AX2: 9 | AY2: 0 | AZ2: 1 | BA2: 2 | BB2: 3 | BC2: 4 | BD2: 5 | BE2: 6 | BO2: 0 | BP2: 1 | BQ2: 2 | BR2: 3 | BS2: 4 | BT2: 5 | BU2: 6 | BV2: 7 | BW2: 8 | BX2: 9 | BY2: 0 | BZ2: 1 | CA2: 2 | CB2: 3 | CC2: 4 | CD2: 5 | CE2: 6 | CF2: 7 | CG2: 8 | CH2: 9 | CI2: 0 | CJ2: 1 | CK2: 2 | CL2: 3 | CM2: 4 | CN2: 5 | CO2: 6 | CP2: 7 | CQ2: 8 | CR2: 9 | CS2: 0 | CT2: 1 | CU2: 2 | CV2: 3 | CW2: 4 | CX2: 5 | CY2: 6
C3: Spin | D3: Trk | E3: Nrs | F3: Final | K3: 0 | L3: 1 | M3: 2 | N3: 3 | O3: 4 | P3: 5 | Q3: 6 | R3: 7 | S3: 8 | T3: 9 | U3: 0 | V3: 1 | W3: 2 | X3: 3 | Y3: 4 | Z3: 5 | AA3: 6 | AB3: 7 | AC3: 8 | AD3: 9 | AE3: 10 | AF3: 11 | AG3: 12 | AH3: 13 | AI3: 14 | AJ3: 15 | AK3: 16 | AL3: 17 | AM3: 18 | AN3: 19 | AO3: 20 | AP3: 21 | AQ3: 22 | AR3: 23 | AS3: 24 | AT3: 25 | AU3: 26 | AV3: 27 | AW3: 28 | AX3: 29 | AY3: 30 | AZ3: 31 | BA3: 32 | BB3: 33 | BC3: 34 | BD3: 35 | BE3: 36 | BO3: 0 | BP3: 1 | BQ3: 2 | BR3: 3 | BS3: 4 | BT3: 5 | BU3: 6 | BV3: 7 | BW3: 8 | BX3: 9 | BY3: 10 | BZ3: 11 | CA3: 12 | CB3: 13 | CC3: 14 | CD3: 15 | CE3: 16 | CF3: 17 | CG3: 18 | CH3: 19 | CI3: 20 | CJ3: 21 | CK3: 22 | CL3: 23 | CM3: 24 | CN3: 25 | CO3: 26 | CP3: 27 | CQ3: 28 | CR3: 29 | CS3: 30 | CT3: 31 | CU3: 32 | CV3: 33 | CW3: 34 | CX3: 35 | CY3: 36 | CZ3: 1 | DA3: 2 | DB3: 3 | DC3: 4 | DD3: 5 | DE3: 6 | DF3: 7 | DG3: 8 | DH3: 9 | DI3: 10 | DJ3: 11 | DK3: 12 | DL3: 13 | DM3: 14 | DN3: 15 | DO3: 16 | DP3: 17 | DQ3: 18 | DR3: 19 | DS3: 20 | DT3: 21 | DU3: 22 | DV3: 23 | DW3: 24 | DX3: 25 | DY3: 26 | DZ3: 27 | EA3: 28 | EB3: 29 | EC3: 30 | ED3: 31 | EE3: 32 | EF3: 33 | EG3: 34 | EH3: 35 | EI3: 36 | EJ3: 37
C4: 1 | D4: =VALUE(RIGHT(C4,1)) -> 1 | E4: =Finals!D3 -> 26 | F4: =IF(E4="","",VALUE(RIGHT(E4,1))) -> 6 | H4: =IF(G4="","",IF(G4=0,1,-1)) | K4: =IF($F4=K3,1,0) -> 0 | L4: =IF($F4=L3,1,0) -> 0 | M4: =IF($F4=M3,1,0) -> 0 | N4: =IF($F4=N3,1,0) -> 0 | O4: =IF($F4=O3,1,0) -> 0 | P4: =IF($F4=P3,1,0) -> 0 | Q4: =IF($F4=Q3,1,0) -> 1 | R4: =IF($F4=R3,1,0) -> 0 | ... T4: =IF($F4=T3,1,0) -> 0 | U4: =IF($F4=U$2,0,1) -> 1 | V4: =IF($F4=V$2,0,1) -> 1 | W4: =IF($F4=W$2,0,1) -> 1 | X4: =IF($F4=X$2,0,1) -> 1 | Y4: =IF($F4=Y$2,0,1) -> 1 | Z4: =IF($F4=Z$2,0,1) -> 1 | AA4: =IF($F4=AA$2,0,1) -> 0 | AB4: =IF($F4=AB$2,0,1) -> 1 | ... BE4: =IF($F4=BE$2,0,1) -> 0 | BF4: =SUM(U4:BE4) -> 33 | BO4: 1 | BP4: =IF(U4=1,1+BO4,BO4) -> 2 | BQ4: =IF(V4=1,1+BP4,BP4) -> 3 | BR4: =IF(W4=1,1+BQ4,BQ4) -> 4 | BS4: =IF(X4=1,1+BR4,BR4) -> 5 | BT4: =IF(Y4=1,1+BS4,BS4) -> 6 | BU4: =IF(Z4=1,1+BT4,BT4) -> 7 | BV4: =IF(AA4=1,1+BU4,BU4) -> 7 | BW4: =IF(AB4=1,1+BV4,BV4) -> 8 | ... CY4: =IF(BD4=1,1+CX4,CX4) -> 34 | CZ4: =LOOKUP(CZ$3,$BO4:$CY4,$BO$3:$CY$3) -> 0 | DA4: =IF(DA$3>$BF4,"",IF(OR(CZ4=36,CZ4=""),"",LOOKUP(DA$3,$BO4:$CY4,$BO$3:$CY$3))) -> 1 | DB4: =IF(DB$3>$BF4,"",IF(OR(DA4=36,DA4=""),"",LOOKUP(DB$3,$BO4:$CY4,$BO$3:$CY$3))) -> 2 | DC4: =IF(DC$3>$BF4,"",IF(OR(DB4=36,DB4=""),"",LOOKUP(DC$3,$BO4:$CY4,$BO$3:$CY$3))) -> 3 | DD4: =IF(DD$3>$BF4,"",IF(OR(DC4=36,DC4=""),"",LOOKUP(DD$3,$BO4:$CY4,$BO$3:$CY$3))) -> 4 | DE4: =IF(DE$3>$BF4,"",IF(OR(DD4=36,DD4=""),"",LOOKUP(DE$3,$BO4:$CY4,$BO$3:$CY$3))) -> 5 | DF4: =IF(DF$3>$BF4,"",IF(OR(DE4=36,DE4=""),"",LOOKUP(DF$3,$BO4:$CY4,$BO$3:$CY$3))) -> 7 | DG4: =IF(DG$3>$BF4,"",IF(OR(DF4=36,DF4=""),"",LOOKUP(DG$3,$BO4:$CY4,$BO$3:$CY$3))) -> 8 | DH4: =IF(DH$3>$BF4,"",IF(OR(DG4=36,DG4=""),"",LOOKUP(DH$3,$BO4:$CY4,$BO$3:$CY$3))) -> 9 | ... EJ4: =IF(EJ$3>$BF4,"",IF(OR(EI4=36,EI4=""),"",LOOKUP(EJ$3,$BO4:$CY4,$BO$3:$CY$3)))
C5: 2 | D5: =VALUE(RIGHT(C5,1)) -> 2 | E5: =Finals!D4 -> 2 | F5: =IF(E5="","",VALUE(RIGHT(E5,1))) -> 2 | G5: =IF(AND(D5<>8,D5<>9,D5<>0),"",LOOKUP(F5,K$3:T$3,K4:T4)) | H5: =IF(G5="","",IF(G5=0,1,-1)) | I5: =IF(H5=-1,-BF4,IF(H5=1,36-BF4,0)) -> 0 | J5: =I5+J4 -> 0 | K5: =IF(AND($D4=0,$F5=K$3),1,IF($D4=0,0,IF($F5=K$3,1,K4))) -> 0 | L5: =IF(AND($D4=0,$F5=L$3),1,IF($D4=0,0,IF($F5=L$3,1,L4))) -> 0 | M5: =IF(AND($D4=0,$F5=M$3),1,IF($D4=0,0,IF($F5=M$3,1,M4))) -> 1 | N5: =IF(AND($D4=0,$F5=N$3),1,IF($D4=0,0,IF($F5=N$3,1,N4))) -> 0 | O5: =IF(AND($D4=0,$F5=O$3),1,IF($D4=0,0,IF($F5=O$3,1,O4))) -> 0 | P5: =IF(AND($D4=0,$F5=P$3),1,IF($D4=0,0,IF($F5=P$3,1,P4))) -> 0 | Q5: =IF(AND($D4=0,$F5=Q$3),1,IF($D4=0,0,IF($F5=Q$3,1,Q4))) -> 1 | R5: =IF(AND($D4=0,$F5=R$3),1,IF($D4=0,0,IF($F5=R$3,1,R4))) -> 0 | ... T5: =IF(AND($D4=0,$F5=T$3),1,IF($D4=0,0,IF($F5=T$3,1,T4))) -> 0 | U5: =IF(AND($D4=0,$F5=U$2),0,IF($D4=0,1,IF($F5=U$2,0,U4))) -> 1 | V5: =IF(AND($D4=0,$F5=V$2),0,IF($D4=0,1,IF($F5=V$2,0,V4))) -> 1 | W5: =IF(AND($D4=0,$F5=W$2),0,IF($D4=0,1,IF($F5=W$2,0,W4))) -> 0 | X5: =IF(AND($D4=0,$F5=X$2),0,IF($D4=0,1,IF($F5=X$2,0,X4))) -> 1 | Y5: =IF(AND($D4=0,$F5=Y$2),0,IF($D4=0,1,IF($F5=Y$2,0,Y4))) -> 1 | Z5: =IF(AND($D4=0,$F5=Z$2),0,IF($D4=0,1,IF($F5=Z$2,0,Z4))) -> 1 | AA5: =IF(AND($D4=0,$F5=AA$2),0,IF($D4=0,1,IF($F5=AA$2,0,AA4))) -> 0 | AB5: =IF(AND($D4=0,$F5=AB$2),0,IF($D4=0,1,IF($F5=AB$2,0,AB4))) -> 1 | ... BE5: =IF(AND($D4=0,$F5=BE$2),0,IF($D4=0,1,IF($F5=BE$2,0,BE4))) -> 0 | BF5: =SUM(U5:BE5) -> 29 | BO5: 1 | BP5: =IF(U5=1,1+BO5,BO5) -> 2 | BQ5: =IF(V5=1,1+BP5,BP5) -> 3 | BR5: =IF(W5=1,1+BQ5,BQ5) -> 3 | BS5: =IF(X5=1,1+BR5,BR5) -> 4 | BT5: =IF(Y5=1,1+BS5,BS5) -> 5 | BU5: =IF(Z5=1,1+BT5,BT5) -> 6 | BV5: =IF(AA5=1,1+BU5,BU5) -> 6 | BW5: =IF(AB5=1,1+BV5,BV5) -> 7 | ... CY5: =IF(BD5=1,1+CX5,CX5) -> 30 | CZ5: =LOOKUP(CZ$3,$BO5:$CY5,$BO$3:$CY$3) -> 0 | DA5: =IF(DA$3>$BF5,"",IF(OR(CZ5=36,CZ5=""),"",LOOKUP(DA$3,$BO5:$CY5,$BO$3:$CY$3))) -> 1 | DB5: =IF(DB$3>$BF5,"",IF(OR(DA5=36,DA5=""),"",LOOKUP(DB$3,$BO5:$CY5,$BO$3:$CY$3))) -> 3 | DC5: =IF(DC$3>$BF5,"",IF(OR(DB5=36,DB5=""),"",LOOKUP(DC$3,$BO5:$CY5,$BO$3:$CY$3))) -> 4 | DD5: =IF(DD$3>$BF5,"",IF(OR(DC5=36,DC5=""),"",LOOKUP(DD$3,$BO5:$CY5,$BO$3:$CY$3))) -> 5 | DE5: =IF(DE$3>$BF5,"",IF(OR(DD5=36,DD5=""),"",LOOKUP(DE$3,$BO5:$CY5,$BO$3:$CY$3))) -> 7 | DF5: =IF(DF$3>$BF5,"",IF(OR(DE5=36,DE5=""),"",LOOKUP(DF$3,$BO5:$CY5,$BO$3:$CY$3))) -> 8 | DG5: =IF(DG$3>$BF5,"",IF(OR(DF5=36,DF5=""),"",LOOKUP(DG$3,$BO5:$CY5,$BO$3:$CY$3))) -> 9 | DH5: =IF(DH$3>$BF5,"",IF(OR(DG5=36,DG5=""),"",LOOKUP(DH$3,$BO5:$CY5,$BO$3:$CY$3))) -> 10 | ... EJ5: =IF(EJ$3>$BF5,"",IF(OR(EI5=36,EI5=""),"",LOOKUP(EJ$3,$BO5:$CY5,$BO$3:$CY$3)))
C6: 3 | D6: =VALUE(RIGHT(C6,1)) -> 3 | E6: =Finals!D5 -> 25 | F6: =IF(E6="","",VALUE(RIGHT(E6,1))) -> 5 | G6: =IF(AND(D6<>8,D6<>9,D6<>0),"",LOOKUP(F6,K$3:T$3,K5:T5)) | H6: =IF(G6="","",IF(G6=0,1,-1)) | I6: =IF(H6=-1,-BF5,IF(H6=1,36-BF5,0)) -> 0 | J6: =I6+J5 -> 0 | K6: =IF(AND($D5=0,$F6=K$3),1,IF($D5=0,0,IF($F6=K$3,1,K5))) -> 0 | L6: =IF(AND($D5=0,$F6=L$3),1,IF($D5=0,0,IF($F6=L$3,1,L5))) -> 0 | M6: =IF(AND($D5=0,$F6=M$3),1,IF($D5=0,0,IF($F6=M$3,1,M5))) -> 1 | N6: =IF(AND($D5=0,$F6=N$3),1,IF($D5=0,0,IF($F6=N$3,1,N5))) -> 0 | O6: =IF(AND($D5=0,$F6=O$3),1,IF($D5=0,0,IF($F6=O$3,1,O5))) -> 0 | P6: =IF(AND($D5=0,$F6=P$3),1,IF($D5=0,0,IF($F6=P$3,1,P5))) -> 1 | Q6: =IF(AND($D5=0,$F6=Q$3),1,IF($D5=0,0,IF($F6=Q$3,1,Q5))) -> 1 | R6: =IF(AND($D5=0,$F6=R$3),1,IF($D5=0,0,IF($F6=R$3,1,R5))) -> 0 | ... T6: =IF(AND($D5=0,$F6=T$3),1,IF($D5=0,0,IF($F6=T$3,1,T5))) -> 0 | U6: =IF(AND($D5=0,$F6=U$2),0,IF($D5=0,1,IF($F6=U$2,0,U5))) -> 1 | V6: =IF(AND($D5=0,$F6=V$2),0,IF($D5=0,1,IF($F6=V$2,0,V5))) -> 1 | W6: =IF(AND($D5=0,$F6=W$2),0,IF($D5=0,1,IF($F6=W$2,0,W5))) -> 0 | X6: =IF(AND($D5=0,$F6=X$2),0,IF($D5=0,1,IF($F6=X$2,0,X5))) -> 1 | Y6: =IF(AND($D5=0,$F6=Y$2),0,IF($D5=0,1,IF($F6=Y$2,0,Y5))) -> 1 | Z6: =IF(AND($D5=0,$F6=Z$2),0,IF($D5=0,1,IF($F6=Z$2,0,Z5))) -> 0 | AA6: =IF(AND($D5=0,$F6=AA$2),0,IF($D5=0,1,IF($F6=AA$2,0,AA5))) -> 0 | AB6: =IF(AND($D5=0,$F6=AB$2),0,IF($D5=0,1,IF($F6=AB$2,0,AB5))) -> 1 | ... BE6: =IF(AND($D5=0,$F6=BE$2),0,IF($D5=0,1,IF($F6=BE$2,0,BE5))) -> 0 | BF6: =SUM(U6:BE6) -> 25 | BO6: 1 | BP6: =IF(U6=1,1+BO6,BO6) -> 2 | BQ6: =IF(V6=1,1+BP6,BP6) -> 3 | BR6: =IF(W6=1,1+BQ6,BQ6) -> 3 | BS6: =IF(X6=1,1+BR6,BR6) -> 4 | BT6: =IF(Y6=1,1+BS6,BS6) -> 5 | BU6: =IF(Z6=1,1+BT6,BT6) -> 5 | BV6: =IF(AA6=1,1+BU6,BU6) -> 5 | BW6: =IF(AB6=1,1+BV6,BV6) -> 6 | ... CY6: =IF(BD6=1,1+CX6,CX6) -> 26 | CZ6: =LOOKUP(CZ$3,$BO6:$CY6,$BO$3:$CY$3) -> 0 | DA6: =IF(DA$3>$BF6,"",IF(OR(CZ6=36,CZ6=""),"",LOOKUP(DA$3,$BO6:$CY6,$BO$3:$CY$3))) -> 1 | DB6: =IF(DB$3>$BF6,"",IF(OR(DA6=36,DA6=""),"",LOOKUP(DB$3,$BO6:$CY6,$BO$3:$CY$3))) -> 3 | DC6: =IF(DC$3>$BF6,"",IF(OR(DB6=36,DB6=""),"",LOOKUP(DC$3,$BO6:$CY6,$BO$3:$CY$3))) -> 4 | DD6: =IF(DD$3>$BF6,"",IF(OR(DC6=36,DC6=""),"",LOOKUP(DD$3,$BO6:$CY6,$BO$3:$CY$3))) -> 7 | DE6: =IF(DE$3>$BF6,"",IF(OR(DD6=36,DD6=""),"",LOOKUP(DE$3,$BO6:$CY6,$BO$3:$CY$3))) -> 8 | DF6: =IF(DF$3>$BF6,"",IF(OR(DE6=36,DE6=""),"",LOOKUP(DF$3,$BO6:$CY6,$BO$3:$CY$3))) -> 9 | DG6: =IF(DG$3>$BF6,"",IF(OR(DF6=36,DF6=""),"",LOOKUP(DG$3,$BO6:$CY6,$BO$3:$CY$3))) -> 10 | DH6: =IF(DH$3>$BF6,"",IF(OR(DG6=36,DG6=""),"",LOOKUP(DH$3,$BO6:$CY6,$BO$3:$CY$3))) -> 11 | ... EJ6: =IF(EJ$3>$BF6,"",IF(OR(EI6=36,EI6=""),"",LOOKUP(EJ$3,$BO6:$CY6,$BO$3:$CY$3)))
C7: 4 | D7: =VALUE(RIGHT(C7,1)) -> 4 | E7: =Finals!D6 -> 28 | F7: =IF(E7="","",VALUE(RIGHT(E7,1))) -> 8 | G7: =IF(AND(D7<>8,D7<>9,D7<>0),"",LOOKUP(F7,K$3:T$3,K6:T6)) | H7: =IF(G7="","",IF(G7=0,1,-1)) | I7: =IF(H7=-1,-BF6,IF(H7=1,36-BF6,0)) -> 0 | J7: =I7+J6 -> 0 | K7: =IF(AND($D6=0,$F7=K$3),1,IF($D6=0,0,IF($F7=K$3,1,K6))) -> 0 | L7: =IF(AND($D6=0,$F7=L$3),1,IF($D6=0,0,IF($F7=L$3,1,L6))) -> 0 | M7: =IF(AND($D6=0,$F7=M$3),1,IF($D6=0,0,IF($F7=M$3,1,M6))) -> 1 | N7: =IF(AND($D6=0,$F7=N$3),1,IF($D6=0,0,IF($F7=N$3,1,N6))) -> 0 | O7: =IF(AND($D6=0,$F7=O$3),1,IF($D6=0,0,IF($F7=O$3,1,O6))) -> 0 | P7: =IF(AND($D6=0,$F7=P$3),1,IF($D6=0,0,IF($F7=P$3,1,P6))) -> 1 | Q7: =IF(AND($D6=0,$F7=Q$3),1,IF($D6=0,0,IF($F7=Q$3,1,Q6))) -> 1 | R7: =IF(AND($D6=0,$F7=R$3),1,IF($D6=0,0,IF($F7=R$3,1,R6))) -> 0 | ... T7: =IF(AND($D6=0,$F7=T$3),1,IF($D6=0,0,IF($F7=T$3,1,T6))) -> 0 | U7: =IF(AND($D6=0,$F7=U$2),0,IF($D6=0,1,IF($F7=U$2,0,U6))) -> 1 | V7: =IF(AND($D6=0,$F7=V$2),0,IF($D6=0,1,IF($F7=V$2,0,V6))) -> 1 | W7: =IF(AND($D6=0,$F7=W$2),0,IF($D6=0,1,IF($F7=W$2,0,W6))) -> 0 | X7: =IF(AND($D6=0,$F7=X$2),0,IF($D6=0,1,IF($F7=X$2,0,X6))) -> 1 | Y7: =IF(AND($D6=0,$F7=Y$2),0,IF($D6=0,1,IF($F7=Y$2,0,Y6))) -> 1 | Z7: =IF(AND($D6=0,$F7=Z$2),0,IF($D6=0,1,IF($F7=Z$2,0,Z6))) -> 0 | AA7: =IF(AND($D6=0,$F7=AA$2),0,IF($D6=0,1,IF($F7=AA$2,0,AA6))) -> 0 | AB7: =IF(AND($D6=0,$F7=AB$2),0,IF($D6=0,1,IF($F7=AB$2,0,AB6))) -> 1 | ... BE7: =IF(AND($D6=0,$F7=BE$2),0,IF($D6=0,1,IF($F7=BE$2,0,BE6))) -> 0 | BF7: =SUM(U7:BE7) -> 22 | BO7: 1 | BP7: =IF(U7=1,1+BO7,BO7) -> 2 | BQ7: =IF(V7=1,1+BP7,BP7) -> 3 | BR7: =IF(W7=1,1+BQ7,BQ7) -> 3 | BS7: =IF(X7=1,1+BR7,BR7) -> 4 | BT7: =IF(Y7=1,1+BS7,BS7) -> 5 | BU7: =IF(Z7=1,1+BT7,BT7) -> 5 | BV7: =IF(AA7=1,1+BU7,BU7) -> 5 | BW7: =IF(AB7=1,1+BV7,BV7) -> 6 | ... CY7: =IF(BD7=1,1+CX7,CX7) -> 23 | CZ7: =LOOKUP(CZ$3,$BO7:$CY7,$BO$3:$CY$3) -> 0 | DA7: =IF(DA$3>$BF7,"",IF(OR(CZ7=36,CZ7=""),"",LOOKUP(DA$3,$BO7:$CY7,$BO$3:$CY$3))) -> 1 | DB7: =IF(DB$3>$BF7,"",IF(OR(DA7=36,DA7=""),"",LOOKUP(DB$3,$BO7:$CY7,$BO$3:$CY$3))) -> 3 | DC7: =IF(DC$3>$BF7,"",IF(OR(DB7=36,DB7=""),"",LOOKUP(DC$3,$BO7:$CY7,$BO$3:$CY$3))) -> 4 | DD7: =IF(DD$3>$BF7,"",IF(OR(DC7=36,DC7=""),"",LOOKUP(DD$3,$BO7:$CY7,$BO$3:$CY$3))) -> 7 | DE7: =IF(DE$3>$BF7,"",IF(OR(DD7=36,DD7=""),"",LOOKUP(DE$3,$BO7:$CY7,$BO$3:$CY$3))) -> 9 | DF7: =IF(DF$3>$BF7,"",IF(OR(DE7=36,DE7=""),"",LOOKUP(DF$3,$BO7:$CY7,$BO$3:$CY$3))) -> 10 | DG7: =IF(DG$3>$BF7,"",IF(OR(DF7=36,DF7=""),"",LOOKUP(DG$3,$BO7:$CY7,$BO$3:$CY$3))) -> 11 | DH7: =IF(DH$3>$BF7,"",IF(OR(DG7=36,DG7=""),"",LOOKUP(DH$3,$BO7:$CY7,$BO$3:$CY$3))) -> 13 | ... EJ7: =IF(EJ$3>$BF7,"",IF(OR(EI7=36,EI7=""),"",LOOKUP(EJ$3,$BO7:$CY7,$BO$3:$CY$3)))
C8: 5 | D8: =VALUE(RIGHT(C8,1)) -> 5 | E8: =Finals!D7 -> 26 | F8: =IF(E8="","",VALUE(RIGHT(E8,1))) -> 6 | G8: =IF(AND(D8<>8,D8<>9,D8<>0),"",LOOKUP(F8,K$3:T$3,K7:T7)) | H8: =IF(G8="","",IF(G8=0,1,-1)) | I8: =IF(H8=-1,-BF7,IF(H8=1,36-BF7,0)) -> 0 | J8: =I8+J7 -> 0 | K8: =IF(AND($D7=0,$F8=K$3),1,IF($D7=0,0,IF($F8=K$3,1,K7))) -> 0 | L8: =IF(AND($D7=0,$F8=L$3),1,IF($D7=0,0,IF($F8=L$3,1,L7))) -> 0 | M8: =IF(AND($D7=0,$F8=M$3),1,IF($D7=0,0,IF($F8=M$3,1,M7))) -> 1 | N8: =IF(AND($D7=0,$F8=N$3),1,IF($D7=0,0,IF($F8=N$3,1,N7))) -> 0 | O8: =IF(AND($D7=0,$F8=O$3),1,IF($D7=0,0,IF($F8=O$3,1,O7))) -> 0 | P8: =IF(AND($D7=0,$F8=P$3),1,IF($D7=0,0,IF($F8=P$3,1,P7))) -> 1 | Q8: =IF(AND($D7=0,$F8=Q$3),1,IF($D7=0,0,IF($F8=Q$3,1,Q7))) -> 1 | R8: =IF(AND($D7=0,$F8=R$3),1,IF($D7=0,0,IF($F8=R$3,1,R7))) -> 0 | ... T8: =IF(AND($D7=0,$F8=T$3),1,IF($D7=0,0,IF($F8=T$3,1,T7))) -> 0 | U8: =IF(AND($D7=0,$F8=U$2),0,IF($D7=0,1,IF($F8=U$2,0,U7))) -> 1 | V8: =IF(AND($D7=0,$F8=V$2),0,IF($D7=0,1,IF($F8=V$2,0,V7))) -> 1 | W8: =IF(AND($D7=0,$F8=W$2),0,IF($D7=0,1,IF($F8=W$2,0,W7))) -> 0 | X8: =IF(AND($D7=0,$F8=X$2),0,IF($D7=0,1,IF($F8=X$2,0,X7))) -> 1 | Y8: =IF(AND($D7=0,$F8=Y$2),0,IF($D7=0,1,IF($F8=Y$2,0,Y7))) -> 1 | Z8: =IF(AND($D7=0,$F8=Z$2),0,IF($D7=0,1,IF($F8=Z$2,0,Z7))) -> 0 | AA8: =IF(AND($D7=0,$F8=AA$2),0,IF($D7=0,1,IF($F8=AA$2,0,AA7))) -> 0 | AB8: =IF(AND($D7=0,$F8=AB$2),0,IF($D7=0,1,IF($F8=AB$2,0,AB7))) -> 1 | ... BE8: =IF(AND($D7=0,$F8=BE$2),0,IF($D7=0,1,IF($F8=BE$2,0,BE7))) -> 0 | BF8: =SUM(U8:BE8) -> 22 | BO8: 1 | BP8: =IF(U8=1,1+BO8,BO8) -> 2 | BQ8: =IF(V8=1,1+BP8,BP8) -> 3 | BR8: =IF(W8=1,1+BQ8,BQ8) -> 3 | BS8: =IF(X8=1,1+BR8,BR8) -> 4 | BT8: =IF(Y8=1,1+BS8,BS8) -> 5 | BU8: =IF(Z8=1,1+BT8,BT8) -> 5 | BV8: =IF(AA8=1,1+BU8,BU8) -> 5 | BW8: =IF(AB8=1,1+BV8,BV8) -> 6 | ... CY8: =IF(BD8=1,1+CX8,CX8) -> 23 | CZ8: =LOOKUP(CZ$3,$BO8:$CY8,$BO$3:$CY$3) -> 0 | DA8: =IF(DA$3>$BF8,"",IF(OR(CZ8=36,CZ8=""),"",LOOKUP(DA$3,$BO8:$CY8,$BO$3:$CY$3))) -> 1 | DB8: =IF(DB$3>$BF8,"",IF(OR(DA8=36,DA8=""),"",LOOKUP(DB$3,$BO8:$CY8,$BO$3:$CY$3))) -> 3 | DC8: =IF(DC$3>$BF8,"",IF(OR(DB8=36,DB8=""),"",LOOKUP(DC$3,$BO8:$CY8,$BO$3:$CY$3))) -> 4 | DD8: =IF(DD$3>$BF8,"",IF(OR(DC8=36,DC8=""),"",LOOKUP(DD$3,$BO8:$CY8,$BO$3:$CY$3))) -> 7 | DE8: =IF(DE$3>$BF8,"",IF(OR(DD8=36,DD8=""),"",LOOKUP(DE$3,$BO8:$CY8,$BO$3:$CY$3))) -> 9 | DF8: =IF(DF$3>$BF8,"",IF(OR(DE8=36,DE8=""),"",LOOKUP(DF$3,$BO8:$CY8,$BO$3:$CY$3))) -> 10 | DG8: =IF(DG$3>$BF8,"",IF(OR(DF8=36,DF8=""),"",LOOKUP(DG$3,$BO8:$CY8,$BO$3:$CY$3))) -> 11 | DH8: =IF(DH$3>$BF8,"",IF(OR(DG8=36,DG8=""),"",LOOKUP(DH$3,$BO8:$CY8,$BO$3:$CY$3))) -> 13 | ... EJ8: =IF(EJ$3>$BF8,"",IF(OR(EI8=36,EI8=""),"",LOOKUP(EJ$3,$BO8:$CY8,$BO$3:$CY$3)))
C9: 6 | D9: =VALUE(RIGHT(C9,1)) -> 6 | E9: =Finals!D8 -> 12 | F9: =IF(E9="","",VALUE(RIGHT(E9,1))) -> 2 | G9: =IF(AND(D9<>8,D9<>9,D9<>0),"",LOOKUP(F9,K$3:T$3,K8:T8)) | H9: =IF(G9="","",IF(G9=0,1,-1)) | I9: =IF(H9=-1,-BF8,IF(H9=1,36-BF8,0)) -> 0 | J9: =I9+J8 -> 0 | K9: =IF(AND($D8=0,$F9=K$3),1,IF($D8=0,0,IF($F9=K$3,1,K8))) -> 0 | L9: =IF(AND($D8=0,$F9=L$3),1,IF($D8=0,0,IF($F9=L$3,1,L8))) -> 0 | M9: =IF(AND($D8=0,$F9=M$3),1,IF($D8=0,0,IF($F9=M$3,1,M8))) -> 1 | N9: =IF(AND($D8=0,$F9=N$3),1,IF($D8=0,0,IF($F9=N$3,1,N8))) -> 0 | O9: =IF(AND($D8=0,$F9=O$3),1,IF($D8=0,0,IF($F9=O$3,1,O8))) -> 0 | P9: =IF(AND($D8=0,$F9=P$3),1,IF($D8=0,0,IF($F9=P$3,1,P8))) -> 1 | Q9: =IF(AND($D8=0,$F9=Q$3),1,IF($D8=0,0,IF($F9=Q$3,1,Q8))) -> 1 | R9: =IF(AND($D8=0,$F9=R$3),1,IF($D8=0,0,IF($F9=R$3,1,R8))) -> 0 | ... T9: =IF(AND($D8=0,$F9=T$3),1,IF($D8=0,0,IF($F9=T$3,1,T8))) -> 0 | U9: =IF(AND($D8=0,$F9=U$2),0,IF($D8=0,1,IF($F9=U$2,0,U8))) -> 1 | V9: =IF(AND($D8=0,$F9=V$2),0,IF($D8=0,1,IF($F9=V$2,0,V8))) -> 1 | W9: =IF(AND($D8=0,$F9=W$2),0,IF($D8=0,1,IF($F9=W$2,0,W8))) -> 0 | X9: =IF(AND($D8=0,$F9=X$2),0,IF($D8=0,1,IF($F9=X$2,0,X8))) -> 1 | Y9: =IF(AND($D8=0,$F9=Y$2),0,IF($D8=0,1,IF($F9=Y$2,0,Y8))) -> 1 | Z9: =IF(AND($D8=0,$F9=Z$2),0,IF($D8=0,1,IF($F9=Z$2,0,Z8))) -> 0 | AA9: =IF(AND($D8=0,$F9=AA$2),0,IF($D8=0,1,IF($F9=AA$2,0,AA8))) -> 0 | AB9: =IF(AND($D8=0,$F9=AB$2),0,IF($D8=0,1,IF($F9=AB$2,0,AB8))) -> 1 | ... BE9: =IF(AND($D8=0,$F9=BE$2),0,IF($D8=0,1,IF($F9=BE$2,0,BE8))) -> 0 | BF9: =SUM(U9:BE9) -> 22 | BO9: 1 | BP9: =IF(U9=1,1+BO9,BO9) -> 2 | BQ9: =IF(V9=1,1+BP9,BP9) -> 3 | BR9: =IF(W9=1,1+BQ9,BQ9) -> 3 | BS9: =IF(X9=1,1+BR9,BR9) -> 4 | BT9: =IF(Y9=1,1+BS9,BS9) -> 5 | BU9: =IF(Z9=1,1+BT9,BT9) -> 5 | BV9: =IF(AA9=1,1+BU9,BU9) -> 5 | BW9: =IF(AB9=1,1+BV9,BV9) -> 6 | ... CY9: =IF(BD9=1,1+CX9,CX9) -> 23 | CZ9: =LOOKUP(CZ$3,$BO9:$CY9,$BO$3:$CY$3) -> 0 | DA9: =IF(DA$3>$BF9,"",IF(OR(CZ9=36,CZ9=""),"",LOOKUP(DA$3,$BO9:$CY9,$BO$3:$CY$3))) -> 1 | DB9: =IF(DB$3>$BF9,"",IF(OR(DA9=36,DA9=""),"",LOOKUP(DB$3,$BO9:$CY9,$BO$3:$CY$3))) -> 3 | DC9: =IF(DC$3>$BF9,"",IF(OR(DB9=36,DB9=""),"",LOOKUP(DC$3,$BO9:$CY9,$BO$3:$CY$3))) -> 4 | DD9: =IF(DD$3>$BF9,"",IF(OR(DC9=36,DC9=""),"",LOOKUP(DD$3,$BO9:$CY9,$BO$3:$CY$3))) -> 7 | DE9: =IF(DE$3>$BF9,"",IF(OR(DD9=36,DD9=""),"",LOOKUP(DE$3,$BO9:$CY9,$BO$3:$CY$3))) -> 9 | DF9: =IF(DF$3>$BF9,"",IF(OR(DE9=36,DE9=""),"",LOOKUP(DF$3,$BO9:$CY9,$BO$3:$CY$3))) -> 10 | DG9: =IF(DG$3>$BF9,"",IF(OR(DF9=36,DF9=""),"",LOOKUP(DG$3,$BO9:$CY9,$BO$3:$CY$3))) -> 11 | DH9: =IF(DH$3>$BF9,"",IF(OR(DG9=36,DG9=""),"",LOOKUP(DH$3,$BO9:$CY9,$BO$3:$CY$3))) -> 13 | ... EJ9: =IF(EJ$3>$BF9,"",IF(OR(EI9=36,EI9=""),"",LOOKUP(EJ$3,$BO9:$CY9,$BO$3:$CY$3)))
C10: 7 | D10: =VALUE(RIGHT(C10,1)) -> 7 | E10: =Finals!D9 -> 11 | F10: =IF(E10="","",VALUE(RIGHT(E10,1))) -> 1 | G10: =IF(AND(D10<>8,D10<>9,D10<>0),"",LOOKUP(F10,K$3:T$3,K9:T9)) | H10: =IF(G10="","",IF(G10=0,1,-1)) | I10: =IF(H10=-1,-BF9,IF(H10=1,36-BF9,0)) -> 0 | J10: =I10+J9 -> 0 | K10: =IF(AND($D9=0,$F10=K$3),1,IF($D9=0,0,IF($F10=K$3,1,K9))) -> 0 | L10: =IF(AND($D9=0,$F10=L$3),1,IF($D9=0,0,IF($F10=L$3,1,L9))) -> 1 | M10: =IF(AND($D9=0,$F10=M$3),1,IF($D9=0,0,IF($F10=M$3,1,M9))) -> 1 | N10: =IF(AND($D9=0,$F10=N$3),1,IF($D9=0,0,IF($F10=N$3,1,N9))) -> 0 | O10: =IF(AND($D9=0,$F10=O$3),1,IF($D9=0,0,IF($F10=O$3,1,O9))) -> 0 | P10: =IF(AND($D9=0,$F10=P$3),1,IF($D9=0,0,IF($F10=P$3,1,P9))) -> 1 | Q10: =IF(AND($D9=0,$F10=Q$3),1,IF($D9=0,0,IF($F10=Q$3,1,Q9))) -> 1 | R10: =IF(AND($D9=0,$F10=R$3),1,IF($D9=0,0,IF($F10=R$3,1,R9))) -> 0 | ... T10: =IF(AND($D9=0,$F10=T$3),1,IF($D9=0,0,IF($F10=T$3,1,T9))) -> 0 | U10: =IF(AND($D9=0,$F10=U$2),0,IF($D9=0,1,IF($F10=U$2,0,U9))) -> 1 | V10: =IF(AND($D9=0,$F10=V$2),0,IF($D9=0,1,IF($F10=V$2,0,V9))) -> 0 | W10: =IF(AND($D9=0,$F10=W$2),0,IF($D9=0,1,IF($F10=W$2,0,W9))) -> 0 | X10: =IF(AND($D9=0,$F10=X$2),0,IF($D9=0,1,IF($F10=X$2,0,X9))) -> 1 | Y10: =IF(AND($D9=0,$F10=Y$2),0,IF($D9=0,1,IF($F10=Y$2,0,Y9))) -> 1 | Z10: =IF(AND($D9=0,$F10=Z$2),0,IF($D9=0,1,IF($F10=Z$2,0,Z9))) -> 0 | AA10: =IF(AND($D9=0,$F10=AA$2),0,IF($D9=0,1,IF($F10=AA$2,0,AA9))) -> 0 | AB10: =IF(AND($D9=0,$F10=AB$2),0,IF($D9=0,1,IF($F10=AB$2,0,AB9))) -> 1 | ... BE10: =IF(AND($D9=0,$F10=BE$2),0,IF($D9=0,1,IF($F10=BE$2,0,BE9))) -> 0 | BF10: =SUM(U10:BE10) -> 18 | BO10: 1 | BP10: =IF(U10=1,1+BO10,BO10) -> 2 | BQ10: =IF(V10=1,1+BP10,BP10) -> 2 | BR10: =IF(W10=1,1+BQ10,BQ10) -> 2 | BS10: =IF(X10=1,1+BR10,BR10) -> 3 | BT10: =IF(Y10=1,1+BS10,BS10) -> 4 | BU10: =IF(Z10=1,1+BT10,BT10) -> 4 | BV10: =IF(AA10=1,1+BU10,BU10) -> 4 | BW10: =IF(AB10=1,1+BV10,BV10) -> 5 | ... CY10: =IF(BD10=1,1+CX10,CX10) -> 19 | CZ10: =LOOKUP(CZ$3,$BO10:$CY10,$BO$3:$CY$3) -> 0 | DA10: =IF(DA$3>$BF10,"",IF(OR(CZ10=36,CZ10=""),"",LOOKUP(DA$3,$BO10:$CY10,$BO$3:$CY$3))) -> 3 | DB10: =IF(DB$3>$BF10,"",IF(OR(DA10=36,DA10=""),"",LOOKUP(DB$3,$BO10:$CY10,$BO$3:$CY$3))) -> 4 | DC10: =IF(DC$3>$BF10,"",IF(OR(DB10=36,DB10=""),"",LOOKUP(DC$3,$BO10:$CY10,$BO$3:$CY$3))) -> 7 | DD10: =IF(DD$3>$BF10,"",IF(OR(DC10=36,DC10=""),"",LOOKUP(DD$3,$BO10:$CY10,$BO$3:$CY$3))) -> 9 | DE10: =IF(DE$3>$BF10,"",IF(OR(DD10=36,DD10=""),"",LOOKUP(DE$3,$BO10:$CY10,$BO$3:$CY$3))) -> 10 | DF10: =IF(DF$3>$BF10,"",IF(OR(DE10=36,DE10=""),"",LOOKUP(DF$3,$BO10:$CY10,$BO$3:$CY$3))) -> 13 | DG10: =IF(DG$3>$BF10,"",IF(OR(DF10=36,DF10=""),"",LOOKUP(DG$3,$BO10:$CY10,$BO$3:$CY$3))) -> 14 | DH10: =IF(DH$3>$BF10,"",IF(OR(DG10=36,DG10=""),"",LOOKUP(DH$3,$BO10:$CY10,$BO$3:$CY$3))) -> 17 | ... EJ10: =IF(EJ$3>$BF10,"",IF(OR(EI10=36,EI10=""),"",LOOKUP(EJ$3,$BO10:$CY10,$BO$3:$CY$3)))
C11: 8 | D11: =VALUE(RIGHT(C11,1)) -> 8 | E11: =Finals!D10 -> 34 | F11: =IF(E11="","",VALUE(RIGHT(E11,1))) -> 4 | G11: =IF(AND(D11<>8,D11<>9,D11<>0),"",LOOKUP(F11,K$3:T$3,K10:T10)) -> 0 | H11: =IF(G11="","",IF(G11=0,1,-1)) -> 1 | I11: =IF(H11=-1,-BF10,IF(H11=1,36-BF10,0)) -> 18 | J11: =I11+J10 -> 18 | K11: =IF(AND($D10=0,$F11=K$3),1,IF($D10=0,0,IF($F11=K$3,1,K10))) -> 0 | L11: =IF(AND($D10=0,$F11=L$3),1,IF($D10=0,0,IF($F11=L$3,1,L10))) -> 1 | M11: =IF(AND($D10=0,$F11=M$3),1,IF($D10=0,0,IF($F11=M$3,1,M10))) -> 1 | N11: =IF(AND($D10=0,$F11=N$3),1,IF($D10=0,0,IF($F11=N$3,1,N10))) -> 0 | O11: =IF(AND($D10=0,$F11=O$3),1,IF($D10=0,0,IF($F11=O$3,1,O10))) -> 1 | P11: =IF(AND($D10=0,$F11=P$3),1,IF($D10=0,0,IF($F11=P$3,1,P10))) -> 1 | Q11: =IF(AND($D10=0,$F11=Q$3),1,IF($D10=0,0,IF($F11=Q$3,1,Q10))) -> 1 | R11: =IF(AND($D10=0,$F11=R$3),1,IF($D10=0,0,IF($F11=R$3,1,R10))) -> 0 | ... T11: =IF(AND($D10=0,$F11=T$3),1,IF($D10=0,0,IF($F11=T$3,1,T10))) -> 0 | U11: =IF(AND($D10=0,$F11=U$2),0,IF($D10=0,1,IF($F11=U$2,0,U10))) -> 1 | V11: =IF(AND($D10=0,$F11=V$2),0,IF($D10=0,1,IF($F11=V$2,0,V10))) -> 0 | W11: =IF(AND($D10=0,$F11=W$2),0,IF($D10=0,1,IF($F11=W$2,0,W10))) -> 0 | X11: =IF(AND($D10=0,$F11=X$2),0,IF($D10=0,1,IF($F11=X$2,0,X10))) -> 1 | Y11: =IF(AND($D10=0,$F11=Y$2),0,IF($D10=0,1,IF($F11=Y$2,0,Y10))) -> 0 | Z11: =IF(AND($D10=0,$F11=Z$2),0,IF($D10=0,1,IF($F11=Z$2,0,Z10))) -> 0 | AA11: =IF(AND($D10=0,$F11=AA$2),0,IF($D10=0,1,IF($F11=AA$2,0,AA10))) -> 0 | AB11: =IF(AND($D10=0,$F11=AB$2),0,IF($D10=0,1,IF($F11=AB$2,0,AB10))) -> 1 | ... BE11: =IF(AND($D10=0,$F11=BE$2),0,IF($D10=0,1,IF($F11=BE$2,0,BE10))) -> 0 | BF11: =SUM(U11:BE11) -> 14 | BO11: 1 | BP11: =IF(U11=1,1+BO11,BO11) -> 2 | BQ11: =IF(V11=1,1+BP11,BP11) -> 2 | BR11: =IF(W11=1,1+BQ11,BQ11) -> 2 | BS11: =IF(X11=1,1+BR11,BR11) -> 3 | BT11: =IF(Y11=1,1+BS11,BS11) -> 3 | BU11: =IF(Z11=1,1+BT11,BT11) -> 3 | BV11: =IF(AA11=1,1+BU11,BU11) -> 3 | BW11: =IF(AB11=1,1+BV11,BV11) -> 4 | ... CY11: =IF(BD11=1,1+CX11,CX11) -> 15 | CZ11: =LOOKUP(CZ$3,$BO11:$CY11,$BO$3:$CY$3) -> 0 | DA11: =IF(DA$3>$BF11,"",IF(OR(CZ11=36,CZ11=""),"",LOOKUP(DA$3,$BO11:$CY11,$BO$3:$CY$3))) -> 3 | DB11: =IF(DB$3>$BF11,"",IF(OR(DA11=36,DA11=""),"",LOOKUP(DB$3,$BO11:$CY11,$BO$3:$CY$3))) -> 7 | DC11: =IF(DC$3>$BF11,"",IF(OR(DB11=36,DB11=""),"",LOOKUP(DC$3,$BO11:$CY11,$BO$3:$CY$3))) -> 9 | DD11: =IF(DD$3>$BF11,"",IF(OR(DC11=36,DC11=""),"",LOOKUP(DD$3,$BO11:$CY11,$BO$3:$CY$3))) -> 10 | DE11: =IF(DE$3>$BF11,"",IF(OR(DD11=36,DD11=""),"",LOOKUP(DE$3,$BO11:$CY11,$BO$3:$CY$3))) -> 13 | DF11: =IF(DF$3>$BF11,"",IF(OR(DE11=36,DE11=""),"",LOOKUP(DF$3,$BO11:$CY11,$BO$3:$CY$3))) -> 17 | DG11: =IF(DG$3>$BF11,"",IF(OR(DF11=36,DF11=""),"",LOOKUP(DG$3,$BO11:$CY11,$BO$3:$CY$3))) -> 19 | DH11: =IF(DH$3>$BF11,"",IF(OR(DG11=36,DG11=""),"",LOOKUP(DH$3,$BO11:$CY11,$BO$3:$CY$3))) -> 20 | ... EJ11: =IF(EJ$3>$BF11,"",IF(OR(EI11=36,EI11=""),"",LOOKUP(EJ$3,$BO11:$CY11,$BO$3:$CY$3)))
C12: 9 | D12: =VALUE(RIGHT(C12,1)) -> 9 | E12: =Finals!D11 -> 16 | F12: =IF(E12="","",VALUE(RIGHT(E12,1))) -> 6 | G12: =IF(AND(D12<>8,D12<>9,D12<>0),"",LOOKUP(F12,K$3:T$3,K11:T11)) -> 1 | H12: =IF(G12="","",IF(G12=0,1,-1)) -> -1 | I12: =IF(H12=-1,-BF11,IF(H12=1,36-BF11,0)) -> -14 | J12: =I12+J11 -> 4 | K12: =IF(AND($D11=0,$F12=K$3),1,IF($D11=0,0,IF($F12=K$3,1,K11))) -> 0 | L12: =IF(AND($D11=0,$F12=L$3),1,IF($D11=0,0,IF($F12=L$3,1,L11))) -> 1 | M12: =IF(AND($D11=0,$F12=M$3),1,IF($D11=0,0,IF($F12=M$3,1,M11))) -> 1 | N12: =IF(AND($D11=0,$F12=N$3),1,IF($D11=0,0,IF($F12=N$3,1,N11))) -> 0 | O12: =IF(AND($D11=0,$F12=O$3),1,IF($D11=0,0,IF($F12=O$3,1,O11))) -> 1 | P12: =IF(AND($D11=0,$F12=P$3),1,IF($D11=0,0,IF($F12=P$3,1,P11))) -> 1 | Q12: =IF(AND($D11=0,$F12=Q$3),1,IF($D11=0,0,IF($F12=Q$3,1,Q11))) -> 1 | R12: =IF(AND($D11=0,$F12=R$3),1,IF($D11=0,0,IF($F12=R$3,1,R11))) -> 0 | ... T12: =IF(AND($D11=0,$F12=T$3),1,IF($D11=0,0,IF($F12=T$3,1,T11))) -> 0 | U12: =IF(AND($D11=0,$F12=U$2),0,IF($D11=0,1,IF($F12=U$2,0,U11))) -> 1 | V12: =IF(AND($D11=0,$F12=V$2),0,IF($D11=0,1,IF($F12=V$2,0,V11))) -> 0 | W12: =IF(AND($D11=0,$F12=W$2),0,IF($D11=0,1,IF($F12=W$2,0,W11))) -> 0 | X12: =IF(AND($D11=0,$F12=X$2),0,IF($D11=0,1,IF($F12=X$2,0,X11))) -> 1 | Y12: =IF(AND($D11=0,$F12=Y$2),0,IF($D11=0,1,IF($F12=Y$2,0,Y11))) -> 0 | Z12: =IF(AND($D11=0,$F12=Z$2),0,IF($D11=0,1,IF($F12=Z$2,0,Z11))) -> 0 | AA12: =IF(AND($D11=0,$F12=AA$2),0,IF($D11=0,1,IF($F12=AA$2,0,AA11))) -> 0 | AB12: =IF(AND($D11=0,$F12=AB$2),0,IF($D11=0,1,IF($F12=AB$2,0,AB11))) -> 1 | ... BE12: =IF(AND($D11=0,$F12=BE$2),0,IF($D11=0,1,IF($F12=BE$2,0,BE11))) -> 0 | BF12: =SUM(U12:BE12) -> 14 | BO12: 1 | BP12: =IF(U12=1,1+BO12,BO12) -> 2 | BQ12: =IF(V12=1,1+BP12,BP12) -> 2 | BR12: =IF(W12=1,1+BQ12,BQ12) -> 2 | BS12: =IF(X12=1,1+BR12,BR12) -> 3 | BT12: =IF(Y12=1,1+BS12,BS12) -> 3 | BU12: =IF(Z12=1,1+BT12,BT12) -> 3 | BV12: =IF(AA12=1,1+BU12,BU12) -> 3 | BW12: =IF(AB12=1,1+BV12,BV12) -> 4 | ... CY12: =IF(BD12=1,1+CX12,CX12) -> 15 | CZ12: =LOOKUP(CZ$3,$BO12:$CY12,$BO$3:$CY$3) -> 0 | DA12: =IF(DA$3>$BF12,"",IF(OR(CZ12=36,CZ12=""),"",LOOKUP(DA$3,$BO12:$CY12,$BO$3:$CY$3))) -> 3 | DB12: =IF(DB$3>$BF12,"",IF(OR(DA12=36,DA12=""),"",LOOKUP(DB$3,$BO12:$CY12,$BO$3:$CY$3))) -> 7 | DC12: =IF(DC$3>$BF12,"",IF(OR(DB12=36,DB12=""),"",LOOKUP(DC$3,$BO12:$CY12,$BO$3:$CY$3))) -> 9 | DD12: =IF(DD$3>$BF12,"",IF(OR(DC12=36,DC12=""),"",LOOKUP(DD$3,$BO12:$CY12,$BO$3:$CY$3))) -> 10 | DE12: =IF(DE$3>$BF12,"",IF(OR(DD12=36,DD12=""),"",LOOKUP(DE$3,$BO12:$CY12,$BO$3:$CY$3))) -> 13 | DF12: =IF(DF$3>$BF12,"",IF(OR(DE12=36,DE12=""),"",LOOKUP(DF$3,$BO12:$CY12,$BO$3:$CY$3))) -> 17 | DG12: =IF(DG$3>$BF12,"",IF(OR(DF12=36,DF12=""),"",LOOKUP(DG$3,$BO12:$CY12,$BO$3:$CY$3))) -> 19 | DH12: =IF(DH$3>$BF12,"",IF(OR(DG12=36,DG12=""),"",LOOKUP(DH$3,$BO12:$CY12,$BO$3:$CY$3))) -> 20 | ... EJ12: =IF(EJ$3>$BF12,"",IF(OR(EI12=36,EI12=""),"",LOOKUP(EJ$3,$BO12:$CY12,$BO$3:$CY$3)))
C13: 10 | D13: =VALUE(RIGHT(C13,1)) -> 0 | E13: =Finals!D12 -> 0 | F13: =IF(E13="","",VALUE(RIGHT(E13,1))) -> 0 | G13: =IF(AND(D13<>8,D13<>9,D13<>0),"",LOOKUP(F13,K$3:T$3,K12:T12)) -> 0 | H13: =IF(G13="","",IF(G13=0,1,-1)) -> 1 | I13: =IF(H13=-1,-BF12,IF(H13=1,36-BF12,0)) -> 22 | J13: =I13+J12 -> 26 | K13: =IF(AND($D12=0,$F13=K$3),1,IF($D12=0,0,IF($F13=K$3,1,K12))) -> 1 | L13: =IF(AND($D12=0,$F13=L$3),1,IF($D12=0,0,IF($F13=L$3,1,L12))) -> 1 | M13: =IF(AND($D12=0,$F13=M$3),1,IF($D12=0,0,IF($F13=M$3,1,M12))) -> 1 | N13: =IF(AND($D12=0,$F13=N$3),1,IF($D12=0,0,IF($F13=N$3,1,N12))) -> 0 | O13: =IF(AND($D12=0,$F13=O$3),1,IF($D12=0,0,IF($F13=O$3,1,O12))) -> 1 | P13: =IF(AND($D12=0,$F13=P$3),1,IF($D12=0,0,IF($F13=P$3,1,P12))) -> 1 | Q13: =IF(AND($D12=0,$F13=Q$3),1,IF($D12=0,0,IF($F13=Q$3,1,Q12))) -> 1 | R13: =IF(AND($D12=0,$F13=R$3),1,IF($D12=0,0,IF($F13=R$3,1,R12))) -> 0 | ... T13: =IF(AND($D12=0,$F13=T$3),1,IF($D12=0,0,IF($F13=T$3,1,T12))) -> 0 | U13: =IF(AND($D12=0,$F13=U$2),0,IF($D12=0,1,IF($F13=U$2,0,U12))) -> 0 | V13: =IF(AND($D12=0,$F13=V$2),0,IF($D12=0,1,IF($F13=V$2,0,V12))) -> 0 | W13: =IF(AND($D12=0,$F13=W$2),0,IF($D12=0,1,IF($F13=W$2,0,W12))) -> 0 | X13: =IF(AND($D12=0,$F13=X$2),0,IF($D12=0,1,IF($F13=X$2,0,X12))) -> 1 | Y13: =IF(AND($D12=0,$F13=Y$2),0,IF($D12=0,1,IF($F13=Y$2,0,Y12))) -> 0 | Z13: =IF(AND($D12=0,$F13=Z$2),0,IF($D12=0,1,IF($F13=Z$2,0,Z12))) -> 0 | AA13: =IF(AND($D12=0,$F13=AA$2),0,IF($D12=0,1,IF($F13=AA$2,0,AA12))) -> 0 | AB13: =IF(AND($D12=0,$F13=AB$2),0,IF($D12=0,1,IF($F13=AB$2,0,AB12))) -> 1 | ... BE13: =IF(AND($D12=0,$F13=BE$2),0,IF($D12=0,1,IF($F13=BE$2,0,BE12))) -> 0 | BF13: =SUM(U13:BE13) -> 10 | BO13: 1 | BP13: =IF(U13=1,1+BO13,BO13) -> 1 | BQ13: =IF(V13=1,1+BP13,BP13) -> 1 | BR13: =IF(W13=1,1+BQ13,BQ13) -> 1 | BS13: =IF(X13=1,1+BR13,BR13) -> 2 | BT13: =IF(Y13=1,1+BS13,BS13) -> 2 | BU13: =IF(Z13=1,1+BT13,BT13) -> 2 | BV13: =IF(AA13=1,1+BU13,BU13) -> 2 | BW13: =IF(AB13=1,1+BV13,BV13) -> 3 | ... CY13: =IF(BD13=1,1+CX13,CX13) -> 11 | CZ13: =LOOKUP(CZ$3,$BO13:$CY13,$BO$3:$CY$3) -> 3 | DA13: =IF(DA$3>$BF13,"",IF(OR(CZ13=36,CZ13=""),"",LOOKUP(DA$3,$BO13:$CY13,$BO$3:$CY$3))) -> 7 | DB13: =IF(DB$3>$BF13,"",IF(OR(DA13=36,DA13=""),"",LOOKUP(DB$3,$BO13:$CY13,$BO$3:$CY$3))) -> 9 | DC13: =IF(DC$3>$BF13,"",IF(OR(DB13=36,DB13=""),"",LOOKUP(DC$3,$BO13:$CY13,$BO$3:$CY$3))) -> 13 | DD13: =IF(DD$3>$BF13,"",IF(OR(DC13=36,DC13=""),"",LOOKUP(DD$3,$BO13:$CY13,$BO$3:$CY$3))) -> 17 | DE13: =IF(DE$3>$BF13,"",IF(OR(DD13=36,DD13=""),"",LOOKUP(DE$3,$BO13:$CY13,$BO$3:$CY$3))) -> 19 | DF13: =IF(DF$3>$BF13,"",IF(OR(DE13=36,DE13=""),"",LOOKUP(DF$3,$BO13:$CY13,$BO$3:$CY$3))) -> 23 | DG13: =IF(DG$3>$BF13,"",IF(OR(DF13=36,DF13=""),"",LOOKUP(DG$3,$BO13:$CY13,$BO$3:$CY$3))) -> 27 | DH13: =IF(DH$3>$BF13,"",IF(OR(DG13=36,DG13=""),"",LOOKUP(DH$3,$BO13:$CY13,$BO$3:$CY$3))) -> 29 | ... EJ13: =IF(EJ$3>$BF13,"",IF(OR(EI13=36,EI13=""),"",LOOKUP(EJ$3,$BO13:$CY13,$BO$3:$CY$3)))
C14: 11 | D14: =VALUE(RIGHT(C14,1)) -> 1 | E14: =Finals!D13 -> 0 | F14: =IF(E14="","",VALUE(RIGHT(E14,1))) -> 0 | G14: =IF(AND(D14<>8,D14<>9,D14<>0),"",LOOKUP(F14,K$3:T$3,K13:T13)) | H14: =IF(G14="","",IF(G14=0,1,-1)) | I14: =IF(H14=-1,-BF13,IF(H14=1,36-BF13,0)) -> 0 | J14: =I14+J13 -> 26 | K14: =IF(AND($D13=0,$F14=K$3),1,IF($D13=0,0,IF($F14=K$3,1,K13))) -> 1 | L14: =IF(AND($D13=0,$F14=L$3),1,IF($D13=0,0,IF($F14=L$3,1,L13))) -> 0 | M14: =IF(AND($D13=0,$F14=M$3),1,IF($D13=0,0,IF($F14=M$3,1,M13))) -> 0 | N14: =IF(AND($D13=0,$F14=N$3),1,IF($D13=0,0,IF($F14=N$3,1,N13))) -> 0 | O14: =IF(AND($D13=0,$F14=O$3),1,IF($D13=0,0,IF($F14=O$3,1,O13))) -> 0 | P14: =IF(AND($D13=0,$F14=P$3),1,IF($D13=0,0,IF($F14=P$3,1,P13))) -> 0 | Q14: =IF(AND($D13=0,$F14=Q$3),1,IF($D13=0,0,IF($F14=Q$3,1,Q13))) -> 0 | R14: =IF(AND($D13=0,$F14=R$3),1,IF($D13=0,0,IF($F14=R$3,1,R13))) -> 0 | ... T14: =IF(AND($D13=0,$F14=T$3),1,IF($D13=0,0,IF($F14=T$3,1,T13))) -> 0 | U14: =IF(AND($D13=0,$F14=U$2),0,IF($D13=0,1,IF($F14=U$2,0,U13))) -> 0 | V14: =IF(AND($D13=0,$F14=V$2),0,IF($D13=0,1,IF($F14=V$2,0,V13))) -> 1 | W14: =IF(AND($D13=0,$F14=W$2),0,IF($D13=0,1,IF($F14=W$2,0,W13))) -> 1 | X14: =IF(AND($D13=0,$F14=X$2),0,IF($D13=0,1,IF($F14=X$2,0,X13))) -> 1 | Y14: =IF(AND($D13=0,$F14=Y$2),0,IF($D13=0,1,IF($F14=Y$2,0,Y13))) -> 1 | Z14: =IF(AND($D13=0,$F14=Z$2),0,IF($D13=0,1,IF($F14=Z$2,0,Z13))) -> 1 | AA14: =IF(AND($D13=0,$F14=AA$2),0,IF($D13=0,1,IF($F14=AA$2,0,AA13))) -> 1 | AB14: =IF(AND($D13=0,$F14=AB$2),0,IF($D13=0,1,IF($F14=AB$2,0,AB13))) -> 1 | ... BE14: =IF(AND($D13=0,$F14=BE$2),0,IF($D13=0,1,IF($F14=BE$2,0,BE13))) -> 1 | BF14: =SUM(U14:BE14) -> 33 | BO14: 1 | BP14: =IF(U14=1,1+BO14,BO14) -> 1 | BQ14: =IF(V14=1,1+BP14,BP14) -> 2 | BR14: =IF(W14=1,1+BQ14,BQ14) -> 3 | BS14: =IF(X14=1,1+BR14,BR14) -> 4 | BT14: =IF(Y14=1,1+BS14,BS14) -> 5 | BU14: =IF(Z14=1,1+BT14,BT14) -> 6 | BV14: =IF(AA14=1,1+BU14,BU14) -> 7 | BW14: =IF(AB14=1,1+BV14,BV14) -> 8 | ... CY14: =IF(BD14=1,1+CX14,CX14) -> 33 | CZ14: =LOOKUP(CZ$3,$BO14:$CY14,$BO$3:$CY$3) -> 1 | DA14: =IF(DA$3>$BF14,"",IF(OR(CZ14=36,CZ14=""),"",LOOKUP(DA$3,$BO14:$CY14,$BO$3:$CY$3))) -> 2 | DB14: =IF(DB$3>$BF14,"",IF(OR(DA14=36,DA14=""),"",LOOKUP(DB$3,$BO14:$CY14,$BO$3:$CY$3))) -> 3 | DC14: =IF(DC$3>$BF14,"",IF(OR(DB14=36,DB14=""),"",LOOKUP(DC$3,$BO14:$CY14,$BO$3:$CY$3))) -> 4 | DD14: =IF(DD$3>$BF14,"",IF(OR(DC14=36,DC14=""),"",LOOKUP(DD$3,$BO14:$CY14,$BO$3:$CY$3))) -> 5 | DE14: =IF(DE$3>$BF14,"",IF(OR(DD14=36,DD14=""),"",LOOKUP(DE$3,$BO14:$CY14,$BO$3:$CY$3))) -> 6 | DF14: =IF(DF$3>$BF14,"",IF(OR(DE14=36,DE14=""),"",LOOKUP(DF$3,$BO14:$CY14,$BO$3:$CY$3))) -> 7 | DG14: =IF(DG$3>$BF14,"",IF(OR(DF14=36,DF14=""),"",LOOKUP(DG$3,$BO14:$CY14,$BO$3:$CY$3))) -> 8 | DH14: =IF(DH$3>$BF14,"",IF(OR(DG14=36,DG14=""),"",LOOKUP(DH$3,$BO14:$CY14,$BO$3:$CY$3))) -> 9 | ... EJ14: =IF(EJ$3>$BF14,"",IF(OR(EI14=36,EI14=""),"",LOOKUP(EJ$3,$BO14:$CY14,$BO$3:$CY$3)))
C15: 12 | D15: =VALUE(RIGHT(C15,1)) -> 2 | E15: =Finals!D14 -> 0 | F15: =IF(E15="","",VALUE(RIGHT(E15,1))) -> 0 | G15: =IF(AND(D15<>8,D15<>9,D15<>0),"",LOOKUP(F15,K$3:T$3,K14:T14)) | H15: =IF(G15="","",IF(G15=0,1,-1)) | I15: =IF(H15=-1,-BF14,IF(H15=1,36-BF14,0)) -> 0 | J15: =I15+J14 -> 26 | K15: =IF(AND($D14=0,$F15=K$3),1,IF($D14=0,0,IF($F15=K$3,1,K14))) -> 1 | L15: =IF(AND($D14=0,$F15=L$3),1,IF($D14=0,0,IF($F15=L$3,1,L14))) -> 0 | M15: =IF(AND($D14=0,$F15=M$3),1,IF($D14=0,0,IF($F15=M$3,1,M14))) -> 0 | N15: =IF(AND($D14=0,$F15=N$3),1,IF($D14=0,0,IF($F15=N$3,1,N14))) -> 0 | O15: =IF(AND($D14=0,$F15=O$3),1,IF($D14=0,0,IF($F15=O$3,1,O14))) -> 0 | P15: =IF(AND($D14=0,$F15=P$3),1,IF($D14=0,0,IF($F15=P$3,1,P14))) -> 0 | Q15: =IF(AND($D14=0,$F15=Q$3),1,IF($D14=0,0,IF($F15=Q$3,1,Q14))) -> 0 | R15: =IF(AND($D14=0,$F15=R$3),1,IF($D14=0,0,IF($F15=R$3,1,R14))) -> 0 | ... T15: =IF(AND($D14=0,$F15=T$3),1,IF($D14=0,0,IF($F15=T$3,1,T14))) -> 0 | U15: =IF(AND($D14=0,$F15=U$2),0,IF($D14=0,1,IF($F15=U$2,0,U14))) -> 0 | V15: =IF(AND($D14=0,$F15=V$2),0,IF($D14=0,1,IF($F15=V$2,0,V14))) -> 1 | W15: =IF(AND($D14=0,$F15=W$2),0,IF($D14=0,1,IF($F15=W$2,0,W14))) -> 1 | X15: =IF(AND($D14=0,$F15=X$2),0,IF($D14=0,1,IF($F15=X$2,0,X14))) -> 1 | Y15: =IF(AND($D14=0,$F15=Y$2),0,IF($D14=0,1,IF($F15=Y$2,0,Y14))) -> 1 | Z15: =IF(AND($D14=0,$F15=Z$2),0,IF($D14=0,1,IF($F15=Z$2,0,Z14))) -> 1 | AA15: =IF(AND($D14=0,$F15=AA$2),0,IF($D14=0,1,IF($F15=AA$2,0,AA14))) -> 1 | AB15: =IF(AND($D14=0,$F15=AB$2),0,IF($D14=0,1,IF($F15=AB$2,0,AB14))) -> 1 | ... BE15: =IF(AND($D14=0,$F15=BE$2),0,IF($D14=0,1,IF($F15=BE$2,0,BE14))) -> 1 | BF15: =SUM(U15:BE15) -> 33 | BO15: 1 | BP15: =IF(U15=1,1+BO15,BO15) -> 1 | BQ15: =IF(V15=1,1+BP15,BP15) -> 2 | BR15: =IF(W15=1,1+BQ15,BQ15) -> 3 | BS15: =IF(X15=1,1+BR15,BR15) -> 4 | BT15: =IF(Y15=1,1+BS15,BS15) -> 5 | BU15: =IF(Z15=1,1+BT15,BT15) -> 6 | BV15: =IF(AA15=1,1+BU15,BU15) -> 7 | BW15: =IF(AB15=1,1+BV15,BV15) -> 8 | ... CY15: =IF(BD15=1,1+CX15,CX15) -> 33 | CZ15: =LOOKUP(CZ$3,$BO15:$CY15,$BO$3:$CY$3) -> 1 | DA15: =IF(DA$3>$BF15,"",IF(OR(CZ15=36,CZ15=""),"",LOOKUP(DA$3,$BO15:$CY15,$BO$3:$CY$3))) -> 2 | DB15: =IF(DB$3>$BF15,"",IF(OR(DA15=36,DA15=""),"",LOOKUP(DB$3,$BO15:$CY15,$BO$3:$CY$3))) -> 3 | DC15: =IF(DC$3>$BF15,"",IF(OR(DB15=36,DB15=""),"",LOOKUP(DC$3,$BO15:$CY15,$BO$3:$CY$3))) -> 4 | DD15: =IF(DD$3>$BF15,"",IF(OR(DC15=36,DC15=""),"",LOOKUP(DD$3,$BO15:$CY15,$BO$3:$CY$3))) -> 5 | DE15: =IF(DE$3>$BF15,"",IF(OR(DD15=36,DD15=""),"",LOOKUP(DE$3,$BO15:$CY15,$BO$3:$CY$3))) -> 6 | DF15: =IF(DF$3>$BF15,"",IF(OR(DE15=36,DE15=""),"",LOOKUP(DF$3,$BO15:$CY15,$BO$3:$CY$3))) -> 7 | DG15: =IF(DG$3>$BF15,"",IF(OR(DF15=36,DF15=""),"",LOOKUP(DG$3,$BO15:$CY15,$BO$3:$CY$3))) -> 8 | DH15: =IF(DH$3>$BF15,"",IF(OR(DG15=36,DG15=""),"",LOOKUP(DH$3,$BO15:$CY15,$BO$3:$CY$3))) -> 9 | ... EJ15: =IF(EJ$3>$BF15,"",IF(OR(EI15=36,EI15=""),"",LOOKUP(EJ$3,$BO15:$CY15,$BO$3:$CY$3)))
C16: 13 | D16: =VALUE(RIGHT(C16,1)) -> 3 | E16: =Finals!D15 -> 0 | F16: =IF(E16="","",VALUE(RIGHT(E16,1))) -> 0 | G16: =IF(AND(D16<>8,D16<>9,D16<>0),"",LOOKUP(F16,K$3:T$3,K15:T15)) | H16: =IF(G16="","",IF(G16=0,1,-1)) | I16: =IF(H16=-1,-BF15,IF(H16=1,36-BF15,0)) -> 0 | J16: =I16+J15 -> 26 | K16: =IF(AND($D15=0,$F16=K$3),1,IF($D15=0,0,IF($F16=K$3,1,K15))) -> 1 | L16: =IF(AND($D15=0,$F16=L$3),1,IF($D15=0,0,IF($F16=L$3,1,L15))) -> 0 | M16: =IF(AND($D15=0,$F16=M$3),1,IF($D15=0,0,IF($F16=M$3,1,M15))) -> 0 | N16: =IF(AND($D15=0,$F16=N$3),1,IF($D15=0,0,IF($F16=N$3,1,N15))) -> 0 | O16: =IF(AND($D15=0,$F16=O$3),1,IF($D15=0,0,IF($F16=O$3,1,O15))) -> 0 | P16: =IF(AND($D15=0,$F16=P$3),1,IF($D15=0,0,IF($F16=P$3,1,P15))) -> 0 | Q16: =IF(AND($D15=0,$F16=Q$3),1,IF($D15=0,0,IF($F16=Q$3,1,Q15))) -> 0 | R16: =IF(AND($D15=0,$F16=R$3),1,IF($D15=0,0,IF($F16=R$3,1,R15))) -> 0 | ... T16: =IF(AND($D15=0,$F16=T$3),1,IF($D15=0,0,IF($F16=T$3,1,T15))) -> 0 | U16: =IF(AND($D15=0,$F16=U$2),0,IF($D15=0,1,IF($F16=U$2,0,U15))) -> 0 | V16: =IF(AND($D15=0,$F16=V$2),0,IF($D15=0,1,IF($F16=V$2,0,V15))) -> 1 | W16: =IF(AND($D15=0,$F16=W$2),0,IF($D15=0,1,IF($F16=W$2,0,W15))) -> 1 | X16: =IF(AND($D15=0,$F16=X$2),0,IF($D15=0,1,IF($F16=X$2,0,X15))) -> 1 | Y16: =IF(AND($D15=0,$F16=Y$2),0,IF($D15=0,1,IF($F16=Y$2,0,Y15))) -> 1 | Z16: =IF(AND($D15=0,$F16=Z$2),0,IF($D15=0,1,IF($F16=Z$2,0,Z15))) -> 1 | AA16: =IF(AND($D15=0,$F16=AA$2),0,IF($D15=0,1,IF($F16=AA$2,0,AA15))) -> 1 | AB16: =IF(AND($D15=0,$F16=AB$2),0,IF($D15=0,1,IF($F16=AB$2,0,AB15))) -> 1 | ... BE16: =IF(AND($D15=0,$F16=BE$2),0,IF($D15=0,1,IF($F16=BE$2,0,BE15))) -> 1 | BF16: =SUM(U16:BE16) -> 33 | BO16: 1 | BP16: =IF(U16=1,1+BO16,BO16) -> 1 | BQ16: =IF(V16=1,1+BP16,BP16) -> 2 | BR16: =IF(W16=1,1+BQ16,BQ16) -> 3 | BS16: =IF(X16=1,1+BR16,BR16) -> 4 | BT16: =IF(Y16=1,1+BS16,BS16) -> 5 | BU16: =IF(Z16=1,1+BT16,BT16) -> 6 | BV16: =IF(AA16=1,1+BU16,BU16) -> 7 | BW16: =IF(AB16=1,1+BV16,BV16) -> 8 | ... CY16: =IF(BD16=1,1+CX16,CX16) -> 33 | CZ16: =LOOKUP(CZ$3,$BO16:$CY16,$BO$3:$CY$3) -> 1 | DA16: =IF(DA$3>$BF16,"",IF(OR(CZ16=36,CZ16=""),"",LOOKUP(DA$3,$BO16:$CY16,$BO$3:$CY$3))) -> 2 | DB16: =IF(DB$3>$BF16,"",IF(OR(DA16=36,DA16=""),"",LOOKUP(DB$3,$BO16:$CY16,$BO$3:$CY$3))) -> 3 | DC16: =IF(DC$3>$BF16,"",IF(OR(DB16=36,DB16=""),"",LOOKUP(DC$3,$BO16:$CY16,$BO$3:$CY$3))) -> 4 | DD16: =IF(DD$3>$BF16,"",IF(OR(DC16=36,DC16=""),"",LOOKUP(DD$3,$BO16:$CY16,$BO$3:$CY$3))) -> 5 | DE16: =IF(DE$3>$BF16,"",IF(OR(DD16=36,DD16=""),"",LOOKUP(DE$3,$BO16:$CY16,$BO$3:$CY$3))) -> 6 | DF16: =IF(DF$3>$BF16,"",IF(OR(DE16=36,DE16=""),"",LOOKUP(DF$3,$BO16:$CY16,$BO$3:$CY$3))) -> 7 | DG16: =IF(DG$3>$BF16,"",IF(OR(DF16=36,DF16=""),"",LOOKUP(DG$3,$BO16:$CY16,$BO$3:$CY$3))) -> 8 | DH16: =IF(DH$3>$BF16,"",IF(OR(DG16=36,DG16=""),"",LOOKUP(DH$3,$BO16:$CY16,$BO$3:$CY$3))) -> 9 | ... EJ16: =IF(EJ$3>$BF16,"",IF(OR(EI16=36,EI16=""),"",LOOKUP(EJ$3,$BO16:$CY16,$BO$3:$CY$3)))
... C121: 118 | D121: =VALUE(RIGHT(C121,1)) -> 8 | E121: =Finals!D120 -> 0 | F121: =IF(E121="","",VALUE(RIGHT(E121,1))) -> 0 | G121: =IF(AND(D121<>8,D121<>9,D121<>0),"",LOOKUP(F121,K$3:T$3,K120:T120)) -> 1 | H121: =IF(G121="","",IF(G121=0,1,-1)) -> -1 | I121: =IF(H121=-1,-BF120,IF(H121=1,36-BF120,0)) -> -33 | J121: =I121+J120 -> -997 | K121: =IF(AND($D120=0,$F121=K$3),1,IF($D120=0,0,IF($F121=K$3,1,K120))) -> 1 | L121: =IF(AND($D120=0,$F121=L$3),1,IF($D120=0,0,IF($F121=L$3,1,L120))) -> 0 | M121: =IF(AND($D120=0,$F121=M$3),1,IF($D120=0,0,IF($F121=M$3,1,M120))) -> 0 | N121: =IF(AND($D120=0,$F121=N$3),1,IF($D120=0,0,IF($F121=N$3,1,N120))) -> 0 | O121: =IF(AND($D120=0,$F121=O$3),1,IF($D120=0,0,IF($F121=O$3,1,O120))) -> 0 | P121: =IF(AND($D120=0,$F121=P$3),1,IF($D120=0,0,IF($F121=P$3,1,P120))) -> 0 | Q121: =IF(AND($D120=0,$F121=Q$3),1,IF($D120=0,0,IF($F121=Q$3,1,Q120))) -> 0 | R121: =IF(AND($D120=0,$F121=R$3),1,IF($D120=0,0,IF($F121=R$3,1,R120))) -> 0 | ... T121: =IF(AND($D120=0,$F121=T$3),1,IF($D120=0,0,IF($F121=T$3,1,T120))) -> 0 | U121: =IF(AND($D120=0,$F121=U$2),0,IF($D120=0,1,IF($F121=U$2,0,U120))) -> 0 | V121: =IF(AND($D120=0,$F121=V$2),0,IF($D120=0,1,IF($F121=V$2,0,V120))) -> 1 | W121: =IF(AND($D120=0,$F121=W$2),0,IF($D120=0,1,IF($F121=W$2,0,W120))) -> 1 | X121: =IF(AND($D120=0,$F121=X$2),0,IF($D120=0,1,IF($F121=X$2,0,X120))) -> 1 | Y121: =IF(AND($D120=0,$F121=Y$2),0,IF($D120=0,1,IF($F121=Y$2,0,Y120))) -> 1 | Z121: =IF(AND($D120=0,$F121=Z$2),0,IF($D120=0,1,IF($F121=Z$2,0,Z120))) -> 1 | AA121: =IF(AND($D120=0,$F121=AA$2),0,IF($D120=0,1,IF($F121=AA$2,0,AA120))) -> 1 | AB121: =IF(AND($D120=0,$F121=AB$2),0,IF($D120=0,1,IF($F121=AB$2,0,AB120))) -> 1 | ... BE121: =IF(AND($D120=0,$F121=BE$2),0,IF($D120=0,1,IF($F121=BE$2,0,BE120))) -> 1 | BF121: =SUM(U121:BE121) -> 33 | BO121: 1 | BP121: =IF(U121=1,1+BO121,BO121) -> 1 | BQ121: =IF(V121=1,1+BP121,BP121) -> 2 | BR121: =IF(W121=1,1+BQ121,BQ121) -> 3 | BS121: =IF(X121=1,1+BR121,BR121) -> 4 | BT121: =IF(Y121=1,1+BS121,BS121) -> 5 | BU121: =IF(Z121=1,1+BT121,BT121) -> 6 | BV121: =IF(AA121=1,1+BU121,BU121) -> 7 | BW121: =IF(AB121=1,1+BV121,BV121) -> 8 | ... CY121: =IF(BD121=1,1+CX121,CX121) -> 33 | CZ121: =LOOKUP(CZ$3,$BO121:$CY121,$BO$3:$CY$3) -> 1 | DA121: =IF(DA$3>$BF121,"",IF(OR(CZ121=36,CZ121=""),"",LOOKUP(DA$3,$BO121:$CY121,$BO$3:$CY$3))) -> 2 | DB121: =IF(DB$3>$BF121,"",IF(OR(DA121=36,DA121=""),"",LOOKUP(DB$3,$BO121:$CY121,$BO$3:$CY$3))) -> 3 | DC121: =IF(DC$3>$BF121,"",IF(OR(DB121=36,DB121=""),"",LOOKUP(DC$3,$BO121:$CY121,$BO$3:$CY$3))) -> 4 | DD121: =IF(DD$3>$BF121,"",IF(OR(DC121=36,DC121=""),"",LOOKUP(DD$3,$BO121:$CY121,$BO$3:$CY$3))) -> 5 | DE121: =IF(DE$3>$BF121,"",IF(OR(DD121=36,DD121=""),"",LOOKUP(DE$3,$BO121:$CY121,$BO$3:$CY$3))) -> 6 | DF121: =IF(DF$3>$BF121,"",IF(OR(DE121=36,DE121=""),"",LOOKUP(DF$3,$BO121:$CY121,$BO$3:$CY$3))) -> 7 | DG121: =IF(DG$3>$BF121,"",IF(OR(DF121=36,DF121=""),"",LOOKUP(DG$3,$BO121:$CY121,$BO$3:$CY$3))) -> 8 | DH121: =IF(DH$3>$BF121,"",IF(OR(DG121=36,DG121=""),"",LOOKUP(DH$3,$BO121:$CY121,$BO$3:$CY$3))) -> 9 | ... EJ121: =IF(EJ$3>$BF121,"",IF(OR(EI121=36,EI121=""),"",LOOKUP(EJ$3,$BO121:$CY121,$BO$3:$CY$3)))
