Workbook
Name ResetProg: '[1]anti-ktf'!$AN$5:$AN$15633

Sheet Finals
A1: Reset prog new high? | B1: Yes | I1: Results
A2: Stop on 1st win? | B2: Yes | I2: Min score | J2: =MIN(J$9:J$1004) -> 0 | K2: Min nrs | L2: =MIN(L9:L1004) -> 0
A3: Stop at new high? | B3: No | I3: Max score | J3: =MAX(J$9:J$1004) -> 0 | K3: Max nrs | L3: =MAX(L10:L1004) -> 0
A4: Track spins | B4: 10 | I4: End | J4: =J1004 | K4: Av nrs | L4: =AVERAGE(L10:L1004) -> #DIV/0!
A5: Max Play spins | B5: 3 | I5: Wins | J5: =Calc!I1 -> 0 | K5: Max pr | L5: =MAX(Calc!EL3:EL1003) -> 0
A6: Prog type | B6: +/- | I6: Losses | J6: =Calc!I2 -> 249 | K6: Av hit pr | L6: =AVERAGE(Calc!EL3:EL1003) -> #DIV/0!
A7: Prog+ | B7: 0
A8: Prog- | B8: 0 | C8: Spin | D8: Nrs | E8: Finals | F8: Wait/Play | G8: W/L | H8: Net | I8: Pr | J8: Total | K8: Max | L8: Played nrs
C9: 1 | D9: =RANDBETWEEN(0,36) -> 19 | E9: =IF(D9="","",Calc!G4) -> 9 | F9: =IF(D8="","",IF(Calc!H4="","Wait",IF(Calc!H4<>"","Play"))) -> Wait | G9: =IF(D9="","",IF(Calc!I4=1,"W",IF(Calc!I4=-1,"L",""))) | H9: =IF(D9="","",IF(Finals!G9="","",IF(Calc!I4=-1,-Calc!BG3,IF(Calc!I4=1,36-Calc!BG3)))) | J9: 0 | M9: =IF(AND($D8<>"",$D9=""),Calc!DA4,"") | N9: =IF(AND($D8<>"",$D9=""),Calc!DB4,"") | O9: =IF(AND($D8<>"",$D9=""),Calc!DC4,"") | P9: =IF(AND($D8<>"",$D9=""),Calc!DD4,"") | Q9: =IF(AND($D8<>"",$D9=""),Calc!DE4,"") | R9: =IF(AND($D8<>"",$D9=""),Calc!DF4,"") | S9: =IF(AND($D8<>"",$D9=""),Calc!DG4,"") | T9: =IF(AND($D8<>"",$D9=""),Calc!DH4,"") | ... AU9: =IF(AND($D8<>"",$D9=""),Calc!EI4,"") | AV9: =IF(AND($D9<>"",$D10=""),Calc!EJ4,"") | AW9: =IF(AND($D10<>"",$D11=""),Calc!EK4,"")
C10: 2 | D10: =RANDBETWEEN(0,36) -> 29 | E10: =IF(D10="","",Calc!G5) -> 9 | F10: =IF(D9="","",IF(Calc!H5="","Wait",IF(Calc!H5<>"","Play"))) -> Wait | G10: =IF(D10="","",IF(Calc!I5=1,"W",IF(Calc!I5=-1,"L",""))) | H10: =IF(D10="","",IF(Finals!G10="","",IF(Calc!I5=-1,-Calc!BG4*I10,IF(Calc!I5=1,(36-Calc!BG4)*I10)))) | I10: 1 | J10: =IF(D9="","",IF(H10="",J9,H10+J9)) -> 0 | K10: =IF(J10>K9,J10,K9) -> 0 | L10: =IF(AND(Calc!H5=1,D9<>""),Calc!BG4,"") | M10: =IF(AND($D9<>"",$D10=""),Calc!DA5,"") | N10: =IF(AND($D9<>"",$D10=""),Calc!DB5,"") | O10: =IF(AND($D9<>"",$D10=""),Calc!DC5,"") | P10: =IF(AND($D9<>"",$D10=""),Calc!DD5,"") | Q10: =IF(AND($D9<>"",$D10=""),Calc!DE5,"") | R10: =IF(AND($D9<>"",$D10=""),Calc!DF5,"") | S10: =IF(AND($D9<>"",$D10=""),Calc!DG5,"") | T10: =IF(AND($D9<>"",$D10=""),Calc!DH5,"") | ... AU10: =IF(AND($D9<>"",$D10=""),Calc!EI5,"") | AV10: =IF(AND($D10<>"",$D11=""),Calc!EJ5,"") | AW10: =IF(AND($D11<>"",$D12=""),Calc!EK5,"")
C11: 3 | D11: =RANDBETWEEN(0,36) -> 21 | E11: =IF(D11="","",Calc!G6) -> 1 | F11: =IF(D10="","",IF(Calc!H6="","Wait",IF(Calc!H6<>"","Play"))) -> Wait | G11: =IF(D11="","",IF(Calc!I6=1,"W",IF(Calc!I6=-1,"L",""))) | H11: =IF(D11="","",IF(Finals!G11="","",IF(Calc!I6=-1,-Calc!BG5*I11,IF(Calc!I6=1,(36-Calc!BG5)*I11)))) | I11: =IF(D10="","",IF(AND(K10>K9,B$1="Yes"),1,IF(AND(G10="W",I10=1,B$7>0),1,IF(AND(G10="W",B$6="+/-"),I10-B$8,IF(AND(G10="W",B$6="Exp"),I10/B$8,IF(AND(G10="L",B$6="+/-"),I10+B$7,IF(AND(G10="L",B$6="Exp"),I10*B$7,I10))))))) -> 1 | J11: =IF(D10="","",IF(H11="",J10,H11+J10)) -> 0 | K11: =IF(J11>K10,J11,K10) -> 0 | L11: =IF(AND(Calc!H6=1,D10<>""),Calc!BG5,"") | M11: =IF(AND($D10<>"",$D11=""),Calc!DA6,"") | N11: =IF(AND($D10<>"",$D11=""),Calc!DB6,"") | O11: =IF(AND($D10<>"",$D11=""),Calc!DC6,"") | P11: =IF(AND($D10<>"",$D11=""),Calc!DD6,"") | Q11: =IF(AND($D10<>"",$D11=""),Calc!DE6,"") | R11: =IF(AND($D10<>"",$D11=""),Calc!DF6,"") | S11: =IF(AND($D10<>"",$D11=""),Calc!DG6,"") | T11: =IF(AND($D10<>"",$D11=""),Calc!DH6,"") | ... AU11: =IF(AND($D10<>"",$D11=""),Calc!EI6,"") | AV11: =IF(AND($D11<>"",$D12=""),Calc!EJ6,"") | AW11: =IF(AND($D12<>"",$D13=""),Calc!EK6,"")
C12: 4 | D12: =RANDBETWEEN(0,36) -> 17 | E12: =IF(D12="","",Calc!G7) -> 7 | F12: =IF(D11="","",IF(Calc!H7="","Wait",IF(Calc!H7<>"","Play"))) -> Wait | G12: =IF(D12="","",IF(Calc!I7=1,"W",IF(Calc!I7=-1,"L",""))) | H12: =IF(D12="","",IF(Finals!G12="","",IF(Calc!I7=-1,-Calc!BG6*I12,IF(Calc!I7=1,(36-Calc!BG6)*I12)))) | I12: =IF(D11="","",IF(AND(K11>K10,B$1="Yes"),1,IF(AND(G11="W",I11=1,B$7>0),1,IF(AND(G11="W",B$6="+/-"),I11-B$8,IF(AND(G11="W",B$6="Exp"),I11/B$8,IF(AND(G11="L",B$6="+/-"),I11+B$7,IF(AND(G11="L",B$6="Exp"),I11*B$7,I11))))))) -> 1 | J12: =IF(D11="","",IF(H12="",J11,H12+J11)) -> 0 | K12: =IF(J12>K11,J12,K11) -> 0 | L12: =IF(AND(Calc!H7=1,D11<>""),Calc!BG6,"") | M12: =IF(AND($D11<>"",$D12=""),Calc!DA7,"") | N12: =IF(AND($D11<>"",$D12=""),Calc!DB7,"") | O12: =IF(AND($D11<>"",$D12=""),Calc!DC7,"") | P12: =IF(AND($D11<>"",$D12=""),Calc!DD7,"") | Q12: =IF(AND($D11<>"",$D12=""),Calc!DE7,"") | R12: =IF(AND($D11<>"",$D12=""),Calc!DF7,"") | S12: =IF(AND($D11<>"",$D12=""),Calc!DG7,"") | T12: =IF(AND($D11<>"",$D12=""),Calc!DH7,"") | ... AU12: =IF(AND($D11<>"",$D12=""),Calc!EI7,"") | AV12: =IF(AND($D12<>"",$D13=""),Calc!EJ7,"") | AW12: =IF(AND($D13<>"",$D14=""),Calc!EK7,"")
C13: 5 | D13: =RANDBETWEEN(0,36) -> 34 | E13: =IF(D13="","",Calc!G8) -> 4 | F13: =IF(D12="","",IF(Calc!H8="","Wait",IF(Calc!H8<>"","Play"))) -> Wait | G13: =IF(D13="","",IF(Calc!I8=1,"W",IF(Calc!I8=-1,"L",""))) | H13: =IF(D13="","",IF(Finals!G13="","",IF(Calc!I8=-1,-Calc!BG7*I13,IF(Calc!I8=1,(36-Calc!BG7)*I13)))) | I13: =IF(D12="","",IF(AND(K12>K11,B$1="Yes"),1,IF(AND(G12="W",I12=1,B$7>0),1,IF(AND(G12="W",B$6="+/-"),I12-B$8,IF(AND(G12="W",B$6="Exp"),I12/B$8,IF(AND(G12="L",B$6="+/-"),I12+B$7,IF(AND(G12="L",B$6="Exp"),I12*B$7,I12))))))) -> 1 | J13: =IF(D12="","",IF(H13="",J12,H13+J12)) -> 0 | K13: =IF(J13>K12,J13,K12) -> 0 | L13: =IF(AND(Calc!H8=1,D12<>""),Calc!BG7,"") | M13: =IF(AND($D12<>"",$D13=""),Calc!DA8,"") | N13: =IF(AND($D12<>"",$D13=""),Calc!DB8,"") | O13: =IF(AND($D12<>"",$D13=""),Calc!DC8,"") | P13: =IF(AND($D12<>"",$D13=""),Calc!DD8,"") | Q13: =IF(AND($D12<>"",$D13=""),Calc!DE8,"") | R13: =IF(AND($D12<>"",$D13=""),Calc!DF8,"") | S13: =IF(AND($D12<>"",$D13=""),Calc!DG8,"") | T13: =IF(AND($D12<>"",$D13=""),Calc!DH8,"") | ... AU13: =IF(AND($D12<>"",$D13=""),Calc!EI8,"") | AV13: =IF(AND($D13<>"",$D14=""),Calc!EJ8,"") | AW13: =IF(AND($D14<>"",$D15=""),Calc!EK8,"")
C14: 6 | D14: =RANDBETWEEN(0,36) -> 16 | E14: =IF(D14="","",Calc!G9) -> 6 | F14: =IF(D13="","",IF(Calc!H9="","Wait",IF(Calc!H9<>"","Play"))) -> Wait | G14: =IF(D14="","",IF(Calc!I9=1,"W",IF(Calc!I9=-1,"L",""))) | H14: =IF(D14="","",IF(Finals!G14="","",IF(Calc!I9=-1,-Calc!BG8*I14,IF(Calc!I9=1,(36-Calc!BG8)*I14)))) | I14: =IF(D13="","",IF(AND(K13>K12,B$1="Yes"),1,IF(AND(G13="W",I13=1,B$7>0),1,IF(AND(G13="W",B$6="+/-"),I13-B$8,IF(AND(G13="W",B$6="Exp"),I13/B$8,IF(AND(G13="L",B$6="+/-"),I13+B$7,IF(AND(G13="L",B$6="Exp"),I13*B$7,I13))))))) -> 1 | J14: =IF(D13="","",IF(H14="",J13,H14+J13)) -> 0 | K14: =IF(J14>K13,J14,K13) -> 0 | L14: =IF(AND(Calc!H9=1,D13<>""),Calc!BG8,"") | M14: =IF(AND($D13<>"",$D14=""),Calc!DA9,"") | N14: =IF(AND($D13<>"",$D14=""),Calc!DB9,"") | O14: =IF(AND($D13<>"",$D14=""),Calc!DC9,"") | P14: =IF(AND($D13<>"",$D14=""),Calc!DD9,"") | Q14: =IF(AND($D13<>"",$D14=""),Calc!DE9,"") | R14: =IF(AND($D13<>"",$D14=""),Calc!DF9,"") | S14: =IF(AND($D13<>"",$D14=""),Calc!DG9,"") | T14: =IF(AND($D13<>"",$D14=""),Calc!DH9,"") | ... AU14: =IF(AND($D13<>"",$D14=""),Calc!EI9,"") | AV14: =IF(AND($D14<>"",$D15=""),Calc!EJ9,"") | AW14: =IF(AND($D15<>"",$D16=""),Calc!EK9,"")
C15: 7 | D15: =RANDBETWEEN(0,36) -> 27 | E15: =IF(D15="","",Calc!G10) -> 7 | F15: =IF(D14="","",IF(Calc!H10="","Wait",IF(Calc!H10<>"","Play"))) -> Wait | G15: =IF(D15="","",IF(Calc!I10=1,"W",IF(Calc!I10=-1,"L",""))) | H15: =IF(D15="","",IF(Finals!G15="","",IF(Calc!I10=-1,-Calc!BG9*I15,IF(Calc!I10=1,(36-Calc!BG9)*I15)))) | I15: =IF(D14="","",IF(AND(K14>K13,B$1="Yes"),1,IF(AND(G14="W",I14=1,B$7>0),1,IF(AND(G14="W",B$6="+/-"),I14-B$8,IF(AND(G14="W",B$6="Exp"),I14/B$8,IF(AND(G14="L",B$6="+/-"),I14+B$7,IF(AND(G14="L",B$6="Exp"),I14*B$7,I14))))))) -> 1 | J15: =IF(D14="","",IF(H15="",J14,H15+J14)) -> 0 | K15: =IF(J15>K14,J15,K14) -> 0 | L15: =IF(AND(Calc!H10=1,D14<>""),Calc!BG9,"") | M15: =IF(AND($D14<>"",$D15=""),Calc!DA10,"") | N15: =IF(AND($D14<>"",$D15=""),Calc!DB10,"") | O15: =IF(AND($D14<>"",$D15=""),Calc!DC10,"") | P15: =IF(AND($D14<>"",$D15=""),Calc!DD10,"") | Q15: =IF(AND($D14<>"",$D15=""),Calc!DE10,"") | R15: =IF(AND($D14<>"",$D15=""),Calc!DF10,"") | S15: =IF(AND($D14<>"",$D15=""),Calc!DG10,"") | T15: =IF(AND($D14<>"",$D15=""),Calc!DH10,"") | ... AU15: =IF(AND($D14<>"",$D15=""),Calc!EI10,"") | AV15: =IF(AND($D15<>"",$D16=""),Calc!EJ10,"") | AW15: =IF(AND($D16<>"",$D17=""),Calc!EK10,"")
C16: 8 | D16: =RANDBETWEEN(0,36) -> 34 | E16: =IF(D16="","",Calc!G11) -> 4 | F16: =IF(D15="","",IF(Calc!H11="","Wait",IF(Calc!H11<>"","Play"))) -> Wait | G16: =IF(D16="","",IF(Calc!I11=1,"W",IF(Calc!I11=-1,"L",""))) | H16: =IF(D16="","",IF(Finals!G16="","",IF(Calc!I11=-1,-Calc!BG10*I16,IF(Calc!I11=1,(36-Calc!BG10)*I16)))) | I16: =IF(D15="","",IF(AND(K15>K14,B$1="Yes"),1,IF(AND(G15="W",I15=1,B$7>0),1,IF(AND(G15="W",B$6="+/-"),I15-B$8,IF(AND(G15="W",B$6="Exp"),I15/B$8,IF(AND(G15="L",B$6="+/-"),I15+B$7,IF(AND(G15="L",B$6="Exp"),I15*B$7,I15))))))) -> 1 | J16: =IF(D15="","",IF(H16="",J15,H16+J15)) -> 0 | K16: =IF(J16>K15,J16,K15) -> 0 | L16: =IF(AND(Calc!H11=1,D15<>""),Calc!BG10,"") | M16: =IF(AND($D15<>"",$D16=""),Calc!DA11,"") | N16: =IF(AND($D15<>"",$D16=""),Calc!DB11,"") | O16: =IF(AND($D15<>"",$D16=""),Calc!DC11,"") | P16: =IF(AND($D15<>"",$D16=""),Calc!DD11,"") | Q16: =IF(AND($D15<>"",$D16=""),Calc!DE11,"") | R16: =IF(AND($D15<>"",$D16=""),Calc!DF11,"") | S16: =IF(AND($D15<>"",$D16=""),Calc!DG11,"") | T16: =IF(AND($D15<>"",$D16=""),Calc!DH11,"") | ... AU16: =IF(AND($D15<>"",$D16=""),Calc!EI11,"") | AV16: =IF(AND($D16<>"",$D17=""),Calc!EJ11,"") | AW16: =IF(AND($D17<>"",$D18=""),Calc!EK11,"")
C17: 9 | E17: =IF(D17="","",Calc!G12) | F17: =IF(D16="","",IF(Calc!H12="","Wait",IF(Calc!H12<>"","Play"))) -> Wait | G17: =IF(D17="","",IF(Calc!I12=1,"W",IF(Calc!I12=-1,"L",""))) | H17: =IF(D17="","",IF(Finals!G17="","",IF(Calc!I12=-1,-Calc!BG11*I17,IF(Calc!I12=1,(36-Calc!BG11)*I17)))) | I17: =IF(D16="","",IF(AND(K16>K15,B$1="Yes"),1,IF(AND(G16="W",I16=1,B$7>0),1,IF(AND(G16="W",B$6="+/-"),I16-B$8,IF(AND(G16="W",B$6="Exp"),I16/B$8,IF(AND(G16="L",B$6="+/-"),I16+B$7,IF(AND(G16="L",B$6="Exp"),I16*B$7,I16))))))) -> 1 | J17: =IF(D16="","",IF(H17="",J16,H17+J16)) -> 0 | K17: =IF(J17>K16,J17,K16) -> 0 | L17: =IF(AND(Calc!H12=1,D16<>""),Calc!BG11,"") | M17: =IF(AND($D16<>"",$D17=""),Calc!DA12,"") -> 2 | N17: =IF(AND($D16<>"",$D17=""),Calc!DB12,"") -> 3 | O17: =IF(AND($D16<>"",$D17=""),Calc!DC12,"") -> 5 | P17: =IF(AND($D16<>"",$D17=""),Calc!DD12,"") -> 8 | Q17: =IF(AND($D16<>"",$D17=""),Calc!DE12,"") -> 12 | R17: =IF(AND($D16<>"",$D17=""),Calc!DF12,"") -> 13 | S17: =IF(AND($D16<>"",$D17=""),Calc!DG12,"") -> 15 | T17: =IF(AND($D16<>"",$D17=""),Calc!DH12,"") -> 18 | ... AU17: =IF(AND($D16<>"",$D17=""),Calc!EI12,"") | AV17: =IF(AND($D17<>"",$D18=""),Calc!EJ12,"") | AW17: =IF(AND($D18<>"",$D19=""),Calc!EK12,"")
C18: 10 | E18: =IF(D18="","",Calc!G13) | F18: =IF(D17="","",IF(Calc!H13="","Wait",IF(Calc!H13<>"","Play"))) | G18: =IF(D18="","",IF(Calc!I13=1,"W",IF(Calc!I13=-1,"L",""))) | H18: =IF(D18="","",IF(Finals!G18="","",IF(Calc!I13=-1,-Calc!BG12*I18,IF(Calc!I13=1,(36-Calc!BG12)*I18)))) | I18: =IF(D17="","",IF(AND(K17>K16,B$1="Yes"),1,IF(AND(G17="W",I17=1,B$7>0),1,IF(AND(G17="W",B$6="+/-"),I17-B$8,IF(AND(G17="W",B$6="Exp"),I17/B$8,IF(AND(G17="L",B$6="+/-"),I17+B$7,IF(AND(G17="L",B$6="Exp"),I17*B$7,I17))))))) | J18: =IF(D17="","",IF(H18="",J17,H18+J17)) | K18: =IF(J18>K17,J18,K17) | L18: =IF(AND(Calc!H13=1,D17<>""),Calc!BG12,"") | M18: =IF(AND($D17<>"",$D18=""),Calc!DA13,"") | N18: =IF(AND($D17<>"",$D18=""),Calc!DB13,"") | O18: =IF(AND($D17<>"",$D18=""),Calc!DC13,"") | P18: =IF(AND($D17<>"",$D18=""),Calc!DD13,"") | Q18: =IF(AND($D17<>"",$D18=""),Calc!DE13,"") | R18: =IF(AND($D17<>"",$D18=""),Calc!DF13,"") | S18: =IF(AND($D17<>"",$D18=""),Calc!DG13,"") | T18: =IF(AND($D17<>"",$D18=""),Calc!DH13,"") | ... AU18: =IF(AND($D17<>"",$D18=""),Calc!EI13,"") | AV18: =IF(AND($D18<>"",$D19=""),Calc!EJ13,"") | AW18: =IF(AND($D19<>"",$D20=""),Calc!EK13,"")
C19: 11 | E19: =IF(D19="","",Calc!G14) | F19: =IF(D18="","",IF(Calc!H14="","Wait",IF(Calc!H14<>"","Play"))) | G19: =IF(D19="","",IF(Calc!I14=1,"W",IF(Calc!I14=-1,"L",""))) | H19: =IF(D19="","",IF(Finals!G19="","",IF(Calc!I14=-1,-Calc!BG13*I19,IF(Calc!I14=1,(36-Calc!BG13)*I19)))) | I19: =IF(D18="","",IF(AND(K18>K17,B$1="Yes"),1,IF(AND(G18="W",I18=1,B$7>0),1,IF(AND(G18="W",B$6="+/-"),I18-B$8,IF(AND(G18="W",B$6="Exp"),I18/B$8,IF(AND(G18="L",B$6="+/-"),I18+B$7,IF(AND(G18="L",B$6="Exp"),I18*B$7,I18))))))) | J19: =IF(D18="","",IF(H19="",J18,H19+J18)) | K19: =IF(J19>K18,J19,K18) | L19: =IF(AND(Calc!H14=1,D18<>""),Calc!BG13,"") | M19: =IF(AND($D18<>"",$D19=""),Calc!DA14,"") | N19: =IF(AND($D18<>"",$D19=""),Calc!DB14,"") | O19: =IF(AND($D18<>"",$D19=""),Calc!DC14,"") | P19: =IF(AND($D18<>"",$D19=""),Calc!DD14,"") | Q19: =IF(AND($D18<>"",$D19=""),Calc!DE14,"") | R19: =IF(AND($D18<>"",$D19=""),Calc!DF14,"") | S19: =IF(AND($D18<>"",$D19=""),Calc!DG14,"") | T19: =IF(AND($D18<>"",$D19=""),Calc!DH14,"") | ... AU19: =IF(AND($D18<>"",$D19=""),Calc!EI14,"") | AV19: =IF(AND($D19<>"",$D20=""),Calc!EJ14,"") | AW19: =IF(AND($D20<>"",$D21=""),Calc!EK14,"")
C20: 12 | E20: =IF(D20="","",Calc!G15) | F20: =IF(D19="","",IF(Calc!H15="","Wait",IF(Calc!H15<>"","Play"))) | G20: =IF(D20="","",IF(Calc!I15=1,"W",IF(Calc!I15=-1,"L",""))) | H20: =IF(D20="","",IF(Finals!G20="","",IF(Calc!I15=-1,-Calc!BG14*I20,IF(Calc!I15=1,(36-Calc!BG14)*I20)))) | I20: =IF(D19="","",IF(AND(K19>K18,B$1="Yes"),1,IF(AND(G19="W",I19=1,B$7>0),1,IF(AND(G19="W",B$6="+/-"),I19-B$8,IF(AND(G19="W",B$6="Exp"),I19/B$8,IF(AND(G19="L",B$6="+/-"),I19+B$7,IF(AND(G19="L",B$6="Exp"),I19*B$7,I19))))))) | J20: =IF(D19="","",IF(H20="",J19,H20+J19)) | K20: =IF(J20>K19,J20,K19) | L20: =IF(AND(Calc!H15=1,D19<>""),Calc!BG14,"") | M20: =IF(AND($D19<>"",$D20=""),Calc!DA15,"") | N20: =IF(AND($D19<>"",$D20=""),Calc!DB15,"") | O20: =IF(AND($D19<>"",$D20=""),Calc!DC15,"") | P20: =IF(AND($D19<>"",$D20=""),Calc!DD15,"") | Q20: =IF(AND($D19<>"",$D20=""),Calc!DE15,"") | R20: =IF(AND($D19<>"",$D20=""),Calc!DF15,"") | S20: =IF(AND($D19<>"",$D20=""),Calc!DG15,"") | T20: =IF(AND($D19<>"",$D20=""),Calc!DH15,"") | ... AU20: =IF(AND($D19<>"",$D20=""),Calc!EI15,"") | AV20: =IF(AND($D20<>"",$D21=""),Calc!EJ15,"") | AW20: =IF(AND($D21<>"",$D22=""),Calc!EK15,"")
C21: 13 | E21: =IF(D21="","",Calc!G16) | F21: =IF(D20="","",IF(Calc!H16="","Wait",IF(Calc!H16<>"","Play"))) | G21: =IF(D21="","",IF(Calc!I16=1,"W",IF(Calc!I16=-1,"L",""))) | H21: =IF(D21="","",IF(Finals!G21="","",IF(Calc!I16=-1,-Calc!BG15*I21,IF(Calc!I16=1,(36-Calc!BG15)*I21)))) | I21: =IF(D20="","",IF(AND(K20>K19,B$1="Yes"),1,IF(AND(G20="W",I20=1,B$7>0),1,IF(AND(G20="W",B$6="+/-"),I20-B$8,IF(AND(G20="W",B$6="Exp"),I20/B$8,IF(AND(G20="L",B$6="+/-"),I20+B$7,IF(AND(G20="L",B$6="Exp"),I20*B$7,I20))))))) | J21: =IF(D20="","",IF(H21="",J20,H21+J20)) | K21: =IF(J21>K20,J21,K20) | L21: =IF(AND(Calc!H16=1,D20<>""),Calc!BG15,"") | M21: =IF(AND($D20<>"",$D21=""),Calc!DA16,"") | N21: =IF(AND($D20<>"",$D21=""),Calc!DB16,"") | O21: =IF(AND($D20<>"",$D21=""),Calc!DC16,"") | P21: =IF(AND($D20<>"",$D21=""),Calc!DD16,"") | Q21: =IF(AND($D20<>"",$D21=""),Calc!DE16,"") | R21: =IF(AND($D20<>"",$D21=""),Calc!DF16,"") | S21: =IF(AND($D20<>"",$D21=""),Calc!DG16,"") | T21: =IF(AND($D20<>"",$D21=""),Calc!DH16,"") | ... AU21: =IF(AND($D20<>"",$D21=""),Calc!EI16,"") | AV21: =IF(AND($D21<>"",$D22=""),Calc!EJ16,"") | AW21: =IF(AND($D22<>"",$D23=""),Calc!EK16,"")
C22: 14 | E22: =IF(D22="","",Calc!G17) | F22: =IF(D21="","",IF(Calc!H17="","Wait",IF(Calc!H17<>"","Play"))) | G22: =IF(D22="","",IF(Calc!I17=1,"W",IF(Calc!I17=-1,"L",""))) | H22: =IF(D22="","",IF(Finals!G22="","",IF(Calc!I17=-1,-Calc!BG16*I22,IF(Calc!I17=1,(36-Calc!BG16)*I22)))) | I22: =IF(D21="","",IF(AND(K21>K20,B$1="Yes"),1,IF(AND(G21="W",I21=1,B$7>0),1,IF(AND(G21="W",B$6="+/-"),I21-B$8,IF(AND(G21="W",B$6="Exp"),I21/B$8,IF(AND(G21="L",B$6="+/-"),I21+B$7,IF(AND(G21="L",B$6="Exp"),I21*B$7,I21))))))) | J22: =IF(D21="","",IF(H22="",J21,H22+J21)) | K22: =IF(J22>K21,J22,K21) | L22: =IF(AND(Calc!H17=1,D21<>""),Calc!BG16,"") | M22: =IF(AND($D21<>"",$D22=""),Calc!DA17,"") | N22: =IF(AND($D21<>"",$D22=""),Calc!DB17,"") | O22: =IF(AND($D21<>"",$D22=""),Calc!DC17,"") | P22: =IF(AND($D21<>"",$D22=""),Calc!DD17,"") | Q22: =IF(AND($D21<>"",$D22=""),Calc!DE17,"") | R22: =IF(AND($D21<>"",$D22=""),Calc!DF17,"") | S22: =IF(AND($D21<>"",$D22=""),Calc!DG17,"") | T22: =IF(AND($D21<>"",$D22=""),Calc!DH17,"") | ... AU22: =IF(AND($D21<>"",$D22=""),Calc!EI17,"") | AV22: =IF(AND($D22<>"",$D23=""),Calc!EJ17,"") | AW22: =IF(AND($D23<>"",$D24=""),Calc!EK17,"")
C23: 15 | E23: =IF(D23="","",Calc!G18) | F23: =IF(D22="","",IF(Calc!H18="","Wait",IF(Calc!H18<>"","Play"))) | G23: =IF(D23="","",IF(Calc!I18=1,"W",IF(Calc!I18=-1,"L",""))) | H23: =IF(D23="","",IF(Finals!G23="","",IF(Calc!I18=-1,-Calc!BG17*I23,IF(Calc!I18=1,(36-Calc!BG17)*I23)))) | I23: =IF(D22="","",IF(AND(K22>K21,B$1="Yes"),1,IF(AND(G22="W",I22=1,B$7>0),1,IF(AND(G22="W",B$6="+/-"),I22-B$8,IF(AND(G22="W",B$6="Exp"),I22/B$8,IF(AND(G22="L",B$6="+/-"),I22+B$7,IF(AND(G22="L",B$6="Exp"),I22*B$7,I22))))))) | J23: =IF(D22="","",IF(H23="",J22,H23+J22)) | K23: =IF(J23>K22,J23,K22) | L23: =IF(AND(Calc!H18=1,D22<>""),Calc!BG17,"") | M23: =IF(AND($D22<>"",$D23=""),Calc!DA18,"") | N23: =IF(AND($D22<>"",$D23=""),Calc!DB18,"") | O23: =IF(AND($D22<>"",$D23=""),Calc!DC18,"") | P23: =IF(AND($D22<>"",$D23=""),Calc!DD18,"") | Q23: =IF(AND($D22<>"",$D23=""),Calc!DE18,"") | R23: =IF(AND($D22<>"",$D23=""),Calc!DF18,"") | S23: =IF(AND($D22<>"",$D23=""),Calc!DG18,"") | T23: =IF(AND($D22<>"",$D23=""),Calc!DH18,"") | ... AU23: =IF(AND($D22<>"",$D23=""),Calc!EI18,"") | AV23: =IF(AND($D23<>"",$D24=""),Calc!EJ18,"") | AW23: =IF(AND($D24<>"",$D25=""),Calc!EK18,"")
C24: 16 | E24: =IF(D24="","",Calc!G19) | F24: =IF(D23="","",IF(Calc!H19="","Wait",IF(Calc!H19<>"","Play"))) | G24: =IF(D24="","",IF(Calc!I19=1,"W",IF(Calc!I19=-1,"L",""))) | H24: =IF(D24="","",IF(Finals!G24="","",IF(Calc!I19=-1,-Calc!BG18*I24,IF(Calc!I19=1,(36-Calc!BG18)*I24)))) | I24: =IF(D23="","",IF(AND(K23>K22,B$1="Yes"),1,IF(AND(G23="W",I23=1,B$7>0),1,IF(AND(G23="W",B$6="+/-"),I23-B$8,IF(AND(G23="W",B$6="Exp"),I23/B$8,IF(AND(G23="L",B$6="+/-"),I23+B$7,IF(AND(G23="L",B$6="Exp"),I23*B$7,I23))))))) | J24: =IF(D23="","",IF(H24="",J23,H24+J23)) | K24: =IF(J24>K23,J24,K23) | L24: =IF(AND(Calc!H19=1,D23<>""),Calc!BG18,"") | M24: =IF(AND($D23<>"",$D24=""),Calc!DA19,"") | N24: =IF(AND($D23<>"",$D24=""),Calc!DB19,"") | O24: =IF(AND($D23<>"",$D24=""),Calc!DC19,"") | P24: =IF(AND($D23<>"",$D24=""),Calc!DD19,"") | Q24: =IF(AND($D23<>"",$D24=""),Calc!DE19,"") | R24: =IF(AND($D23<>"",$D24=""),Calc!DF19,"") | S24: =IF(AND($D23<>"",$D24=""),Calc!DG19,"") | T24: =IF(AND($D23<>"",$D24=""),Calc!DH19,"") | ... AU24: =IF(AND($D23<>"",$D24=""),Calc!EI19,"") | AV24: =IF(AND($D24<>"",$D25=""),Calc!EJ19,"") | AW24: =IF(AND($D25<>"",$D26=""),Calc!EK19,"")
C25: 17 | E25: =IF(D25="","",Calc!G20) | F25: =IF(D24="","",IF(Calc!H20="","Wait",IF(Calc!H20<>"","Play"))) | G25: =IF(D25="","",IF(Calc!I20=1,"W",IF(Calc!I20=-1,"L",""))) | H25: =IF(D25="","",IF(Finals!G25="","",IF(Calc!I20=-1,-Calc!BG19*I25,IF(Calc!I20=1,(36-Calc!BG19)*I25)))) | I25: =IF(D24="","",IF(AND(K24>K23,B$1="Yes"),1,IF(AND(G24="W",I24=1,B$7>0),1,IF(AND(G24="W",B$6="+/-"),I24-B$8,IF(AND(G24="W",B$6="Exp"),I24/B$8,IF(AND(G24="L",B$6="+/-"),I24+B$7,IF(AND(G24="L",B$6="Exp"),I24*B$7,I24))))))) | J25: =IF(D24="","",IF(H25="",J24,H25+J24)) | K25: =IF(J25>K24,J25,K24) | L25: =IF(AND(Calc!H20=1,D24<>""),Calc!BG19,"") | M25: =IF(AND($D24<>"",$D25=""),Calc!DA20,"") | N25: =IF(AND($D24<>"",$D25=""),Calc!DB20,"") | O25: =IF(AND($D24<>"",$D25=""),Calc!DC20,"") | P25: =IF(AND($D24<>"",$D25=""),Calc!DD20,"") | Q25: =IF(AND($D24<>"",$D25=""),Calc!DE20,"") | R25: =IF(AND($D24<>"",$D25=""),Calc!DF20,"") | S25: =IF(AND($D24<>"",$D25=""),Calc!DG20,"") | T25: =IF(AND($D24<>"",$D25=""),Calc!DH20,"") | ... AU25: =IF(AND($D24<>"",$D25=""),Calc!EI20,"") | AV25: =IF(AND($D25<>"",$D26=""),Calc!EJ20,"") | AW25: =IF(AND($D26<>"",$D27=""),Calc!EK20,"")
C26: 18 | E26: =IF(D26="","",Calc!G21) | F26: =IF(D25="","",IF(Calc!H21="","Wait",IF(Calc!H21<>"","Play"))) | G26: =IF(D26="","",IF(Calc!I21=1,"W",IF(Calc!I21=-1,"L",""))) | H26: =IF(D26="","",IF(Finals!G26="","",IF(Calc!I21=-1,-Calc!BG20*I26,IF(Calc!I21=1,(36-Calc!BG20)*I26)))) | I26: =IF(D25="","",IF(AND(K25>K24,B$1="Yes"),1,IF(AND(G25="W",I25=1,B$7>0),1,IF(AND(G25="W",B$6="+/-"),I25-B$8,IF(AND(G25="W",B$6="Exp"),I25/B$8,IF(AND(G25="L",B$6="+/-"),I25+B$7,IF(AND(G25="L",B$6="Exp"),I25*B$7,I25))))))) | J26: =IF(D25="","",IF(H26="",J25,H26+J25)) | K26: =IF(J26>K25,J26,K25) | L26: =IF(AND(Calc!H21=1,D25<>""),Calc!BG20,"") | M26: =IF(AND($D25<>"",$D26=""),Calc!DA21,"") | N26: =IF(AND($D25<>"",$D26=""),Calc!DB21,"") | O26: =IF(AND($D25<>"",$D26=""),Calc!DC21,"") | P26: =IF(AND($D25<>"",$D26=""),Calc!DD21,"") | Q26: =IF(AND($D25<>"",$D26=""),Calc!DE21,"") | R26: =IF(AND($D25<>"",$D26=""),Calc!DF21,"") | S26: =IF(AND($D25<>"",$D26=""),Calc!DG21,"") | T26: =IF(AND($D25<>"",$D26=""),Calc!DH21,"") | ... AU26: =IF(AND($D25<>"",$D26=""),Calc!EI21,"") | AV26: =IF(AND($D26<>"",$D27=""),Calc!EJ21,"") | AW26: =IF(AND($D27<>"",$D28=""),Calc!EK21,"")
C27: 19 | E27: =IF(D27="","",Calc!G22) | F27: =IF(D26="","",IF(Calc!H22="","Wait",IF(Calc!H22<>"","Play"))) | G27: =IF(D27="","",IF(Calc!I22=1,"W",IF(Calc!I22=-1,"L",""))) | H27: =IF(D27="","",IF(Finals!G27="","",IF(Calc!I22=-1,-Calc!BG21*I27,IF(Calc!I22=1,(36-Calc!BG21)*I27)))) | I27: =IF(D26="","",IF(AND(K26>K25,B$1="Yes"),1,IF(AND(G26="W",I26=1,B$7>0),1,IF(AND(G26="W",B$6="+/-"),I26-B$8,IF(AND(G26="W",B$6="Exp"),I26/B$8,IF(AND(G26="L",B$6="+/-"),I26+B$7,IF(AND(G26="L",B$6="Exp"),I26*B$7,I26))))))) | J27: =IF(D26="","",IF(H27="",J26,H27+J26)) | K27: =IF(J27>K26,J27,K26) | L27: =IF(AND(Calc!H22=1,D26<>""),Calc!BG21,"") | M27: =IF(AND($D26<>"",$D27=""),Calc!DA22,"") | N27: =IF(AND($D26<>"",$D27=""),Calc!DB22,"") | O27: =IF(AND($D26<>"",$D27=""),Calc!DC22,"") | P27: =IF(AND($D26<>"",$D27=""),Calc!DD22,"") | Q27: =IF(AND($D26<>"",$D27=""),Calc!DE22,"") | R27: =IF(AND($D26<>"",$D27=""),Calc!DF22,"") | S27: =IF(AND($D26<>"",$D27=""),Calc!DG22,"") | T27: =IF(AND($D26<>"",$D27=""),Calc!DH22,"") | ... AU27: =IF(AND($D26<>"",$D27=""),Calc!EI22,"") | AV27: =IF(AND($D27<>"",$D28=""),Calc!EJ22,"") | AW27: =IF(AND($D28<>"",$D29=""),Calc!EK22,"")
C28: 20 | E28: =IF(D28="","",Calc!G23) | F28: =IF(D27="","",IF(Calc!H23="","Wait",IF(Calc!H23<>"","Play"))) | G28: =IF(D28="","",IF(Calc!I23=1,"W",IF(Calc!I23=-1,"L",""))) | H28: =IF(D28="","",IF(Finals!G28="","",IF(Calc!I23=-1,-Calc!BG22*I28,IF(Calc!I23=1,(36-Calc!BG22)*I28)))) | I28: =IF(D27="","",IF(AND(K27>K26,B$1="Yes"),1,IF(AND(G27="W",I27=1,B$7>0),1,IF(AND(G27="W",B$6="+/-"),I27-B$8,IF(AND(G27="W",B$6="Exp"),I27/B$8,IF(AND(G27="L",B$6="+/-"),I27+B$7,IF(AND(G27="L",B$6="Exp"),I27*B$7,I27))))))) | J28: =IF(D27="","",IF(H28="",J27,H28+J27)) | K28: =IF(J28>K27,J28,K27) | L28: =IF(AND(Calc!H23=1,D27<>""),Calc!BG22,"") | M28: =IF(AND($D27<>"",$D28=""),Calc!DA23,"") | N28: =IF(AND($D27<>"",$D28=""),Calc!DB23,"") | O28: =IF(AND($D27<>"",$D28=""),Calc!DC23,"") | P28: =IF(AND($D27<>"",$D28=""),Calc!DD23,"") | Q28: =IF(AND($D27<>"",$D28=""),Calc!DE23,"") | R28: =IF(AND($D27<>"",$D28=""),Calc!DF23,"") | S28: =IF(AND($D27<>"",$D28=""),Calc!DG23,"") | T28: =IF(AND($D27<>"",$D28=""),Calc!DH23,"") | ... AU28: =IF(AND($D27<>"",$D28=""),Calc!EI23,"") | AV28: =IF(AND($D28<>"",$D29=""),Calc!EJ23,"") | AW28: =IF(AND($D29<>"",$D30=""),Calc!EK23,"")
... C1007: 999 | E1007: =IF(D1007="","",Calc!G1002) | F1007: =IF(D1006="","",IF(Calc!H1002="","Wait",IF(Calc!H1002<>"","Play"))) | G1007: =IF(D1007="","",IF(Calc!I1002=1,"W",IF(Calc!I1002=-1,"L",""))) | H1007: =IF(D1007="","",IF(Finals!G1007="","",IF(Calc!I1002=-1,-Calc!BG1001*I1007,IF(Calc!I1002=1,(36-Calc!BG1001)*I1007)))) | I1007: =IF(D1006="","",IF(AND(K1006>K1005,B$1="Yes"),1,IF(AND(G1006="W",I1006=1,B$7>0),1,IF(AND(G1006="W",B$6="+/-"),I1006-B$8,IF(AND(G1006="W",B$6="Exp"),I1006/B$8,IF(AND(G1006="L",B$6="+/-"),I1006+B$7,IF(AND(G1006="L",B$6="Exp"),I1006*B$7,I1006))))))) | J1007: =IF(D1006="","",IF(H1007="",J1006,H1007+J1006)) | K1007: =IF(J1007>K1006,J1007,K1006) | L1007: =IF(AND(Calc!H1002=1,D1006<>""),Calc!BG1001,"") | M1007: =IF(AND($D1006<>"",$D1007=""),Calc!DA1002,"") | N1007: =IF(AND($D1006<>"",$D1007=""),Calc!DB1002,"") | O1007: =IF(AND($D1006<>"",$D1007=""),Calc!DC1002,"") | P1007: =IF(AND($D1006<>"",$D1007=""),Calc!DD1002,"") | Q1007: =IF(AND($D1006<>"",$D1007=""),Calc!DE1002,"") | R1007: =IF(AND($D1006<>"",$D1007=""),Calc!DF1002,"") | S1007: =IF(AND($D1006<>"",$D1007=""),Calc!DG1002,"") | T1007: =IF(AND($D1006<>"",$D1007=""),Calc!DH1002,"") | ... AU1007: =IF(AND($D1006<>"",$D1007=""),Calc!EI1002,"") | AV1007: =IF(AND($D1007<>"",$D1008=""),Calc!EJ1002,"") | AW1007: =IF(AND($D1008<>"",$D1009=""),Calc!EK1002,"")
C1008: 1000 | E1008: =IF(D1008="","",Calc!G1003) | F1008: =IF(D1007="","",IF(Calc!H1003="","Wait",IF(Calc!H1003<>"","Play"))) | G1008: =IF(D1008="","",IF(Calc!I1003=1,"W",IF(Calc!I1003=-1,"L",""))) | H1008: =IF(D1008="","",IF(Finals!G1008="","",IF(Calc!I1003=-1,-Calc!BG1002*I1008,IF(Calc!I1003=1,(36-Calc!BG1002)*I1008)))) | I1008: =IF(D1007="","",IF(AND(K1007>K1006,B$1="Yes"),1,IF(AND(G1007="W",I1007=1,B$7>0),1,IF(AND(G1007="W",B$6="+/-"),I1007-B$8,IF(AND(G1007="W",B$6="Exp"),I1007/B$8,IF(AND(G1007="L",B$6="+/-"),I1007+B$7,IF(AND(G1007="L",B$6="Exp"),I1007*B$7,I1007))))))) | J1008: =IF(D1007="","",IF(H1008="",J1007,H1008+J1007)) | K1008: =IF(J1008>K1007,J1008,K1007) | L1008: =IF(AND(Calc!H1003=1,D1007<>""),Calc!BG1002,"")

Sheet Calc
A1: Yes | I1: =COUNTIF(I4:I1003,1) -> 0 | V1: play-noplay | BP1: lookup | DA1: display | EL1: Pr
A2: No | I2: =COUNTIF(I4:I1003,-1) -> 249 | L2: Final | V2: 0 | W2: 1 | X2: 2 | Y2: 3 | Z2: 4 | AA2: 5 | AB2: 6 | AC2: 7 | AD2: 8 | AE2: 9 | AF2: 0 | AG2: 1 | AH2: 2 | AI2: 3 | AJ2: 4 | AK2: 5 | AL2: 6 | AM2: 7 | AN2: 8 | AO2: 9 | AP2: 0 | AQ2: 1 | AR2: 2 | AS2: 3 | AT2: 4 | AU2: 5 | AV2: 6 | AW2: 7 | AX2: 8 | AY2: 9 | AZ2: 0 | BA2: 1 | BB2: 2 | BC2: 3 | BD2: 4 | BE2: 5 | BF2: 6 | BP2: 0 | BQ2: 1 | BR2: 2 | BS2: 3 | BT2: 4 | BU2: 5 | BV2: 6 | BW2: 7 | BX2: 8 | BY2: 9 | BZ2: 0 | CA2: 1 | CB2: 2 | CC2: 3 | CD2: 4 | CE2: 5 | CF2: 6 | CG2: 7 | CH2: 8 | CI2: 9 | CJ2: 0 | CK2: 1 | CL2: 2 | CM2: 3 | CN2: 4 | CO2: 5 | CP2: 6 | CQ2: 7 | CR2: 8 | CS2: 9 | CT2: 0 | CU2: 1 | CV2: 2 | CW2: 3 | CX2: 4 | CY2: 5 | CZ2: 6
A3: ="+/-" -> +/- | C3: Spin | D3: Trk | E3: Play | F3: Nrs | G3: Final | L3: 0 | M3: 1 | N3: 2 | O3: 3 | P3: 4 | Q3: 5 | R3: 6 | S3: 7 | T3: 8 | U3: 9 | V3: 0 | W3: 1 | X3: 2 | Y3: 3 | Z3: 4 | AA3: 5 | AB3: 6 | AC3: 7 | AD3: 8 | AE3: 9 | AF3: 10 | AG3: 11 | AH3: 12 | AI3: 13 | AJ3: 14 | AK3: 15 | AL3: 16 | AM3: 17 | AN3: 18 | AO3: 19 | AP3: 20 | AQ3: 21 | AR3: 22 | AS3: 23 | AT3: 24 | AU3: 25 | AV3: 26 | AW3: 27 | AX3: 28 | AY3: 29 | AZ3: 30 | BA3: 31 | BB3: 32 | BC3: 33 | BD3: 34 | BE3: 35 | BF3: 36 | BP3: 0 | BQ3: 1 | BR3: 2 | BS3: 3 | BT3: 4 | BU3: 5 | BV3: 6 | BW3: 7 | BX3: 8 | BY3: 9 | BZ3: 10 | CA3: 11 | CB3: 12 | CC3: 13 | CD3: 14 | CE3: 15 | CF3: 16 | CG3: 17 | CH3: 18 | CI3: 19 | CJ3: 20 | CK3: 21 | CL3: 22 | CM3: 23 | CN3: 24 | CO3: 25 | CP3: 26 | CQ3: 27 | CR3: 28 | CS3: 29 | CT3: 30 | CU3: 31 | CV3: 32 | CW3: 33 | CX3: 34 | CY3: 35 | CZ3: 36 | DA3: 1 | DB3: 2 | DC3: 3 | DD3: 4 | DE3: 5 | DF3: 6 | DG3: 7 | DH3: 8 | DI3: 9 | DJ3: 10 | DK3: 11 | DL3: 12 | DM3: 13 | DN3: 14 | DO3: 15 | DP3: 16 | DQ3: 17 | DR3: 18 | DS3: 19 | DT3: 20 | DU3: 21 | DV3: 22 | DW3: 23 | DX3: 24 | DY3: 25 | DZ3: 26 | EA3: 27 | EB3: 28 | EC3: 29 | ED3: 30 | EE3: 31 | EF3: 32 | EG3: 33 | EH3: 34 | EI3: 35 | EJ3: 36 | EK3: 37
A4: Exp | C4: 1 | D4: =VALUE(RIGHT(C4,1)) -> 1 | E4: 1 | F4: =Finals!D9 -> 19 | G4: =IF(F4="","",VALUE(RIGHT(F4,1))) -> 9 | I4: =IF(H4="","",IF(H4=0,1,-1)) | L4: =IF($G4=L3,1,0) -> 0 | M4: =IF($G4=M3,1,0) -> 0 | N4: =IF($G4=N3,1,0) -> 0 | O4: =IF($G4=O3,1,0) -> 0 | P4: =IF($G4=P3,1,0) -> 0 | Q4: =IF($G4=Q3,1,0) -> 0 | R4: =IF($G4=R3,1,0) -> 0 | S4: =IF($G4=S3,1,0) -> 0 | ... U4: =IF($G4=U3,1,0) -> 1 | V4: =IF($G4=V$2,0,1) -> 1 | W4: =IF($G4=W$2,0,1) -> 1 | X4: =IF($G4=X$2,0,1) -> 1 | Y4: =IF($G4=Y$2,0,1) -> 1 | Z4: =IF($G4=Z$2,0,1) -> 1 | AA4: =IF($G4=AA$2,0,1) -> 1 | AB4: =IF($G4=AB$2,0,1) -> 1 | AC4: =IF($G4=AC$2,0,1) -> 1 | ... BF4: =IF($G4=BF$2,0,1) -> 1 | BG4: =SUM(V4:BF4) -> 34 | BP4: 1 | BQ4: =IF(V4=1,1+BP4,BP4) -> 2 | BR4: =IF(W4=1,1+BQ4,BQ4) -> 3 | BS4: =IF(X4=1,1+BR4,BR4) -> 4 | BT4: =IF(Y4=1,1+BS4,BS4) -> 5 | BU4: =IF(Z4=1,1+BT4,BT4) -> 6 | BV4: =IF(AA4=1,1+BU4,BU4) -> 7 | BW4: =IF(AB4=1,1+BV4,BV4) -> 8 | BX4: =IF(AC4=1,1+BW4,BW4) -> 9 | ... CZ4: =IF(BE4=1,1+CY4,CY4) -> 34 | DA4: =LOOKUP(DA$3,$BP4:$CZ4,$BP$3:$CZ$3) -> 0 | DB4: =IF(DB$3>$BG4,"",IF(OR(DA4=36,DA4=""),"",LOOKUP(DB$3,$BP4:$CZ4,$BP$3:$CZ$3))) -> 1 | DC4: =IF(DC$3>$BG4,"",IF(OR(DB4=36,DB4=""),"",LOOKUP(DC$3,$BP4:$CZ4,$BP$3:$CZ$3))) -> 2 | DD4: =IF(DD$3>$BG4,"",IF(OR(DC4=36,DC4=""),"",LOOKUP(DD$3,$BP4:$CZ4,$BP$3:$CZ$3))) -> 3 | DE4: =IF(DE$3>$BG4,"",IF(OR(DD4=36,DD4=""),"",LOOKUP(DE$3,$BP4:$CZ4,$BP$3:$CZ$3))) -> 4 | DF4: =IF(DF$3>$BG4,"",IF(OR(DE4=36,DE4=""),"",LOOKUP(DF$3,$BP4:$CZ4,$BP$3:$CZ$3))) -> 5 | DG4: =IF(DG$3>$BG4,"",IF(OR(DF4=36,DF4=""),"",LOOKUP(DG$3,$BP4:$CZ4,$BP$3:$CZ$3))) -> 6 | DH4: =IF(DH$3>$BG4,"",IF(OR(DG4=36,DG4=""),"",LOOKUP(DH$3,$BP4:$CZ4,$BP$3:$CZ$3))) -> 7 | DI4: =IF(DI$3>$BG4,"",IF(OR(DH4=36,DH4=""),"",LOOKUP(DI$3,$BP4:$CZ4,$BP$3:$CZ$3))) -> 8 | ... EK4: =IF(EK$3>$BG4,"",IF(OR(EJ4=36,EJ4=""),"",LOOKUP(EK$3,$BP4:$CZ4,$BP$3:$CZ$3))) | EL4: =IF(I4=1,Finals!I9,"")
C5: 2 | D5: =IF(AND(Finals!K9>Finals!K8,Finals!B$3="Yes"),1,IF(AND(I4=1,Finals!B$2="Yes"),1,IF(AND(E4=Finals!B$5,Calc!D4>=Finals!B$4),1,IF(AND(D4=Finals!B$4,E4<Finals!B$5),D4,1+D4)))) -> 2 | E5: =IF(E4=Finals!B$5,1,IF(AND(I4=1,Finals!B$2="Yes"),1,IF(D4<Finals!B$4,1,Calc!E4+1))) -> 1 | F5: =Finals!D10 -> 29 | G5: =IF(F5="","",VALUE(RIGHT(F5,1))) -> 9 | H5: =IF(AND(Finals!K9>Finals!K8,Finals!B$3="Yes"),"",IF(AND(I4=1,Finals!B$2="Yes"),"",IF(D4<>Finals!B$4,"",1))) | I5: =IF(H5="","",IF(LOOKUP(F5,V$3:BF$3,V4:BF4)=1,1,-1)) | J5: =IF(I5=-1,-BG4,IF(I5=1,36-BG4,0)) -> 0 | K5: =J5+K4 -> 0 | L5: =IF(AND($D4=0,$G5=L$3),1,IF($D4=0,0,IF($G5=L$3,1,L4))) -> 0 | M5: =IF(AND($D4=0,$G5=M$3),1,IF($D4=0,0,IF($G5=M$3,1,M4))) -> 0 | N5: =IF(AND($D4=0,$G5=N$3),1,IF($D4=0,0,IF($G5=N$3,1,N4))) -> 0 | O5: =IF(AND($D4=0,$G5=O$3),1,IF($D4=0,0,IF($G5=O$3,1,O4))) -> 0 | P5: =IF(AND($D4=0,$G5=P$3),1,IF($D4=0,0,IF($G5=P$3,1,P4))) -> 0 | Q5: =IF(AND($D4=0,$G5=Q$3),1,IF($D4=0,0,IF($G5=Q$3,1,Q4))) -> 0 | R5: =IF(AND($D4=0,$G5=R$3),1,IF($D4=0,0,IF($G5=R$3,1,R4))) -> 0 | S5: =IF(AND($D4=0,$G5=S$3),1,IF($D4=0,0,IF($G5=S$3,1,S4))) -> 0 | ... U5: =IF(AND($D4=0,$G5=U$3),1,IF($D4=0,0,IF($G5=U$3,1,U4))) -> 1 | V5: =IF(AND($D4=Finals!$B$4,$D5=1,$G5=V$2),0,IF(AND($D4=Finals!$B$4,$D5=1),1,IF($G5=V$2,0,V4))) -> 1 | W5: =IF(AND($D4=Finals!$B$4,$D5=1,$G5=W$2),0,IF(AND($D4=Finals!$B$4,$D5=1),1,IF($G5=W$2,0,W4))) -> 1 | X5: =IF(AND($D4=Finals!$B$4,$D5=1,$G5=X$2),0,IF(AND($D4=Finals!$B$4,$D5=1),1,IF($G5=X$2,0,X4))) -> 1 | Y5: =IF(AND($D4=Finals!$B$4,$D5=1,$G5=Y$2),0,IF(AND($D4=Finals!$B$4,$D5=1),1,IF($G5=Y$2,0,Y4))) -> 1 | Z5: =IF(AND($D4=Finals!$B$4,$D5=1,$G5=Z$2),0,IF(AND($D4=Finals!$B$4,$D5=1),1,IF($G5=Z$2,0,Z4))) -> 1 | AA5: =IF(AND($D4=Finals!$B$4,$D5=1,$G5=AA$2),0,IF(AND($D4=Finals!$B$4,$D5=1),1,IF($G5=AA$2,0,AA4))) -> 1 | AB5: =IF(AND($D4=Finals!$B$4,$D5=1,$G5=AB$2),0,IF(AND($D4=Finals!$B$4,$D5=1),1,IF($G5=AB$2,0,AB4))) -> 1 | AC5: =IF(AND($D4=Finals!$B$4,$D5=1,$G5=AC$2),0,IF(AND($D4=Finals!$B$4,$D5=1),1,IF($G5=AC$2,0,AC4))) -> 1 | ... BF5: =IF(AND($D4=Finals!$B$4,$D5=1,$G5=BF$2),0,IF(AND($D4=Finals!$B$4,$D5=1),1,IF($G5=BF$2,0,BF4))) -> 1 | BG5: =SUM(V5:BF5) -> 34 | BP5: 1 | BQ5: =IF(V5=1,1+BP5,BP5) -> 2 | BR5: =IF(W5=1,1+BQ5,BQ5) -> 3 | BS5: =IF(X5=1,1+BR5,BR5) -> 4 | BT5: =IF(Y5=1,1+BS5,BS5) -> 5 | BU5: =IF(Z5=1,1+BT5,BT5) -> 6 | BV5: =IF(AA5=1,1+BU5,BU5) -> 7 | BW5: =IF(AB5=1,1+BV5,BV5) -> 8 | BX5: =IF(AC5=1,1+BW5,BW5) -> 9 | ... CZ5: =IF(BE5=1,1+CY5,CY5) -> 34 | DA5: =LOOKUP(DA$3,$BP5:$CZ5,$BP$3:$CZ$3) -> 0 | DB5: =IF(DB$3>$BG5,"",IF(OR(DA5=36,DA5=""),"",LOOKUP(DB$3,$BP5:$CZ5,$BP$3:$CZ$3))) -> 1 | DC5: =IF(DC$3>$BG5,"",IF(OR(DB5=36,DB5=""),"",LOOKUP(DC$3,$BP5:$CZ5,$BP$3:$CZ$3))) -> 2 | DD5: =IF(DD$3>$BG5,"",IF(OR(DC5=36,DC5=""),"",LOOKUP(DD$3,$BP5:$CZ5,$BP$3:$CZ$3))) -> 3 | DE5: =IF(DE$3>$BG5,"",IF(OR(DD5=36,DD5=""),"",LOOKUP(DE$3,$BP5:$CZ5,$BP$3:$CZ$3))) -> 4 | DF5: =IF(DF$3>$BG5,"",IF(OR(DE5=36,DE5=""),"",LOOKUP(DF$3,$BP5:$CZ5,$BP$3:$CZ$3))) -> 5 | DG5: =IF(DG$3>$BG5,"",IF(OR(DF5=36,DF5=""),"",LOOKUP(DG$3,$BP5:$CZ5,$BP$3:$CZ$3))) -> 6 | DH5: =IF(DH$3>$BG5,"",IF(OR(DG5=36,DG5=""),"",LOOKUP(DH$3,$BP5:$CZ5,$BP$3:$CZ$3))) -> 7 | DI5: =IF(DI$3>$BG5,"",IF(OR(DH5=36,DH5=""),"",LOOKUP(DI$3,$BP5:$CZ5,$BP$3:$CZ$3))) -> 8 | ... EK5: =IF(EK$3>$BG5,"",IF(OR(EJ5=36,EJ5=""),"",LOOKUP(EK$3,$BP5:$CZ5,$BP$3:$CZ$3))) | EL5: =IF(I5=1,Finals!I10,"")
C6: 3 | D6: =IF(AND(Finals!K10>Finals!K9,Finals!B$3="Yes"),1,IF(AND(I5=1,Finals!B$2="Yes"),1,IF(AND(E5=Finals!B$5,Calc!D5>=Finals!B$4),1,IF(AND(D5=Finals!B$4,E5<Finals!B$5),D5,1+D5)))) -> 3 | E6: =IF(E5=Finals!B$5,1,IF(AND(I5=1,Finals!B$2="Yes"),1,IF(D5<Finals!B$4,1,Calc!E5+1))) -> 1 | F6: =Finals!D11 -> 21 | G6: =IF(F6="","",VALUE(RIGHT(F6,1))) -> 1 | H6: =IF(AND(Finals!K10>Finals!K9,Finals!B$3="Yes"),"",IF(AND(I5=1,Finals!B$2="Yes"),"",IF(D5<>Finals!B$4,"",1))) | I6: =IF(H6="","",IF(LOOKUP(F6,V$3:BF$3,V5:BF5)=1,1,-1)) | J6: =IF(I6=-1,-BG5,IF(I6=1,36-BG5,0)) -> 0 | K6: =J6+K5 -> 0 | L6: =IF(AND($D5=0,$G6=L$3),1,IF($D5=0,0,IF($G6=L$3,1,L5))) -> 0 | M6: =IF(AND($D5=0,$G6=M$3),1,IF($D5=0,0,IF($G6=M$3,1,M5))) -> 1 | N6: =IF(AND($D5=0,$G6=N$3),1,IF($D5=0,0,IF($G6=N$3,1,N5))) -> 0 | O6: =IF(AND($D5=0,$G6=O$3),1,IF($D5=0,0,IF($G6=O$3,1,O5))) -> 0 | P6: =IF(AND($D5=0,$G6=P$3),1,IF($D5=0,0,IF($G6=P$3,1,P5))) -> 0 | Q6: =IF(AND($D5=0,$G6=Q$3),1,IF($D5=0,0,IF($G6=Q$3,1,Q5))) -> 0 | R6: =IF(AND($D5=0,$G6=R$3),1,IF($D5=0,0,IF($G6=R$3,1,R5))) -> 0 | S6: =IF(AND($D5=0,$G6=S$3),1,IF($D5=0,0,IF($G6=S$3,1,S5))) -> 0 | ... U6: =IF(AND($D5=0,$G6=U$3),1,IF($D5=0,0,IF($G6=U$3,1,U5))) -> 1 | V6: =IF(AND($D5=Finals!$B$4,$D6=1,$G6=V$2),0,IF(AND($D5=Finals!$B$4,$D6=1),1,IF($G6=V$2,0,V5))) -> 1 | W6: =IF(AND($D5=Finals!$B$4,$D6=1,$G6=W$2),0,IF(AND($D5=Finals!$B$4,$D6=1),1,IF($G6=W$2,0,W5))) -> 0 | X6: =IF(AND($D5=Finals!$B$4,$D6=1,$G6=X$2),0,IF(AND($D5=Finals!$B$4,$D6=1),1,IF($G6=X$2,0,X5))) -> 1 | Y6: =IF(AND($D5=Finals!$B$4,$D6=1,$G6=Y$2),0,IF(AND($D5=Finals!$B$4,$D6=1),1,IF($G6=Y$2,0,Y5))) -> 1 | Z6: =IF(AND($D5=Finals!$B$4,$D6=1,$G6=Z$2),0,IF(AND($D5=Finals!$B$4,$D6=1),1,IF($G6=Z$2,0,Z5))) -> 1 | AA6: =IF(AND($D5=Finals!$B$4,$D6=1,$G6=AA$2),0,IF(AND($D5=Finals!$B$4,$D6=1),1,IF($G6=AA$2,0,AA5))) -> 1 | AB6: =IF(AND($D5=Finals!$B$4,$D6=1,$G6=AB$2),0,IF(AND($D5=Finals!$B$4,$D6=1),1,IF($G6=AB$2,0,AB5))) -> 1 | AC6: =IF(AND($D5=Finals!$B$4,$D6=1,$G6=AC$2),0,IF(AND($D5=Finals!$B$4,$D6=1),1,IF($G6=AC$2,0,AC5))) -> 1 | ... BF6: =IF(AND($D5=Finals!$B$4,$D6=1,$G6=BF$2),0,IF(AND($D5=Finals!$B$4,$D6=1),1,IF($G6=BF$2,0,BF5))) -> 1 | BG6: =SUM(V6:BF6) -> 30 | BP6: 1 | BQ6: =IF(V6=1,1+BP6,BP6) -> 2 | BR6: =IF(W6=1,1+BQ6,BQ6) -> 2 | BS6: =IF(X6=1,1+BR6,BR6) -> 3 | BT6: =IF(Y6=1,1+BS6,BS6) -> 4 | BU6: =IF(Z6=1,1+BT6,BT6) -> 5 | BV6: =IF(AA6=1,1+BU6,BU6) -> 6 | BW6: =IF(AB6=1,1+BV6,BV6) -> 7 | BX6: =IF(AC6=1,1+BW6,BW6) -> 8 | ... CZ6: =IF(BE6=1,1+CY6,CY6) -> 30 | DA6: =LOOKUP(DA$3,$BP6:$CZ6,$BP$3:$CZ$3) -> 0 | DB6: =IF(DB$3>$BG6,"",IF(OR(DA6=36,DA6=""),"",LOOKUP(DB$3,$BP6:$CZ6,$BP$3:$CZ$3))) -> 2 | DC6: =IF(DC$3>$BG6,"",IF(OR(DB6=36,DB6=""),"",LOOKUP(DC$3,$BP6:$CZ6,$BP$3:$CZ$3))) -> 3 | DD6: =IF(DD$3>$BG6,"",IF(OR(DC6=36,DC6=""),"",LOOKUP(DD$3,$BP6:$CZ6,$BP$3:$CZ$3))) -> 4 | DE6: =IF(DE$3>$BG6,"",IF(OR(DD6=36,DD6=""),"",LOOKUP(DE$3,$BP6:$CZ6,$BP$3:$CZ$3))) -> 5 | DF6: =IF(DF$3>$BG6,"",IF(OR(DE6=36,DE6=""),"",LOOKUP(DF$3,$BP6:$CZ6,$BP$3:$CZ$3))) -> 6 | DG6: =IF(DG$3>$BG6,"",IF(OR(DF6=36,DF6=""),"",LOOKUP(DG$3,$BP6:$CZ6,$BP$3:$CZ$3))) -> 7 | DH6: =IF(DH$3>$BG6,"",IF(OR(DG6=36,DG6=""),"",LOOKUP(DH$3,$BP6:$CZ6,$BP$3:$CZ$3))) -> 8 | DI6: =IF(DI$3>$BG6,"",IF(OR(DH6=36,DH6=""),"",LOOKUP(DI$3,$BP6:$CZ6,$BP$3:$CZ$3))) -> 10 | ... EK6: =IF(EK$3>$BG6,"",IF(OR(EJ6=36,EJ6=""),"",LOOKUP(EK$3,$BP6:$CZ6,$BP$3:$CZ$3))) | EL6: =IF(I6=1,Finals!I11,"")
C7: 4 | D7: =IF(AND(Finals!K11>Finals!K10,Finals!B$3="Yes"),1,IF(AND(I6=1,Finals!B$2="Yes"),1,IF(AND(E6=Finals!B$5,Calc!D6>=Finals!B$4),1,IF(AND(D6=Finals!B$4,E6<Finals!B$5),D6,1+D6)))) -> 4 | E7: =IF(E6=Finals!B$5,1,IF(AND(I6=1,Finals!B$2="Yes"),1,IF(D6<Finals!B$4,1,Calc!E6+1))) -> 1 | F7: =Finals!D12 -> 17 | G7: =IF(F7="","",VALUE(RIGHT(F7,1))) -> 7 | H7: =IF(AND(Finals!K11>Finals!K10,Finals!B$3="Yes"),"",IF(AND(I6=1,Finals!B$2="Yes"),"",IF(D6<>Finals!B$4,"",1))) | I7: =IF(H7="","",IF(LOOKUP(F7,V$3:BF$3,V6:BF6)=1,1,-1)) | J7: =IF(I7=-1,-BG6,IF(I7=1,36-BG6,0)) -> 0 | K7: =J7+K6 -> 0 | L7: =IF(AND($D6=0,$G7=L$3),1,IF($D6=0,0,IF($G7=L$3,1,L6))) -> 0 | M7: =IF(AND($D6=0,$G7=M$3),1,IF($D6=0,0,IF($G7=M$3,1,M6))) -> 1 | N7: =IF(AND($D6=0,$G7=N$3),1,IF($D6=0,0,IF($G7=N$3,1,N6))) -> 0 | O7: =IF(AND($D6=0,$G7=O$3),1,IF($D6=0,0,IF($G7=O$3,1,O6))) -> 0 | P7: =IF(AND($D6=0,$G7=P$3),1,IF($D6=0,0,IF($G7=P$3,1,P6))) -> 0 | Q7: =IF(AND($D6=0,$G7=Q$3),1,IF($D6=0,0,IF($G7=Q$3,1,Q6))) -> 0 | R7: =IF(AND($D6=0,$G7=R$3),1,IF($D6=0,0,IF($G7=R$3,1,R6))) -> 0 | S7: =IF(AND($D6=0,$G7=S$3),1,IF($D6=0,0,IF($G7=S$3,1,S6))) -> 1 | ... U7: =IF(AND($D6=0,$G7=U$3),1,IF($D6=0,0,IF($G7=U$3,1,U6))) -> 1 | V7: =IF(AND($D6=Finals!$B$4,$D7=1,$G7=V$2),0,IF(AND($D6=Finals!$B$4,$D7=1),1,IF($G7=V$2,0,V6))) -> 1 | W7: =IF(AND($D6=Finals!$B$4,$D7=1,$G7=W$2),0,IF(AND($D6=Finals!$B$4,$D7=1),1,IF($G7=W$2,0,W6))) -> 0 | X7: =IF(AND($D6=Finals!$B$4,$D7=1,$G7=X$2),0,IF(AND($D6=Finals!$B$4,$D7=1),1,IF($G7=X$2,0,X6))) -> 1 | Y7: =IF(AND($D6=Finals!$B$4,$D7=1,$G7=Y$2),0,IF(AND($D6=Finals!$B$4,$D7=1),1,IF($G7=Y$2,0,Y6))) -> 1 | Z7: =IF(AND($D6=Finals!$B$4,$D7=1,$G7=Z$2),0,IF(AND($D6=Finals!$B$4,$D7=1),1,IF($G7=Z$2,0,Z6))) -> 1 | AA7: =IF(AND($D6=Finals!$B$4,$D7=1,$G7=AA$2),0,IF(AND($D6=Finals!$B$4,$D7=1),1,IF($G7=AA$2,0,AA6))) -> 1 | AB7: =IF(AND($D6=Finals!$B$4,$D7=1,$G7=AB$2),0,IF(AND($D6=Finals!$B$4,$D7=1),1,IF($G7=AB$2,0,AB6))) -> 1 | AC7: =IF(AND($D6=Finals!$B$4,$D7=1,$G7=AC$2),0,IF(AND($D6=Finals!$B$4,$D7=1),1,IF($G7=AC$2,0,AC6))) -> 0 | ... BF7: =IF(AND($D6=Finals!$B$4,$D7=1,$G7=BF$2),0,IF(AND($D6=Finals!$B$4,$D7=1),1,IF($G7=BF$2,0,BF6))) -> 1 | BG7: =SUM(V7:BF7) -> 27 | BP7: 1 | BQ7: =IF(V7=1,1+BP7,BP7) -> 2 | BR7: =IF(W7=1,1+BQ7,BQ7) -> 2 | BS7: =IF(X7=1,1+BR7,BR7) -> 3 | BT7: =IF(Y7=1,1+BS7,BS7) -> 4 | BU7: =IF(Z7=1,1+BT7,BT7) -> 5 | BV7: =IF(AA7=1,1+BU7,BU7) -> 6 | BW7: =IF(AB7=1,1+BV7,BV7) -> 7 | BX7: =IF(AC7=1,1+BW7,BW7) -> 7 | ... CZ7: =IF(BE7=1,1+CY7,CY7) -> 27 | DA7: =LOOKUP(DA$3,$BP7:$CZ7,$BP$3:$CZ$3) -> 0 | DB7: =IF(DB$3>$BG7,"",IF(OR(DA7=36,DA7=""),"",LOOKUP(DB$3,$BP7:$CZ7,$BP$3:$CZ$3))) -> 2 | DC7: =IF(DC$3>$BG7,"",IF(OR(DB7=36,DB7=""),"",LOOKUP(DC$3,$BP7:$CZ7,$BP$3:$CZ$3))) -> 3 | DD7: =IF(DD$3>$BG7,"",IF(OR(DC7=36,DC7=""),"",LOOKUP(DD$3,$BP7:$CZ7,$BP$3:$CZ$3))) -> 4 | DE7: =IF(DE$3>$BG7,"",IF(OR(DD7=36,DD7=""),"",LOOKUP(DE$3,$BP7:$CZ7,$BP$3:$CZ$3))) -> 5 | DF7: =IF(DF$3>$BG7,"",IF(OR(DE7=36,DE7=""),"",LOOKUP(DF$3,$BP7:$CZ7,$BP$3:$CZ$3))) -> 6 | DG7: =IF(DG$3>$BG7,"",IF(OR(DF7=36,DF7=""),"",LOOKUP(DG$3,$BP7:$CZ7,$BP$3:$CZ$3))) -> 8 | DH7: =IF(DH$3>$BG7,"",IF(OR(DG7=36,DG7=""),"",LOOKUP(DH$3,$BP7:$CZ7,$BP$3:$CZ$3))) -> 10 | DI7: =IF(DI$3>$BG7,"",IF(OR(DH7=36,DH7=""),"",LOOKUP(DI$3,$BP7:$CZ7,$BP$3:$CZ$3))) -> 12 | ... EK7: =IF(EK$3>$BG7,"",IF(OR(EJ7=36,EJ7=""),"",LOOKUP(EK$3,$BP7:$CZ7,$BP$3:$CZ$3))) | EL7: =IF(I7=1,Finals!I12,"")
C8: 5 | D8: =IF(AND(Finals!K12>Finals!K11,Finals!B$3="Yes"),1,IF(AND(I7=1,Finals!B$2="Yes"),1,IF(AND(E7=Finals!B$5,Calc!D7>=Finals!B$4),1,IF(AND(D7=Finals!B$4,E7<Finals!B$5),D7,1+D7)))) -> 5 | E8: =IF(E7=Finals!B$5,1,IF(AND(I7=1,Finals!B$2="Yes"),1,IF(D7<Finals!B$4,1,Calc!E7+1))) -> 1 | F8: =Finals!D13 -> 34 | G8: =IF(F8="","",VALUE(RIGHT(F8,1))) -> 4 | H8: =IF(AND(Finals!K12>Finals!K11,Finals!B$3="Yes"),"",IF(AND(I7=1,Finals!B$2="Yes"),"",IF(D7<>Finals!B$4,"",1))) | I8: =IF(H8="","",IF(LOOKUP(F8,V$3:BF$3,V7:BF7)=1,1,-1)) | J8: =IF(I8=-1,-BG7,IF(I8=1,36-BG7,0)) -> 0 | K8: =J8+K7 -> 0 | L8: =IF(AND($D7=0,$G8=L$3),1,IF($D7=0,0,IF($G8=L$3,1,L7))) -> 0 | M8: =IF(AND($D7=0,$G8=M$3),1,IF($D7=0,0,IF($G8=M$3,1,M7))) -> 1 | N8: =IF(AND($D7=0,$G8=N$3),1,IF($D7=0,0,IF($G8=N$3,1,N7))) -> 0 | O8: =IF(AND($D7=0,$G8=O$3),1,IF($D7=0,0,IF($G8=O$3,1,O7))) -> 0 | P8: =IF(AND($D7=0,$G8=P$3),1,IF($D7=0,0,IF($G8=P$3,1,P7))) -> 1 | Q8: =IF(AND($D7=0,$G8=Q$3),1,IF($D7=0,0,IF($G8=Q$3,1,Q7))) -> 0 | R8: =IF(AND($D7=0,$G8=R$3),1,IF($D7=0,0,IF($G8=R$3,1,R7))) -> 0 | S8: =IF(AND($D7=0,$G8=S$3),1,IF($D7=0,0,IF($G8=S$3,1,S7))) -> 1 | ... U8: =IF(AND($D7=0,$G8=U$3),1,IF($D7=0,0,IF($G8=U$3,1,U7))) -> 1 | V8: =IF(AND($D7=Finals!$B$4,$D8=1,$G8=V$2),0,IF(AND($D7=Finals!$B$4,$D8=1),1,IF($G8=V$2,0,V7))) -> 1 | W8: =IF(AND($D7=Finals!$B$4,$D8=1,$G8=W$2),0,IF(AND($D7=Finals!$B$4,$D8=1),1,IF($G8=W$2,0,W7))) -> 0 | X8: =IF(AND($D7=Finals!$B$4,$D8=1,$G8=X$2),0,IF(AND($D7=Finals!$B$4,$D8=1),1,IF($G8=X$2,0,X7))) -> 1 | Y8: =IF(AND($D7=Finals!$B$4,$D8=1,$G8=Y$2),0,IF(AND($D7=Finals!$B$4,$D8=1),1,IF($G8=Y$2,0,Y7))) -> 1 | Z8: =IF(AND($D7=Finals!$B$4,$D8=1,$G8=Z$2),0,IF(AND($D7=Finals!$B$4,$D8=1),1,IF($G8=Z$2,0,Z7))) -> 0 | AA8: =IF(AND($D7=Finals!$B$4,$D8=1,$G8=AA$2),0,IF(AND($D7=Finals!$B$4,$D8=1),1,IF($G8=AA$2,0,AA7))) -> 1 | AB8: =IF(AND($D7=Finals!$B$4,$D8=1,$G8=AB$2),0,IF(AND($D7=Finals!$B$4,$D8=1),1,IF($G8=AB$2,0,AB7))) -> 1 | AC8: =IF(AND($D7=Finals!$B$4,$D8=1,$G8=AC$2),0,IF(AND($D7=Finals!$B$4,$D8=1),1,IF($G8=AC$2,0,AC7))) -> 0 | ... BF8: =IF(AND($D7=Finals!$B$4,$D8=1,$G8=BF$2),0,IF(AND($D7=Finals!$B$4,$D8=1),1,IF($G8=BF$2,0,BF7))) -> 1 | BG8: =SUM(V8:BF8) -> 23 | BP8: 1 | BQ8: =IF(V8=1,1+BP8,BP8) -> 2 | BR8: =IF(W8=1,1+BQ8,BQ8) -> 2 | BS8: =IF(X8=1,1+BR8,BR8) -> 3 | BT8: =IF(Y8=1,1+BS8,BS8) -> 4 | BU8: =IF(Z8=1,1+BT8,BT8) -> 4 | BV8: =IF(AA8=1,1+BU8,BU8) -> 5 | BW8: =IF(AB8=1,1+BV8,BV8) -> 6 | BX8: =IF(AC8=1,1+BW8,BW8) -> 6 | ... CZ8: =IF(BE8=1,1+CY8,CY8) -> 23 | DA8: =LOOKUP(DA$3,$BP8:$CZ8,$BP$3:$CZ$3) -> 0 | DB8: =IF(DB$3>$BG8,"",IF(OR(DA8=36,DA8=""),"",LOOKUP(DB$3,$BP8:$CZ8,$BP$3:$CZ$3))) -> 2 | DC8: =IF(DC$3>$BG8,"",IF(OR(DB8=36,DB8=""),"",LOOKUP(DC$3,$BP8:$CZ8,$BP$3:$CZ$3))) -> 3 | DD8: =IF(DD$3>$BG8,"",IF(OR(DC8=36,DC8=""),"",LOOKUP(DD$3,$BP8:$CZ8,$BP$3:$CZ$3))) -> 5 | DE8: =IF(DE$3>$BG8,"",IF(OR(DD8=36,DD8=""),"",LOOKUP(DE$3,$BP8:$CZ8,$BP$3:$CZ$3))) -> 6 | DF8: =IF(DF$3>$BG8,"",IF(OR(DE8=36,DE8=""),"",LOOKUP(DF$3,$BP8:$CZ8,$BP$3:$CZ$3))) -> 8 | DG8: =IF(DG$3>$BG8,"",IF(OR(DF8=36,DF8=""),"",LOOKUP(DG$3,$BP8:$CZ8,$BP$3:$CZ$3))) -> 10 | DH8: =IF(DH$3>$BG8,"",IF(OR(DG8=36,DG8=""),"",LOOKUP(DH$3,$BP8:$CZ8,$BP$3:$CZ$3))) -> 12 | DI8: =IF(DI$3>$BG8,"",IF(OR(DH8=36,DH8=""),"",LOOKUP(DI$3,$BP8:$CZ8,$BP$3:$CZ$3))) -> 13 | ... EK8: =IF(EK$3>$BG8,"",IF(OR(EJ8=36,EJ8=""),"",LOOKUP(EK$3,$BP8:$CZ8,$BP$3:$CZ$3))) | EL8: =IF(I8=1,Finals!I13,"")
C9: 6 | D9: =IF(AND(Finals!K13>Finals!K12,Finals!B$3="Yes"),1,IF(AND(I8=1,Finals!B$2="Yes"),1,IF(AND(E8=Finals!B$5,Calc!D8>=Finals!B$4),1,IF(AND(D8=Finals!B$4,E8<Finals!B$5),D8,1+D8)))) -> 6 | E9: =IF(E8=Finals!B$5,1,IF(AND(I8=1,Finals!B$2="Yes"),1,IF(D8<Finals!B$4,1,Calc!E8+1))) -> 1 | F9: =Finals!D14 -> 16 | G9: =IF(F9="","",VALUE(RIGHT(F9,1))) -> 6 | H9: =IF(AND(Finals!K13>Finals!K12,Finals!B$3="Yes"),"",IF(AND(I8=1,Finals!B$2="Yes"),"",IF(D8<>Finals!B$4,"",1))) | I9: =IF(H9="","",IF(LOOKUP(F9,V$3:BF$3,V8:BF8)=1,1,-1)) | J9: =IF(I9=-1,-BG8,IF(I9=1,36-BG8,0)) -> 0 | K9: =J9+K8 -> 0 | L9: =IF(AND($D8=0,$G9=L$3),1,IF($D8=0,0,IF($G9=L$3,1,L8))) -> 0 | M9: =IF(AND($D8=0,$G9=M$3),1,IF($D8=0,0,IF($G9=M$3,1,M8))) -> 1 | N9: =IF(AND($D8=0,$G9=N$3),1,IF($D8=0,0,IF($G9=N$3,1,N8))) -> 0 | O9: =IF(AND($D8=0,$G9=O$3),1,IF($D8=0,0,IF($G9=O$3,1,O8))) -> 0 | P9: =IF(AND($D8=0,$G9=P$3),1,IF($D8=0,0,IF($G9=P$3,1,P8))) -> 1 | Q9: =IF(AND($D8=0,$G9=Q$3),1,IF($D8=0,0,IF($G9=Q$3,1,Q8))) -> 0 | R9: =IF(AND($D8=0,$G9=R$3),1,IF($D8=0,0,IF($G9=R$3,1,R8))) -> 1 | S9: =IF(AND($D8=0,$G9=S$3),1,IF($D8=0,0,IF($G9=S$3,1,S8))) -> 1 | ... U9: =IF(AND($D8=0,$G9=U$3),1,IF($D8=0,0,IF($G9=U$3,1,U8))) -> 1 | V9: =IF(AND($D8=Finals!$B$4,$D9=1,$G9=V$2),0,IF(AND($D8=Finals!$B$4,$D9=1),1,IF($G9=V$2,0,V8))) -> 1 | W9: =IF(AND($D8=Finals!$B$4,$D9=1,$G9=W$2),0,IF(AND($D8=Finals!$B$4,$D9=1),1,IF($G9=W$2,0,W8))) -> 0 | X9: =IF(AND($D8=Finals!$B$4,$D9=1,$G9=X$2),0,IF(AND($D8=Finals!$B$4,$D9=1),1,IF($G9=X$2,0,X8))) -> 1 | Y9: =IF(AND($D8=Finals!$B$4,$D9=1,$G9=Y$2),0,IF(AND($D8=Finals!$B$4,$D9=1),1,IF($G9=Y$2,0,Y8))) -> 1 | Z9: =IF(AND($D8=Finals!$B$4,$D9=1,$G9=Z$2),0,IF(AND($D8=Finals!$B$4,$D9=1),1,IF($G9=Z$2,0,Z8))) -> 0 | AA9: =IF(AND($D8=Finals!$B$4,$D9=1,$G9=AA$2),0,IF(AND($D8=Finals!$B$4,$D9=1),1,IF($G9=AA$2,0,AA8))) -> 1 | AB9: =IF(AND($D8=Finals!$B$4,$D9=1,$G9=AB$2),0,IF(AND($D8=Finals!$B$4,$D9=1),1,IF($G9=AB$2,0,AB8))) -> 0 | AC9: =IF(AND($D8=Finals!$B$4,$D9=1,$G9=AC$2),0,IF(AND($D8=Finals!$B$4,$D9=1),1,IF($G9=AC$2,0,AC8))) -> 0 | ... BF9: =IF(AND($D8=Finals!$B$4,$D9=1,$G9=BF$2),0,IF(AND($D8=Finals!$B$4,$D9=1),1,IF($G9=BF$2,0,BF8))) -> 0 | BG9: =SUM(V9:BF9) -> 19 | BP9: 1 | BQ9: =IF(V9=1,1+BP9,BP9) -> 2 | BR9: =IF(W9=1,1+BQ9,BQ9) -> 2 | BS9: =IF(X9=1,1+BR9,BR9) -> 3 | BT9: =IF(Y9=1,1+BS9,BS9) -> 4 | BU9: =IF(Z9=1,1+BT9,BT9) -> 4 | BV9: =IF(AA9=1,1+BU9,BU9) -> 5 | BW9: =IF(AB9=1,1+BV9,BV9) -> 5 | BX9: =IF(AC9=1,1+BW9,BW9) -> 5 | ... CZ9: =IF(BE9=1,1+CY9,CY9) -> 20 | DA9: =LOOKUP(DA$3,$BP9:$CZ9,$BP$3:$CZ$3) -> 0 | DB9: =IF(DB$3>$BG9,"",IF(OR(DA9=36,DA9=""),"",LOOKUP(DB$3,$BP9:$CZ9,$BP$3:$CZ$3))) -> 2 | DC9: =IF(DC$3>$BG9,"",IF(OR(DB9=36,DB9=""),"",LOOKUP(DC$3,$BP9:$CZ9,$BP$3:$CZ$3))) -> 3 | DD9: =IF(DD$3>$BG9,"",IF(OR(DC9=36,DC9=""),"",LOOKUP(DD$3,$BP9:$CZ9,$BP$3:$CZ$3))) -> 5 | DE9: =IF(DE$3>$BG9,"",IF(OR(DD9=36,DD9=""),"",LOOKUP(DE$3,$BP9:$CZ9,$BP$3:$CZ$3))) -> 8 | DF9: =IF(DF$3>$BG9,"",IF(OR(DE9=36,DE9=""),"",LOOKUP(DF$3,$BP9:$CZ9,$BP$3:$CZ$3))) -> 10 | DG9: =IF(DG$3>$BG9,"",IF(OR(DF9=36,DF9=""),"",LOOKUP(DG$3,$BP9:$CZ9,$BP$3:$CZ$3))) -> 12 | DH9: =IF(DH$3>$BG9,"",IF(OR(DG9=36,DG9=""),"",LOOKUP(DH$3,$BP9:$CZ9,$BP$3:$CZ$3))) -> 13 | DI9: =IF(DI$3>$BG9,"",IF(OR(DH9=36,DH9=""),"",LOOKUP(DI$3,$BP9:$CZ9,$BP$3:$CZ$3))) -> 15 | ... EK9: =IF(EK$3>$BG9,"",IF(OR(EJ9=36,EJ9=""),"",LOOKUP(EK$3,$BP9:$CZ9,$BP$3:$CZ$3))) | EL9: =IF(I9=1,Finals!I14,"")
C10: 7 | D10: =IF(AND(Finals!K14>Finals!K13,Finals!B$3="Yes"),1,IF(AND(I9=1,Finals!B$2="Yes"),1,IF(AND(E9=Finals!B$5,Calc!D9>=Finals!B$4),1,IF(AND(D9=Finals!B$4,E9<Finals!B$5),D9,1+D9)))) -> 7 | E10: =IF(E9=Finals!B$5,1,IF(AND(I9=1,Finals!B$2="Yes"),1,IF(D9<Finals!B$4,1,Calc!E9+1))) -> 1 | F10: =Finals!D15 -> 27 | G10: =IF(F10="","",VALUE(RIGHT(F10,1))) -> 7 | H10: =IF(AND(Finals!K14>Finals!K13,Finals!B$3="Yes"),"",IF(AND(I9=1,Finals!B$2="Yes"),"",IF(D9<>Finals!B$4,"",1))) | I10: =IF(H10="","",IF(LOOKUP(F10,V$3:BF$3,V9:BF9)=1,1,-1)) | J10: =IF(I10=-1,-BG9,IF(I10=1,36-BG9,0)) -> 0 | K10: =J10+K9 -> 0 | L10: =IF(AND($D9=0,$G10=L$3),1,IF($D9=0,0,IF($G10=L$3,1,L9))) -> 0 | M10: =IF(AND($D9=0,$G10=M$3),1,IF($D9=0,0,IF($G10=M$3,1,M9))) -> 1 | N10: =IF(AND($D9=0,$G10=N$3),1,IF($D9=0,0,IF($G10=N$3,1,N9))) -> 0 | O10: =IF(AND($D9=0,$G10=O$3),1,IF($D9=0,0,IF($G10=O$3,1,O9))) -> 0 | P10: =IF(AND($D9=0,$G10=P$3),1,IF($D9=0,0,IF($G10=P$3,1,P9))) -> 1 | Q10: =IF(AND($D9=0,$G10=Q$3),1,IF($D9=0,0,IF($G10=Q$3,1,Q9))) -> 0 | R10: =IF(AND($D9=0,$G10=R$3),1,IF($D9=0,0,IF($G10=R$3,1,R9))) -> 1 | S10: =IF(AND($D9=0,$G10=S$3),1,IF($D9=0,0,IF($G10=S$3,1,S9))) -> 1 | ... U10: =IF(AND($D9=0,$G10=U$3),1,IF($D9=0,0,IF($G10=U$3,1,U9))) -> 1 | V10: =IF(AND($D9=Finals!$B$4,$D10=1,$G10=V$2),0,IF(AND($D9=Finals!$B$4,$D10=1),1,IF($G10=V$2,0,V9))) -> 1 | W10: =IF(AND($D9=Finals!$B$4,$D10=1,$G10=W$2),0,IF(AND($D9=Finals!$B$4,$D10=1),1,IF($G10=W$2,0,W9))) -> 0 | X10: =IF(AND($D9=Finals!$B$4,$D10=1,$G10=X$2),0,IF(AND($D9=Finals!$B$4,$D10=1),1,IF($G10=X$2,0,X9))) -> 1 | Y10: =IF(AND($D9=Finals!$B$4,$D10=1,$G10=Y$2),0,IF(AND($D9=Finals!$B$4,$D10=1),1,IF($G10=Y$2,0,Y9))) -> 1 | Z10: =IF(AND($D9=Finals!$B$4,$D10=1,$G10=Z$2),0,IF(AND($D9=Finals!$B$4,$D10=1),1,IF($G10=Z$2,0,Z9))) -> 0 | AA10: =IF(AND($D9=Finals!$B$4,$D10=1,$G10=AA$2),0,IF(AND($D9=Finals!$B$4,$D10=1),1,IF($G10=AA$2,0,AA9))) -> 1 | AB10: =IF(AND($D9=Finals!$B$4,$D10=1,$G10=AB$2),0,IF(AND($D9=Finals!$B$4,$D10=1),1,IF($G10=AB$2,0,AB9))) -> 0 | AC10: =IF(AND($D9=Finals!$B$4,$D10=1,$G10=AC$2),0,IF(AND($D9=Finals!$B$4,$D10=1),1,IF($G10=AC$2,0,AC9))) -> 0 | ... BF10: =IF(AND($D9=Finals!$B$4,$D10=1,$G10=BF$2),0,IF(AND($D9=Finals!$B$4,$D10=1),1,IF($G10=BF$2,0,BF9))) -> 0 | BG10: =SUM(V10:BF10) -> 19 | BP10: 1 | BQ10: =IF(V10=1,1+BP10,BP10) -> 2 | BR10: =IF(W10=1,1+BQ10,BQ10) -> 2 | BS10: =IF(X10=1,1+BR10,BR10) -> 3 | BT10: =IF(Y10=1,1+BS10,BS10) -> 4 | BU10: =IF(Z10=1,1+BT10,BT10) -> 4 | BV10: =IF(AA10=1,1+BU10,BU10) -> 5 | BW10: =IF(AB10=1,1+BV10,BV10) -> 5 | BX10: =IF(AC10=1,1+BW10,BW10) -> 5 | ... CZ10: =IF(BE10=1,1+CY10,CY10) -> 20 | DA10: =LOOKUP(DA$3,$BP10:$CZ10,$BP$3:$CZ$3) -> 0 | DB10: =IF(DB$3>$BG10,"",IF(OR(DA10=36,DA10=""),"",LOOKUP(DB$3,$BP10:$CZ10,$BP$3:$CZ$3))) -> 2 | DC10: =IF(DC$3>$BG10,"",IF(OR(DB10=36,DB10=""),"",LOOKUP(DC$3,$BP10:$CZ10,$BP$3:$CZ$3))) -> 3 | DD10: =IF(DD$3>$BG10,"",IF(OR(DC10=36,DC10=""),"",LOOKUP(DD$3,$BP10:$CZ10,$BP$3:$CZ$3))) -> 5 | DE10: =IF(DE$3>$BG10,"",IF(OR(DD10=36,DD10=""),"",LOOKUP(DE$3,$BP10:$CZ10,$BP$3:$CZ$3))) -> 8 | DF10: =IF(DF$3>$BG10,"",IF(OR(DE10=36,DE10=""),"",LOOKUP(DF$3,$BP10:$CZ10,$BP$3:$CZ$3))) -> 10 | DG10: =IF(DG$3>$BG10,"",IF(OR(DF10=36,DF10=""),"",LOOKUP(DG$3,$BP10:$CZ10,$BP$3:$CZ$3))) -> 12 | DH10: =IF(DH$3>$BG10,"",IF(OR(DG10=36,DG10=""),"",LOOKUP(DH$3,$BP10:$CZ10,$BP$3:$CZ$3))) -> 13 | DI10: =IF(DI$3>$BG10,"",IF(OR(DH10=36,DH10=""),"",LOOKUP(DI$3,$BP10:$CZ10,$BP$3:$CZ$3))) -> 15 | ... EK10: =IF(EK$3>$BG10,"",IF(OR(EJ10=36,EJ10=""),"",LOOKUP(EK$3,$BP10:$CZ10,$BP$3:$CZ$3))) | EL10: =IF(I10=1,Finals!I15,"")
C11: 8 | D11: =IF(AND(Finals!K15>Finals!K14,Finals!B$3="Yes"),1,IF(AND(I10=1,Finals!B$2="Yes"),1,IF(AND(E10=Finals!B$5,Calc!D10>=Finals!B$4),1,IF(AND(D10=Finals!B$4,E10<Finals!B$5),D10,1+D10)))) -> 8 | E11: =IF(E10=Finals!B$5,1,IF(AND(I10=1,Finals!B$2="Yes"),1,IF(D10<Finals!B$4,1,Calc!E10+1))) -> 1 | F11: =Finals!D16 -> 34 | G11: =IF(F11="","",VALUE(RIGHT(F11,1))) -> 4 | H11: =IF(AND(Finals!K15>Finals!K14,Finals!B$3="Yes"),"",IF(AND(I10=1,Finals!B$2="Yes"),"",IF(D10<>Finals!B$4,"",1))) | I11: =IF(H11="","",IF(LOOKUP(F11,V$3:BF$3,V10:BF10)=1,1,-1)) | J11: =IF(I11=-1,-BG10,IF(I11=1,36-BG10,0)) -> 0 | K11: =J11+K10 -> 0 | L11: =IF(AND($D10=0,$G11=L$3),1,IF($D10=0,0,IF($G11=L$3,1,L10))) -> 0 | M11: =IF(AND($D10=0,$G11=M$3),1,IF($D10=0,0,IF($G11=M$3,1,M10))) -> 1 | N11: =IF(AND($D10=0,$G11=N$3),1,IF($D10=0,0,IF($G11=N$3,1,N10))) -> 0 | O11: =IF(AND($D10=0,$G11=O$3),1,IF($D10=0,0,IF($G11=O$3,1,O10))) -> 0 | P11: =IF(AND($D10=0,$G11=P$3),1,IF($D10=0,0,IF($G11=P$3,1,P10))) -> 1 | Q11: =IF(AND($D10=0,$G11=Q$3),1,IF($D10=0,0,IF($G11=Q$3,1,Q10))) -> 0 | R11: =IF(AND($D10=0,$G11=R$3),1,IF($D10=0,0,IF($G11=R$3,1,R10))) -> 1 | S11: =IF(AND($D10=0,$G11=S$3),1,IF($D10=0,0,IF($G11=S$3,1,S10))) -> 1 | ... U11: =IF(AND($D10=0,$G11=U$3),1,IF($D10=0,0,IF($G11=U$3,1,U10))) -> 1 | V11: =IF(AND($D10=Finals!$B$4,$D11=1,$G11=V$2),0,IF(AND($D10=Finals!$B$4,$D11=1),1,IF($G11=V$2,0,V10))) -> 1 | W11: =IF(AND($D10=Finals!$B$4,$D11=1,$G11=W$2),0,IF(AND($D10=Finals!$B$4,$D11=1),1,IF($G11=W$2,0,W10))) -> 0 | X11: =IF(AND($D10=Finals!$B$4,$D11=1,$G11=X$2),0,IF(AND($D10=Finals!$B$4,$D11=1),1,IF($G11=X$2,0,X10))) -> 1 | Y11: =IF(AND($D10=Finals!$B$4,$D11=1,$G11=Y$2),0,IF(AND($D10=Finals!$B$4,$D11=1),1,IF($G11=Y$2,0,Y10))) -> 1 | Z11: =IF(AND($D10=Finals!$B$4,$D11=1,$G11=Z$2),0,IF(AND($D10=Finals!$B$4,$D11=1),1,IF($G11=Z$2,0,Z10))) -> 0 | AA11: =IF(AND($D10=Finals!$B$4,$D11=1,$G11=AA$2),0,IF(AND($D10=Finals!$B$4,$D11=1),1,IF($G11=AA$2,0,AA10))) -> 1 | AB11: =IF(AND($D10=Finals!$B$4,$D11=1,$G11=AB$2),0,IF(AND($D10=Finals!$B$4,$D11=1),1,IF($G11=AB$2,0,AB10))) -> 0 | AC11: =IF(AND($D10=Finals!$B$4,$D11=1,$G11=AC$2),0,IF(AND($D10=Finals!$B$4,$D11=1),1,IF($G11=AC$2,0,AC10))) -> 0 | ... BF11: =IF(AND($D10=Finals!$B$4,$D11=1,$G11=BF$2),0,IF(AND($D10=Finals!$B$4,$D11=1),1,IF($G11=BF$2,0,BF10))) -> 0 | BG11: =SUM(V11:BF11) -> 19 | BP11: 1 | BQ11: =IF(V11=1,1+BP11,BP11) -> 2 | BR11: =IF(W11=1,1+BQ11,BQ11) -> 2 | BS11: =IF(X11=1,1+BR11,BR11) -> 3 | BT11: =IF(Y11=1,1+BS11,BS11) -> 4 | BU11: =IF(Z11=1,1+BT11,BT11) -> 4 | BV11: =IF(AA11=1,1+BU11,BU11) -> 5 | BW11: =IF(AB11=1,1+BV11,BV11) -> 5 | BX11: =IF(AC11=1,1+BW11,BW11) -> 5 | ... CZ11: =IF(BE11=1,1+CY11,CY11) -> 20 | DA11: =LOOKUP(DA$3,$BP11:$CZ11,$BP$3:$CZ$3) -> 0 | DB11: =IF(DB$3>$BG11,"",IF(OR(DA11=36,DA11=""),"",LOOKUP(DB$3,$BP11:$CZ11,$BP$3:$CZ$3))) -> 2 | DC11: =IF(DC$3>$BG11,"",IF(OR(DB11=36,DB11=""),"",LOOKUP(DC$3,$BP11:$CZ11,$BP$3:$CZ$3))) -> 3 | DD11: =IF(DD$3>$BG11,"",IF(OR(DC11=36,DC11=""),"",LOOKUP(DD$3,$BP11:$CZ11,$BP$3:$CZ$3))) -> 5 | DE11: =IF(DE$3>$BG11,"",IF(OR(DD11=36,DD11=""),"",LOOKUP(DE$3,$BP11:$CZ11,$BP$3:$CZ$3))) -> 8 | DF11: =IF(DF$3>$BG11,"",IF(OR(DE11=36,DE11=""),"",LOOKUP(DF$3,$BP11:$CZ11,$BP$3:$CZ$3))) -> 10 | DG11: =IF(DG$3>$BG11,"",IF(OR(DF11=36,DF11=""),"",LOOKUP(DG$3,$BP11:$CZ11,$BP$3:$CZ$3))) -> 12 | DH11: =IF(DH$3>$BG11,"",IF(OR(DG11=36,DG11=""),"",LOOKUP(DH$3,$BP11:$CZ11,$BP$3:$CZ$3))) -> 13 | DI11: =IF(DI$3>$BG11,"",IF(OR(DH11=36,DH11=""),"",LOOKUP(DI$3,$BP11:$CZ11,$BP$3:$CZ$3))) -> 15 | ... EK11: =IF(EK$3>$BG11,"",IF(OR(EJ11=36,EJ11=""),"",LOOKUP(EK$3,$BP11:$CZ11,$BP$3:$CZ$3))) | EL11: =IF(I11=1,Finals!I16,"")
C12: 9 | D12: =IF(AND(Finals!K16>Finals!K15,Finals!B$3="Yes"),1,IF(AND(I11=1,Finals!B$2="Yes"),1,IF(AND(E11=Finals!B$5,Calc!D11>=Finals!B$4),1,IF(AND(D11=Finals!B$4,E11<Finals!B$5),D11,1+D11)))) -> 9 | E12: =IF(E11=Finals!B$5,1,IF(AND(I11=1,Finals!B$2="Yes"),1,IF(D11<Finals!B$4,1,Calc!E11+1))) -> 1 | F12: =Finals!D17 -> 0 | G12: =IF(F12="","",VALUE(RIGHT(F12,1))) -> 0 | H12: =IF(AND(Finals!K16>Finals!K15,Finals!B$3="Yes"),"",IF(AND(I11=1,Finals!B$2="Yes"),"",IF(D11<>Finals!B$4,"",1))) | I12: =IF(H12="","",IF(LOOKUP(F12,V$3:BF$3,V11:BF11)=1,1,-1)) | J12: =IF(I12=-1,-BG11,IF(I12=1,36-BG11,0)) -> 0 | K12: =J12+K11 -> 0 | L12: =IF(AND($D11=0,$G12=L$3),1,IF($D11=0,0,IF($G12=L$3,1,L11))) -> 1 | M12: =IF(AND($D11=0,$G12=M$3),1,IF($D11=0,0,IF($G12=M$3,1,M11))) -> 1 | N12: =IF(AND($D11=0,$G12=N$3),1,IF($D11=0,0,IF($G12=N$3,1,N11))) -> 0 | O12: =IF(AND($D11=0,$G12=O$3),1,IF($D11=0,0,IF($G12=O$3,1,O11))) -> 0 | P12: =IF(AND($D11=0,$G12=P$3),1,IF($D11=0,0,IF($G12=P$3,1,P11))) -> 1 | Q12: =IF(AND($D11=0,$G12=Q$3),1,IF($D11=0,0,IF($G12=Q$3,1,Q11))) -> 0 | R12: =IF(AND($D11=0,$G12=R$3),1,IF($D11=0,0,IF($G12=R$3,1,R11))) -> 1 | S12: =IF(AND($D11=0,$G12=S$3),1,IF($D11=0,0,IF($G12=S$3,1,S11))) -> 1 | ... U12: =IF(AND($D11=0,$G12=U$3),1,IF($D11=0,0,IF($G12=U$3,1,U11))) -> 1 | V12: =IF(AND($D11=Finals!$B$4,$D12=1,$G12=V$2),0,IF(AND($D11=Finals!$B$4,$D12=1),1,IF($G12=V$2,0,V11))) -> 0 | W12: =IF(AND($D11=Finals!$B$4,$D12=1,$G12=W$2),0,IF(AND($D11=Finals!$B$4,$D12=1),1,IF($G12=W$2,0,W11))) -> 0 | X12: =IF(AND($D11=Finals!$B$4,$D12=1,$G12=X$2),0,IF(AND($D11=Finals!$B$4,$D12=1),1,IF($G12=X$2,0,X11))) -> 1 | Y12: =IF(AND($D11=Finals!$B$4,$D12=1,$G12=Y$2),0,IF(AND($D11=Finals!$B$4,$D12=1),1,IF($G12=Y$2,0,Y11))) -> 1 | Z12: =IF(AND($D11=Finals!$B$4,$D12=1,$G12=Z$2),0,IF(AND($D11=Finals!$B$4,$D12=1),1,IF($G12=Z$2,0,Z11))) -> 0 | AA12: =IF(AND($D11=Finals!$B$4,$D12=1,$G12=AA$2),0,IF(AND($D11=Finals!$B$4,$D12=1),1,IF($G12=AA$2,0,AA11))) -> 1 | AB12: =IF(AND($D11=Finals!$B$4,$D12=1,$G12=AB$2),0,IF(AND($D11=Finals!$B$4,$D12=1),1,IF($G12=AB$2,0,AB11))) -> 0 | AC12: =IF(AND($D11=Finals!$B$4,$D12=1,$G12=AC$2),0,IF(AND($D11=Finals!$B$4,$D12=1),1,IF($G12=AC$2,0,AC11))) -> 0 | ... BF12: =IF(AND($D11=Finals!$B$4,$D12=1,$G12=BF$2),0,IF(AND($D11=Finals!$B$4,$D12=1),1,IF($G12=BF$2,0,BF11))) -> 0 | BG12: =SUM(V12:BF12) -> 15 | BP12: 1 | BQ12: =IF(V12=1,1+BP12,BP12) -> 1 | BR12: =IF(W12=1,1+BQ12,BQ12) -> 1 | BS12: =IF(X12=1,1+BR12,BR12) -> 2 | BT12: =IF(Y12=1,1+BS12,BS12) -> 3 | BU12: =IF(Z12=1,1+BT12,BT12) -> 3 | BV12: =IF(AA12=1,1+BU12,BU12) -> 4 | BW12: =IF(AB12=1,1+BV12,BV12) -> 4 | BX12: =IF(AC12=1,1+BW12,BW12) -> 4 | ... CZ12: =IF(BE12=1,1+CY12,CY12) -> 16 | DA12: =LOOKUP(DA$3,$BP12:$CZ12,$BP$3:$CZ$3) -> 2 | DB12: =IF(DB$3>$BG12,"",IF(OR(DA12=36,DA12=""),"",LOOKUP(DB$3,$BP12:$CZ12,$BP$3:$CZ$3))) -> 3 | DC12: =IF(DC$3>$BG12,"",IF(OR(DB12=36,DB12=""),"",LOOKUP(DC$3,$BP12:$CZ12,$BP$3:$CZ$3))) -> 5 | DD12: =IF(DD$3>$BG12,"",IF(OR(DC12=36,DC12=""),"",LOOKUP(DD$3,$BP12:$CZ12,$BP$3:$CZ$3))) -> 8 | DE12: =IF(DE$3>$BG12,"",IF(OR(DD12=36,DD12=""),"",LOOKUP(DE$3,$BP12:$CZ12,$BP$3:$CZ$3))) -> 12 | DF12: =IF(DF$3>$BG12,"",IF(OR(DE12=36,DE12=""),"",LOOKUP(DF$3,$BP12:$CZ12,$BP$3:$CZ$3))) -> 13 | DG12: =IF(DG$3>$BG12,"",IF(OR(DF12=36,DF12=""),"",LOOKUP(DG$3,$BP12:$CZ12,$BP$3:$CZ$3))) -> 15 | DH12: =IF(DH$3>$BG12,"",IF(OR(DG12=36,DG12=""),"",LOOKUP(DH$3,$BP12:$CZ12,$BP$3:$CZ$3))) -> 18 | DI12: =IF(DI$3>$BG12,"",IF(OR(DH12=36,DH12=""),"",LOOKUP(DI$3,$BP12:$CZ12,$BP$3:$CZ$3))) -> 22 | ... EK12: =IF(EK$3>$BG12,"",IF(OR(EJ12=36,EJ12=""),"",LOOKUP(EK$3,$BP12:$CZ12,$BP$3:$CZ$3))) | EL12: =IF(I12=1,Finals!I17,"")
