Workbook
Name ResetProg: '[1]anti-ktf'!$AN$5:$AN$15633

Sheet Tracker
A1: Layout | AG1: Category | AJ1: SpinGap | AL1: Played nrs
A2: Board | AG2: Low-Red | AJ2: ='RL-RH-BL-BH'!Q4 -> 10 | AL2: ='RL-RH-BL-BH'!M4 -> 3
AG3: Low-Black | AJ3: ='RL-RH-BL-BH'!R4 -> 12 | AL3: ='RL-RH-BL-BH'!N4 -> 6
AG4: High-Red | AJ4: ='RL-RH-BL-BH'!S4 -> 35 | AL4: ='RL-RH-BL-BH'!O4 -> 6
AG5: High-Black | AJ5: ='RL-RH-BL-BH'!T4 -> 10 | AL5: ='RL-RH-BL-BH'!P4 -> 2
C6: =A2 -> Board
C7: 1 | D7: 2 | E7: 3 | F7: 4 | G7: 5 | H7: 6 | I7: 7 | J7: 8 | K7: 9 | L7: 10 | M7: 11 | N7: 12 | O7: 13 | P7: 14 | Q7: 15 | R7: 16 | S7: 17 | T7: 18 | U7: 19 | V7: 20 | W7: 21 | X7: 22 | Y7: 23 | Z7: 24 | AA7: 25 | AB7: 26 | AC7: 27 | AD7: 28 | AE7: 29 | AF7: 30 | AG7: 31 | AH7: 32 | AI7: 33 | AJ7: 34 | AK7: 35 | AL7: 36 | AM7: 37 | AN7: 38
A8: Spin | B8: Nr | C8: =IF($A2="Board",C7,IF($A2="European",LOOKUP(C7,Layout!$A:$A,Layout!$B:$B),IF($A2="American",LOOKUP(C7,Layout!$A:$A,Layout!$D:$D)))) -> 1 | D8: =IF($A2="Board",D7,IF($A2="European",LOOKUP(D7,Layout!$A:$A,Layout!$B:$B),IF($A2="American",LOOKUP(D7,Layout!$A:$A,Layout!$D:$D)))) -> 2 | E8: =IF($A2="Board",E7,IF($A2="European",LOOKUP(E7,Layout!$A:$A,Layout!$B:$B),IF($A2="American",LOOKUP(E7,Layout!$A:$A,Layout!$D:$D)))) -> 3 | F8: =IF($A2="Board",F7,IF($A2="European",LOOKUP(F7,Layout!$A:$A,Layout!$B:$B),IF($A2="American",LOOKUP(F7,Layout!$A:$A,Layout!$D:$D)))) -> 4 | G8: =IF($A2="Board",G7,IF($A2="European",LOOKUP(G7,Layout!$A:$A,Layout!$B:$B),IF($A2="American",LOOKUP(G7,Layout!$A:$A,Layout!$D:$D)))) -> 5 | H8: =IF($A2="Board",H7,IF($A2="European",LOOKUP(H7,Layout!$A:$A,Layout!$B:$B),IF($A2="American",LOOKUP(H7,Layout!$A:$A,Layout!$D:$D)))) -> 6 | I8: =IF($A2="Board",I7,IF($A2="European",LOOKUP(I7,Layout!$A:$A,Layout!$B:$B),IF($A2="American",LOOKUP(I7,Layout!$A:$A,Layout!$D:$D)))) -> 7 | J8: =IF($A2="Board",J7,IF($A2="European",LOOKUP(J7,Layout!$A:$A,Layout!$B:$B),IF($A2="American",LOOKUP(J7,Layout!$A:$A,Layout!$D:$D)))) -> 8 | ... AN8: =IF($A2="Board",AN7,IF($A2="European",LOOKUP(AN7,Layout!$A:$A,Layout!$B:$B),IF($A2="American",LOOKUP(AN7,Layout!$A:$A,Layout!$D:$D)))) -> 38
A9: 1 | B9: =IF(A2="American",RANDBETWEEN(1,38),RANDBETWEEN(1,37)) -> 34 | C9: =IF($B9="","",IF($B9=C$8,$A9,"")) | D9: =IF($B9="","",IF($B9=D$8,$A9,"")) | E9: =IF($B9="","",IF($B9=E$8,$A9,"")) | F9: =IF($B9="","",IF($B9=F$8,$A9,"")) | G9: =IF($B9="","",IF($B9=G$8,$A9,"")) | H9: =IF($B9="","",IF($B9=H$8,$A9,"")) | I9: =IF($B9="","",IF($B9=I$8,$A9,"")) | J9: =IF($B9="","",IF($B9=J$8,$A9,"")) | ... AN9: =IF($B9="","",IF($B9=AN$8,$A9,""))
A10: 2 | B10: =IF(A3="American",RANDBETWEEN(1,38),RANDBETWEEN(1,37)) -> 28 | C10: =IF($B10="","",IF($B10=C$8,$A10,C9)) | D10: =IF($B10="","",IF($B10=D$8,$A10,D9)) | E10: =IF($B10="","",IF($B10=E$8,$A10,E9)) | F10: =IF($B10="","",IF($B10=F$8,$A10,F9)) | G10: =IF($B10="","",IF($B10=G$8,$A10,G9)) | H10: =IF($B10="","",IF($B10=H$8,$A10,H9)) | I10: =IF($B10="","",IF($B10=I$8,$A10,I9)) | J10: =IF($B10="","",IF($B10=J$8,$A10,J9)) | ... AN10: =IF($B10="","",IF($B10=AN$8,$A10,AN9))
A11: 3 | B11: =IF(A5="American",RANDBETWEEN(1,38),RANDBETWEEN(1,37)) -> 1 | C11: =IF($B11="","",IF($B11=C$8,$A11,C10)) -> 3 | D11: =IF($B11="","",IF($B11=D$8,$A11,D10)) | E11: =IF($B11="","",IF($B11=E$8,$A11,E10)) | F11: =IF($B11="","",IF($B11=F$8,$A11,F10)) | G11: =IF($B11="","",IF($B11=G$8,$A11,G10)) | H11: =IF($B11="","",IF($B11=H$8,$A11,H10)) | I11: =IF($B11="","",IF($B11=I$8,$A11,I10)) | J11: =IF($B11="","",IF($B11=J$8,$A11,J10)) | ... AN11: =IF($B11="","",IF($B11=AN$8,$A11,AN10))
A12: 4 | B12: =IF(A6="American",RANDBETWEEN(1,38),RANDBETWEEN(1,37)) -> 19 | C12: =IF($B12="","",IF($B12=C$8,$A12,C11)) -> 3 | D12: =IF($B12="","",IF($B12=D$8,$A12,D11)) | E12: =IF($B12="","",IF($B12=E$8,$A12,E11)) | F12: =IF($B12="","",IF($B12=F$8,$A12,F11)) | G12: =IF($B12="","",IF($B12=G$8,$A12,G11)) | H12: =IF($B12="","",IF($B12=H$8,$A12,H11)) | I12: =IF($B12="","",IF($B12=I$8,$A12,I11)) | J12: =IF($B12="","",IF($B12=J$8,$A12,J11)) | ... AN12: =IF($B12="","",IF($B12=AN$8,$A12,AN11))
A13: 5 | B13: =IF(A7="American",RANDBETWEEN(1,38),RANDBETWEEN(1,37)) -> 16 | C13: =IF($B13="","",IF($B13=C$8,$A13,C12)) -> 3 | D13: =IF($B13="","",IF($B13=D$8,$A13,D12)) | E13: =IF($B13="","",IF($B13=E$8,$A13,E12)) | F13: =IF($B13="","",IF($B13=F$8,$A13,F12)) | G13: =IF($B13="","",IF($B13=G$8,$A13,G12)) | H13: =IF($B13="","",IF($B13=H$8,$A13,H12)) | I13: =IF($B13="","",IF($B13=I$8,$A13,I12)) | J13: =IF($B13="","",IF($B13=J$8,$A13,J12)) | ... AN13: =IF($B13="","",IF($B13=AN$8,$A13,AN12))
A14: 6 | B14: =IF(A8="American",RANDBETWEEN(1,38),RANDBETWEEN(1,37)) -> 17 | C14: =IF($B14="","",IF($B14=C$8,$A14,C13)) -> 3 | D14: =IF($B14="","",IF($B14=D$8,$A14,D13)) | E14: =IF($B14="","",IF($B14=E$8,$A14,E13)) | F14: =IF($B14="","",IF($B14=F$8,$A14,F13)) | G14: =IF($B14="","",IF($B14=G$8,$A14,G13)) | H14: =IF($B14="","",IF($B14=H$8,$A14,H13)) | I14: =IF($B14="","",IF($B14=I$8,$A14,I13)) | J14: =IF($B14="","",IF($B14=J$8,$A14,J13)) | ... AN14: =IF($B14="","",IF($B14=AN$8,$A14,AN13))
A15: 7 | B15: =IF(A9="American",RANDBETWEEN(1,38),RANDBETWEEN(1,37)) -> 10 | C15: =IF($B15="","",IF($B15=C$8,$A15,C14)) -> 3 | D15: =IF($B15="","",IF($B15=D$8,$A15,D14)) | E15: =IF($B15="","",IF($B15=E$8,$A15,E14)) | F15: =IF($B15="","",IF($B15=F$8,$A15,F14)) | G15: =IF($B15="","",IF($B15=G$8,$A15,G14)) | H15: =IF($B15="","",IF($B15=H$8,$A15,H14)) | I15: =IF($B15="","",IF($B15=I$8,$A15,I14)) | J15: =IF($B15="","",IF($B15=J$8,$A15,J14)) | ... AN15: =IF($B15="","",IF($B15=AN$8,$A15,AN14))
A16: 8 | B16: =IF(A10="American",RANDBETWEEN(1,38),RANDBETWEEN(1,37)) -> 2 | C16: =IF($B16="","",IF($B16=C$8,$A16,C15)) -> 3 | D16: =IF($B16="","",IF($B16=D$8,$A16,D15)) -> 8 | E16: =IF($B16="","",IF($B16=E$8,$A16,E15)) | F16: =IF($B16="","",IF($B16=F$8,$A16,F15)) | G16: =IF($B16="","",IF($B16=G$8,$A16,G15)) | H16: =IF($B16="","",IF($B16=H$8,$A16,H15)) | I16: =IF($B16="","",IF($B16=I$8,$A16,I15)) | J16: =IF($B16="","",IF($B16=J$8,$A16,J15)) | ... AN16: =IF($B16="","",IF($B16=AN$8,$A16,AN15))
A17: 9 | B17: =IF(A11="American",RANDBETWEEN(1,38),RANDBETWEEN(1,37)) -> 8 | C17: =IF($B17="","",IF($B17=C$8,$A17,C16)) -> 3 | D17: =IF($B17="","",IF($B17=D$8,$A17,D16)) -> 8 | E17: =IF($B17="","",IF($B17=E$8,$A17,E16)) | F17: =IF($B17="","",IF($B17=F$8,$A17,F16)) | G17: =IF($B17="","",IF($B17=G$8,$A17,G16)) | H17: =IF($B17="","",IF($B17=H$8,$A17,H16)) | I17: =IF($B17="","",IF($B17=I$8,$A17,I16)) | J17: =IF($B17="","",IF($B17=J$8,$A17,J16)) -> 9 | ... AN17: =IF($B17="","",IF($B17=AN$8,$A17,AN16))
A18: 10 | B18: =IF(A12="American",RANDBETWEEN(1,38),RANDBETWEEN(1,37)) -> 12 | C18: =IF($B18="","",IF($B18=C$8,$A18,C17)) -> 3 | D18: =IF($B18="","",IF($B18=D$8,$A18,D17)) -> 8 | E18: =IF($B18="","",IF($B18=E$8,$A18,E17)) | F18: =IF($B18="","",IF($B18=F$8,$A18,F17)) | G18: =IF($B18="","",IF($B18=G$8,$A18,G17)) | H18: =IF($B18="","",IF($B18=H$8,$A18,H17)) | I18: =IF($B18="","",IF($B18=I$8,$A18,I17)) | J18: =IF($B18="","",IF($B18=J$8,$A18,J17)) -> 9 | ... AN18: =IF($B18="","",IF($B18=AN$8,$A18,AN17))
A19: 11 | B19: =IF(A13="American",RANDBETWEEN(1,38),RANDBETWEEN(1,37)) -> 26 | C19: =IF($B19="","",IF($B19=C$8,$A19,C18)) -> 3 | D19: =IF($B19="","",IF($B19=D$8,$A19,D18)) -> 8 | E19: =IF($B19="","",IF($B19=E$8,$A19,E18)) | F19: =IF($B19="","",IF($B19=F$8,$A19,F18)) | G19: =IF($B19="","",IF($B19=G$8,$A19,G18)) | H19: =IF($B19="","",IF($B19=H$8,$A19,H18)) | I19: =IF($B19="","",IF($B19=I$8,$A19,I18)) | J19: =IF($B19="","",IF($B19=J$8,$A19,J18)) -> 9 | ... AN19: =IF($B19="","",IF($B19=AN$8,$A19,AN18))
A20: 12 | B20: =IF(A14="American",RANDBETWEEN(1,38),RANDBETWEEN(1,37)) -> 28 | C20: =IF($B20="","",IF($B20=C$8,$A20,C19)) -> 3 | D20: =IF($B20="","",IF($B20=D$8,$A20,D19)) -> 8 | E20: =IF($B20="","",IF($B20=E$8,$A20,E19)) | F20: =IF($B20="","",IF($B20=F$8,$A20,F19)) | G20: =IF($B20="","",IF($B20=G$8,$A20,G19)) | H20: =IF($B20="","",IF($B20=H$8,$A20,H19)) | I20: =IF($B20="","",IF($B20=I$8,$A20,I19)) | J20: =IF($B20="","",IF($B20=J$8,$A20,J19)) -> 9 | ... AN20: =IF($B20="","",IF($B20=AN$8,$A20,AN19))
A21: 13 | B21: =IF(A15="American",RANDBETWEEN(1,38),RANDBETWEEN(1,37)) -> 1 | C21: =IF($B21="","",IF($B21=C$8,$A21,C20)) -> 13 | D21: =IF($B21="","",IF($B21=D$8,$A21,D20)) -> 8 | E21: =IF($B21="","",IF($B21=E$8,$A21,E20)) | F21: =IF($B21="","",IF($B21=F$8,$A21,F20)) | G21: =IF($B21="","",IF($B21=G$8,$A21,G20)) | H21: =IF($B21="","",IF($B21=H$8,$A21,H20)) | I21: =IF($B21="","",IF($B21=I$8,$A21,I20)) | J21: =IF($B21="","",IF($B21=J$8,$A21,J20)) -> 9 | ... AN21: =IF($B21="","",IF($B21=AN$8,$A21,AN20))
A22: 14 | B22: =IF(A16="American",RANDBETWEEN(1,38),RANDBETWEEN(1,37)) -> 4 | C22: =IF($B22="","",IF($B22=C$8,$A22,C21)) -> 13 | D22: =IF($B22="","",IF($B22=D$8,$A22,D21)) -> 8 | E22: =IF($B22="","",IF($B22=E$8,$A22,E21)) | F22: =IF($B22="","",IF($B22=F$8,$A22,F21)) -> 14 | G22: =IF($B22="","",IF($B22=G$8,$A22,G21)) | H22: =IF($B22="","",IF($B22=H$8,$A22,H21)) | I22: =IF($B22="","",IF($B22=I$8,$A22,I21)) | J22: =IF($B22="","",IF($B22=J$8,$A22,J21)) -> 9 | ... AN22: =IF($B22="","",IF($B22=AN$8,$A22,AN21))
... A45: 37 | B45: =IF(A39="American",RANDBETWEEN(1,38),RANDBETWEEN(1,37)) -> 1 | C45: =IF($B45="","",IF($B45=C$8,$A45,C44)) -> 37 | D45: =IF($B45="","",IF($B45=D$8,$A45,D44)) -> 8 | E45: =IF($B45="","",IF($B45=E$8,$A45,E44)) | F45: =IF($B45="","",IF($B45=F$8,$A45,F44)) -> 26 | G45: =IF($B45="","",IF($B45=G$8,$A45,G44)) | H45: =IF($B45="","",IF($B45=H$8,$A45,H44)) | I45: =IF($B45="","",IF($B45=I$8,$A45,I44)) -> 17 | J45: =IF($B45="","",IF($B45=J$8,$A45,J44)) -> 22 | ... AN45: =IF($B45="","",IF($B45=AN$8,$A45,AN44))
A46: 38 | C46: =IF($B46="","",IF($B46=C$8,$A46,C45)) | D46: =IF($B46="","",IF($B46=D$8,$A46,D45)) | E46: =IF($B46="","",IF($B46=E$8,$A46,E45)) | F46: =IF($B46="","",IF($B46=F$8,$A46,F45)) | G46: =IF($B46="","",IF($B46=G$8,$A46,G45)) | H46: =IF($B46="","",IF($B46=H$8,$A46,H45)) | I46: =IF($B46="","",IF($B46=I$8,$A46,I45)) | J46: =IF($B46="","",IF($B46=J$8,$A46,J45)) | ... AN46: =IF($B46="","",IF($B46=AN$8,$A46,AN45))
A47: 39 | C47: =IF($B47="","",IF($B47=C$8,$A47,C46)) | D47: =IF($B47="","",IF($B47=D$8,$A47,D46)) | E47: =IF($B47="","",IF($B47=E$8,$A47,E46)) | F47: =IF($B47="","",IF($B47=F$8,$A47,F46)) | G47: =IF($B47="","",IF($B47=G$8,$A47,G46)) | H47: =IF($B47="","",IF($B47=H$8,$A47,H46)) | I47: =IF($B47="","",IF($B47=I$8,$A47,I46)) | J47: =IF($B47="","",IF($B47=J$8,$A47,J46)) | ... AN47: =IF($B47="","",IF($B47=AN$8,$A47,AN46))
A48: 40 | C48: =IF($B48="","",IF($B48=C$8,$A48,C47)) | D48: =IF($B48="","",IF($B48=D$8,$A48,D47)) | E48: =IF($B48="","",IF($B48=E$8,$A48,E47)) | F48: =IF($B48="","",IF($B48=F$8,$A48,F47)) | G48: =IF($B48="","",IF($B48=G$8,$A48,G47)) | H48: =IF($B48="","",IF($B48=H$8,$A48,H47)) | I48: =IF($B48="","",IF($B48=I$8,$A48,I47)) | J48: =IF($B48="","",IF($B48=J$8,$A48,J47)) | ... AN48: =IF($B48="","",IF($B48=AN$8,$A48,AN47))
A49: 41 | C49: =IF($B49="","",IF($B49=C$8,$A49,C48)) | D49: =IF($B49="","",IF($B49=D$8,$A49,D48)) | E49: =IF($B49="","",IF($B49=E$8,$A49,E48)) | F49: =IF($B49="","",IF($B49=F$8,$A49,F48)) | G49: =IF($B49="","",IF($B49=G$8,$A49,G48)) | H49: =IF($B49="","",IF($B49=H$8,$A49,H48)) | I49: =IF($B49="","",IF($B49=I$8,$A49,I48)) | J49: =IF($B49="","",IF($B49=J$8,$A49,J48)) | ... AN49: =IF($B49="","",IF($B49=AN$8,$A49,AN48))
A50: 42 | C50: =IF($B50="","",IF($B50=C$8,$A50,C49)) | D50: =IF($B50="","",IF($B50=D$8,$A50,D49)) | E50: =IF($B50="","",IF($B50=E$8,$A50,E49)) | F50: =IF($B50="","",IF($B50=F$8,$A50,F49)) | G50: =IF($B50="","",IF($B50=G$8,$A50,G49)) | H50: =IF($B50="","",IF($B50=H$8,$A50,H49)) | I50: =IF($B50="","",IF($B50=I$8,$A50,I49)) | J50: =IF($B50="","",IF($B50=J$8,$A50,J49)) | ... AN50: =IF($B50="","",IF($B50=AN$8,$A50,AN49))
A51: 43 | C51: =IF($B51="","",IF($B51=C$8,$A51,C50)) | D51: =IF($B51="","",IF($B51=D$8,$A51,D50)) | E51: =IF($B51="","",IF($B51=E$8,$A51,E50)) | F51: =IF($B51="","",IF($B51=F$8,$A51,F50)) | G51: =IF($B51="","",IF($B51=G$8,$A51,G50)) | H51: =IF($B51="","",IF($B51=H$8,$A51,H50)) | I51: =IF($B51="","",IF($B51=I$8,$A51,I50)) | J51: =IF($B51="","",IF($B51=J$8,$A51,J50)) | ... AN51: =IF($B51="","",IF($B51=AN$8,$A51,AN50))
A52: 44 | C52: =IF($B52="","",IF($B52=C$8,$A52,C51)) | D52: =IF($B52="","",IF($B52=D$8,$A52,D51)) | E52: =IF($B52="","",IF($B52=E$8,$A52,E51)) | F52: =IF($B52="","",IF($B52=F$8,$A52,F51)) | G52: =IF($B52="","",IF($B52=G$8,$A52,G51)) | H52: =IF($B52="","",IF($B52=H$8,$A52,H51)) | I52: =IF($B52="","",IF($B52=I$8,$A52,I51)) | J52: =IF($B52="","",IF($B52=J$8,$A52,J51)) | ... AN52: =IF($B52="","",IF($B52=AN$8,$A52,AN51))
A53: 45 | C53: =IF($B53="","",IF($B53=C$8,$A53,C52)) | D53: =IF($B53="","",IF($B53=D$8,$A53,D52)) | E53: =IF($B53="","",IF($B53=E$8,$A53,E52)) | F53: =IF($B53="","",IF($B53=F$8,$A53,F52)) | G53: =IF($B53="","",IF($B53=G$8,$A53,G52)) | H53: =IF($B53="","",IF($B53=H$8,$A53,H52)) | I53: =IF($B53="","",IF($B53=I$8,$A53,I52)) | J53: =IF($B53="","",IF($B53=J$8,$A53,J52)) | ... AN53: =IF($B53="","",IF($B53=AN$8,$A53,AN52))
A54: 46 | C54: =IF($B54="","",IF($B54=C$8,$A54,C53)) | D54: =IF($B54="","",IF($B54=D$8,$A54,D53)) | E54: =IF($B54="","",IF($B54=E$8,$A54,E53)) | F54: =IF($B54="","",IF($B54=F$8,$A54,F53)) | G54: =IF($B54="","",IF($B54=G$8,$A54,G53)) | H54: =IF($B54="","",IF($B54=H$8,$A54,H53)) | I54: =IF($B54="","",IF($B54=I$8,$A54,I53)) | J54: =IF($B54="","",IF($B54=J$8,$A54,J53)) | ... AN54: =IF($B54="","",IF($B54=AN$8,$A54,AN53))
A55: 47 | C55: =IF($B55="","",IF($B55=C$8,$A55,C54)) | D55: =IF($B55="","",IF($B55=D$8,$A55,D54)) | E55: =IF($B55="","",IF($B55=E$8,$A55,E54)) | F55: =IF($B55="","",IF($B55=F$8,$A55,F54)) | G55: =IF($B55="","",IF($B55=G$8,$A55,G54)) | H55: =IF($B55="","",IF($B55=H$8,$A55,H54)) | I55: =IF($B55="","",IF($B55=I$8,$A55,I54)) | J55: =IF($B55="","",IF($B55=J$8,$A55,J54)) | ... AN55: =IF($B55="","",IF($B55=AN$8,$A55,AN54))
A56: 48 | C56: =IF($B56="","",IF($B56=C$8,$A56,C55)) | D56: =IF($B56="","",IF($B56=D$8,$A56,D55)) | E56: =IF($B56="","",IF($B56=E$8,$A56,E55)) | F56: =IF($B56="","",IF($B56=F$8,$A56,F55)) | G56: =IF($B56="","",IF($B56=G$8,$A56,G55)) | H56: =IF($B56="","",IF($B56=H$8,$A56,H55)) | I56: =IF($B56="","",IF($B56=I$8,$A56,I55)) | J56: =IF($B56="","",IF($B56=J$8,$A56,J55)) | ... AN56: =IF($B56="","",IF($B56=AN$8,$A56,AN55))
A57: 49 | C57: =IF($B57="","",IF($B57=C$8,$A57,C56)) | D57: =IF($B57="","",IF($B57=D$8,$A57,D56)) | E57: =IF($B57="","",IF($B57=E$8,$A57,E56)) | F57: =IF($B57="","",IF($B57=F$8,$A57,F56)) | G57: =IF($B57="","",IF($B57=G$8,$A57,G56)) | H57: =IF($B57="","",IF($B57=H$8,$A57,H56)) | I57: =IF($B57="","",IF($B57=I$8,$A57,I56)) | J57: =IF($B57="","",IF($B57=J$8,$A57,J56)) | ... AN57: =IF($B57="","",IF($B57=AN$8,$A57,AN56))
... A552: 544 | C552: =IF($B552="","",IF($B552=C$8,$A552,C551)) | D552: =IF($B552="","",IF($B552=D$8,$A552,D551)) | E552: =IF($B552="","",IF($B552=E$8,$A552,E551)) | F552: =IF($B552="","",IF($B552=F$8,$A552,F551)) | G552: =IF($B552="","",IF($B552=G$8,$A552,G551)) | H552: =IF($B552="","",IF($B552=H$8,$A552,H551)) | I552: =IF($B552="","",IF($B552=I$8,$A552,I551)) | J552: =IF($B552="","",IF($B552=J$8,$A552,J551)) | ... AN552: =IF($B552="","",IF($B552=AN$8,$A552,AN551))
A553: 545 | AM553: =IF($B553="","",IF($B553=AM$8,$A553,""))
A554: 546 | AM554: =IF($B554="","",IF($B554=AM$8,$A554,""))
A555: 547 | AM555: =IF($B555="","",IF($B555=AM$8,$A555,""))
A556: 548 | AM556: =IF($B556="","",IF($B556=AM$8,$A556,""))
...

Sheet RL-RH-BL-BH
U3: LR | AD3: LB | AM3: HR | AV3: HB
M4: =MAX(M7:M150) -> 3 | N4: =MAX(N7:N150) -> 6 | O4: =MAX(O7:O150) -> 6 | P4: =MAX(P7:P150) -> 2 | Q4: =MAX(Q7:Q150) -> 10 | R4: =MAX(R7:R150) -> 12 | S4: =MAX(S7:S150) -> 35 | T4: =MAX(T7:T150) -> 10 | U4: 1 | V4: 3 | W4: 5 | X4: 7 | Y4: 9 | Z4: 12 | AA4: 14 | AB4: 16 | AC4: 18 | AD4: 2 | AE4: 4 | AF4: 6 | AG4: 8 | AH4: 10 | AI4: 11 | AJ4: 13 | AK4: 15 | AL4: 17 | AM4: 19 | AN4: 21 | AO4: 23 | AP4: 25 | AQ4: 27 | AR4: 30 | AS4: 32 | AT4: 34 | AU4: 36 | AV4: 20 | AW4: 22 | AX4: 24 | AY4: 26 | AZ4: 28 | BA4: 29 | BB4: 31 | BC4: 33 | BD4: 35
A5: Nr | B5: Type | C5: HL | D5: RB | M5: Nrs played | Q5: Spins
A6: 0 | E6: Spin | F6: Nr | G6: Type | H6: cntf | I6: LR | J6: LB | K6: HR | L6: HB | M6: LR | N6: LB | O6: HR | P6: HB | Q6: LR | R6: LB | S6: HR | T6: HB
A7: 1 | B7: =C7&D7 -> LR | C7: L | D7: R | E7: 1 | F7: =Tracker!B9 -> 34 | G7: =IF(F7=37,"z",LOOKUP(F7,A:A,B:B)) -> HR | I7: =COUNTIFS(U7:AC7,">0") -> 0 | J7: =COUNTIFS(AD7:AL7,">0") -> 0 | K7: =COUNTIFS(AM7:AU7,">0") -> 1 | L7: =COUNTIFS(AV7:BD7,">0") -> 0 | U7: =IF(AND($F7<>U$4,U6=""),"",IF($F7=U$4,$E7,U6)) | V7: =IF(AND($F7<>V$4,V6=""),"",IF($F7=V$4,$E7,V6)) | W7: =IF(AND($F7<>W$4,W6=""),"",IF($F7=W$4,$E7,W6)) | X7: =IF(AND($F7<>X$4,X6=""),"",IF($F7=X$4,$E7,X6)) | Y7: =IF(AND($F7<>Y$4,Y6=""),"",IF($F7=Y$4,$E7,Y6)) | Z7: =IF(AND($F7<>Z$4,Z6=""),"",IF($F7=Z$4,$E7,Z6)) | AA7: =IF(AND($F7<>AA$4,AA6=""),"",IF($F7=AA$4,$E7,AA6)) | AB7: =IF(AND($F7<>AB$4,AB6=""),"",IF($F7=AB$4,$E7,AB6)) | ... BD7: =IF(AND($F7<>BD$4,BD6=""),"",IF($F7=BD$4,$E7,BD6))
A8: 2 | B8: =C8&D8 -> LB | C8: L | D8: B | E8: 2 | F8: =Tracker!B10 -> 28 | G8: =IF(F8=37,"z",LOOKUP(F8,A:A,B:B)) -> HB | H8: =COUNTIF(F$7:F7,F8) -> 0 | I8: =COUNTIFS(U8:AC8,">0") -> 0 | J8: =COUNTIFS(AD8:AL8,">0") -> 0 | K8: =COUNTIFS(AM8:AU8,">0") -> 1 | L8: =COUNTIFS(AV8:BD8,">0") -> 1 | M8: =IF(M7<>"",M7,IF(Q8<>"",I8,"")) | N8: =IF(N7<>"",N7,IF(R8<>"",J8,"")) | O8: =IF(O7<>"",O7,IF(S8<>"",K8,"")) | P8: =IF(P7<>"",P7,IF(T8<>"",L8,"")) | Q8: =IF(Q7<>"",Q7,IF(AND($G8=Q$6,I8=I7),MAX(U$7:AC8)-MIN(U$7:AC8),"")) | R8: =IF(R7<>"",R7,IF(AND($G8=R$6,J8=J7),MAX(AD$7:AL8)-MIN(AD$7:AL8),"")) | S8: =IF(S7<>"",S7,IF(AND($G8=S$6,K8=K7),MAX(AM$7:AU8)-MIN(AM$7:AU8),"")) | T8: =IF(T7<>"",T7,IF(AND($G8=T$6,L8=L7),MAX(AV$7:BD8)-MIN(AV$7:BD8),"")) | U8: =IF(AND($F8<>U$4,U7=""),"",IF($F8=U$4,$E8,U7)) | V8: =IF(AND($F8<>V$4,V7=""),"",IF($F8=V$4,$E8,V7)) | W8: =IF(AND($F8<>W$4,W7=""),"",IF($F8=W$4,$E8,W7)) | X8: =IF(AND($F8<>X$4,X7=""),"",IF($F8=X$4,$E8,X7)) | Y8: =IF(AND($F8<>Y$4,Y7=""),"",IF($F8=Y$4,$E8,Y7)) | Z8: =IF(AND($F8<>Z$4,Z7=""),"",IF($F8=Z$4,$E8,Z7)) | AA8: =IF(AND($F8<>AA$4,AA7=""),"",IF($F8=AA$4,$E8,AA7)) | AB8: =IF(AND($F8<>AB$4,AB7=""),"",IF($F8=AB$4,$E8,AB7)) | ... BD8: =IF(AND($F8<>BD$4,BD7=""),"",IF($F8=BD$4,$E8,BD7))
A9: 3 | B9: =C9&D9 -> LR | C9: L | D9: R | E9: 3 | F9: =Tracker!B11 -> 1 | G9: =IF(F9=37,"z",LOOKUP(F9,A:A,B:B)) -> LR | H9: =COUNTIF(F$7:F8,F9) -> 0 | I9: =COUNTIFS(U9:AC9,">0") -> 1 | J9: =COUNTIFS(AD9:AL9,">0") -> 0 | K9: =COUNTIFS(AM9:AU9,">0") -> 1 | L9: =COUNTIFS(AV9:BD9,">0") -> 1 | M9: =IF(M8<>"",M8,IF(Q9<>"",I9,"")) | N9: =IF(N8<>"",N8,IF(R9<>"",J9,"")) | O9: =IF(O8<>"",O8,IF(S9<>"",K9,"")) | P9: =IF(P8<>"",P8,IF(T9<>"",L9,"")) | Q9: =IF(Q8<>"",Q8,IF(AND($G9=Q$6,I9=I8),MAX(U$7:AC9)-MIN(U$7:AC9),"")) | R9: =IF(R8<>"",R8,IF(AND($G9=R$6,J9=J8),MAX(AD$7:AL9)-MIN(AD$7:AL9),"")) | S9: =IF(S8<>"",S8,IF(AND($G9=S$6,K9=K8),MAX(AM$7:AU9)-MIN(AM$7:AU9),"")) | T9: =IF(T8<>"",T8,IF(AND($G9=T$6,L9=L8),MAX(AV$7:BD9)-MIN(AV$7:BD9),"")) | U9: =IF(AND($F9<>U$4,U8=""),"",IF($F9=U$4,$E9,U8)) -> 3 | V9: =IF(AND($F9<>V$4,V8=""),"",IF($F9=V$4,$E9,V8)) | W9: =IF(AND($F9<>W$4,W8=""),"",IF($F9=W$4,$E9,W8)) | X9: =IF(AND($F9<>X$4,X8=""),"",IF($F9=X$4,$E9,X8)) | Y9: =IF(AND($F9<>Y$4,Y8=""),"",IF($F9=Y$4,$E9,Y8)) | Z9: =IF(AND($F9<>Z$4,Z8=""),"",IF($F9=Z$4,$E9,Z8)) | AA9: =IF(AND($F9<>AA$4,AA8=""),"",IF($F9=AA$4,$E9,AA8)) | AB9: =IF(AND($F9<>AB$4,AB8=""),"",IF($F9=AB$4,$E9,AB8)) | ... BD9: =IF(AND($F9<>BD$4,BD8=""),"",IF($F9=BD$4,$E9,BD8))
A10: 4 | B10: =C10&D10 -> LB | C10: L | D10: B | E10: 4 | F10: =Tracker!B12 -> 19 | G10: =IF(F10=37,"z",LOOKUP(F10,A:A,B:B)) -> HR | H10: =COUNTIF(F$7:F9,F10) -> 0 | I10: =COUNTIFS(U10:AC10,">0") -> 1 | J10: =COUNTIFS(AD10:AL10,">0") -> 0 | K10: =COUNTIFS(AM10:AU10,">0") -> 2 | L10: =COUNTIFS(AV10:BD10,">0") -> 1 | M10: =IF(M9<>"",M9,IF(Q10<>"",I10,"")) | N10: =IF(N9<>"",N9,IF(R10<>"",J10,"")) | O10: =IF(O9<>"",O9,IF(S10<>"",K10,"")) | P10: =IF(P9<>"",P9,IF(T10<>"",L10,"")) | Q10: =IF(Q9<>"",Q9,IF(AND($G10=Q$6,I10=I9),MAX(U$7:AC10)-MIN(U$7:AC10),"")) | R10: =IF(R9<>"",R9,IF(AND($G10=R$6,J10=J9),MAX(AD$7:AL10)-MIN(AD$7:AL10),"")) | S10: =IF(S9<>"",S9,IF(AND($G10=S$6,K10=K9),MAX(AM$7:AU10)-MIN(AM$7:AU10),"")) | T10: =IF(T9<>"",T9,IF(AND($G10=T$6,L10=L9),MAX(AV$7:BD10)-MIN(AV$7:BD10),"")) | U10: =IF(AND($F10<>U$4,U9=""),"",IF($F10=U$4,$E10,U9)) -> 3 | V10: =IF(AND($F10<>V$4,V9=""),"",IF($F10=V$4,$E10,V9)) | W10: =IF(AND($F10<>W$4,W9=""),"",IF($F10=W$4,$E10,W9)) | X10: =IF(AND($F10<>X$4,X9=""),"",IF($F10=X$4,$E10,X9)) | Y10: =IF(AND($F10<>Y$4,Y9=""),"",IF($F10=Y$4,$E10,Y9)) | Z10: =IF(AND($F10<>Z$4,Z9=""),"",IF($F10=Z$4,$E10,Z9)) | AA10: =IF(AND($F10<>AA$4,AA9=""),"",IF($F10=AA$4,$E10,AA9)) | AB10: =IF(AND($F10<>AB$4,AB9=""),"",IF($F10=AB$4,$E10,AB9)) | ... BD10: =IF(AND($F10<>BD$4,BD9=""),"",IF($F10=BD$4,$E10,BD9))
A11: 5 | B11: =C11&D11 -> LR | C11: L | D11: R | E11: 5 | F11: =Tracker!B13 -> 16 | G11: =IF(F11=37,"z",LOOKUP(F11,A:A,B:B)) -> LR | H11: =COUNTIF(F$7:F10,F11) -> 0 | I11: =COUNTIFS(U11:AC11,">0") -> 2 | J11: =COUNTIFS(AD11:AL11,">0") -> 0 | K11: =COUNTIFS(AM11:AU11,">0") -> 2 | L11: =COUNTIFS(AV11:BD11,">0") -> 1 | M11: =IF(M10<>"",M10,IF(Q11<>"",I11,"")) | N11: =IF(N10<>"",N10,IF(R11<>"",J11,"")) | O11: =IF(O10<>"",O10,IF(S11<>"",K11,"")) | P11: =IF(P10<>"",P10,IF(T11<>"",L11,"")) | Q11: =IF(Q10<>"",Q10,IF(AND($G11=Q$6,I11=I10),MAX(U$7:AC11)-MIN(U$7:AC11),"")) | R11: =IF(R10<>"",R10,IF(AND($G11=R$6,J11=J10),MAX(AD$7:AL11)-MIN(AD$7:AL11),"")) | S11: =IF(S10<>"",S10,IF(AND($G11=S$6,K11=K10),MAX(AM$7:AU11)-MIN(AM$7:AU11),"")) | T11: =IF(T10<>"",T10,IF(AND($G11=T$6,L11=L10),MAX(AV$7:BD11)-MIN(AV$7:BD11),"")) | U11: =IF(AND($F11<>U$4,U10=""),"",IF($F11=U$4,$E11,U10)) -> 3 | V11: =IF(AND($F11<>V$4,V10=""),"",IF($F11=V$4,$E11,V10)) | W11: =IF(AND($F11<>W$4,W10=""),"",IF($F11=W$4,$E11,W10)) | X11: =IF(AND($F11<>X$4,X10=""),"",IF($F11=X$4,$E11,X10)) | Y11: =IF(AND($F11<>Y$4,Y10=""),"",IF($F11=Y$4,$E11,Y10)) | Z11: =IF(AND($F11<>Z$4,Z10=""),"",IF($F11=Z$4,$E11,Z10)) | AA11: =IF(AND($F11<>AA$4,AA10=""),"",IF($F11=AA$4,$E11,AA10)) | AB11: =IF(AND($F11<>AB$4,AB10=""),"",IF($F11=AB$4,$E11,AB10)) -> 5 | ... BD11: =IF(AND($F11<>BD$4,BD10=""),"",IF($F11=BD$4,$E11,BD10))
A12: 6 | B12: =C12&D12 -> LB | C12: L | D12: B | E12: 6 | F12: =Tracker!B14 -> 17 | G12: =IF(F12=37,"z",LOOKUP(F12,A:A,B:B)) -> LB | H12: =COUNTIF(F$7:F11,F12) -> 0 | I12: =COUNTIFS(U12:AC12,">0") -> 2 | J12: =COUNTIFS(AD12:AL12,">0") -> 1 | K12: =COUNTIFS(AM12:AU12,">0") -> 2 | L12: =COUNTIFS(AV12:BD12,">0") -> 1 | M12: =IF(M11<>"",M11,IF(Q12<>"",I12,"")) | N12: =IF(N11<>"",N11,IF(R12<>"",J12,"")) | O12: =IF(O11<>"",O11,IF(S12<>"",K12,"")) | P12: =IF(P11<>"",P11,IF(T12<>"",L12,"")) | Q12: =IF(Q11<>"",Q11,IF(AND($G12=Q$6,I12=I11),MAX(U$7:AC12)-MIN(U$7:AC12),"")) | R12: =IF(R11<>"",R11,IF(AND($G12=R$6,J12=J11),MAX(AD$7:AL12)-MIN(AD$7:AL12),"")) | S12: =IF(S11<>"",S11,IF(AND($G12=S$6,K12=K11),MAX(AM$7:AU12)-MIN(AM$7:AU12),"")) | T12: =IF(T11<>"",T11,IF(AND($G12=T$6,L12=L11),MAX(AV$7:BD12)-MIN(AV$7:BD12),"")) | U12: =IF(AND($F12<>U$4,U11=""),"",IF($F12=U$4,$E12,U11)) -> 3 | V12: =IF(AND($F12<>V$4,V11=""),"",IF($F12=V$4,$E12,V11)) | W12: =IF(AND($F12<>W$4,W11=""),"",IF($F12=W$4,$E12,W11)) | X12: =IF(AND($F12<>X$4,X11=""),"",IF($F12=X$4,$E12,X11)) | Y12: =IF(AND($F12<>Y$4,Y11=""),"",IF($F12=Y$4,$E12,Y11)) | Z12: =IF(AND($F12<>Z$4,Z11=""),"",IF($F12=Z$4,$E12,Z11)) | AA12: =IF(AND($F12<>AA$4,AA11=""),"",IF($F12=AA$4,$E12,AA11)) | AB12: =IF(AND($F12<>AB$4,AB11=""),"",IF($F12=AB$4,$E12,AB11)) -> 5 | ... BD12: =IF(AND($F12<>BD$4,BD11=""),"",IF($F12=BD$4,$E12,BD11))
A13: 7 | B13: =C13&D13 -> LR | C13: L | D13: R | E13: 7 | F13: =Tracker!B15 -> 10 | G13: =IF(F13=37,"z",LOOKUP(F13,A:A,B:B)) -> LB | H13: =COUNTIF(F$7:F12,F13) -> 0 | I13: =COUNTIFS(U13:AC13,">0") -> 2 | J13: =COUNTIFS(AD13:AL13,">0") -> 2 | K13: =COUNTIFS(AM13:AU13,">0") -> 2 | L13: =COUNTIFS(AV13:BD13,">0") -> 1 | M13: =IF(M12<>"",M12,IF(Q13<>"",I13,"")) | N13: =IF(N12<>"",N12,IF(R13<>"",J13,"")) | O13: =IF(O12<>"",O12,IF(S13<>"",K13,"")) | P13: =IF(P12<>"",P12,IF(T13<>"",L13,"")) | Q13: =IF(Q12<>"",Q12,IF(AND($G13=Q$6,I13=I12),MAX(U$7:AC13)-MIN(U$7:AC13),"")) | R13: =IF(R12<>"",R12,IF(AND($G13=R$6,J13=J12),MAX(AD$7:AL13)-MIN(AD$7:AL13),"")) | S13: =IF(S12<>"",S12,IF(AND($G13=S$6,K13=K12),MAX(AM$7:AU13)-MIN(AM$7:AU13),"")) | T13: =IF(T12<>"",T12,IF(AND($G13=T$6,L13=L12),MAX(AV$7:BD13)-MIN(AV$7:BD13),"")) | U13: =IF(AND($F13<>U$4,U12=""),"",IF($F13=U$4,$E13,U12)) -> 3 | V13: =IF(AND($F13<>V$4,V12=""),"",IF($F13=V$4,$E13,V12)) | W13: =IF(AND($F13<>W$4,W12=""),"",IF($F13=W$4,$E13,W12)) | X13: =IF(AND($F13<>X$4,X12=""),"",IF($F13=X$4,$E13,X12)) | Y13: =IF(AND($F13<>Y$4,Y12=""),"",IF($F13=Y$4,$E13,Y12)) | Z13: =IF(AND($F13<>Z$4,Z12=""),"",IF($F13=Z$4,$E13,Z12)) | AA13: =IF(AND($F13<>AA$4,AA12=""),"",IF($F13=AA$4,$E13,AA12)) | AB13: =IF(AND($F13<>AB$4,AB12=""),"",IF($F13=AB$4,$E13,AB12)) -> 5 | ... BD13: =IF(AND($F13<>BD$4,BD12=""),"",IF($F13=BD$4,$E13,BD12))
A14: 8 | B14: =C14&D14 -> LB | C14: L | D14: B | E14: 8 | F14: =Tracker!B16 -> 2 | G14: =IF(F14=37,"z",LOOKUP(F14,A:A,B:B)) -> LB | H14: =COUNTIF(F$7:F13,F14) -> 0 | I14: =COUNTIFS(U14:AC14,">0") -> 2 | J14: =COUNTIFS(AD14:AL14,">0") -> 3 | K14: =COUNTIFS(AM14:AU14,">0") -> 2 | L14: =COUNTIFS(AV14:BD14,">0") -> 1 | M14: =IF(M13<>"",M13,IF(Q14<>"",I14,"")) | N14: =IF(N13<>"",N13,IF(R14<>"",J14,"")) | O14: =IF(O13<>"",O13,IF(S14<>"",K14,"")) | P14: =IF(P13<>"",P13,IF(T14<>"",L14,"")) | Q14: =IF(Q13<>"",Q13,IF(AND($G14=Q$6,I14=I13),MAX(U$7:AC14)-MIN(U$7:AC14),"")) | R14: =IF(R13<>"",R13,IF(AND($G14=R$6,J14=J13),MAX(AD$7:AL14)-MIN(AD$7:AL14),"")) | S14: =IF(S13<>"",S13,IF(AND($G14=S$6,K14=K13),MAX(AM$7:AU14)-MIN(AM$7:AU14),"")) | T14: =IF(T13<>"",T13,IF(AND($G14=T$6,L14=L13),MAX(AV$7:BD14)-MIN(AV$7:BD14),"")) | U14: =IF(AND($F14<>U$4,U13=""),"",IF($F14=U$4,$E14,U13)) -> 3 | V14: =IF(AND($F14<>V$4,V13=""),"",IF($F14=V$4,$E14,V13)) | W14: =IF(AND($F14<>W$4,W13=""),"",IF($F14=W$4,$E14,W13)) | X14: =IF(AND($F14<>X$4,X13=""),"",IF($F14=X$4,$E14,X13)) | Y14: =IF(AND($F14<>Y$4,Y13=""),"",IF($F14=Y$4,$E14,Y13)) | Z14: =IF(AND($F14<>Z$4,Z13=""),"",IF($F14=Z$4,$E14,Z13)) | AA14: =IF(AND($F14<>AA$4,AA13=""),"",IF($F14=AA$4,$E14,AA13)) | AB14: =IF(AND($F14<>AB$4,AB13=""),"",IF($F14=AB$4,$E14,AB13)) -> 5 | ... BD14: =IF(AND($F14<>BD$4,BD13=""),"",IF($F14=BD$4,$E14,BD13))
A15: 9 | B15: =C15&D15 -> LR | C15: L | D15: R | E15: 9 | F15: =Tracker!B17 -> 8 | G15: =IF(F15=37,"z",LOOKUP(F15,A:A,B:B)) -> LB | H15: =COUNTIF(F$7:F14,F15) -> 0 | I15: =COUNTIFS(U15:AC15,">0") -> 2 | J15: =COUNTIFS(AD15:AL15,">0") -> 4 | K15: =COUNTIFS(AM15:AU15,">0") -> 2 | L15: =COUNTIFS(AV15:BD15,">0") -> 1 | M15: =IF(M14<>"",M14,IF(Q15<>"",I15,"")) | N15: =IF(N14<>"",N14,IF(R15<>"",J15,"")) | O15: =IF(O14<>"",O14,IF(S15<>"",K15,"")) | P15: =IF(P14<>"",P14,IF(T15<>"",L15,"")) | Q15: =IF(Q14<>"",Q14,IF(AND($G15=Q$6,I15=I14),MAX(U$7:AC15)-MIN(U$7:AC15),"")) | R15: =IF(R14<>"",R14,IF(AND($G15=R$6,J15=J14),MAX(AD$7:AL15)-MIN(AD$7:AL15),"")) | S15: =IF(S14<>"",S14,IF(AND($G15=S$6,K15=K14),MAX(AM$7:AU15)-MIN(AM$7:AU15),"")) | T15: =IF(T14<>"",T14,IF(AND($G15=T$6,L15=L14),MAX(AV$7:BD15)-MIN(AV$7:BD15),"")) | U15: =IF(AND($F15<>U$4,U14=""),"",IF($F15=U$4,$E15,U14)) -> 3 | V15: =IF(AND($F15<>V$4,V14=""),"",IF($F15=V$4,$E15,V14)) | W15: =IF(AND($F15<>W$4,W14=""),"",IF($F15=W$4,$E15,W14)) | X15: =IF(AND($F15<>X$4,X14=""),"",IF($F15=X$4,$E15,X14)) | Y15: =IF(AND($F15<>Y$4,Y14=""),"",IF($F15=Y$4,$E15,Y14)) | Z15: =IF(AND($F15<>Z$4,Z14=""),"",IF($F15=Z$4,$E15,Z14)) | AA15: =IF(AND($F15<>AA$4,AA14=""),"",IF($F15=AA$4,$E15,AA14)) | AB15: =IF(AND($F15<>AB$4,AB14=""),"",IF($F15=AB$4,$E15,AB14)) -> 5 | ... BD15: =IF(AND($F15<>BD$4,BD14=""),"",IF($F15=BD$4,$E15,BD14))
A16: 10 | B16: =C16&D16 -> LB | C16: L | D16: B | E16: 10 | F16: =Tracker!B18 -> 12 | G16: =IF(F16=37,"z",LOOKUP(F16,A:A,B:B)) -> LR | H16: =COUNTIF(F$7:F15,F16) -> 0 | I16: =COUNTIFS(U16:AC16,">0") -> 3 | J16: =COUNTIFS(AD16:AL16,">0") -> 4 | K16: =COUNTIFS(AM16:AU16,">0") -> 2 | L16: =COUNTIFS(AV16:BD16,">0") -> 1 | M16: =IF(M15<>"",M15,IF(Q16<>"",I16,"")) | N16: =IF(N15<>"",N15,IF(R16<>"",J16,"")) | O16: =IF(O15<>"",O15,IF(S16<>"",K16,"")) | P16: =IF(P15<>"",P15,IF(T16<>"",L16,"")) | Q16: =IF(Q15<>"",Q15,IF(AND($G16=Q$6,I16=I15),MAX(U$7:AC16)-MIN(U$7:AC16),"")) | R16: =IF(R15<>"",R15,IF(AND($G16=R$6,J16=J15),MAX(AD$7:AL16)-MIN(AD$7:AL16),"")) | S16: =IF(S15<>"",S15,IF(AND($G16=S$6,K16=K15),MAX(AM$7:AU16)-MIN(AM$7:AU16),"")) | T16: =IF(T15<>"",T15,IF(AND($G16=T$6,L16=L15),MAX(AV$7:BD16)-MIN(AV$7:BD16),"")) | U16: =IF(AND($F16<>U$4,U15=""),"",IF($F16=U$4,$E16,U15)) -> 3 | V16: =IF(AND($F16<>V$4,V15=""),"",IF($F16=V$4,$E16,V15)) | W16: =IF(AND($F16<>W$4,W15=""),"",IF($F16=W$4,$E16,W15)) | X16: =IF(AND($F16<>X$4,X15=""),"",IF($F16=X$4,$E16,X15)) | Y16: =IF(AND($F16<>Y$4,Y15=""),"",IF($F16=Y$4,$E16,Y15)) | Z16: =IF(AND($F16<>Z$4,Z15=""),"",IF($F16=Z$4,$E16,Z15)) -> 10 | AA16: =IF(AND($F16<>AA$4,AA15=""),"",IF($F16=AA$4,$E16,AA15)) | AB16: =IF(AND($F16<>AB$4,AB15=""),"",IF($F16=AB$4,$E16,AB15)) -> 5 | ... BD16: =IF(AND($F16<>BD$4,BD15=""),"",IF($F16=BD$4,$E16,BD15))
A17: 11 | B17: =C17&D17 -> LB | C17: L | D17: B | E17: 11 | F17: =Tracker!B19 -> 26 | G17: =IF(F17=37,"z",LOOKUP(F17,A:A,B:B)) -> HB | H17: =COUNTIF(F$7:F16,F17) -> 0 | I17: =COUNTIFS(U17:AC17,">0") -> 3 | J17: =COUNTIFS(AD17:AL17,">0") -> 4 | K17: =COUNTIFS(AM17:AU17,">0") -> 2 | L17: =COUNTIFS(AV17:BD17,">0") -> 2 | M17: =IF(M16<>"",M16,IF(Q17<>"",I17,"")) | N17: =IF(N16<>"",N16,IF(R17<>"",J17,"")) | O17: =IF(O16<>"",O16,IF(S17<>"",K17,"")) | P17: =IF(P16<>"",P16,IF(T17<>"",L17,"")) | Q17: =IF(Q16<>"",Q16,IF(AND($G17=Q$6,I17=I16),MAX(U$7:AC17)-MIN(U$7:AC17),"")) | R17: =IF(R16<>"",R16,IF(AND($G17=R$6,J17=J16),MAX(AD$7:AL17)-MIN(AD$7:AL17),"")) | S17: =IF(S16<>"",S16,IF(AND($G17=S$6,K17=K16),MAX(AM$7:AU17)-MIN(AM$7:AU17),"")) | T17: =IF(T16<>"",T16,IF(AND($G17=T$6,L17=L16),MAX(AV$7:BD17)-MIN(AV$7:BD17),"")) | U17: =IF(AND($F17<>U$4,U16=""),"",IF($F17=U$4,$E17,U16)) -> 3 | V17: =IF(AND($F17<>V$4,V16=""),"",IF($F17=V$4,$E17,V16)) | W17: =IF(AND($F17<>W$4,W16=""),"",IF($F17=W$4,$E17,W16)) | X17: =IF(AND($F17<>X$4,X16=""),"",IF($F17=X$4,$E17,X16)) | Y17: =IF(AND($F17<>Y$4,Y16=""),"",IF($F17=Y$4,$E17,Y16)) | Z17: =IF(AND($F17<>Z$4,Z16=""),"",IF($F17=Z$4,$E17,Z16)) -> 10 | AA17: =IF(AND($F17<>AA$4,AA16=""),"",IF($F17=AA$4,$E17,AA16)) | AB17: =IF(AND($F17<>AB$4,AB16=""),"",IF($F17=AB$4,$E17,AB16)) -> 5 | ... BD17: =IF(AND($F17<>BD$4,BD16=""),"",IF($F17=BD$4,$E17,BD16))
A18: 12 | B18: =C18&D18 -> LR | C18: L | D18: R | E18: 12 | F18: =Tracker!B20 -> 28 | G18: =IF(F18=37,"z",LOOKUP(F18,A:A,B:B)) -> HB | H18: =COUNTIF(F$7:F17,F18) -> 1 | I18: =COUNTIFS(U18:AC18,">0") -> 3 | J18: =COUNTIFS(AD18:AL18,">0") -> 4 | K18: =COUNTIFS(AM18:AU18,">0") -> 2 | L18: =COUNTIFS(AV18:BD18,">0") -> 2 | M18: =IF(M17<>"",M17,IF(Q18<>"",I18,"")) | N18: =IF(N17<>"",N17,IF(R18<>"",J18,"")) | O18: =IF(O17<>"",O17,IF(S18<>"",K18,"")) | P18: =IF(P17<>"",P17,IF(T18<>"",L18,"")) -> 2 | Q18: =IF(Q17<>"",Q17,IF(AND($G18=Q$6,I18=I17),MAX(U$7:AC18)-MIN(U$7:AC18),"")) | R18: =IF(R17<>"",R17,IF(AND($G18=R$6,J18=J17),MAX(AD$7:AL18)-MIN(AD$7:AL18),"")) | S18: =IF(S17<>"",S17,IF(AND($G18=S$6,K18=K17),MAX(AM$7:AU18)-MIN(AM$7:AU18),"")) | T18: =IF(T17<>"",T17,IF(AND($G18=T$6,L18=L17),MAX(AV$7:BD18)-MIN(AV$7:BD18),"")) -> 10 | U18: =IF(AND($F18<>U$4,U17=""),"",IF($F18=U$4,$E18,U17)) -> 3 | V18: =IF(AND($F18<>V$4,V17=""),"",IF($F18=V$4,$E18,V17)) | W18: =IF(AND($F18<>W$4,W17=""),"",IF($F18=W$4,$E18,W17)) | X18: =IF(AND($F18<>X$4,X17=""),"",IF($F18=X$4,$E18,X17)) | Y18: =IF(AND($F18<>Y$4,Y17=""),"",IF($F18=Y$4,$E18,Y17)) | Z18: =IF(AND($F18<>Z$4,Z17=""),"",IF($F18=Z$4,$E18,Z17)) -> 10 | AA18: =IF(AND($F18<>AA$4,AA17=""),"",IF($F18=AA$4,$E18,AA17)) | AB18: =IF(AND($F18<>AB$4,AB17=""),"",IF($F18=AB$4,$E18,AB17)) -> 5 | ... BD18: =IF(AND($F18<>BD$4,BD17=""),"",IF($F18=BD$4,$E18,BD17))
A19: 13 | B19: =C19&D19 -> LB | C19: L | D19: B | E19: 13 | F19: =Tracker!B21 -> 1 | G19: =IF(F19=37,"z",LOOKUP(F19,A:A,B:B)) -> LR | H19: =COUNTIF(F$7:F18,F19) -> 1 | I19: =COUNTIFS(U19:AC19,">0") -> 3 | J19: =COUNTIFS(AD19:AL19,">0") -> 4 | K19: =COUNTIFS(AM19:AU19,">0") -> 2 | L19: =COUNTIFS(AV19:BD19,">0") -> 2 | M19: =IF(M18<>"",M18,IF(Q19<>"",I19,"")) -> 3 | N19: =IF(N18<>"",N18,IF(R19<>"",J19,"")) | O19: =IF(O18<>"",O18,IF(S19<>"",K19,"")) | P19: =IF(P18<>"",P18,IF(T19<>"",L19,"")) -> 2 | Q19: =IF(Q18<>"",Q18,IF(AND($G19=Q$6,I19=I18),MAX(U$7:AC19)-MIN(U$7:AC19),"")) -> 10 | R19: =IF(R18<>"",R18,IF(AND($G19=R$6,J19=J18),MAX(AD$7:AL19)-MIN(AD$7:AL19),"")) | S19: =IF(S18<>"",S18,IF(AND($G19=S$6,K19=K18),MAX(AM$7:AU19)-MIN(AM$7:AU19),"")) | T19: =IF(T18<>"",T18,IF(AND($G19=T$6,L19=L18),MAX(AV$7:BD19)-MIN(AV$7:BD19),"")) -> 10 | U19: =IF(AND($F19<>U$4,U18=""),"",IF($F19=U$4,$E19,U18)) -> 13 | V19: =IF(AND($F19<>V$4,V18=""),"",IF($F19=V$4,$E19,V18)) | W19: =IF(AND($F19<>W$4,W18=""),"",IF($F19=W$4,$E19,W18)) | X19: =IF(AND($F19<>X$4,X18=""),"",IF($F19=X$4,$E19,X18)) | Y19: =IF(AND($F19<>Y$4,Y18=""),"",IF($F19=Y$4,$E19,Y18)) | Z19: =IF(AND($F19<>Z$4,Z18=""),"",IF($F19=Z$4,$E19,Z18)) -> 10 | AA19: =IF(AND($F19<>AA$4,AA18=""),"",IF($F19=AA$4,$E19,AA18)) | AB19: =IF(AND($F19<>AB$4,AB18=""),"",IF($F19=AB$4,$E19,AB18)) -> 5 | ... BD19: =IF(AND($F19<>BD$4,BD18=""),"",IF($F19=BD$4,$E19,BD18))
... A42: 36 | B42: =C42&D42 -> HR | C42: H | D42: R | E42: 36 | F42: =Tracker!B44 -> 36 | G42: =IF(F42=37,"z",LOOKUP(F42,A:A,B:B)) -> HR | H42: =COUNTIF(F$7:F41,F42) -> 1 | I42: =COUNTIFS(U42:AC42,">0") -> 4 | J42: =COUNTIFS(AD42:AL42,">0") -> 7 | K42: =COUNTIFS(AM42:AU42,">0") -> 6 | L42: =COUNTIFS(AV42:BD42,">0") -> 6 | M42: =IF(M41<>"",M41,IF(Q42<>"",I42,"")) -> 3 | N42: =IF(N41<>"",N41,IF(R42<>"",J42,"")) -> 6 | O42: =IF(O41<>"",O41,IF(S42<>"",K42,"")) -> 6 | P42: =IF(P41<>"",P41,IF(T42<>"",L42,"")) -> 2 | Q42: =IF(Q41<>"",Q41,IF(AND($G42=Q$6,I42=I41),MAX(U$7:AC42)-MIN(U$7:AC42),"")) -> 10 | R42: =IF(R41<>"",R41,IF(AND($G42=R$6,J42=J41),MAX(AD$7:AL42)-MIN(AD$7:AL42),"")) -> 12 | S42: =IF(S41<>"",S41,IF(AND($G42=S$6,K42=K41),MAX(AM$7:AU42)-MIN(AM$7:AU42),"")) -> 35 | T42: =IF(T41<>"",T41,IF(AND($G42=T$6,L42=L41),MAX(AV$7:BD42)-MIN(AV$7:BD42),"")) -> 10 | U42: =IF(AND($F42<>U$4,U41=""),"",IF($F42=U$4,$E42,U41)) -> 25 | V42: =IF(AND($F42<>V$4,V41=""),"",IF($F42=V$4,$E42,V41)) | W42: =IF(AND($F42<>W$4,W41=""),"",IF($F42=W$4,$E42,W41)) | X42: =IF(AND($F42<>X$4,X41=""),"",IF($F42=X$4,$E42,X41)) -> 17 | Y42: =IF(AND($F42<>Y$4,Y41=""),"",IF($F42=Y$4,$E42,Y41)) | Z42: =IF(AND($F42<>Z$4,Z41=""),"",IF($F42=Z$4,$E42,Z41)) -> 33 | AA42: =IF(AND($F42<>AA$4,AA41=""),"",IF($F42=AA$4,$E42,AA41)) | AB42: =IF(AND($F42<>AB$4,AB41=""),"",IF($F42=AB$4,$E42,AB41)) -> 35 | ... BD42: =IF(AND($F42<>BD$4,BD41=""),"",IF($F42=BD$4,$E42,BD41)) -> 29
B43: =C43&D43 | E43: 37 | F43: =Tracker!B45 -> 1 | G43: =IF(F43=37,"z",LOOKUP(F43,A:A,B:B)) -> LR | H43: =COUNTIF(F$7:F42,F43) -> 3 | I43: =COUNTIFS(U43:AC43,">0") -> 4 | J43: =COUNTIFS(AD43:AL43,">0") -> 7 | K43: =COUNTIFS(AM43:AU43,">0") -> 6 | L43: =COUNTIFS(AV43:BD43,">0") -> 6 | M43: =IF(M42<>"",M42,IF(Q43<>"",I43,"")) -> 3 | N43: =IF(N42<>"",N42,IF(R43<>"",J43,"")) -> 6 | O43: =IF(O42<>"",O42,IF(S43<>"",K43,"")) -> 6 | P43: =IF(P42<>"",P42,IF(T43<>"",L43,"")) -> 2 | Q43: =IF(Q42<>"",Q42,IF(AND($G43=Q$6,I43=I42),MAX(U$7:AC43)-MIN(U$7:AC43),"")) -> 10 | R43: =IF(R42<>"",R42,IF(AND($G43=R$6,J43=J42),MAX(AD$7:AL43)-MIN(AD$7:AL43),"")) -> 12 | S43: =IF(S42<>"",S42,IF(AND($G43=S$6,K43=K42),MAX(AM$7:AU43)-MIN(AM$7:AU43),"")) -> 35 | T43: =IF(T42<>"",T42,IF(AND($G43=T$6,L43=L42),MAX(AV$7:BD43)-MIN(AV$7:BD43),"")) -> 10 | U43: =IF(AND($F43<>U$4,U42=""),"",IF($F43=U$4,$E43,U42)) -> 37 | V43: =IF(AND($F43<>V$4,V42=""),"",IF($F43=V$4,$E43,V42)) | W43: =IF(AND($F43<>W$4,W42=""),"",IF($F43=W$4,$E43,W42)) | X43: =IF(AND($F43<>X$4,X42=""),"",IF($F43=X$4,$E43,X42)) -> 17 | Y43: =IF(AND($F43<>Y$4,Y42=""),"",IF($F43=Y$4,$E43,Y42)) | Z43: =IF(AND($F43<>Z$4,Z42=""),"",IF($F43=Z$4,$E43,Z42)) -> 33 | AA43: =IF(AND($F43<>AA$4,AA42=""),"",IF($F43=AA$4,$E43,AA42)) | AB43: =IF(AND($F43<>AB$4,AB42=""),"",IF($F43=AB$4,$E43,AB42)) -> 35 | ... BD43: =IF(AND($F43<>BD$4,BD42=""),"",IF($F43=BD$4,$E43,BD42)) -> 29
B44: =C44&D44 | E44: 38 | F44: =Tracker!B46 -> 0 | G44: =IF(F44=37,"z",LOOKUP(F44,A:A,B:B)) -> 0 | H44: =COUNTIF(F$7:F43,F44) -> 0 | I44: =COUNTIFS(U44:AC44,">0") -> 4 | J44: =COUNTIFS(AD44:AL44,">0") -> 7 | K44: =COUNTIFS(AM44:AU44,">0") -> 6 | L44: =COUNTIFS(AV44:BD44,">0") -> 6 | M44: =IF(M43<>"",M43,IF(Q44<>"",I44,"")) -> 3 | N44: =IF(N43<>"",N43,IF(R44<>"",J44,"")) -> 6 | O44: =IF(O43<>"",O43,IF(S44<>"",K44,"")) -> 6 | P44: =IF(P43<>"",P43,IF(T44<>"",L44,"")) -> 2 | Q44: =IF(Q43<>"",Q43,IF(AND($G44=Q$6,I44=I43),MAX(U$7:AC44)-MIN(U$7:AC44),"")) -> 10 | R44: =IF(R43<>"",R43,IF(AND($G44=R$6,J44=J43),MAX(AD$7:AL44)-MIN(AD$7:AL44),"")) -> 12 | S44: =IF(S43<>"",S43,IF(AND($G44=S$6,K44=K43),MAX(AM$7:AU44)-MIN(AM$7:AU44),"")) -> 35 | T44: =IF(T43<>"",T43,IF(AND($G44=T$6,L44=L43),MAX(AV$7:BD44)-MIN(AV$7:BD44),"")) -> 10 | U44: =IF(AND($F44<>U$4,U43=""),"",IF($F44=U$4,$E44,U43)) -> 37 | V44: =IF(AND($F44<>V$4,V43=""),"",IF($F44=V$4,$E44,V43)) | W44: =IF(AND($F44<>W$4,W43=""),"",IF($F44=W$4,$E44,W43)) | X44: =IF(AND($F44<>X$4,X43=""),"",IF($F44=X$4,$E44,X43)) -> 17 | Y44: =IF(AND($F44<>Y$4,Y43=""),"",IF($F44=Y$4,$E44,Y43)) | Z44: =IF(AND($F44<>Z$4,Z43=""),"",IF($F44=Z$4,$E44,Z43)) -> 33 | AA44: =IF(AND($F44<>AA$4,AA43=""),"",IF($F44=AA$4,$E44,AA43)) | AB44: =IF(AND($F44<>AB$4,AB43=""),"",IF($F44=AB$4,$E44,AB43)) -> 35 | ... BD44: =IF(AND($F44<>BD$4,BD43=""),"",IF($F44=BD$4,$E44,BD43)) -> 29
B45: =C45&D45 | E45: 39 | F45: =Tracker!B47 -> 0 | G45: =IF(F45=37,"z",LOOKUP(F45,A:A,B:B)) -> 0 | H45: =COUNTIF(F$7:F44,F45) -> 1 | I45: =COUNTIFS(U45:AC45,">0") -> 4 | J45: =COUNTIFS(AD45:AL45,">0") -> 7 | K45: =COUNTIFS(AM45:AU45,">0") -> 6 | L45: =COUNTIFS(AV45:BD45,">0") -> 6 | M45: =IF(M44<>"",M44,IF(Q45<>"",I45,"")) -> 3 | N45: =IF(N44<>"",N44,IF(R45<>"",J45,"")) -> 6 | O45: =IF(O44<>"",O44,IF(S45<>"",K45,"")) -> 6 | P45: =IF(P44<>"",P44,IF(T45<>"",L45,"")) -> 2 | Q45: =IF(Q44<>"",Q44,IF(AND($G45=Q$6,I45=I44),MAX(U$7:AC45)-MIN(U$7:AC45),"")) -> 10 | R45: =IF(R44<>"",R44,IF(AND($G45=R$6,J45=J44),MAX(AD$7:AL45)-MIN(AD$7:AL45),"")) -> 12 | S45: =IF(S44<>"",S44,IF(AND($G45=S$6,K45=K44),MAX(AM$7:AU45)-MIN(AM$7:AU45),"")) -> 35 | T45: =IF(T44<>"",T44,IF(AND($G45=T$6,L45=L44),MAX(AV$7:BD45)-MIN(AV$7:BD45),"")) -> 10 | U45: =IF(AND($F45<>U$4,U44=""),"",IF($F45=U$4,$E45,U44)) -> 37 | V45: =IF(AND($F45<>V$4,V44=""),"",IF($F45=V$4,$E45,V44)) | W45: =IF(AND($F45<>W$4,W44=""),"",IF($F45=W$4,$E45,W44)) | X45: =IF(AND($F45<>X$4,X44=""),"",IF($F45=X$4,$E45,X44)) -> 17 | Y45: =IF(AND($F45<>Y$4,Y44=""),"",IF($F45=Y$4,$E45,Y44)) | Z45: =IF(AND($F45<>Z$4,Z44=""),"",IF($F45=Z$4,$E45,Z44)) -> 33 | AA45: =IF(AND($F45<>AA$4,AA44=""),"",IF($F45=AA$4,$E45,AA44)) | AB45: =IF(AND($F45<>AB$4,AB44=""),"",IF($F45=AB$4,$E45,AB44)) -> 35 | ... BD45: =IF(AND($F45<>BD$4,BD44=""),"",IF($F45=BD$4,$E45,BD44)) -> 29
B46: =C46&D46 | E46: 40 | F46: =Tracker!B48 -> 0 | G46: =IF(F46=37,"z",LOOKUP(F46,A:A,B:B)) -> 0 | H46: =COUNTIF(F$7:F45,F46) -> 2 | I46: =COUNTIFS(U46:AC46,">0") -> 4 | J46: =COUNTIFS(AD46:AL46,">0") -> 7 | K46: =COUNTIFS(AM46:AU46,">0") -> 6 | L46: =COUNTIFS(AV46:BD46,">0") -> 6 | M46: =IF(M45<>"",M45,IF(Q46<>"",I46,"")) -> 3 | N46: =IF(N45<>"",N45,IF(R46<>"",J46,"")) -> 6 | O46: =IF(O45<>"",O45,IF(S46<>"",K46,"")) -> 6 | P46: =IF(P45<>"",P45,IF(T46<>"",L46,"")) -> 2 | Q46: =IF(Q45<>"",Q45,IF(AND($G46=Q$6,I46=I45),MAX(U$7:AC46)-MIN(U$7:AC46),"")) -> 10 | R46: =IF(R45<>"",R45,IF(AND($G46=R$6,J46=J45),MAX(AD$7:AL46)-MIN(AD$7:AL46),"")) -> 12 | S46: =IF(S45<>"",S45,IF(AND($G46=S$6,K46=K45),MAX(AM$7:AU46)-MIN(AM$7:AU46),"")) -> 35 | T46: =IF(T45<>"",T45,IF(AND($G46=T$6,L46=L45),MAX(AV$7:BD46)-MIN(AV$7:BD46),"")) -> 10 | U46: =IF(AND($F46<>U$4,U45=""),"",IF($F46=U$4,$E46,U45)) -> 37 | V46: =IF(AND($F46<>V$4,V45=""),"",IF($F46=V$4,$E46,V45)) | W46: =IF(AND($F46<>W$4,W45=""),"",IF($F46=W$4,$E46,W45)) | X46: =IF(AND($F46<>X$4,X45=""),"",IF($F46=X$4,$E46,X45)) -> 17 | Y46: =IF(AND($F46<>Y$4,Y45=""),"",IF($F46=Y$4,$E46,Y45)) | Z46: =IF(AND($F46<>Z$4,Z45=""),"",IF($F46=Z$4,$E46,Z45)) -> 33 | AA46: =IF(AND($F46<>AA$4,AA45=""),"",IF($F46=AA$4,$E46,AA45)) | AB46: =IF(AND($F46<>AB$4,AB45=""),"",IF($F46=AB$4,$E46,AB45)) -> 35 | ... BD46: =IF(AND($F46<>BD$4,BD45=""),"",IF($F46=BD$4,$E46,BD45)) -> 29
B47: =C47&D47 | E47: 41 | F47: =Tracker!B49 -> 0 | G47: =IF(F47=37,"z",LOOKUP(F47,A:A,B:B)) -> 0 | H47: =COUNTIF(F$7:F46,F47) -> 3 | I47: =COUNTIFS(U47:AC47,">0") -> 4 | J47: =COUNTIFS(AD47:AL47,">0") -> 7 | K47: =COUNTIFS(AM47:AU47,">0") -> 6 | L47: =COUNTIFS(AV47:BD47,">0") -> 6 | M47: =IF(M46<>"",M46,IF(Q47<>"",I47,"")) -> 3 | N47: =IF(N46<>"",N46,IF(R47<>"",J47,"")) -> 6 | O47: =IF(O46<>"",O46,IF(S47<>"",K47,"")) -> 6 | P47: =IF(P46<>"",P46,IF(T47<>"",L47,"")) -> 2 | Q47: =IF(Q46<>"",Q46,IF(AND($G47=Q$6,I47=I46),MAX(U$7:AC47)-MIN(U$7:AC47),"")) -> 10 | R47: =IF(R46<>"",R46,IF(AND($G47=R$6,J47=J46),MAX(AD$7:AL47)-MIN(AD$7:AL47),"")) -> 12 | S47: =IF(S46<>"",S46,IF(AND($G47=S$6,K47=K46),MAX(AM$7:AU47)-MIN(AM$7:AU47),"")) -> 35 | T47: =IF(T46<>"",T46,IF(AND($G47=T$6,L47=L46),MAX(AV$7:BD47)-MIN(AV$7:BD47),"")) -> 10 | U47: =IF(AND($F47<>U$4,U46=""),"",IF($F47=U$4,$E47,U46)) -> 37 | V47: =IF(AND($F47<>V$4,V46=""),"",IF($F47=V$4,$E47,V46)) | W47: =IF(AND($F47<>W$4,W46=""),"",IF($F47=W$4,$E47,W46)) | X47: =IF(AND($F47<>X$4,X46=""),"",IF($F47=X$4,$E47,X46)) -> 17 | Y47: =IF(AND($F47<>Y$4,Y46=""),"",IF($F47=Y$4,$E47,Y46)) | Z47: =IF(AND($F47<>Z$4,Z46=""),"",IF($F47=Z$4,$E47,Z46)) -> 33 | AA47: =IF(AND($F47<>AA$4,AA46=""),"",IF($F47=AA$4,$E47,AA46)) | AB47: =IF(AND($F47<>AB$4,AB46=""),"",IF($F47=AB$4,$E47,AB46)) -> 35 | ... BD47: =IF(AND($F47<>BD$4,BD46=""),"",IF($F47=BD$4,$E47,BD46)) -> 29
B48: =C48&D48 | E48: 42 | F48: =Tracker!B50 -> 0 | G48: =IF(F48=37,"z",LOOKUP(F48,A:A,B:B)) -> 0 | H48: =COUNTIF(F$7:F47,F48) -> 4 | I48: =COUNTIFS(U48:AC48,">0") -> 4 | J48: =COUNTIFS(AD48:AL48,">0") -> 7 | K48: =COUNTIFS(AM48:AU48,">0") -> 6 | L48: =COUNTIFS(AV48:BD48,">0") -> 6 | M48: =IF(M47<>"",M47,IF(Q48<>"",I48,"")) -> 3 | N48: =IF(N47<>"",N47,IF(R48<>"",J48,"")) -> 6 | O48: =IF(O47<>"",O47,IF(S48<>"",K48,"")) -> 6 | P48: =IF(P47<>"",P47,IF(T48<>"",L48,"")) -> 2 | Q48: =IF(Q47<>"",Q47,IF(AND($G48=Q$6,I48=I47),MAX(U$7:AC48)-MIN(U$7:AC48),"")) -> 10 | R48: =IF(R47<>"",R47,IF(AND($G48=R$6,J48=J47),MAX(AD$7:AL48)-MIN(AD$7:AL48),"")) -> 12 | S48: =IF(S47<>"",S47,IF(AND($G48=S$6,K48=K47),MAX(AM$7:AU48)-MIN(AM$7:AU48),"")) -> 35 | T48: =IF(T47<>"",T47,IF(AND($G48=T$6,L48=L47),MAX(AV$7:BD48)-MIN(AV$7:BD48),"")) -> 10 | U48: =IF(AND($F48<>U$4,U47=""),"",IF($F48=U$4,$E48,U47)) -> 37 | V48: =IF(AND($F48<>V$4,V47=""),"",IF($F48=V$4,$E48,V47)) | W48: =IF(AND($F48<>W$4,W47=""),"",IF($F48=W$4,$E48,W47)) | X48: =IF(AND($F48<>X$4,X47=""),"",IF($F48=X$4,$E48,X47)) -> 17 | Y48: =IF(AND($F48<>Y$4,Y47=""),"",IF($F48=Y$4,$E48,Y47)) | Z48: =IF(AND($F48<>Z$4,Z47=""),"",IF($F48=Z$4,$E48,Z47)) -> 33 | AA48: =IF(AND($F48<>AA$4,AA47=""),"",IF($F48=AA$4,$E48,AA47)) | AB48: =IF(AND($F48<>AB$4,AB47=""),"",IF($F48=AB$4,$E48,AB47)) -> 35 | ... BD48: =IF(AND($F48<>BD$4,BD47=""),"",IF($F48=BD$4,$E48,BD47)) -> 29
B49: =C49&D49 | E49: 43 | F49: =Tracker!B51 -> 0 | G49: =IF(F49=37,"z",LOOKUP(F49,A:A,B:B)) -> 0 | H49: =COUNTIF(F$7:F48,F49) -> 5 | I49: =COUNTIFS(U49:AC49,">0") -> 4 | J49: =COUNTIFS(AD49:AL49,">0") -> 7 | K49: =COUNTIFS(AM49:AU49,">0") -> 6 | L49: =COUNTIFS(AV49:BD49,">0") -> 6 | M49: =IF(M48<>"",M48,IF(Q49<>"",I49,"")) -> 3 | N49: =IF(N48<>"",N48,IF(R49<>"",J49,"")) -> 6 | O49: =IF(O48<>"",O48,IF(S49<>"",K49,"")) -> 6 | P49: =IF(P48<>"",P48,IF(T49<>"",L49,"")) -> 2 | Q49: =IF(Q48<>"",Q48,IF(AND($G49=Q$6,I49=I48),MAX(U$7:AC49)-MIN(U$7:AC49),"")) -> 10 | R49: =IF(R48<>"",R48,IF(AND($G49=R$6,J49=J48),MAX(AD$7:AL49)-MIN(AD$7:AL49),"")) -> 12 | S49: =IF(S48<>"",S48,IF(AND($G49=S$6,K49=K48),MAX(AM$7:AU49)-MIN(AM$7:AU49),"")) -> 35 | T49: =IF(T48<>"",T48,IF(AND($G49=T$6,L49=L48),MAX(AV$7:BD49)-MIN(AV$7:BD49),"")) -> 10 | U49: =IF(AND($F49<>U$4,U48=""),"",IF($F49=U$4,$E49,U48)) -> 37 | V49: =IF(AND($F49<>V$4,V48=""),"",IF($F49=V$4,$E49,V48)) | W49: =IF(AND($F49<>W$4,W48=""),"",IF($F49=W$4,$E49,W48)) | X49: =IF(AND($F49<>X$4,X48=""),"",IF($F49=X$4,$E49,X48)) -> 17 | Y49: =IF(AND($F49<>Y$4,Y48=""),"",IF($F49=Y$4,$E49,Y48)) | Z49: =IF(AND($F49<>Z$4,Z48=""),"",IF($F49=Z$4,$E49,Z48)) -> 33 | AA49: =IF(AND($F49<>AA$4,AA48=""),"",IF($F49=AA$4,$E49,AA48)) | AB49: =IF(AND($F49<>AB$4,AB48=""),"",IF($F49=AB$4,$E49,AB48)) -> 35 | ... BD49: =IF(AND($F49<>BD$4,BD48=""),"",IF($F49=BD$4,$E49,BD48)) -> 29
B50: =C50&D50 | E50: 44 | F50: =Tracker!B52 -> 0 | G50: =IF(F50=37,"z",LOOKUP(F50,A:A,B:B)) -> 0 | H50: =COUNTIF(F$7:F49,F50) -> 6 | I50: =COUNTIFS(U50:AC50,">0") -> 4 | J50: =COUNTIFS(AD50:AL50,">0") -> 7 | K50: =COUNTIFS(AM50:AU50,">0") -> 6 | L50: =COUNTIFS(AV50:BD50,">0") -> 6 | M50: =IF(M49<>"",M49,IF(Q50<>"",I50,"")) -> 3 | N50: =IF(N49<>"",N49,IF(R50<>"",J50,"")) -> 6 | O50: =IF(O49<>"",O49,IF(S50<>"",K50,"")) -> 6 | P50: =IF(P49<>"",P49,IF(T50<>"",L50,"")) -> 2 | Q50: =IF(Q49<>"",Q49,IF(AND($G50=Q$6,I50=I49),MAX(U$7:AC50)-MIN(U$7:AC50),"")) -> 10 | R50: =IF(R49<>"",R49,IF(AND($G50=R$6,J50=J49),MAX(AD$7:AL50)-MIN(AD$7:AL50),"")) -> 12 | S50: =IF(S49<>"",S49,IF(AND($G50=S$6,K50=K49),MAX(AM$7:AU50)-MIN(AM$7:AU50),"")) -> 35 | T50: =IF(T49<>"",T49,IF(AND($G50=T$6,L50=L49),MAX(AV$7:BD50)-MIN(AV$7:BD50),"")) -> 10 | U50: =IF(AND($F50<>U$4,U49=""),"",IF($F50=U$4,$E50,U49)) -> 37 | V50: =IF(AND($F50<>V$4,V49=""),"",IF($F50=V$4,$E50,V49)) | W50: =IF(AND($F50<>W$4,W49=""),"",IF($F50=W$4,$E50,W49)) | X50: =IF(AND($F50<>X$4,X49=""),"",IF($F50=X$4,$E50,X49)) -> 17 | Y50: =IF(AND($F50<>Y$4,Y49=""),"",IF($F50=Y$4,$E50,Y49)) | Z50: =IF(AND($F50<>Z$4,Z49=""),"",IF($F50=Z$4,$E50,Z49)) -> 33 | AA50: =IF(AND($F50<>AA$4,AA49=""),"",IF($F50=AA$4,$E50,AA49)) | AB50: =IF(AND($F50<>AB$4,AB49=""),"",IF($F50=AB$4,$E50,AB49)) -> 35 | ... BD50: =IF(AND($F50<>BD$4,BD49=""),"",IF($F50=BD$4,$E50,BD49)) -> 29
B51: =C51&D51 | E51: 45 | F51: =Tracker!B53 -> 0 | G51: =IF(F51=37,"z",LOOKUP(F51,A:A,B:B)) -> 0 | H51: =COUNTIF(F$7:F50,F51) -> 7 | I51: =COUNTIFS(U51:AC51,">0") -> 4 | J51: =COUNTIFS(AD51:AL51,">0") -> 7 | K51: =COUNTIFS(AM51:AU51,">0") -> 6 | L51: =COUNTIFS(AV51:BD51,">0") -> 6 | M51: =IF(M50<>"",M50,IF(Q51<>"",I51,"")) -> 3 | N51: =IF(N50<>"",N50,IF(R51<>"",J51,"")) -> 6 | O51: =IF(O50<>"",O50,IF(S51<>"",K51,"")) -> 6 | P51: =IF(P50<>"",P50,IF(T51<>"",L51,"")) -> 2 | Q51: =IF(Q50<>"",Q50,IF(AND($G51=Q$6,I51=I50),MAX(U$7:AC51)-MIN(U$7:AC51),"")) -> 10 | R51: =IF(R50<>"",R50,IF(AND($G51=R$6,J51=J50),MAX(AD$7:AL51)-MIN(AD$7:AL51),"")) -> 12 | S51: =IF(S50<>"",S50,IF(AND($G51=S$6,K51=K50),MAX(AM$7:AU51)-MIN(AM$7:AU51),"")) -> 35 | T51: =IF(T50<>"",T50,IF(AND($G51=T$6,L51=L50),MAX(AV$7:BD51)-MIN(AV$7:BD51),"")) -> 10 | U51: =IF(AND($F51<>U$4,U50=""),"",IF($F51=U$4,$E51,U50)) -> 37 | V51: =IF(AND($F51<>V$4,V50=""),"",IF($F51=V$4,$E51,V50)) | W51: =IF(AND($F51<>W$4,W50=""),"",IF($F51=W$4,$E51,W50)) | X51: =IF(AND($F51<>X$4,X50=""),"",IF($F51=X$4,$E51,X50)) -> 17 | Y51: =IF(AND($F51<>Y$4,Y50=""),"",IF($F51=Y$4,$E51,Y50)) | Z51: =IF(AND($F51<>Z$4,Z50=""),"",IF($F51=Z$4,$E51,Z50)) -> 33 | AA51: =IF(AND($F51<>AA$4,AA50=""),"",IF($F51=AA$4,$E51,AA50)) | AB51: =IF(AND($F51<>AB$4,AB50=""),"",IF($F51=AB$4,$E51,AB50)) -> 35 | ... BD51: =IF(AND($F51<>BD$4,BD50=""),"",IF($F51=BD$4,$E51,BD50)) -> 29
B52: =C52&D52 | E52: 46 | F52: =Tracker!B54 -> 0 | G52: =IF(F52=37,"z",LOOKUP(F52,A:A,B:B)) -> 0 | H52: =COUNTIF(F$7:F51,F52) -> 8 | I52: =COUNTIFS(U52:AC52,">0") -> 4 | J52: =COUNTIFS(AD52:AL52,">0") -> 7 | K52: =COUNTIFS(AM52:AU52,">0") -> 6 | L52: =COUNTIFS(AV52:BD52,">0") -> 6 | M52: =IF(M51<>"",M51,IF(Q52<>"",I52,"")) -> 3 | N52: =IF(N51<>"",N51,IF(R52<>"",J52,"")) -> 6 | O52: =IF(O51<>"",O51,IF(S52<>"",K52,"")) -> 6 | P52: =IF(P51<>"",P51,IF(T52<>"",L52,"")) -> 2 | Q52: =IF(Q51<>"",Q51,IF(AND($G52=Q$6,I52=I51),MAX(U$7:AC52)-MIN(U$7:AC52),"")) -> 10 | R52: =IF(R51<>"",R51,IF(AND($G52=R$6,J52=J51),MAX(AD$7:AL52)-MIN(AD$7:AL52),"")) -> 12 | S52: =IF(S51<>"",S51,IF(AND($G52=S$6,K52=K51),MAX(AM$7:AU52)-MIN(AM$7:AU52),"")) -> 35 | T52: =IF(T51<>"",T51,IF(AND($G52=T$6,L52=L51),MAX(AV$7:BD52)-MIN(AV$7:BD52),"")) -> 10 | U52: =IF(AND($F52<>U$4,U51=""),"",IF($F52=U$4,$E52,U51)) -> 37 | V52: =IF(AND($F52<>V$4,V51=""),"",IF($F52=V$4,$E52,V51)) | W52: =IF(AND($F52<>W$4,W51=""),"",IF($F52=W$4,$E52,W51)) | X52: =IF(AND($F52<>X$4,X51=""),"",IF($F52=X$4,$E52,X51)) -> 17 | Y52: =IF(AND($F52<>Y$4,Y51=""),"",IF($F52=Y$4,$E52,Y51)) | Z52: =IF(AND($F52<>Z$4,Z51=""),"",IF($F52=Z$4,$E52,Z51)) -> 33 | AA52: =IF(AND($F52<>AA$4,AA51=""),"",IF($F52=AA$4,$E52,AA51)) | AB52: =IF(AND($F52<>AB$4,AB51=""),"",IF($F52=AB$4,$E52,AB51)) -> 35 | ... BD52: =IF(AND($F52<>BD$4,BD51=""),"",IF($F52=BD$4,$E52,BD51)) -> 29
B53: =C53&D53 | E53: 47 | F53: =Tracker!B55 -> 0 | G53: =IF(F53=37,"z",LOOKUP(F53,A:A,B:B)) -> 0 | H53: =COUNTIF(F$7:F52,F53) -> 9 | I53: =COUNTIFS(U53:AC53,">0") -> 4 | J53: =COUNTIFS(AD53:AL53,">0") -> 7 | K53: =COUNTIFS(AM53:AU53,">0") -> 6 | L53: =COUNTIFS(AV53:BD53,">0") -> 6 | M53: =IF(M52<>"",M52,IF(Q53<>"",I53,"")) -> 3 | N53: =IF(N52<>"",N52,IF(R53<>"",J53,"")) -> 6 | O53: =IF(O52<>"",O52,IF(S53<>"",K53,"")) -> 6 | P53: =IF(P52<>"",P52,IF(T53<>"",L53,"")) -> 2 | Q53: =IF(Q52<>"",Q52,IF(AND($G53=Q$6,I53=I52),MAX(U$7:AC53)-MIN(U$7:AC53),"")) -> 10 | R53: =IF(R52<>"",R52,IF(AND($G53=R$6,J53=J52),MAX(AD$7:AL53)-MIN(AD$7:AL53),"")) -> 12 | S53: =IF(S52<>"",S52,IF(AND($G53=S$6,K53=K52),MAX(AM$7:AU53)-MIN(AM$7:AU53),"")) -> 35 | T53: =IF(T52<>"",T52,IF(AND($G53=T$6,L53=L52),MAX(AV$7:BD53)-MIN(AV$7:BD53),"")) -> 10 | U53: =IF(AND($F53<>U$4,U52=""),"",IF($F53=U$4,$E53,U52)) -> 37 | V53: =IF(AND($F53<>V$4,V52=""),"",IF($F53=V$4,$E53,V52)) | W53: =IF(AND($F53<>W$4,W52=""),"",IF($F53=W$4,$E53,W52)) | X53: =IF(AND($F53<>X$4,X52=""),"",IF($F53=X$4,$E53,X52)) -> 17 | Y53: =IF(AND($F53<>Y$4,Y52=""),"",IF($F53=Y$4,$E53,Y52)) | Z53: =IF(AND($F53<>Z$4,Z52=""),"",IF($F53=Z$4,$E53,Z52)) -> 33 | AA53: =IF(AND($F53<>AA$4,AA52=""),"",IF($F53=AA$4,$E53,AA52)) | AB53: =IF(AND($F53<>AB$4,AB52=""),"",IF($F53=AB$4,$E53,AB52)) -> 35 | ... BD53: =IF(AND($F53<>BD$4,BD52=""),"",IF($F53=BD$4,$E53,BD52)) -> 29
B54: =C54&D54 | E54: 48 | F54: =Tracker!B56 -> 0 | G54: =IF(F54=37,"z",LOOKUP(F54,A:A,B:B)) -> 0 | H54: =COUNTIF(F$7:F53,F54) -> 10 | I54: =COUNTIFS(U54:AC54,">0") -> 4 | J54: =COUNTIFS(AD54:AL54,">0") -> 7 | K54: =COUNTIFS(AM54:AU54,">0") -> 6 | L54: =COUNTIFS(AV54:BD54,">0") -> 6 | M54: =IF(M53<>"",M53,IF(Q54<>"",I54,"")) -> 3 | N54: =IF(N53<>"",N53,IF(R54<>"",J54,"")) -> 6 | O54: =IF(O53<>"",O53,IF(S54<>"",K54,"")) -> 6 | P54: =IF(P53<>"",P53,IF(T54<>"",L54,"")) -> 2 | Q54: =IF(Q53<>"",Q53,IF(AND($G54=Q$6,I54=I53),MAX(U$7:AC54)-MIN(U$7:AC54),"")) -> 10 | R54: =IF(R53<>"",R53,IF(AND($G54=R$6,J54=J53),MAX(AD$7:AL54)-MIN(AD$7:AL54),"")) -> 12 | S54: =IF(S53<>"",S53,IF(AND($G54=S$6,K54=K53),MAX(AM$7:AU54)-MIN(AM$7:AU54),"")) -> 35 | T54: =IF(T53<>"",T53,IF(AND($G54=T$6,L54=L53),MAX(AV$7:BD54)-MIN(AV$7:BD54),"")) -> 10 | U54: =IF(AND($F54<>U$4,U53=""),"",IF($F54=U$4,$E54,U53)) -> 37 | V54: =IF(AND($F54<>V$4,V53=""),"",IF($F54=V$4,$E54,V53)) | W54: =IF(AND($F54<>W$4,W53=""),"",IF($F54=W$4,$E54,W53)) | X54: =IF(AND($F54<>X$4,X53=""),"",IF($F54=X$4,$E54,X53)) -> 17 | Y54: =IF(AND($F54<>Y$4,Y53=""),"",IF($F54=Y$4,$E54,Y53)) | Z54: =IF(AND($F54<>Z$4,Z53=""),"",IF($F54=Z$4,$E54,Z53)) -> 33 | AA54: =IF(AND($F54<>AA$4,AA53=""),"",IF($F54=AA$4,$E54,AA53)) | AB54: =IF(AND($F54<>AB$4,AB53=""),"",IF($F54=AB$4,$E54,AB53)) -> 35 | ... BD54: =IF(AND($F54<>BD$4,BD53=""),"",IF($F54=BD$4,$E54,BD53)) -> 29
... B849: =C849&D849 | E849: 843 | F849: =Tracker!B851 -> 0 | G849: =IF(F849=37,"z",LOOKUP(F849,A:A,B:B)) -> 0 | H849: =COUNTIF(F$7:F848,F849) -> 805 | I849: =COUNTIFS(U849:AC849,">0") -> 4 | J849: =COUNTIFS(AD849:AL849,">0") -> 7 | K849: =COUNTIFS(AM849:AU849,">0") -> 6 | L849: =COUNTIFS(AV849:BD849,">0") -> 6 | M849: =IF(M848<>"",M848,IF(Q849<>"",I849,"")) -> 3 | N849: =IF(N848<>"",N848,IF(R849<>"",J849,"")) -> 6 | O849: =IF(O848<>"",O848,IF(S849<>"",K849,"")) -> 6 | P849: =IF(P848<>"",P848,IF(T849<>"",L849,"")) -> 2 | Q849: =IF(Q848<>"",Q848,IF(AND($G849=Q$6,I849=I848),MAX(U$7:AC849)-MIN(U$7:AC849),"")) -> 10 | R849: =IF(R848<>"",R848,IF(AND($G849=R$6,J849=J848),MAX(AD$7:AL849)-MIN(AD$7:AL849),"")) -> 12 | S849: =IF(S848<>"",S848,IF(AND($G849=S$6,K849=K848),MAX(AM$7:AU849)-MIN(AM$7:AU849),"")) -> 35 | T849: =IF(T848<>"",T848,IF(AND($G849=T$6,L849=L848),MAX(AV$7:BD849)-MIN(AV$7:BD849),"")) -> 10 | U849: =IF(AND($F849<>U$4,U848=""),"",IF($F849=U$4,$E849,U848)) -> 37 | V849: =IF(AND($F849<>V$4,V848=""),"",IF($F849=V$4,$E849,V848)) | W849: =IF(AND($F849<>W$4,W848=""),"",IF($F849=W$4,$E849,W848)) | X849: =IF(AND($F849<>X$4,X848=""),"",IF($F849=X$4,$E849,X848)) -> 17 | Y849: =IF(AND($F849<>Y$4,Y848=""),"",IF($F849=Y$4,$E849,Y848)) | Z849: =IF(AND($F849<>Z$4,Z848=""),"",IF($F849=Z$4,$E849,Z848)) -> 33 | AA849: =IF(AND($F849<>AA$4,AA848=""),"",IF($F849=AA$4,$E849,AA848)) | AB849: =IF(AND($F849<>AB$4,AB848=""),"",IF($F849=AB$4,$E849,AB848)) -> 35 | ... BD849: =IF(AND($F849<>BD$4,BD848=""),"",IF($F849=BD$4,$E849,BD848)) -> 29
B850: =C850&D850 | E850: 844 | F850: =Tracker!B852 -> 0 | G850: =IF(F850=37,"z",LOOKUP(F850,A:A,B:B)) -> 0 | H850: =COUNTIF(F$7:F849,F850) -> 806 | I850: =COUNTIFS(U850:AC850,">0") -> 0 | J850: =COUNTIFS(AD850:AL850,">0") -> 0 | K850: =COUNTIFS(AM850:AU850,">0") -> 0 | L850: =COUNTIFS(AV850:BD850,">0") -> 0 | M850: =IF(M849<>"",M849,IF(Q850<>"",I850,"")) -> 3 | N850: =IF(N849<>"",N849,IF(R850<>"",J850,"")) -> 6 | O850: =IF(O849<>"",O849,IF(S850<>"",K850,"")) -> 6 | P850: =IF(P849<>"",P849,IF(T850<>"",L850,"")) -> 2 | Q850: =IF(Q849<>"",Q849,IF(AND($G850=Q$6,I850=I849),MAX(U$7:AC850)-MIN(U$7:AC850),"")) -> 10 | R850: =IF(R849<>"",R849,IF(AND($G850=R$6,J850=J849),MAX(AD$7:AL850)-MIN(AD$7:AL850),"")) -> 12 | S850: =IF(S849<>"",S849,IF(AND($G850=S$6,K850=K849),MAX(AM$7:AU850)-MIN(AM$7:AU850),"")) -> 35 | T850: =IF(T849<>"",T849,IF(AND($G850=T$6,L850=L849),MAX(AV$7:BD850)-MIN(AV$7:BD850),"")) -> 10
B851: =C851&D851 | E851: 845 | F851: =Tracker!B853 -> 0 | G851: =IF(F851=37,"z",LOOKUP(F851,A:A,B:B)) -> 0 | H851: =COUNTIF(F$7:F850,F851) -> 807 | I851: =COUNTIFS(U851:AC851,">0") -> 0 | J851: =COUNTIFS(AD851:AL851,">0") -> 0 | K851: =COUNTIFS(AM851:AU851,">0") -> 0 | L851: =COUNTIFS(AV851:BD851,">0") -> 0 | M851: =IF(M850<>"",M850,IF(Q851<>"",I851,"")) -> 3 | N851: =IF(N850<>"",N850,IF(R851<>"",J851,"")) -> 6 | O851: =IF(O850<>"",O850,IF(S851<>"",K851,"")) -> 6 | P851: =IF(P850<>"",P850,IF(T851<>"",L851,"")) -> 2 | Q851: =IF(Q850<>"",Q850,IF(AND($G851=Q$6,I851=I850),MAX(U$7:AC851)-MIN(U$7:AC851),"")) -> 10 | R851: =IF(R850<>"",R850,IF(AND($G851=R$6,J851=J850),MAX(AD$7:AL851)-MIN(AD$7:AL851),"")) -> 12 | S851: =IF(S850<>"",S850,IF(AND($G851=S$6,K851=K850),MAX(AM$7:AU851)-MIN(AM$7:AU851),"")) -> 35 | T851: =IF(T850<>"",T850,IF(AND($G851=T$6,L851=L850),MAX(AV$7:BD851)-MIN(AV$7:BD851),"")) -> 10
B852: =C852&D852 | E852: 846 | F852: =Tracker!B854 -> 0 | G852: =IF(F852=37,"z",LOOKUP(F852,A:A,B:B)) -> 0 | H852: =COUNTIF(F$7:F851,F852) -> 808 | I852: =COUNTIFS(U852:AC852,">0") -> 0 | J852: =COUNTIFS(AD852:AL852,">0") -> 0 | K852: =COUNTIFS(AM852:AU852,">0") -> 0 | L852: =COUNTIFS(AV852:BD852,">0") -> 0 | M852: =IF(M851<>"",M851,IF(Q852<>"",I852,"")) -> 3 | N852: =IF(N851<>"",N851,IF(R852<>"",J852,"")) -> 6 | O852: =IF(O851<>"",O851,IF(S852<>"",K852,"")) -> 6 | P852: =IF(P851<>"",P851,IF(T852<>"",L852,"")) -> 2 | Q852: =IF(Q851<>"",Q851,IF(AND($G852=Q$6,I852=I851),MAX(U$7:AC852)-MIN(U$7:AC852),"")) -> 10 | R852: =IF(R851<>"",R851,IF(AND($G852=R$6,J852=J851),MAX(AD$7:AL852)-MIN(AD$7:AL852),"")) -> 12 | S852: =IF(S851<>"",S851,IF(AND($G852=S$6,K852=K851),MAX(AM$7:AU852)-MIN(AM$7:AU852),"")) -> 35 | T852: =IF(T851<>"",T851,IF(AND($G852=T$6,L852=L851),MAX(AV$7:BD852)-MIN(AV$7:BD852),"")) -> 10
B853: =C853&D853 | E853: 847 | F853: =Tracker!B855 -> 0 | G853: =IF(F853=37,"z",LOOKUP(F853,A:A,B:B)) -> 0 | H853: =COUNTIF(F$7:F852,F853) -> 809 | I853: =COUNTIFS(U853:AC853,">0") -> 0 | J853: =COUNTIFS(AD853:AL853,">0") -> 0 | K853: =COUNTIFS(AM853:AU853,">0") -> 0 | L853: =COUNTIFS(AV853:BD853,">0") -> 0 | M853: =IF(M852<>"",M852,IF(Q853<>"",I853,"")) -> 3 | N853: =IF(N852<>"",N852,IF(R853<>"",J853,"")) -> 6 | O853: =IF(O852<>"",O852,IF(S853<>"",K853,"")) -> 6 | P853: =IF(P852<>"",P852,IF(T853<>"",L853,"")) -> 2 | Q853: =IF(Q852<>"",Q852,IF(AND($G853=Q$6,I853=I852),MAX(U$7:AC853)-MIN(U$7:AC853),"")) -> 10 | R853: =IF(R852<>"",R852,IF(AND($G853=R$6,J853=J852),MAX(AD$7:AL853)-MIN(AD$7:AL853),"")) -> 12 | S853: =IF(S852<>"",S852,IF(AND($G853=S$6,K853=K852),MAX(AM$7:AU853)-MIN(AM$7:AU853),"")) -> 35 | T853: =IF(T852<>"",T852,IF(AND($G853=T$6,L853=L852),MAX(AV$7:BD853)-MIN(AV$7:BD853),"")) -> 10
B854: =C854&D854 | E854: 848 | F854: =Tracker!B856 -> 0 | G854: =IF(F854=37,"z",LOOKUP(F854,A:A,B:B)) -> 0 | H854: =COUNTIF(F$7:F853,F854) -> 810 | I854: =COUNTIFS(U854:AC854,">0") -> 0 | J854: =COUNTIFS(AD854:AL854,">0") -> 0 | K854: =COUNTIFS(AM854:AU854,">0") -> 0 | L854: =COUNTIFS(AV854:BD854,">0") -> 0 | M854: =IF(M853<>"",M853,IF(Q854<>"",I854,"")) -> 3 | N854: =IF(N853<>"",N853,IF(R854<>"",J854,"")) -> 6 | O854: =IF(O853<>"",O853,IF(S854<>"",K854,"")) -> 6 | P854: =IF(P853<>"",P853,IF(T854<>"",L854,"")) -> 2 | Q854: =IF(Q853<>"",Q853,IF(AND($G854=Q$6,I854=I853),MAX(U$7:AC854)-MIN(U$7:AC854),"")) -> 10 | R854: =IF(R853<>"",R853,IF(AND($G854=R$6,J854=J853),MAX(AD$7:AL854)-MIN(AD$7:AL854),"")) -> 12 | S854: =IF(S853<>"",S853,IF(AND($G854=S$6,K854=K853),MAX(AM$7:AU854)-MIN(AM$7:AU854),"")) -> 35 | T854: =IF(T853<>"",T853,IF(AND($G854=T$6,L854=L853),MAX(AV$7:BD854)-MIN(AV$7:BD854),"")) -> 10
B855: =C855&D855 | E855: 849 | F855: =Tracker!B857 -> 0 | G855: =IF(F855=37,"z",LOOKUP(F855,A:A,B:B)) -> 0 | H855: =COUNTIF(F$7:F854,F855) -> 811 | I855: =COUNTIFS(U855:AC855,">0") -> 0 | J855: =COUNTIFS(AD855:AL855,">0") -> 0 | K855: =COUNTIFS(AM855:AU855,">0") -> 0 | L855: =COUNTIFS(AV855:BD855,">0") -> 0 | M855: =IF(M854<>"",M854,IF(Q855<>"",I855,"")) -> 3 | N855: =IF(N854<>"",N854,IF(R855<>"",J855,"")) -> 6 | O855: =IF(O854<>"",O854,IF(S855<>"",K855,"")) -> 6 | P855: =IF(P854<>"",P854,IF(T855<>"",L855,"")) -> 2 | Q855: =IF(Q854<>"",Q854,IF(AND($G855=Q$6,I855=I854),MAX(U$7:AC855)-MIN(U$7:AC855),"")) -> 10 | R855: =IF(R854<>"",R854,IF(AND($G855=R$6,J855=J854),MAX(AD$7:AL855)-MIN(AD$7:AL855),"")) -> 12 | S855: =IF(S854<>"",S854,IF(AND($G855=S$6,K855=K854),MAX(AM$7:AU855)-MIN(AM$7:AU855),"")) -> 35 | T855: =IF(T854<>"",T854,IF(AND($G855=T$6,L855=L854),MAX(AV$7:BD855)-MIN(AV$7:BD855),"")) -> 10
B856: =C856&D856 | E856: 850 | F856: =Tracker!B858 -> 0 | G856: =IF(F856=37,"z",LOOKUP(F856,A:A,B:B)) -> 0 | H856: =COUNTIF(F$7:F855,F856) -> 812 | I856: =COUNTIFS(U856:AC856,">0") -> 0 | J856: =COUNTIFS(AD856:AL856,">0") -> 0 | K856: =COUNTIFS(AM856:AU856,">0") -> 0 | L856: =COUNTIFS(AV856:BD856,">0") -> 0 | M856: =IF(M855<>"",M855,IF(Q856<>"",I856,"")) -> 3 | N856: =IF(N855<>"",N855,IF(R856<>"",J856,"")) -> 6 | O856: =IF(O855<>"",O855,IF(S856<>"",K856,"")) -> 6 | P856: =IF(P855<>"",P855,IF(T856<>"",L856,"")) -> 2 | Q856: =IF(Q855<>"",Q855,IF(AND($G856=Q$6,I856=I855),MAX(U$7:AC856)-MIN(U$7:AC856),"")) -> 10 | R856: =IF(R855<>"",R855,IF(AND($G856=R$6,J856=J855),MAX(AD$7:AL856)-MIN(AD$7:AL856),"")) -> 12 | S856: =IF(S855<>"",S855,IF(AND($G856=S$6,K856=K855),MAX(AM$7:AU856)-MIN(AM$7:AU856),"")) -> 35 | T856: =IF(T855<>"",T855,IF(AND($G856=T$6,L856=L855),MAX(AV$7:BD856)-MIN(AV$7:BD856),"")) -> 10
