Workbook
Name ResetProg: '[1]anti-ktf'!$AN$5:$AN$15633

Sheet Rank Tracker
A1: spin | C1: Gap | G1: Rank | H1: 1 | I1: 2 | J1: 3 | K1: 4 | L1: 5 | M1: 6 | N1: 7 | O1: 8 | P1: 9 | Q1: 10 | R1: 11 | S1: 12 | T1: 13 | U1: 14 | V1: 15 | W1: 16 | X1: 17 | Y1: 18 | Z1: 19 | AA1: 20 | AB1: 21 | AC1: 22 | AD1: 23 | AE1: 24 | AF1: 25 | AG1: 26 | AH1: 27 | AI1: 28 | AJ1: 29 | AK1: 30 | AL1: 31 | AM1: 32 | AN1: 33 | AO1: 34 | AP1: 35 | AQ1: 36 | AR1: 37 | AT1: 1 | AU1: 2 | AV1: 3 | AW1: 4 | AX1: 5 | AY1: 6 | AZ1: 7 | BA1: 8 | BB1: 9 | BC1: 10 | BD1: 11 | BE1: 12 | BF1: 13 | BG1: 14 | BH1: 15 | BI1: 16 | BJ1: 17 | BK1: 18 | BL1: 19 | BM1: 20 | BN1: 21 | BO1: 22 | BP1: 23 | BQ1: 24 | BR1: 25 | BS1: 26 | BT1: 27 | BU1: 28 | BV1: 29 | BW1: 30 | BX1: 31 | BY1: 32 | BZ1: 33 | CA1: 34 | CB1: 35 | CC1: 36 | CD1: 37 | CH1: 1 | CI1: 2 | CJ1: 3 | CK1: 4 | CL1: 5 | CM1: 6 | CN1: 7 | CO1: 8 | CP1: 9 | CQ1: 10 | CR1: 11 | CS1: 12 | CT1: 13 | CU1: 14 | CV1: 15 | CW1: 16 | CX1: 17 | CY1: 18 | CZ1: 19 | DA1: 20 | DB1: 21 | DC1: 22 | DD1: 23 | DE1: 24 | DF1: 25 | DG1: 26 | DH1: 27 | DI1: 28 | DJ1: 29 | DK1: 30 | DL1: 31 | DM1: 32 | DN1: 33 | DO1: 34 | DP1: 35 | DQ1: 36 | DR1: 37
A2: 1 | B2: =Drogan!E3 -> 23 | H2: =IF(AND($B3="",$B2<>""),AT2,IF(AND($B4="",$B3<>"",$B2<>""),H$1,"")) | I2: =IF(AND($B3="",$B2<>""),AU2,IF(AND($B4="",$B3<>"",$B2<>""),I$1,"")) | J2: =IF(AND($B3="",$B2<>""),AV2,IF(AND($B4="",$B3<>"",$B2<>""),J$1,"")) | K2: =IF(AND($B3="",$B2<>""),AW2,IF(AND($B4="",$B3<>"",$B2<>""),K$1,"")) | L2: =IF(AND($B3="",$B2<>""),AX2,IF(AND($B4="",$B3<>"",$B2<>""),L$1,"")) | M2: =IF(AND($B3="",$B2<>""),AY2,IF(AND($B4="",$B3<>"",$B2<>""),M$1,"")) | N2: =IF(AND($B3="",$B2<>""),AZ2,IF(AND($B4="",$B3<>"",$B2<>""),N$1,"")) | O2: =IF(AND($B3="",$B2<>""),BA2,IF(AND($B4="",$B3<>"",$B2<>""),O$1,"")) | ... AR2: =IF(AND($B3="",$B2<>""),CD2,IF(AND($B4="",$B3<>"",$B2<>""),AR$1,"")) | AT2: =B2 -> 23 | CH2: =IF($B2=CH$1,1,"") | CI2: =IF($B2=CI$1,1,"") | CJ2: =IF($B2=CJ$1,1,"") | CK2: =IF($B2=CK$1,1,"") | CL2: =IF($B2=CL$1,1,"") | CM2: =IF($B2=CM$1,1,"") | CN2: =IF($B2=CN$1,1,"") | CO2: =IF($B2=CO$1,1,"") | ... DR2: =IF($B2=DR$1,1,"")
A3: 2 | B3: =Drogan!E4 -> 26 | C3: =IF(B3="","",LOOKUP(B3,$CH$1:$DR$1,CH2:DR2)) | G3: =IF(AND($B4="",$B3<>""),"Nrs",IF(AND($B5="",$B4<>"",$B3<>""),G$1,"")) | H3: =IF(AND($B4="",$B3<>""),AT3,IF(AND($B5="",$B4<>"",$B3<>""),H$1,"")) | I3: =IF(AND($B4="",$B3<>""),AU3,IF(AND($B5="",$B4<>"",$B3<>""),I$1,"")) | J3: =IF(AND($B4="",$B3<>""),AV3,IF(AND($B5="",$B4<>"",$B3<>""),J$1,"")) | K3: =IF(AND($B4="",$B3<>""),AW3,IF(AND($B5="",$B4<>"",$B3<>""),K$1,"")) | L3: =IF(AND($B4="",$B3<>""),AX3,IF(AND($B5="",$B4<>"",$B3<>""),L$1,"")) | M3: =IF(AND($B4="",$B3<>""),AY3,IF(AND($B5="",$B4<>"",$B3<>""),M$1,"")) | N3: =IF(AND($B4="",$B3<>""),AZ3,IF(AND($B5="",$B4<>"",$B3<>""),N$1,"")) | O3: =IF(AND($B4="",$B3<>""),BA3,IF(AND($B5="",$B4<>"",$B3<>""),O$1,"")) | ... AR3: =IF(AND($B4="",$B3<>""),CD3,IF(AND($B5="",$B4<>"",$B3<>""),AR$1,"")) | AT3: =B3 -> 26 | AU3: =IF($B3=$AT2,AU2,AT2) -> 23 | AV3: =IF(AU2="","",IF(OR($B3=$AT2,$B3=$AU2),AV2,AU2)) | AW3: =IF(AV2="","",IF(OR($B3=$AV2,$B3=$AT2,$B3=$AU2),AW2,AV2)) | AX3: =IF(AW2="","",IF(OR($B3=$AV2,$B3=$AT2,$B3=$AU2,$B3=$AW2),AX2,AW2)) | AY3: =IF(AX2="","",IF(OR($B3=$AV2,$B3=$AT2,$B3=$AU2,$B3=$AW2,$B3=$AX2),AY2,AX2)) | AZ3: =IF(AY2="","",IF(OR($B3=$AV2,$B3=$AT2,$B3=$AU2,$B3=$AW2,$B3=$AX2,$B3=$AY2),AZ2,AY2)) | BA3: =IF(AZ2="","",IF(OR($B3=$AV2,$B3=$AT2,$B3=$AU2,$B3=$AW2,$B3=$AX2,$B3=$AY2,$B3=$AZ2),BA2,AZ2)) | BB3: =IF(BA2="","",IF(OR($B3=$AV2,$B3=$AT2,$B3=$AU2,$B3=$AW2,$B3=$AX2,$B3=$AY2,$B3=$AZ2,$B3=$BA2),BB2,BA2)) | BC3: =IF(BB2="","",IF(OR($B3=$AV2,$B3=$AT2,$B3=$AU2,$B3=$AW2,$B3=$AX2,$B3=$AY2,$B3=$AZ2,$B3=$BA2,$B3=$BB2),BC2,BB2)) | BD3: =IF(BC2="","",IF(OR($B3=$AV2,$B3=$AT2,$B3=$AU2,$B3=$AW2,$B3=$AX2,$B3=$AY2,$B3=$AZ2,$B3=$BB2,$B3=$BC2,$B3=$BA2),BD2,BC2)) | BE3: =IF(BD2="","",IF(OR($B3=$AV2,$B3=$AT2,$B3=$AU2,$B3=$AW2,$B3=$AX2,$B3=$AY2,$B3=$AZ2,$B3=$BB2,$B3=$BC2,$B3=$BD2,$B3=$BA2),BE2,BD2)) | BF3: =IF(BE2="","",IF(OR($B3=$AV2,$B3=$AT2,$B3=$AU2,$B3=$AW2,$B3=$AX2,$B3=$AY2,$B3=$AZ2,$B3=$BB2,$B3=$BC2,$B3=$BD2,$B3=$BE2,$B3=$BA2),BF2,BE2)) | BG3: =IF(BF2="","",IF(OR($B3=$AV2,$B3=$AT2,$B3=$AU2,$B3=$AW2,$B3=$AX2,$B3=$AY2,$B3=$AZ2,$B3=$BB2,$B3=$BC2,$B3=$BD2,$B3=$BE2,$B3=$BF2,$B3=$BA2),BG2,BF2)) | BH3: =IF(BG2="","",IF(OR($B3=$AV2,$B3=$AT2,$B3=$AU2,$B3=$AW2,$B3=$AX2,$B3=$AY2,$B3=$AZ2,$B3=$BB2,$B3=$BC2,$B3=$BD2,$B3=$BE2,$B3=$BF2,$B3=$BG2,$B3=$BA2),BH2,BG2)) | BI3: =IF(BH2="","",IF(OR($B3=$AV2,$B3=$AT2,$B3=$AU2,$B3=$AW2,$B3=$AX2,$B3=$AY2,$B3=$AZ2,$B3=$BB2,$B3=$BC2,$B3=$BD2,$B3=$BE2,$B3=$BF2,$B3=$BG2,$B3=$BH2,$B3=$BA2),BI2,BH2)) | BJ3: =IF(BI2="","",IF(OR($B3=$AV2,$B3=$AT2,$B3=$AU2,$B3=$AW2,$B3=$AX2,$B3=$AY2,$B3=$AZ2,$B3=$BB2,$B3=$BC2,$B3=$BD2,$B3=$BE2,$B3=$BF2,$B3=$BG2,$B3=$BH2,$B3=$BI2,$B3=$BA2),BJ2,BI2)) | BK3: =IF(BJ2="","",IF(OR($B3=$AV2,$B3=$AT2,$B3=$AU2,$B3=$AW2,$B3=$AX2,$B3=$AY2,$B3=$AZ2,$B3=$BB2,$B3=$BC2,$B3=$BD2,$B3=$BE2,$B3=$BF2,$B3=$BG2,$B3=$BH2,$B3=$BI2,$B3=$BJ2,$B3=$BA2),BK2,BJ2)) | BL3: =IF(BK2="","",IF(OR($B3=$AV2,$B3=$AT2,$B3=$AU2,$B3=$AW2,$B3=$AX2,$B3=$AY2,$B3=$AZ2,$B3=$BB2,$B3=$BC2,$B3=$BD2,$B3=$BE2,$B3=$BF2,$B3=$BG2,$B3=$BH2,$B3=$BI2,$B3=$BJ2,$B3=$BK2,$B3=$BA2),BL2,BK2)) | BM3: =IF(BL2="","",IF(OR($B3=$AV2,$B3=$AT2,$B3=$AU2,$B3=$AW2,$B3=$AX2,$B3=$AY2,$B3=$AZ2,$B3=$BB2,$B3=$BC2,$B3=$BD2,$B3=$BE2,$B3=$BF2,$B3=$BG2,$B3=$BH2,$B3=$BI2,$B3=$BJ2,$B3=$BK2,$B3=$BL2,$B3=$BA2),BM2,BL2)) | BN3: =IF(BM2="","",IF(OR($B3=$AV2,$B3=$AT2,$B3=$AU2,$B3=$AW2,$B3=$AX2,$B3=$AY2,$B3=$AZ2,$B3=$BB2,$B3=$BC2,$B3=$BD2,$B3=$BE2,$B3=$BF2,$B3=$BG2,$B3=$BH2,$B3=$BI2,$B3=$BJ2,$B3=$BK2,$B3=$BL2,$B3=$BM2,$B3=$BA2),BN2,BM2)) | BO3: =IF(BN2="","",IF(OR($B3=$AV2,$B3=$AT2,$B3=$AU2,$B3=$AW2,$B3=$AX2,$B3=$AY2,$B3=$AZ2,$B3=$BB2,$B3=$BC2,$B3=$BD2,$B3=$BE2,$B3=$BF2,$B3=$BG2,$B3=$BH2,$B3=$BI2,$B3=$BJ2,$B3=$BK2,$B3=$BL2,$B3=$BM2,$B3=$BN2,$B3=$BA2),BO2,BN2)) | BP3: =IF(BO2="","",IF(OR($B3=$AV2,$B3=$AT2,$B3=$AU2,$B3=$AW2,$B3=$AX2,$B3=$AY2,$B3=$AZ2,$B3=$BB2,$B3=$BC2,$B3=$BD2,$B3=$BE2,$B3=$BF2,$B3=$BG2,$B3=$BH2,$B3=$BI2,$B3=$BJ2,$B3=$BK2,$B3=$BL2,$B3=$BM2,$B3=$BN2,$B3=$BO2,$B3=$BA2),BP2,BO2)) | BQ3: =IF(BP2="","",IF(OR($B3=$AV2,$B3=$AT2,$B3=$AU2,$B3=$AW2,$B3=$AX2,$B3=$AY2,$B3=$AZ2,$B3=$BB2,$B3=$BC2,$B3=$BD2,$B3=$BE2,$B3=$BF2,$B3=$BG2,$B3=$BH2,$B3=$BI2,$B3=$BJ2,$B3=$BK2,$B3=$BL2,$B3=$BM2,$B3=$BN2,$B3=$BO2,$B3=$BP2,$B3=$BA2),BQ2,BP2)) | BR3: =IF(BQ2="","",IF(OR($B3=$AV2,$B3=$AT2,$B3=$AU2,$B3=$AW2,$B3=$AX2,$B3=$AY2,$B3=$AZ2,$B3=$BB2,$B3=$BC2,$B3=$BD2,$B3=$BE2,$B3=$BF2,$B3=$BG2,$B3=$BH2,$B3=$BI2,$B3=$BJ2,$B3=$BK2,$B3=$BL2,$B3=$BM2,$B3=$BN2,$B3=$BO2,$B3=$BP2,$B3=$BQ2,$B3=$BA2),BR2,BQ2)) | BS3: =IF(BR2="","",IF(OR($B3=$AV2,$B3=$AT2,$B3=$AU2,$B3=$AW2,$B3=$AX2,$B3=$AY2,$B3=$AZ2,$B3=$BB2,$B3=$BC2,$B3=$BD2,$B3=$BE2,$B3=$BF2,$B3=$BG2,$B3=$BH2,$B3=$BI2,$B3=$BJ2,$B3=$BK2,$B3=$BL2,$B3=$BM2,$B3=$BN2,$B3=$BO2,$B3=$BP2,$B3=$BQ2,$B3=$BR2,$B3=$BA2),BS2,BR2)) | BT3: =IF(BS2="","",IF(OR($B3=$AV2,$B3=$AT2,$B3=$AU2,$B3=$AW2,$B3=$AX2,$B3=$AY2,$B3=$AZ2,$B3=$BB2,$B3=$BC2,$B3=$BD2,$B3=$BE2,$B3=$BF2,$B3=$BG2,$B3=$BH2,$B3=$BI2,$B3=$BJ2,$B3=$BK2,$B3=$BL2,$B3=$BM2,$B3=$BN2,$B3=$BO2,$B3=$BP2,$B3=$BQ2,$B3=$BR2,$B3=$BS2,$B3=$BA2),BT2,BS2)) | BU3: =IF(BT2="","",IF(OR($B3=$AV2,$B3=$AT2,$B3=$AU2,$B3=$AW2,$B3=$AX2,$B3=$AY2,$B3=$AZ2,$B3=$BB2,$B3=$BC2,$B3=$BD2,$B3=$BE2,$B3=$BF2,$B3=$BG2,$B3=$BH2,$B3=$BI2,$B3=$BJ2,$B3=$BK2,$B3=$BL2,$B3=$BM2,$B3=$BN2,$B3=$BO2,$B3=$BP2,$B3=$BQ2,$B3=$BR2,$B3=$BS2,$B3=$BT2,$B3=$BA2),BU2,BT2)) | BV3: =IF(BU2="","",IF(OR($B3=$AV2,$B3=$AT2,$B3=$AU2,$B3=$AW2,$B3=$AX2,$B3=$AY2,$B3=$AZ2,$B3=$BB2,$B3=$BC2,$B3=$BD2,$B3=$BE2,$B3=$BF2,$B3=$BG2,$B3=$BH2,$B3=$BI2,$B3=$BJ2,$B3=$BK2,$B3=$BL2,$B3=$BM2,$B3=$BN2,$B3=$BO2,$B3=$BP2,$B3=$BQ2,$B3=$BR2,$B3=$BS2,$B3=$BT2,$B3=$BU2,$B3=$BA2),BV2,BU2)) | BW3: =IF(BV2="","",IF(OR($B3=$AV2,$B3=$AT2,$B3=$AU2,$B3=$AW2,$B3=$AX2,$B3=$AY2,$B3=$AZ2,$B3=$BB2,$B3=$BC2,$B3=$BD2,$B3=$BE2,$B3=$BF2,$B3=$BG2,$B3=$BH2,$B3=$BI2,$B3=$BJ2,$B3=$BK2,$B3=$BL2,$B3=$BM2,$B3=$BN2,$B3=$BO2,$B3=$BP2,$B3=$BQ2,$B3=$BR2,$B3=$BS2,$B3=$BT2,$B3=$BU2,$B3=$BV2,$B3=$BA2),BW2,BV2)) | BX3: =IF(BW2="","",IF(OR($B3=$AV2,$B3=$AT2,$B3=$AU2,$B3=$AW2,$B3=$AX2,$B3=$AY2,$B3=$AZ2,$B3=$BB2,$B3=$BC2,$B3=$BD2,$B3=$BE2,$B3=$BF2,$B3=$BG2,$B3=$BH2,$B3=$BI2,$B3=$BJ2,$B3=$BK2,$B3=$BL2,$B3=$BM2,$B3=$BN2,$B3=$BO2,$B3=$BP2,$B3=$BQ2,$B3=$BR2,$B3=$BS2,$B3=$BT2,$B3=$BU2,$B3=$BV2,$B3=$BW2,$B3=$BA2),BX2,BW2)) | BY3: =IF(BX2="","",IF(OR($B3=$AV2,$B3=$AT2,$B3=$AU2,$B3=$AW2,$B3=$AX2,$B3=$AY2,$B3=$AZ2,$B3=$BB2,$B3=$BC2,$B3=$BD2,$B3=$BE2,$B3=$BF2,$B3=$BG2,$B3=$BH2,$B3=$BI2,$B3=$BJ2,$B3=$BK2,$B3=$BL2,$B3=$BM2,$B3=$BN2,$B3=$BO2,$B3=$BP2,$B3=$BQ2,$B3=$BR2,$B3=$BS2,$B3=$BT2,$B3=$BU2,$B3=$BV2,$B3=$BW2,$B3=$BX2,$B3=$BA2),BY2,BX2)) | BZ3: =IF(BY2="","",IF(OR($B3=$AV2,$B3=$AT2,$B3=$AU2,$B3=$AW2,$B3=$AX2,$B3=$AY2,$B3=$AZ2,$B3=$BB2,$B3=$BC2,$B3=$BD2,$B3=$BE2,$B3=$BF2,$B3=$BG2,$B3=$BH2,$B3=$BI2,$B3=$BJ2,$B3=$BK2,$B3=$BL2,$B3=$BM2,$B3=$BN2,$B3=$BO2,$B3=$BP2,$B3=$BQ2,$B3=$BR2,$B3=$BS2,$B3=$BT2,$B3=$BU2,$B3=$BV2,$B3=$BW2,$B3=$BX2,$B3=$BY2,$B3=$BA2),BZ2,BY2)) | CA3: =IF(BZ2="","",IF(OR($B3=$AV2,$B3=$AT2,$B3=$AU2,$B3=$AW2,$B3=$AX2,$B3=$AY2,$B3=$AZ2,$B3=$BB2,$B3=$BC2,$B3=$BD2,$B3=$BE2,$B3=$BF2,$B3=$BG2,$B3=$BH2,$B3=$BI2,$B3=$BJ2,$B3=$BK2,$B3=$BL2,$B3=$BM2,$B3=$BN2,$B3=$BO2,$B3=$BP2,$B3=$BQ2,$B3=$BR2,$B3=$BS2,$B3=$BT2,$B3=$BU2,$B3=$BV2,$B3=$BW2,$B3=$BX2,$B3=$BY2,$B3=$BZ2,$B3=$BA2),CA2,BZ2)) | CB3: =IF(CA2="","",IF(OR($B3=$AV2,$B3=$AT2,$B3=$AU2,$B3=$AW2,$B3=$AX2,$B3=$AY2,$B3=$AZ2,$B3=$BB2,$B3=$BC2,$B3=$BD2,$B3=$BE2,$B3=$BF2,$B3=$BG2,$B3=$BH2,$B3=$BI2,$B3=$BJ2,$B3=$BK2,$B3=$BL2,$B3=$BM2,$B3=$BN2,$B3=$BO2,$B3=$BP2,$B3=$BQ2,$B3=$BR2,$B3=$BS2,$B3=$BT2,$B3=$BU2,$B3=$BV2,$B3=$BW2,$B3=$BX2,$B3=$BY2,$B3=$BZ2,$B3=$CA2,$B3=$BA2),CB2,CA2)) | CC3: =IF(CB2="","",IF(OR($B3=$AV2,$B3=$AT2,$B3=$AU2,$B3=$AW2,$B3=$AX2,$B3=$AY2,$B3=$AZ2,$B3=$BB2,$B3=$BC2,$B3=$BD2,$B3=$BE2,$B3=$BF2,$B3=$BG2,$B3=$BH2,$B3=$BI2,$B3=$BJ2,$B3=$BK2,$B3=$BL2,$B3=$BM2,$B3=$BN2,$B3=$BO2,$B3=$BP2,$B3=$BQ2,$B3=$BR2,$B3=$BS2,$B3=$BT2,$B3=$BU2,$B3=$BV2,$B3=$BW2,$B3=$BX2,$B3=$BY2,$B3=$BZ2,$B3=$CA2,$B3=$CB2,$B3=$BA2),CC2,CB2)) | CD3: =IF(CC2="","",IF(OR($B3=$AV2,$B3=$AT2,$B3=$AU2,$B3=$AW2,$B3=$AX2,$B3=$AY2,$B3=$AZ2,$B3=$BB2,$B3=$BC2,$B3=$BD2,$B3=$BE2,$B3=$BF2,$B3=$BG2,$B3=$BH2,$B3=$BI2,$B3=$BJ2,$B3=$BK2,$B3=$BL2,$B3=$BM2,$B3=$BN2,$B3=$BO2,$B3=$BP2,$B3=$BQ2,$B3=$BR2,$B3=$BS2,$B3=$BT2,$B3=$BU2,$B3=$BV2,$B3=$BW2,$B3=$BX2,$B3=$BY2,$B3=$BZ2,$B3=$CA2,$B3=$CB2,$B3=$CC2,$B3=$BA2),CD2,CC2)) | CH3: =IF(AND(CH2="",$B3<>CH$1),"",IF($C3<CH2,CH2,IF($B3=CH$1,1,1+CH2))) | CI3: =IF(AND(CI2="",$B3<>CI$1),"",IF($C3<CI2,CI2,IF($B3=CI$1,1,1+CI2))) | CJ3: =IF(AND(CJ2="",$B3<>CJ$1),"",IF($C3<CJ2,CJ2,IF($B3=CJ$1,1,1+CJ2))) | CK3: =IF(AND(CK2="",$B3<>CK$1),"",IF($C3<CK2,CK2,IF($B3=CK$1,1,1+CK2))) | CL3: =IF(AND(CL2="",$B3<>CL$1),"",IF($C3<CL2,CL2,IF($B3=CL$1,1,1+CL2))) | CM3: =IF(AND(CM2="",$B3<>CM$1),"",IF($C3<CM2,CM2,IF($B3=CM$1,1,1+CM2))) | CN3: =IF(AND(CN2="",$B3<>CN$1),"",IF($C3<CN2,CN2,IF($B3=CN$1,1,1+CN2))) | CO3: =IF(AND(CO2="",$B3<>CO$1),"",IF($C3<CO2,CO2,IF($B3=CO$1,1,1+CO2))) | ... DR3: =IF(AND(DR2="",$B3<>DR$1),"",IF($C3<DR2,DR2,IF($B3=DR$1,1,1+DR2)))
A4: 3 | B4: =Drogan!E5 -> 20 | C4: =IF(B4="","",LOOKUP(B4,$CH$1:$DR$1,CH3:DR3)) | G4: =IF(AND($B5="",$B4<>""),"Nrs",IF(AND($B6="",$B5<>"",$B4<>""),G$1,"")) | H4: =IF(AND($B5="",$B4<>""),AT4,IF(AND($B6="",$B5<>"",$B4<>""),H$1,"")) | I4: =IF(AND($B5="",$B4<>""),AU4,IF(AND($B6="",$B5<>"",$B4<>""),I$1,"")) | J4: =IF(AND($B5="",$B4<>""),AV4,IF(AND($B6="",$B5<>"",$B4<>""),J$1,"")) | K4: =IF(AND($B5="",$B4<>""),AW4,IF(AND($B6="",$B5<>"",$B4<>""),K$1,"")) | L4: =IF(AND($B5="",$B4<>""),AX4,IF(AND($B6="",$B5<>"",$B4<>""),L$1,"")) | M4: =IF(AND($B5="",$B4<>""),AY4,IF(AND($B6="",$B5<>"",$B4<>""),M$1,"")) | N4: =IF(AND($B5="",$B4<>""),AZ4,IF(AND($B6="",$B5<>"",$B4<>""),N$1,"")) | O4: =IF(AND($B5="",$B4<>""),BA4,IF(AND($B6="",$B5<>"",$B4<>""),O$1,"")) | ... AR4: =IF(AND($B5="",$B4<>""),CD4,IF(AND($B6="",$B5<>"",$B4<>""),AR$1,"")) | AT4: =B4 -> 20 | AU4: =IF($B4=$AT3,AU3,AT3) -> 26 | AV4: =IF(OR($B4=$AT3,$B4=$AU3),AV3,AU3) -> 23 | AW4: =IF(OR($B4=$AV3,$B4=$AT3,$B4=$AU3),AW3,AV3) | AX4: =IF(OR($B4=$AV3,$B4=$AT3,$B4=$AU3,$B4=$AW3),AX3,AW3) | AY4: =IF(OR($B4=$AV3,$B4=$AT3,$B4=$AU3,$B4=$AW3,$B4=$AX3),AY3,AX3) | AZ4: =IF(OR($B4=$AV3,$B4=$AT3,$B4=$AU3,$B4=$AW3,$B4=$AX3,$B4=$AY3),AZ3,AY3) | BA4: =IF(OR($B4=$AV3,$B4=$AT3,$B4=$AU3,$B4=$AW3,$B4=$AX3,$B4=$AY3,$B4=$AZ3),BA3,AZ3) | BB4: =IF(OR($B4=$AV3,$B4=$AT3,$B4=$AU3,$B4=$AW3,$B4=$AX3,$B4=$AY3,$B4=$AZ3,$B4=$BA3),BB3,BA3) | BC4: =IF(OR($B4=$AV3,$B4=$AT3,$B4=$AU3,$B4=$AW3,$B4=$AX3,$B4=$AY3,$B4=$AZ3,$B4=$BA3,$B4=$BB3),BC3,BB3) | BD4: =IF(OR($B4=$AV3,$B4=$AT3,$B4=$AU3,$B4=$AW3,$B4=$AX3,$B4=$AY3,$B4=$AZ3,$B4=$BB3,$B4=$BC3,$B4=$BA3),BD3,BC3) | BE4: =IF(OR($B4=$AV3,$B4=$AT3,$B4=$AU3,$B4=$AW3,$B4=$AX3,$B4=$AY3,$B4=$AZ3,$B4=$BB3,$B4=$BC3,$B4=$BD3,$B4=$BA3),BE3,BD3) | BF4: =IF(OR($B4=$AV3,$B4=$AT3,$B4=$AU3,$B4=$AW3,$B4=$AX3,$B4=$AY3,$B4=$AZ3,$B4=$BB3,$B4=$BC3,$B4=$BD3,$B4=$BE3,$B4=$BA3),BF3,BE3) | BG4: =IF(OR($B4=$AV3,$B4=$AT3,$B4=$AU3,$B4=$AW3,$B4=$AX3,$B4=$AY3,$B4=$AZ3,$B4=$BB3,$B4=$BC3,$B4=$BD3,$B4=$BE3,$B4=$BF3,$B4=$BA3),BG3,BF3) | BH4: =IF(OR($B4=$AV3,$B4=$AT3,$B4=$AU3,$B4=$AW3,$B4=$AX3,$B4=$AY3,$B4=$AZ3,$B4=$BB3,$B4=$BC3,$B4=$BD3,$B4=$BE3,$B4=$BF3,$B4=$BG3,$B4=$BA3),BH3,BG3) | BI4: =IF(OR($B4=$AV3,$B4=$AT3,$B4=$AU3,$B4=$AW3,$B4=$AX3,$B4=$AY3,$B4=$AZ3,$B4=$BB3,$B4=$BC3,$B4=$BD3,$B4=$BE3,$B4=$BF3,$B4=$BG3,$B4=$BH3,$B4=$BA3),BI3,BH3) | BJ4: =IF(OR($B4=$AV3,$B4=$AT3,$B4=$AU3,$B4=$AW3,$B4=$AX3,$B4=$AY3,$B4=$AZ3,$B4=$BB3,$B4=$BC3,$B4=$BD3,$B4=$BE3,$B4=$BF3,$B4=$BG3,$B4=$BH3,$B4=$BI3,$B4=$BA3),BJ3,BI3) | BK4: =IF(OR($B4=$AV3,$B4=$AT3,$B4=$AU3,$B4=$AW3,$B4=$AX3,$B4=$AY3,$B4=$AZ3,$B4=$BB3,$B4=$BC3,$B4=$BD3,$B4=$BE3,$B4=$BF3,$B4=$BG3,$B4=$BH3,$B4=$BI3,$B4=$BJ3,$B4=$BA3),BK3,BJ3) | BL4: =IF(OR($B4=$AV3,$B4=$AT3,$B4=$AU3,$B4=$AW3,$B4=$AX3,$B4=$AY3,$B4=$AZ3,$B4=$BB3,$B4=$BC3,$B4=$BD3,$B4=$BE3,$B4=$BF3,$B4=$BG3,$B4=$BH3,$B4=$BI3,$B4=$BJ3,$B4=$BK3,$B4=$BA3),BL3,BK3) | BM4: =IF(OR($B4=$AV3,$B4=$AT3,$B4=$AU3,$B4=$AW3,$B4=$AX3,$B4=$AY3,$B4=$AZ3,$B4=$BB3,$B4=$BC3,$B4=$BD3,$B4=$BE3,$B4=$BF3,$B4=$BG3,$B4=$BH3,$B4=$BI3,$B4=$BJ3,$B4=$BK3,$B4=$BL3,$B4=$BA3),BM3,BL3) | BN4: =IF(OR($B4=$AV3,$B4=$AT3,$B4=$AU3,$B4=$AW3,$B4=$AX3,$B4=$AY3,$B4=$AZ3,$B4=$BB3,$B4=$BC3,$B4=$BD3,$B4=$BE3,$B4=$BF3,$B4=$BG3,$B4=$BH3,$B4=$BI3,$B4=$BJ3,$B4=$BK3,$B4=$BL3,$B4=$BM3,$B4=$BA3),BN3,BM3) | BO4: =IF(OR($B4=$AV3,$B4=$AT3,$B4=$AU3,$B4=$AW3,$B4=$AX3,$B4=$AY3,$B4=$AZ3,$B4=$BB3,$B4=$BC3,$B4=$BD3,$B4=$BE3,$B4=$BF3,$B4=$BG3,$B4=$BH3,$B4=$BI3,$B4=$BJ3,$B4=$BK3,$B4=$BL3,$B4=$BM3,$B4=$BN3,$B4=$BA3),BO3,BN3) | BP4: =IF(OR($B4=$AV3,$B4=$AT3,$B4=$AU3,$B4=$AW3,$B4=$AX3,$B4=$AY3,$B4=$AZ3,$B4=$BB3,$B4=$BC3,$B4=$BD3,$B4=$BE3,$B4=$BF3,$B4=$BG3,$B4=$BH3,$B4=$BI3,$B4=$BJ3,$B4=$BK3,$B4=$BL3,$B4=$BM3,$B4=$BN3,$B4=$BO3,$B4=$BA3),BP3,BO3) | BQ4: =IF(OR($B4=$AV3,$B4=$AT3,$B4=$AU3,$B4=$AW3,$B4=$AX3,$B4=$AY3,$B4=$AZ3,$B4=$BB3,$B4=$BC3,$B4=$BD3,$B4=$BE3,$B4=$BF3,$B4=$BG3,$B4=$BH3,$B4=$BI3,$B4=$BJ3,$B4=$BK3,$B4=$BL3,$B4=$BM3,$B4=$BN3,$B4=$BO3,$B4=$BP3,$B4=$BA3),BQ3,BP3) | BR4: =IF(OR($B4=$AV3,$B4=$AT3,$B4=$AU3,$B4=$AW3,$B4=$AX3,$B4=$AY3,$B4=$AZ3,$B4=$BB3,$B4=$BC3,$B4=$BD3,$B4=$BE3,$B4=$BF3,$B4=$BG3,$B4=$BH3,$B4=$BI3,$B4=$BJ3,$B4=$BK3,$B4=$BL3,$B4=$BM3,$B4=$BN3,$B4=$BO3,$B4=$BP3,$B4=$BQ3,$B4=$BA3),BR3,BQ3) | BS4: =IF(OR($B4=$AV3,$B4=$AT3,$B4=$AU3,$B4=$AW3,$B4=$AX3,$B4=$AY3,$B4=$AZ3,$B4=$BB3,$B4=$BC3,$B4=$BD3,$B4=$BE3,$B4=$BF3,$B4=$BG3,$B4=$BH3,$B4=$BI3,$B4=$BJ3,$B4=$BK3,$B4=$BL3,$B4=$BM3,$B4=$BN3,$B4=$BO3,$B4=$BP3,$B4=$BQ3,$B4=$BR3,$B4=$BA3),BS3,BR3) | BT4: =IF(OR($B4=$AV3,$B4=$AT3,$B4=$AU3,$B4=$AW3,$B4=$AX3,$B4=$AY3,$B4=$AZ3,$B4=$BB3,$B4=$BC3,$B4=$BD3,$B4=$BE3,$B4=$BF3,$B4=$BG3,$B4=$BH3,$B4=$BI3,$B4=$BJ3,$B4=$BK3,$B4=$BL3,$B4=$BM3,$B4=$BN3,$B4=$BO3,$B4=$BP3,$B4=$BQ3,$B4=$BR3,$B4=$BS3,$B4=$BA3),BT3,BS3) | BU4: =IF(OR($B4=$AV3,$B4=$AT3,$B4=$AU3,$B4=$AW3,$B4=$AX3,$B4=$AY3,$B4=$AZ3,$B4=$BB3,$B4=$BC3,$B4=$BD3,$B4=$BE3,$B4=$BF3,$B4=$BG3,$B4=$BH3,$B4=$BI3,$B4=$BJ3,$B4=$BK3,$B4=$BL3,$B4=$BM3,$B4=$BN3,$B4=$BO3,$B4=$BP3,$B4=$BQ3,$B4=$BR3,$B4=$BS3,$B4=$BT3,$B4=$BA3),BU3,BT3) | BV4: =IF(OR($B4=$AV3,$B4=$AT3,$B4=$AU3,$B4=$AW3,$B4=$AX3,$B4=$AY3,$B4=$AZ3,$B4=$BB3,$B4=$BC3,$B4=$BD3,$B4=$BE3,$B4=$BF3,$B4=$BG3,$B4=$BH3,$B4=$BI3,$B4=$BJ3,$B4=$BK3,$B4=$BL3,$B4=$BM3,$B4=$BN3,$B4=$BO3,$B4=$BP3,$B4=$BQ3,$B4=$BR3,$B4=$BS3,$B4=$BT3,$B4=$BU3,$B4=$BA3),BV3,BU3) | BW4: =IF(OR($B4=$AV3,$B4=$AT3,$B4=$AU3,$B4=$AW3,$B4=$AX3,$B4=$AY3,$B4=$AZ3,$B4=$BB3,$B4=$BC3,$B4=$BD3,$B4=$BE3,$B4=$BF3,$B4=$BG3,$B4=$BH3,$B4=$BI3,$B4=$BJ3,$B4=$BK3,$B4=$BL3,$B4=$BM3,$B4=$BN3,$B4=$BO3,$B4=$BP3,$B4=$BQ3,$B4=$BR3,$B4=$BS3,$B4=$BT3,$B4=$BU3,$B4=$BV3,$B4=$BA3),BW3,BV3) | BX4: =IF(OR($B4=$AV3,$B4=$AT3,$B4=$AU3,$B4=$AW3,$B4=$AX3,$B4=$AY3,$B4=$AZ3,$B4=$BB3,$B4=$BC3,$B4=$BD3,$B4=$BE3,$B4=$BF3,$B4=$BG3,$B4=$BH3,$B4=$BI3,$B4=$BJ3,$B4=$BK3,$B4=$BL3,$B4=$BM3,$B4=$BN3,$B4=$BO3,$B4=$BP3,$B4=$BQ3,$B4=$BR3,$B4=$BS3,$B4=$BT3,$B4=$BU3,$B4=$BV3,$B4=$BW3,$B4=$BA3),BX3,BW3) | BY4: =IF(OR($B4=$AV3,$B4=$AT3,$B4=$AU3,$B4=$AW3,$B4=$AX3,$B4=$AY3,$B4=$AZ3,$B4=$BB3,$B4=$BC3,$B4=$BD3,$B4=$BE3,$B4=$BF3,$B4=$BG3,$B4=$BH3,$B4=$BI3,$B4=$BJ3,$B4=$BK3,$B4=$BL3,$B4=$BM3,$B4=$BN3,$B4=$BO3,$B4=$BP3,$B4=$BQ3,$B4=$BR3,$B4=$BS3,$B4=$BT3,$B4=$BU3,$B4=$BV3,$B4=$BW3,$B4=$BX3,$B4=$BA3),BY3,BX3) | BZ4: =IF(OR($B4=$AV3,$B4=$AT3,$B4=$AU3,$B4=$AW3,$B4=$AX3,$B4=$AY3,$B4=$AZ3,$B4=$BB3,$B4=$BC3,$B4=$BD3,$B4=$BE3,$B4=$BF3,$B4=$BG3,$B4=$BH3,$B4=$BI3,$B4=$BJ3,$B4=$BK3,$B4=$BL3,$B4=$BM3,$B4=$BN3,$B4=$BO3,$B4=$BP3,$B4=$BQ3,$B4=$BR3,$B4=$BS3,$B4=$BT3,$B4=$BU3,$B4=$BV3,$B4=$BW3,$B4=$BX3,$B4=$BY3,$B4=$BA3),BZ3,BY3) | CA4: =IF(OR($B4=$AV3,$B4=$AT3,$B4=$AU3,$B4=$AW3,$B4=$AX3,$B4=$AY3,$B4=$AZ3,$B4=$BB3,$B4=$BC3,$B4=$BD3,$B4=$BE3,$B4=$BF3,$B4=$BG3,$B4=$BH3,$B4=$BI3,$B4=$BJ3,$B4=$BK3,$B4=$BL3,$B4=$BM3,$B4=$BN3,$B4=$BO3,$B4=$BP3,$B4=$BQ3,$B4=$BR3,$B4=$BS3,$B4=$BT3,$B4=$BU3,$B4=$BV3,$B4=$BW3,$B4=$BX3,$B4=$BY3,$B4=$BZ3,$B4=$BA3),CA3,BZ3) | CB4: =IF(OR($B4=$AV3,$B4=$AT3,$B4=$AU3,$B4=$AW3,$B4=$AX3,$B4=$AY3,$B4=$AZ3,$B4=$BB3,$B4=$BC3,$B4=$BD3,$B4=$BE3,$B4=$BF3,$B4=$BG3,$B4=$BH3,$B4=$BI3,$B4=$BJ3,$B4=$BK3,$B4=$BL3,$B4=$BM3,$B4=$BN3,$B4=$BO3,$B4=$BP3,$B4=$BQ3,$B4=$BR3,$B4=$BS3,$B4=$BT3,$B4=$BU3,$B4=$BV3,$B4=$BW3,$B4=$BX3,$B4=$BY3,$B4=$BZ3,$B4=$CA3,$B4=$BA3),CB3,CA3) | CC4: =IF(OR($B4=$AV3,$B4=$AT3,$B4=$AU3,$B4=$AW3,$B4=$AX3,$B4=$AY3,$B4=$AZ3,$B4=$BB3,$B4=$BC3,$B4=$BD3,$B4=$BE3,$B4=$BF3,$B4=$BG3,$B4=$BH3,$B4=$BI3,$B4=$BJ3,$B4=$BK3,$B4=$BL3,$B4=$BM3,$B4=$BN3,$B4=$BO3,$B4=$BP3,$B4=$BQ3,$B4=$BR3,$B4=$BS3,$B4=$BT3,$B4=$BU3,$B4=$BV3,$B4=$BW3,$B4=$BX3,$B4=$BY3,$B4=$BZ3,$B4=$CA3,$B4=$CB3,$B4=$BA3),CC3,CB3) | CD4: =IF(OR($B4=$AV3,$B4=$AT3,$B4=$AU3,$B4=$AW3,$B4=$AX3,$B4=$AY3,$B4=$AZ3,$B4=$BB3,$B4=$BC3,$B4=$BD3,$B4=$BE3,$B4=$BF3,$B4=$BG3,$B4=$BH3,$B4=$BI3,$B4=$BJ3,$B4=$BK3,$B4=$BL3,$B4=$BM3,$B4=$BN3,$B4=$BO3,$B4=$BP3,$B4=$BQ3,$B4=$BR3,$B4=$BS3,$B4=$BT3,$B4=$BU3,$B4=$BV3,$B4=$BW3,$B4=$BX3,$B4=$BY3,$B4=$BZ3,$B4=$CA3,$B4=$CB3,$B4=$CC3,$B4=$BA3),CD3,CC3) | CH4: =IF(AND(CH3="",$B4<>CH$1),"",IF($C4<CH3,CH3,IF($B4=CH$1,1,1+CH3))) | CI4: =IF(AND(CI3="",$B4<>CI$1),"",IF($C4<CI3,CI3,IF($B4=CI$1,1,1+CI3))) | CJ4: =IF(AND(CJ3="",$B4<>CJ$1),"",IF($C4<CJ3,CJ3,IF($B4=CJ$1,1,1+CJ3))) | CK4: =IF(AND(CK3="",$B4<>CK$1),"",IF($C4<CK3,CK3,IF($B4=CK$1,1,1+CK3))) | CL4: =IF(AND(CL3="",$B4<>CL$1),"",IF($C4<CL3,CL3,IF($B4=CL$1,1,1+CL3))) | CM4: =IF(AND(CM3="",$B4<>CM$1),"",IF($C4<CM3,CM3,IF($B4=CM$1,1,1+CM3))) | CN4: =IF(AND(CN3="",$B4<>CN$1),"",IF($C4<CN3,CN3,IF($B4=CN$1,1,1+CN3))) | CO4: =IF(AND(CO3="",$B4<>CO$1),"",IF($C4<CO3,CO3,IF($B4=CO$1,1,1+CO3))) | ... DR4: =IF(AND(DR3="",$B4<>DR$1),"",IF($C4<DR3,DR3,IF($B4=DR$1,1,1+DR3)))
A5: 4 | B5: =Drogan!E6 -> 32 | C5: =IF(B5="","",LOOKUP(B5,$CH$1:$DR$1,CH4:DR4)) | G5: =IF(AND($B6="",$B5<>""),"Nrs",IF(AND($B7="",$B6<>"",$B5<>""),G$1,"")) | H5: =IF(AND($B6="",$B5<>""),AT5,IF(AND($B7="",$B6<>"",$B5<>""),H$1,"")) | I5: =IF(AND($B6="",$B5<>""),AU5,IF(AND($B7="",$B6<>"",$B5<>""),I$1,"")) | J5: =IF(AND($B6="",$B5<>""),AV5,IF(AND($B7="",$B6<>"",$B5<>""),J$1,"")) | K5: =IF(AND($B6="",$B5<>""),AW5,IF(AND($B7="",$B6<>"",$B5<>""),K$1,"")) | L5: =IF(AND($B6="",$B5<>""),AX5,IF(AND($B7="",$B6<>"",$B5<>""),L$1,"")) | M5: =IF(AND($B6="",$B5<>""),AY5,IF(AND($B7="",$B6<>"",$B5<>""),M$1,"")) | N5: =IF(AND($B6="",$B5<>""),AZ5,IF(AND($B7="",$B6<>"",$B5<>""),N$1,"")) | O5: =IF(AND($B6="",$B5<>""),BA5,IF(AND($B7="",$B6<>"",$B5<>""),O$1,"")) | ... AR5: =IF(AND($B6="",$B5<>""),CD5,IF(AND($B7="",$B6<>"",$B5<>""),AR$1,"")) | AT5: =B5 -> 32 | AU5: =IF($B5=$AT4,AU4,AT4) -> 20 | AV5: =IF(OR($B5=$AT4,$B5=$AU4),AV4,AU4) -> 26 | AW5: =IF(OR($B5=$AV4,$B5=$AT4,$B5=$AU4),AW4,AV4) -> 23 | AX5: =IF(OR($B5=$AV4,$B5=$AT4,$B5=$AU4,$B5=$AW4),AX4,AW4) | AY5: =IF(OR($B5=$AV4,$B5=$AT4,$B5=$AU4,$B5=$AW4,$B5=$AX4),AY4,AX4) | AZ5: =IF(OR($B5=$AV4,$B5=$AT4,$B5=$AU4,$B5=$AW4,$B5=$AX4,$B5=$AY4),AZ4,AY4) | BA5: =IF(OR($B5=$AV4,$B5=$AT4,$B5=$AU4,$B5=$AW4,$B5=$AX4,$B5=$AY4,$B5=$AZ4),BA4,AZ4) | BB5: =IF(OR($B5=$AV4,$B5=$AT4,$B5=$AU4,$B5=$AW4,$B5=$AX4,$B5=$AY4,$B5=$AZ4,$B5=$BA4),BB4,BA4) | BC5: =IF(OR($B5=$AV4,$B5=$AT4,$B5=$AU4,$B5=$AW4,$B5=$AX4,$B5=$AY4,$B5=$AZ4,$B5=$BA4,$B5=$BB4),BC4,BB4) | BD5: =IF(OR($B5=$AV4,$B5=$AT4,$B5=$AU4,$B5=$AW4,$B5=$AX4,$B5=$AY4,$B5=$AZ4,$B5=$BB4,$B5=$BC4,$B5=$BA4),BD4,BC4) | BE5: =IF(OR($B5=$AV4,$B5=$AT4,$B5=$AU4,$B5=$AW4,$B5=$AX4,$B5=$AY4,$B5=$AZ4,$B5=$BB4,$B5=$BC4,$B5=$BD4,$B5=$BA4),BE4,BD4) | BF5: =IF(OR($B5=$AV4,$B5=$AT4,$B5=$AU4,$B5=$AW4,$B5=$AX4,$B5=$AY4,$B5=$AZ4,$B5=$BB4,$B5=$BC4,$B5=$BD4,$B5=$BE4,$B5=$BA4),BF4,BE4) | BG5: =IF(OR($B5=$AV4,$B5=$AT4,$B5=$AU4,$B5=$AW4,$B5=$AX4,$B5=$AY4,$B5=$AZ4,$B5=$BB4,$B5=$BC4,$B5=$BD4,$B5=$BE4,$B5=$BF4,$B5=$BA4),BG4,BF4) | BH5: =IF(OR($B5=$AV4,$B5=$AT4,$B5=$AU4,$B5=$AW4,$B5=$AX4,$B5=$AY4,$B5=$AZ4,$B5=$BB4,$B5=$BC4,$B5=$BD4,$B5=$BE4,$B5=$BF4,$B5=$BG4,$B5=$BA4),BH4,BG4) | BI5: =IF(OR($B5=$AV4,$B5=$AT4,$B5=$AU4,$B5=$AW4,$B5=$AX4,$B5=$AY4,$B5=$AZ4,$B5=$BB4,$B5=$BC4,$B5=$BD4,$B5=$BE4,$B5=$BF4,$B5=$BG4,$B5=$BH4,$B5=$BA4),BI4,BH4) | BJ5: =IF(OR($B5=$AV4,$B5=$AT4,$B5=$AU4,$B5=$AW4,$B5=$AX4,$B5=$AY4,$B5=$AZ4,$B5=$BB4,$B5=$BC4,$B5=$BD4,$B5=$BE4,$B5=$BF4,$B5=$BG4,$B5=$BH4,$B5=$BI4,$B5=$BA4),BJ4,BI4) | BK5: =IF(OR($B5=$AV4,$B5=$AT4,$B5=$AU4,$B5=$AW4,$B5=$AX4,$B5=$AY4,$B5=$AZ4,$B5=$BB4,$B5=$BC4,$B5=$BD4,$B5=$BE4,$B5=$BF4,$B5=$BG4,$B5=$BH4,$B5=$BI4,$B5=$BJ4,$B5=$BA4),BK4,BJ4) | BL5: =IF(OR($B5=$AV4,$B5=$AT4,$B5=$AU4,$B5=$AW4,$B5=$AX4,$B5=$AY4,$B5=$AZ4,$B5=$BB4,$B5=$BC4,$B5=$BD4,$B5=$BE4,$B5=$BF4,$B5=$BG4,$B5=$BH4,$B5=$BI4,$B5=$BJ4,$B5=$BK4,$B5=$BA4),BL4,BK4) | BM5: =IF(OR($B5=$AV4,$B5=$AT4,$B5=$AU4,$B5=$AW4,$B5=$AX4,$B5=$AY4,$B5=$AZ4,$B5=$BB4,$B5=$BC4,$B5=$BD4,$B5=$BE4,$B5=$BF4,$B5=$BG4,$B5=$BH4,$B5=$BI4,$B5=$BJ4,$B5=$BK4,$B5=$BL4,$B5=$BA4),BM4,BL4) | BN5: =IF(OR($B5=$AV4,$B5=$AT4,$B5=$AU4,$B5=$AW4,$B5=$AX4,$B5=$AY4,$B5=$AZ4,$B5=$BB4,$B5=$BC4,$B5=$BD4,$B5=$BE4,$B5=$BF4,$B5=$BG4,$B5=$BH4,$B5=$BI4,$B5=$BJ4,$B5=$BK4,$B5=$BL4,$B5=$BM4,$B5=$BA4),BN4,BM4) | BO5: =IF(OR($B5=$AV4,$B5=$AT4,$B5=$AU4,$B5=$AW4,$B5=$AX4,$B5=$AY4,$B5=$AZ4,$B5=$BB4,$B5=$BC4,$B5=$BD4,$B5=$BE4,$B5=$BF4,$B5=$BG4,$B5=$BH4,$B5=$BI4,$B5=$BJ4,$B5=$BK4,$B5=$BL4,$B5=$BM4,$B5=$BN4,$B5=$BA4),BO4,BN4) | BP5: =IF(OR($B5=$AV4,$B5=$AT4,$B5=$AU4,$B5=$AW4,$B5=$AX4,$B5=$AY4,$B5=$AZ4,$B5=$BB4,$B5=$BC4,$B5=$BD4,$B5=$BE4,$B5=$BF4,$B5=$BG4,$B5=$BH4,$B5=$BI4,$B5=$BJ4,$B5=$BK4,$B5=$BL4,$B5=$BM4,$B5=$BN4,$B5=$BO4,$B5=$BA4),BP4,BO4) | BQ5: =IF(OR($B5=$AV4,$B5=$AT4,$B5=$AU4,$B5=$AW4,$B5=$AX4,$B5=$AY4,$B5=$AZ4,$B5=$BB4,$B5=$BC4,$B5=$BD4,$B5=$BE4,$B5=$BF4,$B5=$BG4,$B5=$BH4,$B5=$BI4,$B5=$BJ4,$B5=$BK4,$B5=$BL4,$B5=$BM4,$B5=$BN4,$B5=$BO4,$B5=$BP4,$B5=$BA4),BQ4,BP4) | BR5: =IF(OR($B5=$AV4,$B5=$AT4,$B5=$AU4,$B5=$AW4,$B5=$AX4,$B5=$AY4,$B5=$AZ4,$B5=$BB4,$B5=$BC4,$B5=$BD4,$B5=$BE4,$B5=$BF4,$B5=$BG4,$B5=$BH4,$B5=$BI4,$B5=$BJ4,$B5=$BK4,$B5=$BL4,$B5=$BM4,$B5=$BN4,$B5=$BO4,$B5=$BP4,$B5=$BQ4,$B5=$BA4),BR4,BQ4) | BS5: =IF(OR($B5=$AV4,$B5=$AT4,$B5=$AU4,$B5=$AW4,$B5=$AX4,$B5=$AY4,$B5=$AZ4,$B5=$BB4,$B5=$BC4,$B5=$BD4,$B5=$BE4,$B5=$BF4,$B5=$BG4,$B5=$BH4,$B5=$BI4,$B5=$BJ4,$B5=$BK4,$B5=$BL4,$B5=$BM4,$B5=$BN4,$B5=$BO4,$B5=$BP4,$B5=$BQ4,$B5=$BR4,$B5=$BA4),BS4,BR4) | BT5: =IF(OR($B5=$AV4,$B5=$AT4,$B5=$AU4,$B5=$AW4,$B5=$AX4,$B5=$AY4,$B5=$AZ4,$B5=$BB4,$B5=$BC4,$B5=$BD4,$B5=$BE4,$B5=$BF4,$B5=$BG4,$B5=$BH4,$B5=$BI4,$B5=$BJ4,$B5=$BK4,$B5=$BL4,$B5=$BM4,$B5=$BN4,$B5=$BO4,$B5=$BP4,$B5=$BQ4,$B5=$BR4,$B5=$BS4,$B5=$BA4),BT4,BS4) | BU5: =IF(OR($B5=$AV4,$B5=$AT4,$B5=$AU4,$B5=$AW4,$B5=$AX4,$B5=$AY4,$B5=$AZ4,$B5=$BB4,$B5=$BC4,$B5=$BD4,$B5=$BE4,$B5=$BF4,$B5=$BG4,$B5=$BH4,$B5=$BI4,$B5=$BJ4,$B5=$BK4,$B5=$BL4,$B5=$BM4,$B5=$BN4,$B5=$BO4,$B5=$BP4,$B5=$BQ4,$B5=$BR4,$B5=$BS4,$B5=$BT4,$B5=$BA4),BU4,BT4) | BV5: =IF(OR($B5=$AV4,$B5=$AT4,$B5=$AU4,$B5=$AW4,$B5=$AX4,$B5=$AY4,$B5=$AZ4,$B5=$BB4,$B5=$BC4,$B5=$BD4,$B5=$BE4,$B5=$BF4,$B5=$BG4,$B5=$BH4,$B5=$BI4,$B5=$BJ4,$B5=$BK4,$B5=$BL4,$B5=$BM4,$B5=$BN4,$B5=$BO4,$B5=$BP4,$B5=$BQ4,$B5=$BR4,$B5=$BS4,$B5=$BT4,$B5=$BU4,$B5=$BA4),BV4,BU4) | BW5: =IF(OR($B5=$AV4,$B5=$AT4,$B5=$AU4,$B5=$AW4,$B5=$AX4,$B5=$AY4,$B5=$AZ4,$B5=$BB4,$B5=$BC4,$B5=$BD4,$B5=$BE4,$B5=$BF4,$B5=$BG4,$B5=$BH4,$B5=$BI4,$B5=$BJ4,$B5=$BK4,$B5=$BL4,$B5=$BM4,$B5=$BN4,$B5=$BO4,$B5=$BP4,$B5=$BQ4,$B5=$BR4,$B5=$BS4,$B5=$BT4,$B5=$BU4,$B5=$BV4,$B5=$BA4),BW4,BV4) | BX5: =IF(OR($B5=$AV4,$B5=$AT4,$B5=$AU4,$B5=$AW4,$B5=$AX4,$B5=$AY4,$B5=$AZ4,$B5=$BB4,$B5=$BC4,$B5=$BD4,$B5=$BE4,$B5=$BF4,$B5=$BG4,$B5=$BH4,$B5=$BI4,$B5=$BJ4,$B5=$BK4,$B5=$BL4,$B5=$BM4,$B5=$BN4,$B5=$BO4,$B5=$BP4,$B5=$BQ4,$B5=$BR4,$B5=$BS4,$B5=$BT4,$B5=$BU4,$B5=$BV4,$B5=$BW4,$B5=$BA4),BX4,BW4) | BY5: =IF(OR($B5=$AV4,$B5=$AT4,$B5=$AU4,$B5=$AW4,$B5=$AX4,$B5=$AY4,$B5=$AZ4,$B5=$BB4,$B5=$BC4,$B5=$BD4,$B5=$BE4,$B5=$BF4,$B5=$BG4,$B5=$BH4,$B5=$BI4,$B5=$BJ4,$B5=$BK4,$B5=$BL4,$B5=$BM4,$B5=$BN4,$B5=$BO4,$B5=$BP4,$B5=$BQ4,$B5=$BR4,$B5=$BS4,$B5=$BT4,$B5=$BU4,$B5=$BV4,$B5=$BW4,$B5=$BX4,$B5=$BA4),BY4,BX4) | BZ5: =IF(OR($B5=$AV4,$B5=$AT4,$B5=$AU4,$B5=$AW4,$B5=$AX4,$B5=$AY4,$B5=$AZ4,$B5=$BB4,$B5=$BC4,$B5=$BD4,$B5=$BE4,$B5=$BF4,$B5=$BG4,$B5=$BH4,$B5=$BI4,$B5=$BJ4,$B5=$BK4,$B5=$BL4,$B5=$BM4,$B5=$BN4,$B5=$BO4,$B5=$BP4,$B5=$BQ4,$B5=$BR4,$B5=$BS4,$B5=$BT4,$B5=$BU4,$B5=$BV4,$B5=$BW4,$B5=$BX4,$B5=$BY4,$B5=$BA4),BZ4,BY4) | CA5: =IF(OR($B5=$AV4,$B5=$AT4,$B5=$AU4,$B5=$AW4,$B5=$AX4,$B5=$AY4,$B5=$AZ4,$B5=$BB4,$B5=$BC4,$B5=$BD4,$B5=$BE4,$B5=$BF4,$B5=$BG4,$B5=$BH4,$B5=$BI4,$B5=$BJ4,$B5=$BK4,$B5=$BL4,$B5=$BM4,$B5=$BN4,$B5=$BO4,$B5=$BP4,$B5=$BQ4,$B5=$BR4,$B5=$BS4,$B5=$BT4,$B5=$BU4,$B5=$BV4,$B5=$BW4,$B5=$BX4,$B5=$BY4,$B5=$BZ4,$B5=$BA4),CA4,BZ4) | CB5: =IF(OR($B5=$AV4,$B5=$AT4,$B5=$AU4,$B5=$AW4,$B5=$AX4,$B5=$AY4,$B5=$AZ4,$B5=$BB4,$B5=$BC4,$B5=$BD4,$B5=$BE4,$B5=$BF4,$B5=$BG4,$B5=$BH4,$B5=$BI4,$B5=$BJ4,$B5=$BK4,$B5=$BL4,$B5=$BM4,$B5=$BN4,$B5=$BO4,$B5=$BP4,$B5=$BQ4,$B5=$BR4,$B5=$BS4,$B5=$BT4,$B5=$BU4,$B5=$BV4,$B5=$BW4,$B5=$BX4,$B5=$BY4,$B5=$BZ4,$B5=$CA4,$B5=$BA4),CB4,CA4) | CC5: =IF(OR($B5=$AV4,$B5=$AT4,$B5=$AU4,$B5=$AW4,$B5=$AX4,$B5=$AY4,$B5=$AZ4,$B5=$BB4,$B5=$BC4,$B5=$BD4,$B5=$BE4,$B5=$BF4,$B5=$BG4,$B5=$BH4,$B5=$BI4,$B5=$BJ4,$B5=$BK4,$B5=$BL4,$B5=$BM4,$B5=$BN4,$B5=$BO4,$B5=$BP4,$B5=$BQ4,$B5=$BR4,$B5=$BS4,$B5=$BT4,$B5=$BU4,$B5=$BV4,$B5=$BW4,$B5=$BX4,$B5=$BY4,$B5=$BZ4,$B5=$CA4,$B5=$CB4,$B5=$BA4),CC4,CB4) | CD5: =IF(OR($B5=$AV4,$B5=$AT4,$B5=$AU4,$B5=$AW4,$B5=$AX4,$B5=$AY4,$B5=$AZ4,$B5=$BB4,$B5=$BC4,$B5=$BD4,$B5=$BE4,$B5=$BF4,$B5=$BG4,$B5=$BH4,$B5=$BI4,$B5=$BJ4,$B5=$BK4,$B5=$BL4,$B5=$BM4,$B5=$BN4,$B5=$BO4,$B5=$BP4,$B5=$BQ4,$B5=$BR4,$B5=$BS4,$B5=$BT4,$B5=$BU4,$B5=$BV4,$B5=$BW4,$B5=$BX4,$B5=$BY4,$B5=$BZ4,$B5=$CA4,$B5=$CB4,$B5=$CC4,$B5=$BA4),CD4,CC4) | CH5: =IF(AND(CH4="",$B5<>CH$1),"",IF($C5<CH4,CH4,IF($B5=CH$1,1,1+CH4))) | CI5: =IF(AND(CI4="",$B5<>CI$1),"",IF($C5<CI4,CI4,IF($B5=CI$1,1,1+CI4))) | CJ5: =IF(AND(CJ4="",$B5<>CJ$1),"",IF($C5<CJ4,CJ4,IF($B5=CJ$1,1,1+CJ4))) | CK5: =IF(AND(CK4="",$B5<>CK$1),"",IF($C5<CK4,CK4,IF($B5=CK$1,1,1+CK4))) | CL5: =IF(AND(CL4="",$B5<>CL$1),"",IF($C5<CL4,CL4,IF($B5=CL$1,1,1+CL4))) | CM5: =IF(AND(CM4="",$B5<>CM$1),"",IF($C5<CM4,CM4,IF($B5=CM$1,1,1+CM4))) | CN5: =IF(AND(CN4="",$B5<>CN$1),"",IF($C5<CN4,CN4,IF($B5=CN$1,1,1+CN4))) | CO5: =IF(AND(CO4="",$B5<>CO$1),"",IF($C5<CO4,CO4,IF($B5=CO$1,1,1+CO4))) | ... DR5: =IF(AND(DR4="",$B5<>DR$1),"",IF($C5<DR4,DR4,IF($B5=DR$1,1,1+DR4)))
A6: 5 | B6: =Drogan!E7 -> 26 | C6: =IF(B6="","",LOOKUP(B6,$CH$1:$DR$1,CH5:DR5)) -> 3 | G6: =IF(AND($B7="",$B6<>""),"Nrs",IF(AND($B8="",$B7<>"",$B6<>""),G$1,"")) | H6: =IF(AND($B7="",$B6<>""),AT6,IF(AND($B8="",$B7<>"",$B6<>""),H$1,"")) | I6: =IF(AND($B7="",$B6<>""),AU6,IF(AND($B8="",$B7<>"",$B6<>""),I$1,"")) | J6: =IF(AND($B7="",$B6<>""),AV6,IF(AND($B8="",$B7<>"",$B6<>""),J$1,"")) | K6: =IF(AND($B7="",$B6<>""),AW6,IF(AND($B8="",$B7<>"",$B6<>""),K$1,"")) | L6: =IF(AND($B7="",$B6<>""),AX6,IF(AND($B8="",$B7<>"",$B6<>""),L$1,"")) | M6: =IF(AND($B7="",$B6<>""),AY6,IF(AND($B8="",$B7<>"",$B6<>""),M$1,"")) | N6: =IF(AND($B7="",$B6<>""),AZ6,IF(AND($B8="",$B7<>"",$B6<>""),N$1,"")) | O6: =IF(AND($B7="",$B6<>""),BA6,IF(AND($B8="",$B7<>"",$B6<>""),O$1,"")) | ... AR6: =IF(AND($B7="",$B6<>""),CD6,IF(AND($B8="",$B7<>"",$B6<>""),AR$1,"")) | AT6: =B6 -> 26 | AU6: =IF($B6=$AT5,AU5,AT5) -> 32 | AV6: =IF(OR($B6=$AT5,$B6=$AU5),AV5,AU5) -> 20 | AW6: =IF(OR($B6=$AV5,$B6=$AT5,$B6=$AU5),AW5,AV5) -> 23 | AX6: =IF(OR($B6=$AV5,$B6=$AT5,$B6=$AU5,$B6=$AW5),AX5,AW5) | AY6: =IF(OR($B6=$AV5,$B6=$AT5,$B6=$AU5,$B6=$AW5,$B6=$AX5),AY5,AX5) | AZ6: =IF(OR($B6=$AV5,$B6=$AT5,$B6=$AU5,$B6=$AW5,$B6=$AX5,$B6=$AY5),AZ5,AY5) | BA6: =IF(OR($B6=$AV5,$B6=$AT5,$B6=$AU5,$B6=$AW5,$B6=$AX5,$B6=$AY5,$B6=$AZ5),BA5,AZ5) | BB6: =IF(OR($B6=$AV5,$B6=$AT5,$B6=$AU5,$B6=$AW5,$B6=$AX5,$B6=$AY5,$B6=$AZ5,$B6=$BA5),BB5,BA5) | BC6: =IF(OR($B6=$AV5,$B6=$AT5,$B6=$AU5,$B6=$AW5,$B6=$AX5,$B6=$AY5,$B6=$AZ5,$B6=$BA5,$B6=$BB5),BC5,BB5) | BD6: =IF(OR($B6=$AV5,$B6=$AT5,$B6=$AU5,$B6=$AW5,$B6=$AX5,$B6=$AY5,$B6=$AZ5,$B6=$BB5,$B6=$BC5,$B6=$BA5),BD5,BC5) | BE6: =IF(OR($B6=$AV5,$B6=$AT5,$B6=$AU5,$B6=$AW5,$B6=$AX5,$B6=$AY5,$B6=$AZ5,$B6=$BB5,$B6=$BC5,$B6=$BD5,$B6=$BA5),BE5,BD5) | BF6: =IF(OR($B6=$AV5,$B6=$AT5,$B6=$AU5,$B6=$AW5,$B6=$AX5,$B6=$AY5,$B6=$AZ5,$B6=$BB5,$B6=$BC5,$B6=$BD5,$B6=$BE5,$B6=$BA5),BF5,BE5) | BG6: =IF(OR($B6=$AV5,$B6=$AT5,$B6=$AU5,$B6=$AW5,$B6=$AX5,$B6=$AY5,$B6=$AZ5,$B6=$BB5,$B6=$BC5,$B6=$BD5,$B6=$BE5,$B6=$BF5,$B6=$BA5),BG5,BF5) | BH6: =IF(OR($B6=$AV5,$B6=$AT5,$B6=$AU5,$B6=$AW5,$B6=$AX5,$B6=$AY5,$B6=$AZ5,$B6=$BB5,$B6=$BC5,$B6=$BD5,$B6=$BE5,$B6=$BF5,$B6=$BG5,$B6=$BA5),BH5,BG5) | BI6: =IF(OR($B6=$AV5,$B6=$AT5,$B6=$AU5,$B6=$AW5,$B6=$AX5,$B6=$AY5,$B6=$AZ5,$B6=$BB5,$B6=$BC5,$B6=$BD5,$B6=$BE5,$B6=$BF5,$B6=$BG5,$B6=$BH5,$B6=$BA5),BI5,BH5) | BJ6: =IF(OR($B6=$AV5,$B6=$AT5,$B6=$AU5,$B6=$AW5,$B6=$AX5,$B6=$AY5,$B6=$AZ5,$B6=$BB5,$B6=$BC5,$B6=$BD5,$B6=$BE5,$B6=$BF5,$B6=$BG5,$B6=$BH5,$B6=$BI5,$B6=$BA5),BJ5,BI5) | BK6: =IF(OR($B6=$AV5,$B6=$AT5,$B6=$AU5,$B6=$AW5,$B6=$AX5,$B6=$AY5,$B6=$AZ5,$B6=$BB5,$B6=$BC5,$B6=$BD5,$B6=$BE5,$B6=$BF5,$B6=$BG5,$B6=$BH5,$B6=$BI5,$B6=$BJ5,$B6=$BA5),BK5,BJ5) | BL6: =IF(OR($B6=$AV5,$B6=$AT5,$B6=$AU5,$B6=$AW5,$B6=$AX5,$B6=$AY5,$B6=$AZ5,$B6=$BB5,$B6=$BC5,$B6=$BD5,$B6=$BE5,$B6=$BF5,$B6=$BG5,$B6=$BH5,$B6=$BI5,$B6=$BJ5,$B6=$BK5,$B6=$BA5),BL5,BK5) | BM6: =IF(OR($B6=$AV5,$B6=$AT5,$B6=$AU5,$B6=$AW5,$B6=$AX5,$B6=$AY5,$B6=$AZ5,$B6=$BB5,$B6=$BC5,$B6=$BD5,$B6=$BE5,$B6=$BF5,$B6=$BG5,$B6=$BH5,$B6=$BI5,$B6=$BJ5,$B6=$BK5,$B6=$BL5,$B6=$BA5),BM5,BL5) | BN6: =IF(OR($B6=$AV5,$B6=$AT5,$B6=$AU5,$B6=$AW5,$B6=$AX5,$B6=$AY5,$B6=$AZ5,$B6=$BB5,$B6=$BC5,$B6=$BD5,$B6=$BE5,$B6=$BF5,$B6=$BG5,$B6=$BH5,$B6=$BI5,$B6=$BJ5,$B6=$BK5,$B6=$BL5,$B6=$BM5,$B6=$BA5),BN5,BM5) | BO6: =IF(OR($B6=$AV5,$B6=$AT5,$B6=$AU5,$B6=$AW5,$B6=$AX5,$B6=$AY5,$B6=$AZ5,$B6=$BB5,$B6=$BC5,$B6=$BD5,$B6=$BE5,$B6=$BF5,$B6=$BG5,$B6=$BH5,$B6=$BI5,$B6=$BJ5,$B6=$BK5,$B6=$BL5,$B6=$BM5,$B6=$BN5,$B6=$BA5),BO5,BN5) | BP6: =IF(OR($B6=$AV5,$B6=$AT5,$B6=$AU5,$B6=$AW5,$B6=$AX5,$B6=$AY5,$B6=$AZ5,$B6=$BB5,$B6=$BC5,$B6=$BD5,$B6=$BE5,$B6=$BF5,$B6=$BG5,$B6=$BH5,$B6=$BI5,$B6=$BJ5,$B6=$BK5,$B6=$BL5,$B6=$BM5,$B6=$BN5,$B6=$BO5,$B6=$BA5),BP5,BO5) | BQ6: =IF(OR($B6=$AV5,$B6=$AT5,$B6=$AU5,$B6=$AW5,$B6=$AX5,$B6=$AY5,$B6=$AZ5,$B6=$BB5,$B6=$BC5,$B6=$BD5,$B6=$BE5,$B6=$BF5,$B6=$BG5,$B6=$BH5,$B6=$BI5,$B6=$BJ5,$B6=$BK5,$B6=$BL5,$B6=$BM5,$B6=$BN5,$B6=$BO5,$B6=$BP5,$B6=$BA5),BQ5,BP5) | BR6: =IF(OR($B6=$AV5,$B6=$AT5,$B6=$AU5,$B6=$AW5,$B6=$AX5,$B6=$AY5,$B6=$AZ5,$B6=$BB5,$B6=$BC5,$B6=$BD5,$B6=$BE5,$B6=$BF5,$B6=$BG5,$B6=$BH5,$B6=$BI5,$B6=$BJ5,$B6=$BK5,$B6=$BL5,$B6=$BM5,$B6=$BN5,$B6=$BO5,$B6=$BP5,$B6=$BQ5,$B6=$BA5),BR5,BQ5) | BS6: =IF(OR($B6=$AV5,$B6=$AT5,$B6=$AU5,$B6=$AW5,$B6=$AX5,$B6=$AY5,$B6=$AZ5,$B6=$BB5,$B6=$BC5,$B6=$BD5,$B6=$BE5,$B6=$BF5,$B6=$BG5,$B6=$BH5,$B6=$BI5,$B6=$BJ5,$B6=$BK5,$B6=$BL5,$B6=$BM5,$B6=$BN5,$B6=$BO5,$B6=$BP5,$B6=$BQ5,$B6=$BR5,$B6=$BA5),BS5,BR5) | BT6: =IF(OR($B6=$AV5,$B6=$AT5,$B6=$AU5,$B6=$AW5,$B6=$AX5,$B6=$AY5,$B6=$AZ5,$B6=$BB5,$B6=$BC5,$B6=$BD5,$B6=$BE5,$B6=$BF5,$B6=$BG5,$B6=$BH5,$B6=$BI5,$B6=$BJ5,$B6=$BK5,$B6=$BL5,$B6=$BM5,$B6=$BN5,$B6=$BO5,$B6=$BP5,$B6=$BQ5,$B6=$BR5,$B6=$BS5,$B6=$BA5),BT5,BS5) | BU6: =IF(OR($B6=$AV5,$B6=$AT5,$B6=$AU5,$B6=$AW5,$B6=$AX5,$B6=$AY5,$B6=$AZ5,$B6=$BB5,$B6=$BC5,$B6=$BD5,$B6=$BE5,$B6=$BF5,$B6=$BG5,$B6=$BH5,$B6=$BI5,$B6=$BJ5,$B6=$BK5,$B6=$BL5,$B6=$BM5,$B6=$BN5,$B6=$BO5,$B6=$BP5,$B6=$BQ5,$B6=$BR5,$B6=$BS5,$B6=$BT5,$B6=$BA5),BU5,BT5) | BV6: =IF(OR($B6=$AV5,$B6=$AT5,$B6=$AU5,$B6=$AW5,$B6=$AX5,$B6=$AY5,$B6=$AZ5,$B6=$BB5,$B6=$BC5,$B6=$BD5,$B6=$BE5,$B6=$BF5,$B6=$BG5,$B6=$BH5,$B6=$BI5,$B6=$BJ5,$B6=$BK5,$B6=$BL5,$B6=$BM5,$B6=$BN5,$B6=$BO5,$B6=$BP5,$B6=$BQ5,$B6=$BR5,$B6=$BS5,$B6=$BT5,$B6=$BU5,$B6=$BA5),BV5,BU5) | BW6: =IF(OR($B6=$AV5,$B6=$AT5,$B6=$AU5,$B6=$AW5,$B6=$AX5,$B6=$AY5,$B6=$AZ5,$B6=$BB5,$B6=$BC5,$B6=$BD5,$B6=$BE5,$B6=$BF5,$B6=$BG5,$B6=$BH5,$B6=$BI5,$B6=$BJ5,$B6=$BK5,$B6=$BL5,$B6=$BM5,$B6=$BN5,$B6=$BO5,$B6=$BP5,$B6=$BQ5,$B6=$BR5,$B6=$BS5,$B6=$BT5,$B6=$BU5,$B6=$BV5,$B6=$BA5),BW5,BV5) | BX6: =IF(OR($B6=$AV5,$B6=$AT5,$B6=$AU5,$B6=$AW5,$B6=$AX5,$B6=$AY5,$B6=$AZ5,$B6=$BB5,$B6=$BC5,$B6=$BD5,$B6=$BE5,$B6=$BF5,$B6=$BG5,$B6=$BH5,$B6=$BI5,$B6=$BJ5,$B6=$BK5,$B6=$BL5,$B6=$BM5,$B6=$BN5,$B6=$BO5,$B6=$BP5,$B6=$BQ5,$B6=$BR5,$B6=$BS5,$B6=$BT5,$B6=$BU5,$B6=$BV5,$B6=$BW5,$B6=$BA5),BX5,BW5) | BY6: =IF(OR($B6=$AV5,$B6=$AT5,$B6=$AU5,$B6=$AW5,$B6=$AX5,$B6=$AY5,$B6=$AZ5,$B6=$BB5,$B6=$BC5,$B6=$BD5,$B6=$BE5,$B6=$BF5,$B6=$BG5,$B6=$BH5,$B6=$BI5,$B6=$BJ5,$B6=$BK5,$B6=$BL5,$B6=$BM5,$B6=$BN5,$B6=$BO5,$B6=$BP5,$B6=$BQ5,$B6=$BR5,$B6=$BS5,$B6=$BT5,$B6=$BU5,$B6=$BV5,$B6=$BW5,$B6=$BX5,$B6=$BA5),BY5,BX5) | BZ6: =IF(OR($B6=$AV5,$B6=$AT5,$B6=$AU5,$B6=$AW5,$B6=$AX5,$B6=$AY5,$B6=$AZ5,$B6=$BB5,$B6=$BC5,$B6=$BD5,$B6=$BE5,$B6=$BF5,$B6=$BG5,$B6=$BH5,$B6=$BI5,$B6=$BJ5,$B6=$BK5,$B6=$BL5,$B6=$BM5,$B6=$BN5,$B6=$BO5,$B6=$BP5,$B6=$BQ5,$B6=$BR5,$B6=$BS5,$B6=$BT5,$B6=$BU5,$B6=$BV5,$B6=$BW5,$B6=$BX5,$B6=$BY5,$B6=$BA5),BZ5,BY5) | CA6: =IF(OR($B6=$AV5,$B6=$AT5,$B6=$AU5,$B6=$AW5,$B6=$AX5,$B6=$AY5,$B6=$AZ5,$B6=$BB5,$B6=$BC5,$B6=$BD5,$B6=$BE5,$B6=$BF5,$B6=$BG5,$B6=$BH5,$B6=$BI5,$B6=$BJ5,$B6=$BK5,$B6=$BL5,$B6=$BM5,$B6=$BN5,$B6=$BO5,$B6=$BP5,$B6=$BQ5,$B6=$BR5,$B6=$BS5,$B6=$BT5,$B6=$BU5,$B6=$BV5,$B6=$BW5,$B6=$BX5,$B6=$BY5,$B6=$BZ5,$B6=$BA5),CA5,BZ5) | CB6: =IF(OR($B6=$AV5,$B6=$AT5,$B6=$AU5,$B6=$AW5,$B6=$AX5,$B6=$AY5,$B6=$AZ5,$B6=$BB5,$B6=$BC5,$B6=$BD5,$B6=$BE5,$B6=$BF5,$B6=$BG5,$B6=$BH5,$B6=$BI5,$B6=$BJ5,$B6=$BK5,$B6=$BL5,$B6=$BM5,$B6=$BN5,$B6=$BO5,$B6=$BP5,$B6=$BQ5,$B6=$BR5,$B6=$BS5,$B6=$BT5,$B6=$BU5,$B6=$BV5,$B6=$BW5,$B6=$BX5,$B6=$BY5,$B6=$BZ5,$B6=$CA5,$B6=$BA5),CB5,CA5) | CC6: =IF(OR($B6=$AV5,$B6=$AT5,$B6=$AU5,$B6=$AW5,$B6=$AX5,$B6=$AY5,$B6=$AZ5,$B6=$BB5,$B6=$BC5,$B6=$BD5,$B6=$BE5,$B6=$BF5,$B6=$BG5,$B6=$BH5,$B6=$BI5,$B6=$BJ5,$B6=$BK5,$B6=$BL5,$B6=$BM5,$B6=$BN5,$B6=$BO5,$B6=$BP5,$B6=$BQ5,$B6=$BR5,$B6=$BS5,$B6=$BT5,$B6=$BU5,$B6=$BV5,$B6=$BW5,$B6=$BX5,$B6=$BY5,$B6=$BZ5,$B6=$CA5,$B6=$CB5,$B6=$BA5),CC5,CB5) | CD6: =IF(OR($B6=$AV5,$B6=$AT5,$B6=$AU5,$B6=$AW5,$B6=$AX5,$B6=$AY5,$B6=$AZ5,$B6=$BB5,$B6=$BC5,$B6=$BD5,$B6=$BE5,$B6=$BF5,$B6=$BG5,$B6=$BH5,$B6=$BI5,$B6=$BJ5,$B6=$BK5,$B6=$BL5,$B6=$BM5,$B6=$BN5,$B6=$BO5,$B6=$BP5,$B6=$BQ5,$B6=$BR5,$B6=$BS5,$B6=$BT5,$B6=$BU5,$B6=$BV5,$B6=$BW5,$B6=$BX5,$B6=$BY5,$B6=$BZ5,$B6=$CA5,$B6=$CB5,$B6=$CC5,$B6=$BA5),CD5,CC5) | CH6: =IF(AND(CH5="",$B6<>CH$1),"",IF($C6<CH5,CH5,IF($B6=CH$1,1,1+CH5))) | CI6: =IF(AND(CI5="",$B6<>CI$1),"",IF($C6<CI5,CI5,IF($B6=CI$1,1,1+CI5))) | CJ6: =IF(AND(CJ5="",$B6<>CJ$1),"",IF($C6<CJ5,CJ5,IF($B6=CJ$1,1,1+CJ5))) | CK6: =IF(AND(CK5="",$B6<>CK$1),"",IF($C6<CK5,CK5,IF($B6=CK$1,1,1+CK5))) | CL6: =IF(AND(CL5="",$B6<>CL$1),"",IF($C6<CL5,CL5,IF($B6=CL$1,1,1+CL5))) | CM6: =IF(AND(CM5="",$B6<>CM$1),"",IF($C6<CM5,CM5,IF($B6=CM$1,1,1+CM5))) | CN6: =IF(AND(CN5="",$B6<>CN$1),"",IF($C6<CN5,CN5,IF($B6=CN$1,1,1+CN5))) | CO6: =IF(AND(CO5="",$B6<>CO$1),"",IF($C6<CO5,CO5,IF($B6=CO$1,1,1+CO5))) | ... DR6: =IF(AND(DR5="",$B6<>DR$1),"",IF($C6<DR5,DR5,IF($B6=DR$1,1,1+DR5)))
A7: 6 | B7: =Drogan!E8 -> 2 | C7: =IF(B7="","",LOOKUP(B7,$CH$1:$DR$1,CH6:DR6)) | G7: =IF(AND($B8="",$B7<>""),"Nrs",IF(AND($B9="",$B8<>"",$B7<>""),G$1,"")) | H7: =IF(AND($B8="",$B7<>""),AT7,IF(AND($B9="",$B8<>"",$B7<>""),H$1,"")) | I7: =IF(AND($B8="",$B7<>""),AU7,IF(AND($B9="",$B8<>"",$B7<>""),I$1,"")) | J7: =IF(AND($B8="",$B7<>""),AV7,IF(AND($B9="",$B8<>"",$B7<>""),J$1,"")) | K7: =IF(AND($B8="",$B7<>""),AW7,IF(AND($B9="",$B8<>"",$B7<>""),K$1,"")) | L7: =IF(AND($B8="",$B7<>""),AX7,IF(AND($B9="",$B8<>"",$B7<>""),L$1,"")) | M7: =IF(AND($B8="",$B7<>""),AY7,IF(AND($B9="",$B8<>"",$B7<>""),M$1,"")) | N7: =IF(AND($B8="",$B7<>""),AZ7,IF(AND($B9="",$B8<>"",$B7<>""),N$1,"")) | O7: =IF(AND($B8="",$B7<>""),BA7,IF(AND($B9="",$B8<>"",$B7<>""),O$1,"")) | ... AR7: =IF(AND($B8="",$B7<>""),CD7,IF(AND($B9="",$B8<>"",$B7<>""),AR$1,"")) | AT7: =B7 -> 2 | AU7: =IF($B7=$AT6,AU6,AT6) -> 26 | AV7: =IF(OR($B7=$AT6,$B7=$AU6),AV6,AU6) -> 32 | AW7: =IF(OR($B7=$AV6,$B7=$AT6,$B7=$AU6),AW6,AV6) -> 20 | AX7: =IF(OR($B7=$AV6,$B7=$AT6,$B7=$AU6,$B7=$AW6),AX6,AW6) -> 23 | AY7: =IF(OR($B7=$AV6,$B7=$AT6,$B7=$AU6,$B7=$AW6,$B7=$AX6),AY6,AX6) | AZ7: =IF(OR($B7=$AV6,$B7=$AT6,$B7=$AU6,$B7=$AW6,$B7=$AX6,$B7=$AY6),AZ6,AY6) | BA7: =IF(OR($B7=$AV6,$B7=$AT6,$B7=$AU6,$B7=$AW6,$B7=$AX6,$B7=$AY6,$B7=$AZ6),BA6,AZ6) | BB7: =IF(OR($B7=$AV6,$B7=$AT6,$B7=$AU6,$B7=$AW6,$B7=$AX6,$B7=$AY6,$B7=$AZ6,$B7=$BA6),BB6,BA6) | BC7: =IF(OR($B7=$AV6,$B7=$AT6,$B7=$AU6,$B7=$AW6,$B7=$AX6,$B7=$AY6,$B7=$AZ6,$B7=$BA6,$B7=$BB6),BC6,BB6) | BD7: =IF(OR($B7=$AV6,$B7=$AT6,$B7=$AU6,$B7=$AW6,$B7=$AX6,$B7=$AY6,$B7=$AZ6,$B7=$BB6,$B7=$BC6,$B7=$BA6),BD6,BC6) | BE7: =IF(OR($B7=$AV6,$B7=$AT6,$B7=$AU6,$B7=$AW6,$B7=$AX6,$B7=$AY6,$B7=$AZ6,$B7=$BB6,$B7=$BC6,$B7=$BD6,$B7=$BA6),BE6,BD6) | BF7: =IF(OR($B7=$AV6,$B7=$AT6,$B7=$AU6,$B7=$AW6,$B7=$AX6,$B7=$AY6,$B7=$AZ6,$B7=$BB6,$B7=$BC6,$B7=$BD6,$B7=$BE6,$B7=$BA6),BF6,BE6) | BG7: =IF(OR($B7=$AV6,$B7=$AT6,$B7=$AU6,$B7=$AW6,$B7=$AX6,$B7=$AY6,$B7=$AZ6,$B7=$BB6,$B7=$BC6,$B7=$BD6,$B7=$BE6,$B7=$BF6,$B7=$BA6),BG6,BF6) | BH7: =IF(OR($B7=$AV6,$B7=$AT6,$B7=$AU6,$B7=$AW6,$B7=$AX6,$B7=$AY6,$B7=$AZ6,$B7=$BB6,$B7=$BC6,$B7=$BD6,$B7=$BE6,$B7=$BF6,$B7=$BG6,$B7=$BA6),BH6,BG6) | BI7: =IF(OR($B7=$AV6,$B7=$AT6,$B7=$AU6,$B7=$AW6,$B7=$AX6,$B7=$AY6,$B7=$AZ6,$B7=$BB6,$B7=$BC6,$B7=$BD6,$B7=$BE6,$B7=$BF6,$B7=$BG6,$B7=$BH6,$B7=$BA6),BI6,BH6) | BJ7: =IF(OR($B7=$AV6,$B7=$AT6,$B7=$AU6,$B7=$AW6,$B7=$AX6,$B7=$AY6,$B7=$AZ6,$B7=$BB6,$B7=$BC6,$B7=$BD6,$B7=$BE6,$B7=$BF6,$B7=$BG6,$B7=$BH6,$B7=$BI6,$B7=$BA6),BJ6,BI6) | BK7: =IF(OR($B7=$AV6,$B7=$AT6,$B7=$AU6,$B7=$AW6,$B7=$AX6,$B7=$AY6,$B7=$AZ6,$B7=$BB6,$B7=$BC6,$B7=$BD6,$B7=$BE6,$B7=$BF6,$B7=$BG6,$B7=$BH6,$B7=$BI6,$B7=$BJ6,$B7=$BA6),BK6,BJ6) | BL7: =IF(OR($B7=$AV6,$B7=$AT6,$B7=$AU6,$B7=$AW6,$B7=$AX6,$B7=$AY6,$B7=$AZ6,$B7=$BB6,$B7=$BC6,$B7=$BD6,$B7=$BE6,$B7=$BF6,$B7=$BG6,$B7=$BH6,$B7=$BI6,$B7=$BJ6,$B7=$BK6,$B7=$BA6),BL6,BK6) | BM7: =IF(OR($B7=$AV6,$B7=$AT6,$B7=$AU6,$B7=$AW6,$B7=$AX6,$B7=$AY6,$B7=$AZ6,$B7=$BB6,$B7=$BC6,$B7=$BD6,$B7=$BE6,$B7=$BF6,$B7=$BG6,$B7=$BH6,$B7=$BI6,$B7=$BJ6,$B7=$BK6,$B7=$BL6,$B7=$BA6),BM6,BL6) | BN7: =IF(OR($B7=$AV6,$B7=$AT6,$B7=$AU6,$B7=$AW6,$B7=$AX6,$B7=$AY6,$B7=$AZ6,$B7=$BB6,$B7=$BC6,$B7=$BD6,$B7=$BE6,$B7=$BF6,$B7=$BG6,$B7=$BH6,$B7=$BI6,$B7=$BJ6,$B7=$BK6,$B7=$BL6,$B7=$BM6,$B7=$BA6),BN6,BM6) | BO7: =IF(OR($B7=$AV6,$B7=$AT6,$B7=$AU6,$B7=$AW6,$B7=$AX6,$B7=$AY6,$B7=$AZ6,$B7=$BB6,$B7=$BC6,$B7=$BD6,$B7=$BE6,$B7=$BF6,$B7=$BG6,$B7=$BH6,$B7=$BI6,$B7=$BJ6,$B7=$BK6,$B7=$BL6,$B7=$BM6,$B7=$BN6,$B7=$BA6),BO6,BN6) | BP7: =IF(OR($B7=$AV6,$B7=$AT6,$B7=$AU6,$B7=$AW6,$B7=$AX6,$B7=$AY6,$B7=$AZ6,$B7=$BB6,$B7=$BC6,$B7=$BD6,$B7=$BE6,$B7=$BF6,$B7=$BG6,$B7=$BH6,$B7=$BI6,$B7=$BJ6,$B7=$BK6,$B7=$BL6,$B7=$BM6,$B7=$BN6,$B7=$BO6,$B7=$BA6),BP6,BO6) | BQ7: =IF(OR($B7=$AV6,$B7=$AT6,$B7=$AU6,$B7=$AW6,$B7=$AX6,$B7=$AY6,$B7=$AZ6,$B7=$BB6,$B7=$BC6,$B7=$BD6,$B7=$BE6,$B7=$BF6,$B7=$BG6,$B7=$BH6,$B7=$BI6,$B7=$BJ6,$B7=$BK6,$B7=$BL6,$B7=$BM6,$B7=$BN6,$B7=$BO6,$B7=$BP6,$B7=$BA6),BQ6,BP6) | BR7: =IF(OR($B7=$AV6,$B7=$AT6,$B7=$AU6,$B7=$AW6,$B7=$AX6,$B7=$AY6,$B7=$AZ6,$B7=$BB6,$B7=$BC6,$B7=$BD6,$B7=$BE6,$B7=$BF6,$B7=$BG6,$B7=$BH6,$B7=$BI6,$B7=$BJ6,$B7=$BK6,$B7=$BL6,$B7=$BM6,$B7=$BN6,$B7=$BO6,$B7=$BP6,$B7=$BQ6,$B7=$BA6),BR6,BQ6) | BS7: =IF(OR($B7=$AV6,$B7=$AT6,$B7=$AU6,$B7=$AW6,$B7=$AX6,$B7=$AY6,$B7=$AZ6,$B7=$BB6,$B7=$BC6,$B7=$BD6,$B7=$BE6,$B7=$BF6,$B7=$BG6,$B7=$BH6,$B7=$BI6,$B7=$BJ6,$B7=$BK6,$B7=$BL6,$B7=$BM6,$B7=$BN6,$B7=$BO6,$B7=$BP6,$B7=$BQ6,$B7=$BR6,$B7=$BA6),BS6,BR6) | BT7: =IF(OR($B7=$AV6,$B7=$AT6,$B7=$AU6,$B7=$AW6,$B7=$AX6,$B7=$AY6,$B7=$AZ6,$B7=$BB6,$B7=$BC6,$B7=$BD6,$B7=$BE6,$B7=$BF6,$B7=$BG6,$B7=$BH6,$B7=$BI6,$B7=$BJ6,$B7=$BK6,$B7=$BL6,$B7=$BM6,$B7=$BN6,$B7=$BO6,$B7=$BP6,$B7=$BQ6,$B7=$BR6,$B7=$BS6,$B7=$BA6),BT6,BS6) | BU7: =IF(OR($B7=$AV6,$B7=$AT6,$B7=$AU6,$B7=$AW6,$B7=$AX6,$B7=$AY6,$B7=$AZ6,$B7=$BB6,$B7=$BC6,$B7=$BD6,$B7=$BE6,$B7=$BF6,$B7=$BG6,$B7=$BH6,$B7=$BI6,$B7=$BJ6,$B7=$BK6,$B7=$BL6,$B7=$BM6,$B7=$BN6,$B7=$BO6,$B7=$BP6,$B7=$BQ6,$B7=$BR6,$B7=$BS6,$B7=$BT6,$B7=$BA6),BU6,BT6) | BV7: =IF(OR($B7=$AV6,$B7=$AT6,$B7=$AU6,$B7=$AW6,$B7=$AX6,$B7=$AY6,$B7=$AZ6,$B7=$BB6,$B7=$BC6,$B7=$BD6,$B7=$BE6,$B7=$BF6,$B7=$BG6,$B7=$BH6,$B7=$BI6,$B7=$BJ6,$B7=$BK6,$B7=$BL6,$B7=$BM6,$B7=$BN6,$B7=$BO6,$B7=$BP6,$B7=$BQ6,$B7=$BR6,$B7=$BS6,$B7=$BT6,$B7=$BU6,$B7=$BA6),BV6,BU6) | BW7: =IF(OR($B7=$AV6,$B7=$AT6,$B7=$AU6,$B7=$AW6,$B7=$AX6,$B7=$AY6,$B7=$AZ6,$B7=$BB6,$B7=$BC6,$B7=$BD6,$B7=$BE6,$B7=$BF6,$B7=$BG6,$B7=$BH6,$B7=$BI6,$B7=$BJ6,$B7=$BK6,$B7=$BL6,$B7=$BM6,$B7=$BN6,$B7=$BO6,$B7=$BP6,$B7=$BQ6,$B7=$BR6,$B7=$BS6,$B7=$BT6,$B7=$BU6,$B7=$BV6,$B7=$BA6),BW6,BV6) | BX7: =IF(OR($B7=$AV6,$B7=$AT6,$B7=$AU6,$B7=$AW6,$B7=$AX6,$B7=$AY6,$B7=$AZ6,$B7=$BB6,$B7=$BC6,$B7=$BD6,$B7=$BE6,$B7=$BF6,$B7=$BG6,$B7=$BH6,$B7=$BI6,$B7=$BJ6,$B7=$BK6,$B7=$BL6,$B7=$BM6,$B7=$BN6,$B7=$BO6,$B7=$BP6,$B7=$BQ6,$B7=$BR6,$B7=$BS6,$B7=$BT6,$B7=$BU6,$B7=$BV6,$B7=$BW6,$B7=$BA6),BX6,BW6) | BY7: =IF(OR($B7=$AV6,$B7=$AT6,$B7=$AU6,$B7=$AW6,$B7=$AX6,$B7=$AY6,$B7=$AZ6,$B7=$BB6,$B7=$BC6,$B7=$BD6,$B7=$BE6,$B7=$BF6,$B7=$BG6,$B7=$BH6,$B7=$BI6,$B7=$BJ6,$B7=$BK6,$B7=$BL6,$B7=$BM6,$B7=$BN6,$B7=$BO6,$B7=$BP6,$B7=$BQ6,$B7=$BR6,$B7=$BS6,$B7=$BT6,$B7=$BU6,$B7=$BV6,$B7=$BW6,$B7=$BX6,$B7=$BA6),BY6,BX6) | BZ7: =IF(OR($B7=$AV6,$B7=$AT6,$B7=$AU6,$B7=$AW6,$B7=$AX6,$B7=$AY6,$B7=$AZ6,$B7=$BB6,$B7=$BC6,$B7=$BD6,$B7=$BE6,$B7=$BF6,$B7=$BG6,$B7=$BH6,$B7=$BI6,$B7=$BJ6,$B7=$BK6,$B7=$BL6,$B7=$BM6,$B7=$BN6,$B7=$BO6,$B7=$BP6,$B7=$BQ6,$B7=$BR6,$B7=$BS6,$B7=$BT6,$B7=$BU6,$B7=$BV6,$B7=$BW6,$B7=$BX6,$B7=$BY6,$B7=$BA6),BZ6,BY6) | CA7: =IF(OR($B7=$AV6,$B7=$AT6,$B7=$AU6,$B7=$AW6,$B7=$AX6,$B7=$AY6,$B7=$AZ6,$B7=$BB6,$B7=$BC6,$B7=$BD6,$B7=$BE6,$B7=$BF6,$B7=$BG6,$B7=$BH6,$B7=$BI6,$B7=$BJ6,$B7=$BK6,$B7=$BL6,$B7=$BM6,$B7=$BN6,$B7=$BO6,$B7=$BP6,$B7=$BQ6,$B7=$BR6,$B7=$BS6,$B7=$BT6,$B7=$BU6,$B7=$BV6,$B7=$BW6,$B7=$BX6,$B7=$BY6,$B7=$BZ6,$B7=$BA6),CA6,BZ6) | CB7: =IF(OR($B7=$AV6,$B7=$AT6,$B7=$AU6,$B7=$AW6,$B7=$AX6,$B7=$AY6,$B7=$AZ6,$B7=$BB6,$B7=$BC6,$B7=$BD6,$B7=$BE6,$B7=$BF6,$B7=$BG6,$B7=$BH6,$B7=$BI6,$B7=$BJ6,$B7=$BK6,$B7=$BL6,$B7=$BM6,$B7=$BN6,$B7=$BO6,$B7=$BP6,$B7=$BQ6,$B7=$BR6,$B7=$BS6,$B7=$BT6,$B7=$BU6,$B7=$BV6,$B7=$BW6,$B7=$BX6,$B7=$BY6,$B7=$BZ6,$B7=$CA6,$B7=$BA6),CB6,CA6) | CC7: =IF(OR($B7=$AV6,$B7=$AT6,$B7=$AU6,$B7=$AW6,$B7=$AX6,$B7=$AY6,$B7=$AZ6,$B7=$BB6,$B7=$BC6,$B7=$BD6,$B7=$BE6,$B7=$BF6,$B7=$BG6,$B7=$BH6,$B7=$BI6,$B7=$BJ6,$B7=$BK6,$B7=$BL6,$B7=$BM6,$B7=$BN6,$B7=$BO6,$B7=$BP6,$B7=$BQ6,$B7=$BR6,$B7=$BS6,$B7=$BT6,$B7=$BU6,$B7=$BV6,$B7=$BW6,$B7=$BX6,$B7=$BY6,$B7=$BZ6,$B7=$CA6,$B7=$CB6,$B7=$BA6),CC6,CB6) | CD7: =IF(OR($B7=$AV6,$B7=$AT6,$B7=$AU6,$B7=$AW6,$B7=$AX6,$B7=$AY6,$B7=$AZ6,$B7=$BB6,$B7=$BC6,$B7=$BD6,$B7=$BE6,$B7=$BF6,$B7=$BG6,$B7=$BH6,$B7=$BI6,$B7=$BJ6,$B7=$BK6,$B7=$BL6,$B7=$BM6,$B7=$BN6,$B7=$BO6,$B7=$BP6,$B7=$BQ6,$B7=$BR6,$B7=$BS6,$B7=$BT6,$B7=$BU6,$B7=$BV6,$B7=$BW6,$B7=$BX6,$B7=$BY6,$B7=$BZ6,$B7=$CA6,$B7=$CB6,$B7=$CC6,$B7=$BA6),CD6,CC6) | CH7: =IF(AND(CH6="",$B7<>CH$1),"",IF($C7<CH6,CH6,IF($B7=CH$1,1,1+CH6))) | CI7: =IF(AND(CI6="",$B7<>CI$1),"",IF($C7<CI6,CI6,IF($B7=CI$1,1,1+CI6))) -> 1 | CJ7: =IF(AND(CJ6="",$B7<>CJ$1),"",IF($C7<CJ6,CJ6,IF($B7=CJ$1,1,1+CJ6))) | CK7: =IF(AND(CK6="",$B7<>CK$1),"",IF($C7<CK6,CK6,IF($B7=CK$1,1,1+CK6))) | CL7: =IF(AND(CL6="",$B7<>CL$1),"",IF($C7<CL6,CL6,IF($B7=CL$1,1,1+CL6))) | CM7: =IF(AND(CM6="",$B7<>CM$1),"",IF($C7<CM6,CM6,IF($B7=CM$1,1,1+CM6))) | CN7: =IF(AND(CN6="",$B7<>CN$1),"",IF($C7<CN6,CN6,IF($B7=CN$1,1,1+CN6))) | CO7: =IF(AND(CO6="",$B7<>CO$1),"",IF($C7<CO6,CO6,IF($B7=CO$1,1,1+CO6))) | ... DR7: =IF(AND(DR6="",$B7<>DR$1),"",IF($C7<DR6,DR6,IF($B7=DR$1,1,1+DR6)))
A8: 7 | B8: =Drogan!E9 -> 21 | C8: =IF(B8="","",LOOKUP(B8,$CH$1:$DR$1,CH7:DR7)) | G8: =IF(AND($B9="",$B8<>""),"Nrs",IF(AND($B10="",$B9<>"",$B8<>""),G$1,"")) | H8: =IF(AND($B9="",$B8<>""),AT8,IF(AND($B10="",$B9<>"",$B8<>""),H$1,"")) | I8: =IF(AND($B9="",$B8<>""),AU8,IF(AND($B10="",$B9<>"",$B8<>""),I$1,"")) | J8: =IF(AND($B9="",$B8<>""),AV8,IF(AND($B10="",$B9<>"",$B8<>""),J$1,"")) | K8: =IF(AND($B9="",$B8<>""),AW8,IF(AND($B10="",$B9<>"",$B8<>""),K$1,"")) | L8: =IF(AND($B9="",$B8<>""),AX8,IF(AND($B10="",$B9<>"",$B8<>""),L$1,"")) | M8: =IF(AND($B9="",$B8<>""),AY8,IF(AND($B10="",$B9<>"",$B8<>""),M$1,"")) | N8: =IF(AND($B9="",$B8<>""),AZ8,IF(AND($B10="",$B9<>"",$B8<>""),N$1,"")) | O8: =IF(AND($B9="",$B8<>""),BA8,IF(AND($B10="",$B9<>"",$B8<>""),O$1,"")) | ... AR8: =IF(AND($B9="",$B8<>""),CD8,IF(AND($B10="",$B9<>"",$B8<>""),AR$1,"")) | AT8: =B8 -> 21 | AU8: =IF($B8=$AT7,AU7,AT7) -> 2 | AV8: =IF(OR($B8=$AT7,$B8=$AU7),AV7,AU7) -> 26 | AW8: =IF(OR($B8=$AV7,$B8=$AT7,$B8=$AU7),AW7,AV7) -> 32 | AX8: =IF(OR($B8=$AV7,$B8=$AT7,$B8=$AU7,$B8=$AW7),AX7,AW7) -> 20 | AY8: =IF(OR($B8=$AV7,$B8=$AT7,$B8=$AU7,$B8=$AW7,$B8=$AX7),AY7,AX7) -> 23 | AZ8: =IF(OR($B8=$AV7,$B8=$AT7,$B8=$AU7,$B8=$AW7,$B8=$AX7,$B8=$AY7),AZ7,AY7) | BA8: =IF(OR($B8=$AV7,$B8=$AT7,$B8=$AU7,$B8=$AW7,$B8=$AX7,$B8=$AY7,$B8=$AZ7),BA7,AZ7) | BB8: =IF(OR($B8=$AV7,$B8=$AT7,$B8=$AU7,$B8=$AW7,$B8=$AX7,$B8=$AY7,$B8=$AZ7,$B8=$BA7),BB7,BA7) | BC8: =IF(OR($B8=$AV7,$B8=$AT7,$B8=$AU7,$B8=$AW7,$B8=$AX7,$B8=$AY7,$B8=$AZ7,$B8=$BA7,$B8=$BB7),BC7,BB7) | BD8: =IF(OR($B8=$AV7,$B8=$AT7,$B8=$AU7,$B8=$AW7,$B8=$AX7,$B8=$AY7,$B8=$AZ7,$B8=$BB7,$B8=$BC7,$B8=$BA7),BD7,BC7) | BE8: =IF(OR($B8=$AV7,$B8=$AT7,$B8=$AU7,$B8=$AW7,$B8=$AX7,$B8=$AY7,$B8=$AZ7,$B8=$BB7,$B8=$BC7,$B8=$BD7,$B8=$BA7),BE7,BD7) | BF8: =IF(OR($B8=$AV7,$B8=$AT7,$B8=$AU7,$B8=$AW7,$B8=$AX7,$B8=$AY7,$B8=$AZ7,$B8=$BB7,$B8=$BC7,$B8=$BD7,$B8=$BE7,$B8=$BA7),BF7,BE7) | BG8: =IF(OR($B8=$AV7,$B8=$AT7,$B8=$AU7,$B8=$AW7,$B8=$AX7,$B8=$AY7,$B8=$AZ7,$B8=$BB7,$B8=$BC7,$B8=$BD7,$B8=$BE7,$B8=$BF7,$B8=$BA7),BG7,BF7) | BH8: =IF(OR($B8=$AV7,$B8=$AT7,$B8=$AU7,$B8=$AW7,$B8=$AX7,$B8=$AY7,$B8=$AZ7,$B8=$BB7,$B8=$BC7,$B8=$BD7,$B8=$BE7,$B8=$BF7,$B8=$BG7,$B8=$BA7),BH7,BG7) | BI8: =IF(OR($B8=$AV7,$B8=$AT7,$B8=$AU7,$B8=$AW7,$B8=$AX7,$B8=$AY7,$B8=$AZ7,$B8=$BB7,$B8=$BC7,$B8=$BD7,$B8=$BE7,$B8=$BF7,$B8=$BG7,$B8=$BH7,$B8=$BA7),BI7,BH7) | BJ8: =IF(OR($B8=$AV7,$B8=$AT7,$B8=$AU7,$B8=$AW7,$B8=$AX7,$B8=$AY7,$B8=$AZ7,$B8=$BB7,$B8=$BC7,$B8=$BD7,$B8=$BE7,$B8=$BF7,$B8=$BG7,$B8=$BH7,$B8=$BI7,$B8=$BA7),BJ7,BI7) | BK8: =IF(OR($B8=$AV7,$B8=$AT7,$B8=$AU7,$B8=$AW7,$B8=$AX7,$B8=$AY7,$B8=$AZ7,$B8=$BB7,$B8=$BC7,$B8=$BD7,$B8=$BE7,$B8=$BF7,$B8=$BG7,$B8=$BH7,$B8=$BI7,$B8=$BJ7,$B8=$BA7),BK7,BJ7) | BL8: =IF(OR($B8=$AV7,$B8=$AT7,$B8=$AU7,$B8=$AW7,$B8=$AX7,$B8=$AY7,$B8=$AZ7,$B8=$BB7,$B8=$BC7,$B8=$BD7,$B8=$BE7,$B8=$BF7,$B8=$BG7,$B8=$BH7,$B8=$BI7,$B8=$BJ7,$B8=$BK7,$B8=$BA7),BL7,BK7) | BM8: =IF(OR($B8=$AV7,$B8=$AT7,$B8=$AU7,$B8=$AW7,$B8=$AX7,$B8=$AY7,$B8=$AZ7,$B8=$BB7,$B8=$BC7,$B8=$BD7,$B8=$BE7,$B8=$BF7,$B8=$BG7,$B8=$BH7,$B8=$BI7,$B8=$BJ7,$B8=$BK7,$B8=$BL7,$B8=$BA7),BM7,BL7) | BN8: =IF(OR($B8=$AV7,$B8=$AT7,$B8=$AU7,$B8=$AW7,$B8=$AX7,$B8=$AY7,$B8=$AZ7,$B8=$BB7,$B8=$BC7,$B8=$BD7,$B8=$BE7,$B8=$BF7,$B8=$BG7,$B8=$BH7,$B8=$BI7,$B8=$BJ7,$B8=$BK7,$B8=$BL7,$B8=$BM7,$B8=$BA7),BN7,BM7) | BO8: =IF(OR($B8=$AV7,$B8=$AT7,$B8=$AU7,$B8=$AW7,$B8=$AX7,$B8=$AY7,$B8=$AZ7,$B8=$BB7,$B8=$BC7,$B8=$BD7,$B8=$BE7,$B8=$BF7,$B8=$BG7,$B8=$BH7,$B8=$BI7,$B8=$BJ7,$B8=$BK7,$B8=$BL7,$B8=$BM7,$B8=$BN7,$B8=$BA7),BO7,BN7) | BP8: =IF(OR($B8=$AV7,$B8=$AT7,$B8=$AU7,$B8=$AW7,$B8=$AX7,$B8=$AY7,$B8=$AZ7,$B8=$BB7,$B8=$BC7,$B8=$BD7,$B8=$BE7,$B8=$BF7,$B8=$BG7,$B8=$BH7,$B8=$BI7,$B8=$BJ7,$B8=$BK7,$B8=$BL7,$B8=$BM7,$B8=$BN7,$B8=$BO7,$B8=$BA7),BP7,BO7) | BQ8: =IF(OR($B8=$AV7,$B8=$AT7,$B8=$AU7,$B8=$AW7,$B8=$AX7,$B8=$AY7,$B8=$AZ7,$B8=$BB7,$B8=$BC7,$B8=$BD7,$B8=$BE7,$B8=$BF7,$B8=$BG7,$B8=$BH7,$B8=$BI7,$B8=$BJ7,$B8=$BK7,$B8=$BL7,$B8=$BM7,$B8=$BN7,$B8=$BO7,$B8=$BP7,$B8=$BA7),BQ7,BP7) | BR8: =IF(OR($B8=$AV7,$B8=$AT7,$B8=$AU7,$B8=$AW7,$B8=$AX7,$B8=$AY7,$B8=$AZ7,$B8=$BB7,$B8=$BC7,$B8=$BD7,$B8=$BE7,$B8=$BF7,$B8=$BG7,$B8=$BH7,$B8=$BI7,$B8=$BJ7,$B8=$BK7,$B8=$BL7,$B8=$BM7,$B8=$BN7,$B8=$BO7,$B8=$BP7,$B8=$BQ7,$B8=$BA7),BR7,BQ7) | BS8: =IF(OR($B8=$AV7,$B8=$AT7,$B8=$AU7,$B8=$AW7,$B8=$AX7,$B8=$AY7,$B8=$AZ7,$B8=$BB7,$B8=$BC7,$B8=$BD7,$B8=$BE7,$B8=$BF7,$B8=$BG7,$B8=$BH7,$B8=$BI7,$B8=$BJ7,$B8=$BK7,$B8=$BL7,$B8=$BM7,$B8=$BN7,$B8=$BO7,$B8=$BP7,$B8=$BQ7,$B8=$BR7,$B8=$BA7),BS7,BR7) | BT8: =IF(OR($B8=$AV7,$B8=$AT7,$B8=$AU7,$B8=$AW7,$B8=$AX7,$B8=$AY7,$B8=$AZ7,$B8=$BB7,$B8=$BC7,$B8=$BD7,$B8=$BE7,$B8=$BF7,$B8=$BG7,$B8=$BH7,$B8=$BI7,$B8=$BJ7,$B8=$BK7,$B8=$BL7,$B8=$BM7,$B8=$BN7,$B8=$BO7,$B8=$BP7,$B8=$BQ7,$B8=$BR7,$B8=$BS7,$B8=$BA7),BT7,BS7) | BU8: =IF(OR($B8=$AV7,$B8=$AT7,$B8=$AU7,$B8=$AW7,$B8=$AX7,$B8=$AY7,$B8=$AZ7,$B8=$BB7,$B8=$BC7,$B8=$BD7,$B8=$BE7,$B8=$BF7,$B8=$BG7,$B8=$BH7,$B8=$BI7,$B8=$BJ7,$B8=$BK7,$B8=$BL7,$B8=$BM7,$B8=$BN7,$B8=$BO7,$B8=$BP7,$B8=$BQ7,$B8=$BR7,$B8=$BS7,$B8=$BT7,$B8=$BA7),BU7,BT7) | BV8: =IF(OR($B8=$AV7,$B8=$AT7,$B8=$AU7,$B8=$AW7,$B8=$AX7,$B8=$AY7,$B8=$AZ7,$B8=$BB7,$B8=$BC7,$B8=$BD7,$B8=$BE7,$B8=$BF7,$B8=$BG7,$B8=$BH7,$B8=$BI7,$B8=$BJ7,$B8=$BK7,$B8=$BL7,$B8=$BM7,$B8=$BN7,$B8=$BO7,$B8=$BP7,$B8=$BQ7,$B8=$BR7,$B8=$BS7,$B8=$BT7,$B8=$BU7,$B8=$BA7),BV7,BU7) | BW8: =IF(OR($B8=$AV7,$B8=$AT7,$B8=$AU7,$B8=$AW7,$B8=$AX7,$B8=$AY7,$B8=$AZ7,$B8=$BB7,$B8=$BC7,$B8=$BD7,$B8=$BE7,$B8=$BF7,$B8=$BG7,$B8=$BH7,$B8=$BI7,$B8=$BJ7,$B8=$BK7,$B8=$BL7,$B8=$BM7,$B8=$BN7,$B8=$BO7,$B8=$BP7,$B8=$BQ7,$B8=$BR7,$B8=$BS7,$B8=$BT7,$B8=$BU7,$B8=$BV7,$B8=$BA7),BW7,BV7) | BX8: =IF(OR($B8=$AV7,$B8=$AT7,$B8=$AU7,$B8=$AW7,$B8=$AX7,$B8=$AY7,$B8=$AZ7,$B8=$BB7,$B8=$BC7,$B8=$BD7,$B8=$BE7,$B8=$BF7,$B8=$BG7,$B8=$BH7,$B8=$BI7,$B8=$BJ7,$B8=$BK7,$B8=$BL7,$B8=$BM7,$B8=$BN7,$B8=$BO7,$B8=$BP7,$B8=$BQ7,$B8=$BR7,$B8=$BS7,$B8=$BT7,$B8=$BU7,$B8=$BV7,$B8=$BW7,$B8=$BA7),BX7,BW7) | BY8: =IF(OR($B8=$AV7,$B8=$AT7,$B8=$AU7,$B8=$AW7,$B8=$AX7,$B8=$AY7,$B8=$AZ7,$B8=$BB7,$B8=$BC7,$B8=$BD7,$B8=$BE7,$B8=$BF7,$B8=$BG7,$B8=$BH7,$B8=$BI7,$B8=$BJ7,$B8=$BK7,$B8=$BL7,$B8=$BM7,$B8=$BN7,$B8=$BO7,$B8=$BP7,$B8=$BQ7,$B8=$BR7,$B8=$BS7,$B8=$BT7,$B8=$BU7,$B8=$BV7,$B8=$BW7,$B8=$BX7,$B8=$BA7),BY7,BX7) | BZ8: =IF(OR($B8=$AV7,$B8=$AT7,$B8=$AU7,$B8=$AW7,$B8=$AX7,$B8=$AY7,$B8=$AZ7,$B8=$BB7,$B8=$BC7,$B8=$BD7,$B8=$BE7,$B8=$BF7,$B8=$BG7,$B8=$BH7,$B8=$BI7,$B8=$BJ7,$B8=$BK7,$B8=$BL7,$B8=$BM7,$B8=$BN7,$B8=$BO7,$B8=$BP7,$B8=$BQ7,$B8=$BR7,$B8=$BS7,$B8=$BT7,$B8=$BU7,$B8=$BV7,$B8=$BW7,$B8=$BX7,$B8=$BY7,$B8=$BA7),BZ7,BY7) | CA8: =IF(OR($B8=$AV7,$B8=$AT7,$B8=$AU7,$B8=$AW7,$B8=$AX7,$B8=$AY7,$B8=$AZ7,$B8=$BB7,$B8=$BC7,$B8=$BD7,$B8=$BE7,$B8=$BF7,$B8=$BG7,$B8=$BH7,$B8=$BI7,$B8=$BJ7,$B8=$BK7,$B8=$BL7,$B8=$BM7,$B8=$BN7,$B8=$BO7,$B8=$BP7,$B8=$BQ7,$B8=$BR7,$B8=$BS7,$B8=$BT7,$B8=$BU7,$B8=$BV7,$B8=$BW7,$B8=$BX7,$B8=$BY7,$B8=$BZ7,$B8=$BA7),CA7,BZ7) | CB8: =IF(OR($B8=$AV7,$B8=$AT7,$B8=$AU7,$B8=$AW7,$B8=$AX7,$B8=$AY7,$B8=$AZ7,$B8=$BB7,$B8=$BC7,$B8=$BD7,$B8=$BE7,$B8=$BF7,$B8=$BG7,$B8=$BH7,$B8=$BI7,$B8=$BJ7,$B8=$BK7,$B8=$BL7,$B8=$BM7,$B8=$BN7,$B8=$BO7,$B8=$BP7,$B8=$BQ7,$B8=$BR7,$B8=$BS7,$B8=$BT7,$B8=$BU7,$B8=$BV7,$B8=$BW7,$B8=$BX7,$B8=$BY7,$B8=$BZ7,$B8=$CA7,$B8=$BA7),CB7,CA7) | CC8: =IF(OR($B8=$AV7,$B8=$AT7,$B8=$AU7,$B8=$AW7,$B8=$AX7,$B8=$AY7,$B8=$AZ7,$B8=$BB7,$B8=$BC7,$B8=$BD7,$B8=$BE7,$B8=$BF7,$B8=$BG7,$B8=$BH7,$B8=$BI7,$B8=$BJ7,$B8=$BK7,$B8=$BL7,$B8=$BM7,$B8=$BN7,$B8=$BO7,$B8=$BP7,$B8=$BQ7,$B8=$BR7,$B8=$BS7,$B8=$BT7,$B8=$BU7,$B8=$BV7,$B8=$BW7,$B8=$BX7,$B8=$BY7,$B8=$BZ7,$B8=$CA7,$B8=$CB7,$B8=$BA7),CC7,CB7) | CD8: =IF(OR($B8=$AV7,$B8=$AT7,$B8=$AU7,$B8=$AW7,$B8=$AX7,$B8=$AY7,$B8=$AZ7,$B8=$BB7,$B8=$BC7,$B8=$BD7,$B8=$BE7,$B8=$BF7,$B8=$BG7,$B8=$BH7,$B8=$BI7,$B8=$BJ7,$B8=$BK7,$B8=$BL7,$B8=$BM7,$B8=$BN7,$B8=$BO7,$B8=$BP7,$B8=$BQ7,$B8=$BR7,$B8=$BS7,$B8=$BT7,$B8=$BU7,$B8=$BV7,$B8=$BW7,$B8=$BX7,$B8=$BY7,$B8=$BZ7,$B8=$CA7,$B8=$CB7,$B8=$CC7,$B8=$BA7),CD7,CC7) | CH8: =IF(AND(CH7="",$B8<>CH$1),"",IF($C8<CH7,CH7,IF($B8=CH$1,1,1+CH7))) | CI8: =IF(AND(CI7="",$B8<>CI$1),"",IF($C8<CI7,CI7,IF($B8=CI$1,1,1+CI7))) -> 2 | CJ8: =IF(AND(CJ7="",$B8<>CJ$1),"",IF($C8<CJ7,CJ7,IF($B8=CJ$1,1,1+CJ7))) | CK8: =IF(AND(CK7="",$B8<>CK$1),"",IF($C8<CK7,CK7,IF($B8=CK$1,1,1+CK7))) | CL8: =IF(AND(CL7="",$B8<>CL$1),"",IF($C8<CL7,CL7,IF($B8=CL$1,1,1+CL7))) | CM8: =IF(AND(CM7="",$B8<>CM$1),"",IF($C8<CM7,CM7,IF($B8=CM$1,1,1+CM7))) | CN8: =IF(AND(CN7="",$B8<>CN$1),"",IF($C8<CN7,CN7,IF($B8=CN$1,1,1+CN7))) | CO8: =IF(AND(CO7="",$B8<>CO$1),"",IF($C8<CO7,CO7,IF($B8=CO$1,1,1+CO7))) | ... DR8: =IF(AND(DR7="",$B8<>DR$1),"",IF($C8<DR7,DR7,IF($B8=DR$1,1,1+DR7)))
A9: 8 | B9: =Drogan!E10 -> 36 | C9: =IF(B9="","",LOOKUP(B9,$CH$1:$DR$1,CH8:DR8)) | G9: =IF(AND($B10="",$B9<>""),"Nrs",IF(AND($B11="",$B10<>"",$B9<>""),G$1,"")) | H9: =IF(AND($B10="",$B9<>""),AT9,IF(AND($B11="",$B10<>"",$B9<>""),H$1,"")) | I9: =IF(AND($B10="",$B9<>""),AU9,IF(AND($B11="",$B10<>"",$B9<>""),I$1,"")) | J9: =IF(AND($B10="",$B9<>""),AV9,IF(AND($B11="",$B10<>"",$B9<>""),J$1,"")) | K9: =IF(AND($B10="",$B9<>""),AW9,IF(AND($B11="",$B10<>"",$B9<>""),K$1,"")) | L9: =IF(AND($B10="",$B9<>""),AX9,IF(AND($B11="",$B10<>"",$B9<>""),L$1,"")) | M9: =IF(AND($B10="",$B9<>""),AY9,IF(AND($B11="",$B10<>"",$B9<>""),M$1,"")) | N9: =IF(AND($B10="",$B9<>""),AZ9,IF(AND($B11="",$B10<>"",$B9<>""),N$1,"")) | O9: =IF(AND($B10="",$B9<>""),BA9,IF(AND($B11="",$B10<>"",$B9<>""),O$1,"")) | ... AR9: =IF(AND($B10="",$B9<>""),CD9,IF(AND($B11="",$B10<>"",$B9<>""),AR$1,"")) | AT9: =B9 -> 36 | AU9: =IF($B9=$AT8,AU8,AT8) -> 21 | AV9: =IF(OR($B9=$AT8,$B9=$AU8),AV8,AU8) -> 2 | AW9: =IF(OR($B9=$AV8,$B9=$AT8,$B9=$AU8),AW8,AV8) -> 26 | AX9: =IF(OR($B9=$AV8,$B9=$AT8,$B9=$AU8,$B9=$AW8),AX8,AW8) -> 32 | AY9: =IF(OR($B9=$AV8,$B9=$AT8,$B9=$AU8,$B9=$AW8,$B9=$AX8),AY8,AX8) -> 20 | AZ9: =IF(OR($B9=$AV8,$B9=$AT8,$B9=$AU8,$B9=$AW8,$B9=$AX8,$B9=$AY8),AZ8,AY8) -> 23 | BA9: =IF(OR($B9=$AV8,$B9=$AT8,$B9=$AU8,$B9=$AW8,$B9=$AX8,$B9=$AY8,$B9=$AZ8),BA8,AZ8) | BB9: =IF(OR($B9=$AV8,$B9=$AT8,$B9=$AU8,$B9=$AW8,$B9=$AX8,$B9=$AY8,$B9=$AZ8,$B9=$BA8),BB8,BA8) | BC9: =IF(OR($B9=$AV8,$B9=$AT8,$B9=$AU8,$B9=$AW8,$B9=$AX8,$B9=$AY8,$B9=$AZ8,$B9=$BA8,$B9=$BB8),BC8,BB8) | BD9: =IF(OR($B9=$AV8,$B9=$AT8,$B9=$AU8,$B9=$AW8,$B9=$AX8,$B9=$AY8,$B9=$AZ8,$B9=$BB8,$B9=$BC8,$B9=$BA8),BD8,BC8) | BE9: =IF(OR($B9=$AV8,$B9=$AT8,$B9=$AU8,$B9=$AW8,$B9=$AX8,$B9=$AY8,$B9=$AZ8,$B9=$BB8,$B9=$BC8,$B9=$BD8,$B9=$BA8),BE8,BD8) | BF9: =IF(OR($B9=$AV8,$B9=$AT8,$B9=$AU8,$B9=$AW8,$B9=$AX8,$B9=$AY8,$B9=$AZ8,$B9=$BB8,$B9=$BC8,$B9=$BD8,$B9=$BE8,$B9=$BA8),BF8,BE8) | BG9: =IF(OR($B9=$AV8,$B9=$AT8,$B9=$AU8,$B9=$AW8,$B9=$AX8,$B9=$AY8,$B9=$AZ8,$B9=$BB8,$B9=$BC8,$B9=$BD8,$B9=$BE8,$B9=$BF8,$B9=$BA8),BG8,BF8) | BH9: =IF(OR($B9=$AV8,$B9=$AT8,$B9=$AU8,$B9=$AW8,$B9=$AX8,$B9=$AY8,$B9=$AZ8,$B9=$BB8,$B9=$BC8,$B9=$BD8,$B9=$BE8,$B9=$BF8,$B9=$BG8,$B9=$BA8),BH8,BG8) | BI9: =IF(OR($B9=$AV8,$B9=$AT8,$B9=$AU8,$B9=$AW8,$B9=$AX8,$B9=$AY8,$B9=$AZ8,$B9=$BB8,$B9=$BC8,$B9=$BD8,$B9=$BE8,$B9=$BF8,$B9=$BG8,$B9=$BH8,$B9=$BA8),BI8,BH8) | BJ9: =IF(OR($B9=$AV8,$B9=$AT8,$B9=$AU8,$B9=$AW8,$B9=$AX8,$B9=$AY8,$B9=$AZ8,$B9=$BB8,$B9=$BC8,$B9=$BD8,$B9=$BE8,$B9=$BF8,$B9=$BG8,$B9=$BH8,$B9=$BI8,$B9=$BA8),BJ8,BI8) | BK9: =IF(OR($B9=$AV8,$B9=$AT8,$B9=$AU8,$B9=$AW8,$B9=$AX8,$B9=$AY8,$B9=$AZ8,$B9=$BB8,$B9=$BC8,$B9=$BD8,$B9=$BE8,$B9=$BF8,$B9=$BG8,$B9=$BH8,$B9=$BI8,$B9=$BJ8,$B9=$BA8),BK8,BJ8) | BL9: =IF(OR($B9=$AV8,$B9=$AT8,$B9=$AU8,$B9=$AW8,$B9=$AX8,$B9=$AY8,$B9=$AZ8,$B9=$BB8,$B9=$BC8,$B9=$BD8,$B9=$BE8,$B9=$BF8,$B9=$BG8,$B9=$BH8,$B9=$BI8,$B9=$BJ8,$B9=$BK8,$B9=$BA8),BL8,BK8) | BM9: =IF(OR($B9=$AV8,$B9=$AT8,$B9=$AU8,$B9=$AW8,$B9=$AX8,$B9=$AY8,$B9=$AZ8,$B9=$BB8,$B9=$BC8,$B9=$BD8,$B9=$BE8,$B9=$BF8,$B9=$BG8,$B9=$BH8,$B9=$BI8,$B9=$BJ8,$B9=$BK8,$B9=$BL8,$B9=$BA8),BM8,BL8) | BN9: =IF(OR($B9=$AV8,$B9=$AT8,$B9=$AU8,$B9=$AW8,$B9=$AX8,$B9=$AY8,$B9=$AZ8,$B9=$BB8,$B9=$BC8,$B9=$BD8,$B9=$BE8,$B9=$BF8,$B9=$BG8,$B9=$BH8,$B9=$BI8,$B9=$BJ8,$B9=$BK8,$B9=$BL8,$B9=$BM8,$B9=$BA8),BN8,BM8) | BO9: =IF(OR($B9=$AV8,$B9=$AT8,$B9=$AU8,$B9=$AW8,$B9=$AX8,$B9=$AY8,$B9=$AZ8,$B9=$BB8,$B9=$BC8,$B9=$BD8,$B9=$BE8,$B9=$BF8,$B9=$BG8,$B9=$BH8,$B9=$BI8,$B9=$BJ8,$B9=$BK8,$B9=$BL8,$B9=$BM8,$B9=$BN8,$B9=$BA8),BO8,BN8) | BP9: =IF(OR($B9=$AV8,$B9=$AT8,$B9=$AU8,$B9=$AW8,$B9=$AX8,$B9=$AY8,$B9=$AZ8,$B9=$BB8,$B9=$BC8,$B9=$BD8,$B9=$BE8,$B9=$BF8,$B9=$BG8,$B9=$BH8,$B9=$BI8,$B9=$BJ8,$B9=$BK8,$B9=$BL8,$B9=$BM8,$B9=$BN8,$B9=$BO8,$B9=$BA8),BP8,BO8) | BQ9: =IF(OR($B9=$AV8,$B9=$AT8,$B9=$AU8,$B9=$AW8,$B9=$AX8,$B9=$AY8,$B9=$AZ8,$B9=$BB8,$B9=$BC8,$B9=$BD8,$B9=$BE8,$B9=$BF8,$B9=$BG8,$B9=$BH8,$B9=$BI8,$B9=$BJ8,$B9=$BK8,$B9=$BL8,$B9=$BM8,$B9=$BN8,$B9=$BO8,$B9=$BP8,$B9=$BA8),BQ8,BP8) | BR9: =IF(OR($B9=$AV8,$B9=$AT8,$B9=$AU8,$B9=$AW8,$B9=$AX8,$B9=$AY8,$B9=$AZ8,$B9=$BB8,$B9=$BC8,$B9=$BD8,$B9=$BE8,$B9=$BF8,$B9=$BG8,$B9=$BH8,$B9=$BI8,$B9=$BJ8,$B9=$BK8,$B9=$BL8,$B9=$BM8,$B9=$BN8,$B9=$BO8,$B9=$BP8,$B9=$BQ8,$B9=$BA8),BR8,BQ8) | BS9: =IF(OR($B9=$AV8,$B9=$AT8,$B9=$AU8,$B9=$AW8,$B9=$AX8,$B9=$AY8,$B9=$AZ8,$B9=$BB8,$B9=$BC8,$B9=$BD8,$B9=$BE8,$B9=$BF8,$B9=$BG8,$B9=$BH8,$B9=$BI8,$B9=$BJ8,$B9=$BK8,$B9=$BL8,$B9=$BM8,$B9=$BN8,$B9=$BO8,$B9=$BP8,$B9=$BQ8,$B9=$BR8,$B9=$BA8),BS8,BR8) | BT9: =IF(OR($B9=$AV8,$B9=$AT8,$B9=$AU8,$B9=$AW8,$B9=$AX8,$B9=$AY8,$B9=$AZ8,$B9=$BB8,$B9=$BC8,$B9=$BD8,$B9=$BE8,$B9=$BF8,$B9=$BG8,$B9=$BH8,$B9=$BI8,$B9=$BJ8,$B9=$BK8,$B9=$BL8,$B9=$BM8,$B9=$BN8,$B9=$BO8,$B9=$BP8,$B9=$BQ8,$B9=$BR8,$B9=$BS8,$B9=$BA8),BT8,BS8) | BU9: =IF(OR($B9=$AV8,$B9=$AT8,$B9=$AU8,$B9=$AW8,$B9=$AX8,$B9=$AY8,$B9=$AZ8,$B9=$BB8,$B9=$BC8,$B9=$BD8,$B9=$BE8,$B9=$BF8,$B9=$BG8,$B9=$BH8,$B9=$BI8,$B9=$BJ8,$B9=$BK8,$B9=$BL8,$B9=$BM8,$B9=$BN8,$B9=$BO8,$B9=$BP8,$B9=$BQ8,$B9=$BR8,$B9=$BS8,$B9=$BT8,$B9=$BA8),BU8,BT8) | BV9: =IF(OR($B9=$AV8,$B9=$AT8,$B9=$AU8,$B9=$AW8,$B9=$AX8,$B9=$AY8,$B9=$AZ8,$B9=$BB8,$B9=$BC8,$B9=$BD8,$B9=$BE8,$B9=$BF8,$B9=$BG8,$B9=$BH8,$B9=$BI8,$B9=$BJ8,$B9=$BK8,$B9=$BL8,$B9=$BM8,$B9=$BN8,$B9=$BO8,$B9=$BP8,$B9=$BQ8,$B9=$BR8,$B9=$BS8,$B9=$BT8,$B9=$BU8,$B9=$BA8),BV8,BU8) | BW9: =IF(OR($B9=$AV8,$B9=$AT8,$B9=$AU8,$B9=$AW8,$B9=$AX8,$B9=$AY8,$B9=$AZ8,$B9=$BB8,$B9=$BC8,$B9=$BD8,$B9=$BE8,$B9=$BF8,$B9=$BG8,$B9=$BH8,$B9=$BI8,$B9=$BJ8,$B9=$BK8,$B9=$BL8,$B9=$BM8,$B9=$BN8,$B9=$BO8,$B9=$BP8,$B9=$BQ8,$B9=$BR8,$B9=$BS8,$B9=$BT8,$B9=$BU8,$B9=$BV8,$B9=$BA8),BW8,BV8) | BX9: =IF(OR($B9=$AV8,$B9=$AT8,$B9=$AU8,$B9=$AW8,$B9=$AX8,$B9=$AY8,$B9=$AZ8,$B9=$BB8,$B9=$BC8,$B9=$BD8,$B9=$BE8,$B9=$BF8,$B9=$BG8,$B9=$BH8,$B9=$BI8,$B9=$BJ8,$B9=$BK8,$B9=$BL8,$B9=$BM8,$B9=$BN8,$B9=$BO8,$B9=$BP8,$B9=$BQ8,$B9=$BR8,$B9=$BS8,$B9=$BT8,$B9=$BU8,$B9=$BV8,$B9=$BW8,$B9=$BA8),BX8,BW8) | BY9: =IF(OR($B9=$AV8,$B9=$AT8,$B9=$AU8,$B9=$AW8,$B9=$AX8,$B9=$AY8,$B9=$AZ8,$B9=$BB8,$B9=$BC8,$B9=$BD8,$B9=$BE8,$B9=$BF8,$B9=$BG8,$B9=$BH8,$B9=$BI8,$B9=$BJ8,$B9=$BK8,$B9=$BL8,$B9=$BM8,$B9=$BN8,$B9=$BO8,$B9=$BP8,$B9=$BQ8,$B9=$BR8,$B9=$BS8,$B9=$BT8,$B9=$BU8,$B9=$BV8,$B9=$BW8,$B9=$BX8,$B9=$BA8),BY8,BX8) | BZ9: =IF(OR($B9=$AV8,$B9=$AT8,$B9=$AU8,$B9=$AW8,$B9=$AX8,$B9=$AY8,$B9=$AZ8,$B9=$BB8,$B9=$BC8,$B9=$BD8,$B9=$BE8,$B9=$BF8,$B9=$BG8,$B9=$BH8,$B9=$BI8,$B9=$BJ8,$B9=$BK8,$B9=$BL8,$B9=$BM8,$B9=$BN8,$B9=$BO8,$B9=$BP8,$B9=$BQ8,$B9=$BR8,$B9=$BS8,$B9=$BT8,$B9=$BU8,$B9=$BV8,$B9=$BW8,$B9=$BX8,$B9=$BY8,$B9=$BA8),BZ8,BY8) | CA9: =IF(OR($B9=$AV8,$B9=$AT8,$B9=$AU8,$B9=$AW8,$B9=$AX8,$B9=$AY8,$B9=$AZ8,$B9=$BB8,$B9=$BC8,$B9=$BD8,$B9=$BE8,$B9=$BF8,$B9=$BG8,$B9=$BH8,$B9=$BI8,$B9=$BJ8,$B9=$BK8,$B9=$BL8,$B9=$BM8,$B9=$BN8,$B9=$BO8,$B9=$BP8,$B9=$BQ8,$B9=$BR8,$B9=$BS8,$B9=$BT8,$B9=$BU8,$B9=$BV8,$B9=$BW8,$B9=$BX8,$B9=$BY8,$B9=$BZ8,$B9=$BA8),CA8,BZ8) | CB9: =IF(OR($B9=$AV8,$B9=$AT8,$B9=$AU8,$B9=$AW8,$B9=$AX8,$B9=$AY8,$B9=$AZ8,$B9=$BB8,$B9=$BC8,$B9=$BD8,$B9=$BE8,$B9=$BF8,$B9=$BG8,$B9=$BH8,$B9=$BI8,$B9=$BJ8,$B9=$BK8,$B9=$BL8,$B9=$BM8,$B9=$BN8,$B9=$BO8,$B9=$BP8,$B9=$BQ8,$B9=$BR8,$B9=$BS8,$B9=$BT8,$B9=$BU8,$B9=$BV8,$B9=$BW8,$B9=$BX8,$B9=$BY8,$B9=$BZ8,$B9=$CA8,$B9=$BA8),CB8,CA8) | CC9: =IF(OR($B9=$AV8,$B9=$AT8,$B9=$AU8,$B9=$AW8,$B9=$AX8,$B9=$AY8,$B9=$AZ8,$B9=$BB8,$B9=$BC8,$B9=$BD8,$B9=$BE8,$B9=$BF8,$B9=$BG8,$B9=$BH8,$B9=$BI8,$B9=$BJ8,$B9=$BK8,$B9=$BL8,$B9=$BM8,$B9=$BN8,$B9=$BO8,$B9=$BP8,$B9=$BQ8,$B9=$BR8,$B9=$BS8,$B9=$BT8,$B9=$BU8,$B9=$BV8,$B9=$BW8,$B9=$BX8,$B9=$BY8,$B9=$BZ8,$B9=$CA8,$B9=$CB8,$B9=$BA8),CC8,CB8) | CD9: =IF(OR($B9=$AV8,$B9=$AT8,$B9=$AU8,$B9=$AW8,$B9=$AX8,$B9=$AY8,$B9=$AZ8,$B9=$BB8,$B9=$BC8,$B9=$BD8,$B9=$BE8,$B9=$BF8,$B9=$BG8,$B9=$BH8,$B9=$BI8,$B9=$BJ8,$B9=$BK8,$B9=$BL8,$B9=$BM8,$B9=$BN8,$B9=$BO8,$B9=$BP8,$B9=$BQ8,$B9=$BR8,$B9=$BS8,$B9=$BT8,$B9=$BU8,$B9=$BV8,$B9=$BW8,$B9=$BX8,$B9=$BY8,$B9=$BZ8,$B9=$CA8,$B9=$CB8,$B9=$CC8,$B9=$BA8),CD8,CC8) | CH9: =IF(AND(CH8="",$B9<>CH$1),"",IF($C9<CH8,CH8,IF($B9=CH$1,1,1+CH8))) | CI9: =IF(AND(CI8="",$B9<>CI$1),"",IF($C9<CI8,CI8,IF($B9=CI$1,1,1+CI8))) -> 3 | CJ9: =IF(AND(CJ8="",$B9<>CJ$1),"",IF($C9<CJ8,CJ8,IF($B9=CJ$1,1,1+CJ8))) | CK9: =IF(AND(CK8="",$B9<>CK$1),"",IF($C9<CK8,CK8,IF($B9=CK$1,1,1+CK8))) | CL9: =IF(AND(CL8="",$B9<>CL$1),"",IF($C9<CL8,CL8,IF($B9=CL$1,1,1+CL8))) | CM9: =IF(AND(CM8="",$B9<>CM$1),"",IF($C9<CM8,CM8,IF($B9=CM$1,1,1+CM8))) | CN9: =IF(AND(CN8="",$B9<>CN$1),"",IF($C9<CN8,CN8,IF($B9=CN$1,1,1+CN8))) | CO9: =IF(AND(CO8="",$B9<>CO$1),"",IF($C9<CO8,CO8,IF($B9=CO$1,1,1+CO8))) | ... DR9: =IF(AND(DR8="",$B9<>DR$1),"",IF($C9<DR8,DR8,IF($B9=DR$1,1,1+DR8)))
A10: 9 | B10: =Drogan!E11 -> 34 | C10: =IF(B10="","",LOOKUP(B10,$CH$1:$DR$1,CH9:DR9)) | G10: =IF(AND($B11="",$B10<>""),"Nrs",IF(AND($B12="",$B11<>"",$B10<>""),G$1,"")) | H10: =IF(AND($B11="",$B10<>""),AT10,IF(AND($B12="",$B11<>"",$B10<>""),H$1,"")) | I10: =IF(AND($B11="",$B10<>""),AU10,IF(AND($B12="",$B11<>"",$B10<>""),I$1,"")) | J10: =IF(AND($B11="",$B10<>""),AV10,IF(AND($B12="",$B11<>"",$B10<>""),J$1,"")) | K10: =IF(AND($B11="",$B10<>""),AW10,IF(AND($B12="",$B11<>"",$B10<>""),K$1,"")) | L10: =IF(AND($B11="",$B10<>""),AX10,IF(AND($B12="",$B11<>"",$B10<>""),L$1,"")) | M10: =IF(AND($B11="",$B10<>""),AY10,IF(AND($B12="",$B11<>"",$B10<>""),M$1,"")) | N10: =IF(AND($B11="",$B10<>""),AZ10,IF(AND($B12="",$B11<>"",$B10<>""),N$1,"")) | O10: =IF(AND($B11="",$B10<>""),BA10,IF(AND($B12="",$B11<>"",$B10<>""),O$1,"")) | ... AR10: =IF(AND($B11="",$B10<>""),CD10,IF(AND($B12="",$B11<>"",$B10<>""),AR$1,"")) | AT10: =B10 -> 34 | AU10: =IF($B10=$AT9,AU9,AT9) -> 36 | AV10: =IF(OR($B10=$AT9,$B10=$AU9),AV9,AU9) -> 21 | AW10: =IF(OR($B10=$AV9,$B10=$AT9,$B10=$AU9),AW9,AV9) -> 2 | AX10: =IF(OR($B10=$AV9,$B10=$AT9,$B10=$AU9,$B10=$AW9),AX9,AW9) -> 26 | AY10: =IF(OR($B10=$AV9,$B10=$AT9,$B10=$AU9,$B10=$AW9,$B10=$AX9),AY9,AX9) -> 32 | AZ10: =IF(OR($B10=$AV9,$B10=$AT9,$B10=$AU9,$B10=$AW9,$B10=$AX9,$B10=$AY9),AZ9,AY9) -> 20 | BA10: =IF(OR($B10=$AV9,$B10=$AT9,$B10=$AU9,$B10=$AW9,$B10=$AX9,$B10=$AY9,$B10=$AZ9),BA9,AZ9) -> 23 | BB10: =IF(OR($B10=$AV9,$B10=$AT9,$B10=$AU9,$B10=$AW9,$B10=$AX9,$B10=$AY9,$B10=$AZ9,$B10=$BA9),BB9,BA9) | BC10: =IF(OR($B10=$AV9,$B10=$AT9,$B10=$AU9,$B10=$AW9,$B10=$AX9,$B10=$AY9,$B10=$AZ9,$B10=$BA9,$B10=$BB9),BC9,BB9) | BD10: =IF(OR($B10=$AV9,$B10=$AT9,$B10=$AU9,$B10=$AW9,$B10=$AX9,$B10=$AY9,$B10=$AZ9,$B10=$BB9,$B10=$BC9,$B10=$BA9),BD9,BC9) | BE10: =IF(OR($B10=$AV9,$B10=$AT9,$B10=$AU9,$B10=$AW9,$B10=$AX9,$B10=$AY9,$B10=$AZ9,$B10=$BB9,$B10=$BC9,$B10=$BD9,$B10=$BA9),BE9,BD9) | BF10: =IF(OR($B10=$AV9,$B10=$AT9,$B10=$AU9,$B10=$AW9,$B10=$AX9,$B10=$AY9,$B10=$AZ9,$B10=$BB9,$B10=$BC9,$B10=$BD9,$B10=$BE9,$B10=$BA9),BF9,BE9) | BG10: =IF(OR($B10=$AV9,$B10=$AT9,$B10=$AU9,$B10=$AW9,$B10=$AX9,$B10=$AY9,$B10=$AZ9,$B10=$BB9,$B10=$BC9,$B10=$BD9,$B10=$BE9,$B10=$BF9,$B10=$BA9),BG9,BF9) | BH10: =IF(OR($B10=$AV9,$B10=$AT9,$B10=$AU9,$B10=$AW9,$B10=$AX9,$B10=$AY9,$B10=$AZ9,$B10=$BB9,$B10=$BC9,$B10=$BD9,$B10=$BE9,$B10=$BF9,$B10=$BG9,$B10=$BA9),BH9,BG9) | BI10: =IF(OR($B10=$AV9,$B10=$AT9,$B10=$AU9,$B10=$AW9,$B10=$AX9,$B10=$AY9,$B10=$AZ9,$B10=$BB9,$B10=$BC9,$B10=$BD9,$B10=$BE9,$B10=$BF9,$B10=$BG9,$B10=$BH9,$B10=$BA9),BI9,BH9) | BJ10: =IF(OR($B10=$AV9,$B10=$AT9,$B10=$AU9,$B10=$AW9,$B10=$AX9,$B10=$AY9,$B10=$AZ9,$B10=$BB9,$B10=$BC9,$B10=$BD9,$B10=$BE9,$B10=$BF9,$B10=$BG9,$B10=$BH9,$B10=$BI9,$B10=$BA9),BJ9,BI9) | BK10: =IF(OR($B10=$AV9,$B10=$AT9,$B10=$AU9,$B10=$AW9,$B10=$AX9,$B10=$AY9,$B10=$AZ9,$B10=$BB9,$B10=$BC9,$B10=$BD9,$B10=$BE9,$B10=$BF9,$B10=$BG9,$B10=$BH9,$B10=$BI9,$B10=$BJ9,$B10=$BA9),BK9,BJ9) | BL10: =IF(OR($B10=$AV9,$B10=$AT9,$B10=$AU9,$B10=$AW9,$B10=$AX9,$B10=$AY9,$B10=$AZ9,$B10=$BB9,$B10=$BC9,$B10=$BD9,$B10=$BE9,$B10=$BF9,$B10=$BG9,$B10=$BH9,$B10=$BI9,$B10=$BJ9,$B10=$BK9,$B10=$BA9),BL9,BK9) | BM10: =IF(OR($B10=$AV9,$B10=$AT9,$B10=$AU9,$B10=$AW9,$B10=$AX9,$B10=$AY9,$B10=$AZ9,$B10=$BB9,$B10=$BC9,$B10=$BD9,$B10=$BE9,$B10=$BF9,$B10=$BG9,$B10=$BH9,$B10=$BI9,$B10=$BJ9,$B10=$BK9,$B10=$BL9,$B10=$BA9),BM9,BL9) | BN10: =IF(OR($B10=$AV9,$B10=$AT9,$B10=$AU9,$B10=$AW9,$B10=$AX9,$B10=$AY9,$B10=$AZ9,$B10=$BB9,$B10=$BC9,$B10=$BD9,$B10=$BE9,$B10=$BF9,$B10=$BG9,$B10=$BH9,$B10=$BI9,$B10=$BJ9,$B10=$BK9,$B10=$BL9,$B10=$BM9,$B10=$BA9),BN9,BM9) | BO10: =IF(OR($B10=$AV9,$B10=$AT9,$B10=$AU9,$B10=$AW9,$B10=$AX9,$B10=$AY9,$B10=$AZ9,$B10=$BB9,$B10=$BC9,$B10=$BD9,$B10=$BE9,$B10=$BF9,$B10=$BG9,$B10=$BH9,$B10=$BI9,$B10=$BJ9,$B10=$BK9,$B10=$BL9,$B10=$BM9,$B10=$BN9,$B10=$BA9),BO9,BN9) | BP10: =IF(OR($B10=$AV9,$B10=$AT9,$B10=$AU9,$B10=$AW9,$B10=$AX9,$B10=$AY9,$B10=$AZ9,$B10=$BB9,$B10=$BC9,$B10=$BD9,$B10=$BE9,$B10=$BF9,$B10=$BG9,$B10=$BH9,$B10=$BI9,$B10=$BJ9,$B10=$BK9,$B10=$BL9,$B10=$BM9,$B10=$BN9,$B10=$BO9,$B10=$BA9),BP9,BO9) | BQ10: =IF(OR($B10=$AV9,$B10=$AT9,$B10=$AU9,$B10=$AW9,$B10=$AX9,$B10=$AY9,$B10=$AZ9,$B10=$BB9,$B10=$BC9,$B10=$BD9,$B10=$BE9,$B10=$BF9,$B10=$BG9,$B10=$BH9,$B10=$BI9,$B10=$BJ9,$B10=$BK9,$B10=$BL9,$B10=$BM9,$B10=$BN9,$B10=$BO9,$B10=$BP9,$B10=$BA9),BQ9,BP9) | BR10: =IF(OR($B10=$AV9,$B10=$AT9,$B10=$AU9,$B10=$AW9,$B10=$AX9,$B10=$AY9,$B10=$AZ9,$B10=$BB9,$B10=$BC9,$B10=$BD9,$B10=$BE9,$B10=$BF9,$B10=$BG9,$B10=$BH9,$B10=$BI9,$B10=$BJ9,$B10=$BK9,$B10=$BL9,$B10=$BM9,$B10=$BN9,$B10=$BO9,$B10=$BP9,$B10=$BQ9,$B10=$BA9),BR9,BQ9) | BS10: =IF(OR($B10=$AV9,$B10=$AT9,$B10=$AU9,$B10=$AW9,$B10=$AX9,$B10=$AY9,$B10=$AZ9,$B10=$BB9,$B10=$BC9,$B10=$BD9,$B10=$BE9,$B10=$BF9,$B10=$BG9,$B10=$BH9,$B10=$BI9,$B10=$BJ9,$B10=$BK9,$B10=$BL9,$B10=$BM9,$B10=$BN9,$B10=$BO9,$B10=$BP9,$B10=$BQ9,$B10=$BR9,$B10=$BA9),BS9,BR9) | BT10: =IF(OR($B10=$AV9,$B10=$AT9,$B10=$AU9,$B10=$AW9,$B10=$AX9,$B10=$AY9,$B10=$AZ9,$B10=$BB9,$B10=$BC9,$B10=$BD9,$B10=$BE9,$B10=$BF9,$B10=$BG9,$B10=$BH9,$B10=$BI9,$B10=$BJ9,$B10=$BK9,$B10=$BL9,$B10=$BM9,$B10=$BN9,$B10=$BO9,$B10=$BP9,$B10=$BQ9,$B10=$BR9,$B10=$BS9,$B10=$BA9),BT9,BS9) | BU10: =IF(OR($B10=$AV9,$B10=$AT9,$B10=$AU9,$B10=$AW9,$B10=$AX9,$B10=$AY9,$B10=$AZ9,$B10=$BB9,$B10=$BC9,$B10=$BD9,$B10=$BE9,$B10=$BF9,$B10=$BG9,$B10=$BH9,$B10=$BI9,$B10=$BJ9,$B10=$BK9,$B10=$BL9,$B10=$BM9,$B10=$BN9,$B10=$BO9,$B10=$BP9,$B10=$BQ9,$B10=$BR9,$B10=$BS9,$B10=$BT9,$B10=$BA9),BU9,BT9) | BV10: =IF(OR($B10=$AV9,$B10=$AT9,$B10=$AU9,$B10=$AW9,$B10=$AX9,$B10=$AY9,$B10=$AZ9,$B10=$BB9,$B10=$BC9,$B10=$BD9,$B10=$BE9,$B10=$BF9,$B10=$BG9,$B10=$BH9,$B10=$BI9,$B10=$BJ9,$B10=$BK9,$B10=$BL9,$B10=$BM9,$B10=$BN9,$B10=$BO9,$B10=$BP9,$B10=$BQ9,$B10=$BR9,$B10=$BS9,$B10=$BT9,$B10=$BU9,$B10=$BA9),BV9,BU9) | BW10: =IF(OR($B10=$AV9,$B10=$AT9,$B10=$AU9,$B10=$AW9,$B10=$AX9,$B10=$AY9,$B10=$AZ9,$B10=$BB9,$B10=$BC9,$B10=$BD9,$B10=$BE9,$B10=$BF9,$B10=$BG9,$B10=$BH9,$B10=$BI9,$B10=$BJ9,$B10=$BK9,$B10=$BL9,$B10=$BM9,$B10=$BN9,$B10=$BO9,$B10=$BP9,$B10=$BQ9,$B10=$BR9,$B10=$BS9,$B10=$BT9,$B10=$BU9,$B10=$BV9,$B10=$BA9),BW9,BV9) | BX10: =IF(OR($B10=$AV9,$B10=$AT9,$B10=$AU9,$B10=$AW9,$B10=$AX9,$B10=$AY9,$B10=$AZ9,$B10=$BB9,$B10=$BC9,$B10=$BD9,$B10=$BE9,$B10=$BF9,$B10=$BG9,$B10=$BH9,$B10=$BI9,$B10=$BJ9,$B10=$BK9,$B10=$BL9,$B10=$BM9,$B10=$BN9,$B10=$BO9,$B10=$BP9,$B10=$BQ9,$B10=$BR9,$B10=$BS9,$B10=$BT9,$B10=$BU9,$B10=$BV9,$B10=$BW9,$B10=$BA9),BX9,BW9) | BY10: =IF(OR($B10=$AV9,$B10=$AT9,$B10=$AU9,$B10=$AW9,$B10=$AX9,$B10=$AY9,$B10=$AZ9,$B10=$BB9,$B10=$BC9,$B10=$BD9,$B10=$BE9,$B10=$BF9,$B10=$BG9,$B10=$BH9,$B10=$BI9,$B10=$BJ9,$B10=$BK9,$B10=$BL9,$B10=$BM9,$B10=$BN9,$B10=$BO9,$B10=$BP9,$B10=$BQ9,$B10=$BR9,$B10=$BS9,$B10=$BT9,$B10=$BU9,$B10=$BV9,$B10=$BW9,$B10=$BX9,$B10=$BA9),BY9,BX9) | BZ10: =IF(OR($B10=$AV9,$B10=$AT9,$B10=$AU9,$B10=$AW9,$B10=$AX9,$B10=$AY9,$B10=$AZ9,$B10=$BB9,$B10=$BC9,$B10=$BD9,$B10=$BE9,$B10=$BF9,$B10=$BG9,$B10=$BH9,$B10=$BI9,$B10=$BJ9,$B10=$BK9,$B10=$BL9,$B10=$BM9,$B10=$BN9,$B10=$BO9,$B10=$BP9,$B10=$BQ9,$B10=$BR9,$B10=$BS9,$B10=$BT9,$B10=$BU9,$B10=$BV9,$B10=$BW9,$B10=$BX9,$B10=$BY9,$B10=$BA9),BZ9,BY9) | CA10: =IF(OR($B10=$AV9,$B10=$AT9,$B10=$AU9,$B10=$AW9,$B10=$AX9,$B10=$AY9,$B10=$AZ9,$B10=$BB9,$B10=$BC9,$B10=$BD9,$B10=$BE9,$B10=$BF9,$B10=$BG9,$B10=$BH9,$B10=$BI9,$B10=$BJ9,$B10=$BK9,$B10=$BL9,$B10=$BM9,$B10=$BN9,$B10=$BO9,$B10=$BP9,$B10=$BQ9,$B10=$BR9,$B10=$BS9,$B10=$BT9,$B10=$BU9,$B10=$BV9,$B10=$BW9,$B10=$BX9,$B10=$BY9,$B10=$BZ9,$B10=$BA9),CA9,BZ9) | CB10: =IF(OR($B10=$AV9,$B10=$AT9,$B10=$AU9,$B10=$AW9,$B10=$AX9,$B10=$AY9,$B10=$AZ9,$B10=$BB9,$B10=$BC9,$B10=$BD9,$B10=$BE9,$B10=$BF9,$B10=$BG9,$B10=$BH9,$B10=$BI9,$B10=$BJ9,$B10=$BK9,$B10=$BL9,$B10=$BM9,$B10=$BN9,$B10=$BO9,$B10=$BP9,$B10=$BQ9,$B10=$BR9,$B10=$BS9,$B10=$BT9,$B10=$BU9,$B10=$BV9,$B10=$BW9,$B10=$BX9,$B10=$BY9,$B10=$BZ9,$B10=$CA9,$B10=$BA9),CB9,CA9) | CC10: =IF(OR($B10=$AV9,$B10=$AT9,$B10=$AU9,$B10=$AW9,$B10=$AX9,$B10=$AY9,$B10=$AZ9,$B10=$BB9,$B10=$BC9,$B10=$BD9,$B10=$BE9,$B10=$BF9,$B10=$BG9,$B10=$BH9,$B10=$BI9,$B10=$BJ9,$B10=$BK9,$B10=$BL9,$B10=$BM9,$B10=$BN9,$B10=$BO9,$B10=$BP9,$B10=$BQ9,$B10=$BR9,$B10=$BS9,$B10=$BT9,$B10=$BU9,$B10=$BV9,$B10=$BW9,$B10=$BX9,$B10=$BY9,$B10=$BZ9,$B10=$CA9,$B10=$CB9,$B10=$BA9),CC9,CB9) | CD10: =IF(OR($B10=$AV9,$B10=$AT9,$B10=$AU9,$B10=$AW9,$B10=$AX9,$B10=$AY9,$B10=$AZ9,$B10=$BB9,$B10=$BC9,$B10=$BD9,$B10=$BE9,$B10=$BF9,$B10=$BG9,$B10=$BH9,$B10=$BI9,$B10=$BJ9,$B10=$BK9,$B10=$BL9,$B10=$BM9,$B10=$BN9,$B10=$BO9,$B10=$BP9,$B10=$BQ9,$B10=$BR9,$B10=$BS9,$B10=$BT9,$B10=$BU9,$B10=$BV9,$B10=$BW9,$B10=$BX9,$B10=$BY9,$B10=$BZ9,$B10=$CA9,$B10=$CB9,$B10=$CC9,$B10=$BA9),CD9,CC9) | CH10: =IF(AND(CH9="",$B10<>CH$1),"",IF($C10<CH9,CH9,IF($B10=CH$1,1,1+CH9))) | CI10: =IF(AND(CI9="",$B10<>CI$1),"",IF($C10<CI9,CI9,IF($B10=CI$1,1,1+CI9))) -> 4 | CJ10: =IF(AND(CJ9="",$B10<>CJ$1),"",IF($C10<CJ9,CJ9,IF($B10=CJ$1,1,1+CJ9))) | CK10: =IF(AND(CK9="",$B10<>CK$1),"",IF($C10<CK9,CK9,IF($B10=CK$1,1,1+CK9))) | CL10: =IF(AND(CL9="",$B10<>CL$1),"",IF($C10<CL9,CL9,IF($B10=CL$1,1,1+CL9))) | CM10: =IF(AND(CM9="",$B10<>CM$1),"",IF($C10<CM9,CM9,IF($B10=CM$1,1,1+CM9))) | CN10: =IF(AND(CN9="",$B10<>CN$1),"",IF($C10<CN9,CN9,IF($B10=CN$1,1,1+CN9))) | CO10: =IF(AND(CO9="",$B10<>CO$1),"",IF($C10<CO9,CO9,IF($B10=CO$1,1,1+CO9))) | ... DR10: =IF(AND(DR9="",$B10<>DR$1),"",IF($C10<DR9,DR9,IF($B10=DR$1,1,1+DR9)))
A11: 10 | B11: =Drogan!E12 -> 20 | C11: =IF(B11="","",LOOKUP(B11,$CH$1:$DR$1,CH10:DR10)) -> 7 | G11: =IF(AND($B12="",$B11<>""),"Nrs",IF(AND($B13="",$B12<>"",$B11<>""),G$1,"")) | H11: =IF(AND($B12="",$B11<>""),AT11,IF(AND($B13="",$B12<>"",$B11<>""),H$1,"")) | I11: =IF(AND($B12="",$B11<>""),AU11,IF(AND($B13="",$B12<>"",$B11<>""),I$1,"")) | J11: =IF(AND($B12="",$B11<>""),AV11,IF(AND($B13="",$B12<>"",$B11<>""),J$1,"")) | K11: =IF(AND($B12="",$B11<>""),AW11,IF(AND($B13="",$B12<>"",$B11<>""),K$1,"")) | L11: =IF(AND($B12="",$B11<>""),AX11,IF(AND($B13="",$B12<>"",$B11<>""),L$1,"")) | M11: =IF(AND($B12="",$B11<>""),AY11,IF(AND($B13="",$B12<>"",$B11<>""),M$1,"")) | N11: =IF(AND($B12="",$B11<>""),AZ11,IF(AND($B13="",$B12<>"",$B11<>""),N$1,"")) | O11: =IF(AND($B12="",$B11<>""),BA11,IF(AND($B13="",$B12<>"",$B11<>""),O$1,"")) | ... AR11: =IF(AND($B12="",$B11<>""),CD11,IF(AND($B13="",$B12<>"",$B11<>""),AR$1,"")) | AT11: =B11 -> 20 | AU11: =IF($B11=$AT10,AU10,AT10) -> 34 | AV11: =IF(OR($B11=$AT10,$B11=$AU10),AV10,AU10) -> 36 | AW11: =IF(OR($B11=$AV10,$B11=$AT10,$B11=$AU10),AW10,AV10) -> 21 | AX11: =IF(OR($B11=$AV10,$B11=$AT10,$B11=$AU10,$B11=$AW10),AX10,AW10) -> 2 | AY11: =IF(OR($B11=$AV10,$B11=$AT10,$B11=$AU10,$B11=$AW10,$B11=$AX10),AY10,AX10) -> 26 | AZ11: =IF(OR($B11=$AV10,$B11=$AT10,$B11=$AU10,$B11=$AW10,$B11=$AX10,$B11=$AY10),AZ10,AY10) -> 32 | BA11: =IF(OR($B11=$AV10,$B11=$AT10,$B11=$AU10,$B11=$AW10,$B11=$AX10,$B11=$AY10,$B11=$AZ10),BA10,AZ10) -> 23 | BB11: =IF(OR($B11=$AV10,$B11=$AT10,$B11=$AU10,$B11=$AW10,$B11=$AX10,$B11=$AY10,$B11=$AZ10,$B11=$BA10),BB10,BA10) | BC11: =IF(OR($B11=$AV10,$B11=$AT10,$B11=$AU10,$B11=$AW10,$B11=$AX10,$B11=$AY10,$B11=$AZ10,$B11=$BA10,$B11=$BB10),BC10,BB10) | BD11: =IF(OR($B11=$AV10,$B11=$AT10,$B11=$AU10,$B11=$AW10,$B11=$AX10,$B11=$AY10,$B11=$AZ10,$B11=$BB10,$B11=$BC10,$B11=$BA10),BD10,BC10) | BE11: =IF(OR($B11=$AV10,$B11=$AT10,$B11=$AU10,$B11=$AW10,$B11=$AX10,$B11=$AY10,$B11=$AZ10,$B11=$BB10,$B11=$BC10,$B11=$BD10,$B11=$BA10),BE10,BD10) | BF11: =IF(OR($B11=$AV10,$B11=$AT10,$B11=$AU10,$B11=$AW10,$B11=$AX10,$B11=$AY10,$B11=$AZ10,$B11=$BB10,$B11=$BC10,$B11=$BD10,$B11=$BE10,$B11=$BA10),BF10,BE10) | BG11: =IF(OR($B11=$AV10,$B11=$AT10,$B11=$AU10,$B11=$AW10,$B11=$AX10,$B11=$AY10,$B11=$AZ10,$B11=$BB10,$B11=$BC10,$B11=$BD10,$B11=$BE10,$B11=$BF10,$B11=$BA10),BG10,BF10) | BH11: =IF(OR($B11=$AV10,$B11=$AT10,$B11=$AU10,$B11=$AW10,$B11=$AX10,$B11=$AY10,$B11=$AZ10,$B11=$BB10,$B11=$BC10,$B11=$BD10,$B11=$BE10,$B11=$BF10,$B11=$BG10,$B11=$BA10),BH10,BG10) | BI11: =IF(OR($B11=$AV10,$B11=$AT10,$B11=$AU10,$B11=$AW10,$B11=$AX10,$B11=$AY10,$B11=$AZ10,$B11=$BB10,$B11=$BC10,$B11=$BD10,$B11=$BE10,$B11=$BF10,$B11=$BG10,$B11=$BH10,$B11=$BA10),BI10,BH10) | BJ11: =IF(OR($B11=$AV10,$B11=$AT10,$B11=$AU10,$B11=$AW10,$B11=$AX10,$B11=$AY10,$B11=$AZ10,$B11=$BB10,$B11=$BC10,$B11=$BD10,$B11=$BE10,$B11=$BF10,$B11=$BG10,$B11=$BH10,$B11=$BI10,$B11=$BA10),BJ10,BI10) | BK11: =IF(OR($B11=$AV10,$B11=$AT10,$B11=$AU10,$B11=$AW10,$B11=$AX10,$B11=$AY10,$B11=$AZ10,$B11=$BB10,$B11=$BC10,$B11=$BD10,$B11=$BE10,$B11=$BF10,$B11=$BG10,$B11=$BH10,$B11=$BI10,$B11=$BJ10,$B11=$BA10),BK10,BJ10) | BL11: =IF(OR($B11=$AV10,$B11=$AT10,$B11=$AU10,$B11=$AW10,$B11=$AX10,$B11=$AY10,$B11=$AZ10,$B11=$BB10,$B11=$BC10,$B11=$BD10,$B11=$BE10,$B11=$BF10,$B11=$BG10,$B11=$BH10,$B11=$BI10,$B11=$BJ10,$B11=$BK10,$B11=$BA10),BL10,BK10) | BM11: =IF(OR($B11=$AV10,$B11=$AT10,$B11=$AU10,$B11=$AW10,$B11=$AX10,$B11=$AY10,$B11=$AZ10,$B11=$BB10,$B11=$BC10,$B11=$BD10,$B11=$BE10,$B11=$BF10,$B11=$BG10,$B11=$BH10,$B11=$BI10,$B11=$BJ10,$B11=$BK10,$B11=$BL10,$B11=$BA10),BM10,BL10) | BN11: =IF(OR($B11=$AV10,$B11=$AT10,$B11=$AU10,$B11=$AW10,$B11=$AX10,$B11=$AY10,$B11=$AZ10,$B11=$BB10,$B11=$BC10,$B11=$BD10,$B11=$BE10,$B11=$BF10,$B11=$BG10,$B11=$BH10,$B11=$BI10,$B11=$BJ10,$B11=$BK10,$B11=$BL10,$B11=$BM10,$B11=$BA10),BN10,BM10) | BO11: =IF(OR($B11=$AV10,$B11=$AT10,$B11=$AU10,$B11=$AW10,$B11=$AX10,$B11=$AY10,$B11=$AZ10,$B11=$BB10,$B11=$BC10,$B11=$BD10,$B11=$BE10,$B11=$BF10,$B11=$BG10,$B11=$BH10,$B11=$BI10,$B11=$BJ10,$B11=$BK10,$B11=$BL10,$B11=$BM10,$B11=$BN10,$B11=$BA10),BO10,BN10) | BP11: =IF(OR($B11=$AV10,$B11=$AT10,$B11=$AU10,$B11=$AW10,$B11=$AX10,$B11=$AY10,$B11=$AZ10,$B11=$BB10,$B11=$BC10,$B11=$BD10,$B11=$BE10,$B11=$BF10,$B11=$BG10,$B11=$BH10,$B11=$BI10,$B11=$BJ10,$B11=$BK10,$B11=$BL10,$B11=$BM10,$B11=$BN10,$B11=$BO10,$B11=$BA10),BP10,BO10) | BQ11: =IF(OR($B11=$AV10,$B11=$AT10,$B11=$AU10,$B11=$AW10,$B11=$AX10,$B11=$AY10,$B11=$AZ10,$B11=$BB10,$B11=$BC10,$B11=$BD10,$B11=$BE10,$B11=$BF10,$B11=$BG10,$B11=$BH10,$B11=$BI10,$B11=$BJ10,$B11=$BK10,$B11=$BL10,$B11=$BM10,$B11=$BN10,$B11=$BO10,$B11=$BP10,$B11=$BA10),BQ10,BP10) | BR11: =IF(OR($B11=$AV10,$B11=$AT10,$B11=$AU10,$B11=$AW10,$B11=$AX10,$B11=$AY10,$B11=$AZ10,$B11=$BB10,$B11=$BC10,$B11=$BD10,$B11=$BE10,$B11=$BF10,$B11=$BG10,$B11=$BH10,$B11=$BI10,$B11=$BJ10,$B11=$BK10,$B11=$BL10,$B11=$BM10,$B11=$BN10,$B11=$BO10,$B11=$BP10,$B11=$BQ10,$B11=$BA10),BR10,BQ10) | BS11: =IF(OR($B11=$AV10,$B11=$AT10,$B11=$AU10,$B11=$AW10,$B11=$AX10,$B11=$AY10,$B11=$AZ10,$B11=$BB10,$B11=$BC10,$B11=$BD10,$B11=$BE10,$B11=$BF10,$B11=$BG10,$B11=$BH10,$B11=$BI10,$B11=$BJ10,$B11=$BK10,$B11=$BL10,$B11=$BM10,$B11=$BN10,$B11=$BO10,$B11=$BP10,$B11=$BQ10,$B11=$BR10,$B11=$BA10),BS10,BR10) | BT11: =IF(OR($B11=$AV10,$B11=$AT10,$B11=$AU10,$B11=$AW10,$B11=$AX10,$B11=$AY10,$B11=$AZ10,$B11=$BB10,$B11=$BC10,$B11=$BD10,$B11=$BE10,$B11=$BF10,$B11=$BG10,$B11=$BH10,$B11=$BI10,$B11=$BJ10,$B11=$BK10,$B11=$BL10,$B11=$BM10,$B11=$BN10,$B11=$BO10,$B11=$BP10,$B11=$BQ10,$B11=$BR10,$B11=$BS10,$B11=$BA10),BT10,BS10) | BU11: =IF(OR($B11=$AV10,$B11=$AT10,$B11=$AU10,$B11=$AW10,$B11=$AX10,$B11=$AY10,$B11=$AZ10,$B11=$BB10,$B11=$BC10,$B11=$BD10,$B11=$BE10,$B11=$BF10,$B11=$BG10,$B11=$BH10,$B11=$BI10,$B11=$BJ10,$B11=$BK10,$B11=$BL10,$B11=$BM10,$B11=$BN10,$B11=$BO10,$B11=$BP10,$B11=$BQ10,$B11=$BR10,$B11=$BS10,$B11=$BT10,$B11=$BA10),BU10,BT10) | BV11: =IF(OR($B11=$AV10,$B11=$AT10,$B11=$AU10,$B11=$AW10,$B11=$AX10,$B11=$AY10,$B11=$AZ10,$B11=$BB10,$B11=$BC10,$B11=$BD10,$B11=$BE10,$B11=$BF10,$B11=$BG10,$B11=$BH10,$B11=$BI10,$B11=$BJ10,$B11=$BK10,$B11=$BL10,$B11=$BM10,$B11=$BN10,$B11=$BO10,$B11=$BP10,$B11=$BQ10,$B11=$BR10,$B11=$BS10,$B11=$BT10,$B11=$BU10,$B11=$BA10),BV10,BU10) | BW11: =IF(OR($B11=$AV10,$B11=$AT10,$B11=$AU10,$B11=$AW10,$B11=$AX10,$B11=$AY10,$B11=$AZ10,$B11=$BB10,$B11=$BC10,$B11=$BD10,$B11=$BE10,$B11=$BF10,$B11=$BG10,$B11=$BH10,$B11=$BI10,$B11=$BJ10,$B11=$BK10,$B11=$BL10,$B11=$BM10,$B11=$BN10,$B11=$BO10,$B11=$BP10,$B11=$BQ10,$B11=$BR10,$B11=$BS10,$B11=$BT10,$B11=$BU10,$B11=$BV10,$B11=$BA10),BW10,BV10) | BX11: =IF(OR($B11=$AV10,$B11=$AT10,$B11=$AU10,$B11=$AW10,$B11=$AX10,$B11=$AY10,$B11=$AZ10,$B11=$BB10,$B11=$BC10,$B11=$BD10,$B11=$BE10,$B11=$BF10,$B11=$BG10,$B11=$BH10,$B11=$BI10,$B11=$BJ10,$B11=$BK10,$B11=$BL10,$B11=$BM10,$B11=$BN10,$B11=$BO10,$B11=$BP10,$B11=$BQ10,$B11=$BR10,$B11=$BS10,$B11=$BT10,$B11=$BU10,$B11=$BV10,$B11=$BW10,$B11=$BA10),BX10,BW10) | BY11: =IF(OR($B11=$AV10,$B11=$AT10,$B11=$AU10,$B11=$AW10,$B11=$AX10,$B11=$AY10,$B11=$AZ10,$B11=$BB10,$B11=$BC10,$B11=$BD10,$B11=$BE10,$B11=$BF10,$B11=$BG10,$B11=$BH10,$B11=$BI10,$B11=$BJ10,$B11=$BK10,$B11=$BL10,$B11=$BM10,$B11=$BN10,$B11=$BO10,$B11=$BP10,$B11=$BQ10,$B11=$BR10,$B11=$BS10,$B11=$BT10,$B11=$BU10,$B11=$BV10,$B11=$BW10,$B11=$BX10,$B11=$BA10),BY10,BX10) | BZ11: =IF(OR($B11=$AV10,$B11=$AT10,$B11=$AU10,$B11=$AW10,$B11=$AX10,$B11=$AY10,$B11=$AZ10,$B11=$BB10,$B11=$BC10,$B11=$BD10,$B11=$BE10,$B11=$BF10,$B11=$BG10,$B11=$BH10,$B11=$BI10,$B11=$BJ10,$B11=$BK10,$B11=$BL10,$B11=$BM10,$B11=$BN10,$B11=$BO10,$B11=$BP10,$B11=$BQ10,$B11=$BR10,$B11=$BS10,$B11=$BT10,$B11=$BU10,$B11=$BV10,$B11=$BW10,$B11=$BX10,$B11=$BY10,$B11=$BA10),BZ10,BY10) | CA11: =IF(OR($B11=$AV10,$B11=$AT10,$B11=$AU10,$B11=$AW10,$B11=$AX10,$B11=$AY10,$B11=$AZ10,$B11=$BB10,$B11=$BC10,$B11=$BD10,$B11=$BE10,$B11=$BF10,$B11=$BG10,$B11=$BH10,$B11=$BI10,$B11=$BJ10,$B11=$BK10,$B11=$BL10,$B11=$BM10,$B11=$BN10,$B11=$BO10,$B11=$BP10,$B11=$BQ10,$B11=$BR10,$B11=$BS10,$B11=$BT10,$B11=$BU10,$B11=$BV10,$B11=$BW10,$B11=$BX10,$B11=$BY10,$B11=$BZ10,$B11=$BA10),CA10,BZ10) | CB11: =IF(OR($B11=$AV10,$B11=$AT10,$B11=$AU10,$B11=$AW10,$B11=$AX10,$B11=$AY10,$B11=$AZ10,$B11=$BB10,$B11=$BC10,$B11=$BD10,$B11=$BE10,$B11=$BF10,$B11=$BG10,$B11=$BH10,$B11=$BI10,$B11=$BJ10,$B11=$BK10,$B11=$BL10,$B11=$BM10,$B11=$BN10,$B11=$BO10,$B11=$BP10,$B11=$BQ10,$B11=$BR10,$B11=$BS10,$B11=$BT10,$B11=$BU10,$B11=$BV10,$B11=$BW10,$B11=$BX10,$B11=$BY10,$B11=$BZ10,$B11=$CA10,$B11=$BA10),CB10,CA10) | CC11: =IF(OR($B11=$AV10,$B11=$AT10,$B11=$AU10,$B11=$AW10,$B11=$AX10,$B11=$AY10,$B11=$AZ10,$B11=$BB10,$B11=$BC10,$B11=$BD10,$B11=$BE10,$B11=$BF10,$B11=$BG10,$B11=$BH10,$B11=$BI10,$B11=$BJ10,$B11=$BK10,$B11=$BL10,$B11=$BM10,$B11=$BN10,$B11=$BO10,$B11=$BP10,$B11=$BQ10,$B11=$BR10,$B11=$BS10,$B11=$BT10,$B11=$BU10,$B11=$BV10,$B11=$BW10,$B11=$BX10,$B11=$BY10,$B11=$BZ10,$B11=$CA10,$B11=$CB10,$B11=$BA10),CC10,CB10) | CD11: =IF(OR($B11=$AV10,$B11=$AT10,$B11=$AU10,$B11=$AW10,$B11=$AX10,$B11=$AY10,$B11=$AZ10,$B11=$BB10,$B11=$BC10,$B11=$BD10,$B11=$BE10,$B11=$BF10,$B11=$BG10,$B11=$BH10,$B11=$BI10,$B11=$BJ10,$B11=$BK10,$B11=$BL10,$B11=$BM10,$B11=$BN10,$B11=$BO10,$B11=$BP10,$B11=$BQ10,$B11=$BR10,$B11=$BS10,$B11=$BT10,$B11=$BU10,$B11=$BV10,$B11=$BW10,$B11=$BX10,$B11=$BY10,$B11=$BZ10,$B11=$CA10,$B11=$CB10,$B11=$CC10,$B11=$BA10),CD10,CC10) | CH11: =IF(AND(CH10="",$B11<>CH$1),"",IF($C11<CH10,CH10,IF($B11=CH$1,1,1+CH10))) | CI11: =IF(AND(CI10="",$B11<>CI$1),"",IF($C11<CI10,CI10,IF($B11=CI$1,1,1+CI10))) -> 5 | CJ11: =IF(AND(CJ10="",$B11<>CJ$1),"",IF($C11<CJ10,CJ10,IF($B11=CJ$1,1,1+CJ10))) | CK11: =IF(AND(CK10="",$B11<>CK$1),"",IF($C11<CK10,CK10,IF($B11=CK$1,1,1+CK10))) | CL11: =IF(AND(CL10="",$B11<>CL$1),"",IF($C11<CL10,CL10,IF($B11=CL$1,1,1+CL10))) | CM11: =IF(AND(CM10="",$B11<>CM$1),"",IF($C11<CM10,CM10,IF($B11=CM$1,1,1+CM10))) | CN11: =IF(AND(CN10="",$B11<>CN$1),"",IF($C11<CN10,CN10,IF($B11=CN$1,1,1+CN10))) | CO11: =IF(AND(CO10="",$B11<>CO$1),"",IF($C11<CO10,CO10,IF($B11=CO$1,1,1+CO10))) | ... DR11: =IF(AND(DR10="",$B11<>DR$1),"",IF($C11<DR10,DR10,IF($B11=DR$1,1,1+DR10)))
A12: 11 | B12: =Drogan!E13 -> 10 | C12: =IF(B12="","",LOOKUP(B12,$CH$1:$DR$1,CH11:DR11)) | G12: =IF(AND($B13="",$B12<>""),"Nrs",IF(AND($B14="",$B13<>"",$B12<>""),G$1,"")) | H12: =IF(AND($B13="",$B12<>""),AT12,IF(AND($B14="",$B13<>"",$B12<>""),H$1,"")) | I12: =IF(AND($B13="",$B12<>""),AU12,IF(AND($B14="",$B13<>"",$B12<>""),I$1,"")) | J12: =IF(AND($B13="",$B12<>""),AV12,IF(AND($B14="",$B13<>"",$B12<>""),J$1,"")) | K12: =IF(AND($B13="",$B12<>""),AW12,IF(AND($B14="",$B13<>"",$B12<>""),K$1,"")) | L12: =IF(AND($B13="",$B12<>""),AX12,IF(AND($B14="",$B13<>"",$B12<>""),L$1,"")) | M12: =IF(AND($B13="",$B12<>""),AY12,IF(AND($B14="",$B13<>"",$B12<>""),M$1,"")) | N12: =IF(AND($B13="",$B12<>""),AZ12,IF(AND($B14="",$B13<>"",$B12<>""),N$1,"")) | O12: =IF(AND($B13="",$B12<>""),BA12,IF(AND($B14="",$B13<>"",$B12<>""),O$1,"")) | ... AR12: =IF(AND($B13="",$B12<>""),CD12,IF(AND($B14="",$B13<>"",$B12<>""),AR$1,"")) | AT12: =B12 -> 10 | AU12: =IF($B12=$AT11,AU11,AT11) -> 20 | AV12: =IF(OR($B12=$AT11,$B12=$AU11),AV11,AU11) -> 34 | AW12: =IF(OR($B12=$AV11,$B12=$AT11,$B12=$AU11),AW11,AV11) -> 36 | AX12: =IF(OR($B12=$AV11,$B12=$AT11,$B12=$AU11,$B12=$AW11),AX11,AW11) -> 21 | AY12: =IF(OR($B12=$AV11,$B12=$AT11,$B12=$AU11,$B12=$AW11,$B12=$AX11),AY11,AX11) -> 2 | AZ12: =IF(OR($B12=$AV11,$B12=$AT11,$B12=$AU11,$B12=$AW11,$B12=$AX11,$B12=$AY11),AZ11,AY11) -> 26 | BA12: =IF(OR($B12=$AV11,$B12=$AT11,$B12=$AU11,$B12=$AW11,$B12=$AX11,$B12=$AY11,$B12=$AZ11),BA11,AZ11) -> 32 | BB12: =IF(OR($B12=$AV11,$B12=$AT11,$B12=$AU11,$B12=$AW11,$B12=$AX11,$B12=$AY11,$B12=$AZ11,$B12=$BA11),BB11,BA11) -> 23 | BC12: =IF(OR($B12=$AV11,$B12=$AT11,$B12=$AU11,$B12=$AW11,$B12=$AX11,$B12=$AY11,$B12=$AZ11,$B12=$BA11,$B12=$BB11),BC11,BB11) | BD12: =IF(OR($B12=$AV11,$B12=$AT11,$B12=$AU11,$B12=$AW11,$B12=$AX11,$B12=$AY11,$B12=$AZ11,$B12=$BB11,$B12=$BC11,$B12=$BA11),BD11,BC11) | BE12: =IF(OR($B12=$AV11,$B12=$AT11,$B12=$AU11,$B12=$AW11,$B12=$AX11,$B12=$AY11,$B12=$AZ11,$B12=$BB11,$B12=$BC11,$B12=$BD11,$B12=$BA11),BE11,BD11) | BF12: =IF(OR($B12=$AV11,$B12=$AT11,$B12=$AU11,$B12=$AW11,$B12=$AX11,$B12=$AY11,$B12=$AZ11,$B12=$BB11,$B12=$BC11,$B12=$BD11,$B12=$BE11,$B12=$BA11),BF11,BE11) | BG12: =IF(OR($B12=$AV11,$B12=$AT11,$B12=$AU11,$B12=$AW11,$B12=$AX11,$B12=$AY11,$B12=$AZ11,$B12=$BB11,$B12=$BC11,$B12=$BD11,$B12=$BE11,$B12=$BF11,$B12=$BA11),BG11,BF11) | BH12: =IF(OR($B12=$AV11,$B12=$AT11,$B12=$AU11,$B12=$AW11,$B12=$AX11,$B12=$AY11,$B12=$AZ11,$B12=$BB11,$B12=$BC11,$B12=$BD11,$B12=$BE11,$B12=$BF11,$B12=$BG11,$B12=$BA11),BH11,BG11) | BI12: =IF(OR($B12=$AV11,$B12=$AT11,$B12=$AU11,$B12=$AW11,$B12=$AX11,$B12=$AY11,$B12=$AZ11,$B12=$BB11,$B12=$BC11,$B12=$BD11,$B12=$BE11,$B12=$BF11,$B12=$BG11,$B12=$BH11,$B12=$BA11),BI11,BH11) | BJ12: =IF(OR($B12=$AV11,$B12=$AT11,$B12=$AU11,$B12=$AW11,$B12=$AX11,$B12=$AY11,$B12=$AZ11,$B12=$BB11,$B12=$BC11,$B12=$BD11,$B12=$BE11,$B12=$BF11,$B12=$BG11,$B12=$BH11,$B12=$BI11,$B12=$BA11),BJ11,BI11) | BK12: =IF(OR($B12=$AV11,$B12=$AT11,$B12=$AU11,$B12=$AW11,$B12=$AX11,$B12=$AY11,$B12=$AZ11,$B12=$BB11,$B12=$BC11,$B12=$BD11,$B12=$BE11,$B12=$BF11,$B12=$BG11,$B12=$BH11,$B12=$BI11,$B12=$BJ11,$B12=$BA11),BK11,BJ11) | BL12: =IF(OR($B12=$AV11,$B12=$AT11,$B12=$AU11,$B12=$AW11,$B12=$AX11,$B12=$AY11,$B12=$AZ11,$B12=$BB11,$B12=$BC11,$B12=$BD11,$B12=$BE11,$B12=$BF11,$B12=$BG11,$B12=$BH11,$B12=$BI11,$B12=$BJ11,$B12=$BK11,$B12=$BA11),BL11,BK11) | BM12: =IF(OR($B12=$AV11,$B12=$AT11,$B12=$AU11,$B12=$AW11,$B12=$AX11,$B12=$AY11,$B12=$AZ11,$B12=$BB11,$B12=$BC11,$B12=$BD11,$B12=$BE11,$B12=$BF11,$B12=$BG11,$B12=$BH11,$B12=$BI11,$B12=$BJ11,$B12=$BK11,$B12=$BL11,$B12=$BA11),BM11,BL11) | BN12: =IF(OR($B12=$AV11,$B12=$AT11,$B12=$AU11,$B12=$AW11,$B12=$AX11,$B12=$AY11,$B12=$AZ11,$B12=$BB11,$B12=$BC11,$B12=$BD11,$B12=$BE11,$B12=$BF11,$B12=$BG11,$B12=$BH11,$B12=$BI11,$B12=$BJ11,$B12=$BK11,$B12=$BL11,$B12=$BM11,$B12=$BA11),BN11,BM11) | BO12: =IF(OR($B12=$AV11,$B12=$AT11,$B12=$AU11,$B12=$AW11,$B12=$AX11,$B12=$AY11,$B12=$AZ11,$B12=$BB11,$B12=$BC11,$B12=$BD11,$B12=$BE11,$B12=$BF11,$B12=$BG11,$B12=$BH11,$B12=$BI11,$B12=$BJ11,$B12=$BK11,$B12=$BL11,$B12=$BM11,$B12=$BN11,$B12=$BA11),BO11,BN11) | BP12: =IF(OR($B12=$AV11,$B12=$AT11,$B12=$AU11,$B12=$AW11,$B12=$AX11,$B12=$AY11,$B12=$AZ11,$B12=$BB11,$B12=$BC11,$B12=$BD11,$B12=$BE11,$B12=$BF11,$B12=$BG11,$B12=$BH11,$B12=$BI11,$B12=$BJ11,$B12=$BK11,$B12=$BL11,$B12=$BM11,$B12=$BN11,$B12=$BO11,$B12=$BA11),BP11,BO11) | BQ12: =IF(OR($B12=$AV11,$B12=$AT11,$B12=$AU11,$B12=$AW11,$B12=$AX11,$B12=$AY11,$B12=$AZ11,$B12=$BB11,$B12=$BC11,$B12=$BD11,$B12=$BE11,$B12=$BF11,$B12=$BG11,$B12=$BH11,$B12=$BI11,$B12=$BJ11,$B12=$BK11,$B12=$BL11,$B12=$BM11,$B12=$BN11,$B12=$BO11,$B12=$BP11,$B12=$BA11),BQ11,BP11) | BR12: =IF(OR($B12=$AV11,$B12=$AT11,$B12=$AU11,$B12=$AW11,$B12=$AX11,$B12=$AY11,$B12=$AZ11,$B12=$BB11,$B12=$BC11,$B12=$BD11,$B12=$BE11,$B12=$BF11,$B12=$BG11,$B12=$BH11,$B12=$BI11,$B12=$BJ11,$B12=$BK11,$B12=$BL11,$B12=$BM11,$B12=$BN11,$B12=$BO11,$B12=$BP11,$B12=$BQ11,$B12=$BA11),BR11,BQ11) | BS12: =IF(OR($B12=$AV11,$B12=$AT11,$B12=$AU11,$B12=$AW11,$B12=$AX11,$B12=$AY11,$B12=$AZ11,$B12=$BB11,$B12=$BC11,$B12=$BD11,$B12=$BE11,$B12=$BF11,$B12=$BG11,$B12=$BH11,$B12=$BI11,$B12=$BJ11,$B12=$BK11,$B12=$BL11,$B12=$BM11,$B12=$BN11,$B12=$BO11,$B12=$BP11,$B12=$BQ11,$B12=$BR11,$B12=$BA11),BS11,BR11) | BT12: =IF(OR($B12=$AV11,$B12=$AT11,$B12=$AU11,$B12=$AW11,$B12=$AX11,$B12=$AY11,$B12=$AZ11,$B12=$BB11,$B12=$BC11,$B12=$BD11,$B12=$BE11,$B12=$BF11,$B12=$BG11,$B12=$BH11,$B12=$BI11,$B12=$BJ11,$B12=$BK11,$B12=$BL11,$B12=$BM11,$B12=$BN11,$B12=$BO11,$B12=$BP11,$B12=$BQ11,$B12=$BR11,$B12=$BS11,$B12=$BA11),BT11,BS11) | BU12: =IF(OR($B12=$AV11,$B12=$AT11,$B12=$AU11,$B12=$AW11,$B12=$AX11,$B12=$AY11,$B12=$AZ11,$B12=$BB11,$B12=$BC11,$B12=$BD11,$B12=$BE11,$B12=$BF11,$B12=$BG11,$B12=$BH11,$B12=$BI11,$B12=$BJ11,$B12=$BK11,$B12=$BL11,$B12=$BM11,$B12=$BN11,$B12=$BO11,$B12=$BP11,$B12=$BQ11,$B12=$BR11,$B12=$BS11,$B12=$BT11,$B12=$BA11),BU11,BT11) | BV12: =IF(OR($B12=$AV11,$B12=$AT11,$B12=$AU11,$B12=$AW11,$B12=$AX11,$B12=$AY11,$B12=$AZ11,$B12=$BB11,$B12=$BC11,$B12=$BD11,$B12=$BE11,$B12=$BF11,$B12=$BG11,$B12=$BH11,$B12=$BI11,$B12=$BJ11,$B12=$BK11,$B12=$BL11,$B12=$BM11,$B12=$BN11,$B12=$BO11,$B12=$BP11,$B12=$BQ11,$B12=$BR11,$B12=$BS11,$B12=$BT11,$B12=$BU11,$B12=$BA11),BV11,BU11) | BW12: =IF(OR($B12=$AV11,$B12=$AT11,$B12=$AU11,$B12=$AW11,$B12=$AX11,$B12=$AY11,$B12=$AZ11,$B12=$BB11,$B12=$BC11,$B12=$BD11,$B12=$BE11,$B12=$BF11,$B12=$BG11,$B12=$BH11,$B12=$BI11,$B12=$BJ11,$B12=$BK11,$B12=$BL11,$B12=$BM11,$B12=$BN11,$B12=$BO11,$B12=$BP11,$B12=$BQ11,$B12=$BR11,$B12=$BS11,$B12=$BT11,$B12=$BU11,$B12=$BV11,$B12=$BA11),BW11,BV11) | BX12: =IF(OR($B12=$AV11,$B12=$AT11,$B12=$AU11,$B12=$AW11,$B12=$AX11,$B12=$AY11,$B12=$AZ11,$B12=$BB11,$B12=$BC11,$B12=$BD11,$B12=$BE11,$B12=$BF11,$B12=$BG11,$B12=$BH11,$B12=$BI11,$B12=$BJ11,$B12=$BK11,$B12=$BL11,$B12=$BM11,$B12=$BN11,$B12=$BO11,$B12=$BP11,$B12=$BQ11,$B12=$BR11,$B12=$BS11,$B12=$BT11,$B12=$BU11,$B12=$BV11,$B12=$BW11,$B12=$BA11),BX11,BW11) | BY12: =IF(OR($B12=$AV11,$B12=$AT11,$B12=$AU11,$B12=$AW11,$B12=$AX11,$B12=$AY11,$B12=$AZ11,$B12=$BB11,$B12=$BC11,$B12=$BD11,$B12=$BE11,$B12=$BF11,$B12=$BG11,$B12=$BH11,$B12=$BI11,$B12=$BJ11,$B12=$BK11,$B12=$BL11,$B12=$BM11,$B12=$BN11,$B12=$BO11,$B12=$BP11,$B12=$BQ11,$B12=$BR11,$B12=$BS11,$B12=$BT11,$B12=$BU11,$B12=$BV11,$B12=$BW11,$B12=$BX11,$B12=$BA11),BY11,BX11) | BZ12: =IF(OR($B12=$AV11,$B12=$AT11,$B12=$AU11,$B12=$AW11,$B12=$AX11,$B12=$AY11,$B12=$AZ11,$B12=$BB11,$B12=$BC11,$B12=$BD11,$B12=$BE11,$B12=$BF11,$B12=$BG11,$B12=$BH11,$B12=$BI11,$B12=$BJ11,$B12=$BK11,$B12=$BL11,$B12=$BM11,$B12=$BN11,$B12=$BO11,$B12=$BP11,$B12=$BQ11,$B12=$BR11,$B12=$BS11,$B12=$BT11,$B12=$BU11,$B12=$BV11,$B12=$BW11,$B12=$BX11,$B12=$BY11,$B12=$BA11),BZ11,BY11) | CA12: =IF(OR($B12=$AV11,$B12=$AT11,$B12=$AU11,$B12=$AW11,$B12=$AX11,$B12=$AY11,$B12=$AZ11,$B12=$BB11,$B12=$BC11,$B12=$BD11,$B12=$BE11,$B12=$BF11,$B12=$BG11,$B12=$BH11,$B12=$BI11,$B12=$BJ11,$B12=$BK11,$B12=$BL11,$B12=$BM11,$B12=$BN11,$B12=$BO11,$B12=$BP11,$B12=$BQ11,$B12=$BR11,$B12=$BS11,$B12=$BT11,$B12=$BU11,$B12=$BV11,$B12=$BW11,$B12=$BX11,$B12=$BY11,$B12=$BZ11,$B12=$BA11),CA11,BZ11) | CB12: =IF(OR($B12=$AV11,$B12=$AT11,$B12=$AU11,$B12=$AW11,$B12=$AX11,$B12=$AY11,$B12=$AZ11,$B12=$BB11,$B12=$BC11,$B12=$BD11,$B12=$BE11,$B12=$BF11,$B12=$BG11,$B12=$BH11,$B12=$BI11,$B12=$BJ11,$B12=$BK11,$B12=$BL11,$B12=$BM11,$B12=$BN11,$B12=$BO11,$B12=$BP11,$B12=$BQ11,$B12=$BR11,$B12=$BS11,$B12=$BT11,$B12=$BU11,$B12=$BV11,$B12=$BW11,$B12=$BX11,$B12=$BY11,$B12=$BZ11,$B12=$CA11,$B12=$BA11),CB11,CA11) | CC12: =IF(OR($B12=$AV11,$B12=$AT11,$B12=$AU11,$B12=$AW11,$B12=$AX11,$B12=$AY11,$B12=$AZ11,$B12=$BB11,$B12=$BC11,$B12=$BD11,$B12=$BE11,$B12=$BF11,$B12=$BG11,$B12=$BH11,$B12=$BI11,$B12=$BJ11,$B12=$BK11,$B12=$BL11,$B12=$BM11,$B12=$BN11,$B12=$BO11,$B12=$BP11,$B12=$BQ11,$B12=$BR11,$B12=$BS11,$B12=$BT11,$B12=$BU11,$B12=$BV11,$B12=$BW11,$B12=$BX11,$B12=$BY11,$B12=$BZ11,$B12=$CA11,$B12=$CB11,$B12=$BA11),CC11,CB11) | CD12: =IF(OR($B12=$AV11,$B12=$AT11,$B12=$AU11,$B12=$AW11,$B12=$AX11,$B12=$AY11,$B12=$AZ11,$B12=$BB11,$B12=$BC11,$B12=$BD11,$B12=$BE11,$B12=$BF11,$B12=$BG11,$B12=$BH11,$B12=$BI11,$B12=$BJ11,$B12=$BK11,$B12=$BL11,$B12=$BM11,$B12=$BN11,$B12=$BO11,$B12=$BP11,$B12=$BQ11,$B12=$BR11,$B12=$BS11,$B12=$BT11,$B12=$BU11,$B12=$BV11,$B12=$BW11,$B12=$BX11,$B12=$BY11,$B12=$BZ11,$B12=$CA11,$B12=$CB11,$B12=$CC11,$B12=$BA11),CD11,CC11) | CH12: =IF(AND(CH11="",$B12<>CH$1),"",IF($C12<CH11,CH11,IF($B12=CH$1,1,1+CH11))) | CI12: =IF(AND(CI11="",$B12<>CI$1),"",IF($C12<CI11,CI11,IF($B12=CI$1,1,1+CI11))) -> 6 | CJ12: =IF(AND(CJ11="",$B12<>CJ$1),"",IF($C12<CJ11,CJ11,IF($B12=CJ$1,1,1+CJ11))) | CK12: =IF(AND(CK11="",$B12<>CK$1),"",IF($C12<CK11,CK11,IF($B12=CK$1,1,1+CK11))) | CL12: =IF(AND(CL11="",$B12<>CL$1),"",IF($C12<CL11,CL11,IF($B12=CL$1,1,1+CL11))) | CM12: =IF(AND(CM11="",$B12<>CM$1),"",IF($C12<CM11,CM11,IF($B12=CM$1,1,1+CM11))) | CN12: =IF(AND(CN11="",$B12<>CN$1),"",IF($C12<CN11,CN11,IF($B12=CN$1,1,1+CN11))) | CO12: =IF(AND(CO11="",$B12<>CO$1),"",IF($C12<CO11,CO11,IF($B12=CO$1,1,1+CO11))) | ... DR12: =IF(AND(DR11="",$B12<>DR$1),"",IF($C12<DR11,DR11,IF($B12=DR$1,1,1+DR11)))
A13: 12 | B13: =Drogan!E14 -> 19 | C13: =IF(B13="","",LOOKUP(B13,$CH$1:$DR$1,CH12:DR12)) | G13: =IF(AND($B14="",$B13<>""),"Nrs",IF(AND($B15="",$B14<>"",$B13<>""),G$1,"")) | H13: =IF(AND($B14="",$B13<>""),AT13,IF(AND($B15="",$B14<>"",$B13<>""),H$1,"")) | I13: =IF(AND($B14="",$B13<>""),AU13,IF(AND($B15="",$B14<>"",$B13<>""),I$1,"")) | J13: =IF(AND($B14="",$B13<>""),AV13,IF(AND($B15="",$B14<>"",$B13<>""),J$1,"")) | K13: =IF(AND($B14="",$B13<>""),AW13,IF(AND($B15="",$B14<>"",$B13<>""),K$1,"")) | L13: =IF(AND($B14="",$B13<>""),AX13,IF(AND($B15="",$B14<>"",$B13<>""),L$1,"")) | M13: =IF(AND($B14="",$B13<>""),AY13,IF(AND($B15="",$B14<>"",$B13<>""),M$1,"")) | N13: =IF(AND($B14="",$B13<>""),AZ13,IF(AND($B15="",$B14<>"",$B13<>""),N$1,"")) | O13: =IF(AND($B14="",$B13<>""),BA13,IF(AND($B15="",$B14<>"",$B13<>""),O$1,"")) | ... AR13: =IF(AND($B14="",$B13<>""),CD13,IF(AND($B15="",$B14<>"",$B13<>""),AR$1,"")) | AT13: =B13 -> 19 | AU13: =IF($B13=$AT12,AU12,AT12) -> 10 | AV13: =IF(OR($B13=$AT12,$B13=$AU12),AV12,AU12) -> 20 | AW13: =IF(OR($B13=$AV12,$B13=$AT12,$B13=$AU12),AW12,AV12) -> 34 | AX13: =IF(OR($B13=$AV12,$B13=$AT12,$B13=$AU12,$B13=$AW12),AX12,AW12) -> 36 | AY13: =IF(OR($B13=$AV12,$B13=$AT12,$B13=$AU12,$B13=$AW12,$B13=$AX12),AY12,AX12) -> 21 | AZ13: =IF(OR($B13=$AV12,$B13=$AT12,$B13=$AU12,$B13=$AW12,$B13=$AX12,$B13=$AY12),AZ12,AY12) -> 2 | BA13: =IF(OR($B13=$AV12,$B13=$AT12,$B13=$AU12,$B13=$AW12,$B13=$AX12,$B13=$AY12,$B13=$AZ12),BA12,AZ12) -> 26 | BB13: =IF(OR($B13=$AV12,$B13=$AT12,$B13=$AU12,$B13=$AW12,$B13=$AX12,$B13=$AY12,$B13=$AZ12,$B13=$BA12),BB12,BA12) -> 32 | BC13: =IF(OR($B13=$AV12,$B13=$AT12,$B13=$AU12,$B13=$AW12,$B13=$AX12,$B13=$AY12,$B13=$AZ12,$B13=$BA12,$B13=$BB12),BC12,BB12) -> 23 | BD13: =IF(OR($B13=$AV12,$B13=$AT12,$B13=$AU12,$B13=$AW12,$B13=$AX12,$B13=$AY12,$B13=$AZ12,$B13=$BB12,$B13=$BC12,$B13=$BA12),BD12,BC12) | BE13: =IF(OR($B13=$AV12,$B13=$AT12,$B13=$AU12,$B13=$AW12,$B13=$AX12,$B13=$AY12,$B13=$AZ12,$B13=$BB12,$B13=$BC12,$B13=$BD12,$B13=$BA12),BE12,BD12) | BF13: =IF(OR($B13=$AV12,$B13=$AT12,$B13=$AU12,$B13=$AW12,$B13=$AX12,$B13=$AY12,$B13=$AZ12,$B13=$BB12,$B13=$BC12,$B13=$BD12,$B13=$BE12,$B13=$BA12),BF12,BE12) | BG13: =IF(OR($B13=$AV12,$B13=$AT12,$B13=$AU12,$B13=$AW12,$B13=$AX12,$B13=$AY12,$B13=$AZ12,$B13=$BB12,$B13=$BC12,$B13=$BD12,$B13=$BE12,$B13=$BF12,$B13=$BA12),BG12,BF12) | BH13: =IF(OR($B13=$AV12,$B13=$AT12,$B13=$AU12,$B13=$AW12,$B13=$AX12,$B13=$AY12,$B13=$AZ12,$B13=$BB12,$B13=$BC12,$B13=$BD12,$B13=$BE12,$B13=$BF12,$B13=$BG12,$B13=$BA12),BH12,BG12) | BI13: =IF(OR($B13=$AV12,$B13=$AT12,$B13=$AU12,$B13=$AW12,$B13=$AX12,$B13=$AY12,$B13=$AZ12,$B13=$BB12,$B13=$BC12,$B13=$BD12,$B13=$BE12,$B13=$BF12,$B13=$BG12,$B13=$BH12,$B13=$BA12),BI12,BH12) | BJ13: =IF(OR($B13=$AV12,$B13=$AT12,$B13=$AU12,$B13=$AW12,$B13=$AX12,$B13=$AY12,$B13=$AZ12,$B13=$BB12,$B13=$BC12,$B13=$BD12,$B13=$BE12,$B13=$BF12,$B13=$BG12,$B13=$BH12,$B13=$BI12,$B13=$BA12),BJ12,BI12) | BK13: =IF(OR($B13=$AV12,$B13=$AT12,$B13=$AU12,$B13=$AW12,$B13=$AX12,$B13=$AY12,$B13=$AZ12,$B13=$BB12,$B13=$BC12,$B13=$BD12,$B13=$BE12,$B13=$BF12,$B13=$BG12,$B13=$BH12,$B13=$BI12,$B13=$BJ12,$B13=$BA12),BK12,BJ12) | BL13: =IF(OR($B13=$AV12,$B13=$AT12,$B13=$AU12,$B13=$AW12,$B13=$AX12,$B13=$AY12,$B13=$AZ12,$B13=$BB12,$B13=$BC12,$B13=$BD12,$B13=$BE12,$B13=$BF12,$B13=$BG12,$B13=$BH12,$B13=$BI12,$B13=$BJ12,$B13=$BK12,$B13=$BA12),BL12,BK12) | BM13: =IF(OR($B13=$AV12,$B13=$AT12,$B13=$AU12,$B13=$AW12,$B13=$AX12,$B13=$AY12,$B13=$AZ12,$B13=$BB12,$B13=$BC12,$B13=$BD12,$B13=$BE12,$B13=$BF12,$B13=$BG12,$B13=$BH12,$B13=$BI12,$B13=$BJ12,$B13=$BK12,$B13=$BL12,$B13=$BA12),BM12,BL12) | BN13: =IF(OR($B13=$AV12,$B13=$AT12,$B13=$AU12,$B13=$AW12,$B13=$AX12,$B13=$AY12,$B13=$AZ12,$B13=$BB12,$B13=$BC12,$B13=$BD12,$B13=$BE12,$B13=$BF12,$B13=$BG12,$B13=$BH12,$B13=$BI12,$B13=$BJ12,$B13=$BK12,$B13=$BL12,$B13=$BM12,$B13=$BA12),BN12,BM12) | BO13: =IF(OR($B13=$AV12,$B13=$AT12,$B13=$AU12,$B13=$AW12,$B13=$AX12,$B13=$AY12,$B13=$AZ12,$B13=$BB12,$B13=$BC12,$B13=$BD12,$B13=$BE12,$B13=$BF12,$B13=$BG12,$B13=$BH12,$B13=$BI12,$B13=$BJ12,$B13=$BK12,$B13=$BL12,$B13=$BM12,$B13=$BN12,$B13=$BA12),BO12,BN12) | BP13: =IF(OR($B13=$AV12,$B13=$AT12,$B13=$AU12,$B13=$AW12,$B13=$AX12,$B13=$AY12,$B13=$AZ12,$B13=$BB12,$B13=$BC12,$B13=$BD12,$B13=$BE12,$B13=$BF12,$B13=$BG12,$B13=$BH12,$B13=$BI12,$B13=$BJ12,$B13=$BK12,$B13=$BL12,$B13=$BM12,$B13=$BN12,$B13=$BO12,$B13=$BA12),BP12,BO12) | BQ13: =IF(OR($B13=$AV12,$B13=$AT12,$B13=$AU12,$B13=$AW12,$B13=$AX12,$B13=$AY12,$B13=$AZ12,$B13=$BB12,$B13=$BC12,$B13=$BD12,$B13=$BE12,$B13=$BF12,$B13=$BG12,$B13=$BH12,$B13=$BI12,$B13=$BJ12,$B13=$BK12,$B13=$BL12,$B13=$BM12,$B13=$BN12,$B13=$BO12,$B13=$BP12,$B13=$BA12),BQ12,BP12) | BR13: =IF(OR($B13=$AV12,$B13=$AT12,$B13=$AU12,$B13=$AW12,$B13=$AX12,$B13=$AY12,$B13=$AZ12,$B13=$BB12,$B13=$BC12,$B13=$BD12,$B13=$BE12,$B13=$BF12,$B13=$BG12,$B13=$BH12,$B13=$BI12,$B13=$BJ12,$B13=$BK12,$B13=$BL12,$B13=$BM12,$B13=$BN12,$B13=$BO12,$B13=$BP12,$B13=$BQ12,$B13=$BA12),BR12,BQ12) | BS13: =IF(OR($B13=$AV12,$B13=$AT12,$B13=$AU12,$B13=$AW12,$B13=$AX12,$B13=$AY12,$B13=$AZ12,$B13=$BB12,$B13=$BC12,$B13=$BD12,$B13=$BE12,$B13=$BF12,$B13=$BG12,$B13=$BH12,$B13=$BI12,$B13=$BJ12,$B13=$BK12,$B13=$BL12,$B13=$BM12,$B13=$BN12,$B13=$BO12,$B13=$BP12,$B13=$BQ12,$B13=$BR12,$B13=$BA12),BS12,BR12) | BT13: =IF(OR($B13=$AV12,$B13=$AT12,$B13=$AU12,$B13=$AW12,$B13=$AX12,$B13=$AY12,$B13=$AZ12,$B13=$BB12,$B13=$BC12,$B13=$BD12,$B13=$BE12,$B13=$BF12,$B13=$BG12,$B13=$BH12,$B13=$BI12,$B13=$BJ12,$B13=$BK12,$B13=$BL12,$B13=$BM12,$B13=$BN12,$B13=$BO12,$B13=$BP12,$B13=$BQ12,$B13=$BR12,$B13=$BS12,$B13=$BA12),BT12,BS12) | BU13: =IF(OR($B13=$AV12,$B13=$AT12,$B13=$AU12,$B13=$AW12,$B13=$AX12,$B13=$AY12,$B13=$AZ12,$B13=$BB12,$B13=$BC12,$B13=$BD12,$B13=$BE12,$B13=$BF12,$B13=$BG12,$B13=$BH12,$B13=$BI12,$B13=$BJ12,$B13=$BK12,$B13=$BL12,$B13=$BM12,$B13=$BN12,$B13=$BO12,$B13=$BP12,$B13=$BQ12,$B13=$BR12,$B13=$BS12,$B13=$BT12,$B13=$BA12),BU12,BT12) | BV13: =IF(OR($B13=$AV12,$B13=$AT12,$B13=$AU12,$B13=$AW12,$B13=$AX12,$B13=$AY12,$B13=$AZ12,$B13=$BB12,$B13=$BC12,$B13=$BD12,$B13=$BE12,$B13=$BF12,$B13=$BG12,$B13=$BH12,$B13=$BI12,$B13=$BJ12,$B13=$BK12,$B13=$BL12,$B13=$BM12,$B13=$BN12,$B13=$BO12,$B13=$BP12,$B13=$BQ12,$B13=$BR12,$B13=$BS12,$B13=$BT12,$B13=$BU12,$B13=$BA12),BV12,BU12) | BW13: =IF(OR($B13=$AV12,$B13=$AT12,$B13=$AU12,$B13=$AW12,$B13=$AX12,$B13=$AY12,$B13=$AZ12,$B13=$BB12,$B13=$BC12,$B13=$BD12,$B13=$BE12,$B13=$BF12,$B13=$BG12,$B13=$BH12,$B13=$BI12,$B13=$BJ12,$B13=$BK12,$B13=$BL12,$B13=$BM12,$B13=$BN12,$B13=$BO12,$B13=$BP12,$B13=$BQ12,$B13=$BR12,$B13=$BS12,$B13=$BT12,$B13=$BU12,$B13=$BV12,$B13=$BA12),BW12,BV12) | BX13: =IF(OR($B13=$AV12,$B13=$AT12,$B13=$AU12,$B13=$AW12,$B13=$AX12,$B13=$AY12,$B13=$AZ12,$B13=$BB12,$B13=$BC12,$B13=$BD12,$B13=$BE12,$B13=$BF12,$B13=$BG12,$B13=$BH12,$B13=$BI12,$B13=$BJ12,$B13=$BK12,$B13=$BL12,$B13=$BM12,$B13=$BN12,$B13=$BO12,$B13=$BP12,$B13=$BQ12,$B13=$BR12,$B13=$BS12,$B13=$BT12,$B13=$BU12,$B13=$BV12,$B13=$BW12,$B13=$BA12),BX12,BW12) | BY13: =IF(OR($B13=$AV12,$B13=$AT12,$B13=$AU12,$B13=$AW12,$B13=$AX12,$B13=$AY12,$B13=$AZ12,$B13=$BB12,$B13=$BC12,$B13=$BD12,$B13=$BE12,$B13=$BF12,$B13=$BG12,$B13=$BH12,$B13=$BI12,$B13=$BJ12,$B13=$BK12,$B13=$BL12,$B13=$BM12,$B13=$BN12,$B13=$BO12,$B13=$BP12,$B13=$BQ12,$B13=$BR12,$B13=$BS12,$B13=$BT12,$B13=$BU12,$B13=$BV12,$B13=$BW12,$B13=$BX12,$B13=$BA12),BY12,BX12) | BZ13: =IF(OR($B13=$AV12,$B13=$AT12,$B13=$AU12,$B13=$AW12,$B13=$AX12,$B13=$AY12,$B13=$AZ12,$B13=$BB12,$B13=$BC12,$B13=$BD12,$B13=$BE12,$B13=$BF12,$B13=$BG12,$B13=$BH12,$B13=$BI12,$B13=$BJ12,$B13=$BK12,$B13=$BL12,$B13=$BM12,$B13=$BN12,$B13=$BO12,$B13=$BP12,$B13=$BQ12,$B13=$BR12,$B13=$BS12,$B13=$BT12,$B13=$BU12,$B13=$BV12,$B13=$BW12,$B13=$BX12,$B13=$BY12,$B13=$BA12),BZ12,BY12) | CA13: =IF(OR($B13=$AV12,$B13=$AT12,$B13=$AU12,$B13=$AW12,$B13=$AX12,$B13=$AY12,$B13=$AZ12,$B13=$BB12,$B13=$BC12,$B13=$BD12,$B13=$BE12,$B13=$BF12,$B13=$BG12,$B13=$BH12,$B13=$BI12,$B13=$BJ12,$B13=$BK12,$B13=$BL12,$B13=$BM12,$B13=$BN12,$B13=$BO12,$B13=$BP12,$B13=$BQ12,$B13=$BR12,$B13=$BS12,$B13=$BT12,$B13=$BU12,$B13=$BV12,$B13=$BW12,$B13=$BX12,$B13=$BY12,$B13=$BZ12,$B13=$BA12),CA12,BZ12) | CB13: =IF(OR($B13=$AV12,$B13=$AT12,$B13=$AU12,$B13=$AW12,$B13=$AX12,$B13=$AY12,$B13=$AZ12,$B13=$BB12,$B13=$BC12,$B13=$BD12,$B13=$BE12,$B13=$BF12,$B13=$BG12,$B13=$BH12,$B13=$BI12,$B13=$BJ12,$B13=$BK12,$B13=$BL12,$B13=$BM12,$B13=$BN12,$B13=$BO12,$B13=$BP12,$B13=$BQ12,$B13=$BR12,$B13=$BS12,$B13=$BT12,$B13=$BU12,$B13=$BV12,$B13=$BW12,$B13=$BX12,$B13=$BY12,$B13=$BZ12,$B13=$CA12,$B13=$BA12),CB12,CA12) | CC13: =IF(OR($B13=$AV12,$B13=$AT12,$B13=$AU12,$B13=$AW12,$B13=$AX12,$B13=$AY12,$B13=$AZ12,$B13=$BB12,$B13=$BC12,$B13=$BD12,$B13=$BE12,$B13=$BF12,$B13=$BG12,$B13=$BH12,$B13=$BI12,$B13=$BJ12,$B13=$BK12,$B13=$BL12,$B13=$BM12,$B13=$BN12,$B13=$BO12,$B13=$BP12,$B13=$BQ12,$B13=$BR12,$B13=$BS12,$B13=$BT12,$B13=$BU12,$B13=$BV12,$B13=$BW12,$B13=$BX12,$B13=$BY12,$B13=$BZ12,$B13=$CA12,$B13=$CB12,$B13=$BA12),CC12,CB12) | CD13: =IF(OR($B13=$AV12,$B13=$AT12,$B13=$AU12,$B13=$AW12,$B13=$AX12,$B13=$AY12,$B13=$AZ12,$B13=$BB12,$B13=$BC12,$B13=$BD12,$B13=$BE12,$B13=$BF12,$B13=$BG12,$B13=$BH12,$B13=$BI12,$B13=$BJ12,$B13=$BK12,$B13=$BL12,$B13=$BM12,$B13=$BN12,$B13=$BO12,$B13=$BP12,$B13=$BQ12,$B13=$BR12,$B13=$BS12,$B13=$BT12,$B13=$BU12,$B13=$BV12,$B13=$BW12,$B13=$BX12,$B13=$BY12,$B13=$BZ12,$B13=$CA12,$B13=$CB12,$B13=$CC12,$B13=$BA12),CD12,CC12) | CH13: =IF(AND(CH12="",$B13<>CH$1),"",IF($C13<CH12,CH12,IF($B13=CH$1,1,1+CH12))) | CI13: =IF(AND(CI12="",$B13<>CI$1),"",IF($C13<CI12,CI12,IF($B13=CI$1,1,1+CI12))) -> 7 | CJ13: =IF(AND(CJ12="",$B13<>CJ$1),"",IF($C13<CJ12,CJ12,IF($B13=CJ$1,1,1+CJ12))) | CK13: =IF(AND(CK12="",$B13<>CK$1),"",IF($C13<CK12,CK12,IF($B13=CK$1,1,1+CK12))) | CL13: =IF(AND(CL12="",$B13<>CL$1),"",IF($C13<CL12,CL12,IF($B13=CL$1,1,1+CL12))) | CM13: =IF(AND(CM12="",$B13<>CM$1),"",IF($C13<CM12,CM12,IF($B13=CM$1,1,1+CM12))) | CN13: =IF(AND(CN12="",$B13<>CN$1),"",IF($C13<CN12,CN12,IF($B13=CN$1,1,1+CN12))) | CO13: =IF(AND(CO12="",$B13<>CO$1),"",IF($C13<CO12,CO12,IF($B13=CO$1,1,1+CO12))) | ... DR13: =IF(AND(DR12="",$B13<>DR$1),"",IF($C13<DR12,DR12,IF($B13=DR$1,1,1+DR12)))
A14: 13 | B14: =Drogan!E15 -> 22 | C14: =IF(B14="","",LOOKUP(B14,$CH$1:$DR$1,CH13:DR13)) | G14: =IF(AND($B15="",$B14<>""),"Nrs",IF(AND($B16="",$B15<>"",$B14<>""),G$1,"")) | H14: =IF(AND($B15="",$B14<>""),AT14,IF(AND($B16="",$B15<>"",$B14<>""),H$1,"")) | I14: =IF(AND($B15="",$B14<>""),AU14,IF(AND($B16="",$B15<>"",$B14<>""),I$1,"")) | J14: =IF(AND($B15="",$B14<>""),AV14,IF(AND($B16="",$B15<>"",$B14<>""),J$1,"")) | K14: =IF(AND($B15="",$B14<>""),AW14,IF(AND($B16="",$B15<>"",$B14<>""),K$1,"")) | L14: =IF(AND($B15="",$B14<>""),AX14,IF(AND($B16="",$B15<>"",$B14<>""),L$1,"")) | M14: =IF(AND($B15="",$B14<>""),AY14,IF(AND($B16="",$B15<>"",$B14<>""),M$1,"")) | N14: =IF(AND($B15="",$B14<>""),AZ14,IF(AND($B16="",$B15<>"",$B14<>""),N$1,"")) | O14: =IF(AND($B15="",$B14<>""),BA14,IF(AND($B16="",$B15<>"",$B14<>""),O$1,"")) | ... AR14: =IF(AND($B15="",$B14<>""),CD14,IF(AND($B16="",$B15<>"",$B14<>""),AR$1,"")) | AT14: =B14 -> 22 | AU14: =IF($B14=$AT13,AU13,AT13) -> 19 | AV14: =IF(OR($B14=$AT13,$B14=$AU13),AV13,AU13) -> 10 | AW14: =IF(OR($B14=$AV13,$B14=$AT13,$B14=$AU13),AW13,AV13) -> 20 | AX14: =IF(OR($B14=$AV13,$B14=$AT13,$B14=$AU13,$B14=$AW13),AX13,AW13) -> 34 | AY14: =IF(OR($B14=$AV13,$B14=$AT13,$B14=$AU13,$B14=$AW13,$B14=$AX13),AY13,AX13) -> 36 | AZ14: =IF(OR($B14=$AV13,$B14=$AT13,$B14=$AU13,$B14=$AW13,$B14=$AX13,$B14=$AY13),AZ13,AY13) -> 21 | BA14: =IF(OR($B14=$AV13,$B14=$AT13,$B14=$AU13,$B14=$AW13,$B14=$AX13,$B14=$AY13,$B14=$AZ13),BA13,AZ13) -> 2 | BB14: =IF(OR($B14=$AV13,$B14=$AT13,$B14=$AU13,$B14=$AW13,$B14=$AX13,$B14=$AY13,$B14=$AZ13,$B14=$BA13),BB13,BA13) -> 26 | BC14: =IF(OR($B14=$AV13,$B14=$AT13,$B14=$AU13,$B14=$AW13,$B14=$AX13,$B14=$AY13,$B14=$AZ13,$B14=$BA13,$B14=$BB13),BC13,BB13) -> 32 | BD14: =IF(OR($B14=$AV13,$B14=$AT13,$B14=$AU13,$B14=$AW13,$B14=$AX13,$B14=$AY13,$B14=$AZ13,$B14=$BB13,$B14=$BC13,$B14=$BA13),BD13,BC13) -> 23 | BE14: =IF(OR($B14=$AV13,$B14=$AT13,$B14=$AU13,$B14=$AW13,$B14=$AX13,$B14=$AY13,$B14=$AZ13,$B14=$BB13,$B14=$BC13,$B14=$BD13,$B14=$BA13),BE13,BD13) | BF14: =IF(OR($B14=$AV13,$B14=$AT13,$B14=$AU13,$B14=$AW13,$B14=$AX13,$B14=$AY13,$B14=$AZ13,$B14=$BB13,$B14=$BC13,$B14=$BD13,$B14=$BE13,$B14=$BA13),BF13,BE13) | BG14: =IF(OR($B14=$AV13,$B14=$AT13,$B14=$AU13,$B14=$AW13,$B14=$AX13,$B14=$AY13,$B14=$AZ13,$B14=$BB13,$B14=$BC13,$B14=$BD13,$B14=$BE13,$B14=$BF13,$B14=$BA13),BG13,BF13) | BH14: =IF(OR($B14=$AV13,$B14=$AT13,$B14=$AU13,$B14=$AW13,$B14=$AX13,$B14=$AY13,$B14=$AZ13,$B14=$BB13,$B14=$BC13,$B14=$BD13,$B14=$BE13,$B14=$BF13,$B14=$BG13,$B14=$BA13),BH13,BG13) | BI14: =IF(OR($B14=$AV13,$B14=$AT13,$B14=$AU13,$B14=$AW13,$B14=$AX13,$B14=$AY13,$B14=$AZ13,$B14=$BB13,$B14=$BC13,$B14=$BD13,$B14=$BE13,$B14=$BF13,$B14=$BG13,$B14=$BH13,$B14=$BA13),BI13,BH13) | BJ14: =IF(OR($B14=$AV13,$B14=$AT13,$B14=$AU13,$B14=$AW13,$B14=$AX13,$B14=$AY13,$B14=$AZ13,$B14=$BB13,$B14=$BC13,$B14=$BD13,$B14=$BE13,$B14=$BF13,$B14=$BG13,$B14=$BH13,$B14=$BI13,$B14=$BA13),BJ13,BI13) | BK14: =IF(OR($B14=$AV13,$B14=$AT13,$B14=$AU13,$B14=$AW13,$B14=$AX13,$B14=$AY13,$B14=$AZ13,$B14=$BB13,$B14=$BC13,$B14=$BD13,$B14=$BE13,$B14=$BF13,$B14=$BG13,$B14=$BH13,$B14=$BI13,$B14=$BJ13,$B14=$BA13),BK13,BJ13) | BL14: =IF(OR($B14=$AV13,$B14=$AT13,$B14=$AU13,$B14=$AW13,$B14=$AX13,$B14=$AY13,$B14=$AZ13,$B14=$BB13,$B14=$BC13,$B14=$BD13,$B14=$BE13,$B14=$BF13,$B14=$BG13,$B14=$BH13,$B14=$BI13,$B14=$BJ13,$B14=$BK13,$B14=$BA13),BL13,BK13) | BM14: =IF(OR($B14=$AV13,$B14=$AT13,$B14=$AU13,$B14=$AW13,$B14=$AX13,$B14=$AY13,$B14=$AZ13,$B14=$BB13,$B14=$BC13,$B14=$BD13,$B14=$BE13,$B14=$BF13,$B14=$BG13,$B14=$BH13,$B14=$BI13,$B14=$BJ13,$B14=$BK13,$B14=$BL13,$B14=$BA13),BM13,BL13) | BN14: =IF(OR($B14=$AV13,$B14=$AT13,$B14=$AU13,$B14=$AW13,$B14=$AX13,$B14=$AY13,$B14=$AZ13,$B14=$BB13,$B14=$BC13,$B14=$BD13,$B14=$BE13,$B14=$BF13,$B14=$BG13,$B14=$BH13,$B14=$BI13,$B14=$BJ13,$B14=$BK13,$B14=$BL13,$B14=$BM13,$B14=$BA13),BN13,BM13) | BO14: =IF(OR($B14=$AV13,$B14=$AT13,$B14=$AU13,$B14=$AW13,$B14=$AX13,$B14=$AY13,$B14=$AZ13,$B14=$BB13,$B14=$BC13,$B14=$BD13,$B14=$BE13,$B14=$BF13,$B14=$BG13,$B14=$BH13,$B14=$BI13,$B14=$BJ13,$B14=$BK13,$B14=$BL13,$B14=$BM13,$B14=$BN13,$B14=$BA13),BO13,BN13) | BP14: =IF(OR($B14=$AV13,$B14=$AT13,$B14=$AU13,$B14=$AW13,$B14=$AX13,$B14=$AY13,$B14=$AZ13,$B14=$BB13,$B14=$BC13,$B14=$BD13,$B14=$BE13,$B14=$BF13,$B14=$BG13,$B14=$BH13,$B14=$BI13,$B14=$BJ13,$B14=$BK13,$B14=$BL13,$B14=$BM13,$B14=$BN13,$B14=$BO13,$B14=$BA13),BP13,BO13) | BQ14: =IF(OR($B14=$AV13,$B14=$AT13,$B14=$AU13,$B14=$AW13,$B14=$AX13,$B14=$AY13,$B14=$AZ13,$B14=$BB13,$B14=$BC13,$B14=$BD13,$B14=$BE13,$B14=$BF13,$B14=$BG13,$B14=$BH13,$B14=$BI13,$B14=$BJ13,$B14=$BK13,$B14=$BL13,$B14=$BM13,$B14=$BN13,$B14=$BO13,$B14=$BP13,$B14=$BA13),BQ13,BP13) | BR14: =IF(OR($B14=$AV13,$B14=$AT13,$B14=$AU13,$B14=$AW13,$B14=$AX13,$B14=$AY13,$B14=$AZ13,$B14=$BB13,$B14=$BC13,$B14=$BD13,$B14=$BE13,$B14=$BF13,$B14=$BG13,$B14=$BH13,$B14=$BI13,$B14=$BJ13,$B14=$BK13,$B14=$BL13,$B14=$BM13,$B14=$BN13,$B14=$BO13,$B14=$BP13,$B14=$BQ13,$B14=$BA13),BR13,BQ13) | BS14: =IF(OR($B14=$AV13,$B14=$AT13,$B14=$AU13,$B14=$AW13,$B14=$AX13,$B14=$AY13,$B14=$AZ13,$B14=$BB13,$B14=$BC13,$B14=$BD13,$B14=$BE13,$B14=$BF13,$B14=$BG13,$B14=$BH13,$B14=$BI13,$B14=$BJ13,$B14=$BK13,$B14=$BL13,$B14=$BM13,$B14=$BN13,$B14=$BO13,$B14=$BP13,$B14=$BQ13,$B14=$BR13,$B14=$BA13),BS13,BR13) | BT14: =IF(OR($B14=$AV13,$B14=$AT13,$B14=$AU13,$B14=$AW13,$B14=$AX13,$B14=$AY13,$B14=$AZ13,$B14=$BB13,$B14=$BC13,$B14=$BD13,$B14=$BE13,$B14=$BF13,$B14=$BG13,$B14=$BH13,$B14=$BI13,$B14=$BJ13,$B14=$BK13,$B14=$BL13,$B14=$BM13,$B14=$BN13,$B14=$BO13,$B14=$BP13,$B14=$BQ13,$B14=$BR13,$B14=$BS13,$B14=$BA13),BT13,BS13) | BU14: =IF(OR($B14=$AV13,$B14=$AT13,$B14=$AU13,$B14=$AW13,$B14=$AX13,$B14=$AY13,$B14=$AZ13,$B14=$BB13,$B14=$BC13,$B14=$BD13,$B14=$BE13,$B14=$BF13,$B14=$BG13,$B14=$BH13,$B14=$BI13,$B14=$BJ13,$B14=$BK13,$B14=$BL13,$B14=$BM13,$B14=$BN13,$B14=$BO13,$B14=$BP13,$B14=$BQ13,$B14=$BR13,$B14=$BS13,$B14=$BT13,$B14=$BA13),BU13,BT13) | BV14: =IF(OR($B14=$AV13,$B14=$AT13,$B14=$AU13,$B14=$AW13,$B14=$AX13,$B14=$AY13,$B14=$AZ13,$B14=$BB13,$B14=$BC13,$B14=$BD13,$B14=$BE13,$B14=$BF13,$B14=$BG13,$B14=$BH13,$B14=$BI13,$B14=$BJ13,$B14=$BK13,$B14=$BL13,$B14=$BM13,$B14=$BN13,$B14=$BO13,$B14=$BP13,$B14=$BQ13,$B14=$BR13,$B14=$BS13,$B14=$BT13,$B14=$BU13,$B14=$BA13),BV13,BU13) | BW14: =IF(OR($B14=$AV13,$B14=$AT13,$B14=$AU13,$B14=$AW13,$B14=$AX13,$B14=$AY13,$B14=$AZ13,$B14=$BB13,$B14=$BC13,$B14=$BD13,$B14=$BE13,$B14=$BF13,$B14=$BG13,$B14=$BH13,$B14=$BI13,$B14=$BJ13,$B14=$BK13,$B14=$BL13,$B14=$BM13,$B14=$BN13,$B14=$BO13,$B14=$BP13,$B14=$BQ13,$B14=$BR13,$B14=$BS13,$B14=$BT13,$B14=$BU13,$B14=$BV13,$B14=$BA13),BW13,BV13) | BX14: =IF(OR($B14=$AV13,$B14=$AT13,$B14=$AU13,$B14=$AW13,$B14=$AX13,$B14=$AY13,$B14=$AZ13,$B14=$BB13,$B14=$BC13,$B14=$BD13,$B14=$BE13,$B14=$BF13,$B14=$BG13,$B14=$BH13,$B14=$BI13,$B14=$BJ13,$B14=$BK13,$B14=$BL13,$B14=$BM13,$B14=$BN13,$B14=$BO13,$B14=$BP13,$B14=$BQ13,$B14=$BR13,$B14=$BS13,$B14=$BT13,$B14=$BU13,$B14=$BV13,$B14=$BW13,$B14=$BA13),BX13,BW13) | BY14: =IF(OR($B14=$AV13,$B14=$AT13,$B14=$AU13,$B14=$AW13,$B14=$AX13,$B14=$AY13,$B14=$AZ13,$B14=$BB13,$B14=$BC13,$B14=$BD13,$B14=$BE13,$B14=$BF13,$B14=$BG13,$B14=$BH13,$B14=$BI13,$B14=$BJ13,$B14=$BK13,$B14=$BL13,$B14=$BM13,$B14=$BN13,$B14=$BO13,$B14=$BP13,$B14=$BQ13,$B14=$BR13,$B14=$BS13,$B14=$BT13,$B14=$BU13,$B14=$BV13,$B14=$BW13,$B14=$BX13,$B14=$BA13),BY13,BX13) | BZ14: =IF(OR($B14=$AV13,$B14=$AT13,$B14=$AU13,$B14=$AW13,$B14=$AX13,$B14=$AY13,$B14=$AZ13,$B14=$BB13,$B14=$BC13,$B14=$BD13,$B14=$BE13,$B14=$BF13,$B14=$BG13,$B14=$BH13,$B14=$BI13,$B14=$BJ13,$B14=$BK13,$B14=$BL13,$B14=$BM13,$B14=$BN13,$B14=$BO13,$B14=$BP13,$B14=$BQ13,$B14=$BR13,$B14=$BS13,$B14=$BT13,$B14=$BU13,$B14=$BV13,$B14=$BW13,$B14=$BX13,$B14=$BY13,$B14=$BA13),BZ13,BY13) | CA14: =IF(OR($B14=$AV13,$B14=$AT13,$B14=$AU13,$B14=$AW13,$B14=$AX13,$B14=$AY13,$B14=$AZ13,$B14=$BB13,$B14=$BC13,$B14=$BD13,$B14=$BE13,$B14=$BF13,$B14=$BG13,$B14=$BH13,$B14=$BI13,$B14=$BJ13,$B14=$BK13,$B14=$BL13,$B14=$BM13,$B14=$BN13,$B14=$BO13,$B14=$BP13,$B14=$BQ13,$B14=$BR13,$B14=$BS13,$B14=$BT13,$B14=$BU13,$B14=$BV13,$B14=$BW13,$B14=$BX13,$B14=$BY13,$B14=$BZ13,$B14=$BA13),CA13,BZ13) | CB14: =IF(OR($B14=$AV13,$B14=$AT13,$B14=$AU13,$B14=$AW13,$B14=$AX13,$B14=$AY13,$B14=$AZ13,$B14=$BB13,$B14=$BC13,$B14=$BD13,$B14=$BE13,$B14=$BF13,$B14=$BG13,$B14=$BH13,$B14=$BI13,$B14=$BJ13,$B14=$BK13,$B14=$BL13,$B14=$BM13,$B14=$BN13,$B14=$BO13,$B14=$BP13,$B14=$BQ13,$B14=$BR13,$B14=$BS13,$B14=$BT13,$B14=$BU13,$B14=$BV13,$B14=$BW13,$B14=$BX13,$B14=$BY13,$B14=$BZ13,$B14=$CA13,$B14=$BA13),CB13,CA13) | CC14: =IF(OR($B14=$AV13,$B14=$AT13,$B14=$AU13,$B14=$AW13,$B14=$AX13,$B14=$AY13,$B14=$AZ13,$B14=$BB13,$B14=$BC13,$B14=$BD13,$B14=$BE13,$B14=$BF13,$B14=$BG13,$B14=$BH13,$B14=$BI13,$B14=$BJ13,$B14=$BK13,$B14=$BL13,$B14=$BM13,$B14=$BN13,$B14=$BO13,$B14=$BP13,$B14=$BQ13,$B14=$BR13,$B14=$BS13,$B14=$BT13,$B14=$BU13,$B14=$BV13,$B14=$BW13,$B14=$BX13,$B14=$BY13,$B14=$BZ13,$B14=$CA13,$B14=$CB13,$B14=$BA13),CC13,CB13) | CD14: =IF(OR($B14=$AV13,$B14=$AT13,$B14=$AU13,$B14=$AW13,$B14=$AX13,$B14=$AY13,$B14=$AZ13,$B14=$BB13,$B14=$BC13,$B14=$BD13,$B14=$BE13,$B14=$BF13,$B14=$BG13,$B14=$BH13,$B14=$BI13,$B14=$BJ13,$B14=$BK13,$B14=$BL13,$B14=$BM13,$B14=$BN13,$B14=$BO13,$B14=$BP13,$B14=$BQ13,$B14=$BR13,$B14=$BS13,$B14=$BT13,$B14=$BU13,$B14=$BV13,$B14=$BW13,$B14=$BX13,$B14=$BY13,$B14=$BZ13,$B14=$CA13,$B14=$CB13,$B14=$CC13,$B14=$BA13),CD13,CC13) | CH14: =IF(AND(CH13="",$B14<>CH$1),"",IF($C14<CH13,CH13,IF($B14=CH$1,1,1+CH13))) | CI14: =IF(AND(CI13="",$B14<>CI$1),"",IF($C14<CI13,CI13,IF($B14=CI$1,1,1+CI13))) -> 8 | CJ14: =IF(AND(CJ13="",$B14<>CJ$1),"",IF($C14<CJ13,CJ13,IF($B14=CJ$1,1,1+CJ13))) | CK14: =IF(AND(CK13="",$B14<>CK$1),"",IF($C14<CK13,CK13,IF($B14=CK$1,1,1+CK13))) | CL14: =IF(AND(CL13="",$B14<>CL$1),"",IF($C14<CL13,CL13,IF($B14=CL$1,1,1+CL13))) | CM14: =IF(AND(CM13="",$B14<>CM$1),"",IF($C14<CM13,CM13,IF($B14=CM$1,1,1+CM13))) | CN14: =IF(AND(CN13="",$B14<>CN$1),"",IF($C14<CN13,CN13,IF($B14=CN$1,1,1+CN13))) | CO14: =IF(AND(CO13="",$B14<>CO$1),"",IF($C14<CO13,CO13,IF($B14=CO$1,1,1+CO13))) | ... DR14: =IF(AND(DR13="",$B14<>DR$1),"",IF($C14<DR13,DR13,IF($B14=DR$1,1,1+DR13)))
A15: 14 | B15: =Drogan!E16 -> 35 | C15: =IF(B15="","",LOOKUP(B15,$CH$1:$DR$1,CH14:DR14)) | G15: =IF(AND($B16="",$B15<>""),"Nrs",IF(AND($B17="",$B16<>"",$B15<>""),G$1,"")) | H15: =IF(AND($B16="",$B15<>""),AT15,IF(AND($B17="",$B16<>"",$B15<>""),H$1,"")) | I15: =IF(AND($B16="",$B15<>""),AU15,IF(AND($B17="",$B16<>"",$B15<>""),I$1,"")) | J15: =IF(AND($B16="",$B15<>""),AV15,IF(AND($B17="",$B16<>"",$B15<>""),J$1,"")) | K15: =IF(AND($B16="",$B15<>""),AW15,IF(AND($B17="",$B16<>"",$B15<>""),K$1,"")) | L15: =IF(AND($B16="",$B15<>""),AX15,IF(AND($B17="",$B16<>"",$B15<>""),L$1,"")) | M15: =IF(AND($B16="",$B15<>""),AY15,IF(AND($B17="",$B16<>"",$B15<>""),M$1,"")) | N15: =IF(AND($B16="",$B15<>""),AZ15,IF(AND($B17="",$B16<>"",$B15<>""),N$1,"")) | O15: =IF(AND($B16="",$B15<>""),BA15,IF(AND($B17="",$B16<>"",$B15<>""),O$1,"")) | ... AR15: =IF(AND($B16="",$B15<>""),CD15,IF(AND($B17="",$B16<>"",$B15<>""),AR$1,"")) | AT15: =B15 -> 35 | AU15: =IF($B15=$AT14,AU14,AT14) -> 22 | AV15: =IF(OR($B15=$AT14,$B15=$AU14),AV14,AU14) -> 19 | AW15: =IF(OR($B15=$AV14,$B15=$AT14,$B15=$AU14),AW14,AV14) -> 10 | AX15: =IF(OR($B15=$AV14,$B15=$AT14,$B15=$AU14,$B15=$AW14),AX14,AW14) -> 20 | AY15: =IF(OR($B15=$AV14,$B15=$AT14,$B15=$AU14,$B15=$AW14,$B15=$AX14),AY14,AX14) -> 34 | AZ15: =IF(OR($B15=$AV14,$B15=$AT14,$B15=$AU14,$B15=$AW14,$B15=$AX14,$B15=$AY14),AZ14,AY14) -> 36 | BA15: =IF(OR($B15=$AV14,$B15=$AT14,$B15=$AU14,$B15=$AW14,$B15=$AX14,$B15=$AY14,$B15=$AZ14),BA14,AZ14) -> 21 | BB15: =IF(OR($B15=$AV14,$B15=$AT14,$B15=$AU14,$B15=$AW14,$B15=$AX14,$B15=$AY14,$B15=$AZ14,$B15=$BA14),BB14,BA14) -> 2 | BC15: =IF(OR($B15=$AV14,$B15=$AT14,$B15=$AU14,$B15=$AW14,$B15=$AX14,$B15=$AY14,$B15=$AZ14,$B15=$BA14,$B15=$BB14),BC14,BB14) -> 26 | BD15: =IF(OR($B15=$AV14,$B15=$AT14,$B15=$AU14,$B15=$AW14,$B15=$AX14,$B15=$AY14,$B15=$AZ14,$B15=$BB14,$B15=$BC14,$B15=$BA14),BD14,BC14) -> 32 | BE15: =IF(OR($B15=$AV14,$B15=$AT14,$B15=$AU14,$B15=$AW14,$B15=$AX14,$B15=$AY14,$B15=$AZ14,$B15=$BB14,$B15=$BC14,$B15=$BD14,$B15=$BA14),BE14,BD14) -> 23 | BF15: =IF(OR($B15=$AV14,$B15=$AT14,$B15=$AU14,$B15=$AW14,$B15=$AX14,$B15=$AY14,$B15=$AZ14,$B15=$BB14,$B15=$BC14,$B15=$BD14,$B15=$BE14,$B15=$BA14),BF14,BE14) | BG15: =IF(OR($B15=$AV14,$B15=$AT14,$B15=$AU14,$B15=$AW14,$B15=$AX14,$B15=$AY14,$B15=$AZ14,$B15=$BB14,$B15=$BC14,$B15=$BD14,$B15=$BE14,$B15=$BF14,$B15=$BA14),BG14,BF14) | BH15: =IF(OR($B15=$AV14,$B15=$AT14,$B15=$AU14,$B15=$AW14,$B15=$AX14,$B15=$AY14,$B15=$AZ14,$B15=$BB14,$B15=$BC14,$B15=$BD14,$B15=$BE14,$B15=$BF14,$B15=$BG14,$B15=$BA14),BH14,BG14) | BI15: =IF(OR($B15=$AV14,$B15=$AT14,$B15=$AU14,$B15=$AW14,$B15=$AX14,$B15=$AY14,$B15=$AZ14,$B15=$BB14,$B15=$BC14,$B15=$BD14,$B15=$BE14,$B15=$BF14,$B15=$BG14,$B15=$BH14,$B15=$BA14),BI14,BH14) | BJ15: =IF(OR($B15=$AV14,$B15=$AT14,$B15=$AU14,$B15=$AW14,$B15=$AX14,$B15=$AY14,$B15=$AZ14,$B15=$BB14,$B15=$BC14,$B15=$BD14,$B15=$BE14,$B15=$BF14,$B15=$BG14,$B15=$BH14,$B15=$BI14,$B15=$BA14),BJ14,BI14) | BK15: =IF(OR($B15=$AV14,$B15=$AT14,$B15=$AU14,$B15=$AW14,$B15=$AX14,$B15=$AY14,$B15=$AZ14,$B15=$BB14,$B15=$BC14,$B15=$BD14,$B15=$BE14,$B15=$BF14,$B15=$BG14,$B15=$BH14,$B15=$BI14,$B15=$BJ14,$B15=$BA14),BK14,BJ14) | BL15: =IF(OR($B15=$AV14,$B15=$AT14,$B15=$AU14,$B15=$AW14,$B15=$AX14,$B15=$AY14,$B15=$AZ14,$B15=$BB14,$B15=$BC14,$B15=$BD14,$B15=$BE14,$B15=$BF14,$B15=$BG14,$B15=$BH14,$B15=$BI14,$B15=$BJ14,$B15=$BK14,$B15=$BA14),BL14,BK14) | BM15: =IF(OR($B15=$AV14,$B15=$AT14,$B15=$AU14,$B15=$AW14,$B15=$AX14,$B15=$AY14,$B15=$AZ14,$B15=$BB14,$B15=$BC14,$B15=$BD14,$B15=$BE14,$B15=$BF14,$B15=$BG14,$B15=$BH14,$B15=$BI14,$B15=$BJ14,$B15=$BK14,$B15=$BL14,$B15=$BA14),BM14,BL14) | BN15: =IF(OR($B15=$AV14,$B15=$AT14,$B15=$AU14,$B15=$AW14,$B15=$AX14,$B15=$AY14,$B15=$AZ14,$B15=$BB14,$B15=$BC14,$B15=$BD14,$B15=$BE14,$B15=$BF14,$B15=$BG14,$B15=$BH14,$B15=$BI14,$B15=$BJ14,$B15=$BK14,$B15=$BL14,$B15=$BM14,$B15=$BA14),BN14,BM14) | BO15: =IF(OR($B15=$AV14,$B15=$AT14,$B15=$AU14,$B15=$AW14,$B15=$AX14,$B15=$AY14,$B15=$AZ14,$B15=$BB14,$B15=$BC14,$B15=$BD14,$B15=$BE14,$B15=$BF14,$B15=$BG14,$B15=$BH14,$B15=$BI14,$B15=$BJ14,$B15=$BK14,$B15=$BL14,$B15=$BM14,$B15=$BN14,$B15=$BA14),BO14,BN14) | BP15: =IF(OR($B15=$AV14,$B15=$AT14,$B15=$AU14,$B15=$AW14,$B15=$AX14,$B15=$AY14,$B15=$AZ14,$B15=$BB14,$B15=$BC14,$B15=$BD14,$B15=$BE14,$B15=$BF14,$B15=$BG14,$B15=$BH14,$B15=$BI14,$B15=$BJ14,$B15=$BK14,$B15=$BL14,$B15=$BM14,$B15=$BN14,$B15=$BO14,$B15=$BA14),BP14,BO14) | BQ15: =IF(OR($B15=$AV14,$B15=$AT14,$B15=$AU14,$B15=$AW14,$B15=$AX14,$B15=$AY14,$B15=$AZ14,$B15=$BB14,$B15=$BC14,$B15=$BD14,$B15=$BE14,$B15=$BF14,$B15=$BG14,$B15=$BH14,$B15=$BI14,$B15=$BJ14,$B15=$BK14,$B15=$BL14,$B15=$BM14,$B15=$BN14,$B15=$BO14,$B15=$BP14,$B15=$BA14),BQ14,BP14) | BR15: =IF(OR($B15=$AV14,$B15=$AT14,$B15=$AU14,$B15=$AW14,$B15=$AX14,$B15=$AY14,$B15=$AZ14,$B15=$BB14,$B15=$BC14,$B15=$BD14,$B15=$BE14,$B15=$BF14,$B15=$BG14,$B15=$BH14,$B15=$BI14,$B15=$BJ14,$B15=$BK14,$B15=$BL14,$B15=$BM14,$B15=$BN14,$B15=$BO14,$B15=$BP14,$B15=$BQ14,$B15=$BA14),BR14,BQ14) | BS15: =IF(OR($B15=$AV14,$B15=$AT14,$B15=$AU14,$B15=$AW14,$B15=$AX14,$B15=$AY14,$B15=$AZ14,$B15=$BB14,$B15=$BC14,$B15=$BD14,$B15=$BE14,$B15=$BF14,$B15=$BG14,$B15=$BH14,$B15=$BI14,$B15=$BJ14,$B15=$BK14,$B15=$BL14,$B15=$BM14,$B15=$BN14,$B15=$BO14,$B15=$BP14,$B15=$BQ14,$B15=$BR14,$B15=$BA14),BS14,BR14) | BT15: =IF(OR($B15=$AV14,$B15=$AT14,$B15=$AU14,$B15=$AW14,$B15=$AX14,$B15=$AY14,$B15=$AZ14,$B15=$BB14,$B15=$BC14,$B15=$BD14,$B15=$BE14,$B15=$BF14,$B15=$BG14,$B15=$BH14,$B15=$BI14,$B15=$BJ14,$B15=$BK14,$B15=$BL14,$B15=$BM14,$B15=$BN14,$B15=$BO14,$B15=$BP14,$B15=$BQ14,$B15=$BR14,$B15=$BS14,$B15=$BA14),BT14,BS14) | BU15: =IF(OR($B15=$AV14,$B15=$AT14,$B15=$AU14,$B15=$AW14,$B15=$AX14,$B15=$AY14,$B15=$AZ14,$B15=$BB14,$B15=$BC14,$B15=$BD14,$B15=$BE14,$B15=$BF14,$B15=$BG14,$B15=$BH14,$B15=$BI14,$B15=$BJ14,$B15=$BK14,$B15=$BL14,$B15=$BM14,$B15=$BN14,$B15=$BO14,$B15=$BP14,$B15=$BQ14,$B15=$BR14,$B15=$BS14,$B15=$BT14,$B15=$BA14),BU14,BT14) | BV15: =IF(OR($B15=$AV14,$B15=$AT14,$B15=$AU14,$B15=$AW14,$B15=$AX14,$B15=$AY14,$B15=$AZ14,$B15=$BB14,$B15=$BC14,$B15=$BD14,$B15=$BE14,$B15=$BF14,$B15=$BG14,$B15=$BH14,$B15=$BI14,$B15=$BJ14,$B15=$BK14,$B15=$BL14,$B15=$BM14,$B15=$BN14,$B15=$BO14,$B15=$BP14,$B15=$BQ14,$B15=$BR14,$B15=$BS14,$B15=$BT14,$B15=$BU14,$B15=$BA14),BV14,BU14) | BW15: =IF(OR($B15=$AV14,$B15=$AT14,$B15=$AU14,$B15=$AW14,$B15=$AX14,$B15=$AY14,$B15=$AZ14,$B15=$BB14,$B15=$BC14,$B15=$BD14,$B15=$BE14,$B15=$BF14,$B15=$BG14,$B15=$BH14,$B15=$BI14,$B15=$BJ14,$B15=$BK14,$B15=$BL14,$B15=$BM14,$B15=$BN14,$B15=$BO14,$B15=$BP14,$B15=$BQ14,$B15=$BR14,$B15=$BS14,$B15=$BT14,$B15=$BU14,$B15=$BV14,$B15=$BA14),BW14,BV14) | BX15: =IF(OR($B15=$AV14,$B15=$AT14,$B15=$AU14,$B15=$AW14,$B15=$AX14,$B15=$AY14,$B15=$AZ14,$B15=$BB14,$B15=$BC14,$B15=$BD14,$B15=$BE14,$B15=$BF14,$B15=$BG14,$B15=$BH14,$B15=$BI14,$B15=$BJ14,$B15=$BK14,$B15=$BL14,$B15=$BM14,$B15=$BN14,$B15=$BO14,$B15=$BP14,$B15=$BQ14,$B15=$BR14,$B15=$BS14,$B15=$BT14,$B15=$BU14,$B15=$BV14,$B15=$BW14,$B15=$BA14),BX14,BW14) | BY15: =IF(OR($B15=$AV14,$B15=$AT14,$B15=$AU14,$B15=$AW14,$B15=$AX14,$B15=$AY14,$B15=$AZ14,$B15=$BB14,$B15=$BC14,$B15=$BD14,$B15=$BE14,$B15=$BF14,$B15=$BG14,$B15=$BH14,$B15=$BI14,$B15=$BJ14,$B15=$BK14,$B15=$BL14,$B15=$BM14,$B15=$BN14,$B15=$BO14,$B15=$BP14,$B15=$BQ14,$B15=$BR14,$B15=$BS14,$B15=$BT14,$B15=$BU14,$B15=$BV14,$B15=$BW14,$B15=$BX14,$B15=$BA14),BY14,BX14) | BZ15: =IF(OR($B15=$AV14,$B15=$AT14,$B15=$AU14,$B15=$AW14,$B15=$AX14,$B15=$AY14,$B15=$AZ14,$B15=$BB14,$B15=$BC14,$B15=$BD14,$B15=$BE14,$B15=$BF14,$B15=$BG14,$B15=$BH14,$B15=$BI14,$B15=$BJ14,$B15=$BK14,$B15=$BL14,$B15=$BM14,$B15=$BN14,$B15=$BO14,$B15=$BP14,$B15=$BQ14,$B15=$BR14,$B15=$BS14,$B15=$BT14,$B15=$BU14,$B15=$BV14,$B15=$BW14,$B15=$BX14,$B15=$BY14,$B15=$BA14),BZ14,BY14) | CA15: =IF(OR($B15=$AV14,$B15=$AT14,$B15=$AU14,$B15=$AW14,$B15=$AX14,$B15=$AY14,$B15=$AZ14,$B15=$BB14,$B15=$BC14,$B15=$BD14,$B15=$BE14,$B15=$BF14,$B15=$BG14,$B15=$BH14,$B15=$BI14,$B15=$BJ14,$B15=$BK14,$B15=$BL14,$B15=$BM14,$B15=$BN14,$B15=$BO14,$B15=$BP14,$B15=$BQ14,$B15=$BR14,$B15=$BS14,$B15=$BT14,$B15=$BU14,$B15=$BV14,$B15=$BW14,$B15=$BX14,$B15=$BY14,$B15=$BZ14,$B15=$BA14),CA14,BZ14) | CB15: =IF(OR($B15=$AV14,$B15=$AT14,$B15=$AU14,$B15=$AW14,$B15=$AX14,$B15=$AY14,$B15=$AZ14,$B15=$BB14,$B15=$BC14,$B15=$BD14,$B15=$BE14,$B15=$BF14,$B15=$BG14,$B15=$BH14,$B15=$BI14,$B15=$BJ14,$B15=$BK14,$B15=$BL14,$B15=$BM14,$B15=$BN14,$B15=$BO14,$B15=$BP14,$B15=$BQ14,$B15=$BR14,$B15=$BS14,$B15=$BT14,$B15=$BU14,$B15=$BV14,$B15=$BW14,$B15=$BX14,$B15=$BY14,$B15=$BZ14,$B15=$CA14,$B15=$BA14),CB14,CA14) | CC15: =IF(OR($B15=$AV14,$B15=$AT14,$B15=$AU14,$B15=$AW14,$B15=$AX14,$B15=$AY14,$B15=$AZ14,$B15=$BB14,$B15=$BC14,$B15=$BD14,$B15=$BE14,$B15=$BF14,$B15=$BG14,$B15=$BH14,$B15=$BI14,$B15=$BJ14,$B15=$BK14,$B15=$BL14,$B15=$BM14,$B15=$BN14,$B15=$BO14,$B15=$BP14,$B15=$BQ14,$B15=$BR14,$B15=$BS14,$B15=$BT14,$B15=$BU14,$B15=$BV14,$B15=$BW14,$B15=$BX14,$B15=$BY14,$B15=$BZ14,$B15=$CA14,$B15=$CB14,$B15=$BA14),CC14,CB14) | CD15: =IF(OR($B15=$AV14,$B15=$AT14,$B15=$AU14,$B15=$AW14,$B15=$AX14,$B15=$AY14,$B15=$AZ14,$B15=$BB14,$B15=$BC14,$B15=$BD14,$B15=$BE14,$B15=$BF14,$B15=$BG14,$B15=$BH14,$B15=$BI14,$B15=$BJ14,$B15=$BK14,$B15=$BL14,$B15=$BM14,$B15=$BN14,$B15=$BO14,$B15=$BP14,$B15=$BQ14,$B15=$BR14,$B15=$BS14,$B15=$BT14,$B15=$BU14,$B15=$BV14,$B15=$BW14,$B15=$BX14,$B15=$BY14,$B15=$BZ14,$B15=$CA14,$B15=$CB14,$B15=$CC14,$B15=$BA14),CD14,CC14) | CH15: =IF(AND(CH14="",$B15<>CH$1),"",IF($C15<CH14,CH14,IF($B15=CH$1,1,1+CH14))) | CI15: =IF(AND(CI14="",$B15<>CI$1),"",IF($C15<CI14,CI14,IF($B15=CI$1,1,1+CI14))) -> 9 | CJ15: =IF(AND(CJ14="",$B15<>CJ$1),"",IF($C15<CJ14,CJ14,IF($B15=CJ$1,1,1+CJ14))) | CK15: =IF(AND(CK14="",$B15<>CK$1),"",IF($C15<CK14,CK14,IF($B15=CK$1,1,1+CK14))) | CL15: =IF(AND(CL14="",$B15<>CL$1),"",IF($C15<CL14,CL14,IF($B15=CL$1,1,1+CL14))) | CM15: =IF(AND(CM14="",$B15<>CM$1),"",IF($C15<CM14,CM14,IF($B15=CM$1,1,1+CM14))) | CN15: =IF(AND(CN14="",$B15<>CN$1),"",IF($C15<CN14,CN14,IF($B15=CN$1,1,1+CN14))) | CO15: =IF(AND(CO14="",$B15<>CO$1),"",IF($C15<CO14,CO14,IF($B15=CO$1,1,1+CO14))) | ... DR15: =IF(AND(DR14="",$B15<>DR$1),"",IF($C15<DR14,DR14,IF($B15=DR$1,1,1+DR14)))
... A199: 198 | B199: =Drogan!E200 -> 26 | C199: =IF(B199="","",LOOKUP(B199,$CH$1:$DR$1,CH198:DR198)) -> 15 | G199: =IF(AND($B200="",$B199<>""),"Nrs",IF(AND($B201="",$B200<>"",$B199<>""),G$1,"")) | H199: =IF(AND($B200="",$B199<>""),AT199,IF(AND($B201="",$B200<>"",$B199<>""),H$1,"")) | I199: =IF(AND($B200="",$B199<>""),AU199,IF(AND($B201="",$B200<>"",$B199<>""),I$1,"")) | J199: =IF(AND($B200="",$B199<>""),AV199,IF(AND($B201="",$B200<>"",$B199<>""),J$1,"")) | K199: =IF(AND($B200="",$B199<>""),AW199,IF(AND($B201="",$B200<>"",$B199<>""),K$1,"")) | L199: =IF(AND($B200="",$B199<>""),AX199,IF(AND($B201="",$B200<>"",$B199<>""),L$1,"")) | M199: =IF(AND($B200="",$B199<>""),AY199,IF(AND($B201="",$B200<>"",$B199<>""),M$1,"")) | N199: =IF(AND($B200="",$B199<>""),AZ199,IF(AND($B201="",$B200<>"",$B199<>""),N$1,"")) | O199: =IF(AND($B200="",$B199<>""),BA199,IF(AND($B201="",$B200<>"",$B199<>""),O$1,"")) | ... AR199: =IF(AND($B200="",$B199<>""),CD199,IF(AND($B201="",$B200<>"",$B199<>""),AR$1,"")) | AT199: =B199 -> 26 | AU199: =IF($B199=$AT198,AU198,AT198) -> 31 | AV199: =IF(OR($B199=$AT198,$B199=$AU198),AV198,AU198) -> 19 | AW199: =IF(OR($B199=$AV198,$B199=$AT198,$B199=$AU198),AW198,AV198) -> 5 | AX199: =IF(OR($B199=$AV198,$B199=$AT198,$B199=$AU198,$B199=$AW198),AX198,AW198) -> 25 | AY199: =IF(OR($B199=$AV198,$B199=$AT198,$B199=$AU198,$B199=$AW198,$B199=$AX198),AY198,AX198) -> 27 | AZ199: =IF(OR($B199=$AV198,$B199=$AT198,$B199=$AU198,$B199=$AW198,$B199=$AX198,$B199=$AY198),AZ198,AY198) -> 1 | BA199: =IF(OR($B199=$AV198,$B199=$AT198,$B199=$AU198,$B199=$AW198,$B199=$AX198,$B199=$AY198,$B199=$AZ198),BA198,AZ198) -> 20 | BB199: =IF(OR($B199=$AV198,$B199=$AT198,$B199=$AU198,$B199=$AW198,$B199=$AX198,$B199=$AY198,$B199=$AZ198,$B199=$BA198),BB198,BA198) -> 33 | BC199: =IF(OR($B199=$AV198,$B199=$AT198,$B199=$AU198,$B199=$AW198,$B199=$AX198,$B199=$AY198,$B199=$AZ198,$B199=$BA198,$B199=$BB198),BC198,BB198) -> 10 | BD199: =IF(OR($B199=$AV198,$B199=$AT198,$B199=$AU198,$B199=$AW198,$B199=$AX198,$B199=$AY198,$B199=$AZ198,$B199=$BB198,$B199=$BC198,$B199=$BA198),BD198,BC198) -> 12 | BE199: =IF(OR($B199=$AV198,$B199=$AT198,$B199=$AU198,$B199=$AW198,$B199=$AX198,$B199=$AY198,$B199=$AZ198,$B199=$BB198,$B199=$BC198,$B199=$BD198,$B199=$BA198),BE198,BD198) -> 17 | BF199: =IF(OR($B199=$AV198,$B199=$AT198,$B199=$AU198,$B199=$AW198,$B199=$AX198,$B199=$AY198,$B199=$AZ198,$B199=$BB198,$B199=$BC198,$B199=$BD198,$B199=$BE198,$B199=$BA198),BF198,BE198) -> 34 | BG199: =IF(OR($B199=$AV198,$B199=$AT198,$B199=$AU198,$B199=$AW198,$B199=$AX198,$B199=$AY198,$B199=$AZ198,$B199=$BB198,$B199=$BC198,$B199=$BD198,$B199=$BE198,$B199=$BF198,$B199=$BA198),BG198,BF198) -> 9 | BH199: =IF(OR($B199=$AV198,$B199=$AT198,$B199=$AU198,$B199=$AW198,$B199=$AX198,$B199=$AY198,$B199=$AZ198,$B199=$BB198,$B199=$BC198,$B199=$BD198,$B199=$BE198,$B199=$BF198,$B199=$BG198,$B199=$BA198),BH198,BG198) -> 35 | BI199: =IF(OR($B199=$AV198,$B199=$AT198,$B199=$AU198,$B199=$AW198,$B199=$AX198,$B199=$AY198,$B199=$AZ198,$B199=$BB198,$B199=$BC198,$B199=$BD198,$B199=$BE198,$B199=$BF198,$B199=$BG198,$B199=$BH198,$B199=$BA198),BI198,BH198) -> 14 | BJ199: =IF(OR($B199=$AV198,$B199=$AT198,$B199=$AU198,$B199=$AW198,$B199=$AX198,$B199=$AY198,$B199=$AZ198,$B199=$BB198,$B199=$BC198,$B199=$BD198,$B199=$BE198,$B199=$BF198,$B199=$BG198,$B199=$BH198,$B199=$BI198,$B199=$BA198),BJ198,BI198) -> 30 | BK199: =IF(OR($B199=$AV198,$B199=$AT198,$B199=$AU198,$B199=$AW198,$B199=$AX198,$B199=$AY198,$B199=$AZ198,$B199=$BB198,$B199=$BC198,$B199=$BD198,$B199=$BE198,$B199=$BF198,$B199=$BG198,$B199=$BH198,$B199=$BI198,$B199=$BJ198,$B199=$BA198),BK198,BJ198) -> 8 | BL199: =IF(OR($B199=$AV198,$B199=$AT198,$B199=$AU198,$B199=$AW198,$B199=$AX198,$B199=$AY198,$B199=$AZ198,$B199=$BB198,$B199=$BC198,$B199=$BD198,$B199=$BE198,$B199=$BF198,$B199=$BG198,$B199=$BH198,$B199=$BI198,$B199=$BJ198,$B199=$BK198,$B199=$BA198),BL198,BK198) -> 11 | BM199: =IF(OR($B199=$AV198,$B199=$AT198,$B199=$AU198,$B199=$AW198,$B199=$AX198,$B199=$AY198,$B199=$AZ198,$B199=$BB198,$B199=$BC198,$B199=$BD198,$B199=$BE198,$B199=$BF198,$B199=$BG198,$B199=$BH198,$B199=$BI198,$B199=$BJ198,$B199=$BK198,$B199=$BL198,$B199=$BA198),BM198,BL198) -> 3 | BN199: =IF(OR($B199=$AV198,$B199=$AT198,$B199=$AU198,$B199=$AW198,$B199=$AX198,$B199=$AY198,$B199=$AZ198,$B199=$BB198,$B199=$BC198,$B199=$BD198,$B199=$BE198,$B199=$BF198,$B199=$BG198,$B199=$BH198,$B199=$BI198,$B199=$BJ198,$B199=$BK198,$B199=$BL198,$B199=$BM198,$B199=$BA198),BN198,BM198) -> 29 | BO199: =IF(OR($B199=$AV198,$B199=$AT198,$B199=$AU198,$B199=$AW198,$B199=$AX198,$B199=$AY198,$B199=$AZ198,$B199=$BB198,$B199=$BC198,$B199=$BD198,$B199=$BE198,$B199=$BF198,$B199=$BG198,$B199=$BH198,$B199=$BI198,$B199=$BJ198,$B199=$BK198,$B199=$BL198,$B199=$BM198,$B199=$BN198,$B199=$BA198),BO198,BN198) -> 4 | BP199: =IF(OR($B199=$AV198,$B199=$AT198,$B199=$AU198,$B199=$AW198,$B199=$AX198,$B199=$AY198,$B199=$AZ198,$B199=$BB198,$B199=$BC198,$B199=$BD198,$B199=$BE198,$B199=$BF198,$B199=$BG198,$B199=$BH198,$B199=$BI198,$B199=$BJ198,$B199=$BK198,$B199=$BL198,$B199=$BM198,$B199=$BN198,$B199=$BO198,$B199=$BA198),BP198,BO198) -> 7 | BQ199: =IF(OR($B199=$AV198,$B199=$AT198,$B199=$AU198,$B199=$AW198,$B199=$AX198,$B199=$AY198,$B199=$AZ198,$B199=$BB198,$B199=$BC198,$B199=$BD198,$B199=$BE198,$B199=$BF198,$B199=$BG198,$B199=$BH198,$B199=$BI198,$B199=$BJ198,$B199=$BK198,$B199=$BL198,$B199=$BM198,$B199=$BN198,$B199=$BO198,$B199=$BP198,$B199=$BA198),BQ198,BP198) -> 16 | BR199: =IF(OR($B199=$AV198,$B199=$AT198,$B199=$AU198,$B199=$AW198,$B199=$AX198,$B199=$AY198,$B199=$AZ198,$B199=$BB198,$B199=$BC198,$B199=$BD198,$B199=$BE198,$B199=$BF198,$B199=$BG198,$B199=$BH198,$B199=$BI198,$B199=$BJ198,$B199=$BK198,$B199=$BL198,$B199=$BM198,$B199=$BN198,$B199=$BO198,$B199=$BP198,$B199=$BQ198,$B199=$BA198),BR198,BQ198) -> 28 | BS199: =IF(OR($B199=$AV198,$B199=$AT198,$B199=$AU198,$B199=$AW198,$B199=$AX198,$B199=$AY198,$B199=$AZ198,$B199=$BB198,$B199=$BC198,$B199=$BD198,$B199=$BE198,$B199=$BF198,$B199=$BG198,$B199=$BH198,$B199=$BI198,$B199=$BJ198,$B199=$BK198,$B199=$BL198,$B199=$BM198,$B199=$BN198,$B199=$BO198,$B199=$BP198,$B199=$BQ198,$B199=$BR198,$B199=$BA198),BS198,BR198) -> 22 | BT199: =IF(OR($B199=$AV198,$B199=$AT198,$B199=$AU198,$B199=$AW198,$B199=$AX198,$B199=$AY198,$B199=$AZ198,$B199=$BB198,$B199=$BC198,$B199=$BD198,$B199=$BE198,$B199=$BF198,$B199=$BG198,$B199=$BH198,$B199=$BI198,$B199=$BJ198,$B199=$BK198,$B199=$BL198,$B199=$BM198,$B199=$BN198,$B199=$BO198,$B199=$BP198,$B199=$BQ198,$B199=$BR198,$B199=$BS198,$B199=$BA198),BT198,BS198) -> 24 | BU199: =IF(OR($B199=$AV198,$B199=$AT198,$B199=$AU198,$B199=$AW198,$B199=$AX198,$B199=$AY198,$B199=$AZ198,$B199=$BB198,$B199=$BC198,$B199=$BD198,$B199=$BE198,$B199=$BF198,$B199=$BG198,$B199=$BH198,$B199=$BI198,$B199=$BJ198,$B199=$BK198,$B199=$BL198,$B199=$BM198,$B199=$BN198,$B199=$BO198,$B199=$BP198,$B199=$BQ198,$B199=$BR198,$B199=$BS198,$B199=$BT198,$B199=$BA198),BU198,BT198) -> 37 | BV199: =IF(OR($B199=$AV198,$B199=$AT198,$B199=$AU198,$B199=$AW198,$B199=$AX198,$B199=$AY198,$B199=$AZ198,$B199=$BB198,$B199=$BC198,$B199=$BD198,$B199=$BE198,$B199=$BF198,$B199=$BG198,$B199=$BH198,$B199=$BI198,$B199=$BJ198,$B199=$BK198,$B199=$BL198,$B199=$BM198,$B199=$BN198,$B199=$BO198,$B199=$BP198,$B199=$BQ198,$B199=$BR198,$B199=$BS198,$B199=$BT198,$B199=$BU198,$B199=$BA198),BV198,BU198) -> 23 | BW199: =IF(OR($B199=$AV198,$B199=$AT198,$B199=$AU198,$B199=$AW198,$B199=$AX198,$B199=$AY198,$B199=$AZ198,$B199=$BB198,$B199=$BC198,$B199=$BD198,$B199=$BE198,$B199=$BF198,$B199=$BG198,$B199=$BH198,$B199=$BI198,$B199=$BJ198,$B199=$BK198,$B199=$BL198,$B199=$BM198,$B199=$BN198,$B199=$BO198,$B199=$BP198,$B199=$BQ198,$B199=$BR198,$B199=$BS198,$B199=$BT198,$B199=$BU198,$B199=$BV198,$B199=$BA198),BW198,BV198) -> 36 | BX199: =IF(OR($B199=$AV198,$B199=$AT198,$B199=$AU198,$B199=$AW198,$B199=$AX198,$B199=$AY198,$B199=$AZ198,$B199=$BB198,$B199=$BC198,$B199=$BD198,$B199=$BE198,$B199=$BF198,$B199=$BG198,$B199=$BH198,$B199=$BI198,$B199=$BJ198,$B199=$BK198,$B199=$BL198,$B199=$BM198,$B199=$BN198,$B199=$BO198,$B199=$BP198,$B199=$BQ198,$B199=$BR198,$B199=$BS198,$B199=$BT198,$B199=$BU198,$B199=$BV198,$B199=$BW198,$B199=$BA198),BX198,BW198) -> 13 | BY199: =IF(OR($B199=$AV198,$B199=$AT198,$B199=$AU198,$B199=$AW198,$B199=$AX198,$B199=$AY198,$B199=$AZ198,$B199=$BB198,$B199=$BC198,$B199=$BD198,$B199=$BE198,$B199=$BF198,$B199=$BG198,$B199=$BH198,$B199=$BI198,$B199=$BJ198,$B199=$BK198,$B199=$BL198,$B199=$BM198,$B199=$BN198,$B199=$BO198,$B199=$BP198,$B199=$BQ198,$B199=$BR198,$B199=$BS198,$B199=$BT198,$B199=$BU198,$B199=$BV198,$B199=$BW198,$B199=$BX198,$B199=$BA198),BY198,BX198) -> 2 | BZ199: =IF(OR($B199=$AV198,$B199=$AT198,$B199=$AU198,$B199=$AW198,$B199=$AX198,$B199=$AY198,$B199=$AZ198,$B199=$BB198,$B199=$BC198,$B199=$BD198,$B199=$BE198,$B199=$BF198,$B199=$BG198,$B199=$BH198,$B199=$BI198,$B199=$BJ198,$B199=$BK198,$B199=$BL198,$B199=$BM198,$B199=$BN198,$B199=$BO198,$B199=$BP198,$B199=$BQ198,$B199=$BR198,$B199=$BS198,$B199=$BT198,$B199=$BU198,$B199=$BV198,$B199=$BW198,$B199=$BX198,$B199=$BY198,$B199=$BA198),BZ198,BY198) -> 32 | CA199: =IF(OR($B199=$AV198,$B199=$AT198,$B199=$AU198,$B199=$AW198,$B199=$AX198,$B199=$AY198,$B199=$AZ198,$B199=$BB198,$B199=$BC198,$B199=$BD198,$B199=$BE198,$B199=$BF198,$B199=$BG198,$B199=$BH198,$B199=$BI198,$B199=$BJ198,$B199=$BK198,$B199=$BL198,$B199=$BM198,$B199=$BN198,$B199=$BO198,$B199=$BP198,$B199=$BQ198,$B199=$BR198,$B199=$BS198,$B199=$BT198,$B199=$BU198,$B199=$BV198,$B199=$BW198,$B199=$BX198,$B199=$BY198,$B199=$BZ198,$B199=$BA198),CA198,BZ198) -> 15 | CB199: =IF(OR($B199=$AV198,$B199=$AT198,$B199=$AU198,$B199=$AW198,$B199=$AX198,$B199=$AY198,$B199=$AZ198,$B199=$BB198,$B199=$BC198,$B199=$BD198,$B199=$BE198,$B199=$BF198,$B199=$BG198,$B199=$BH198,$B199=$BI198,$B199=$BJ198,$B199=$BK198,$B199=$BL198,$B199=$BM198,$B199=$BN198,$B199=$BO198,$B199=$BP198,$B199=$BQ198,$B199=$BR198,$B199=$BS198,$B199=$BT198,$B199=$BU198,$B199=$BV198,$B199=$BW198,$B199=$BX198,$B199=$BY198,$B199=$BZ198,$B199=$CA198,$B199=$BA198),CB198,CA198) -> 21 | CC199: =IF(OR($B199=$AV198,$B199=$AT198,$B199=$AU198,$B199=$AW198,$B199=$AX198,$B199=$AY198,$B199=$AZ198,$B199=$BB198,$B199=$BC198,$B199=$BD198,$B199=$BE198,$B199=$BF198,$B199=$BG198,$B199=$BH198,$B199=$BI198,$B199=$BJ198,$B199=$BK198,$B199=$BL198,$B199=$BM198,$B199=$BN198,$B199=$BO198,$B199=$BP198,$B199=$BQ198,$B199=$BR198,$B199=$BS198,$B199=$BT198,$B199=$BU198,$B199=$BV198,$B199=$BW198,$B199=$BX198,$B199=$BY198,$B199=$BZ198,$B199=$CA198,$B199=$CB198,$B199=$BA198),CC198,CB198) -> 6 | CD199: =IF(OR($B199=$AV198,$B199=$AT198,$B199=$AU198,$B199=$AW198,$B199=$AX198,$B199=$AY198,$B199=$AZ198,$B199=$BB198,$B199=$BC198,$B199=$BD198,$B199=$BE198,$B199=$BF198,$B199=$BG198,$B199=$BH198,$B199=$BI198,$B199=$BJ198,$B199=$BK198,$B199=$BL198,$B199=$BM198,$B199=$BN198,$B199=$BO198,$B199=$BP198,$B199=$BQ198,$B199=$BR198,$B199=$BS198,$B199=$BT198,$B199=$BU198,$B199=$BV198,$B199=$BW198,$B199=$BX198,$B199=$BY198,$B199=$BZ198,$B199=$CA198,$B199=$CB198,$B199=$CC198,$B199=$BA198),CD198,CC198) -> 18 | CH199: =IF(AND(CH198="",$B199<>CH$1),"",IF($C199<CH198,CH198,IF($B199=CH$1,1,1+CH198))) -> 7 | CI199: =IF(AND(CI198="",$B199<>CI$1),"",IF($C199<CI198,CI198,IF($B199=CI$1,1,1+CI198))) -> 32 | CJ199: =IF(AND(CJ198="",$B199<>CJ$1),"",IF($C199<CJ198,CJ198,IF($B199=CJ$1,1,1+CJ198))) -> 20 | CK199: =IF(AND(CK198="",$B199<>CK$1),"",IF($C199<CK198,CK198,IF($B199=CK$1,1,1+CK198))) -> 22 | CL199: =IF(AND(CL198="",$B199<>CL$1),"",IF($C199<CL198,CL198,IF($B199=CL$1,1,1+CL198))) -> 4 | CM199: =IF(AND(CM198="",$B199<>CM$1),"",IF($C199<CM198,CM198,IF($B199=CM$1,1,1+CM198))) -> 36 | CN199: =IF(AND(CN198="",$B199<>CN$1),"",IF($C199<CN198,CN198,IF($B199=CN$1,1,1+CN198))) -> 23 | CO199: =IF(AND(CO198="",$B199<>CO$1),"",IF($C199<CO198,CO198,IF($B199=CO$1,1,1+CO198))) -> 18 | ... DR199: =IF(AND(DR198="",$B199<>DR$1),"",IF($C199<DR198,DR198,IF($B199=DR$1,1,1+DR198))) -> 28
A200: 199 | B200: =Drogan!E201 -> 17 | C200: =IF(B200="","",LOOKUP(B200,$CH$1:$DR$1,CH199:DR199)) -> 12 | G200: =IF(AND($B201="",$B200<>""),"Nrs",IF(AND(#REF!="",$B201<>"",$B200<>""),G$1,"")) -> #REF! | H200: =IF(AND($B201="",$B200<>""),AT200,IF(AND(#REF!="",$B201<>"",$B200<>""),H$1,"")) -> #REF! | I200: =IF(AND($B201="",$B200<>""),AU200,IF(AND(#REF!="",$B201<>"",$B200<>""),I$1,"")) -> #REF! | J200: =IF(AND($B201="",$B200<>""),AV200,IF(AND(#REF!="",$B201<>"",$B200<>""),J$1,"")) -> #REF! | K200: =IF(AND($B201="",$B200<>""),AW200,IF(AND(#REF!="",$B201<>"",$B200<>""),K$1,"")) -> #REF! | L200: =IF(AND($B201="",$B200<>""),AX200,IF(AND(#REF!="",$B201<>"",$B200<>""),L$1,"")) -> #REF! | M200: =IF(AND($B201="",$B200<>""),AY200,IF(AND(#REF!="",$B201<>"",$B200<>""),M$1,"")) -> #REF! | N200: =IF(AND($B201="",$B200<>""),AZ200,IF(AND(#REF!="",$B201<>"",$B200<>""),N$1,"")) -> #REF! | O200: =IF(AND($B201="",$B200<>""),BA200,IF(AND(#REF!="",$B201<>"",$B200<>""),O$1,"")) -> #REF! | ... AR200: =IF(AND($B201="",$B200<>""),CD200,IF(AND(#REF!="",$B201<>"",$B200<>""),AR$1,"")) -> #REF! | AT200: =B200 -> 17 | AU200: =IF($B200=$AT199,AU199,AT199) -> 26 | AV200: =IF(OR($B200=$AT199,$B200=$AU199),AV199,AU199) -> 31 | AW200: =IF(OR($B200=$AV199,$B200=$AT199,$B200=$AU199),AW199,AV199) -> 19 | AX200: =IF(OR($B200=$AV199,$B200=$AT199,$B200=$AU199,$B200=$AW199),AX199,AW199) -> 5 | AY200: =IF(OR($B200=$AV199,$B200=$AT199,$B200=$AU199,$B200=$AW199,$B200=$AX199),AY199,AX199) -> 25 | AZ200: =IF(OR($B200=$AV199,$B200=$AT199,$B200=$AU199,$B200=$AW199,$B200=$AX199,$B200=$AY199),AZ199,AY199) -> 27 | BA200: =IF(OR($B200=$AV199,$B200=$AT199,$B200=$AU199,$B200=$AW199,$B200=$AX199,$B200=$AY199,$B200=$AZ199),BA199,AZ199) -> 1 | BB200: =IF(OR($B200=$AV199,$B200=$AT199,$B200=$AU199,$B200=$AW199,$B200=$AX199,$B200=$AY199,$B200=$AZ199,$B200=$BA199),BB199,BA199) -> 20 | BC200: =IF(OR($B200=$AV199,$B200=$AT199,$B200=$AU199,$B200=$AW199,$B200=$AX199,$B200=$AY199,$B200=$AZ199,$B200=$BA199,$B200=$BB199),BC199,BB199) -> 33 | BD200: =IF(OR($B200=$AV199,$B200=$AT199,$B200=$AU199,$B200=$AW199,$B200=$AX199,$B200=$AY199,$B200=$AZ199,$B200=$BB199,$B200=$BC199,$B200=$BA199),BD199,BC199) -> 10 | BE200: =IF(OR($B200=$AV199,$B200=$AT199,$B200=$AU199,$B200=$AW199,$B200=$AX199,$B200=$AY199,$B200=$AZ199,$B200=$BB199,$B200=$BC199,$B200=$BD199,$B200=$BA199),BE199,BD199) -> 12 | BF200: =IF(OR($B200=$AV199,$B200=$AT199,$B200=$AU199,$B200=$AW199,$B200=$AX199,$B200=$AY199,$B200=$AZ199,$B200=$BB199,$B200=$BC199,$B200=$BD199,$B200=$BE199,$B200=$BA199),BF199,BE199) -> 34 | BG200: =IF(OR($B200=$AV199,$B200=$AT199,$B200=$AU199,$B200=$AW199,$B200=$AX199,$B200=$AY199,$B200=$AZ199,$B200=$BB199,$B200=$BC199,$B200=$BD199,$B200=$BE199,$B200=$BF199,$B200=$BA199),BG199,BF199) -> 9 | BH200: =IF(OR($B200=$AV199,$B200=$AT199,$B200=$AU199,$B200=$AW199,$B200=$AX199,$B200=$AY199,$B200=$AZ199,$B200=$BB199,$B200=$BC199,$B200=$BD199,$B200=$BE199,$B200=$BF199,$B200=$BG199,$B200=$BA199),BH199,BG199) -> 35 | BI200: =IF(OR($B200=$AV199,$B200=$AT199,$B200=$AU199,$B200=$AW199,$B200=$AX199,$B200=$AY199,$B200=$AZ199,$B200=$BB199,$B200=$BC199,$B200=$BD199,$B200=$BE199,$B200=$BF199,$B200=$BG199,$B200=$BH199,$B200=$BA199),BI199,BH199) -> 14 | BJ200: =IF(OR($B200=$AV199,$B200=$AT199,$B200=$AU199,$B200=$AW199,$B200=$AX199,$B200=$AY199,$B200=$AZ199,$B200=$BB199,$B200=$BC199,$B200=$BD199,$B200=$BE199,$B200=$BF199,$B200=$BG199,$B200=$BH199,$B200=$BI199,$B200=$BA199),BJ199,BI199) -> 30 | BK200: =IF(OR($B200=$AV199,$B200=$AT199,$B200=$AU199,$B200=$AW199,$B200=$AX199,$B200=$AY199,$B200=$AZ199,$B200=$BB199,$B200=$BC199,$B200=$BD199,$B200=$BE199,$B200=$BF199,$B200=$BG199,$B200=$BH199,$B200=$BI199,$B200=$BJ199,$B200=$BA199),BK199,BJ199) -> 8 | BL200: =IF(OR($B200=$AV199,$B200=$AT199,$B200=$AU199,$B200=$AW199,$B200=$AX199,$B200=$AY199,$B200=$AZ199,$B200=$BB199,$B200=$BC199,$B200=$BD199,$B200=$BE199,$B200=$BF199,$B200=$BG199,$B200=$BH199,$B200=$BI199,$B200=$BJ199,$B200=$BK199,$B200=$BA199),BL199,BK199) -> 11 | BM200: =IF(OR($B200=$AV199,$B200=$AT199,$B200=$AU199,$B200=$AW199,$B200=$AX199,$B200=$AY199,$B200=$AZ199,$B200=$BB199,$B200=$BC199,$B200=$BD199,$B200=$BE199,$B200=$BF199,$B200=$BG199,$B200=$BH199,$B200=$BI199,$B200=$BJ199,$B200=$BK199,$B200=$BL199,$B200=$BA199),BM199,BL199) -> 3 | BN200: =IF(OR($B200=$AV199,$B200=$AT199,$B200=$AU199,$B200=$AW199,$B200=$AX199,$B200=$AY199,$B200=$AZ199,$B200=$BB199,$B200=$BC199,$B200=$BD199,$B200=$BE199,$B200=$BF199,$B200=$BG199,$B200=$BH199,$B200=$BI199,$B200=$BJ199,$B200=$BK199,$B200=$BL199,$B200=$BM199,$B200=$BA199),BN199,BM199) -> 29 | BO200: =IF(OR($B200=$AV199,$B200=$AT199,$B200=$AU199,$B200=$AW199,$B200=$AX199,$B200=$AY199,$B200=$AZ199,$B200=$BB199,$B200=$BC199,$B200=$BD199,$B200=$BE199,$B200=$BF199,$B200=$BG199,$B200=$BH199,$B200=$BI199,$B200=$BJ199,$B200=$BK199,$B200=$BL199,$B200=$BM199,$B200=$BN199,$B200=$BA199),BO199,BN199) -> 4 | BP200: =IF(OR($B200=$AV199,$B200=$AT199,$B200=$AU199,$B200=$AW199,$B200=$AX199,$B200=$AY199,$B200=$AZ199,$B200=$BB199,$B200=$BC199,$B200=$BD199,$B200=$BE199,$B200=$BF199,$B200=$BG199,$B200=$BH199,$B200=$BI199,$B200=$BJ199,$B200=$BK199,$B200=$BL199,$B200=$BM199,$B200=$BN199,$B200=$BO199,$B200=$BA199),BP199,BO199) -> 7 | BQ200: =IF(OR($B200=$AV199,$B200=$AT199,$B200=$AU199,$B200=$AW199,$B200=$AX199,$B200=$AY199,$B200=$AZ199,$B200=$BB199,$B200=$BC199,$B200=$BD199,$B200=$BE199,$B200=$BF199,$B200=$BG199,$B200=$BH199,$B200=$BI199,$B200=$BJ199,$B200=$BK199,$B200=$BL199,$B200=$BM199,$B200=$BN199,$B200=$BO199,$B200=$BP199,$B200=$BA199),BQ199,BP199) -> 16 | BR200: =IF(OR($B200=$AV199,$B200=$AT199,$B200=$AU199,$B200=$AW199,$B200=$AX199,$B200=$AY199,$B200=$AZ199,$B200=$BB199,$B200=$BC199,$B200=$BD199,$B200=$BE199,$B200=$BF199,$B200=$BG199,$B200=$BH199,$B200=$BI199,$B200=$BJ199,$B200=$BK199,$B200=$BL199,$B200=$BM199,$B200=$BN199,$B200=$BO199,$B200=$BP199,$B200=$BQ199,$B200=$BA199),BR199,BQ199) -> 28 | BS200: =IF(OR($B200=$AV199,$B200=$AT199,$B200=$AU199,$B200=$AW199,$B200=$AX199,$B200=$AY199,$B200=$AZ199,$B200=$BB199,$B200=$BC199,$B200=$BD199,$B200=$BE199,$B200=$BF199,$B200=$BG199,$B200=$BH199,$B200=$BI199,$B200=$BJ199,$B200=$BK199,$B200=$BL199,$B200=$BM199,$B200=$BN199,$B200=$BO199,$B200=$BP199,$B200=$BQ199,$B200=$BR199,$B200=$BA199),BS199,BR199) -> 22 | BT200: =IF(OR($B200=$AV199,$B200=$AT199,$B200=$AU199,$B200=$AW199,$B200=$AX199,$B200=$AY199,$B200=$AZ199,$B200=$BB199,$B200=$BC199,$B200=$BD199,$B200=$BE199,$B200=$BF199,$B200=$BG199,$B200=$BH199,$B200=$BI199,$B200=$BJ199,$B200=$BK199,$B200=$BL199,$B200=$BM199,$B200=$BN199,$B200=$BO199,$B200=$BP199,$B200=$BQ199,$B200=$BR199,$B200=$BS199,$B200=$BA199),BT199,BS199) -> 24 | BU200: =IF(OR($B200=$AV199,$B200=$AT199,$B200=$AU199,$B200=$AW199,$B200=$AX199,$B200=$AY199,$B200=$AZ199,$B200=$BB199,$B200=$BC199,$B200=$BD199,$B200=$BE199,$B200=$BF199,$B200=$BG199,$B200=$BH199,$B200=$BI199,$B200=$BJ199,$B200=$BK199,$B200=$BL199,$B200=$BM199,$B200=$BN199,$B200=$BO199,$B200=$BP199,$B200=$BQ199,$B200=$BR199,$B200=$BS199,$B200=$BT199,$B200=$BA199),BU199,BT199) -> 37 | BV200: =IF(OR($B200=$AV199,$B200=$AT199,$B200=$AU199,$B200=$AW199,$B200=$AX199,$B200=$AY199,$B200=$AZ199,$B200=$BB199,$B200=$BC199,$B200=$BD199,$B200=$BE199,$B200=$BF199,$B200=$BG199,$B200=$BH199,$B200=$BI199,$B200=$BJ199,$B200=$BK199,$B200=$BL199,$B200=$BM199,$B200=$BN199,$B200=$BO199,$B200=$BP199,$B200=$BQ199,$B200=$BR199,$B200=$BS199,$B200=$BT199,$B200=$BU199,$B200=$BA199),BV199,BU199) -> 23 | BW200: =IF(OR($B200=$AV199,$B200=$AT199,$B200=$AU199,$B200=$AW199,$B200=$AX199,$B200=$AY199,$B200=$AZ199,$B200=$BB199,$B200=$BC199,$B200=$BD199,$B200=$BE199,$B200=$BF199,$B200=$BG199,$B200=$BH199,$B200=$BI199,$B200=$BJ199,$B200=$BK199,$B200=$BL199,$B200=$BM199,$B200=$BN199,$B200=$BO199,$B200=$BP199,$B200=$BQ199,$B200=$BR199,$B200=$BS199,$B200=$BT199,$B200=$BU199,$B200=$BV199,$B200=$BA199),BW199,BV199) -> 36 | BX200: =IF(OR($B200=$AV199,$B200=$AT199,$B200=$AU199,$B200=$AW199,$B200=$AX199,$B200=$AY199,$B200=$AZ199,$B200=$BB199,$B200=$BC199,$B200=$BD199,$B200=$BE199,$B200=$BF199,$B200=$BG199,$B200=$BH199,$B200=$BI199,$B200=$BJ199,$B200=$BK199,$B200=$BL199,$B200=$BM199,$B200=$BN199,$B200=$BO199,$B200=$BP199,$B200=$BQ199,$B200=$BR199,$B200=$BS199,$B200=$BT199,$B200=$BU199,$B200=$BV199,$B200=$BW199,$B200=$BA199),BX199,BW199) -> 13 | BY200: =IF(OR($B200=$AV199,$B200=$AT199,$B200=$AU199,$B200=$AW199,$B200=$AX199,$B200=$AY199,$B200=$AZ199,$B200=$BB199,$B200=$BC199,$B200=$BD199,$B200=$BE199,$B200=$BF199,$B200=$BG199,$B200=$BH199,$B200=$BI199,$B200=$BJ199,$B200=$BK199,$B200=$BL199,$B200=$BM199,$B200=$BN199,$B200=$BO199,$B200=$BP199,$B200=$BQ199,$B200=$BR199,$B200=$BS199,$B200=$BT199,$B200=$BU199,$B200=$BV199,$B200=$BW199,$B200=$BX199,$B200=$BA199),BY199,BX199) -> 2 | BZ200: =IF(OR($B200=$AV199,$B200=$AT199,$B200=$AU199,$B200=$AW199,$B200=$AX199,$B200=$AY199,$B200=$AZ199,$B200=$BB199,$B200=$BC199,$B200=$BD199,$B200=$BE199,$B200=$BF199,$B200=$BG199,$B200=$BH199,$B200=$BI199,$B200=$BJ199,$B200=$BK199,$B200=$BL199,$B200=$BM199,$B200=$BN199,$B200=$BO199,$B200=$BP199,$B200=$BQ199,$B200=$BR199,$B200=$BS199,$B200=$BT199,$B200=$BU199,$B200=$BV199,$B200=$BW199,$B200=$BX199,$B200=$BY199,$B200=$BA199),BZ199,BY199) -> 32 | CA200: =IF(OR($B200=$AV199,$B200=$AT199,$B200=$AU199,$B200=$AW199,$B200=$AX199,$B200=$AY199,$B200=$AZ199,$B200=$BB199,$B200=$BC199,$B200=$BD199,$B200=$BE199,$B200=$BF199,$B200=$BG199,$B200=$BH199,$B200=$BI199,$B200=$BJ199,$B200=$BK199,$B200=$BL199,$B200=$BM199,$B200=$BN199,$B200=$BO199,$B200=$BP199,$B200=$BQ199,$B200=$BR199,$B200=$BS199,$B200=$BT199,$B200=$BU199,$B200=$BV199,$B200=$BW199,$B200=$BX199,$B200=$BY199,$B200=$BZ199,$B200=$BA199),CA199,BZ199) -> 15 | CB200: =IF(OR($B200=$AV199,$B200=$AT199,$B200=$AU199,$B200=$AW199,$B200=$AX199,$B200=$AY199,$B200=$AZ199,$B200=$BB199,$B200=$BC199,$B200=$BD199,$B200=$BE199,$B200=$BF199,$B200=$BG199,$B200=$BH199,$B200=$BI199,$B200=$BJ199,$B200=$BK199,$B200=$BL199,$B200=$BM199,$B200=$BN199,$B200=$BO199,$B200=$BP199,$B200=$BQ199,$B200=$BR199,$B200=$BS199,$B200=$BT199,$B200=$BU199,$B200=$BV199,$B200=$BW199,$B200=$BX199,$B200=$BY199,$B200=$BZ199,$B200=$CA199,$B200=$BA199),CB199,CA199) -> 21 | CC200: =IF(OR($B200=$AV199,$B200=$AT199,$B200=$AU199,$B200=$AW199,$B200=$AX199,$B200=$AY199,$B200=$AZ199,$B200=$BB199,$B200=$BC199,$B200=$BD199,$B200=$BE199,$B200=$BF199,$B200=$BG199,$B200=$BH199,$B200=$BI199,$B200=$BJ199,$B200=$BK199,$B200=$BL199,$B200=$BM199,$B200=$BN199,$B200=$BO199,$B200=$BP199,$B200=$BQ199,$B200=$BR199,$B200=$BS199,$B200=$BT199,$B200=$BU199,$B200=$BV199,$B200=$BW199,$B200=$BX199,$B200=$BY199,$B200=$BZ199,$B200=$CA199,$B200=$CB199,$B200=$BA199),CC199,CB199) -> 6 | CD200: =IF(OR($B200=$AV199,$B200=$AT199,$B200=$AU199,$B200=$AW199,$B200=$AX199,$B200=$AY199,$B200=$AZ199,$B200=$BB199,$B200=$BC199,$B200=$BD199,$B200=$BE199,$B200=$BF199,$B200=$BG199,$B200=$BH199,$B200=$BI199,$B200=$BJ199,$B200=$BK199,$B200=$BL199,$B200=$BM199,$B200=$BN199,$B200=$BO199,$B200=$BP199,$B200=$BQ199,$B200=$BR199,$B200=$BS199,$B200=$BT199,$B200=$BU199,$B200=$BV199,$B200=$BW199,$B200=$BX199,$B200=$BY199,$B200=$BZ199,$B200=$CA199,$B200=$CB199,$B200=$CC199,$B200=$BA199),CD199,CC199) -> 18 | CH200: =IF(AND(CH199="",$B200<>CH$1),"",IF($C200<CH199,CH199,IF($B200=CH$1,1,1+CH199))) -> 8 | CI200: =IF(AND(CI199="",$B200<>CI$1),"",IF($C200<CI199,CI199,IF($B200=CI$1,1,1+CI199))) -> 32 | CJ200: =IF(AND(CJ199="",$B200<>CJ$1),"",IF($C200<CJ199,CJ199,IF($B200=CJ$1,1,1+CJ199))) -> 20 | CK200: =IF(AND(CK199="",$B200<>CK$1),"",IF($C200<CK199,CK199,IF($B200=CK$1,1,1+CK199))) -> 22 | CL200: =IF(AND(CL199="",$B200<>CL$1),"",IF($C200<CL199,CL199,IF($B200=CL$1,1,1+CL199))) -> 5 | CM200: =IF(AND(CM199="",$B200<>CM$1),"",IF($C200<CM199,CM199,IF($B200=CM$1,1,1+CM199))) -> 36 | CN200: =IF(AND(CN199="",$B200<>CN$1),"",IF($C200<CN199,CN199,IF($B200=CN$1,1,1+CN199))) -> 23 | CO200: =IF(AND(CO199="",$B200<>CO$1),"",IF($C200<CO199,CO199,IF($B200=CO$1,1,1+CO199))) -> 18 | ... DR200: =IF(AND(DR199="",$B200<>DR$1),"",IF($C200<DR199,DR199,IF($B200=DR$1,1,1+DR199))) -> 28
A201: 200 | B201: =Drogan!E202 -> 34 | C201: =IF(B201="","",LOOKUP(B201,$CH$1:$DR$1,CH200:DR200)) -> 13 | G201: =IF(AND(#REF!="",$B201<>""),"Nrs",IF(AND(#REF!="",#REF!<>"",$B201<>""),G$1,"")) -> #REF! | H201: =IF(AND(#REF!="",$B201<>""),AT201,IF(AND(#REF!="",#REF!<>"",$B201<>""),H$1,"")) -> #REF! | I201: =IF(AND(#REF!="",$B201<>""),AU201,IF(AND(#REF!="",#REF!<>"",$B201<>""),I$1,"")) -> #REF! | J201: =IF(AND(#REF!="",$B201<>""),AV201,IF(AND(#REF!="",#REF!<>"",$B201<>""),J$1,"")) -> #REF! | K201: =IF(AND(#REF!="",$B201<>""),AW201,IF(AND(#REF!="",#REF!<>"",$B201<>""),K$1,"")) -> #REF! | L201: =IF(AND(#REF!="",$B201<>""),AX201,IF(AND(#REF!="",#REF!<>"",$B201<>""),L$1,"")) -> #REF! | M201: =IF(AND(#REF!="",$B201<>""),AY201,IF(AND(#REF!="",#REF!<>"",$B201<>""),M$1,"")) -> #REF! | N201: =IF(AND(#REF!="",$B201<>""),AZ201,IF(AND(#REF!="",#REF!<>"",$B201<>""),N$1,"")) -> #REF! | O201: =IF(AND(#REF!="",$B201<>""),BA201,IF(AND(#REF!="",#REF!<>"",$B201<>""),O$1,"")) -> #REF! | ... AR201: =IF(AND(#REF!="",$B201<>""),CD201,IF(AND(#REF!="",#REF!<>"",$B201<>""),AR$1,"")) -> #REF! | AT201: =B201 -> 34 | AU201: =IF($B201=$AT200,AU200,AT200) -> 17 | AV201: =IF(OR($B201=$AT200,$B201=$AU200),AV200,AU200) -> 26 | AW201: =IF(OR($B201=$AV200,$B201=$AT200,$B201=$AU200),AW200,AV200) -> 31 | AX201: =IF(OR($B201=$AV200,$B201=$AT200,$B201=$AU200,$B201=$AW200),AX200,AW200) -> 19 | AY201: =IF(OR($B201=$AV200,$B201=$AT200,$B201=$AU200,$B201=$AW200,$B201=$AX200),AY200,AX200) -> 5 | AZ201: =IF(OR($B201=$AV200,$B201=$AT200,$B201=$AU200,$B201=$AW200,$B201=$AX200,$B201=$AY200),AZ200,AY200) -> 25 | BA201: =IF(OR($B201=$AV200,$B201=$AT200,$B201=$AU200,$B201=$AW200,$B201=$AX200,$B201=$AY200,$B201=$AZ200),BA200,AZ200) -> 27 | BB201: =IF(OR($B201=$AV200,$B201=$AT200,$B201=$AU200,$B201=$AW200,$B201=$AX200,$B201=$AY200,$B201=$AZ200,$B201=$BA200),BB200,BA200) -> 1 | BC201: =IF(OR($B201=$AV200,$B201=$AT200,$B201=$AU200,$B201=$AW200,$B201=$AX200,$B201=$AY200,$B201=$AZ200,$B201=$BA200,$B201=$BB200),BC200,BB200) -> 20 | BD201: =IF(OR($B201=$AV200,$B201=$AT200,$B201=$AU200,$B201=$AW200,$B201=$AX200,$B201=$AY200,$B201=$AZ200,$B201=$BB200,$B201=$BC200,$B201=$BA200),BD200,BC200) -> 33 | BE201: =IF(OR($B201=$AV200,$B201=$AT200,$B201=$AU200,$B201=$AW200,$B201=$AX200,$B201=$AY200,$B201=$AZ200,$B201=$BB200,$B201=$BC200,$B201=$BD200,$B201=$BA200),BE200,BD200) -> 10 | BF201: =IF(OR($B201=$AV200,$B201=$AT200,$B201=$AU200,$B201=$AW200,$B201=$AX200,$B201=$AY200,$B201=$AZ200,$B201=$BB200,$B201=$BC200,$B201=$BD200,$B201=$BE200,$B201=$BA200),BF200,BE200) -> 12 | BG201: =IF(OR($B201=$AV200,$B201=$AT200,$B201=$AU200,$B201=$AW200,$B201=$AX200,$B201=$AY200,$B201=$AZ200,$B201=$BB200,$B201=$BC200,$B201=$BD200,$B201=$BE200,$B201=$BF200,$B201=$BA200),BG200,BF200) -> 9 | BH201: =IF(OR($B201=$AV200,$B201=$AT200,$B201=$AU200,$B201=$AW200,$B201=$AX200,$B201=$AY200,$B201=$AZ200,$B201=$BB200,$B201=$BC200,$B201=$BD200,$B201=$BE200,$B201=$BF200,$B201=$BG200,$B201=$BA200),BH200,BG200) -> 35 | BI201: =IF(OR($B201=$AV200,$B201=$AT200,$B201=$AU200,$B201=$AW200,$B201=$AX200,$B201=$AY200,$B201=$AZ200,$B201=$BB200,$B201=$BC200,$B201=$BD200,$B201=$BE200,$B201=$BF200,$B201=$BG200,$B201=$BH200,$B201=$BA200),BI200,BH200) -> 14 | BJ201: =IF(OR($B201=$AV200,$B201=$AT200,$B201=$AU200,$B201=$AW200,$B201=$AX200,$B201=$AY200,$B201=$AZ200,$B201=$BB200,$B201=$BC200,$B201=$BD200,$B201=$BE200,$B201=$BF200,$B201=$BG200,$B201=$BH200,$B201=$BI200,$B201=$BA200),BJ200,BI200) -> 30 | BK201: =IF(OR($B201=$AV200,$B201=$AT200,$B201=$AU200,$B201=$AW200,$B201=$AX200,$B201=$AY200,$B201=$AZ200,$B201=$BB200,$B201=$BC200,$B201=$BD200,$B201=$BE200,$B201=$BF200,$B201=$BG200,$B201=$BH200,$B201=$BI200,$B201=$BJ200,$B201=$BA200),BK200,BJ200) -> 8 | BL201: =IF(OR($B201=$AV200,$B201=$AT200,$B201=$AU200,$B201=$AW200,$B201=$AX200,$B201=$AY200,$B201=$AZ200,$B201=$BB200,$B201=$BC200,$B201=$BD200,$B201=$BE200,$B201=$BF200,$B201=$BG200,$B201=$BH200,$B201=$BI200,$B201=$BJ200,$B201=$BK200,$B201=$BA200),BL200,BK200) -> 11 | BM201: =IF(OR($B201=$AV200,$B201=$AT200,$B201=$AU200,$B201=$AW200,$B201=$AX200,$B201=$AY200,$B201=$AZ200,$B201=$BB200,$B201=$BC200,$B201=$BD200,$B201=$BE200,$B201=$BF200,$B201=$BG200,$B201=$BH200,$B201=$BI200,$B201=$BJ200,$B201=$BK200,$B201=$BL200,$B201=$BA200),BM200,BL200) -> 3 | BN201: =IF(OR($B201=$AV200,$B201=$AT200,$B201=$AU200,$B201=$AW200,$B201=$AX200,$B201=$AY200,$B201=$AZ200,$B201=$BB200,$B201=$BC200,$B201=$BD200,$B201=$BE200,$B201=$BF200,$B201=$BG200,$B201=$BH200,$B201=$BI200,$B201=$BJ200,$B201=$BK200,$B201=$BL200,$B201=$BM200,$B201=$BA200),BN200,BM200) -> 29 | BO201: =IF(OR($B201=$AV200,$B201=$AT200,$B201=$AU200,$B201=$AW200,$B201=$AX200,$B201=$AY200,$B201=$AZ200,$B201=$BB200,$B201=$BC200,$B201=$BD200,$B201=$BE200,$B201=$BF200,$B201=$BG200,$B201=$BH200,$B201=$BI200,$B201=$BJ200,$B201=$BK200,$B201=$BL200,$B201=$BM200,$B201=$BN200,$B201=$BA200),BO200,BN200) -> 4 | BP201: =IF(OR($B201=$AV200,$B201=$AT200,$B201=$AU200,$B201=$AW200,$B201=$AX200,$B201=$AY200,$B201=$AZ200,$B201=$BB200,$B201=$BC200,$B201=$BD200,$B201=$BE200,$B201=$BF200,$B201=$BG200,$B201=$BH200,$B201=$BI200,$B201=$BJ200,$B201=$BK200,$B201=$BL200,$B201=$BM200,$B201=$BN200,$B201=$BO200,$B201=$BA200),BP200,BO200) -> 7 | BQ201: =IF(OR($B201=$AV200,$B201=$AT200,$B201=$AU200,$B201=$AW200,$B201=$AX200,$B201=$AY200,$B201=$AZ200,$B201=$BB200,$B201=$BC200,$B201=$BD200,$B201=$BE200,$B201=$BF200,$B201=$BG200,$B201=$BH200,$B201=$BI200,$B201=$BJ200,$B201=$BK200,$B201=$BL200,$B201=$BM200,$B201=$BN200,$B201=$BO200,$B201=$BP200,$B201=$BA200),BQ200,BP200) -> 16 | BR201: =IF(OR($B201=$AV200,$B201=$AT200,$B201=$AU200,$B201=$AW200,$B201=$AX200,$B201=$AY200,$B201=$AZ200,$B201=$BB200,$B201=$BC200,$B201=$BD200,$B201=$BE200,$B201=$BF200,$B201=$BG200,$B201=$BH200,$B201=$BI200,$B201=$BJ200,$B201=$BK200,$B201=$BL200,$B201=$BM200,$B201=$BN200,$B201=$BO200,$B201=$BP200,$B201=$BQ200,$B201=$BA200),BR200,BQ200) -> 28 | BS201: =IF(OR($B201=$AV200,$B201=$AT200,$B201=$AU200,$B201=$AW200,$B201=$AX200,$B201=$AY200,$B201=$AZ200,$B201=$BB200,$B201=$BC200,$B201=$BD200,$B201=$BE200,$B201=$BF200,$B201=$BG200,$B201=$BH200,$B201=$BI200,$B201=$BJ200,$B201=$BK200,$B201=$BL200,$B201=$BM200,$B201=$BN200,$B201=$BO200,$B201=$BP200,$B201=$BQ200,$B201=$BR200,$B201=$BA200),BS200,BR200) -> 22 | BT201: =IF(OR($B201=$AV200,$B201=$AT200,$B201=$AU200,$B201=$AW200,$B201=$AX200,$B201=$AY200,$B201=$AZ200,$B201=$BB200,$B201=$BC200,$B201=$BD200,$B201=$BE200,$B201=$BF200,$B201=$BG200,$B201=$BH200,$B201=$BI200,$B201=$BJ200,$B201=$BK200,$B201=$BL200,$B201=$BM200,$B201=$BN200,$B201=$BO200,$B201=$BP200,$B201=$BQ200,$B201=$BR200,$B201=$BS200,$B201=$BA200),BT200,BS200) -> 24 | BU201: =IF(OR($B201=$AV200,$B201=$AT200,$B201=$AU200,$B201=$AW200,$B201=$AX200,$B201=$AY200,$B201=$AZ200,$B201=$BB200,$B201=$BC200,$B201=$BD200,$B201=$BE200,$B201=$BF200,$B201=$BG200,$B201=$BH200,$B201=$BI200,$B201=$BJ200,$B201=$BK200,$B201=$BL200,$B201=$BM200,$B201=$BN200,$B201=$BO200,$B201=$BP200,$B201=$BQ200,$B201=$BR200,$B201=$BS200,$B201=$BT200,$B201=$BA200),BU200,BT200) -> 37 | BV201: =IF(OR($B201=$AV200,$B201=$AT200,$B201=$AU200,$B201=$AW200,$B201=$AX200,$B201=$AY200,$B201=$AZ200,$B201=$BB200,$B201=$BC200,$B201=$BD200,$B201=$BE200,$B201=$BF200,$B201=$BG200,$B201=$BH200,$B201=$BI200,$B201=$BJ200,$B201=$BK200,$B201=$BL200,$B201=$BM200,$B201=$BN200,$B201=$BO200,$B201=$BP200,$B201=$BQ200,$B201=$BR200,$B201=$BS200,$B201=$BT200,$B201=$BU200,$B201=$BA200),BV200,BU200) -> 23 | BW201: =IF(OR($B201=$AV200,$B201=$AT200,$B201=$AU200,$B201=$AW200,$B201=$AX200,$B201=$AY200,$B201=$AZ200,$B201=$BB200,$B201=$BC200,$B201=$BD200,$B201=$BE200,$B201=$BF200,$B201=$BG200,$B201=$BH200,$B201=$BI200,$B201=$BJ200,$B201=$BK200,$B201=$BL200,$B201=$BM200,$B201=$BN200,$B201=$BO200,$B201=$BP200,$B201=$BQ200,$B201=$BR200,$B201=$BS200,$B201=$BT200,$B201=$BU200,$B201=$BV200,$B201=$BA200),BW200,BV200) -> 36 | BX201: =IF(OR($B201=$AV200,$B201=$AT200,$B201=$AU200,$B201=$AW200,$B201=$AX200,$B201=$AY200,$B201=$AZ200,$B201=$BB200,$B201=$BC200,$B201=$BD200,$B201=$BE200,$B201=$BF200,$B201=$BG200,$B201=$BH200,$B201=$BI200,$B201=$BJ200,$B201=$BK200,$B201=$BL200,$B201=$BM200,$B201=$BN200,$B201=$BO200,$B201=$BP200,$B201=$BQ200,$B201=$BR200,$B201=$BS200,$B201=$BT200,$B201=$BU200,$B201=$BV200,$B201=$BW200,$B201=$BA200),BX200,BW200) -> 13 | BY201: =IF(OR($B201=$AV200,$B201=$AT200,$B201=$AU200,$B201=$AW200,$B201=$AX200,$B201=$AY200,$B201=$AZ200,$B201=$BB200,$B201=$BC200,$B201=$BD200,$B201=$BE200,$B201=$BF200,$B201=$BG200,$B201=$BH200,$B201=$BI200,$B201=$BJ200,$B201=$BK200,$B201=$BL200,$B201=$BM200,$B201=$BN200,$B201=$BO200,$B201=$BP200,$B201=$BQ200,$B201=$BR200,$B201=$BS200,$B201=$BT200,$B201=$BU200,$B201=$BV200,$B201=$BW200,$B201=$BX200,$B201=$BA200),BY200,BX200) -> 2 | BZ201: =IF(OR($B201=$AV200,$B201=$AT200,$B201=$AU200,$B201=$AW200,$B201=$AX200,$B201=$AY200,$B201=$AZ200,$B201=$BB200,$B201=$BC200,$B201=$BD200,$B201=$BE200,$B201=$BF200,$B201=$BG200,$B201=$BH200,$B201=$BI200,$B201=$BJ200,$B201=$BK200,$B201=$BL200,$B201=$BM200,$B201=$BN200,$B201=$BO200,$B201=$BP200,$B201=$BQ200,$B201=$BR200,$B201=$BS200,$B201=$BT200,$B201=$BU200,$B201=$BV200,$B201=$BW200,$B201=$BX200,$B201=$BY200,$B201=$BA200),BZ200,BY200) -> 32 | CA201: =IF(OR($B201=$AV200,$B201=$AT200,$B201=$AU200,$B201=$AW200,$B201=$AX200,$B201=$AY200,$B201=$AZ200,$B201=$BB200,$B201=$BC200,$B201=$BD200,$B201=$BE200,$B201=$BF200,$B201=$BG200,$B201=$BH200,$B201=$BI200,$B201=$BJ200,$B201=$BK200,$B201=$BL200,$B201=$BM200,$B201=$BN200,$B201=$BO200,$B201=$BP200,$B201=$BQ200,$B201=$BR200,$B201=$BS200,$B201=$BT200,$B201=$BU200,$B201=$BV200,$B201=$BW200,$B201=$BX200,$B201=$BY200,$B201=$BZ200,$B201=$BA200),CA200,BZ200) -> 15 | CB201: =IF(OR($B201=$AV200,$B201=$AT200,$B201=$AU200,$B201=$AW200,$B201=$AX200,$B201=$AY200,$B201=$AZ200,$B201=$BB200,$B201=$BC200,$B201=$BD200,$B201=$BE200,$B201=$BF200,$B201=$BG200,$B201=$BH200,$B201=$BI200,$B201=$BJ200,$B201=$BK200,$B201=$BL200,$B201=$BM200,$B201=$BN200,$B201=$BO200,$B201=$BP200,$B201=$BQ200,$B201=$BR200,$B201=$BS200,$B201=$BT200,$B201=$BU200,$B201=$BV200,$B201=$BW200,$B201=$BX200,$B201=$BY200,$B201=$BZ200,$B201=$CA200,$B201=$BA200),CB200,CA200) -> 21 | CC201: =IF(OR($B201=$AV200,$B201=$AT200,$B201=$AU200,$B201=$AW200,$B201=$AX200,$B201=$AY200,$B201=$AZ200,$B201=$BB200,$B201=$BC200,$B201=$BD200,$B201=$BE200,$B201=$BF200,$B201=$BG200,$B201=$BH200,$B201=$BI200,$B201=$BJ200,$B201=$BK200,$B201=$BL200,$B201=$BM200,$B201=$BN200,$B201=$BO200,$B201=$BP200,$B201=$BQ200,$B201=$BR200,$B201=$BS200,$B201=$BT200,$B201=$BU200,$B201=$BV200,$B201=$BW200,$B201=$BX200,$B201=$BY200,$B201=$BZ200,$B201=$CA200,$B201=$CB200,$B201=$BA200),CC200,CB200) -> 6 | CD201: =IF(OR($B201=$AV200,$B201=$AT200,$B201=$AU200,$B201=$AW200,$B201=$AX200,$B201=$AY200,$B201=$AZ200,$B201=$BB200,$B201=$BC200,$B201=$BD200,$B201=$BE200,$B201=$BF200,$B201=$BG200,$B201=$BH200,$B201=$BI200,$B201=$BJ200,$B201=$BK200,$B201=$BL200,$B201=$BM200,$B201=$BN200,$B201=$BO200,$B201=$BP200,$B201=$BQ200,$B201=$BR200,$B201=$BS200,$B201=$BT200,$B201=$BU200,$B201=$BV200,$B201=$BW200,$B201=$BX200,$B201=$BY200,$B201=$BZ200,$B201=$CA200,$B201=$CB200,$B201=$CC200,$B201=$BA200),CD200,CC200) -> 18 | CH201: =IF(AND(CH200="",$B201<>CH$1),"",IF($C201<CH200,CH200,IF($B201=CH$1,1,1+CH200))) -> 9 | CI201: =IF(AND(CI200="",$B201<>CI$1),"",IF($C201<CI200,CI200,IF($B201=CI$1,1,1+CI200))) -> 32 | CJ201: =IF(AND(CJ200="",$B201<>CJ$1),"",IF($C201<CJ200,CJ200,IF($B201=CJ$1,1,1+CJ200))) -> 20 | CK201: =IF(AND(CK200="",$B201<>CK$1),"",IF($C201<CK200,CK200,IF($B201=CK$1,1,1+CK200))) -> 22 | CL201: =IF(AND(CL200="",$B201<>CL$1),"",IF($C201<CL200,CL200,IF($B201=CL$1,1,1+CL200))) -> 6 | CM201: =IF(AND(CM200="",$B201<>CM$1),"",IF($C201<CM200,CM200,IF($B201=CM$1,1,1+CM200))) -> 36 | CN201: =IF(AND(CN200="",$B201<>CN$1),"",IF($C201<CN200,CN200,IF($B201=CN$1,1,1+CN200))) -> 23 | CO201: =IF(AND(CO200="",$B201<>CO$1),"",IF($C201<CO200,CO200,IF($B201=CO$1,1,1+CO200))) -> 18 | ... DR201: =IF(AND(DR200="",$B201<>DR$1),"",IF($C201<DR200,DR200,IF($B201=DR$1,1,1+DR200))) -> 28
A202: 201 | B202: =Drogan!E203 -> 32 | C202: =IF(B202="","",LOOKUP(B202,$CH$1:$DR$1,CH201:DR201)) -> 33 | G202: =IF(AND($B203="",$B202<>""),"Nrs",IF(AND($B204="",$B203<>"",$B202<>""),G$1,"")) | H202: =IF(AND($B203="",$B202<>""),AT202,IF(AND($B204="",$B203<>"",$B202<>""),H$1,"")) | I202: =IF(AND($B203="",$B202<>""),AU202,IF(AND($B204="",$B203<>"",$B202<>""),I$1,"")) | J202: =IF(AND($B203="",$B202<>""),AV202,IF(AND($B204="",$B203<>"",$B202<>""),J$1,"")) | K202: =IF(AND($B203="",$B202<>""),AW202,IF(AND($B204="",$B203<>"",$B202<>""),K$1,"")) | L202: =IF(AND($B203="",$B202<>""),AX202,IF(AND($B204="",$B203<>"",$B202<>""),L$1,"")) | M202: =IF(AND($B203="",$B202<>""),AY202,IF(AND($B204="",$B203<>"",$B202<>""),M$1,"")) | N202: =IF(AND($B203="",$B202<>""),AZ202,IF(AND($B204="",$B203<>"",$B202<>""),N$1,"")) | O202: =IF(AND($B203="",$B202<>""),BA202,IF(AND($B204="",$B203<>"",$B202<>""),O$1,"")) | ... AR202: =IF(AND($B203="",$B202<>""),CD202,IF(AND($B204="",$B203<>"",$B202<>""),AR$1,"")) | AT202: =B202 -> 32 | AU202: =IF($B202=$AT201,AU201,AT201) -> 34 | AV202: =IF(OR($B202=$AT201,$B202=$AU201),AV201,AU201) -> 17 | AW202: =IF(OR($B202=$AV201,$B202=$AT201,$B202=$AU201),AW201,AV201) -> 26 | AX202: =IF(OR($B202=$AV201,$B202=$AT201,$B202=$AU201,$B202=$AW201),AX201,AW201) -> 31 | AY202: =IF(OR($B202=$AV201,$B202=$AT201,$B202=$AU201,$B202=$AW201,$B202=$AX201),AY201,AX201) -> 19 | AZ202: =IF(OR($B202=$AV201,$B202=$AT201,$B202=$AU201,$B202=$AW201,$B202=$AX201,$B202=$AY201),AZ201,AY201) -> 5 | BA202: =IF(OR($B202=$AV201,$B202=$AT201,$B202=$AU201,$B202=$AW201,$B202=$AX201,$B202=$AY201,$B202=$AZ201),BA201,AZ201) -> 25 | BB202: =IF(OR($B202=$AV201,$B202=$AT201,$B202=$AU201,$B202=$AW201,$B202=$AX201,$B202=$AY201,$B202=$AZ201,$B202=$BA201),BB201,BA201) -> 27 | BC202: =IF(OR($B202=$AV201,$B202=$AT201,$B202=$AU201,$B202=$AW201,$B202=$AX201,$B202=$AY201,$B202=$AZ201,$B202=$BA201,$B202=$BB201),BC201,BB201) -> 1 | BD202: =IF(OR($B202=$AV201,$B202=$AT201,$B202=$AU201,$B202=$AW201,$B202=$AX201,$B202=$AY201,$B202=$AZ201,$B202=$BB201,$B202=$BC201,$B202=$BA201),BD201,BC201) -> 20 | BE202: =IF(OR($B202=$AV201,$B202=$AT201,$B202=$AU201,$B202=$AW201,$B202=$AX201,$B202=$AY201,$B202=$AZ201,$B202=$BB201,$B202=$BC201,$B202=$BD201,$B202=$BA201),BE201,BD201) -> 33 | BF202: =IF(OR($B202=$AV201,$B202=$AT201,$B202=$AU201,$B202=$AW201,$B202=$AX201,$B202=$AY201,$B202=$AZ201,$B202=$BB201,$B202=$BC201,$B202=$BD201,$B202=$BE201,$B202=$BA201),BF201,BE201) -> 10 | BG202: =IF(OR($B202=$AV201,$B202=$AT201,$B202=$AU201,$B202=$AW201,$B202=$AX201,$B202=$AY201,$B202=$AZ201,$B202=$BB201,$B202=$BC201,$B202=$BD201,$B202=$BE201,$B202=$BF201,$B202=$BA201),BG201,BF201) -> 12 | BH202: =IF(OR($B202=$AV201,$B202=$AT201,$B202=$AU201,$B202=$AW201,$B202=$AX201,$B202=$AY201,$B202=$AZ201,$B202=$BB201,$B202=$BC201,$B202=$BD201,$B202=$BE201,$B202=$BF201,$B202=$BG201,$B202=$BA201),BH201,BG201) -> 9 | BI202: =IF(OR($B202=$AV201,$B202=$AT201,$B202=$AU201,$B202=$AW201,$B202=$AX201,$B202=$AY201,$B202=$AZ201,$B202=$BB201,$B202=$BC201,$B202=$BD201,$B202=$BE201,$B202=$BF201,$B202=$BG201,$B202=$BH201,$B202=$BA201),BI201,BH201) -> 35 | BJ202: =IF(OR($B202=$AV201,$B202=$AT201,$B202=$AU201,$B202=$AW201,$B202=$AX201,$B202=$AY201,$B202=$AZ201,$B202=$BB201,$B202=$BC201,$B202=$BD201,$B202=$BE201,$B202=$BF201,$B202=$BG201,$B202=$BH201,$B202=$BI201,$B202=$BA201),BJ201,BI201) -> 14 | BK202: =IF(OR($B202=$AV201,$B202=$AT201,$B202=$AU201,$B202=$AW201,$B202=$AX201,$B202=$AY201,$B202=$AZ201,$B202=$BB201,$B202=$BC201,$B202=$BD201,$B202=$BE201,$B202=$BF201,$B202=$BG201,$B202=$BH201,$B202=$BI201,$B202=$BJ201,$B202=$BA201),BK201,BJ201) -> 30 | BL202: =IF(OR($B202=$AV201,$B202=$AT201,$B202=$AU201,$B202=$AW201,$B202=$AX201,$B202=$AY201,$B202=$AZ201,$B202=$BB201,$B202=$BC201,$B202=$BD201,$B202=$BE201,$B202=$BF201,$B202=$BG201,$B202=$BH201,$B202=$BI201,$B202=$BJ201,$B202=$BK201,$B202=$BA201),BL201,BK201) -> 8 | BM202: =IF(OR($B202=$AV201,$B202=$AT201,$B202=$AU201,$B202=$AW201,$B202=$AX201,$B202=$AY201,$B202=$AZ201,$B202=$BB201,$B202=$BC201,$B202=$BD201,$B202=$BE201,$B202=$BF201,$B202=$BG201,$B202=$BH201,$B202=$BI201,$B202=$BJ201,$B202=$BK201,$B202=$BL201,$B202=$BA201),BM201,BL201) -> 11 | BN202: =IF(OR($B202=$AV201,$B202=$AT201,$B202=$AU201,$B202=$AW201,$B202=$AX201,$B202=$AY201,$B202=$AZ201,$B202=$BB201,$B202=$BC201,$B202=$BD201,$B202=$BE201,$B202=$BF201,$B202=$BG201,$B202=$BH201,$B202=$BI201,$B202=$BJ201,$B202=$BK201,$B202=$BL201,$B202=$BM201,$B202=$BA201),BN201,BM201) -> 3 | BO202: =IF(OR($B202=$AV201,$B202=$AT201,$B202=$AU201,$B202=$AW201,$B202=$AX201,$B202=$AY201,$B202=$AZ201,$B202=$BB201,$B202=$BC201,$B202=$BD201,$B202=$BE201,$B202=$BF201,$B202=$BG201,$B202=$BH201,$B202=$BI201,$B202=$BJ201,$B202=$BK201,$B202=$BL201,$B202=$BM201,$B202=$BN201,$B202=$BA201),BO201,BN201) -> 29 | BP202: =IF(OR($B202=$AV201,$B202=$AT201,$B202=$AU201,$B202=$AW201,$B202=$AX201,$B202=$AY201,$B202=$AZ201,$B202=$BB201,$B202=$BC201,$B202=$BD201,$B202=$BE201,$B202=$BF201,$B202=$BG201,$B202=$BH201,$B202=$BI201,$B202=$BJ201,$B202=$BK201,$B202=$BL201,$B202=$BM201,$B202=$BN201,$B202=$BO201,$B202=$BA201),BP201,BO201) -> 4 | BQ202: =IF(OR($B202=$AV201,$B202=$AT201,$B202=$AU201,$B202=$AW201,$B202=$AX201,$B202=$AY201,$B202=$AZ201,$B202=$BB201,$B202=$BC201,$B202=$BD201,$B202=$BE201,$B202=$BF201,$B202=$BG201,$B202=$BH201,$B202=$BI201,$B202=$BJ201,$B202=$BK201,$B202=$BL201,$B202=$BM201,$B202=$BN201,$B202=$BO201,$B202=$BP201,$B202=$BA201),BQ201,BP201) -> 7 | BR202: =IF(OR($B202=$AV201,$B202=$AT201,$B202=$AU201,$B202=$AW201,$B202=$AX201,$B202=$AY201,$B202=$AZ201,$B202=$BB201,$B202=$BC201,$B202=$BD201,$B202=$BE201,$B202=$BF201,$B202=$BG201,$B202=$BH201,$B202=$BI201,$B202=$BJ201,$B202=$BK201,$B202=$BL201,$B202=$BM201,$B202=$BN201,$B202=$BO201,$B202=$BP201,$B202=$BQ201,$B202=$BA201),BR201,BQ201) -> 16 | BS202: =IF(OR($B202=$AV201,$B202=$AT201,$B202=$AU201,$B202=$AW201,$B202=$AX201,$B202=$AY201,$B202=$AZ201,$B202=$BB201,$B202=$BC201,$B202=$BD201,$B202=$BE201,$B202=$BF201,$B202=$BG201,$B202=$BH201,$B202=$BI201,$B202=$BJ201,$B202=$BK201,$B202=$BL201,$B202=$BM201,$B202=$BN201,$B202=$BO201,$B202=$BP201,$B202=$BQ201,$B202=$BR201,$B202=$BA201),BS201,BR201) -> 28 | BT202: =IF(OR($B202=$AV201,$B202=$AT201,$B202=$AU201,$B202=$AW201,$B202=$AX201,$B202=$AY201,$B202=$AZ201,$B202=$BB201,$B202=$BC201,$B202=$BD201,$B202=$BE201,$B202=$BF201,$B202=$BG201,$B202=$BH201,$B202=$BI201,$B202=$BJ201,$B202=$BK201,$B202=$BL201,$B202=$BM201,$B202=$BN201,$B202=$BO201,$B202=$BP201,$B202=$BQ201,$B202=$BR201,$B202=$BS201,$B202=$BA201),BT201,BS201) -> 22 | BU202: =IF(OR($B202=$AV201,$B202=$AT201,$B202=$AU201,$B202=$AW201,$B202=$AX201,$B202=$AY201,$B202=$AZ201,$B202=$BB201,$B202=$BC201,$B202=$BD201,$B202=$BE201,$B202=$BF201,$B202=$BG201,$B202=$BH201,$B202=$BI201,$B202=$BJ201,$B202=$BK201,$B202=$BL201,$B202=$BM201,$B202=$BN201,$B202=$BO201,$B202=$BP201,$B202=$BQ201,$B202=$BR201,$B202=$BS201,$B202=$BT201,$B202=$BA201),BU201,BT201) -> 24 | BV202: =IF(OR($B202=$AV201,$B202=$AT201,$B202=$AU201,$B202=$AW201,$B202=$AX201,$B202=$AY201,$B202=$AZ201,$B202=$BB201,$B202=$BC201,$B202=$BD201,$B202=$BE201,$B202=$BF201,$B202=$BG201,$B202=$BH201,$B202=$BI201,$B202=$BJ201,$B202=$BK201,$B202=$BL201,$B202=$BM201,$B202=$BN201,$B202=$BO201,$B202=$BP201,$B202=$BQ201,$B202=$BR201,$B202=$BS201,$B202=$BT201,$B202=$BU201,$B202=$BA201),BV201,BU201) -> 37 | BW202: =IF(OR($B202=$AV201,$B202=$AT201,$B202=$AU201,$B202=$AW201,$B202=$AX201,$B202=$AY201,$B202=$AZ201,$B202=$BB201,$B202=$BC201,$B202=$BD201,$B202=$BE201,$B202=$BF201,$B202=$BG201,$B202=$BH201,$B202=$BI201,$B202=$BJ201,$B202=$BK201,$B202=$BL201,$B202=$BM201,$B202=$BN201,$B202=$BO201,$B202=$BP201,$B202=$BQ201,$B202=$BR201,$B202=$BS201,$B202=$BT201,$B202=$BU201,$B202=$BV201,$B202=$BA201),BW201,BV201) -> 23 | BX202: =IF(OR($B202=$AV201,$B202=$AT201,$B202=$AU201,$B202=$AW201,$B202=$AX201,$B202=$AY201,$B202=$AZ201,$B202=$BB201,$B202=$BC201,$B202=$BD201,$B202=$BE201,$B202=$BF201,$B202=$BG201,$B202=$BH201,$B202=$BI201,$B202=$BJ201,$B202=$BK201,$B202=$BL201,$B202=$BM201,$B202=$BN201,$B202=$BO201,$B202=$BP201,$B202=$BQ201,$B202=$BR201,$B202=$BS201,$B202=$BT201,$B202=$BU201,$B202=$BV201,$B202=$BW201,$B202=$BA201),BX201,BW201) -> 36 | BY202: =IF(OR($B202=$AV201,$B202=$AT201,$B202=$AU201,$B202=$AW201,$B202=$AX201,$B202=$AY201,$B202=$AZ201,$B202=$BB201,$B202=$BC201,$B202=$BD201,$B202=$BE201,$B202=$BF201,$B202=$BG201,$B202=$BH201,$B202=$BI201,$B202=$BJ201,$B202=$BK201,$B202=$BL201,$B202=$BM201,$B202=$BN201,$B202=$BO201,$B202=$BP201,$B202=$BQ201,$B202=$BR201,$B202=$BS201,$B202=$BT201,$B202=$BU201,$B202=$BV201,$B202=$BW201,$B202=$BX201,$B202=$BA201),BY201,BX201) -> 13 | BZ202: =IF(OR($B202=$AV201,$B202=$AT201,$B202=$AU201,$B202=$AW201,$B202=$AX201,$B202=$AY201,$B202=$AZ201,$B202=$BB201,$B202=$BC201,$B202=$BD201,$B202=$BE201,$B202=$BF201,$B202=$BG201,$B202=$BH201,$B202=$BI201,$B202=$BJ201,$B202=$BK201,$B202=$BL201,$B202=$BM201,$B202=$BN201,$B202=$BO201,$B202=$BP201,$B202=$BQ201,$B202=$BR201,$B202=$BS201,$B202=$BT201,$B202=$BU201,$B202=$BV201,$B202=$BW201,$B202=$BX201,$B202=$BY201,$B202=$BA201),BZ201,BY201) -> 2 | CA202: =IF(OR($B202=$AV201,$B202=$AT201,$B202=$AU201,$B202=$AW201,$B202=$AX201,$B202=$AY201,$B202=$AZ201,$B202=$BB201,$B202=$BC201,$B202=$BD201,$B202=$BE201,$B202=$BF201,$B202=$BG201,$B202=$BH201,$B202=$BI201,$B202=$BJ201,$B202=$BK201,$B202=$BL201,$B202=$BM201,$B202=$BN201,$B202=$BO201,$B202=$BP201,$B202=$BQ201,$B202=$BR201,$B202=$BS201,$B202=$BT201,$B202=$BU201,$B202=$BV201,$B202=$BW201,$B202=$BX201,$B202=$BY201,$B202=$BZ201,$B202=$BA201),CA201,BZ201) -> 15 | CB202: =IF(OR($B202=$AV201,$B202=$AT201,$B202=$AU201,$B202=$AW201,$B202=$AX201,$B202=$AY201,$B202=$AZ201,$B202=$BB201,$B202=$BC201,$B202=$BD201,$B202=$BE201,$B202=$BF201,$B202=$BG201,$B202=$BH201,$B202=$BI201,$B202=$BJ201,$B202=$BK201,$B202=$BL201,$B202=$BM201,$B202=$BN201,$B202=$BO201,$B202=$BP201,$B202=$BQ201,$B202=$BR201,$B202=$BS201,$B202=$BT201,$B202=$BU201,$B202=$BV201,$B202=$BW201,$B202=$BX201,$B202=$BY201,$B202=$BZ201,$B202=$CA201,$B202=$BA201),CB201,CA201) -> 21 | CC202: =IF(OR($B202=$AV201,$B202=$AT201,$B202=$AU201,$B202=$AW201,$B202=$AX201,$B202=$AY201,$B202=$AZ201,$B202=$BB201,$B202=$BC201,$B202=$BD201,$B202=$BE201,$B202=$BF201,$B202=$BG201,$B202=$BH201,$B202=$BI201,$B202=$BJ201,$B202=$BK201,$B202=$BL201,$B202=$BM201,$B202=$BN201,$B202=$BO201,$B202=$BP201,$B202=$BQ201,$B202=$BR201,$B202=$BS201,$B202=$BT201,$B202=$BU201,$B202=$BV201,$B202=$BW201,$B202=$BX201,$B202=$BY201,$B202=$BZ201,$B202=$CA201,$B202=$CB201,$B202=$BA201),CC201,CB201) -> 6 | CD202: =IF(OR($B202=$AV201,$B202=$AT201,$B202=$AU201,$B202=$AW201,$B202=$AX201,$B202=$AY201,$B202=$AZ201,$B202=$BB201,$B202=$BC201,$B202=$BD201,$B202=$BE201,$B202=$BF201,$B202=$BG201,$B202=$BH201,$B202=$BI201,$B202=$BJ201,$B202=$BK201,$B202=$BL201,$B202=$BM201,$B202=$BN201,$B202=$BO201,$B202=$BP201,$B202=$BQ201,$B202=$BR201,$B202=$BS201,$B202=$BT201,$B202=$BU201,$B202=$BV201,$B202=$BW201,$B202=$BX201,$B202=$BY201,$B202=$BZ201,$B202=$CA201,$B202=$CB201,$B202=$CC201,$B202=$BA201),CD201,CC201) -> 18 | CH202: =IF(AND(CH201="",$B202<>CH$1),"",IF($C202<CH201,CH201,IF($B202=CH$1,1,1+CH201))) -> 10 | CI202: =IF(AND(CI201="",$B202<>CI$1),"",IF($C202<CI201,CI201,IF($B202=CI$1,1,1+CI201))) -> 33 | CJ202: =IF(AND(CJ201="",$B202<>CJ$1),"",IF($C202<CJ201,CJ201,IF($B202=CJ$1,1,1+CJ201))) -> 21 | CK202: =IF(AND(CK201="",$B202<>CK$1),"",IF($C202<CK201,CK201,IF($B202=CK$1,1,1+CK201))) -> 23 | CL202: =IF(AND(CL201="",$B202<>CL$1),"",IF($C202<CL201,CL201,IF($B202=CL$1,1,1+CL201))) -> 7 | CM202: =IF(AND(CM201="",$B202<>CM$1),"",IF($C202<CM201,CM201,IF($B202=CM$1,1,1+CM201))) -> 36 | CN202: =IF(AND(CN201="",$B202<>CN$1),"",IF($C202<CN201,CN201,IF($B202=CN$1,1,1+CN201))) -> 24 | CO202: =IF(AND(CO201="",$B202<>CO$1),"",IF($C202<CO201,CO201,IF($B202=CO$1,1,1+CO201))) -> 19 | ... DR202: =IF(AND(DR201="",$B202<>DR$1),"",IF($C202<DR201,DR201,IF($B202=DR$1,1,1+DR201))) -> 29
A203: 202 | B203: =Drogan!E204 -> 25 | C203: =IF(B203="","",LOOKUP(B203,$CH$1:$DR$1,CH202:DR202)) -> 8 | G203: =IF(AND($B204="",$B203<>""),"Nrs",IF(AND($B205="",$B204<>"",$B203<>""),G$1,"")) | H203: =IF(AND($B204="",$B203<>""),AT203,IF(AND($B205="",$B204<>"",$B203<>""),H$1,"")) | I203: =IF(AND($B204="",$B203<>""),AU203,IF(AND($B205="",$B204<>"",$B203<>""),I$1,"")) | J203: =IF(AND($B204="",$B203<>""),AV203,IF(AND($B205="",$B204<>"",$B203<>""),J$1,"")) | K203: =IF(AND($B204="",$B203<>""),AW203,IF(AND($B205="",$B204<>"",$B203<>""),K$1,"")) | L203: =IF(AND($B204="",$B203<>""),AX203,IF(AND($B205="",$B204<>"",$B203<>""),L$1,"")) | M203: =IF(AND($B204="",$B203<>""),AY203,IF(AND($B205="",$B204<>"",$B203<>""),M$1,"")) | N203: =IF(AND($B204="",$B203<>""),AZ203,IF(AND($B205="",$B204<>"",$B203<>""),N$1,"")) | O203: =IF(AND($B204="",$B203<>""),BA203,IF(AND($B205="",$B204<>"",$B203<>""),O$1,"")) | ... AR203: =IF(AND($B204="",$B203<>""),CD203,IF(AND($B205="",$B204<>"",$B203<>""),AR$1,"")) | AT203: =B203 -> 25 | AU203: =IF($B203=$AT202,AU202,AT202) -> 32 | AV203: =IF(OR($B203=$AT202,$B203=$AU202),AV202,AU202) -> 34 | AW203: =IF(OR($B203=$AV202,$B203=$AT202,$B203=$AU202),AW202,AV202) -> 17 | AX203: =IF(OR($B203=$AV202,$B203=$AT202,$B203=$AU202,$B203=$AW202),AX202,AW202) -> 26 | AY203: =IF(OR($B203=$AV202,$B203=$AT202,$B203=$AU202,$B203=$AW202,$B203=$AX202),AY202,AX202) -> 31 | AZ203: =IF(OR($B203=$AV202,$B203=$AT202,$B203=$AU202,$B203=$AW202,$B203=$AX202,$B203=$AY202),AZ202,AY202) -> 19 | BA203: =IF(OR($B203=$AV202,$B203=$AT202,$B203=$AU202,$B203=$AW202,$B203=$AX202,$B203=$AY202,$B203=$AZ202),BA202,AZ202) -> 5 | BB203: =IF(OR($B203=$AV202,$B203=$AT202,$B203=$AU202,$B203=$AW202,$B203=$AX202,$B203=$AY202,$B203=$AZ202,$B203=$BA202),BB202,BA202) -> 27 | BC203: =IF(OR($B203=$AV202,$B203=$AT202,$B203=$AU202,$B203=$AW202,$B203=$AX202,$B203=$AY202,$B203=$AZ202,$B203=$BA202,$B203=$BB202),BC202,BB202) -> 1 | BD203: =IF(OR($B203=$AV202,$B203=$AT202,$B203=$AU202,$B203=$AW202,$B203=$AX202,$B203=$AY202,$B203=$AZ202,$B203=$BB202,$B203=$BC202,$B203=$BA202),BD202,BC202) -> 20 | BE203: =IF(OR($B203=$AV202,$B203=$AT202,$B203=$AU202,$B203=$AW202,$B203=$AX202,$B203=$AY202,$B203=$AZ202,$B203=$BB202,$B203=$BC202,$B203=$BD202,$B203=$BA202),BE202,BD202) -> 33 | BF203: =IF(OR($B203=$AV202,$B203=$AT202,$B203=$AU202,$B203=$AW202,$B203=$AX202,$B203=$AY202,$B203=$AZ202,$B203=$BB202,$B203=$BC202,$B203=$BD202,$B203=$BE202,$B203=$BA202),BF202,BE202) -> 10 | BG203: =IF(OR($B203=$AV202,$B203=$AT202,$B203=$AU202,$B203=$AW202,$B203=$AX202,$B203=$AY202,$B203=$AZ202,$B203=$BB202,$B203=$BC202,$B203=$BD202,$B203=$BE202,$B203=$BF202,$B203=$BA202),BG202,BF202) -> 12 | BH203: =IF(OR($B203=$AV202,$B203=$AT202,$B203=$AU202,$B203=$AW202,$B203=$AX202,$B203=$AY202,$B203=$AZ202,$B203=$BB202,$B203=$BC202,$B203=$BD202,$B203=$BE202,$B203=$BF202,$B203=$BG202,$B203=$BA202),BH202,BG202) -> 9 | BI203: =IF(OR($B203=$AV202,$B203=$AT202,$B203=$AU202,$B203=$AW202,$B203=$AX202,$B203=$AY202,$B203=$AZ202,$B203=$BB202,$B203=$BC202,$B203=$BD202,$B203=$BE202,$B203=$BF202,$B203=$BG202,$B203=$BH202,$B203=$BA202),BI202,BH202) -> 35 | BJ203: =IF(OR($B203=$AV202,$B203=$AT202,$B203=$AU202,$B203=$AW202,$B203=$AX202,$B203=$AY202,$B203=$AZ202,$B203=$BB202,$B203=$BC202,$B203=$BD202,$B203=$BE202,$B203=$BF202,$B203=$BG202,$B203=$BH202,$B203=$BI202,$B203=$BA202),BJ202,BI202) -> 14 | BK203: =IF(OR($B203=$AV202,$B203=$AT202,$B203=$AU202,$B203=$AW202,$B203=$AX202,$B203=$AY202,$B203=$AZ202,$B203=$BB202,$B203=$BC202,$B203=$BD202,$B203=$BE202,$B203=$BF202,$B203=$BG202,$B203=$BH202,$B203=$BI202,$B203=$BJ202,$B203=$BA202),BK202,BJ202) -> 30 | BL203: =IF(OR($B203=$AV202,$B203=$AT202,$B203=$AU202,$B203=$AW202,$B203=$AX202,$B203=$AY202,$B203=$AZ202,$B203=$BB202,$B203=$BC202,$B203=$BD202,$B203=$BE202,$B203=$BF202,$B203=$BG202,$B203=$BH202,$B203=$BI202,$B203=$BJ202,$B203=$BK202,$B203=$BA202),BL202,BK202) -> 8 | BM203: =IF(OR($B203=$AV202,$B203=$AT202,$B203=$AU202,$B203=$AW202,$B203=$AX202,$B203=$AY202,$B203=$AZ202,$B203=$BB202,$B203=$BC202,$B203=$BD202,$B203=$BE202,$B203=$BF202,$B203=$BG202,$B203=$BH202,$B203=$BI202,$B203=$BJ202,$B203=$BK202,$B203=$BL202,$B203=$BA202),BM202,BL202) -> 11 | BN203: =IF(OR($B203=$AV202,$B203=$AT202,$B203=$AU202,$B203=$AW202,$B203=$AX202,$B203=$AY202,$B203=$AZ202,$B203=$BB202,$B203=$BC202,$B203=$BD202,$B203=$BE202,$B203=$BF202,$B203=$BG202,$B203=$BH202,$B203=$BI202,$B203=$BJ202,$B203=$BK202,$B203=$BL202,$B203=$BM202,$B203=$BA202),BN202,BM202) -> 3 | BO203: =IF(OR($B203=$AV202,$B203=$AT202,$B203=$AU202,$B203=$AW202,$B203=$AX202,$B203=$AY202,$B203=$AZ202,$B203=$BB202,$B203=$BC202,$B203=$BD202,$B203=$BE202,$B203=$BF202,$B203=$BG202,$B203=$BH202,$B203=$BI202,$B203=$BJ202,$B203=$BK202,$B203=$BL202,$B203=$BM202,$B203=$BN202,$B203=$BA202),BO202,BN202) -> 29 | BP203: =IF(OR($B203=$AV202,$B203=$AT202,$B203=$AU202,$B203=$AW202,$B203=$AX202,$B203=$AY202,$B203=$AZ202,$B203=$BB202,$B203=$BC202,$B203=$BD202,$B203=$BE202,$B203=$BF202,$B203=$BG202,$B203=$BH202,$B203=$BI202,$B203=$BJ202,$B203=$BK202,$B203=$BL202,$B203=$BM202,$B203=$BN202,$B203=$BO202,$B203=$BA202),BP202,BO202) -> 4 | BQ203: =IF(OR($B203=$AV202,$B203=$AT202,$B203=$AU202,$B203=$AW202,$B203=$AX202,$B203=$AY202,$B203=$AZ202,$B203=$BB202,$B203=$BC202,$B203=$BD202,$B203=$BE202,$B203=$BF202,$B203=$BG202,$B203=$BH202,$B203=$BI202,$B203=$BJ202,$B203=$BK202,$B203=$BL202,$B203=$BM202,$B203=$BN202,$B203=$BO202,$B203=$BP202,$B203=$BA202),BQ202,BP202) -> 7 | BR203: =IF(OR($B203=$AV202,$B203=$AT202,$B203=$AU202,$B203=$AW202,$B203=$AX202,$B203=$AY202,$B203=$AZ202,$B203=$BB202,$B203=$BC202,$B203=$BD202,$B203=$BE202,$B203=$BF202,$B203=$BG202,$B203=$BH202,$B203=$BI202,$B203=$BJ202,$B203=$BK202,$B203=$BL202,$B203=$BM202,$B203=$BN202,$B203=$BO202,$B203=$BP202,$B203=$BQ202,$B203=$BA202),BR202,BQ202) -> 16 | BS203: =IF(OR($B203=$AV202,$B203=$AT202,$B203=$AU202,$B203=$AW202,$B203=$AX202,$B203=$AY202,$B203=$AZ202,$B203=$BB202,$B203=$BC202,$B203=$BD202,$B203=$BE202,$B203=$BF202,$B203=$BG202,$B203=$BH202,$B203=$BI202,$B203=$BJ202,$B203=$BK202,$B203=$BL202,$B203=$BM202,$B203=$BN202,$B203=$BO202,$B203=$BP202,$B203=$BQ202,$B203=$BR202,$B203=$BA202),BS202,BR202) -> 28 | BT203: =IF(OR($B203=$AV202,$B203=$AT202,$B203=$AU202,$B203=$AW202,$B203=$AX202,$B203=$AY202,$B203=$AZ202,$B203=$BB202,$B203=$BC202,$B203=$BD202,$B203=$BE202,$B203=$BF202,$B203=$BG202,$B203=$BH202,$B203=$BI202,$B203=$BJ202,$B203=$BK202,$B203=$BL202,$B203=$BM202,$B203=$BN202,$B203=$BO202,$B203=$BP202,$B203=$BQ202,$B203=$BR202,$B203=$BS202,$B203=$BA202),BT202,BS202) -> 22 | BU203: =IF(OR($B203=$AV202,$B203=$AT202,$B203=$AU202,$B203=$AW202,$B203=$AX202,$B203=$AY202,$B203=$AZ202,$B203=$BB202,$B203=$BC202,$B203=$BD202,$B203=$BE202,$B203=$BF202,$B203=$BG202,$B203=$BH202,$B203=$BI202,$B203=$BJ202,$B203=$BK202,$B203=$BL202,$B203=$BM202,$B203=$BN202,$B203=$BO202,$B203=$BP202,$B203=$BQ202,$B203=$BR202,$B203=$BS202,$B203=$BT202,$B203=$BA202),BU202,BT202) -> 24 | BV203: =IF(OR($B203=$AV202,$B203=$AT202,$B203=$AU202,$B203=$AW202,$B203=$AX202,$B203=$AY202,$B203=$AZ202,$B203=$BB202,$B203=$BC202,$B203=$BD202,$B203=$BE202,$B203=$BF202,$B203=$BG202,$B203=$BH202,$B203=$BI202,$B203=$BJ202,$B203=$BK202,$B203=$BL202,$B203=$BM202,$B203=$BN202,$B203=$BO202,$B203=$BP202,$B203=$BQ202,$B203=$BR202,$B203=$BS202,$B203=$BT202,$B203=$BU202,$B203=$BA202),BV202,BU202) -> 37 | BW203: =IF(OR($B203=$AV202,$B203=$AT202,$B203=$AU202,$B203=$AW202,$B203=$AX202,$B203=$AY202,$B203=$AZ202,$B203=$BB202,$B203=$BC202,$B203=$BD202,$B203=$BE202,$B203=$BF202,$B203=$BG202,$B203=$BH202,$B203=$BI202,$B203=$BJ202,$B203=$BK202,$B203=$BL202,$B203=$BM202,$B203=$BN202,$B203=$BO202,$B203=$BP202,$B203=$BQ202,$B203=$BR202,$B203=$BS202,$B203=$BT202,$B203=$BU202,$B203=$BV202,$B203=$BA202),BW202,BV202) -> 23 | BX203: =IF(OR($B203=$AV202,$B203=$AT202,$B203=$AU202,$B203=$AW202,$B203=$AX202,$B203=$AY202,$B203=$AZ202,$B203=$BB202,$B203=$BC202,$B203=$BD202,$B203=$BE202,$B203=$BF202,$B203=$BG202,$B203=$BH202,$B203=$BI202,$B203=$BJ202,$B203=$BK202,$B203=$BL202,$B203=$BM202,$B203=$BN202,$B203=$BO202,$B203=$BP202,$B203=$BQ202,$B203=$BR202,$B203=$BS202,$B203=$BT202,$B203=$BU202,$B203=$BV202,$B203=$BW202,$B203=$BA202),BX202,BW202) -> 36 | BY203: =IF(OR($B203=$AV202,$B203=$AT202,$B203=$AU202,$B203=$AW202,$B203=$AX202,$B203=$AY202,$B203=$AZ202,$B203=$BB202,$B203=$BC202,$B203=$BD202,$B203=$BE202,$B203=$BF202,$B203=$BG202,$B203=$BH202,$B203=$BI202,$B203=$BJ202,$B203=$BK202,$B203=$BL202,$B203=$BM202,$B203=$BN202,$B203=$BO202,$B203=$BP202,$B203=$BQ202,$B203=$BR202,$B203=$BS202,$B203=$BT202,$B203=$BU202,$B203=$BV202,$B203=$BW202,$B203=$BX202,$B203=$BA202),BY202,BX202) -> 13 | BZ203: =IF(OR($B203=$AV202,$B203=$AT202,$B203=$AU202,$B203=$AW202,$B203=$AX202,$B203=$AY202,$B203=$AZ202,$B203=$BB202,$B203=$BC202,$B203=$BD202,$B203=$BE202,$B203=$BF202,$B203=$BG202,$B203=$BH202,$B203=$BI202,$B203=$BJ202,$B203=$BK202,$B203=$BL202,$B203=$BM202,$B203=$BN202,$B203=$BO202,$B203=$BP202,$B203=$BQ202,$B203=$BR202,$B203=$BS202,$B203=$BT202,$B203=$BU202,$B203=$BV202,$B203=$BW202,$B203=$BX202,$B203=$BY202,$B203=$BA202),BZ202,BY202) -> 2 | CA203: =IF(OR($B203=$AV202,$B203=$AT202,$B203=$AU202,$B203=$AW202,$B203=$AX202,$B203=$AY202,$B203=$AZ202,$B203=$BB202,$B203=$BC202,$B203=$BD202,$B203=$BE202,$B203=$BF202,$B203=$BG202,$B203=$BH202,$B203=$BI202,$B203=$BJ202,$B203=$BK202,$B203=$BL202,$B203=$BM202,$B203=$BN202,$B203=$BO202,$B203=$BP202,$B203=$BQ202,$B203=$BR202,$B203=$BS202,$B203=$BT202,$B203=$BU202,$B203=$BV202,$B203=$BW202,$B203=$BX202,$B203=$BY202,$B203=$BZ202,$B203=$BA202),CA202,BZ202) -> 15 | CB203: =IF(OR($B203=$AV202,$B203=$AT202,$B203=$AU202,$B203=$AW202,$B203=$AX202,$B203=$AY202,$B203=$AZ202,$B203=$BB202,$B203=$BC202,$B203=$BD202,$B203=$BE202,$B203=$BF202,$B203=$BG202,$B203=$BH202,$B203=$BI202,$B203=$BJ202,$B203=$BK202,$B203=$BL202,$B203=$BM202,$B203=$BN202,$B203=$BO202,$B203=$BP202,$B203=$BQ202,$B203=$BR202,$B203=$BS202,$B203=$BT202,$B203=$BU202,$B203=$BV202,$B203=$BW202,$B203=$BX202,$B203=$BY202,$B203=$BZ202,$B203=$CA202,$B203=$BA202),CB202,CA202) -> 21 | CC203: =IF(OR($B203=$AV202,$B203=$AT202,$B203=$AU202,$B203=$AW202,$B203=$AX202,$B203=$AY202,$B203=$AZ202,$B203=$BB202,$B203=$BC202,$B203=$BD202,$B203=$BE202,$B203=$BF202,$B203=$BG202,$B203=$BH202,$B203=$BI202,$B203=$BJ202,$B203=$BK202,$B203=$BL202,$B203=$BM202,$B203=$BN202,$B203=$BO202,$B203=$BP202,$B203=$BQ202,$B203=$BR202,$B203=$BS202,$B203=$BT202,$B203=$BU202,$B203=$BV202,$B203=$BW202,$B203=$BX202,$B203=$BY202,$B203=$BZ202,$B203=$CA202,$B203=$CB202,$B203=$BA202),CC202,CB202) -> 6 | CD203: =IF(OR($B203=$AV202,$B203=$AT202,$B203=$AU202,$B203=$AW202,$B203=$AX202,$B203=$AY202,$B203=$AZ202,$B203=$BB202,$B203=$BC202,$B203=$BD202,$B203=$BE202,$B203=$BF202,$B203=$BG202,$B203=$BH202,$B203=$BI202,$B203=$BJ202,$B203=$BK202,$B203=$BL202,$B203=$BM202,$B203=$BN202,$B203=$BO202,$B203=$BP202,$B203=$BQ202,$B203=$BR202,$B203=$BS202,$B203=$BT202,$B203=$BU202,$B203=$BV202,$B203=$BW202,$B203=$BX202,$B203=$BY202,$B203=$BZ202,$B203=$CA202,$B203=$CB202,$B203=$CC202,$B203=$BA202),CD202,CC202) -> 18 | CH203: =IF(AND(CH202="",$B203<>CH$1),"",IF($C203<CH202,CH202,IF($B203=CH$1,1,1+CH202))) -> 10 | CI203: =IF(AND(CI202="",$B203<>CI$1),"",IF($C203<CI202,CI202,IF($B203=CI$1,1,1+CI202))) -> 33 | CJ203: =IF(AND(CJ202="",$B203<>CJ$1),"",IF($C203<CJ202,CJ202,IF($B203=CJ$1,1,1+CJ202))) -> 21 | CK203: =IF(AND(CK202="",$B203<>CK$1),"",IF($C203<CK202,CK202,IF($B203=CK$1,1,1+CK202))) -> 23 | CL203: =IF(AND(CL202="",$B203<>CL$1),"",IF($C203<CL202,CL202,IF($B203=CL$1,1,1+CL202))) -> 8 | CM203: =IF(AND(CM202="",$B203<>CM$1),"",IF($C203<CM202,CM202,IF($B203=CM$1,1,1+CM202))) -> 36 | CN203: =IF(AND(CN202="",$B203<>CN$1),"",IF($C203<CN202,CN202,IF($B203=CN$1,1,1+CN202))) -> 24 | CO203: =IF(AND(CO202="",$B203<>CO$1),"",IF($C203<CO202,CO202,IF($B203=CO$1,1,1+CO202))) -> 19 | ... DR203: =IF(AND(DR202="",$B203<>DR$1),"",IF($C203<DR202,DR202,IF($B203=DR$1,1,1+DR202))) -> 29
A204: 203 | B204: =Drogan!E205 -> 22 | C204: =IF(B204="","",LOOKUP(B204,$CH$1:$DR$1,CH203:DR203)) -> 27 | G204: =IF(AND($B205="",$B204<>""),"Nrs",IF(AND(#REF!="",$B205<>"",$B204<>""),G$1,"")) -> #REF! | H204: =IF(AND($B205="",$B204<>""),AT204,IF(AND(#REF!="",$B205<>"",$B204<>""),H$1,"")) -> #REF! | I204: =IF(AND($B205="",$B204<>""),AU204,IF(AND(#REF!="",$B205<>"",$B204<>""),I$1,"")) -> #REF! | J204: =IF(AND($B205="",$B204<>""),AV204,IF(AND(#REF!="",$B205<>"",$B204<>""),J$1,"")) -> #REF! | K204: =IF(AND($B205="",$B204<>""),AW204,IF(AND(#REF!="",$B205<>"",$B204<>""),K$1,"")) -> #REF! | L204: =IF(AND($B205="",$B204<>""),AX204,IF(AND(#REF!="",$B205<>"",$B204<>""),L$1,"")) -> #REF! | M204: =IF(AND($B205="",$B204<>""),AY204,IF(AND(#REF!="",$B205<>"",$B204<>""),M$1,"")) -> #REF! | N204: =IF(AND($B205="",$B204<>""),AZ204,IF(AND(#REF!="",$B205<>"",$B204<>""),N$1,"")) -> #REF! | O204: =IF(AND($B205="",$B204<>""),BA204,IF(AND(#REF!="",$B205<>"",$B204<>""),O$1,"")) -> #REF! | ... AR204: =IF(AND($B205="",$B204<>""),CD204,IF(AND(#REF!="",$B205<>"",$B204<>""),AR$1,"")) -> #REF! | AT204: =B204 -> 22 | AU204: =IF($B204=$AT203,AU203,AT203) -> 25 | AV204: =IF(OR($B204=$AT203,$B204=$AU203),AV203,AU203) -> 32 | AW204: =IF(OR($B204=$AV203,$B204=$AT203,$B204=$AU203),AW203,AV203) -> 34 | AX204: =IF(OR($B204=$AV203,$B204=$AT203,$B204=$AU203,$B204=$AW203),AX203,AW203) -> 17 | AY204: =IF(OR($B204=$AV203,$B204=$AT203,$B204=$AU203,$B204=$AW203,$B204=$AX203),AY203,AX203) -> 26 | AZ204: =IF(OR($B204=$AV203,$B204=$AT203,$B204=$AU203,$B204=$AW203,$B204=$AX203,$B204=$AY203),AZ203,AY203) -> 31 | BA204: =IF(OR($B204=$AV203,$B204=$AT203,$B204=$AU203,$B204=$AW203,$B204=$AX203,$B204=$AY203,$B204=$AZ203),BA203,AZ203) -> 19 | BB204: =IF(OR($B204=$AV203,$B204=$AT203,$B204=$AU203,$B204=$AW203,$B204=$AX203,$B204=$AY203,$B204=$AZ203,$B204=$BA203),BB203,BA203) -> 5 | BC204: =IF(OR($B204=$AV203,$B204=$AT203,$B204=$AU203,$B204=$AW203,$B204=$AX203,$B204=$AY203,$B204=$AZ203,$B204=$BA203,$B204=$BB203),BC203,BB203) -> 27 | BD204: =IF(OR($B204=$AV203,$B204=$AT203,$B204=$AU203,$B204=$AW203,$B204=$AX203,$B204=$AY203,$B204=$AZ203,$B204=$BB203,$B204=$BC203,$B204=$BA203),BD203,BC203) -> 1 | BE204: =IF(OR($B204=$AV203,$B204=$AT203,$B204=$AU203,$B204=$AW203,$B204=$AX203,$B204=$AY203,$B204=$AZ203,$B204=$BB203,$B204=$BC203,$B204=$BD203,$B204=$BA203),BE203,BD203) -> 20 | BF204: =IF(OR($B204=$AV203,$B204=$AT203,$B204=$AU203,$B204=$AW203,$B204=$AX203,$B204=$AY203,$B204=$AZ203,$B204=$BB203,$B204=$BC203,$B204=$BD203,$B204=$BE203,$B204=$BA203),BF203,BE203) -> 33 | BG204: =IF(OR($B204=$AV203,$B204=$AT203,$B204=$AU203,$B204=$AW203,$B204=$AX203,$B204=$AY203,$B204=$AZ203,$B204=$BB203,$B204=$BC203,$B204=$BD203,$B204=$BE203,$B204=$BF203,$B204=$BA203),BG203,BF203) -> 10 | BH204: =IF(OR($B204=$AV203,$B204=$AT203,$B204=$AU203,$B204=$AW203,$B204=$AX203,$B204=$AY203,$B204=$AZ203,$B204=$BB203,$B204=$BC203,$B204=$BD203,$B204=$BE203,$B204=$BF203,$B204=$BG203,$B204=$BA203),BH203,BG203) -> 12 | BI204: =IF(OR($B204=$AV203,$B204=$AT203,$B204=$AU203,$B204=$AW203,$B204=$AX203,$B204=$AY203,$B204=$AZ203,$B204=$BB203,$B204=$BC203,$B204=$BD203,$B204=$BE203,$B204=$BF203,$B204=$BG203,$B204=$BH203,$B204=$BA203),BI203,BH203) -> 9 | BJ204: =IF(OR($B204=$AV203,$B204=$AT203,$B204=$AU203,$B204=$AW203,$B204=$AX203,$B204=$AY203,$B204=$AZ203,$B204=$BB203,$B204=$BC203,$B204=$BD203,$B204=$BE203,$B204=$BF203,$B204=$BG203,$B204=$BH203,$B204=$BI203,$B204=$BA203),BJ203,BI203) -> 35 | BK204: =IF(OR($B204=$AV203,$B204=$AT203,$B204=$AU203,$B204=$AW203,$B204=$AX203,$B204=$AY203,$B204=$AZ203,$B204=$BB203,$B204=$BC203,$B204=$BD203,$B204=$BE203,$B204=$BF203,$B204=$BG203,$B204=$BH203,$B204=$BI203,$B204=$BJ203,$B204=$BA203),BK203,BJ203) -> 14 | BL204: =IF(OR($B204=$AV203,$B204=$AT203,$B204=$AU203,$B204=$AW203,$B204=$AX203,$B204=$AY203,$B204=$AZ203,$B204=$BB203,$B204=$BC203,$B204=$BD203,$B204=$BE203,$B204=$BF203,$B204=$BG203,$B204=$BH203,$B204=$BI203,$B204=$BJ203,$B204=$BK203,$B204=$BA203),BL203,BK203) -> 30 | BM204: =IF(OR($B204=$AV203,$B204=$AT203,$B204=$AU203,$B204=$AW203,$B204=$AX203,$B204=$AY203,$B204=$AZ203,$B204=$BB203,$B204=$BC203,$B204=$BD203,$B204=$BE203,$B204=$BF203,$B204=$BG203,$B204=$BH203,$B204=$BI203,$B204=$BJ203,$B204=$BK203,$B204=$BL203,$B204=$BA203),BM203,BL203) -> 8 | BN204: =IF(OR($B204=$AV203,$B204=$AT203,$B204=$AU203,$B204=$AW203,$B204=$AX203,$B204=$AY203,$B204=$AZ203,$B204=$BB203,$B204=$BC203,$B204=$BD203,$B204=$BE203,$B204=$BF203,$B204=$BG203,$B204=$BH203,$B204=$BI203,$B204=$BJ203,$B204=$BK203,$B204=$BL203,$B204=$BM203,$B204=$BA203),BN203,BM203) -> 11 | BO204: =IF(OR($B204=$AV203,$B204=$AT203,$B204=$AU203,$B204=$AW203,$B204=$AX203,$B204=$AY203,$B204=$AZ203,$B204=$BB203,$B204=$BC203,$B204=$BD203,$B204=$BE203,$B204=$BF203,$B204=$BG203,$B204=$BH203,$B204=$BI203,$B204=$BJ203,$B204=$BK203,$B204=$BL203,$B204=$BM203,$B204=$BN203,$B204=$BA203),BO203,BN203) -> 3 | BP204: =IF(OR($B204=$AV203,$B204=$AT203,$B204=$AU203,$B204=$AW203,$B204=$AX203,$B204=$AY203,$B204=$AZ203,$B204=$BB203,$B204=$BC203,$B204=$BD203,$B204=$BE203,$B204=$BF203,$B204=$BG203,$B204=$BH203,$B204=$BI203,$B204=$BJ203,$B204=$BK203,$B204=$BL203,$B204=$BM203,$B204=$BN203,$B204=$BO203,$B204=$BA203),BP203,BO203) -> 29 | BQ204: =IF(OR($B204=$AV203,$B204=$AT203,$B204=$AU203,$B204=$AW203,$B204=$AX203,$B204=$AY203,$B204=$AZ203,$B204=$BB203,$B204=$BC203,$B204=$BD203,$B204=$BE203,$B204=$BF203,$B204=$BG203,$B204=$BH203,$B204=$BI203,$B204=$BJ203,$B204=$BK203,$B204=$BL203,$B204=$BM203,$B204=$BN203,$B204=$BO203,$B204=$BP203,$B204=$BA203),BQ203,BP203) -> 4 | BR204: =IF(OR($B204=$AV203,$B204=$AT203,$B204=$AU203,$B204=$AW203,$B204=$AX203,$B204=$AY203,$B204=$AZ203,$B204=$BB203,$B204=$BC203,$B204=$BD203,$B204=$BE203,$B204=$BF203,$B204=$BG203,$B204=$BH203,$B204=$BI203,$B204=$BJ203,$B204=$BK203,$B204=$BL203,$B204=$BM203,$B204=$BN203,$B204=$BO203,$B204=$BP203,$B204=$BQ203,$B204=$BA203),BR203,BQ203) -> 7 | BS204: =IF(OR($B204=$AV203,$B204=$AT203,$B204=$AU203,$B204=$AW203,$B204=$AX203,$B204=$AY203,$B204=$AZ203,$B204=$BB203,$B204=$BC203,$B204=$BD203,$B204=$BE203,$B204=$BF203,$B204=$BG203,$B204=$BH203,$B204=$BI203,$B204=$BJ203,$B204=$BK203,$B204=$BL203,$B204=$BM203,$B204=$BN203,$B204=$BO203,$B204=$BP203,$B204=$BQ203,$B204=$BR203,$B204=$BA203),BS203,BR203) -> 16 | BT204: =IF(OR($B204=$AV203,$B204=$AT203,$B204=$AU203,$B204=$AW203,$B204=$AX203,$B204=$AY203,$B204=$AZ203,$B204=$BB203,$B204=$BC203,$B204=$BD203,$B204=$BE203,$B204=$BF203,$B204=$BG203,$B204=$BH203,$B204=$BI203,$B204=$BJ203,$B204=$BK203,$B204=$BL203,$B204=$BM203,$B204=$BN203,$B204=$BO203,$B204=$BP203,$B204=$BQ203,$B204=$BR203,$B204=$BS203,$B204=$BA203),BT203,BS203) -> 28 | BU204: =IF(OR($B204=$AV203,$B204=$AT203,$B204=$AU203,$B204=$AW203,$B204=$AX203,$B204=$AY203,$B204=$AZ203,$B204=$BB203,$B204=$BC203,$B204=$BD203,$B204=$BE203,$B204=$BF203,$B204=$BG203,$B204=$BH203,$B204=$BI203,$B204=$BJ203,$B204=$BK203,$B204=$BL203,$B204=$BM203,$B204=$BN203,$B204=$BO203,$B204=$BP203,$B204=$BQ203,$B204=$BR203,$B204=$BS203,$B204=$BT203,$B204=$BA203),BU203,BT203) -> 24 | BV204: =IF(OR($B204=$AV203,$B204=$AT203,$B204=$AU203,$B204=$AW203,$B204=$AX203,$B204=$AY203,$B204=$AZ203,$B204=$BB203,$B204=$BC203,$B204=$BD203,$B204=$BE203,$B204=$BF203,$B204=$BG203,$B204=$BH203,$B204=$BI203,$B204=$BJ203,$B204=$BK203,$B204=$BL203,$B204=$BM203,$B204=$BN203,$B204=$BO203,$B204=$BP203,$B204=$BQ203,$B204=$BR203,$B204=$BS203,$B204=$BT203,$B204=$BU203,$B204=$BA203),BV203,BU203) -> 37 | BW204: =IF(OR($B204=$AV203,$B204=$AT203,$B204=$AU203,$B204=$AW203,$B204=$AX203,$B204=$AY203,$B204=$AZ203,$B204=$BB203,$B204=$BC203,$B204=$BD203,$B204=$BE203,$B204=$BF203,$B204=$BG203,$B204=$BH203,$B204=$BI203,$B204=$BJ203,$B204=$BK203,$B204=$BL203,$B204=$BM203,$B204=$BN203,$B204=$BO203,$B204=$BP203,$B204=$BQ203,$B204=$BR203,$B204=$BS203,$B204=$BT203,$B204=$BU203,$B204=$BV203,$B204=$BA203),BW203,BV203) -> 23 | BX204: =IF(OR($B204=$AV203,$B204=$AT203,$B204=$AU203,$B204=$AW203,$B204=$AX203,$B204=$AY203,$B204=$AZ203,$B204=$BB203,$B204=$BC203,$B204=$BD203,$B204=$BE203,$B204=$BF203,$B204=$BG203,$B204=$BH203,$B204=$BI203,$B204=$BJ203,$B204=$BK203,$B204=$BL203,$B204=$BM203,$B204=$BN203,$B204=$BO203,$B204=$BP203,$B204=$BQ203,$B204=$BR203,$B204=$BS203,$B204=$BT203,$B204=$BU203,$B204=$BV203,$B204=$BW203,$B204=$BA203),BX203,BW203) -> 36 | BY204: =IF(OR($B204=$AV203,$B204=$AT203,$B204=$AU203,$B204=$AW203,$B204=$AX203,$B204=$AY203,$B204=$AZ203,$B204=$BB203,$B204=$BC203,$B204=$BD203,$B204=$BE203,$B204=$BF203,$B204=$BG203,$B204=$BH203,$B204=$BI203,$B204=$BJ203,$B204=$BK203,$B204=$BL203,$B204=$BM203,$B204=$BN203,$B204=$BO203,$B204=$BP203,$B204=$BQ203,$B204=$BR203,$B204=$BS203,$B204=$BT203,$B204=$BU203,$B204=$BV203,$B204=$BW203,$B204=$BX203,$B204=$BA203),BY203,BX203) -> 13 | BZ204: =IF(OR($B204=$AV203,$B204=$AT203,$B204=$AU203,$B204=$AW203,$B204=$AX203,$B204=$AY203,$B204=$AZ203,$B204=$BB203,$B204=$BC203,$B204=$BD203,$B204=$BE203,$B204=$BF203,$B204=$BG203,$B204=$BH203,$B204=$BI203,$B204=$BJ203,$B204=$BK203,$B204=$BL203,$B204=$BM203,$B204=$BN203,$B204=$BO203,$B204=$BP203,$B204=$BQ203,$B204=$BR203,$B204=$BS203,$B204=$BT203,$B204=$BU203,$B204=$BV203,$B204=$BW203,$B204=$BX203,$B204=$BY203,$B204=$BA203),BZ203,BY203) -> 2 | CA204: =IF(OR($B204=$AV203,$B204=$AT203,$B204=$AU203,$B204=$AW203,$B204=$AX203,$B204=$AY203,$B204=$AZ203,$B204=$BB203,$B204=$BC203,$B204=$BD203,$B204=$BE203,$B204=$BF203,$B204=$BG203,$B204=$BH203,$B204=$BI203,$B204=$BJ203,$B204=$BK203,$B204=$BL203,$B204=$BM203,$B204=$BN203,$B204=$BO203,$B204=$BP203,$B204=$BQ203,$B204=$BR203,$B204=$BS203,$B204=$BT203,$B204=$BU203,$B204=$BV203,$B204=$BW203,$B204=$BX203,$B204=$BY203,$B204=$BZ203,$B204=$BA203),CA203,BZ203) -> 15 | CB204: =IF(OR($B204=$AV203,$B204=$AT203,$B204=$AU203,$B204=$AW203,$B204=$AX203,$B204=$AY203,$B204=$AZ203,$B204=$BB203,$B204=$BC203,$B204=$BD203,$B204=$BE203,$B204=$BF203,$B204=$BG203,$B204=$BH203,$B204=$BI203,$B204=$BJ203,$B204=$BK203,$B204=$BL203,$B204=$BM203,$B204=$BN203,$B204=$BO203,$B204=$BP203,$B204=$BQ203,$B204=$BR203,$B204=$BS203,$B204=$BT203,$B204=$BU203,$B204=$BV203,$B204=$BW203,$B204=$BX203,$B204=$BY203,$B204=$BZ203,$B204=$CA203,$B204=$BA203),CB203,CA203) -> 21 | CC204: =IF(OR($B204=$AV203,$B204=$AT203,$B204=$AU203,$B204=$AW203,$B204=$AX203,$B204=$AY203,$B204=$AZ203,$B204=$BB203,$B204=$BC203,$B204=$BD203,$B204=$BE203,$B204=$BF203,$B204=$BG203,$B204=$BH203,$B204=$BI203,$B204=$BJ203,$B204=$BK203,$B204=$BL203,$B204=$BM203,$B204=$BN203,$B204=$BO203,$B204=$BP203,$B204=$BQ203,$B204=$BR203,$B204=$BS203,$B204=$BT203,$B204=$BU203,$B204=$BV203,$B204=$BW203,$B204=$BX203,$B204=$BY203,$B204=$BZ203,$B204=$CA203,$B204=$CB203,$B204=$BA203),CC203,CB203) -> 6 | CD204: =IF(OR($B204=$AV203,$B204=$AT203,$B204=$AU203,$B204=$AW203,$B204=$AX203,$B204=$AY203,$B204=$AZ203,$B204=$BB203,$B204=$BC203,$B204=$BD203,$B204=$BE203,$B204=$BF203,$B204=$BG203,$B204=$BH203,$B204=$BI203,$B204=$BJ203,$B204=$BK203,$B204=$BL203,$B204=$BM203,$B204=$BN203,$B204=$BO203,$B204=$BP203,$B204=$BQ203,$B204=$BR203,$B204=$BS203,$B204=$BT203,$B204=$BU203,$B204=$BV203,$B204=$BW203,$B204=$BX203,$B204=$BY203,$B204=$BZ203,$B204=$CA203,$B204=$CB203,$B204=$CC203,$B204=$BA203),CD203,CC203) -> 18 | CH204: =IF(AND(CH203="",$B204<>CH$1),"",IF($C204<CH203,CH203,IF($B204=CH$1,1,1+CH203))) -> 11 | CI204: =IF(AND(CI203="",$B204<>CI$1),"",IF($C204<CI203,CI203,IF($B204=CI$1,1,1+CI203))) -> 33 | CJ204: =IF(AND(CJ203="",$B204<>CJ$1),"",IF($C204<CJ203,CJ203,IF($B204=CJ$1,1,1+CJ203))) -> 22 | CK204: =IF(AND(CK203="",$B204<>CK$1),"",IF($C204<CK203,CK203,IF($B204=CK$1,1,1+CK203))) -> 24 | CL204: =IF(AND(CL203="",$B204<>CL$1),"",IF($C204<CL203,CL203,IF($B204=CL$1,1,1+CL203))) -> 9 | CM204: =IF(AND(CM203="",$B204<>CM$1),"",IF($C204<CM203,CM203,IF($B204=CM$1,1,1+CM203))) -> 36 | CN204: =IF(AND(CN203="",$B204<>CN$1),"",IF($C204<CN203,CN203,IF($B204=CN$1,1,1+CN203))) -> 25 | CO204: =IF(AND(CO203="",$B204<>CO$1),"",IF($C204<CO203,CO203,IF($B204=CO$1,1,1+CO203))) -> 20 | ... DR204: =IF(AND(DR203="",$B204<>DR$1),"",IF($C204<DR203,DR203,IF($B204=DR$1,1,1+DR203))) -> 29
