Workbook
Name ResetProg: '[1]anti-ktf'!$AN$5:$AN$15633

Sheet Rank Tracker
A1: spin | C1: Gap | G1: Rank | H1: 1 | I1: 2 | J1: 3 | K1: 4 | L1: 5 | M1: 6 | N1: 7 | O1: 8 | P1: 9 | Q1: 10 | R1: 11 | S1: 12 | T1: 13 | U1: 14 | V1: 15 | W1: 16 | X1: 17 | Y1: 18 | Z1: 19 | AA1: 20 | AB1: 21 | AC1: 22 | AD1: 23 | AE1: 24 | AF1: 25 | AG1: 26 | AH1: 27 | AI1: 28 | AJ1: 29 | AK1: 30 | AL1: 31 | AM1: 32 | AN1: 33 | AO1: 34 | AP1: 35 | AQ1: 36 | AR1: 37 | AT1: 1 | AU1: 2 | AV1: 3 | AW1: 4 | AX1: 5 | AY1: 6 | AZ1: 7 | BA1: 8 | BB1: 9 | BC1: 10 | BD1: 11 | BE1: 12 | BF1: 13 | BG1: 14 | BH1: 15 | BI1: 16 | BJ1: 17 | BK1: 18 | BL1: 19 | BM1: 20 | BN1: 21 | BO1: 22 | BP1: 23 | BQ1: 24 | BR1: 25 | BS1: 26 | BT1: 27 | BU1: 28 | BV1: 29 | BW1: 30 | BX1: 31 | BY1: 32 | BZ1: 33 | CA1: 34 | CB1: 35 | CC1: 36 | CD1: 37 | CH1: 1 | CI1: 2 | CJ1: 3 | CK1: 4 | CL1: 5 | CM1: 6 | CN1: 7 | CO1: 8 | CP1: 9 | CQ1: 10 | CR1: 11 | CS1: 12 | CT1: 13 | CU1: 14 | CV1: 15 | CW1: 16 | CX1: 17 | CY1: 18 | CZ1: 19 | DA1: 20 | DB1: 21 | DC1: 22 | DD1: 23 | DE1: 24 | DF1: 25 | DG1: 26 | DH1: 27 | DI1: 28 | DJ1: 29 | DK1: 30 | DL1: 31 | DM1: 32 | DN1: 33 | DO1: 34 | DP1: 35 | DQ1: 36 | DR1: 37
A2: 1 | B2: =Drogan!E3 -> 23 | H2: =IF(AND($B3="",$B2<>""),AT2,IF(AND($B4="",$B3<>"",$B2<>""),H$1,"")) | I2: =IF(AND($B3="",$B2<>""),AU2,IF(AND($B4="",$B3<>"",$B2<>""),I$1,"")) | J2: =IF(AND($B3="",$B2<>""),AV2,IF(AND($B4="",$B3<>"",$B2<>""),J$1,"")) | K2: =IF(AND($B3="",$B2<>""),AW2,IF(AND($B4="",$B3<>"",$B2<>""),K$1,"")) | L2: =IF(AND($B3="",$B2<>""),AX2,IF(AND($B4="",$B3<>"",$B2<>""),L$1,"")) | M2: =IF(AND($B3="",$B2<>""),AY2,IF(AND($B4="",$B3<>"",$B2<>""),M$1,"")) | N2: =IF(AND($B3="",$B2<>""),AZ2,IF(AND($B4="",$B3<>"",$B2<>""),N$1,"")) | O2: =IF(AND($B3="",$B2<>""),BA2,IF(AND($B4="",$B3<>"",$B2<>""),O$1,"")) | ... AR2: =IF(AND($B3="",$B2<>""),CD2,IF(AND($B4="",$B3<>"",$B2<>""),AR$1,"")) | AT2: =B2 -> 23 | CH2: =IF($B2=CH$1,1,"") | CI2: =IF($B2=CI$1,1,"") | CJ2: =IF($B2=CJ$1,1,"") | CK2: =IF($B2=CK$1,1,"") | CL2: =IF($B2=CL$1,1,"") | CM2: =IF($B2=CM$1,1,"") | CN2: =IF($B2=CN$1,1,"") | CO2: =IF($B2=CO$1,1,"") | ... DR2: =IF($B2=DR$1,1,"")
A3: 2 | B3: =Drogan!E4 -> 26 | C3: =IF(B3="","",LOOKUP(B3,$CH$1:$DR$1,CH2:DR2)) | G3: =IF(AND($B4="",$B3<>""),"Nrs",IF(AND($B5="",$B4<>"",$B3<>""),G$1,"")) | H3: =IF(AND($B4="",$B3<>""),AT3,IF(AND($B5="",$B4<>"",$B3<>""),H$1,"")) | I3: =IF(AND($B4="",$B3<>""),AU3,IF(AND($B5="",$B4<>"",$B3<>""),I$1,"")) | J3: =IF(AND($B4="",$B3<>""),AV3,IF(AND($B5="",$B4<>"",$B3<>""),J$1,"")) | K3: =IF(AND($B4="",$B3<>""),AW3,IF(AND($B5="",$B4<>"",$B3<>""),K$1,"")) | L3: =IF(AND($B4="",$B3<>""),AX3,IF(AND($B5="",$B4<>"",$B3<>""),L$1,"")) | M3: =IF(AND($B4="",$B3<>""),AY3,IF(AND($B5="",$B4<>"",$B3<>""),M$1,"")) | N3: =IF(AND($B4="",$B3<>""),AZ3,IF(AND($B5="",$B4<>"",$B3<>""),N$1,"")) | O3: =IF(AND($B4="",$B3<>""),BA3,IF(AND($B5="",$B4<>"",$B3<>""),O$1,"")) | ... AR3: =IF(AND($B4="",$B3<>""),CD3,IF(AND($B5="",$B4<>"",$B3<>""),AR$1,"")) | AT3: =B3 -> 26 | AU3: =IF($B3=$AT2,AU2,AT2) -> 23 | AV3: =IF(AU2="","",IF(OR($B3=$AT2,$B3=$AU2),AV2,AU2)) | AW3: =IF(AV2="","",IF(OR($B3=$AV2,$B3=$AT2,$B3=$AU2),AW2,AV2)) | AX3: =IF(AW2="","",IF(OR($B3=$AV2,$B3=$AT2,$B3=$AU2,$B3=$AW2),AX2,AW2)) | AY3: =IF(AX2="","",IF(OR($B3=$AV2,$B3=$AT2,$B3=$AU2,$B3=$AW2,$B3=$AX2),AY2,AX2)) | AZ3: =IF(AY2="","",IF(OR($B3=$AV2,$B3=$AT2,$B3=$AU2,$B3=$AW2,$B3=$AX2,$B3=$AY2),AZ2,AY2)) | BA3: =IF(AZ2="","",IF(OR($B3=$AV2,$B3=$AT2,$B3=$AU2,$B3=$AW2,$B3=$AX2,$B3=$AY2,$B3=$AZ2),BA2,AZ2)) | BB3: =IF(BA2="","",IF(OR($B3=$AV2,$B3=$AT2,$B3=$AU2,$B3=$AW2,$B3=$AX2,$B3=$AY2,$B3=$AZ2,$B3=$BA2),BB2,BA2)) | BC3: =IF(BB2="","",IF(OR($B3=$AV2,$B3=$AT2,$B3=$AU2,$B3=$AW2,$B3=$AX2,$B3=$AY2,$B3=$AZ2,$B3=$BA2,$B3=$BB2),BC2,BB2)) | BD3: =IF(BC2="","",IF(OR($B3=$AV2,$B3=$AT2,$B3=$AU2,$B3=$AW2,$B3=$AX2,$B3=$AY2,$B3=$AZ2,$B3=$BB2,$B3=$BC2,$B3=$BA2),BD2,BC2)) | BE3: =IF(BD2="","",IF(OR($B3=$AV2,$B3=$AT2,$B3=$AU2,$B3=$AW2,$B3=$AX2,$B3=$AY2,$B3=$AZ2,$B3=$BB2,$B3=$BC2,$B3=$BD2,$B3=$BA2),BE2,BD2)) | BF3: =IF(BE2="","",IF(OR($B3=$AV2,$B3=$AT2,$B3=$AU2,$B3=$AW2,$B3=$AX2,$B3=$AY2,$B3=$AZ2,$B3=$BB2,$B3=$BC2,$B3=$BD2,$B3=$BE2,$B3=$BA2),BF2,BE2)) | BG3: =IF(BF2="","",IF(OR($B3=$AV2,$B3=$AT2,$B3=$AU2,$B3=$AW2,$B3=$AX2,$B3=$AY2,$B3=$AZ2,$B3=$BB2,$B3=$BC2,$B3=$BD2,$B3=$BE2,$B3=$BF2,$B3=$BA2),BG2,BF2)) | BH3: =IF(BG2="","",IF(OR($B3=$AV2,$B3=$AT2,$B3=$AU2,$B3=$AW2,$B3=$AX2,$B3=$AY2,$B3=$AZ2,$B3=$BB2,$B3=$BC2,$B3=$BD2,$B3=$BE2,$B3=$BF2,$B3=$BG2,$B3=$BA2),BH2,BG2)) | BI3: =IF(BH2="","",IF(OR($B3=$AV2,$B3=$AT2,$B3=$AU2,$B3=$AW2,$B3=$AX2,$B3=$AY2,$B3=$AZ2,$B3=$BB2,$B3=$BC2,$B3=$BD2,$B3=$BE2,$B3=$BF2,$B3=$BG2,$B3=$BH2,$B3=$BA2),BI2,BH2)) | BJ3: =IF(BI2="","",IF(OR($B3=$AV2,$B3=$AT2,$B3=$AU2,$B3=$AW2,$B3=$AX2,$B3=$AY2,$B3=$AZ2,$B3=$BB2,$B3=$BC2,$B3=$BD2,$B3=$BE2,$B3=$BF2,$B3=$BG2,$B3=$BH2,$B3=$BI2,$B3=$BA2),BJ2,BI2)) | BK3: =IF(BJ2="","",IF(OR($B3=$AV2,$B3=$AT2,$B3=$AU2,$B3=$AW2,$B3=$AX2,$B3=$AY2,$B3=$AZ2,$B3=$BB2,$B3=$BC2,$B3=$BD2,$B3=$BE2,$B3=$BF2,$B3=$BG2,$B3=$BH2,$B3=$BI2,$B3=$BJ2,$B3=$BA2),BK2,BJ2)) | BL3: =IF(BK2="","",IF(OR($B3=$AV2,$B3=$AT2,$B3=$AU2,$B3=$AW2,$B3=$AX2,$B3=$AY2,$B3=$AZ2,$B3=$BB2,$B3=$BC2,$B3=$BD2,$B3=$BE2,$B3=$BF2,$B3=$BG2,$B3=$BH2,$B3=$BI2,$B3=$BJ2,$B3=$BK2,$B3=$BA2),BL2,BK2)) | BM3: =IF(BL2="","",IF(OR($B3=$AV2,$B3=$AT2,$B3=$AU2,$B3=$AW2,$B3=$AX2,$B3=$AY2,$B3=$AZ2,$B3=$BB2,$B3=$BC2,$B3=$BD2,$B3=$BE2,$B3=$BF2,$B3=$BG2,$B3=$BH2,$B3=$BI2,$B3=$BJ2,$B3=$BK2,$B3=$BL2,$B3=$BA2),BM2,BL2)) | BN3: =IF(BM2="","",IF(OR($B3=$AV2,$B3=$AT2,$B3=$AU2,$B3=$AW2,$B3=$AX2,$B3=$AY2,$B3=$AZ2,$B3=$BB2,$B3=$BC2,$B3=$BD2,$B3=$BE2,$B3=$BF2,$B3=$BG2,$B3=$BH2,$B3=$BI2,$B3=$BJ2,$B3=$BK2,$B3=$BL2,$B3=$BM2,$B3=$BA2),BN2,BM2)) | BO3: =IF(BN2="","",IF(OR($B3=$AV2,$B3=$AT2,$B3=$AU2,$B3=$AW2,$B3=$AX2,$B3=$AY2,$B3=$AZ2,$B3=$BB2,$B3=$BC2,$B3=$BD2,$B3=$BE2,$B3=$BF2,$B3=$BG2,$B3=$BH2,$B3=$BI2,$B3=$BJ2,$B3=$BK2,$B3=$BL2,$B3=$BM2,$B3=$BN2,$B3=$BA2),BO2,BN2)) | BP3: =IF(BO2="","",IF(OR($B3=$AV2,$B3=$AT2,$B3=$AU2,$B3=$AW2,$B3=$AX2,$B3=$AY2,$B3=$AZ2,$B3=$BB2,$B3=$BC2,$B3=$BD2,$B3=$BE2,$B3=$BF2,$B3=$BG2,$B3=$BH2,$B3=$BI2,$B3=$BJ2,$B3=$BK2,$B3=$BL2,$B3=$BM2,$B3=$BN2,$B3=$BO2,$B3=$BA2),BP2,BO2)) | BQ3: =IF(BP2="","",IF(OR($B3=$AV2,$B3=$AT2,$B3=$AU2,$B3=$AW2,$B3=$AX2,$B3=$AY2,$B3=$AZ2,$B3=$BB2,$B3=$BC2,$B3=$BD2,$B3=$BE2,$B3=$BF2,$B3=$BG2,$B3=$BH2,$B3=$BI2,$B3=$BJ2,$B3=$BK2,$B3=$BL2,$B3=$BM2,$B3=$BN2,$B3=$BO2,$B3=$BP2,$B3=$BA2),BQ2,BP2)) | BR3: =IF(BQ2="","",IF(OR($B3=$AV2,$B3=$AT2,$B3=$AU2,$B3=$AW2,$B3=$AX2,$B3=$AY2,$B3=$AZ2,$B3=$BB2,$B3=$BC2,$B3=$BD2,$B3=$BE2,$B3=$BF2,$B3=$BG2,$B3=$BH2,$B3=$BI2,$B3=$BJ2,$B3=$BK2,$B3=$BL2,$B3=$BM2,$B3=$BN2,$B3=$BO2,$B3=$BP2,$B3=$BQ2,$B3=$BA2),BR2,BQ2)) | BS3: =IF(BR2="","",IF(OR($B3=$AV2,$B3=$AT2,$B3=$AU2,$B3=$AW2,$B3=$AX2,$B3=$AY2,$B3=$AZ2,$B3=$BB2,$B3=$BC2,$B3=$BD2,$B3=$BE2,$B3=$BF2,$B3=$BG2,$B3=$BH2,$B3=$BI2,$B3=$BJ2,$B3=$BK2,$B3=$BL2,$B3=$BM2,$B3=$BN2,$B3=$BO2,$B3=$BP2,$B3=$BQ2,$B3=$BR2,$B3=$BA2),BS2,BR2)) | BT3: =IF(BS2="","",IF(OR($B3=$AV2,$B3=$AT2,$B3=$AU2,$B3=$AW2,$B3=$AX2,$B3=$AY2,$B3=$AZ2,$B3=$BB2,$B3=$BC2,$B3=$BD2,$B3=$BE2,$B3=$BF2,$B3=$BG2,$B3=$BH2,$B3=$BI2,$B3=$BJ2,$B3=$BK2,$B3=$BL2,$B3=$BM2,$B3=$BN2,$B3=$BO2,$B3=$BP2,$B3=$BQ2,$B3=$BR2,$B3=$BS2,$B3=$BA2),BT2,BS2)) | BU3: =IF(BT2="","",IF(OR($B3=$AV2,$B3=$AT2,$B3=$AU2,$B3=$AW2,$B3=$AX2,$B3=$AY2,$B3=$AZ2,$B3=$BB2,$B3=$BC2,$B3=$BD2,$B3=$BE2,$B3=$BF2,$B3=$BG2,$B3=$BH2,$B3=$BI2,$B3=$BJ2,$B3=$BK2,$B3=$BL2,$B3=$BM2,$B3=$BN2,$B3=$BO2,$B3=$BP2,$B3=$BQ2,$B3=$BR2,$B3=$BS2,$B3=$BT2,$B3=$BA2),BU2,BT2)) | BV3: =IF(BU2="","",IF(OR($B3=$AV2,$B3=$AT2,$B3=$AU2,$B3=$AW2,$B3=$AX2,$B3=$AY2,$B3=$AZ2,$B3=$BB2,$B3=$BC2,$B3=$BD2,$B3=$BE2,$B3=$BF2,$B3=$BG2,$B3=$BH2,$B3=$BI2,$B3=$BJ2,$B3=$BK2,$B3=$BL2,$B3=$BM2,$B3=$BN2,$B3=$BO2,$B3=$BP2,$B3=$BQ2,$B3=$BR2,$B3=$BS2,$B3=$BT2,$B3=$BU2,$B3=$BA2),BV2,BU2)) | BW3: =IF(BV2="","",IF(OR($B3=$AV2,$B3=$AT2,$B3=$AU2,$B3=$AW2,$B3=$AX2,$B3=$AY2,$B3=$AZ2,$B3=$BB2,$B3=$BC2,$B3=$BD2,$B3=$BE2,$B3=$BF2,$B3=$BG2,$B3=$BH2,$B3=$BI2,$B3=$BJ2,$B3=$BK2,$B3=$BL2,$B3=$BM2,$B3=$BN2,$B3=$BO2,$B3=$BP2,$B3=$BQ2,$B3=$BR2,$B3=$BS2,$B3=$BT2,$B3=$BU2,$B3=$BV2,$B3=$BA2),BW2,BV2)) | BX3: =IF(BW2="","",IF(OR($B3=$AV2,$B3=$AT2,$B3=$AU2,$B3=$AW2,$B3=$AX2,$B3=$AY2,$B3=$AZ2,$B3=$BB2,$B3=$BC2,$B3=$BD2,$B3=$BE2,$B3=$BF2,$B3=$BG2,$B3=$BH2,$B3=$BI2,$B3=$BJ2,$B3=$BK2,$B3=$BL2,$B3=$BM2,$B3=$BN2,$B3=$BO2,$B3=$BP2,$B3=$BQ2,$B3=$BR2,$B3=$BS2,$B3=$BT2,$B3=$BU2,$B3=$BV2,$B3=$BW2,$B3=$BA2),BX2,BW2)) | BY3: =IF(BX2="","",IF(OR($B3=$AV2,$B3=$AT2,$B3=$AU2,$B3=$AW2,$B3=$AX2,$B3=$AY2,$B3=$AZ2,$B3=$BB2,$B3=$BC2,$B3=$BD2,$B3=$BE2,$B3=$BF2,$B3=$BG2,$B3=$BH2,$B3=$BI2,$B3=$BJ2,$B3=$BK2,$B3=$BL2,$B3=$BM2,$B3=$BN2,$B3=$BO2,$B3=$BP2,$B3=$BQ2,$B3=$BR2,$B3=$BS2,$B3=$BT2,$B3=$BU2,$B3=$BV2,$B3=$BW2,$B3=$BX2,$B3=$BA2),BY2,BX2)) | BZ3: =IF(BY2="","",IF(OR($B3=$AV2,$B3=$AT2,$B3=$AU2,$B3=$AW2,$B3=$AX2,$B3=$AY2,$B3=$AZ2,$B3=$BB2,$B3=$BC2,$B3=$BD2,$B3=$BE2,$B3=$BF2,$B3=$BG2,$B3=$BH2,$B3=$BI2,$B3=$BJ2,$B3=$BK2,$B3=$BL2,$B3=$BM2,$B3=$BN2,$B3=$BO2,$B3=$BP2,$B3=$BQ2,$B3=$BR2,$B3=$BS2,$B3=$BT2,$B3=$BU2,$B3=$BV2,$B3=$BW2,$B3=$BX2,$B3=$BY2,$B3=$BA2),BZ2,BY2)) | CA3: =IF(BZ2="","",IF(OR($B3=$AV2,$B3=$AT2,$B3=$AU2,$B3=$AW2,$B3=$AX2,$B3=$AY2,$B3=$AZ2,$B3=$BB2,$B3=$BC2,$B3=$BD2,$B3=$BE2,$B3=$BF2,$B3=$BG2,$B3=$BH2,$B3=$BI2,$B3=$BJ2,$B3=$BK2,$B3=$BL2,$B3=$BM2,$B3=$BN2,$B3=$BO2,$B3=$BP2,$B3=$BQ2,$B3=$BR2,$B3=$BS2,$B3=$BT2,$B3=$BU2,$B3=$BV2,$B3=$BW2,$B3=$BX2,$B3=$BY2,$B3=$BZ2,$B3=$BA2),CA2,BZ2)) | CB3: =IF(CA2="","",IF(OR($B3=$AV2,$B3=$AT2,$B3=$AU2,$B3=$AW2,$B3=$AX2,$B3=$AY2,$B3=$AZ2,$B3=$BB2,$B3=$BC2,$B3=$BD2,$B3=$BE2,$B3=$BF2,$B3=$BG2,$B3=$BH2,$B3=$BI2,$B3=$BJ2,$B3=$BK2,$B3=$BL2,$B3=$BM2,$B3=$BN2,$B3=$BO2,$B3=$BP2,$B3=$BQ2,$B3=$BR2,$B3=$BS2,$B3=$BT2,$B3=$BU2,$B3=$BV2,$B3=$BW2,$B3=$BX2,$B3=$BY2,$B3=$BZ2,$B3=$CA2,$B3=$BA2),CB2,CA2)) | CC3: =IF(CB2="","",IF(OR($B3=$AV2,$B3=$AT2,$B3=$AU2,$B3=$AW2,$B3=$AX2,$B3=$AY2,$B3=$AZ2,$B3=$BB2,$B3=$BC2,$B3=$BD2,$B3=$BE2,$B3=$BF2,$B3=$BG2,$B3=$BH2,$B3=$BI2,$B3=$BJ2,$B3=$BK2,$B3=$BL2,$B3=$BM2,$B3=$BN2,$B3=$BO2,$B3=$BP2,$B3=$BQ2,$B3=$BR2,$B3=$BS2,$B3=$BT2,$B3=$BU2,$B3=$BV2,$B3=$BW2,$B3=$BX2,$B3=$BY2,$B3=$BZ2,$B3=$CA2,$B3=$CB2,$B3=$BA2),CC2,CB2)) | CD3: =IF(CC2="","",IF(OR($B3=$AV2,$B3=$AT2,$B3=$AU2,$B3=$AW2,$B3=$AX2,$B3=$AY2,$B3=$AZ2,$B3=$BB2,$B3=$BC2,$B3=$BD2,$B3=$BE2,$B3=$BF2,$B3=$BG2,$B3=$BH2,$B3=$BI2,$B3=$BJ2,$B3=$BK2,$B3=$BL2,$B3=$BM2,$B3=$BN2,$B3=$BO2,$B3=$BP2,$B3=$BQ2,$B3=$BR2,$B3=$BS2,$B3=$BT2,$B3=$BU2,$B3=$BV2,$B3=$BW2,$B3=$BX2,$B3=$BY2,$B3=$BZ2,$B3=$CA2,$B3=$CB2,$B3=$CC2,$B3=$BA2),CD2,CC2)) | CH3: =IF(AND(CH2="",$B3<>CH$1),"",IF($C3<CH2,CH2,IF($B3=CH$1,1,1+CH2))) | CI3: =IF(AND(CI2="",$B3<>CI$1),"",IF($C3<CI2,CI2,IF($B3=CI$1,1,1+CI2))) | CJ3: =IF(AND(CJ2="",$B3<>CJ$1),"",IF($C3<CJ2,CJ2,IF($B3=CJ$1,1,1+CJ2))) | CK3: =IF(AND(CK2="",$B3<>CK$1),"",IF($C3<CK2,CK2,IF($B3=CK$1,1,1+CK2))) | CL3: =IF(AND(CL2="",$B3<>CL$1),"",IF($C3<CL2,CL2,IF($B3=CL$1,1,1+CL2))) | CM3: =IF(AND(CM2="",$B3<>CM$1),"",IF($C3<CM2,CM2,IF($B3=CM$1,1,1+CM2))) | CN3: =IF(AND(CN2="",$B3<>CN$1),"",IF($C3<CN2,CN2,IF($B3=CN$1,1,1+CN2))) | CO3: =IF(AND(CO2="",$B3<>CO$1),"",IF($C3<CO2,CO2,IF($B3=CO$1,1,1+CO2))) | ... DR3: =IF(AND(DR2="",$B3<>DR$1),"",IF($C3<DR2,DR2,IF($B3=DR$1,1,1+DR2)))
A4: 3 | B4: =Drogan!E5 -> 20 | C4: =IF(B4="","",LOOKUP(B4,$CH$1:$DR$1,CH3:DR3)) | G4: =IF(AND($B5="",$B4<>""),"Nrs",IF(AND($B6="",$B5<>"",$B4<>""),G$1,"")) | H4: =IF(AND($B5="",$B4<>""),AT4,IF(AND($B6="",$B5<>"",$B4<>""),H$1,"")) | I4: =IF(AND($B5="",$B4<>""),AU4,IF(AND($B6="",$B5<>"",$B4<>""),I$1,"")) | J4: =IF(AND($B5="",$B4<>""),AV4,IF(AND($B6="",$B5<>"",$B4<>""),J$1,"")) | K4: =IF(AND($B5="",$B4<>""),AW4,IF(AND($B6="",$B5<>"",$B4<>""),K$1,"")) | L4: =IF(AND($B5="",$B4<>""),AX4,IF(AND($B6="",$B5<>"",$B4<>""),L$1,"")) | M4: =IF(AND($B5="",$B4<>""),AY4,IF(AND($B6="",$B5<>"",$B4<>""),M$1,"")) | N4: =IF(AND($B5="",$B4<>""),AZ4,IF(AND($B6="",$B5<>"",$B4<>""),N$1,"")) | O4: =IF(AND($B5="",$B4<>""),BA4,IF(AND($B6="",$B5<>"",$B4<>""),O$1,"")) | ... AR4: =IF(AND($B5="",$B4<>""),CD4,IF(AND($B6="",$B5<>"",$B4<>""),AR$1,"")) | AT4: =B4 -> 20 | AU4: =IF($B4=$AT3,AU3,AT3) -> 26 | AV4: =IF(OR($B4=$AT3,$B4=$AU3),AV3,AU3) -> 23 | AW4: =IF(OR($B4=$AV3,$B4=$AT3,$B4=$AU3),AW3,AV3) | AX4: =IF(OR($B4=$AV3,$B4=$AT3,$B4=$AU3,$B4=$AW3),AX3,AW3) | AY4: =IF(OR($B4=$AV3,$B4=$AT3,$B4=$AU3,$B4=$AW3,$B4=$AX3),AY3,AX3) | AZ4: =IF(OR($B4=$AV3,$B4=$AT3,$B4=$AU3,$B4=$AW3,$B4=$AX3,$B4=$AY3),AZ3,AY3) | BA4: =IF(OR($B4=$AV3,$B4=$AT3,$B4=$AU3,$B4=$AW3,$B4=$AX3,$B4=$AY3,$B4=$AZ3),BA3,AZ3) | BB4: =IF(OR($B4=$AV3,$B4=$AT3,$B4=$AU3,$B4=$AW3,$B4=$AX3,$B4=$AY3,$B4=$AZ3,$B4=$BA3),BB3,BA3) | BC4: =IF(OR($B4=$AV3,$B4=$AT3,$B4=$AU3,$B4=$AW3,$B4=$AX3,$B4=$AY3,$B4=$AZ3,$B4=$BA3,$B4=$BB3),BC3,BB3) | BD4: =IF(OR($B4=$AV3,$B4=$AT3,$B4=$AU3,$B4=$AW3,$B4=$AX3,$B4=$AY3,$B4=$AZ3,$B4=$BB3,$B4=$BC3,$B4=$BA3),BD3,BC3) | BE4: =IF(OR($B4=$AV3,$B4=$AT3,$B4=$AU3,$B4=$AW3,$B4=$AX3,$B4=$AY3,$B4=$AZ3,$B4=$BB3,$B4=$BC3,$B4=$BD3,$B4=$BA3),BE3,BD3) | BF4: =IF(OR($B4=$AV3,$B4=$AT3,$B4=$AU3,$B4=$AW3,$B4=$AX3,$B4=$AY3,$B4=$AZ3,$B4=$BB3,$B4=$BC3,$B4=$BD3,$B4=$BE3,$B4=$BA3),BF3,BE3) | BG4: =IF(OR($B4=$AV3,$B4=$AT3,$B4=$AU3,$B4=$AW3,$B4=$AX3,$B4=$AY3,$B4=$AZ3,$B4=$BB3,$B4=$BC3,$B4=$BD3,$B4=$BE3,$B4=$BF3,$B4=$BA3),BG3,BF3) | BH4: =IF(OR($B4=$AV3,$B4=$AT3,$B4=$AU3,$B4=$AW3,$B4=$AX3,$B4=$AY3,$B4=$AZ3,$B4=$BB3,$B4=$BC3,$B4=$BD3,$B4=$BE3,$B4=$BF3,$B4=$BG3,$B4=$BA3),BH3,BG3) | BI4: =IF(OR($B4=$AV3,$B4=$AT3,$B4=$AU3,$B4=$AW3,$B4=$AX3,$B4=$AY3,$B4=$AZ3,$B4=$BB3,$B4=$BC3,$B4=$BD3,$B4=$BE3,$B4=$BF3,$B4=$BG3,$B4=$BH3,$B4=$BA3),BI3,BH3) | BJ4: =IF(OR($B4=$AV3,$B4=$AT3,$B4=$AU3,$B4=$AW3,$B4=$AX3,$B4=$AY3,$B4=$AZ3,$B4=$BB3,$B4=$BC3,$B4=$BD3,$B4=$BE3,$B4=$BF3,$B4=$BG3,$B4=$BH3,$B4=$BI3,$B4=$BA3),BJ3,BI3) | BK4: =IF(OR($B4=$AV3,$B4=$AT3,$B4=$AU3,$B4=$AW3,$B4=$AX3,$B4=$AY3,$B4=$AZ3,$B4=$BB3,$B4=$BC3,$B4=$BD3,$B4=$BE3,$B4=$BF3,$B4=$BG3,$B4=$BH3,$B4=$BI3,$B4=$BJ3,$B4=$BA3),BK3,BJ3) | BL4: =IF(OR($B4=$AV3,$B4=$AT3,$B4=$AU3,$B4=$AW3,$B4=$AX3,$B4=$AY3,$B4=$AZ3,$B4=$BB3,$B4=$BC3,$B4=$BD3,$B4=$BE3,$B4=$BF3,$B4=$BG3,$B4=$BH3,$B4=$BI3,$B4=$BJ3,$B4=$BK3,$B4=$BA3),BL3,BK3) | BM4: =IF(OR($B4=$AV3,$B4=$AT3,$B4=$AU3,$B4=$AW3,$B4=$AX3,$B4=$AY3,$B4=$AZ3,$B4=$BB3,$B4=$BC3,$B4=$BD3,$B4=$BE3,$B4=$BF3,$B4=$BG3,$B4=$BH3,$B4=$BI3,$B4=$BJ3,$B4=$BK3,$B4=$BL3,$B4=$BA3),BM3,BL3) | BN4: =IF(OR($B4=$AV3,$B4=$AT3,$B4=$AU3,$B4=$AW3,$B4=$AX3,$B4=$AY3,$B4=$AZ3,$B4=$BB3,$B4=$BC3,$B4=$BD3,$B4=$BE3,$B4=$BF3,$B4=$BG3,$B4=$BH3,$B4=$BI3,$B4=$BJ3,$B4=$BK3,$B4=$BL3,$B4=$BM3,$B4=$BA3),BN3,BM3) | BO4: =IF(OR($B4=$AV3,$B4=$AT3,$B4=$AU3,$B4=$AW3,$B4=$AX3,$B4=$AY3,$B4=$AZ3,$B4=$BB3,$B4=$BC3,$B4=$BD3,$B4=$BE3,$B4=$BF3,$B4=$BG3,$B4=$BH3,$B4=$BI3,$B4=$BJ3,$B4=$BK3,$B4=$BL3,$B4=$BM3,$B4=$BN3,$B4=$BA3),BO3,BN3) | BP4: =IF(OR($B4=$AV3,$B4=$AT3,$B4=$AU3,$B4=$AW3,$B4=$AX3,$B4=$AY3,$B4=$AZ3,$B4=$BB3,$B4=$BC3,$B4=$BD3,$B4=$BE3,$B4=$BF3,$B4=$BG3,$B4=$BH3,$B4=$BI3,$B4=$BJ3,$B4=$BK3,$B4=$BL3,$B4=$BM3,$B4=$BN3,$B4=$BO3,$B4=$BA3),BP3,BO3) | BQ4: =IF(OR($B4=$AV3,$B4=$AT3,$B4=$AU3,$B4=$AW3,$B4=$AX3,$B4=$AY3,$B4=$AZ3,$B4=$BB3,$B4=$BC3,$B4=$BD3,$B4=$BE3,$B4=$BF3,$B4=$BG3,$B4=$BH3,$B4=$BI3,$B4=$BJ3,$B4=$BK3,$B4=$BL3,$B4=$BM3,$B4=$BN3,$B4=$BO3,$B4=$BP3,$B4=$BA3),BQ3,BP3) | BR4: =IF(OR($B4=$AV3,$B4=$AT3,$B4=$AU3,$B4=$AW3,$B4=$AX3,$B4=$AY3,$B4=$AZ3,$B4=$BB3,$B4=$BC3,$B4=$BD3,$B4=$BE3,$B4=$BF3,$B4=$BG3,$B4=$BH3,$B4=$BI3,$B4=$BJ3,$B4=$BK3,$B4=$BL3,$B4=$BM3,$B4=$BN3,$B4=$BO3,$B4=$BP3,$B4=$BQ3,$B4=$BA3),BR3,BQ3) | BS4: =IF(OR($B4=$AV3,$B4=$AT3,$B4=$AU3,$B4=$AW3,$B4=$AX3,$B4=$AY3,$B4=$AZ3,$B4=$BB3,$B4=$BC3,$B4=$BD3,$B4=$BE3,$B4=$BF3,$B4=$BG3,$B4=$BH3,$B4=$BI3,$B4=$BJ3,$B4=$BK3,$B4=$BL3,$B4=$BM3,$B4=$BN3,$B4=$BO3,$B4=$BP3,$B4=$BQ3,$B4=$BR3,$B4=$BA3),BS3,BR3) | BT4: =IF(OR($B4=$AV3,$B4=$AT3,$B4=$AU3,$B4=$AW3,$B4=$AX3,$B4=$AY3,$B4=$AZ3,$B4=$BB3,$B4=$BC3,$B4=$BD3,$B4=$BE3,$B4=$BF3,$B4=$BG3,$B4=$BH3,$B4=$BI3,$B4=$BJ3,$B4=$BK3,$B4=$BL3,$B4=$BM3,$B4=$BN3,$B4=$BO3,$B4=$BP3,$B4=$BQ3,$B4=$BR3,$B4=$BS3,$B4=$BA3),BT3,BS3) | BU4: =IF(OR($B4=$AV3,$B4=$AT3,$B4=$AU3,$B4=$AW3,$B4=$AX3,$B4=$AY3,$B4=$AZ3,$B4=$BB3,$B4=$BC3,$B4=$BD3,$B4=$BE3,$B4=$BF3,$B4=$BG3,$B4=$BH3,$B4=$BI3,$B4=$BJ3,$B4=$BK3,$B4=$BL3,$B4=$BM3,$B4=$BN3,$B4=$BO3,$B4=$BP3,$B4=$BQ3,$B4=$BR3,$B4=$BS3,$B4=$BT3,$B4=$BA3),BU3,BT3) | BV4: =IF(OR($B4=$AV3,$B4=$AT3,$B4=$AU3,$B4=$AW3,$B4=$AX3,$B4=$AY3,$B4=$AZ3,$B4=$BB3,$B4=$BC3,$B4=$BD3,$B4=$BE3,$B4=$BF3,$B4=$BG3,$B4=$BH3,$B4=$BI3,$B4=$BJ3,$B4=$BK3,$B4=$BL3,$B4=$BM3,$B4=$BN3,$B4=$BO3,$B4=$BP3,$B4=$BQ3,$B4=$BR3,$B4=$BS3,$B4=$BT3,$B4=$BU3,$B4=$BA3),BV3,BU3) | BW4: =IF(OR($B4=$AV3,$B4=$AT3,$B4=$AU3,$B4=$AW3,$B4=$AX3,$B4=$AY3,$B4=$AZ3,$B4=$BB3,$B4=$BC3,$B4=$BD3,$B4=$BE3,$B4=$BF3,$B4=$BG3,$B4=$BH3,$B4=$BI3,$B4=$BJ3,$B4=$BK3,$B4=$BL3,$B4=$BM3,$B4=$BN3,$B4=$BO3,$B4=$BP3,$B4=$BQ3,$B4=$BR3,$B4=$BS3,$B4=$BT3,$B4=$BU3,$B4=$BV3,$B4=$BA3),BW3,BV3) | BX4: =IF(OR($B4=$AV3,$B4=$AT3,$B4=$AU3,$B4=$AW3,$B4=$AX3,$B4=$AY3,$B4=$AZ3,$B4=$BB3,$B4=$BC3,$B4=$BD3,$B4=$BE3,$B4=$BF3,$B4=$BG3,$B4=$BH3,$B4=$BI3,$B4=$BJ3,$B4=$BK3,$B4=$BL3,$B4=$BM3,$B4=$BN3,$B4=$BO3,$B4=$BP3,$B4=$BQ3,$B4=$BR3,$B4=$BS3,$B4=$BT3,$B4=$BU3,$B4=$BV3,$B4=$BW3,$B4=$BA3),BX3,BW3) | BY4: =IF(OR($B4=$AV3,$B4=$AT3,$B4=$AU3,$B4=$AW3,$B4=$AX3,$B4=$AY3,$B4=$AZ3,$B4=$BB3,$B4=$BC3,$B4=$BD3,$B4=$BE3,$B4=$BF3,$B4=$BG3,$B4=$BH3,$B4=$BI3,$B4=$BJ3,$B4=$BK3,$B4=$BL3,$B4=$BM3,$B4=$BN3,$B4=$BO3,$B4=$BP3,$B4=$BQ3,$B4=$BR3,$B4=$BS3,$B4=$BT3,$B4=$BU3,$B4=$BV3,$B4=$BW3,$B4=$BX3,$B4=$BA3),BY3,BX3) | BZ4: =IF(OR($B4=$AV3,$B4=$AT3,$B4=$AU3,$B4=$AW3,$B4=$AX3,$B4=$AY3,$B4=$AZ3,$B4=$BB3,$B4=$BC3,$B4=$BD3,$B4=$BE3,$B4=$BF3,$B4=$BG3,$B4=$BH3,$B4=$BI3,$B4=$BJ3,$B4=$BK3,$B4=$BL3,$B4=$BM3,$B4=$BN3,$B4=$BO3,$B4=$BP3,$B4=$BQ3,$B4=$BR3,$B4=$BS3,$B4=$BT3,$B4=$BU3,$B4=$BV3,$B4=$BW3,$B4=$BX3,$B4=$BY3,$B4=$BA3),BZ3,BY3) | CA4: =IF(OR($B4=$AV3,$B4=$AT3,$B4=$AU3,$B4=$AW3,$B4=$AX3,$B4=$AY3,$B4=$AZ3,$B4=$BB3,$B4=$BC3,$B4=$BD3,$B4=$BE3,$B4=$BF3,$B4=$BG3,$B4=$BH3,$B4=$BI3,$B4=$BJ3,$B4=$BK3,$B4=$BL3,$B4=$BM3,$B4=$BN3,$B4=$BO3,$B4=$BP3,$B4=$BQ3,$B4=$BR3,$B4=$BS3,$B4=$BT3,$B4=$BU3,$B4=$BV3,$B4=$BW3,$B4=$BX3,$B4=$BY3,$B4=$BZ3,$B4=$BA3),CA3,BZ3) | CB4: =IF(OR($B4=$AV3,$B4=$AT3,$B4=$AU3,$B4=$AW3,$B4=$AX3,$B4=$AY3,$B4=$AZ3,$B4=$BB3,$B4=$BC3,$B4=$BD3,$B4=$BE3,$B4=$BF3,$B4=$BG3,$B4=$BH3,$B4=$BI3,$B4=$BJ3,$B4=$BK3,$B4=$BL3,$B4=$BM3,$B4=$BN3,$B4=$BO3,$B4=$BP3,$B4=$BQ3,$B4=$BR3,$B4=$BS3,$B4=$BT3,$B4=$BU3,$B4=$BV3,$B4=$BW3,$B4=$BX3,$B4=$BY3,$B4=$BZ3,$B4=$CA3,$B4=$BA3),CB3,CA3) | CC4: =IF(OR($B4=$AV3,$B4=$AT3,$B4=$AU3,$B4=$AW3,$B4=$AX3,$B4=$AY3,$B4=$AZ3,$B4=$BB3,$B4=$BC3,$B4=$BD3,$B4=$BE3,$B4=$BF3,$B4=$BG3,$B4=$BH3,$B4=$BI3,$B4=$BJ3,$B4=$BK3,$B4=$BL3,$B4=$BM3,$B4=$BN3,$B4=$BO3,$B4=$BP3,$B4=$BQ3,$B4=$BR3,$B4=$BS3,$B4=$BT3,$B4=$BU3,$B4=$BV3,$B4=$BW3,$B4=$BX3,$B4=$BY3,$B4=$BZ3,$B4=$CA3,$B4=$CB3,$B4=$BA3),CC3,CB3) | CD4: =IF(OR($B4=$AV3,$B4=$AT3,$B4=$AU3,$B4=$AW3,$B4=$AX3,$B4=$AY3,$B4=$AZ3,$B4=$BB3,$B4=$BC3,$B4=$BD3,$B4=$BE3,$B4=$BF3,$B4=$BG3,$B4=$BH3,$B4=$BI3,$B4=$BJ3,$B4=$BK3,$B4=$BL3,$B4=$BM3,$B4=$BN3,$B4=$BO3,$B4=$BP3,$B4=$BQ3,$B4=$BR3,$B4=$BS3,$B4=$BT3,$B4=$BU3,$B4=$BV3,$B4=$BW3,$B4=$BX3,$B4=$BY3,$B4=$BZ3,$B4=$CA3,$B4=$CB3,$B4=$CC3,$B4=$BA3),CD3,CC3) | CH4: =IF(AND(CH3="",$B4<>CH$1),"",IF($C4<CH3,CH3,IF($B4=CH$1,1,1+CH3))) | CI4: =IF(AND(CI3="",$B4<>CI$1),"",IF($C4<CI3,CI3,IF($B4=CI$1,1,1+CI3))) | CJ4: =IF(AND(CJ3="",$B4<>CJ$1),"",IF($C4<CJ3,CJ3,IF($B4=CJ$1,1,1+CJ3))) | CK4: =IF(AND(CK3="",$B4<>CK$1),"",IF($C4<CK3,CK3,IF($B4=CK$1,1,1+CK3))) | CL4: =IF(AND(CL3="",$B4<>CL$1),"",IF($C4<CL3,CL3,IF($B4=CL$1,1,1+CL3))) | CM4: =IF(AND(CM3="",$B4<>CM$1),"",IF($C4<CM3,CM3,IF($B4=CM$1,1,1+CM3))) | CN4: =IF(AND(CN3="",$B4<>CN$1),"",IF($C4<CN3,CN3,IF($B4=CN$1,1,1+CN3))) | CO4: =IF(AND(CO3="",$B4<>CO$1),"",IF($C4<CO3,CO3,IF($B4=CO$1,1,1+CO3))) | ... DR4: =IF(AND(DR3="",$B4<>DR$1),"",IF($C4<DR3,DR3,IF($B4=DR$1,1,1+DR3)))
A5: 4 | B5: =Drogan!E6 -> 32 | C5: =IF(B5="","",LOOKUP(B5,$CH$1:$DR$1,CH4:DR4)) | G5: =IF(AND($B6="",$B5<>""),"Nrs",IF(AND($B7="",$B6<>"",$B5<>""),G$1,"")) | H5: =IF(AND($B6="",$B5<>""),AT5,IF(AND($B7="",$B6<>"",$B5<>""),H$1,"")) | I5: =IF(AND($B6="",$B5<>""),AU5,IF(AND($B7="",$B6<>"",$B5<>""),I$1,"")) | J5: =IF(AND($B6="",$B5<>""),AV5,IF(AND($B7="",$B6<>"",$B5<>""),J$1,"")) | K5: =IF(AND($B6="",$B5<>""),AW5,IF(AND($B7="",$B6<>"",$B5<>""),K$1,"")) | L5: =IF(AND($B6="",$B5<>""),AX5,IF(AND($B7="",$B6<>"",$B5<>""),L$1,"")) | M5: =IF(AND($B6="",$B5<>""),AY5,IF(AND($B7="",$B6<>"",$B5<>""),M$1,"")) | N5: =IF(AND($B6="",$B5<>""),AZ5,IF(AND($B7="",$B6<>"",$B5<>""),N$1,"")) | O5: =IF(AND($B6="",$B5<>""),BA5,IF(AND($B7="",$B6<>"",$B5<>""),O$1,"")) | ... AR5: =IF(AND($B6="",$B5<>""),CD5,IF(AND($B7="",$B6<>"",$B5<>""),AR$1,"")) | AT5: =B5 -> 32 | AU5: =IF($B5=$AT4,AU4,AT4) -> 20 | AV5: =IF(OR($B5=$AT4,$B5=$AU4),AV4,AU4) -> 26 | AW5: =IF(OR($B5=$AV4,$B5=$AT4,$B5=$AU4),AW4,AV4) -> 23 | AX5: =IF(OR($B5=$AV4,$B5=$AT4,$B5=$AU4,$B5=$AW4),AX4,AW4) | AY5: =IF(OR($B5=$AV4,$B5=$AT4,$B5=$AU4,$B5=$AW4,$B5=$AX4),AY4,AX4) | AZ5: =IF(OR($B5=$AV4,$B5=$AT4,$B5=$AU4,$B5=$AW4,$B5=$AX4,$B5=$AY4),AZ4,AY4) | BA5: =IF(OR($B5=$AV4,$B5=$AT4,$B5=$AU4,$B5=$AW4,$B5=$AX4,$B5=$AY4,$B5=$AZ4),BA4,AZ4) | BB5: =IF(OR($B5=$AV4,$B5=$AT4,$B5=$AU4,$B5=$AW4,$B5=$AX4,$B5=$AY4,$B5=$AZ4,$B5=$BA4),BB4,BA4) | BC5: =IF(OR($B5=$AV4,$B5=$AT4,$B5=$AU4,$B5=$AW4,$B5=$AX4,$B5=$AY4,$B5=$AZ4,$B5=$BA4,$B5=$BB4),BC4,BB4) | BD5: =IF(OR($B5=$AV4,$B5=$AT4,$B5=$AU4,$B5=$AW4,$B5=$AX4,$B5=$AY4,$B5=$AZ4,$B5=$BB4,$B5=$BC4,$B5=$BA4),BD4,BC4) | BE5: =IF(OR($B5=$AV4,$B5=$AT4,$B5=$AU4,$B5=$AW4,$B5=$AX4,$B5=$AY4,$B5=$AZ4,$B5=$BB4,$B5=$BC4,$B5=$BD4,$B5=$BA4),BE4,BD4) | BF5: =IF(OR($B5=$AV4,$B5=$AT4,$B5=$AU4,$B5=$AW4,$B5=$AX4,$B5=$AY4,$B5=$AZ4,$B5=$BB4,$B5=$BC4,$B5=$BD4,$B5=$BE4,$B5=$BA4),BF4,BE4) | BG5: =IF(OR($B5=$AV4,$B5=$AT4,$B5=$AU4,$B5=$AW4,$B5=$AX4,$B5=$AY4,$B5=$AZ4,$B5=$BB4,$B5=$BC4,$B5=$BD4,$B5=$BE4,$B5=$BF4,$B5=$BA4),BG4,BF4) | BH5: =IF(OR($B5=$AV4,$B5=$AT4,$B5=$AU4,$B5=$AW4,$B5=$AX4,$B5=$AY4,$B5=$AZ4,$B5=$BB4,$B5=$BC4,$B5=$BD4,$B5=$BE4,$B5=$BF4,$B5=$BG4,$B5=$BA4),BH4,BG4) | BI5: =IF(OR($B5=$AV4,$B5=$AT4,$B5=$AU4,$B5=$AW4,$B5=$AX4,$B5=$AY4,$B5=$AZ4,$B5=$BB4,$B5=$BC4,$B5=$BD4,$B5=$BE4,$B5=$BF4,$B5=$BG4,$B5=$BH4,$B5=$BA4),BI4,BH4) | BJ5: =IF(OR($B5=$AV4,$B5=$AT4,$B5=$AU4,$B5=$AW4,$B5=$AX4,$B5=$AY4,$B5=$AZ4,$B5=$BB4,$B5=$BC4,$B5=$BD4,$B5=$BE4,$B5=$BF4,$B5=$BG4,$B5=$BH4,$B5=$BI4,$B5=$BA4),BJ4,BI4) | BK5: =IF(OR($B5=$AV4,$B5=$AT4,$B5=$AU4,$B5=$AW4,$B5=$AX4,$B5=$AY4,$B5=$AZ4,$B5=$BB4,$B5=$BC4,$B5=$BD4,$B5=$BE4,$B5=$BF4,$B5=$BG4,$B5=$BH4,$B5=$BI4,$B5=$BJ4,$B5=$BA4),BK4,BJ4) | BL5: =IF(OR($B5=$AV4,$B5=$AT4,$B5=$AU4,$B5=$AW4,$B5=$AX4,$B5=$AY4,$B5=$AZ4,$B5=$BB4,$B5=$BC4,$B5=$BD4,$B5=$BE4,$B5=$BF4,$B5=$BG4,$B5=$BH4,$B5=$BI4,$B5=$BJ4,$B5=$BK4,$B5=$BA4),BL4,BK4) | BM5: =IF(OR($B5=$AV4,$B5=$AT4,$B5=$AU4,$B5=$AW4,$B5=$AX4,$B5=$AY4,$B5=$AZ4,$B5=$BB4,$B5=$BC4,$B5=$BD4,$B5=$BE4,$B5=$BF4,$B5=$BG4,$B5=$BH4,$B5=$BI4,$B5=$BJ4,$B5=$BK4,$B5=$BL4,$B5=$BA4),BM4,BL4) | BN5: =IF(OR($B5=$AV4,$B5=$AT4,$B5=$AU4,$B5=$AW4,$B5=$AX4,$B5=$AY4,$B5=$AZ4,$B5=$BB4,$B5=$BC4,$B5=$BD4,$B5=$BE4,$B5=$BF4,$B5=$BG4,$B5=$BH4,$B5=$BI4,$B5=$BJ4,$B5=$BK4,$B5=$BL4,$B5=$BM4,$B5=$BA4),BN4,BM4) | BO5: =IF(OR($B5=$AV4,$B5=$AT4,$B5=$AU4,$B5=$AW4,$B5=$AX4,$B5=$AY4,$B5=$AZ4,$B5=$BB4,$B5=$BC4,$B5=$BD4,$B5=$BE4,$B5=$BF4,$B5=$BG4,$B5=$BH4,$B5=$BI4,$B5=$BJ4,$B5=$BK4,$B5=$BL4,$B5=$BM4,$B5=$BN4,$B5=$BA4),BO4,BN4) | BP5: =IF(OR($B5=$AV4,$B5=$AT4,$B5=$AU4,$B5=$AW4,$B5=$AX4,$B5=$AY4,$B5=$AZ4,$B5=$BB4,$B5=$BC4,$B5=$BD4,$B5=$BE4,$B5=$BF4,$B5=$BG4,$B5=$BH4,$B5=$BI4,$B5=$BJ4,$B5=$BK4,$B5=$BL4,$B5=$BM4,$B5=$BN4,$B5=$BO4,$B5=$BA4),BP4,BO4) | BQ5: =IF(OR($B5=$AV4,$B5=$AT4,$B5=$AU4,$B5=$AW4,$B5=$AX4,$B5=$AY4,$B5=$AZ4,$B5=$BB4,$B5=$BC4,$B5=$BD4,$B5=$BE4,$B5=$BF4,$B5=$BG4,$B5=$BH4,$B5=$BI4,$B5=$BJ4,$B5=$BK4,$B5=$BL4,$B5=$BM4,$B5=$BN4,$B5=$BO4,$B5=$BP4,$B5=$BA4),BQ4,BP4) | BR5: =IF(OR($B5=$AV4,$B5=$AT4,$B5=$AU4,$B5=$AW4,$B5=$AX4,$B5=$AY4,$B5=$AZ4,$B5=$BB4,$B5=$BC4,$B5=$BD4,$B5=$BE4,$B5=$BF4,$B5=$BG4,$B5=$BH4,$B5=$BI4,$B5=$BJ4,$B5=$BK4,$B5=$BL4,$B5=$BM4,$B5=$BN4,$B5=$BO4,$B5=$BP4,$B5=$BQ4,$B5=$BA4),BR4,BQ4) | BS5: =IF(OR($B5=$AV4,$B5=$AT4,$B5=$AU4,$B5=$AW4,$B5=$AX4,$B5=$AY4,$B5=$AZ4,$B5=$BB4,$B5=$BC4,$B5=$BD4,$B5=$BE4,$B5=$BF4,$B5=$BG4,$B5=$BH4,$B5=$BI4,$B5=$BJ4,$B5=$BK4,$B5=$BL4,$B5=$BM4,$B5=$BN4,$B5=$BO4,$B5=$BP4,$B5=$BQ4,$B5=$BR4,$B5=$BA4),BS4,BR4) | BT5: =IF(OR($B5=$AV4,$B5=$AT4,$B5=$AU4,$B5=$AW4,$B5=$AX4,$B5=$AY4,$B5=$AZ4,$B5=$BB4,$B5=$BC4,$B5=$BD4,$B5=$BE4,$B5=$BF4,$B5=$BG4,$B5=$BH4,$B5=$BI4,$B5=$BJ4,$B5=$BK4,$B5=$BL4,$B5=$BM4,$B5=$BN4,$B5=$BO4,$B5=$BP4,$B5=$BQ4,$B5=$BR4,$B5=$BS4,$B5=$BA4),BT4,BS4) | BU5: =IF(OR($B5=$AV4,$B5=$AT4,$B5=$AU4,$B5=$AW4,$B5=$AX4,$B5=$AY4,$B5=$AZ4,$B5=$BB4,$B5=$BC4,$B5=$BD4,$B5=$BE4,$B5=$BF4,$B5=$BG4,$B5=$BH4,$B5=$BI4,$B5=$BJ4,$B5=$BK4,$B5=$BL4,$B5=$BM4,$B5=$BN4,$B5=$BO4,$B5=$BP4,$B5=$BQ4,$B5=$BR4,$B5=$BS4,$B5=$BT4,$B5=$BA4),BU4,BT4) | BV5: =IF(OR($B5=$AV4,$B5=$AT4,$B5=$AU4,$B5=$AW4,$B5=$AX4,$B5=$AY4,$B5=$AZ4,$B5=$BB4,$B5=$BC4,$B5=$BD4,$B5=$BE4,$B5=$BF4,$B5=$BG4,$B5=$BH4,$B5=$BI4,$B5=$BJ4,$B5=$BK4,$B5=$BL4,$B5=$BM4,$B5=$BN4,$B5=$BO4,$B5=$BP4,$B5=$BQ4,$B5=$BR4,$B5=$BS4,$B5=$BT4,$B5=$BU4,$B5=$BA4),BV4,BU4) | BW5: =IF(OR($B5=$AV4,$B5=$AT4,$B5=$AU4,$B5=$AW4,$B5=$AX4,$B5=$AY4,$B5=$AZ4,$B5=$BB4,$B5=$BC4,$B5=$BD4,$B5=$BE4,$B5=$BF4,$B5=$BG4,$B5=$BH4,$B5=$BI4,$B5=$BJ4,$B5=$BK4,$B5=$BL4,$B5=$BM4,$B5=$BN4,$B5=$BO4,$B5=$BP4,$B5=$BQ4,$B5=$BR4,$B5=$BS4,$B5=$BT4,$B5=$BU4,$B5=$BV4,$B5=$BA4),BW4,BV4) | BX5: =IF(OR($B5=$AV4,$B5=$AT4,$B5=$AU4,$B5=$AW4,$B5=$AX4,$B5=$AY4,$B5=$AZ4,$B5=$BB4,$B5=$BC4,$B5=$BD4,$B5=$BE4,$B5=$BF4,$B5=$BG4,$B5=$BH4,$B5=$BI4,$B5=$BJ4,$B5=$BK4,$B5=$BL4,$B5=$BM4,$B5=$BN4,$B5=$BO4,$B5=$BP4,$B5=$BQ4,$B5=$BR4,$B5=$BS4,$B5=$BT4,$B5=$BU4,$B5=$BV4,$B5=$BW4,$B5=$BA4),BX4,BW4) | BY5: =IF(OR($B5=$AV4,$B5=$AT4,$B5=$AU4,$B5=$AW4,$B5=$AX4,$B5=$AY4,$B5=$AZ4,$B5=$BB4,$B5=$BC4,$B5=$BD4,$B5=$BE4,$B5=$BF4,$B5=$BG4,$B5=$BH4,$B5=$BI4,$B5=$BJ4,$B5=$BK4,$B5=$BL4,$B5=$BM4,$B5=$BN4,$B5=$BO4,$B5=$BP4,$B5=$BQ4,$B5=$BR4,$B5=$BS4,$B5=$BT4,$B5=$BU4,$B5=$BV4,$B5=$BW4,$B5=$BX4,$B5=$BA4),BY4,BX4) | BZ5: =IF(OR($B5=$AV4,$B5=$AT4,$B5=$AU4,$B5=$AW4,$B5=$AX4,$B5=$AY4,$B5=$AZ4,$B5=$BB4,$B5=$BC4,$B5=$BD4,$B5=$BE4,$B5=$BF4,$B5=$BG4,$B5=$BH4,$B5=$BI4,$B5=$BJ4,$B5=$BK4,$B5=$BL4,$B5=$BM4,$B5=$BN4,$B5=$BO4,$B5=$BP4,$B5=$BQ4,$B5=$BR4,$B5=$BS4,$B5=$BT4,$B5=$BU4,$B5=$BV4,$B5=$BW4,$B5=$BX4,$B5=$BY4,$B5=$BA4),BZ4,BY4) | CA5: =IF(OR($B5=$AV4,$B5=$AT4,$B5=$AU4,$B5=$AW4,$B5=$AX4,$B5=$AY4,$B5=$AZ4,$B5=$BB4,$B5=$BC4,$B5=$BD4,$B5=$BE4,$B5=$BF4,$B5=$BG4,$B5=$BH4,$B5=$BI4,$B5=$BJ4,$B5=$BK4,$B5=$BL4,$B5=$BM4,$B5=$BN4,$B5=$BO4,$B5=$BP4,$B5=$BQ4,$B5=$BR4,$B5=$BS4,$B5=$BT4,$B5=$BU4,$B5=$BV4,$B5=$BW4,$B5=$BX4,$B5=$BY4,$B5=$BZ4,$B5=$BA4),CA4,BZ4) | CB5: =IF(OR($B5=$AV4,$B5=$AT4,$B5=$AU4,$B5=$AW4,$B5=$AX4,$B5=$AY4,$B5=$AZ4,$B5=$BB4,$B5=$BC4,$B5=$BD4,$B5=$BE4,$B5=$BF4,$B5=$BG4,$B5=$BH4,$B5=$BI4,$B5=$BJ4,$B5=$BK4,$B5=$BL4,$B5=$BM4,$B5=$BN4,$B5=$BO4,$B5=$BP4,$B5=$BQ4,$B5=$BR4,$B5=$BS4,$B5=$BT4,$B5=$BU4,$B5=$BV4,$B5=$BW4,$B5=$BX4,$B5=$BY4,$B5=$BZ4,$B5=$CA4,$B5=$BA4),CB4,CA4) | CC5: =IF(OR($B5=$AV4,$B5=$AT4,$B5=$AU4,$B5=$AW4,$B5=$AX4,$B5=$AY4,$B5=$AZ4,$B5=$BB4,$B5=$BC4,$B5=$BD4,$B5=$BE4,$B5=$BF4,$B5=$BG4,$B5=$BH4,$B5=$BI4,$B5=$BJ4,$B5=$BK4,$B5=$BL4,$B5=$BM4,$B5=$BN4,$B5=$BO4,$B5=$BP4,$B5=$BQ4,$B5=$BR4,$B5=$BS4,$B5=$BT4,$B5=$BU4,$B5=$BV4,$B5=$BW4,$B5=$BX4,$B5=$BY4,$B5=$BZ4,$B5=$CA4,$B5=$CB4,$B5=$BA4),CC4,CB4) | CD5: =IF(OR($B5=$AV4,$B5=$AT4,$B5=$AU4,$B5=$AW4,$B5=$AX4,$B5=$AY4,$B5=$AZ4,$B5=$BB4,$B5=$BC4,$B5=$BD4,$B5=$BE4,$B5=$BF4,$B5=$BG4,$B5=$BH4,$B5=$BI4,$B5=$BJ4,$B5=$BK4,$B5=$BL4,$B5=$BM4,$B5=$BN4,$B5=$BO4,$B5=$BP4,$B5=$BQ4,$B5=$BR4,$B5=$BS4,$B5=$BT4,$B5=$BU4,$B5=$BV4,$B5=$BW4,$B5=$BX4,$B5=$BY4,$B5=$BZ4,$B5=$CA4,$B5=$CB4,$B5=$CC4,$B5=$BA4),CD4,CC4) | CH5: =IF(AND(CH4="",$B5<>CH$1),"",IF($C5<CH4,CH4,IF($B5=CH$1,1,1+CH4))) | CI5: =IF(AND(CI4="",$B5<>CI$1),"",IF($C5<CI4,CI4,IF($B5=CI$1,1,1+CI4))) | CJ5: =IF(AND(CJ4="",$B5<>CJ$1),"",IF($C5<CJ4,CJ4,IF($B5=CJ$1,1,1+CJ4))) | CK5: =IF(AND(CK4="",$B5<>CK$1),"",IF($C5<CK4,CK4,IF($B5=CK$1,1,1+CK4))) | CL5: =IF(AND(CL4="",$B5<>CL$1),"",IF($C5<CL4,CL4,IF($B5=CL$1,1,1+CL4))) | CM5: =IF(AND(CM4="",$B5<>CM$1),"",IF($C5<CM4,CM4,IF($B5=CM$1,1,1+CM4))) | CN5: =IF(AND(CN4="",$B5<>CN$1),"",IF($C5<CN4,CN4,IF($B5=CN$1,1,1+CN4))) | CO5: =IF(AND(CO4="",$B5<>CO$1),"",IF($C5<CO4,CO4,IF($B5=CO$1,1,1+CO4))) | ... DR5: =IF(AND(DR4="",$B5<>DR$1),"",IF($C5<DR4,DR4,IF($B5=DR$1,1,1+DR4)))
A6: 5 | B6: =Drogan!E7 -> 26 | C6: =IF(B6="","",LOOKUP(B6,$CH$1:$DR$1,CH5:DR5)) -> 3 | G6: =IF(AND($B7="",$B6<>""),"Nrs",IF(AND($B8="",$B7<>"",$B6<>""),G$1,"")) | H6: =IF(AND($B7="",$B6<>""),AT6,IF(AND($B8="",$B7<>"",$B6<>""),H$1,"")) | I6: =IF(AND($B7="",$B6<>""),AU6,IF(AND($B8="",$B7<>"",$B6<>""),I$1,"")) | J6: =IF(AND($B7="",$B6<>""),AV6,IF(AND($B8="",$B7<>"",$B6<>""),J$1,"")) | K6: =IF(AND($B7="",$B6<>""),AW6,IF(AND($B8="",$B7<>"",$B6<>""),K$1,"")) | L6: =IF(AND($B7="",$B6<>""),AX6,IF(AND($B8="",$B7<>"",$B6<>""),L$1,"")) | M6: =IF(AND($B7="",$B6<>""),AY6,IF(AND($B8="",$B7<>"",$B6<>""),M$1,"")) | N6: =IF(AND($B7="",$B6<>""),AZ6,IF(AND($B8="",$B7<>"",$B6<>""),N$1,"")) | O6: =IF(AND($B7="",$B6<>""),BA6,IF(AND($B8="",$B7<>"",$B6<>""),O$1,"")) | ... AR6: =IF(AND($B7="",$B6<>""),CD6,IF(AND($B8="",$B7<>"",$B6<>""),AR$1,"")) | AT6: =B6 -> 26 | AU6: =IF($B6=$AT5,AU5,AT5) -> 32 | AV6: =IF(OR($B6=$AT5,$B6=$AU5),AV5,AU5) -> 20 | AW6: =IF(OR($B6=$AV5,$B6=$AT5,$B6=$AU5),AW5,AV5) -> 23 | AX6: =IF(OR($B6=$AV5,$B6=$AT5,$B6=$AU5,$B6=$AW5),AX5,AW5) | AY6: =IF(OR($B6=$AV5,$B6=$AT5,$B6=$AU5,$B6=$AW5,$B6=$AX5),AY5,AX5) | AZ6: =IF(OR($B6=$AV5,$B6=$AT5,$B6=$AU5,$B6=$AW5,$B6=$AX5,$B6=$AY5),AZ5,AY5) | BA6: =IF(OR($B6=$AV5,$B6=$AT5,$B6=$AU5,$B6=$AW5,$B6=$AX5,$B6=$AY5,$B6=$AZ5),BA5,AZ5) | BB6: =IF(OR($B6=$AV5,$B6=$AT5,$B6=$AU5,$B6=$AW5,$B6=$AX5,$B6=$AY5,$B6=$AZ5,$B6=$BA5),BB5,BA5) | BC6: =IF(OR($B6=$AV5,$B6=$AT5,$B6=$AU5,$B6=$AW5,$B6=$AX5,$B6=$AY5,$B6=$AZ5,$B6=$BA5,$B6=$BB5),BC5,BB5) | BD6: =IF(OR($B6=$AV5,$B6=$AT5,$B6=$AU5,$B6=$AW5,$B6=$AX5,$B6=$AY5,$B6=$AZ5,$B6=$BB5,$B6=$BC5,$B6=$BA5),BD5,BC5) | BE6: =IF(OR($B6=$AV5,$B6=$AT5,$B6=$AU5,$B6=$AW5,$B6=$AX5,$B6=$AY5,$B6=$AZ5,$B6=$BB5,$B6=$BC5,$B6=$BD5,$B6=$BA5),BE5,BD5) | BF6: =IF(OR($B6=$AV5,$B6=$AT5,$B6=$AU5,$B6=$AW5,$B6=$AX5,$B6=$AY5,$B6=$AZ5,$B6=$BB5,$B6=$BC5,$B6=$BD5,$B6=$BE5,$B6=$BA5),BF5,BE5) | BG6: =IF(OR($B6=$AV5,$B6=$AT5,$B6=$AU5,$B6=$AW5,$B6=$AX5,$B6=$AY5,$B6=$AZ5,$B6=$BB5,$B6=$BC5,$B6=$BD5,$B6=$BE5,$B6=$BF5,$B6=$BA5),BG5,BF5) | BH6: =IF(OR($B6=$AV5,$B6=$AT5,$B6=$AU5,$B6=$AW5,$B6=$AX5,$B6=$AY5,$B6=$AZ5,$B6=$BB5,$B6=$BC5,$B6=$BD5,$B6=$BE5,$B6=$BF5,$B6=$BG5,$B6=$BA5),BH5,BG5) | BI6: =IF(OR($B6=$AV5,$B6=$AT5,$B6=$AU5,$B6=$AW5,$B6=$AX5,$B6=$AY5,$B6=$AZ5,$B6=$BB5,$B6=$BC5,$B6=$BD5,$B6=$BE5,$B6=$BF5,$B6=$BG5,$B6=$BH5,$B6=$BA5),BI5,BH5) | BJ6: =IF(OR($B6=$AV5,$B6=$AT5,$B6=$AU5,$B6=$AW5,$B6=$AX5,$B6=$AY5,$B6=$AZ5,$B6=$BB5,$B6=$BC5,$B6=$BD5,$B6=$BE5,$B6=$BF5,$B6=$BG5,$B6=$BH5,$B6=$BI5,$B6=$BA5),BJ5,BI5) | BK6: =IF(OR($B6=$AV5,$B6=$AT5,$B6=$AU5,$B6=$AW5,$B6=$AX5,$B6=$AY5,$B6=$AZ5,$B6=$BB5,$B6=$BC5,$B6=$BD5,$B6=$BE5,$B6=$BF5,$B6=$BG5,$B6=$BH5,$B6=$BI5,$B6=$BJ5,$B6=$BA5),BK5,BJ5) | BL6: =IF(OR($B6=$AV5,$B6=$AT5,$B6=$AU5,$B6=$AW5,$B6=$AX5,$B6=$AY5,$B6=$AZ5,$B6=$BB5,$B6=$BC5,$B6=$BD5,$B6=$BE5,$B6=$BF5,$B6=$BG5,$B6=$BH5,$B6=$BI5,$B6=$BJ5,$B6=$BK5,$B6=$BA5),BL5,BK5) | BM6: =IF(OR($B6=$AV5,$B6=$AT5,$B6=$AU5,$B6=$AW5,$B6=$AX5,$B6=$AY5,$B6=$AZ5,$B6=$BB5,$B6=$BC5,$B6=$BD5,$B6=$BE5,$B6=$BF5,$B6=$BG5,$B6=$BH5,$B6=$BI5,$B6=$BJ5,$B6=$BK5,$B6=$BL5,$B6=$BA5),BM5,BL5) | BN6: =IF(OR($B6=$AV5,$B6=$AT5,$B6=$AU5,$B6=$AW5,$B6=$AX5,$B6=$AY5,$B6=$AZ5,$B6=$BB5,$B6=$BC5,$B6=$BD5,$B6=$BE5,$B6=$BF5,$B6=$BG5,$B6=$BH5,$B6=$BI5,$B6=$BJ5,$B6=$BK5,$B6=$BL5,$B6=$BM5,$B6=$BA5),BN5,BM5) | BO6: =IF(OR($B6=$AV5,$B6=$AT5,$B6=$AU5,$B6=$AW5,$B6=$AX5,$B6=$AY5,$B6=$AZ5,$B6=$BB5,$B6=$BC5,$B6=$BD5,$B6=$BE5,$B6=$BF5,$B6=$BG5,$B6=$BH5,$B6=$BI5,$B6=$BJ5,$B6=$BK5,$B6=$BL5,$B6=$BM5,$B6=$BN5,$B6=$BA5),BO5,BN5) | BP6: =IF(OR($B6=$AV5,$B6=$AT5,$B6=$AU5,$B6=$AW5,$B6=$AX5,$B6=$AY5,$B6=$AZ5,$B6=$BB5,$B6=$BC5,$B6=$BD5,$B6=$BE5,$B6=$BF5,$B6=$BG5,$B6=$BH5,$B6=$BI5,$B6=$BJ5,$B6=$BK5,$B6=$BL5,$B6=$BM5,$B6=$BN5,$B6=$BO5,$B6=$BA5),BP5,BO5) | BQ6: =IF(OR($B6=$AV5,$B6=$AT5,$B6=$AU5,$B6=$AW5,$B6=$AX5,$B6=$AY5,$B6=$AZ5,$B6=$BB5,$B6=$BC5,$B6=$BD5,$B6=$BE5,$B6=$BF5,$B6=$BG5,$B6=$BH5,$B6=$BI5,$B6=$BJ5,$B6=$BK5,$B6=$BL5,$B6=$BM5,$B6=$BN5,$B6=$BO5,$B6=$BP5,$B6=$BA5),BQ5,BP5) | BR6: =IF(OR($B6=$AV5,$B6=$AT5,$B6=$AU5,$B6=$AW5,$B6=$AX5,$B6=$AY5,$B6=$AZ5,$B6=$BB5,$B6=$BC5,$B6=$BD5,$B6=$BE5,$B6=$BF5,$B6=$BG5,$B6=$BH5,$B6=$BI5,$B6=$BJ5,$B6=$BK5,$B6=$BL5,$B6=$BM5,$B6=$BN5,$B6=$BO5,$B6=$BP5,$B6=$BQ5,$B6=$BA5),BR5,BQ5) | BS6: =IF(OR($B6=$AV5,$B6=$AT5,$B6=$AU5,$B6=$AW5,$B6=$AX5,$B6=$AY5,$B6=$AZ5,$B6=$BB5,$B6=$BC5,$B6=$BD5,$B6=$BE5,$B6=$BF5,$B6=$BG5,$B6=$BH5,$B6=$BI5,$B6=$BJ5,$B6=$BK5,$B6=$BL5,$B6=$BM5,$B6=$BN5,$B6=$BO5,$B6=$BP5,$B6=$BQ5,$B6=$BR5,$B6=$BA5),BS5,BR5) | BT6: =IF(OR($B6=$AV5,$B6=$AT5,$B6=$AU5,$B6=$AW5,$B6=$AX5,$B6=$AY5,$B6=$AZ5,$B6=$BB5,$B6=$BC5,$B6=$BD5,$B6=$BE5,$B6=$BF5,$B6=$BG5,$B6=$BH5,$B6=$BI5,$B6=$BJ5,$B6=$BK5,$B6=$BL5,$B6=$BM5,$B6=$BN5,$B6=$BO5,$B6=$BP5,$B6=$BQ5,$B6=$BR5,$B6=$BS5,$B6=$BA5),BT5,BS5) | BU6: =IF(OR($B6=$AV5,$B6=$AT5,$B6=$AU5,$B6=$AW5,$B6=$AX5,$B6=$AY5,$B6=$AZ5,$B6=$BB5,$B6=$BC5,$B6=$BD5,$B6=$BE5,$B6=$BF5,$B6=$BG5,$B6=$BH5,$B6=$BI5,$B6=$BJ5,$B6=$BK5,$B6=$BL5,$B6=$BM5,$B6=$BN5,$B6=$BO5,$B6=$BP5,$B6=$BQ5,$B6=$BR5,$B6=$BS5,$B6=$BT5,$B6=$BA5),BU5,BT5) | BV6: =IF(OR($B6=$AV5,$B6=$AT5,$B6=$AU5,$B6=$AW5,$B6=$AX5,$B6=$AY5,$B6=$AZ5,$B6=$BB5,$B6=$BC5,$B6=$BD5,$B6=$BE5,$B6=$BF5,$B6=$BG5,$B6=$BH5,$B6=$BI5,$B6=$BJ5,$B6=$BK5,$B6=$BL5,$B6=$BM5,$B6=$BN5,$B6=$BO5,$B6=$BP5,$B6=$BQ5,$B6=$BR5,$B6=$BS5,$B6=$BT5,$B6=$BU5,$B6=$BA5),BV5,BU5) | BW6: =IF(OR($B6=$AV5,$B6=$AT5,$B6=$AU5,$B6=$AW5,$B6=$AX5,$B6=$AY5,$B6=$AZ5,$B6=$BB5,$B6=$BC5,$B6=$BD5,$B6=$BE5,$B6=$BF5,$B6=$BG5,$B6=$BH5,$B6=$BI5,$B6=$BJ5,$B6=$BK5,$B6=$BL5,$B6=$BM5,$B6=$BN5,$B6=$BO5,$B6=$BP5,$B6=$BQ5,$B6=$BR5,$B6=$BS5,$B6=$BT5,$B6=$BU5,$B6=$BV5,$B6=$BA5),BW5,BV5) | BX6: =IF(OR($B6=$AV5,$B6=$AT5,$B6=$AU5,$B6=$AW5,$B6=$AX5,$B6=$AY5,$B6=$AZ5,$B6=$BB5,$B6=$BC5,$B6=$BD5,$B6=$BE5,$B6=$BF5,$B6=$BG5,$B6=$BH5,$B6=$BI5,$B6=$BJ5,$B6=$BK5,$B6=$BL5,$B6=$BM5,$B6=$BN5,$B6=$BO5,$B6=$BP5,$B6=$BQ5,$B6=$BR5,$B6=$BS5,$B6=$BT5,$B6=$BU5,$B6=$BV5,$B6=$BW5,$B6=$BA5),BX5,BW5) | BY6: =IF(OR($B6=$AV5,$B6=$AT5,$B6=$AU5,$B6=$AW5,$B6=$AX5,$B6=$AY5,$B6=$AZ5,$B6=$BB5,$B6=$BC5,$B6=$BD5,$B6=$BE5,$B6=$BF5,$B6=$BG5,$B6=$BH5,$B6=$BI5,$B6=$BJ5,$B6=$BK5,$B6=$BL5,$B6=$BM5,$B6=$BN5,$B6=$BO5,$B6=$BP5,$B6=$BQ5,$B6=$BR5,$B6=$BS5,$B6=$BT5,$B6=$BU5,$B6=$BV5,$B6=$BW5,$B6=$BX5,$B6=$BA5),BY5,BX5) | BZ6: =IF(OR($B6=$AV5,$B6=$AT5,$B6=$AU5,$B6=$AW5,$B6=$AX5,$B6=$AY5,$B6=$AZ5,$B6=$BB5,$B6=$BC5,$B6=$BD5,$B6=$BE5,$B6=$BF5,$B6=$BG5,$B6=$BH5,$B6=$BI5,$B6=$BJ5,$B6=$BK5,$B6=$BL5,$B6=$BM5,$B6=$BN5,$B6=$BO5,$B6=$BP5,$B6=$BQ5,$B6=$BR5,$B6=$BS5,$B6=$BT5,$B6=$BU5,$B6=$BV5,$B6=$BW5,$B6=$BX5,$B6=$BY5,$B6=$BA5),BZ5,BY5) | CA6: =IF(OR($B6=$AV5,$B6=$AT5,$B6=$AU5,$B6=$AW5,$B6=$AX5,$B6=$AY5,$B6=$AZ5,$B6=$BB5,$B6=$BC5,$B6=$BD5,$B6=$BE5,$B6=$BF5,$B6=$BG5,$B6=$BH5,$B6=$BI5,$B6=$BJ5,$B6=$BK5,$B6=$BL5,$B6=$BM5,$B6=$BN5,$B6=$BO5,$B6=$BP5,$B6=$BQ5,$B6=$BR5,$B6=$BS5,$B6=$BT5,$B6=$BU5,$B6=$BV5,$B6=$BW5,$B6=$BX5,$B6=$BY5,$B6=$BZ5,$B6=$BA5),CA5,BZ5) | CB6: =IF(OR($B6=$AV5,$B6=$AT5,$B6=$AU5,$B6=$AW5,$B6=$AX5,$B6=$AY5,$B6=$AZ5,$B6=$BB5,$B6=$BC5,$B6=$BD5,$B6=$BE5,$B6=$BF5,$B6=$BG5,$B6=$BH5,$B6=$BI5,$B6=$BJ5,$B6=$BK5,$B6=$BL5,$B6=$BM5,$B6=$BN5,$B6=$BO5,$B6=$BP5,$B6=$BQ5,$B6=$BR5,$B6=$BS5,$B6=$BT5,$B6=$BU5,$B6=$BV5,$B6=$BW5,$B6=$BX5,$B6=$BY5,$B6=$BZ5,$B6=$CA5,$B6=$BA5),CB5,CA5) | CC6: =IF(OR($B6=$AV5,$B6=$AT5,$B6=$AU5,$B6=$AW5,$B6=$AX5,$B6=$AY5,$B6=$AZ5,$B6=$BB5,$B6=$BC5,$B6=$BD5,$B6=$BE5,$B6=$BF5,$B6=$BG5,$B6=$BH5,$B6=$BI5,$B6=$BJ5,$B6=$BK5,$B6=$BL5,$B6=$BM5,$B6=$BN5,$B6=$BO5,$B6=$BP5,$B6=$BQ5,$B6=$BR5,$B6=$BS5,$B6=$BT5,$B6=$BU5,$B6=$BV5,$B6=$BW5,$B6=$BX5,$B6=$BY5,$B6=$BZ5,$B6=$CA5,$B6=$CB5,$B6=$BA5),CC5,CB5) | CD6: =IF(OR($B6=$AV5,$B6=$AT5,$B6=$AU5,$B6=$AW5,$B6=$AX5,$B6=$AY5,$B6=$AZ5,$B6=$BB5,$B6=$BC5,$B6=$BD5,$B6=$BE5,$B6=$BF5,$B6=$BG5,$B6=$BH5,$B6=$BI5,$B6=$BJ5,$B6=$BK5,$B6=$BL5,$B6=$BM5,$B6=$BN5,$B6=$BO5,$B6=$BP5,$B6=$BQ5,$B6=$BR5,$B6=$BS5,$B6=$BT5,$B6=$BU5,$B6=$BV5,$B6=$BW5,$B6=$BX5,$B6=$BY5,$B6=$BZ5,$B6=$CA5,$B6=$CB5,$B6=$CC5,$B6=$BA5),CD5,CC5) | CH6: =IF(AND(CH5="",$B6<>CH$1),"",IF($C6<CH5,CH5,IF($B6=CH$1,1,1+CH5))) | CI6: =IF(AND(CI5="",$B6<>CI$1),"",IF($C6<CI5,CI5,IF($B6=CI$1,1,1+CI5))) | CJ6: =IF(AND(CJ5="",$B6<>CJ$1),"",IF($C6<CJ5,CJ5,IF($B6=CJ$1,1,1+CJ5))) | CK6: =IF(AND(CK5="",$B6<>CK$1),"",IF($C6<CK5,CK5,IF($B6=CK$1,1,1+CK5))) | CL6: =IF(AND(CL5="",$B6<>CL$1),"",IF($C6<CL5,CL5,IF($B6=CL$1,1,1+CL5))) | CM6: =IF(AND(CM5="",$B6<>CM$1),"",IF($C6<CM5,CM5,IF($B6=CM$1,1,1+CM5))) | CN6: =IF(AND(CN5="",$B6<>CN$1),"",IF($C6<CN5,CN5,IF($B6=CN$1,1,1+CN5))) | CO6: =IF(AND(CO5="",$B6<>CO$1),"",IF($C6<CO5,CO5,IF($B6=CO$1,1,1+CO5))) | ... DR6: =IF(AND(DR5="",$B6<>DR$1),"",IF($C6<DR5,DR5,IF($B6=DR$1,1,1+DR5)))
A7: 6 | B7: =Drogan!E8 -> 2 | C7: =IF(B7="","",LOOKUP(B7,$CH$1:$DR$1,CH6:DR6)) | G7: =IF(AND($B8="",$B7<>""),"Nrs",IF(AND($B9="",$B8<>"",$B7<>""),G$1,"")) | H7: =IF(AND($B8="",$B7<>""),AT7,IF(AND($B9="",$B8<>"",$B7<>""),H$1,"")) | I7: =IF(AND($B8="",$B7<>""),AU7,IF(AND($B9="",$B8<>"",$B7<>""),I$1,"")) | J7: =IF(AND($B8="",$B7<>""),AV7,IF(AND($B9="",$B8<>"",$B7<>""),J$1,"")) | K7: =IF(AND($B8="",$B7<>""),AW7,IF(AND($B9="",$B8<>"",$B7<>""),K$1,"")) | L7: =IF(AND($B8="",$B7<>""),AX7,IF(AND($B9="",$B8<>"",$B7<>""),L$1,"")) | M7: =IF(AND($B8="",$B7<>""),AY7,IF(AND($B9="",$B8<>"",$B7<>""),M$1,"")) | N7: =IF(AND($B8="",$B7<>""),AZ7,IF(AND($B9="",$B8<>"",$B7<>""),N$1,"")) | O7: =IF(AND($B8="",$B7<>""),BA7,IF(AND($B9="",$B8<>"",$B7<>""),O$1,"")) | ... AR7: =IF(AND($B8="",$B7<>""),CD7,IF(AND($B9="",$B8<>"",$B7<>""),AR$1,"")) | AT7: =B7 -> 2 | AU7: =IF($B7=$AT6,AU6,AT6) -> 26 | AV7: =IF(OR($B7=$AT6,$B7=$AU6),AV6,AU6) -> 32 | AW7: =IF(OR($B7=$AV6,$B7=$AT6,$B7=$AU6),AW6,AV6) -> 20 | AX7: =IF(OR($B7=$AV6,$B7=$AT6,$B7=$AU6,$B7=$AW6),AX6,AW6) -> 23 | AY7: =IF(OR($B7=$AV6,$B7=$AT6,$B7=$AU6,$B7=$AW6,$B7=$AX6),AY6,AX6) | AZ7: =IF(OR($B7=$AV6,$B7=$AT6,$B7=$AU6,$B7=$AW6,$B7=$AX6,$B7=$AY6),AZ6,AY6) | BA7: =IF(OR($B7=$AV6,$B7=$AT6,$B7=$AU6,$B7=$AW6,$B7=$AX6,$B7=$AY6,$B7=$AZ6),BA6,AZ6) | BB7: =IF(OR($B7=$AV6,$B7=$AT6,$B7=$AU6,$B7=$AW6,$B7=$AX6,$B7=$AY6,$B7=$AZ6,$B7=$BA6),BB6,BA6) | BC7: =IF(OR($B7=$AV6,$B7=$AT6,$B7=$AU6,$B7=$AW6,$B7=$AX6,$B7=$AY6,$B7=$AZ6,$B7=$BA6,$B7=$BB6),BC6,BB6) | BD7: =IF(OR($B7=$AV6,$B7=$AT6,$B7=$AU6,$B7=$AW6,$B7=$AX6,$B7=$AY6,$B7=$AZ6,$B7=$BB6,$B7=$BC6,$B7=$BA6),BD6,BC6) | BE7: =IF(OR($B7=$AV6,$B7=$AT6,$B7=$AU6,$B7=$AW6,$B7=$AX6,$B7=$AY6,$B7=$AZ6,$B7=$BB6,$B7=$BC6,$B7=$BD6,$B7=$BA6),BE6,BD6) | BF7: =IF(OR($B7=$AV6,$B7=$AT6,$B7=$AU6,$B7=$AW6,$B7=$AX6,$B7=$AY6,$B7=$AZ6,$B7=$BB6,$B7=$BC6,$B7=$BD6,$B7=$BE6,$B7=$BA6),BF6,BE6) | BG7: =IF(OR($B7=$AV6,$B7=$AT6,$B7=$AU6,$B7=$AW6,$B7=$AX6,$B7=$AY6,$B7=$AZ6,$B7=$BB6,$B7=$BC6,$B7=$BD6,$B7=$BE6,$B7=$BF6,$B7=$BA6),BG6,BF6) | BH7: =IF(OR($B7=$AV6,$B7=$AT6,$B7=$AU6,$B7=$AW6,$B7=$AX6,$B7=$AY6,$B7=$AZ6,$B7=$BB6,$B7=$BC6,$B7=$BD6,$B7=$BE6,$B7=$BF6,$B7=$BG6,$B7=$BA6),BH6,BG6) | BI7: =IF(OR($B7=$AV6,$B7=$AT6,$B7=$AU6,$B7=$AW6,$B7=$AX6,$B7=$AY6,$B7=$AZ6,$B7=$BB6,$B7=$BC6,$B7=$BD6,$B7=$BE6,$B7=$BF6,$B7=$BG6,$B7=$BH6,$B7=$BA6),BI6,BH6) | BJ7: =IF(OR($B7=$AV6,$B7=$AT6,$B7=$AU6,$B7=$AW6,$B7=$AX6,$B7=$AY6,$B7=$AZ6,$B7=$BB6,$B7=$BC6,$B7=$BD6,$B7=$BE6,$B7=$BF6,$B7=$BG6,$B7=$BH6,$B7=$BI6,$B7=$BA6),BJ6,BI6) | BK7: =IF(OR($B7=$AV6,$B7=$AT6,$B7=$AU6,$B7=$AW6,$B7=$AX6,$B7=$AY6,$B7=$AZ6,$B7=$BB6,$B7=$BC6,$B7=$BD6,$B7=$BE6,$B7=$BF6,$B7=$BG6,$B7=$BH6,$B7=$BI6,$B7=$BJ6,$B7=$BA6),BK6,BJ6) | BL7: =IF(OR($B7=$AV6,$B7=$AT6,$B7=$AU6,$B7=$AW6,$B7=$AX6,$B7=$AY6,$B7=$AZ6,$B7=$BB6,$B7=$BC6,$B7=$BD6,$B7=$BE6,$B7=$BF6,$B7=$BG6,$B7=$BH6,$B7=$BI6,$B7=$BJ6,$B7=$BK6,$B7=$BA6),BL6,BK6) | BM7: =IF(OR($B7=$AV6,$B7=$AT6,$B7=$AU6,$B7=$AW6,$B7=$AX6,$B7=$AY6,$B7=$AZ6,$B7=$BB6,$B7=$BC6,$B7=$BD6,$B7=$BE6,$B7=$BF6,$B7=$BG6,$B7=$BH6,$B7=$BI6,$B7=$BJ6,$B7=$BK6,$B7=$BL6,$B7=$BA6),BM6,BL6) | BN7: =IF(OR($B7=$AV6,$B7=$AT6,$B7=$AU6,$B7=$AW6,$B7=$AX6,$B7=$AY6,$B7=$AZ6,$B7=$BB6,$B7=$BC6,$B7=$BD6,$B7=$BE6,$B7=$BF6,$B7=$BG6,$B7=$BH6,$B7=$BI6,$B7=$BJ6,$B7=$BK6,$B7=$BL6,$B7=$BM6,$B7=$BA6),BN6,BM6) | BO7: =IF(OR($B7=$AV6,$B7=$AT6,$B7=$AU6,$B7=$AW6,$B7=$AX6,$B7=$AY6,$B7=$AZ6,$B7=$BB6,$B7=$BC6,$B7=$BD6,$B7=$BE6,$B7=$BF6,$B7=$BG6,$B7=$BH6,$B7=$BI6,$B7=$BJ6,$B7=$BK6,$B7=$BL6,$B7=$BM6,$B7=$BN6,$B7=$BA6),BO6,BN6) | BP7: =IF(OR($B7=$AV6,$B7=$AT6,$B7=$AU6,$B7=$AW6,$B7=$AX6,$B7=$AY6,$B7=$AZ6,$B7=$BB6,$B7=$BC6,$B7=$BD6,$B7=$BE6,$B7=$BF6,$B7=$BG6,$B7=$BH6,$B7=$BI6,$B7=$BJ6,$B7=$BK6,$B7=$BL6,$B7=$BM6,$B7=$BN6,$B7=$BO6,$B7=$BA6),BP6,BO6) | BQ7: =IF(OR($B7=$AV6,$B7=$AT6,$B7=$AU6,$B7=$AW6,$B7=$AX6,$B7=$AY6,$B7=$AZ6,$B7=$BB6,$B7=$BC6,$B7=$BD6,$B7=$BE6,$B7=$BF6,$B7=$BG6,$B7=$BH6,$B7=$BI6,$B7=$BJ6,$B7=$BK6,$B7=$BL6,$B7=$BM6,$B7=$BN6,$B7=$BO6,$B7=$BP6,$B7=$BA6),BQ6,BP6) | BR7: =IF(OR($B7=$AV6,$B7=$AT6,$B7=$AU6,$B7=$AW6,$B7=$AX6,$B7=$AY6,$B7=$AZ6,$B7=$BB6,$B7=$BC6,$B7=$BD6,$B7=$BE6,$B7=$BF6,$B7=$BG6,$B7=$BH6,$B7=$BI6,$B7=$BJ6,$B7=$BK6,$B7=$BL6,$B7=$BM6,$B7=$BN6,$B7=$BO6,$B7=$BP6,$B7=$BQ6,$B7=$BA6),BR6,BQ6) | BS7: =IF(OR($B7=$AV6,$B7=$AT6,$B7=$AU6,$B7=$AW6,$B7=$AX6,$B7=$AY6,$B7=$AZ6,$B7=$BB6,$B7=$BC6,$B7=$BD6,$B7=$BE6,$B7=$BF6,$B7=$BG6,$B7=$BH6,$B7=$BI6,$B7=$BJ6,$B7=$BK6,$B7=$BL6,$B7=$BM6,$B7=$BN6,$B7=$BO6,$B7=$BP6,$B7=$BQ6,$B7=$BR6,$B7=$BA6),BS6,BR6) | BT7: =IF(OR($B7=$AV6,$B7=$AT6,$B7=$AU6,$B7=$AW6,$B7=$AX6,$B7=$AY6,$B7=$AZ6,$B7=$BB6,$B7=$BC6,$B7=$BD6,$B7=$BE6,$B7=$BF6,$B7=$BG6,$B7=$BH6,$B7=$BI6,$B7=$BJ6,$B7=$BK6,$B7=$BL6,$B7=$BM6,$B7=$BN6,$B7=$BO6,$B7=$BP6,$B7=$BQ6,$B7=$BR6,$B7=$BS6,$B7=$BA6),BT6,BS6) | BU7: =IF(OR($B7=$AV6,$B7=$AT6,$B7=$AU6,$B7=$AW6,$B7=$AX6,$B7=$AY6,$B7=$AZ6,$B7=$BB6,$B7=$BC6,$B7=$BD6,$B7=$BE6,$B7=$BF6,$B7=$BG6,$B7=$BH6,$B7=$BI6,$B7=$BJ6,$B7=$BK6,$B7=$BL6,$B7=$BM6,$B7=$BN6,$B7=$BO6,$B7=$BP6,$B7=$BQ6,$B7=$BR6,$B7=$BS6,$B7=$BT6,$B7=$BA6),BU6,BT6) | BV7: =IF(OR($B7=$AV6,$B7=$AT6,$B7=$AU6,$B7=$AW6,$B7=$AX6,$B7=$AY6,$B7=$AZ6,$B7=$BB6,$B7=$BC6,$B7=$BD6,$B7=$BE6,$B7=$BF6,$B7=$BG6,$B7=$BH6,$B7=$BI6,$B7=$BJ6,$B7=$BK6,$B7=$BL6,$B7=$BM6,$B7=$BN6,$B7=$BO6,$B7=$BP6,$B7=$BQ6,$B7=$BR6,$B7=$BS6,$B7=$BT6,$B7=$BU6,$B7=$BA6),BV6,BU6) | BW7: =IF(OR($B7=$AV6,$B7=$AT6,$B7=$AU6,$B7=$AW6,$B7=$AX6,$B7=$AY6,$B7=$AZ6,$B7=$BB6,$B7=$BC6,$B7=$BD6,$B7=$BE6,$B7=$BF6,$B7=$BG6,$B7=$BH6,$B7=$BI6,$B7=$BJ6,$B7=$BK6,$B7=$BL6,$B7=$BM6,$B7=$BN6,$B7=$BO6,$B7=$BP6,$B7=$BQ6,$B7=$BR6,$B7=$BS6,$B7=$BT6,$B7=$BU6,$B7=$BV6,$B7=$BA6),BW6,BV6) | BX7: =IF(OR($B7=$AV6,$B7=$AT6,$B7=$AU6,$B7=$AW6,$B7=$AX6,$B7=$AY6,$B7=$AZ6,$B7=$BB6,$B7=$BC6,$B7=$BD6,$B7=$BE6,$B7=$BF6,$B7=$BG6,$B7=$BH6,$B7=$BI6,$B7=$BJ6,$B7=$BK6,$B7=$BL6,$B7=$BM6,$B7=$BN6,$B7=$BO6,$B7=$BP6,$B7=$BQ6,$B7=$BR6,$B7=$BS6,$B7=$BT6,$B7=$BU6,$B7=$BV6,$B7=$BW6,$B7=$BA6),BX6,BW6) | BY7: =IF(OR($B7=$AV6,$B7=$AT6,$B7=$AU6,$B7=$AW6,$B7=$AX6,$B7=$AY6,$B7=$AZ6,$B7=$BB6,$B7=$BC6,$B7=$BD6,$B7=$BE6,$B7=$BF6,$B7=$BG6,$B7=$BH6,$B7=$BI6,$B7=$BJ6,$B7=$BK6,$B7=$BL6,$B7=$BM6,$B7=$BN6,$B7=$BO6,$B7=$BP6,$B7=$BQ6,$B7=$BR6,$B7=$BS6,$B7=$BT6,$B7=$BU6,$B7=$BV6,$B7=$BW6,$B7=$BX6,$B7=$BA6),BY6,BX6) | BZ7: =IF(OR($B7=$AV6,$B7=$AT6,$B7=$AU6,$B7=$AW6,$B7=$AX6,$B7=$AY6,$B7=$AZ6,$B7=$BB6,$B7=$BC6,$B7=$BD6,$B7=$BE6,$B7=$BF6,$B7=$BG6,$B7=$BH6,$B7=$BI6,$B7=$BJ6,$B7=$BK6,$B7=$BL6,$B7=$BM6,$B7=$BN6,$B7=$BO6,$B7=$BP6,$B7=$BQ6,$B7=$BR6,$B7=$BS6,$B7=$BT6,$B7=$BU6,$B7=$BV6,$B7=$BW6,$B7=$BX6,$B7=$BY6,$B7=$BA6),BZ6,BY6) | CA7: =IF(OR($B7=$AV6,$B7=$AT6,$B7=$AU6,$B7=$AW6,$B7=$AX6,$B7=$AY6,$B7=$AZ6,$B7=$BB6,$B7=$BC6,$B7=$BD6,$B7=$BE6,$B7=$BF6,$B7=$BG6,$B7=$BH6,$B7=$BI6,$B7=$BJ6,$B7=$BK6,$B7=$BL6,$B7=$BM6,$B7=$BN6,$B7=$BO6,$B7=$BP6,$B7=$BQ6,$B7=$BR6,$B7=$BS6,$B7=$BT6,$B7=$BU6,$B7=$BV6,$B7=$BW6,$B7=$BX6,$B7=$BY6,$B7=$BZ6,$B7=$BA6),CA6,BZ6) | CB7: =IF(OR($B7=$AV6,$B7=$AT6,$B7=$AU6,$B7=$AW6,$B7=$AX6,$B7=$AY6,$B7=$AZ6,$B7=$BB6,$B7=$BC6,$B7=$BD6,$B7=$BE6,$B7=$BF6,$B7=$BG6,$B7=$BH6,$B7=$BI6,$B7=$BJ6,$B7=$BK6,$B7=$BL6,$B7=$BM6,$B7=$BN6,$B7=$BO6,$B7=$BP6,$B7=$BQ6,$B7=$BR6,$B7=$BS6,$B7=$BT6,$B7=$BU6,$B7=$BV6,$B7=$BW6,$B7=$BX6,$B7=$BY6,$B7=$BZ6,$B7=$CA6,$B7=$BA6),CB6,CA6) | CC7: =IF(OR($B7=$AV6,$B7=$AT6,$B7=$AU6,$B7=$AW6,$B7=$AX6,$B7=$AY6,$B7=$AZ6,$B7=$BB6,$B7=$BC6,$B7=$BD6,$B7=$BE6,$B7=$BF6,$B7=$BG6,$B7=$BH6,$B7=$BI6,$B7=$BJ6,$B7=$BK6,$B7=$BL6,$B7=$BM6,$B7=$BN6,$B7=$BO6,$B7=$BP6,$B7=$BQ6,$B7=$BR6,$B7=$BS6,$B7=$BT6,$B7=$BU6,$B7=$BV6,$B7=$BW6,$B7=$BX6,$B7=$BY6,$B7=$BZ6,$B7=$CA6,$B7=$CB6,$B7=$BA6),CC6,CB6) | CD7: =IF(OR($B7=$AV6,$B7=$AT6,$B7=$AU6,$B7=$AW6,$B7=$AX6,$B7=$AY6,$B7=$AZ6,$B7=$BB6,$B7=$BC6,$B7=$BD6,$B7=$BE6,$B7=$BF6,$B7=$BG6,$B7=$BH6,$B7=$BI6,$B7=$BJ6,$B7=$BK6,$B7=$BL6,$B7=$BM6,$B7=$BN6,$B7=$BO6,$B7=$BP6,$B7=$BQ6,$B7=$BR6,$B7=$BS6,$B7=$BT6,$B7=$BU6,$B7=$BV6,$B7=$BW6,$B7=$BX6,$B7=$BY6,$B7=$BZ6,$B7=$CA6,$B7=$CB6,$B7=$CC6,$B7=$BA6),CD6,CC6) | CH7: =IF(AND(CH6="",$B7<>CH$1),"",IF($C7<CH6,CH6,IF($B7=CH$1,1,1+CH6))) | CI7: =IF(AND(CI6="",$B7<>CI$1),"",IF($C7<CI6,CI6,IF($B7=CI$1,1,1+CI6))) -> 1 | CJ7: =IF(AND(CJ6="",$B7<>CJ$1),"",IF($C7<CJ6,CJ6,IF($B7=CJ$1,1,1+CJ6))) | CK7: =IF(AND(CK6="",$B7<>CK$1),"",IF($C7<CK6,CK6,IF($B7=CK$1,1,1+CK6))) | CL7: =IF(AND(CL6="",$B7<>CL$1),"",IF($C7<CL6,CL6,IF($B7=CL$1,1,1+CL6))) | CM7: =IF(AND(CM6="",$B7<>CM$1),"",IF($C7<CM6,CM6,IF($B7=CM$1,1,1+CM6))) | CN7: =IF(AND(CN6="",$B7<>CN$1),"",IF($C7<CN6,CN6,IF($B7=CN$1,1,1+CN6))) | CO7: =IF(AND(CO6="",$B7<>CO$1),"",IF($C7<CO6,CO6,IF($B7=CO$1,1,1+CO6))) | ... DR7: =IF(AND(DR6="",$B7<>DR$1),"",IF($C7<DR6,DR6,IF($B7=DR$1,1,1+DR6)))
A8: 7 | B8: =Drogan!E9 -> 21 | C8: =IF(B8="","",LOOKUP(B8,$CH$1:$DR$1,CH7:DR7)) | G8: =IF(AND($B9="",$B8<>""),"Nrs",IF(AND($B10="",$B9<>"",$B8<>""),G$1,"")) | H8: =IF(AND($B9="",$B8<>""),AT8,IF(AND($B10="",$B9<>"",$B8<>""),H$1,"")) | I8: =IF(AND($B9="",$B8<>""),AU8,IF(AND($B10="",$B9<>"",$B8<>""),I$1,"")) | J8: =IF(AND($B9="",$B8<>""),AV8,IF(AND($B10="",$B9<>"",$B8<>""),J$1,"")) | K8: =IF(AND($B9="",$B8<>""),AW8,IF(AND($B10="",$B9<>"",$B8<>""),K$1,"")) | L8: =IF(AND($B9="",$B8<>""),AX8,IF(AND($B10="",$B9<>"",$B8<>""),L$1,"")) | M8: =IF(AND($B9="",$B8<>""),AY8,IF(AND($B10="",$B9<>"",$B8<>""),M$1,"")) | N8: =IF(AND($B9="",$B8<>""),AZ8,IF(AND($B10="",$B9<>"",$B8<>""),N$1,"")) | O8: =IF(AND($B9="",$B8<>""),BA8,IF(AND($B10="",$B9<>"",$B8<>""),O$1,"")) | ... AR8: =IF(AND($B9="",$B8<>""),CD8,IF(AND($B10="",$B9<>"",$B8<>""),AR$1,"")) | AT8: =B8 -> 21 | AU8: =IF($B8=$AT7,AU7,AT7) -> 2 | AV8: =IF(OR($B8=$AT7,$B8=$AU7),AV7,AU7) -> 26 | AW8: =IF(OR($B8=$AV7,$B8=$AT7,$B8=$AU7),AW7,AV7) -> 32 | AX8: =IF(OR($B8=$AV7,$B8=$AT7,$B8=$AU7,$B8=$AW7),AX7,AW7) -> 20 | AY8: =IF(OR($B8=$AV7,$B8=$AT7,$B8=$AU7,$B8=$AW7,$B8=$AX7),AY7,AX7) -> 23 | AZ8: =IF(OR($B8=$AV7,$B8=$AT7,$B8=$AU7,$B8=$AW7,$B8=$AX7,$B8=$AY7),AZ7,AY7) | BA8: =IF(OR($B8=$AV7,$B8=$AT7,$B8=$AU7,$B8=$AW7,$B8=$AX7,$B8=$AY7,$B8=$AZ7),BA7,AZ7) | BB8: =IF(OR($B8=$AV7,$B8=$AT7,$B8=$AU7,$B8=$AW7,$B8=$AX7,$B8=$AY7,$B8=$AZ7,$B8=$BA7),BB7,BA7) | BC8: =IF(OR($B8=$AV7,$B8=$AT7,$B8=$AU7,$B8=$AW7,$B8=$AX7,$B8=$AY7,$B8=$AZ7,$B8=$BA7,$B8=$BB7),BC7,BB7) | BD8: =IF(OR($B8=$AV7,$B8=$AT7,$B8=$AU7,$B8=$AW7,$B8=$AX7,$B8=$AY7,$B8=$AZ7,$B8=$BB7,$B8=$BC7,$B8=$BA7),BD7,BC7) | BE8: =IF(OR($B8=$AV7,$B8=$AT7,$B8=$AU7,$B8=$AW7,$B8=$AX7,$B8=$AY7,$B8=$AZ7,$B8=$BB7,$B8=$BC7,$B8=$BD7,$B8=$BA7),BE7,BD7) | BF8: =IF(OR($B8=$AV7,$B8=$AT7,$B8=$AU7,$B8=$AW7,$B8=$AX7,$B8=$AY7,$B8=$AZ7,$B8=$BB7,$B8=$BC7,$B8=$BD7,$B8=$BE7,$B8=$BA7),BF7,BE7) | BG8: =IF(OR($B8=$AV7,$B8=$AT7,$B8=$AU7,$B8=$AW7,$B8=$AX7,$B8=$AY7,$B8=$AZ7,$B8=$BB7,$B8=$BC7,$B8=$BD7,$B8=$BE7,$B8=$BF7,$B8=$BA7),BG7,BF7) | BH8: =IF(OR($B8=$AV7,$B8=$AT7,$B8=$AU7,$B8=$AW7,$B8=$AX7,$B8=$AY7,$B8=$AZ7,$B8=$BB7,$B8=$BC7,$B8=$BD7,$B8=$BE7,$B8=$BF7,$B8=$BG7,$B8=$BA7),BH7,BG7) | BI8: =IF(OR($B8=$AV7,$B8=$AT7,$B8=$AU7,$B8=$AW7,$B8=$AX7,$B8=$AY7,$B8=$AZ7,$B8=$BB7,$B8=$BC7,$B8=$BD7,$B8=$BE7,$B8=$BF7,$B8=$BG7,$B8=$BH7,$B8=$BA7),BI7,BH7) | BJ8: =IF(OR($B8=$AV7,$B8=$AT7,$B8=$AU7,$B8=$AW7,$B8=$AX7,$B8=$AY7,$B8=$AZ7,$B8=$BB7,$B8=$BC7,$B8=$BD7,$B8=$BE7,$B8=$BF7,$B8=$BG7,$B8=$BH7,$B8=$BI7,$B8=$BA7),BJ7,BI7) | BK8: =IF(OR($B8=$AV7,$B8=$AT7,$B8=$AU7,$B8=$AW7,$B8=$AX7,$B8=$AY7,$B8=$AZ7,$B8=$BB7,$B8=$BC7,$B8=$BD7,$B8=$BE7,$B8=$BF7,$B8=$BG7,$B8=$BH7,$B8=$BI7,$B8=$BJ7,$B8=$BA7),BK7,BJ7) | BL8: =IF(OR($B8=$AV7,$B8=$AT7,$B8=$AU7,$B8=$AW7,$B8=$AX7,$B8=$AY7,$B8=$AZ7,$B8=$BB7,$B8=$BC7,$B8=$BD7,$B8=$BE7,$B8=$BF7,$B8=$BG7,$B8=$BH7,$B8=$BI7,$B8=$BJ7,$B8=$BK7,$B8=$BA7),BL7,BK7) | BM8: =IF(OR($B8=$AV7,$B8=$AT7,$B8=$AU7,$B8=$AW7,$B8=$AX7,$B8=$AY7,$B8=$AZ7,$B8=$BB7,$B8=$BC7,$B8=$BD7,$B8=$BE7,$B8=$BF7,$B8=$BG7,$B8=$BH7,$B8=$BI7,$B8=$BJ7,$B8=$BK7,$B8=$BL7,$B8=$BA7),BM7,BL7) | BN8: =IF(OR($B8=$AV7,$B8=$AT7,$B8=$AU7,$B8=$AW7,$B8=$AX7,$B8=$AY7,$B8=$AZ7,$B8=$BB7,$B8=$BC7,$B8=$BD7,$B8=$BE7,$B8=$BF7,$B8=$BG7,$B8=$BH7,$B8=$BI7,$B8=$BJ7,$B8=$BK7,$B8=$BL7,$B8=$BM7,$B8=$BA7),BN7,BM7) | BO8: =IF(OR($B8=$AV7,$B8=$AT7,$B8=$AU7,$B8=$AW7,$B8=$AX7,$B8=$AY7,$B8=$AZ7,$B8=$BB7,$B8=$BC7,$B8=$BD7,$B8=$BE7,$B8=$BF7,$B8=$BG7,$B8=$BH7,$B8=$BI7,$B8=$BJ7,$B8=$BK7,$B8=$BL7,$B8=$BM7,$B8=$BN7,$B8=$BA7),BO7,BN7) | BP8: =IF(OR($B8=$AV7,$B8=$AT7,$B8=$AU7,$B8=$AW7,$B8=$AX7,$B8=$AY7,$B8=$AZ7,$B8=$BB7,$B8=$BC7,$B8=$BD7,$B8=$BE7,$B8=$BF7,$B8=$BG7,$B8=$BH7,$B8=$BI7,$B8=$BJ7,$B8=$BK7,$B8=$BL7,$B8=$BM7,$B8=$BN7,$B8=$BO7,$B8=$BA7),BP7,BO7) | BQ8: =IF(OR($B8=$AV7,$B8=$AT7,$B8=$AU7,$B8=$AW7,$B8=$AX7,$B8=$AY7,$B8=$AZ7,$B8=$BB7,$B8=$BC7,$B8=$BD7,$B8=$BE7,$B8=$BF7,$B8=$BG7,$B8=$BH7,$B8=$BI7,$B8=$BJ7,$B8=$BK7,$B8=$BL7,$B8=$BM7,$B8=$BN7,$B8=$BO7,$B8=$BP7,$B8=$BA7),BQ7,BP7) | BR8: =IF(OR($B8=$AV7,$B8=$AT7,$B8=$AU7,$B8=$AW7,$B8=$AX7,$B8=$AY7,$B8=$AZ7,$B8=$BB7,$B8=$BC7,$B8=$BD7,$B8=$BE7,$B8=$BF7,$B8=$BG7,$B8=$BH7,$B8=$BI7,$B8=$BJ7,$B8=$BK7,$B8=$BL7,$B8=$BM7,$B8=$BN7,$B8=$BO7,$B8=$BP7,$B8=$BQ7,$B8=$BA7),BR7,BQ7) | BS8: =IF(OR($B8=$AV7,$B8=$AT7,$B8=$AU7,$B8=$AW7,$B8=$AX7,$B8=$AY7,$B8=$AZ7,$B8=$BB7,$B8=$BC7,$B8=$BD7,$B8=$BE7,$B8=$BF7,$B8=$BG7,$B8=$BH7,$B8=$BI7,$B8=$BJ7,$B8=$BK7,$B8=$BL7,$B8=$BM7,$B8=$BN7,$B8=$BO7,$B8=$BP7,$B8=$BQ7,$B8=$BR7,$B8=$BA7),BS7,BR7) | BT8: =IF(OR($B8=$AV7,$B8=$AT7,$B8=$AU7,$B8=$AW7,$B8=$AX7,$B8=$AY7,$B8=$AZ7,$B8=$BB7,$B8=$BC7,$B8=$BD7,$B8=$BE7,$B8=$BF7,$B8=$BG7,$B8=$BH7,$B8=$BI7,$B8=$BJ7,$B8=$BK7,$B8=$BL7,$B8=$BM7,$B8=$BN7,$B8=$BO7,$B8=$BP7,$B8=$BQ7,$B8=$BR7,$B8=$BS7,$B8=$BA7),BT7,BS7) | BU8: =IF(OR($B8=$AV7,$B8=$AT7,$B8=$AU7,$B8=$AW7,$B8=$AX7,$B8=$AY7,$B8=$AZ7,$B8=$BB7,$B8=$BC7,$B8=$BD7,$B8=$BE7,$B8=$BF7,$B8=$BG7,$B8=$BH7,$B8=$BI7,$B8=$BJ7,$B8=$BK7,$B8=$BL7,$B8=$BM7,$B8=$BN7,$B8=$BO7,$B8=$BP7,$B8=$BQ7,$B8=$BR7,$B8=$BS7,$B8=$BT7,$B8=$BA7),BU7,BT7) | BV8: =IF(OR($B8=$AV7,$B8=$AT7,$B8=$AU7,$B8=$AW7,$B8=$AX7,$B8=$AY7,$B8=$AZ7,$B8=$BB7,$B8=$BC7,$B8=$BD7,$B8=$BE7,$B8=$BF7,$B8=$BG7,$B8=$BH7,$B8=$BI7,$B8=$BJ7,$B8=$BK7,$B8=$BL7,$B8=$BM7,$B8=$BN7,$B8=$BO7,$B8=$BP7,$B8=$BQ7,$B8=$BR7,$B8=$BS7,$B8=$BT7,$B8=$BU7,$B8=$BA7),BV7,BU7) | BW8: =IF(OR($B8=$AV7,$B8=$AT7,$B8=$AU7,$B8=$AW7,$B8=$AX7,$B8=$AY7,$B8=$AZ7,$B8=$BB7,$B8=$BC7,$B8=$BD7,$B8=$BE7,$B8=$BF7,$B8=$BG7,$B8=$BH7,$B8=$BI7,$B8=$BJ7,$B8=$BK7,$B8=$BL7,$B8=$BM7,$B8=$BN7,$B8=$BO7,$B8=$BP7,$B8=$BQ7,$B8=$BR7,$B8=$BS7,$B8=$BT7,$B8=$BU7,$B8=$BV7,$B8=$BA7),BW7,BV7) | BX8: =IF(OR($B8=$AV7,$B8=$AT7,$B8=$AU7,$B8=$AW7,$B8=$AX7,$B8=$AY7,$B8=$AZ7,$B8=$BB7,$B8=$BC7,$B8=$BD7,$B8=$BE7,$B8=$BF7,$B8=$BG7,$B8=$BH7,$B8=$BI7,$B8=$BJ7,$B8=$BK7,$B8=$BL7,$B8=$BM7,$B8=$BN7,$B8=$BO7,$B8=$BP7,$B8=$BQ7,$B8=$BR7,$B8=$BS7,$B8=$BT7,$B8=$BU7,$B8=$BV7,$B8=$BW7,$B8=$BA7),BX7,BW7) | BY8: =IF(OR($B8=$AV7,$B8=$AT7,$B8=$AU7,$B8=$AW7,$B8=$AX7,$B8=$AY7,$B8=$AZ7,$B8=$BB7,$B8=$BC7,$B8=$BD7,$B8=$BE7,$B8=$BF7,$B8=$BG7,$B8=$BH7,$B8=$BI7,$B8=$BJ7,$B8=$BK7,$B8=$BL7,$B8=$BM7,$B8=$BN7,$B8=$BO7,$B8=$BP7,$B8=$BQ7,$B8=$BR7,$B8=$BS7,$B8=$BT7,$B8=$BU7,$B8=$BV7,$B8=$BW7,$B8=$BX7,$B8=$BA7),BY7,BX7) | BZ8: =IF(OR($B8=$AV7,$B8=$AT7,$B8=$AU7,$B8=$AW7,$B8=$AX7,$B8=$AY7,$B8=$AZ7,$B8=$BB7,$B8=$BC7,$B8=$BD7,$B8=$BE7,$B8=$BF7,$B8=$BG7,$B8=$BH7,$B8=$BI7,$B8=$BJ7,$B8=$BK7,$B8=$BL7,$B8=$BM7,$B8=$BN7,$B8=$BO7,$B8=$BP7,$B8=$BQ7,$B8=$BR7,$B8=$BS7,$B8=$BT7,$B8=$BU7,$B8=$BV7,$B8=$BW7,$B8=$BX7,$B8=$BY7,$B8=$BA7),BZ7,BY7) | CA8: =IF(OR($B8=$AV7,$B8=$AT7,$B8=$AU7,$B8=$AW7,$B8=$AX7,$B8=$AY7,$B8=$AZ7,$B8=$BB7,$B8=$BC7,$B8=$BD7,$B8=$BE7,$B8=$BF7,$B8=$BG7,$B8=$BH7,$B8=$BI7,$B8=$BJ7,$B8=$BK7,$B8=$BL7,$B8=$BM7,$B8=$BN7,$B8=$BO7,$B8=$BP7,$B8=$BQ7,$B8=$BR7,$B8=$BS7,$B8=$BT7,$B8=$BU7,$B8=$BV7,$B8=$BW7,$B8=$BX7,$B8=$BY7,$B8=$BZ7,$B8=$BA7),CA7,BZ7) | CB8: =IF(OR($B8=$AV7,$B8=$AT7,$B8=$AU7,$B8=$AW7,$B8=$AX7,$B8=$AY7,$B8=$AZ7,$B8=$BB7,$B8=$BC7,$B8=$BD7,$B8=$BE7,$B8=$BF7,$B8=$BG7,$B8=$BH7,$B8=$BI7,$B8=$BJ7,$B8=$BK7,$B8=$BL7,$B8=$BM7,$B8=$BN7,$B8=$BO7,$B8=$BP7,$B8=$BQ7,$B8=$BR7,$B8=$BS7,$B8=$BT7,$B8=$BU7,$B8=$BV7,$B8=$BW7,$B8=$BX7,$B8=$BY7,$B8=$BZ7,$B8=$CA7,$B8=$BA7),CB7,CA7) | CC8: =IF(OR($B8=$AV7,$B8=$AT7,$B8=$AU7,$B8=$AW7,$B8=$AX7,$B8=$AY7,$B8=$AZ7,$B8=$BB7,$B8=$BC7,$B8=$BD7,$B8=$BE7,$B8=$BF7,$B8=$BG7,$B8=$BH7,$B8=$BI7,$B8=$BJ7,$B8=$BK7,$B8=$BL7,$B8=$BM7,$B8=$BN7,$B8=$BO7,$B8=$BP7,$B8=$BQ7,$B8=$BR7,$B8=$BS7,$B8=$BT7,$B8=$BU7,$B8=$BV7,$B8=$BW7,$B8=$BX7,$B8=$BY7,$B8=$BZ7,$B8=$CA7,$B8=$CB7,$B8=$BA7),CC7,CB7) | CD8: =IF(OR($B8=$AV7,$B8=$AT7,$B8=$AU7,$B8=$AW7,$B8=$AX7,$B8=$AY7,$B8=$AZ7,$B8=$BB7,$B8=$BC7,$B8=$BD7,$B8=$BE7,$B8=$BF7,$B8=$BG7,$B8=$BH7,$B8=$BI7,$B8=$BJ7,$B8=$BK7,$B8=$BL7,$B8=$BM7,$B8=$BN7,$B8=$BO7,$B8=$BP7,$B8=$BQ7,$B8=$BR7,$B8=$BS7,$B8=$BT7,$B8=$BU7,$B8=$BV7,$B8=$BW7,$B8=$BX7,$B8=$BY7,$B8=$BZ7,$B8=$CA7,$B8=$CB7,$B8=$CC7,$B8=$BA7),CD7,CC7) | CH8: =IF(AND(CH7="",$B8<>CH$1),"",IF($C8<CH7,CH7,IF($B8=CH$1,1,1+CH7))) | CI8: =IF(AND(CI7="",$B8<>CI$1),"",IF($C8<CI7,CI7,IF($B8=CI$1,1,1+CI7))) -> 2 | CJ8: =IF(AND(CJ7="",$B8<>CJ$1),"",IF($C8<CJ7,CJ7,IF($B8=CJ$1,1,1+CJ7))) | CK8: =IF(AND(CK7="",$B8<>CK$1),"",IF($C8<CK7,CK7,IF($B8=CK$1,1,1+CK7))) | CL8: =IF(AND(CL7="",$B8<>CL$1),"",IF($C8<CL7,CL7,IF($B8=CL$1,1,1+CL7))) | CM8: =IF(AND(CM7="",$B8<>CM$1),"",IF($C8<CM7,CM7,IF($B8=CM$1,1,1+CM7))) | CN8: =IF(AND(CN7="",$B8<>CN$1),"",IF($C8<CN7,CN7,IF($B8=CN$1,1,1+CN7))) | CO8: =IF(AND(CO7="",$B8<>CO$1),"",IF($C8<CO7,CO7,IF($B8=CO$1,1,1+CO7))) | ... DR8: =IF(AND(DR7="",$B8<>DR$1),"",IF($C8<DR7,DR7,IF($B8=DR$1,1,1+DR7)))
