Workbook
Name ResetProg: '[1]anti-ktf'!$AN$5:$AN$15633

Sheet Tracker
R2: Layout
R3: European
D5: =R3 -> European
D6: 0 | E6: 1 | F6: 2 | G6: 3 | H6: 4 | I6: 5 | J6: 6 | K6: 7 | L6: 8 | M6: 9 | N6: 10 | O6: 11 | P6: 12 | Q6: 13 | R6: 14 | S6: 15 | T6: 16 | U6: 17 | V6: 18 | W6: 19 | X6: 20 | Y6: 21 | Z6: 22 | AA6: 23 | AB6: 24 | AC6: 25 | AD6: 26 | AE6: 27 | AF6: 28 | AG6: 29 | AH6: 30 | AI6: 31 | AJ6: 32 | AK6: 33 | AL6: 34 | AM6: 35 | AN6: 36 | AO6: 37
A7: Spin | B7: Nr | C7: Rep | D7: =IF($R3="Board",D6,IF($R3="European",LOOKUP(D6,Layout!$A:$A,Layout!$B:$B),IF($R3="American",LOOKUP(D6,Layout!$A:$A,Layout!$D:$D)))) -> 0 | E7: =IF($R3="Board",E6,IF($R3="European",LOOKUP(E6,Layout!$A:$A,Layout!$B:$B),IF($R3="American",LOOKUP(E6,Layout!$A:$A,Layout!$D:$D)))) -> 32 | F7: =IF($R3="Board",F6,IF($R3="European",LOOKUP(F6,Layout!$A:$A,Layout!$B:$B),IF($R3="American",LOOKUP(F6,Layout!$A:$A,Layout!$D:$D)))) -> 15 | G7: =IF($R3="Board",G6,IF($R3="European",LOOKUP(G6,Layout!$A:$A,Layout!$B:$B),IF($R3="American",LOOKUP(G6,Layout!$A:$A,Layout!$D:$D)))) -> 19 | H7: =IF($R3="Board",H6,IF($R3="European",LOOKUP(H6,Layout!$A:$A,Layout!$B:$B),IF($R3="American",LOOKUP(H6,Layout!$A:$A,Layout!$D:$D)))) -> 4 | I7: =IF($R3="Board",I6,IF($R3="European",LOOKUP(I6,Layout!$A:$A,Layout!$B:$B),IF($R3="American",LOOKUP(I6,Layout!$A:$A,Layout!$D:$D)))) -> 21 | J7: =IF($R3="Board",J6,IF($R3="European",LOOKUP(J6,Layout!$A:$A,Layout!$B:$B),IF($R3="American",LOOKUP(J6,Layout!$A:$A,Layout!$D:$D)))) -> 2 | K7: =IF($R3="Board",K6,IF($R3="European",LOOKUP(K6,Layout!$A:$A,Layout!$B:$B),IF($R3="American",LOOKUP(K6,Layout!$A:$A,Layout!$D:$D)))) -> 25 | ... AN7: =IF($R3="Board",AN6,IF($R3="European",LOOKUP(AN6,Layout!$A:$A,Layout!$B:$B),IF($R3="American",LOOKUP(AN6,Layout!$A:$A,Layout!$D:$D)))) -> 26 | AO7: =IF($R3="Board","",IF($R3="European","",IF($R3="American",LOOKUP(AO6,Layout!$A:$A,Layout!$D:$D))))
A8: 1 | B8: =IF(R$3="American",RANDBETWEEN(0,37),RANDBETWEEN(0,36)) -> 5 | D8: =IF($B8="","",IF($B8=D$7,$A8,"")) | E8: =IF($B8="","",IF($B8=E$7,$A8,"")) | F8: =IF($B8="","",IF($B8=F$7,$A8,"")) | G8: =IF($B8="","",IF($B8=G$7,$A8,"")) | H8: =IF($B8="","",IF($B8=H$7,$A8,"")) | I8: =IF($B8="","",IF($B8=I$7,$A8,"")) | J8: =IF($B8="","",IF($B8=J$7,$A8,"")) | K8: =IF($B8="","",IF($B8=K$7,$A8,"")) | ... AO8: =IF($B8="","",IF($B8=AO$7,$A8,""))
A9: 2 | B9: =IF(R$3="American",RANDBETWEEN(0,37),RANDBETWEEN(0,36)) -> 18 | C9: =IF(COUNTIF(B$8:B8,B9)=0,"",COUNTIF(B$8:B8,B9)) | D9: =IF($A9="","",IF(AND($B9="",$B8<>"",COUNTIF(D$8:D8,"R")),COUNTIF(D$8:D8,"R")&"R",IF($B9="","",IF(AND($B9=D$7,$C9<>""),"R",IF(D8="R",$A8,IF($B9=D$7,$A9,D8)))))) | E9: =IF($A9="","",IF(AND($B9="",$B8<>"",COUNTIF(E$8:E8,"R")),COUNTIF(E$8:E8,"R")&"R",IF($B9="","",IF(AND($B9=E$7,$C9<>""),"R",IF(E8="R",$A8,IF($B9=E$7,$A9,E8)))))) | F9: =IF($A9="","",IF(AND($B9="",$B8<>"",COUNTIF(F$8:F8,"R")),COUNTIF(F$8:F8,"R")&"R",IF($B9="","",IF(AND($B9=F$7,$C9<>""),"R",IF(F8="R",$A8,IF($B9=F$7,$A9,F8)))))) | G9: =IF($A9="","",IF(AND($B9="",$B8<>"",COUNTIF(G$8:G8,"R")),COUNTIF(G$8:G8,"R")&"R",IF($B9="","",IF(AND($B9=G$7,$C9<>""),"R",IF(G8="R",$A8,IF($B9=G$7,$A9,G8)))))) | H9: =IF($A9="","",IF(AND($B9="",$B8<>"",COUNTIF(H$8:H8,"R")),COUNTIF(H$8:H8,"R")&"R",IF($B9="","",IF(AND($B9=H$7,$C9<>""),"R",IF(H8="R",$A8,IF($B9=H$7,$A9,H8)))))) | I9: =IF($A9="","",IF(AND($B9="",$B8<>"",COUNTIF(I$8:I8,"R")),COUNTIF(I$8:I8,"R")&"R",IF($B9="","",IF(AND($B9=I$7,$C9<>""),"R",IF(I8="R",$A8,IF($B9=I$7,$A9,I8)))))) | J9: =IF($A9="","",IF(AND($B9="",$B8<>"",COUNTIF(J$8:J8,"R")),COUNTIF(J$8:J8,"R")&"R",IF($B9="","",IF(AND($B9=J$7,$C9<>""),"R",IF(J8="R",$A8,IF($B9=J$7,$A9,J8)))))) | K9: =IF($A9="","",IF(AND($B9="",$B8<>"",COUNTIF(K$8:K8,"R")),COUNTIF(K$8:K8,"R")&"R",IF($B9="","",IF(AND($B9=K$7,$C9<>""),"R",IF(K8="R",$A8,IF($B9=K$7,$A9,K8)))))) | ... AO9: =IF($A9="","",IF(AND($B9="",$B8<>"",COUNTIF(AO$8:AO8,"R")),COUNTIF(AO$8:AO8,"R")&"R",IF($B9="","",IF(AND($B9=AO$7,$C9<>""),"R",IF(AO8="R",$A8,IF($B9=AO$7,$A9,AO8))))))
A10: 3 | B10: =IF(R$3="American",RANDBETWEEN(0,37),RANDBETWEEN(0,36)) -> 14 | C10: =IF(COUNTIF(B$8:B9,B10)=0,"",COUNTIF(B$8:B9,B10)) | D10: =IF($A10="","",IF(AND($B10="",$B9<>"",COUNTIF(D$8:D9,"R")),COUNTIF(D$8:D9,"R")&"R",IF($B10="","",IF(AND($B10=D$7,$C10<>""),"R",IF(D9="R",$A9,IF($B10=D$7,$A10,D9)))))) | E10: =IF($A10="","",IF(AND($B10="",$B9<>"",COUNTIF(E$8:E9,"R")),COUNTIF(E$8:E9,"R")&"R",IF($B10="","",IF(AND($B10=E$7,$C10<>""),"R",IF(E9="R",$A9,IF($B10=E$7,$A10,E9)))))) | F10: =IF($A10="","",IF(AND($B10="",$B9<>"",COUNTIF(F$8:F9,"R")),COUNTIF(F$8:F9,"R")&"R",IF($B10="","",IF(AND($B10=F$7,$C10<>""),"R",IF(F9="R",$A9,IF($B10=F$7,$A10,F9)))))) | G10: =IF($A10="","",IF(AND($B10="",$B9<>"",COUNTIF(G$8:G9,"R")),COUNTIF(G$8:G9,"R")&"R",IF($B10="","",IF(AND($B10=G$7,$C10<>""),"R",IF(G9="R",$A9,IF($B10=G$7,$A10,G9)))))) | H10: =IF($A10="","",IF(AND($B10="",$B9<>"",COUNTIF(H$8:H9,"R")),COUNTIF(H$8:H9,"R")&"R",IF($B10="","",IF(AND($B10=H$7,$C10<>""),"R",IF(H9="R",$A9,IF($B10=H$7,$A10,H9)))))) | I10: =IF($A10="","",IF(AND($B10="",$B9<>"",COUNTIF(I$8:I9,"R")),COUNTIF(I$8:I9,"R")&"R",IF($B10="","",IF(AND($B10=I$7,$C10<>""),"R",IF(I9="R",$A9,IF($B10=I$7,$A10,I9)))))) | J10: =IF($A10="","",IF(AND($B10="",$B9<>"",COUNTIF(J$8:J9,"R")),COUNTIF(J$8:J9,"R")&"R",IF($B10="","",IF(AND($B10=J$7,$C10<>""),"R",IF(J9="R",$A9,IF($B10=J$7,$A10,J9)))))) | K10: =IF($A10="","",IF(AND($B10="",$B9<>"",COUNTIF(K$8:K9,"R")),COUNTIF(K$8:K9,"R")&"R",IF($B10="","",IF(AND($B10=K$7,$C10<>""),"R",IF(K9="R",$A9,IF($B10=K$7,$A10,K9)))))) | ... AO10: =IF($A10="","",IF(AND($B10="",$B9<>"",COUNTIF(AO$8:AO9,"R")),COUNTIF(AO$8:AO9,"R")&"R",IF($B10="","",IF(AND($B10=AO$7,$C10<>""),"R",IF(AO9="R",$A9,IF($B10=AO$7,$A10,AO9))))))
A11: 4 | B11: =IF(R$3="American",RANDBETWEEN(0,37),RANDBETWEEN(0,36)) -> 33 | C11: =IF(COUNTIF(B$8:B10,B11)=0,"",COUNTIF(B$8:B10,B11)) | D11: =IF($A11="","",IF(AND($B11="",$B10<>"",COUNTIF(D$8:D10,"R")),COUNTIF(D$8:D10,"R")&"R",IF($B11="","",IF(AND($B11=D$7,$C11<>""),"R",IF(D10="R",$A10,IF($B11=D$7,$A11,D10)))))) | E11: =IF($A11="","",IF(AND($B11="",$B10<>"",COUNTIF(E$8:E10,"R")),COUNTIF(E$8:E10,"R")&"R",IF($B11="","",IF(AND($B11=E$7,$C11<>""),"R",IF(E10="R",$A10,IF($B11=E$7,$A11,E10)))))) | F11: =IF($A11="","",IF(AND($B11="",$B10<>"",COUNTIF(F$8:F10,"R")),COUNTIF(F$8:F10,"R")&"R",IF($B11="","",IF(AND($B11=F$7,$C11<>""),"R",IF(F10="R",$A10,IF($B11=F$7,$A11,F10)))))) | G11: =IF($A11="","",IF(AND($B11="",$B10<>"",COUNTIF(G$8:G10,"R")),COUNTIF(G$8:G10,"R")&"R",IF($B11="","",IF(AND($B11=G$7,$C11<>""),"R",IF(G10="R",$A10,IF($B11=G$7,$A11,G10)))))) | H11: =IF($A11="","",IF(AND($B11="",$B10<>"",COUNTIF(H$8:H10,"R")),COUNTIF(H$8:H10,"R")&"R",IF($B11="","",IF(AND($B11=H$7,$C11<>""),"R",IF(H10="R",$A10,IF($B11=H$7,$A11,H10)))))) | I11: =IF($A11="","",IF(AND($B11="",$B10<>"",COUNTIF(I$8:I10,"R")),COUNTIF(I$8:I10,"R")&"R",IF($B11="","",IF(AND($B11=I$7,$C11<>""),"R",IF(I10="R",$A10,IF($B11=I$7,$A11,I10)))))) | J11: =IF($A11="","",IF(AND($B11="",$B10<>"",COUNTIF(J$8:J10,"R")),COUNTIF(J$8:J10,"R")&"R",IF($B11="","",IF(AND($B11=J$7,$C11<>""),"R",IF(J10="R",$A10,IF($B11=J$7,$A11,J10)))))) | K11: =IF($A11="","",IF(AND($B11="",$B10<>"",COUNTIF(K$8:K10,"R")),COUNTIF(K$8:K10,"R")&"R",IF($B11="","",IF(AND($B11=K$7,$C11<>""),"R",IF(K10="R",$A10,IF($B11=K$7,$A11,K10)))))) | ... AO11: =IF($A11="","",IF(AND($B11="",$B10<>"",COUNTIF(AO$8:AO10,"R")),COUNTIF(AO$8:AO10,"R")&"R",IF($B11="","",IF(AND($B11=AO$7,$C11<>""),"R",IF(AO10="R",$A10,IF($B11=AO$7,$A11,AO10))))))
A12: 5 | B12: =IF(R$3="American",RANDBETWEEN(0,37),RANDBETWEEN(0,36)) -> 9 | C12: =IF(COUNTIF(B$8:B11,B12)=0,"",COUNTIF(B$8:B11,B12)) | D12: =IF($A12="","",IF(AND($B12="",$B11<>"",COUNTIF(D$8:D11,"R")),COUNTIF(D$8:D11,"R")&"R",IF($B12="","",IF(AND($B12=D$7,$C12<>""),"R",IF(D11="R",$A11,IF($B12=D$7,$A12,D11)))))) | E12: =IF($A12="","",IF(AND($B12="",$B11<>"",COUNTIF(E$8:E11,"R")),COUNTIF(E$8:E11,"R")&"R",IF($B12="","",IF(AND($B12=E$7,$C12<>""),"R",IF(E11="R",$A11,IF($B12=E$7,$A12,E11)))))) | F12: =IF($A12="","",IF(AND($B12="",$B11<>"",COUNTIF(F$8:F11,"R")),COUNTIF(F$8:F11,"R")&"R",IF($B12="","",IF(AND($B12=F$7,$C12<>""),"R",IF(F11="R",$A11,IF($B12=F$7,$A12,F11)))))) | G12: =IF($A12="","",IF(AND($B12="",$B11<>"",COUNTIF(G$8:G11,"R")),COUNTIF(G$8:G11,"R")&"R",IF($B12="","",IF(AND($B12=G$7,$C12<>""),"R",IF(G11="R",$A11,IF($B12=G$7,$A12,G11)))))) | H12: =IF($A12="","",IF(AND($B12="",$B11<>"",COUNTIF(H$8:H11,"R")),COUNTIF(H$8:H11,"R")&"R",IF($B12="","",IF(AND($B12=H$7,$C12<>""),"R",IF(H11="R",$A11,IF($B12=H$7,$A12,H11)))))) | I12: =IF($A12="","",IF(AND($B12="",$B11<>"",COUNTIF(I$8:I11,"R")),COUNTIF(I$8:I11,"R")&"R",IF($B12="","",IF(AND($B12=I$7,$C12<>""),"R",IF(I11="R",$A11,IF($B12=I$7,$A12,I11)))))) | J12: =IF($A12="","",IF(AND($B12="",$B11<>"",COUNTIF(J$8:J11,"R")),COUNTIF(J$8:J11,"R")&"R",IF($B12="","",IF(AND($B12=J$7,$C12<>""),"R",IF(J11="R",$A11,IF($B12=J$7,$A12,J11)))))) | K12: =IF($A12="","",IF(AND($B12="",$B11<>"",COUNTIF(K$8:K11,"R")),COUNTIF(K$8:K11,"R")&"R",IF($B12="","",IF(AND($B12=K$7,$C12<>""),"R",IF(K11="R",$A11,IF($B12=K$7,$A12,K11)))))) | ... AO12: =IF($A12="","",IF(AND($B12="",$B11<>"",COUNTIF(AO$8:AO11,"R")),COUNTIF(AO$8:AO11,"R")&"R",IF($B12="","",IF(AND($B12=AO$7,$C12<>""),"R",IF(AO11="R",$A11,IF($B12=AO$7,$A12,AO11))))))
A13: 6 | B13: =IF(R$3="American",RANDBETWEEN(0,37),RANDBETWEEN(0,36)) -> 14 | C13: =IF(COUNTIF(B$8:B12,B13)=0,"",COUNTIF(B$8:B12,B13)) -> 1 | D13: =IF($A13="","",IF(AND($B13="",$B12<>"",COUNTIF(D$8:D12,"R")),COUNTIF(D$8:D12,"R")&"R",IF($B13="","",IF(AND($B13=D$7,$C13<>""),"R",IF(D12="R",$A12,IF($B13=D$7,$A13,D12)))))) | E13: =IF($A13="","",IF(AND($B13="",$B12<>"",COUNTIF(E$8:E12,"R")),COUNTIF(E$8:E12,"R")&"R",IF($B13="","",IF(AND($B13=E$7,$C13<>""),"R",IF(E12="R",$A12,IF($B13=E$7,$A13,E12)))))) | F13: =IF($A13="","",IF(AND($B13="",$B12<>"",COUNTIF(F$8:F12,"R")),COUNTIF(F$8:F12,"R")&"R",IF($B13="","",IF(AND($B13=F$7,$C13<>""),"R",IF(F12="R",$A12,IF($B13=F$7,$A13,F12)))))) | G13: =IF($A13="","",IF(AND($B13="",$B12<>"",COUNTIF(G$8:G12,"R")),COUNTIF(G$8:G12,"R")&"R",IF($B13="","",IF(AND($B13=G$7,$C13<>""),"R",IF(G12="R",$A12,IF($B13=G$7,$A13,G12)))))) | H13: =IF($A13="","",IF(AND($B13="",$B12<>"",COUNTIF(H$8:H12,"R")),COUNTIF(H$8:H12,"R")&"R",IF($B13="","",IF(AND($B13=H$7,$C13<>""),"R",IF(H12="R",$A12,IF($B13=H$7,$A13,H12)))))) | I13: =IF($A13="","",IF(AND($B13="",$B12<>"",COUNTIF(I$8:I12,"R")),COUNTIF(I$8:I12,"R")&"R",IF($B13="","",IF(AND($B13=I$7,$C13<>""),"R",IF(I12="R",$A12,IF($B13=I$7,$A13,I12)))))) | J13: =IF($A13="","",IF(AND($B13="",$B12<>"",COUNTIF(J$8:J12,"R")),COUNTIF(J$8:J12,"R")&"R",IF($B13="","",IF(AND($B13=J$7,$C13<>""),"R",IF(J12="R",$A12,IF($B13=J$7,$A13,J12)))))) | K13: =IF($A13="","",IF(AND($B13="",$B12<>"",COUNTIF(K$8:K12,"R")),COUNTIF(K$8:K12,"R")&"R",IF($B13="","",IF(AND($B13=K$7,$C13<>""),"R",IF(K12="R",$A12,IF($B13=K$7,$A13,K12)))))) | ... AO13: =IF($A13="","",IF(AND($B13="",$B12<>"",COUNTIF(AO$8:AO12,"R")),COUNTIF(AO$8:AO12,"R")&"R",IF($B13="","",IF(AND($B13=AO$7,$C13<>""),"R",IF(AO12="R",$A12,IF($B13=AO$7,$A13,AO12))))))
A14: 7 | B14: =IF(R$3="American",RANDBETWEEN(0,37),RANDBETWEEN(0,36)) -> 3 | C14: =IF(COUNTIF(B$8:B13,B14)=0,"",COUNTIF(B$8:B13,B14)) | D14: =IF($A14="","",IF(AND($B14="",$B13<>"",COUNTIF(D$8:D13,"R")),COUNTIF(D$8:D13,"R")&"R",IF($B14="","",IF(AND($B14=D$7,$C14<>""),"R",IF(D13="R",$A13,IF($B14=D$7,$A14,D13)))))) | E14: =IF($A14="","",IF(AND($B14="",$B13<>"",COUNTIF(E$8:E13,"R")),COUNTIF(E$8:E13,"R")&"R",IF($B14="","",IF(AND($B14=E$7,$C14<>""),"R",IF(E13="R",$A13,IF($B14=E$7,$A14,E13)))))) | F14: =IF($A14="","",IF(AND($B14="",$B13<>"",COUNTIF(F$8:F13,"R")),COUNTIF(F$8:F13,"R")&"R",IF($B14="","",IF(AND($B14=F$7,$C14<>""),"R",IF(F13="R",$A13,IF($B14=F$7,$A14,F13)))))) | G14: =IF($A14="","",IF(AND($B14="",$B13<>"",COUNTIF(G$8:G13,"R")),COUNTIF(G$8:G13,"R")&"R",IF($B14="","",IF(AND($B14=G$7,$C14<>""),"R",IF(G13="R",$A13,IF($B14=G$7,$A14,G13)))))) | H14: =IF($A14="","",IF(AND($B14="",$B13<>"",COUNTIF(H$8:H13,"R")),COUNTIF(H$8:H13,"R")&"R",IF($B14="","",IF(AND($B14=H$7,$C14<>""),"R",IF(H13="R",$A13,IF($B14=H$7,$A14,H13)))))) | I14: =IF($A14="","",IF(AND($B14="",$B13<>"",COUNTIF(I$8:I13,"R")),COUNTIF(I$8:I13,"R")&"R",IF($B14="","",IF(AND($B14=I$7,$C14<>""),"R",IF(I13="R",$A13,IF($B14=I$7,$A14,I13)))))) | J14: =IF($A14="","",IF(AND($B14="",$B13<>"",COUNTIF(J$8:J13,"R")),COUNTIF(J$8:J13,"R")&"R",IF($B14="","",IF(AND($B14=J$7,$C14<>""),"R",IF(J13="R",$A13,IF($B14=J$7,$A14,J13)))))) | K14: =IF($A14="","",IF(AND($B14="",$B13<>"",COUNTIF(K$8:K13,"R")),COUNTIF(K$8:K13,"R")&"R",IF($B14="","",IF(AND($B14=K$7,$C14<>""),"R",IF(K13="R",$A13,IF($B14=K$7,$A14,K13)))))) | ... AO14: =IF($A14="","",IF(AND($B14="",$B13<>"",COUNTIF(AO$8:AO13,"R")),COUNTIF(AO$8:AO13,"R")&"R",IF($B14="","",IF(AND($B14=AO$7,$C14<>""),"R",IF(AO13="R",$A13,IF($B14=AO$7,$A14,AO13))))))
A15: 8 | B15: =IF(R$3="American",RANDBETWEEN(0,37),RANDBETWEEN(0,36)) -> 12 | C15: =IF(COUNTIF(B$8:B14,B15)=0,"",COUNTIF(B$8:B14,B15)) | D15: =IF($A15="","",IF(AND($B15="",$B14<>"",COUNTIF(D$8:D14,"R")),COUNTIF(D$8:D14,"R")&"R",IF($B15="","",IF(AND($B15=D$7,$C15<>""),"R",IF(D14="R",$A14,IF($B15=D$7,$A15,D14)))))) | E15: =IF($A15="","",IF(AND($B15="",$B14<>"",COUNTIF(E$8:E14,"R")),COUNTIF(E$8:E14,"R")&"R",IF($B15="","",IF(AND($B15=E$7,$C15<>""),"R",IF(E14="R",$A14,IF($B15=E$7,$A15,E14)))))) | F15: =IF($A15="","",IF(AND($B15="",$B14<>"",COUNTIF(F$8:F14,"R")),COUNTIF(F$8:F14,"R")&"R",IF($B15="","",IF(AND($B15=F$7,$C15<>""),"R",IF(F14="R",$A14,IF($B15=F$7,$A15,F14)))))) | G15: =IF($A15="","",IF(AND($B15="",$B14<>"",COUNTIF(G$8:G14,"R")),COUNTIF(G$8:G14,"R")&"R",IF($B15="","",IF(AND($B15=G$7,$C15<>""),"R",IF(G14="R",$A14,IF($B15=G$7,$A15,G14)))))) | H15: =IF($A15="","",IF(AND($B15="",$B14<>"",COUNTIF(H$8:H14,"R")),COUNTIF(H$8:H14,"R")&"R",IF($B15="","",IF(AND($B15=H$7,$C15<>""),"R",IF(H14="R",$A14,IF($B15=H$7,$A15,H14)))))) | I15: =IF($A15="","",IF(AND($B15="",$B14<>"",COUNTIF(I$8:I14,"R")),COUNTIF(I$8:I14,"R")&"R",IF($B15="","",IF(AND($B15=I$7,$C15<>""),"R",IF(I14="R",$A14,IF($B15=I$7,$A15,I14)))))) | J15: =IF($A15="","",IF(AND($B15="",$B14<>"",COUNTIF(J$8:J14,"R")),COUNTIF(J$8:J14,"R")&"R",IF($B15="","",IF(AND($B15=J$7,$C15<>""),"R",IF(J14="R",$A14,IF($B15=J$7,$A15,J14)))))) | K15: =IF($A15="","",IF(AND($B15="",$B14<>"",COUNTIF(K$8:K14,"R")),COUNTIF(K$8:K14,"R")&"R",IF($B15="","",IF(AND($B15=K$7,$C15<>""),"R",IF(K14="R",$A14,IF($B15=K$7,$A15,K14)))))) | ... AO15: =IF($A15="","",IF(AND($B15="",$B14<>"",COUNTIF(AO$8:AO14,"R")),COUNTIF(AO$8:AO14,"R")&"R",IF($B15="","",IF(AND($B15=AO$7,$C15<>""),"R",IF(AO14="R",$A14,IF($B15=AO$7,$A15,AO14))))))
A16: 9 | C16: =IF(COUNTIF(B$8:B15,B16)=0,"",COUNTIF(B$8:B15,B16)) | D16: =IF($A16="","",IF(AND($B16="",$B15<>"",COUNTIF(D$8:D15,"R")),COUNTIF(D$8:D15,"R")&"R",IF($B16="","",IF(AND($B16=D$7,$C16<>""),"R",IF(D15="R",$A15,IF($B16=D$7,$A16,D15)))))) | E16: =IF($A16="","",IF(AND($B16="",$B15<>"",COUNTIF(E$8:E15,"R")),COUNTIF(E$8:E15,"R")&"R",IF($B16="","",IF(AND($B16=E$7,$C16<>""),"R",IF(E15="R",$A15,IF($B16=E$7,$A16,E15)))))) | F16: =IF($A16="","",IF(AND($B16="",$B15<>"",COUNTIF(F$8:F15,"R")),COUNTIF(F$8:F15,"R")&"R",IF($B16="","",IF(AND($B16=F$7,$C16<>""),"R",IF(F15="R",$A15,IF($B16=F$7,$A16,F15)))))) | G16: =IF($A16="","",IF(AND($B16="",$B15<>"",COUNTIF(G$8:G15,"R")),COUNTIF(G$8:G15,"R")&"R",IF($B16="","",IF(AND($B16=G$7,$C16<>""),"R",IF(G15="R",$A15,IF($B16=G$7,$A16,G15)))))) | H16: =IF($A16="","",IF(AND($B16="",$B15<>"",COUNTIF(H$8:H15,"R")),COUNTIF(H$8:H15,"R")&"R",IF($B16="","",IF(AND($B16=H$7,$C16<>""),"R",IF(H15="R",$A15,IF($B16=H$7,$A16,H15)))))) | I16: =IF($A16="","",IF(AND($B16="",$B15<>"",COUNTIF(I$8:I15,"R")),COUNTIF(I$8:I15,"R")&"R",IF($B16="","",IF(AND($B16=I$7,$C16<>""),"R",IF(I15="R",$A15,IF($B16=I$7,$A16,I15)))))) | J16: =IF($A16="","",IF(AND($B16="",$B15<>"",COUNTIF(J$8:J15,"R")),COUNTIF(J$8:J15,"R")&"R",IF($B16="","",IF(AND($B16=J$7,$C16<>""),"R",IF(J15="R",$A15,IF($B16=J$7,$A16,J15)))))) | K16: =IF($A16="","",IF(AND($B16="",$B15<>"",COUNTIF(K$8:K15,"R")),COUNTIF(K$8:K15,"R")&"R",IF($B16="","",IF(AND($B16=K$7,$C16<>""),"R",IF(K15="R",$A15,IF($B16=K$7,$A16,K15)))))) | ... AO16: =IF($A16="","",IF(AND($B16="",$B15<>"",COUNTIF(AO$8:AO15,"R")),COUNTIF(AO$8:AO15,"R")&"R",IF($B16="","",IF(AND($B16=AO$7,$C16<>""),"R",IF(AO15="R",$A15,IF($B16=AO$7,$A16,AO15))))))
A17: 10 | C17: =IF(COUNTIF(B$8:B16,B17)=0,"",COUNTIF(B$8:B16,B17)) | D17: =IF($A17="","",IF(AND($B17="",$B16<>"",COUNTIF(D$8:D16,"R")),COUNTIF(D$8:D16,"R")&"R",IF($B17="","",IF(AND($B17=D$7,$C17<>""),"R",IF(D16="R",$A16,IF($B17=D$7,$A17,D16)))))) | E17: =IF($A17="","",IF(AND($B17="",$B16<>"",COUNTIF(E$8:E16,"R")),COUNTIF(E$8:E16,"R")&"R",IF($B17="","",IF(AND($B17=E$7,$C17<>""),"R",IF(E16="R",$A16,IF($B17=E$7,$A17,E16)))))) | F17: =IF($A17="","",IF(AND($B17="",$B16<>"",COUNTIF(F$8:F16,"R")),COUNTIF(F$8:F16,"R")&"R",IF($B17="","",IF(AND($B17=F$7,$C17<>""),"R",IF(F16="R",$A16,IF($B17=F$7,$A17,F16)))))) | G17: =IF($A17="","",IF(AND($B17="",$B16<>"",COUNTIF(G$8:G16,"R")),COUNTIF(G$8:G16,"R")&"R",IF($B17="","",IF(AND($B17=G$7,$C17<>""),"R",IF(G16="R",$A16,IF($B17=G$7,$A17,G16)))))) | H17: =IF($A17="","",IF(AND($B17="",$B16<>"",COUNTIF(H$8:H16,"R")),COUNTIF(H$8:H16,"R")&"R",IF($B17="","",IF(AND($B17=H$7,$C17<>""),"R",IF(H16="R",$A16,IF($B17=H$7,$A17,H16)))))) | I17: =IF($A17="","",IF(AND($B17="",$B16<>"",COUNTIF(I$8:I16,"R")),COUNTIF(I$8:I16,"R")&"R",IF($B17="","",IF(AND($B17=I$7,$C17<>""),"R",IF(I16="R",$A16,IF($B17=I$7,$A17,I16)))))) | J17: =IF($A17="","",IF(AND($B17="",$B16<>"",COUNTIF(J$8:J16,"R")),COUNTIF(J$8:J16,"R")&"R",IF($B17="","",IF(AND($B17=J$7,$C17<>""),"R",IF(J16="R",$A16,IF($B17=J$7,$A17,J16)))))) | K17: =IF($A17="","",IF(AND($B17="",$B16<>"",COUNTIF(K$8:K16,"R")),COUNTIF(K$8:K16,"R")&"R",IF($B17="","",IF(AND($B17=K$7,$C17<>""),"R",IF(K16="R",$A16,IF($B17=K$7,$A17,K16)))))) | ... AO17: =IF($A17="","",IF(AND($B17="",$B16<>"",COUNTIF(AO$8:AO16,"R")),COUNTIF(AO$8:AO16,"R")&"R",IF($B17="","",IF(AND($B17=AO$7,$C17<>""),"R",IF(AO16="R",$A16,IF($B17=AO$7,$A17,AO16))))))
A18: 11 | C18: =IF(COUNTIF(B$8:B17,B18)=0,"",COUNTIF(B$8:B17,B18)) | D18: =IF($A18="","",IF(AND($B18="",$B17<>"",COUNTIF(D$8:D17,"R")),COUNTIF(D$8:D17,"R")&"R",IF($B18="","",IF(AND($B18=D$7,$C18<>""),"R",IF(D17="R",$A17,IF($B18=D$7,$A18,D17)))))) | E18: =IF($A18="","",IF(AND($B18="",$B17<>"",COUNTIF(E$8:E17,"R")),COUNTIF(E$8:E17,"R")&"R",IF($B18="","",IF(AND($B18=E$7,$C18<>""),"R",IF(E17="R",$A17,IF($B18=E$7,$A18,E17)))))) | F18: =IF($A18="","",IF(AND($B18="",$B17<>"",COUNTIF(F$8:F17,"R")),COUNTIF(F$8:F17,"R")&"R",IF($B18="","",IF(AND($B18=F$7,$C18<>""),"R",IF(F17="R",$A17,IF($B18=F$7,$A18,F17)))))) | G18: =IF($A18="","",IF(AND($B18="",$B17<>"",COUNTIF(G$8:G17,"R")),COUNTIF(G$8:G17,"R")&"R",IF($B18="","",IF(AND($B18=G$7,$C18<>""),"R",IF(G17="R",$A17,IF($B18=G$7,$A18,G17)))))) | H18: =IF($A18="","",IF(AND($B18="",$B17<>"",COUNTIF(H$8:H17,"R")),COUNTIF(H$8:H17,"R")&"R",IF($B18="","",IF(AND($B18=H$7,$C18<>""),"R",IF(H17="R",$A17,IF($B18=H$7,$A18,H17)))))) | I18: =IF($A18="","",IF(AND($B18="",$B17<>"",COUNTIF(I$8:I17,"R")),COUNTIF(I$8:I17,"R")&"R",IF($B18="","",IF(AND($B18=I$7,$C18<>""),"R",IF(I17="R",$A17,IF($B18=I$7,$A18,I17)))))) | J18: =IF($A18="","",IF(AND($B18="",$B17<>"",COUNTIF(J$8:J17,"R")),COUNTIF(J$8:J17,"R")&"R",IF($B18="","",IF(AND($B18=J$7,$C18<>""),"R",IF(J17="R",$A17,IF($B18=J$7,$A18,J17)))))) | K18: =IF($A18="","",IF(AND($B18="",$B17<>"",COUNTIF(K$8:K17,"R")),COUNTIF(K$8:K17,"R")&"R",IF($B18="","",IF(AND($B18=K$7,$C18<>""),"R",IF(K17="R",$A17,IF($B18=K$7,$A18,K17)))))) | ... AO18: =IF($A18="","",IF(AND($B18="",$B17<>"",COUNTIF(AO$8:AO17,"R")),COUNTIF(AO$8:AO17,"R")&"R",IF($B18="","",IF(AND($B18=AO$7,$C18<>""),"R",IF(AO17="R",$A17,IF($B18=AO$7,$A18,AO17))))))
A19: 12 | C19: =IF(COUNTIF(B$8:B18,B19)=0,"",COUNTIF(B$8:B18,B19)) | D19: =IF($A19="","",IF(AND($B19="",$B18<>"",COUNTIF(D$8:D18,"R")),COUNTIF(D$8:D18,"R")&"R",IF($B19="","",IF(AND($B19=D$7,$C19<>""),"R",IF(D18="R",$A18,IF($B19=D$7,$A19,D18)))))) | E19: =IF($A19="","",IF(AND($B19="",$B18<>"",COUNTIF(E$8:E18,"R")),COUNTIF(E$8:E18,"R")&"R",IF($B19="","",IF(AND($B19=E$7,$C19<>""),"R",IF(E18="R",$A18,IF($B19=E$7,$A19,E18)))))) | F19: =IF($A19="","",IF(AND($B19="",$B18<>"",COUNTIF(F$8:F18,"R")),COUNTIF(F$8:F18,"R")&"R",IF($B19="","",IF(AND($B19=F$7,$C19<>""),"R",IF(F18="R",$A18,IF($B19=F$7,$A19,F18)))))) | G19: =IF($A19="","",IF(AND($B19="",$B18<>"",COUNTIF(G$8:G18,"R")),COUNTIF(G$8:G18,"R")&"R",IF($B19="","",IF(AND($B19=G$7,$C19<>""),"R",IF(G18="R",$A18,IF($B19=G$7,$A19,G18)))))) | H19: =IF($A19="","",IF(AND($B19="",$B18<>"",COUNTIF(H$8:H18,"R")),COUNTIF(H$8:H18,"R")&"R",IF($B19="","",IF(AND($B19=H$7,$C19<>""),"R",IF(H18="R",$A18,IF($B19=H$7,$A19,H18)))))) | I19: =IF($A19="","",IF(AND($B19="",$B18<>"",COUNTIF(I$8:I18,"R")),COUNTIF(I$8:I18,"R")&"R",IF($B19="","",IF(AND($B19=I$7,$C19<>""),"R",IF(I18="R",$A18,IF($B19=I$7,$A19,I18)))))) | J19: =IF($A19="","",IF(AND($B19="",$B18<>"",COUNTIF(J$8:J18,"R")),COUNTIF(J$8:J18,"R")&"R",IF($B19="","",IF(AND($B19=J$7,$C19<>""),"R",IF(J18="R",$A18,IF($B19=J$7,$A19,J18)))))) | K19: =IF($A19="","",IF(AND($B19="",$B18<>"",COUNTIF(K$8:K18,"R")),COUNTIF(K$8:K18,"R")&"R",IF($B19="","",IF(AND($B19=K$7,$C19<>""),"R",IF(K18="R",$A18,IF($B19=K$7,$A19,K18)))))) | ... AO19: =IF($A19="","",IF(AND($B19="",$B18<>"",COUNTIF(AO$8:AO18,"R")),COUNTIF(AO$8:AO18,"R")&"R",IF($B19="","",IF(AND($B19=AO$7,$C19<>""),"R",IF(AO18="R",$A18,IF($B19=AO$7,$A19,AO18))))))
A20: 13 | C20: =IF(COUNTIF(B$8:B19,B20)=0,"",COUNTIF(B$8:B19,B20)) | D20: =IF($A20="","",IF(AND($B20="",$B19<>"",COUNTIF(D$8:D19,"R")),COUNTIF(D$8:D19,"R")&"R",IF($B20="","",IF(AND($B20=D$7,$C20<>""),"R",IF(D19="R",$A19,IF($B20=D$7,$A20,D19)))))) | E20: =IF($A20="","",IF(AND($B20="",$B19<>"",COUNTIF(E$8:E19,"R")),COUNTIF(E$8:E19,"R")&"R",IF($B20="","",IF(AND($B20=E$7,$C20<>""),"R",IF(E19="R",$A19,IF($B20=E$7,$A20,E19)))))) | F20: =IF($A20="","",IF(AND($B20="",$B19<>"",COUNTIF(F$8:F19,"R")),COUNTIF(F$8:F19,"R")&"R",IF($B20="","",IF(AND($B20=F$7,$C20<>""),"R",IF(F19="R",$A19,IF($B20=F$7,$A20,F19)))))) | G20: =IF($A20="","",IF(AND($B20="",$B19<>"",COUNTIF(G$8:G19,"R")),COUNTIF(G$8:G19,"R")&"R",IF($B20="","",IF(AND($B20=G$7,$C20<>""),"R",IF(G19="R",$A19,IF($B20=G$7,$A20,G19)))))) | H20: =IF($A20="","",IF(AND($B20="",$B19<>"",COUNTIF(H$8:H19,"R")),COUNTIF(H$8:H19,"R")&"R",IF($B20="","",IF(AND($B20=H$7,$C20<>""),"R",IF(H19="R",$A19,IF($B20=H$7,$A20,H19)))))) | I20: =IF($A20="","",IF(AND($B20="",$B19<>"",COUNTIF(I$8:I19,"R")),COUNTIF(I$8:I19,"R")&"R",IF($B20="","",IF(AND($B20=I$7,$C20<>""),"R",IF(I19="R",$A19,IF($B20=I$7,$A20,I19)))))) | J20: =IF($A20="","",IF(AND($B20="",$B19<>"",COUNTIF(J$8:J19,"R")),COUNTIF(J$8:J19,"R")&"R",IF($B20="","",IF(AND($B20=J$7,$C20<>""),"R",IF(J19="R",$A19,IF($B20=J$7,$A20,J19)))))) | K20: =IF($A20="","",IF(AND($B20="",$B19<>"",COUNTIF(K$8:K19,"R")),COUNTIF(K$8:K19,"R")&"R",IF($B20="","",IF(AND($B20=K$7,$C20<>""),"R",IF(K19="R",$A19,IF($B20=K$7,$A20,K19)))))) | ... AO20: =IF($A20="","",IF(AND($B20="",$B19<>"",COUNTIF(AO$8:AO19,"R")),COUNTIF(AO$8:AO19,"R")&"R",IF($B20="","",IF(AND($B20=AO$7,$C20<>""),"R",IF(AO19="R",$A19,IF($B20=AO$7,$A20,AO19))))))
A21: 14 | C21: =IF(COUNTIF(B$8:B20,B21)=0,"",COUNTIF(B$8:B20,B21)) | D21: =IF($A21="","",IF(AND($B21="",$B20<>"",COUNTIF(D$8:D20,"R")),COUNTIF(D$8:D20,"R")&"R",IF($B21="","",IF(AND($B21=D$7,$C21<>""),"R",IF(D20="R",$A20,IF($B21=D$7,$A21,D20)))))) | E21: =IF($A21="","",IF(AND($B21="",$B20<>"",COUNTIF(E$8:E20,"R")),COUNTIF(E$8:E20,"R")&"R",IF($B21="","",IF(AND($B21=E$7,$C21<>""),"R",IF(E20="R",$A20,IF($B21=E$7,$A21,E20)))))) | F21: =IF($A21="","",IF(AND($B21="",$B20<>"",COUNTIF(F$8:F20,"R")),COUNTIF(F$8:F20,"R")&"R",IF($B21="","",IF(AND($B21=F$7,$C21<>""),"R",IF(F20="R",$A20,IF($B21=F$7,$A21,F20)))))) | G21: =IF($A21="","",IF(AND($B21="",$B20<>"",COUNTIF(G$8:G20,"R")),COUNTIF(G$8:G20,"R")&"R",IF($B21="","",IF(AND($B21=G$7,$C21<>""),"R",IF(G20="R",$A20,IF($B21=G$7,$A21,G20)))))) | H21: =IF($A21="","",IF(AND($B21="",$B20<>"",COUNTIF(H$8:H20,"R")),COUNTIF(H$8:H20,"R")&"R",IF($B21="","",IF(AND($B21=H$7,$C21<>""),"R",IF(H20="R",$A20,IF($B21=H$7,$A21,H20)))))) | I21: =IF($A21="","",IF(AND($B21="",$B20<>"",COUNTIF(I$8:I20,"R")),COUNTIF(I$8:I20,"R")&"R",IF($B21="","",IF(AND($B21=I$7,$C21<>""),"R",IF(I20="R",$A20,IF($B21=I$7,$A21,I20)))))) | J21: =IF($A21="","",IF(AND($B21="",$B20<>"",COUNTIF(J$8:J20,"R")),COUNTIF(J$8:J20,"R")&"R",IF($B21="","",IF(AND($B21=J$7,$C21<>""),"R",IF(J20="R",$A20,IF($B21=J$7,$A21,J20)))))) | K21: =IF($A21="","",IF(AND($B21="",$B20<>"",COUNTIF(K$8:K20,"R")),COUNTIF(K$8:K20,"R")&"R",IF($B21="","",IF(AND($B21=K$7,$C21<>""),"R",IF(K20="R",$A20,IF($B21=K$7,$A21,K20)))))) | ... AO21: =IF($A21="","",IF(AND($B21="",$B20<>"",COUNTIF(AO$8:AO20,"R")),COUNTIF(AO$8:AO20,"R")&"R",IF($B21="","",IF(AND($B21=AO$7,$C21<>""),"R",IF(AO20="R",$A20,IF($B21=AO$7,$A21,AO20))))))
A22: 15 | C22: =IF(COUNTIF(B$8:B21,B22)=0,"",COUNTIF(B$8:B21,B22)) | D22: =IF($A22="","",IF(AND($B22="",$B21<>"",COUNTIF(D$8:D21,"R")),COUNTIF(D$8:D21,"R")&"R",IF($B22="","",IF(AND($B22=D$7,$C22<>""),"R",IF(D21="R",$A21,IF($B22=D$7,$A22,D21)))))) | E22: =IF($A22="","",IF(AND($B22="",$B21<>"",COUNTIF(E$8:E21,"R")),COUNTIF(E$8:E21,"R")&"R",IF($B22="","",IF(AND($B22=E$7,$C22<>""),"R",IF(E21="R",$A21,IF($B22=E$7,$A22,E21)))))) | F22: =IF($A22="","",IF(AND($B22="",$B21<>"",COUNTIF(F$8:F21,"R")),COUNTIF(F$8:F21,"R")&"R",IF($B22="","",IF(AND($B22=F$7,$C22<>""),"R",IF(F21="R",$A21,IF($B22=F$7,$A22,F21)))))) | G22: =IF($A22="","",IF(AND($B22="",$B21<>"",COUNTIF(G$8:G21,"R")),COUNTIF(G$8:G21,"R")&"R",IF($B22="","",IF(AND($B22=G$7,$C22<>""),"R",IF(G21="R",$A21,IF($B22=G$7,$A22,G21)))))) | H22: =IF($A22="","",IF(AND($B22="",$B21<>"",COUNTIF(H$8:H21,"R")),COUNTIF(H$8:H21,"R")&"R",IF($B22="","",IF(AND($B22=H$7,$C22<>""),"R",IF(H21="R",$A21,IF($B22=H$7,$A22,H21)))))) | I22: =IF($A22="","",IF(AND($B22="",$B21<>"",COUNTIF(I$8:I21,"R")),COUNTIF(I$8:I21,"R")&"R",IF($B22="","",IF(AND($B22=I$7,$C22<>""),"R",IF(I21="R",$A21,IF($B22=I$7,$A22,I21)))))) | J22: =IF($A22="","",IF(AND($B22="",$B21<>"",COUNTIF(J$8:J21,"R")),COUNTIF(J$8:J21,"R")&"R",IF($B22="","",IF(AND($B22=J$7,$C22<>""),"R",IF(J21="R",$A21,IF($B22=J$7,$A22,J21)))))) | K22: =IF($A22="","",IF(AND($B22="",$B21<>"",COUNTIF(K$8:K21,"R")),COUNTIF(K$8:K21,"R")&"R",IF($B22="","",IF(AND($B22=K$7,$C22<>""),"R",IF(K21="R",$A21,IF($B22=K$7,$A22,K21)))))) | ... AO22: =IF($A22="","",IF(AND($B22="",$B21<>"",COUNTIF(AO$8:AO21,"R")),COUNTIF(AO$8:AO21,"R")&"R",IF($B22="","",IF(AND($B22=AO$7,$C22<>""),"R",IF(AO21="R",$A21,IF($B22=AO$7,$A22,AO21))))))
A23: 16 | C23: =IF(COUNTIF(B$8:B22,B23)=0,"",COUNTIF(B$8:B22,B23)) | D23: =IF($A23="","",IF(AND($B23="",$B22<>"",COUNTIF(D$8:D22,"R")),COUNTIF(D$8:D22,"R")&"R",IF($B23="","",IF(AND($B23=D$7,$C23<>""),"R",IF(D22="R",$A22,IF($B23=D$7,$A23,D22)))))) | E23: =IF($A23="","",IF(AND($B23="",$B22<>"",COUNTIF(E$8:E22,"R")),COUNTIF(E$8:E22,"R")&"R",IF($B23="","",IF(AND($B23=E$7,$C23<>""),"R",IF(E22="R",$A22,IF($B23=E$7,$A23,E22)))))) | F23: =IF($A23="","",IF(AND($B23="",$B22<>"",COUNTIF(F$8:F22,"R")),COUNTIF(F$8:F22,"R")&"R",IF($B23="","",IF(AND($B23=F$7,$C23<>""),"R",IF(F22="R",$A22,IF($B23=F$7,$A23,F22)))))) | G23: =IF($A23="","",IF(AND($B23="",$B22<>"",COUNTIF(G$8:G22,"R")),COUNTIF(G$8:G22,"R")&"R",IF($B23="","",IF(AND($B23=G$7,$C23<>""),"R",IF(G22="R",$A22,IF($B23=G$7,$A23,G22)))))) | H23: =IF($A23="","",IF(AND($B23="",$B22<>"",COUNTIF(H$8:H22,"R")),COUNTIF(H$8:H22,"R")&"R",IF($B23="","",IF(AND($B23=H$7,$C23<>""),"R",IF(H22="R",$A22,IF($B23=H$7,$A23,H22)))))) | I23: =IF($A23="","",IF(AND($B23="",$B22<>"",COUNTIF(I$8:I22,"R")),COUNTIF(I$8:I22,"R")&"R",IF($B23="","",IF(AND($B23=I$7,$C23<>""),"R",IF(I22="R",$A22,IF($B23=I$7,$A23,I22)))))) | J23: =IF($A23="","",IF(AND($B23="",$B22<>"",COUNTIF(J$8:J22,"R")),COUNTIF(J$8:J22,"R")&"R",IF($B23="","",IF(AND($B23=J$7,$C23<>""),"R",IF(J22="R",$A22,IF($B23=J$7,$A23,J22)))))) | K23: =IF($A23="","",IF(AND($B23="",$B22<>"",COUNTIF(K$8:K22,"R")),COUNTIF(K$8:K22,"R")&"R",IF($B23="","",IF(AND($B23=K$7,$C23<>""),"R",IF(K22="R",$A22,IF($B23=K$7,$A23,K22)))))) | ... AO23: =IF($A23="","",IF(AND($B23="",$B22<>"",COUNTIF(AO$8:AO22,"R")),COUNTIF(AO$8:AO22,"R")&"R",IF($B23="","",IF(AND($B23=AO$7,$C23<>""),"R",IF(AO22="R",$A22,IF($B23=AO$7,$A23,AO22))))))
A24: 17 | C24: =IF(COUNTIF(B$8:B23,B24)=0,"",COUNTIF(B$8:B23,B24)) | D24: =IF($A24="","",IF(AND($B24="",$B23<>"",COUNTIF(D$8:D23,"R")),COUNTIF(D$8:D23,"R")&"R",IF($B24="","",IF(AND($B24=D$7,$C24<>""),"R",IF(D23="R",$A23,IF($B24=D$7,$A24,D23)))))) | E24: =IF($A24="","",IF(AND($B24="",$B23<>"",COUNTIF(E$8:E23,"R")),COUNTIF(E$8:E23,"R")&"R",IF($B24="","",IF(AND($B24=E$7,$C24<>""),"R",IF(E23="R",$A23,IF($B24=E$7,$A24,E23)))))) | F24: =IF($A24="","",IF(AND($B24="",$B23<>"",COUNTIF(F$8:F23,"R")),COUNTIF(F$8:F23,"R")&"R",IF($B24="","",IF(AND($B24=F$7,$C24<>""),"R",IF(F23="R",$A23,IF($B24=F$7,$A24,F23)))))) | G24: =IF($A24="","",IF(AND($B24="",$B23<>"",COUNTIF(G$8:G23,"R")),COUNTIF(G$8:G23,"R")&"R",IF($B24="","",IF(AND($B24=G$7,$C24<>""),"R",IF(G23="R",$A23,IF($B24=G$7,$A24,G23)))))) | H24: =IF($A24="","",IF(AND($B24="",$B23<>"",COUNTIF(H$8:H23,"R")),COUNTIF(H$8:H23,"R")&"R",IF($B24="","",IF(AND($B24=H$7,$C24<>""),"R",IF(H23="R",$A23,IF($B24=H$7,$A24,H23)))))) | I24: =IF($A24="","",IF(AND($B24="",$B23<>"",COUNTIF(I$8:I23,"R")),COUNTIF(I$8:I23,"R")&"R",IF($B24="","",IF(AND($B24=I$7,$C24<>""),"R",IF(I23="R",$A23,IF($B24=I$7,$A24,I23)))))) | J24: =IF($A24="","",IF(AND($B24="",$B23<>"",COUNTIF(J$8:J23,"R")),COUNTIF(J$8:J23,"R")&"R",IF($B24="","",IF(AND($B24=J$7,$C24<>""),"R",IF(J23="R",$A23,IF($B24=J$7,$A24,J23)))))) | K24: =IF($A24="","",IF(AND($B24="",$B23<>"",COUNTIF(K$8:K23,"R")),COUNTIF(K$8:K23,"R")&"R",IF($B24="","",IF(AND($B24=K$7,$C24<>""),"R",IF(K23="R",$A23,IF($B24=K$7,$A24,K23)))))) | ... AO24: =IF($A24="","",IF(AND($B24="",$B23<>"",COUNTIF(AO$8:AO23,"R")),COUNTIF(AO$8:AO23,"R")&"R",IF($B24="","",IF(AND($B24=AO$7,$C24<>""),"R",IF(AO23="R",$A23,IF($B24=AO$7,$A24,AO23))))))
A25: 18 | C25: =IF(COUNTIF(B$8:B24,B25)=0,"",COUNTIF(B$8:B24,B25)) | D25: =IF($A25="","",IF(AND($B25="",$B24<>"",COUNTIF(D$8:D24,"R")),COUNTIF(D$8:D24,"R")&"R",IF($B25="","",IF(AND($B25=D$7,$C25<>""),"R",IF(D24="R",$A24,IF($B25=D$7,$A25,D24)))))) | E25: =IF($A25="","",IF(AND($B25="",$B24<>"",COUNTIF(E$8:E24,"R")),COUNTIF(E$8:E24,"R")&"R",IF($B25="","",IF(AND($B25=E$7,$C25<>""),"R",IF(E24="R",$A24,IF($B25=E$7,$A25,E24)))))) | F25: =IF($A25="","",IF(AND($B25="",$B24<>"",COUNTIF(F$8:F24,"R")),COUNTIF(F$8:F24,"R")&"R",IF($B25="","",IF(AND($B25=F$7,$C25<>""),"R",IF(F24="R",$A24,IF($B25=F$7,$A25,F24)))))) | G25: =IF($A25="","",IF(AND($B25="",$B24<>"",COUNTIF(G$8:G24,"R")),COUNTIF(G$8:G24,"R")&"R",IF($B25="","",IF(AND($B25=G$7,$C25<>""),"R",IF(G24="R",$A24,IF($B25=G$7,$A25,G24)))))) | H25: =IF($A25="","",IF(AND($B25="",$B24<>"",COUNTIF(H$8:H24,"R")),COUNTIF(H$8:H24,"R")&"R",IF($B25="","",IF(AND($B25=H$7,$C25<>""),"R",IF(H24="R",$A24,IF($B25=H$7,$A25,H24)))))) | I25: =IF($A25="","",IF(AND($B25="",$B24<>"",COUNTIF(I$8:I24,"R")),COUNTIF(I$8:I24,"R")&"R",IF($B25="","",IF(AND($B25=I$7,$C25<>""),"R",IF(I24="R",$A24,IF($B25=I$7,$A25,I24)))))) | J25: =IF($A25="","",IF(AND($B25="",$B24<>"",COUNTIF(J$8:J24,"R")),COUNTIF(J$8:J24,"R")&"R",IF($B25="","",IF(AND($B25=J$7,$C25<>""),"R",IF(J24="R",$A24,IF($B25=J$7,$A25,J24)))))) | K25: =IF($A25="","",IF(AND($B25="",$B24<>"",COUNTIF(K$8:K24,"R")),COUNTIF(K$8:K24,"R")&"R",IF($B25="","",IF(AND($B25=K$7,$C25<>""),"R",IF(K24="R",$A24,IF($B25=K$7,$A25,K24)))))) | ... AO25: =IF($A25="","",IF(AND($B25="",$B24<>"",COUNTIF(AO$8:AO24,"R")),COUNTIF(AO$8:AO24,"R")&"R",IF($B25="","",IF(AND($B25=AO$7,$C25<>""),"R",IF(AO24="R",$A24,IF($B25=AO$7,$A25,AO24))))))
A26: 19 | C26: =IF(COUNTIF(B$8:B25,B26)=0,"",COUNTIF(B$8:B25,B26)) | D26: =IF($A26="","",IF(AND($B26="",$B25<>"",COUNTIF(D$8:D25,"R")),COUNTIF(D$8:D25,"R")&"R",IF($B26="","",IF(AND($B26=D$7,$C26<>""),"R",IF(D25="R",$A25,IF($B26=D$7,$A26,D25)))))) | E26: =IF($A26="","",IF(AND($B26="",$B25<>"",COUNTIF(E$8:E25,"R")),COUNTIF(E$8:E25,"R")&"R",IF($B26="","",IF(AND($B26=E$7,$C26<>""),"R",IF(E25="R",$A25,IF($B26=E$7,$A26,E25)))))) | F26: =IF($A26="","",IF(AND($B26="",$B25<>"",COUNTIF(F$8:F25,"R")),COUNTIF(F$8:F25,"R")&"R",IF($B26="","",IF(AND($B26=F$7,$C26<>""),"R",IF(F25="R",$A25,IF($B26=F$7,$A26,F25)))))) | G26: =IF($A26="","",IF(AND($B26="",$B25<>"",COUNTIF(G$8:G25,"R")),COUNTIF(G$8:G25,"R")&"R",IF($B26="","",IF(AND($B26=G$7,$C26<>""),"R",IF(G25="R",$A25,IF($B26=G$7,$A26,G25)))))) | H26: =IF($A26="","",IF(AND($B26="",$B25<>"",COUNTIF(H$8:H25,"R")),COUNTIF(H$8:H25,"R")&"R",IF($B26="","",IF(AND($B26=H$7,$C26<>""),"R",IF(H25="R",$A25,IF($B26=H$7,$A26,H25)))))) | I26: =IF($A26="","",IF(AND($B26="",$B25<>"",COUNTIF(I$8:I25,"R")),COUNTIF(I$8:I25,"R")&"R",IF($B26="","",IF(AND($B26=I$7,$C26<>""),"R",IF(I25="R",$A25,IF($B26=I$7,$A26,I25)))))) | J26: =IF($A26="","",IF(AND($B26="",$B25<>"",COUNTIF(J$8:J25,"R")),COUNTIF(J$8:J25,"R")&"R",IF($B26="","",IF(AND($B26=J$7,$C26<>""),"R",IF(J25="R",$A25,IF($B26=J$7,$A26,J25)))))) | K26: =IF($A26="","",IF(AND($B26="",$B25<>"",COUNTIF(K$8:K25,"R")),COUNTIF(K$8:K25,"R")&"R",IF($B26="","",IF(AND($B26=K$7,$C26<>""),"R",IF(K25="R",$A25,IF($B26=K$7,$A26,K25)))))) | ... AO26: =IF($A26="","",IF(AND($B26="",$B25<>"",COUNTIF(AO$8:AO25,"R")),COUNTIF(AO$8:AO25,"R")&"R",IF($B26="","",IF(AND($B26=AO$7,$C26<>""),"R",IF(AO25="R",$A25,IF($B26=AO$7,$A26,AO25))))))
A27: 20 | C27: =IF(COUNTIF(B$8:B26,B27)=0,"",COUNTIF(B$8:B26,B27)) | D27: =IF($A27="","",IF(AND($B27="",$B26<>"",COUNTIF(D$8:D26,"R")),COUNTIF(D$8:D26,"R")&"R",IF($B27="","",IF(AND($B27=D$7,$C27<>""),"R",IF(D26="R",$A26,IF($B27=D$7,$A27,D26)))))) | E27: =IF($A27="","",IF(AND($B27="",$B26<>"",COUNTIF(E$8:E26,"R")),COUNTIF(E$8:E26,"R")&"R",IF($B27="","",IF(AND($B27=E$7,$C27<>""),"R",IF(E26="R",$A26,IF($B27=E$7,$A27,E26)))))) | F27: =IF($A27="","",IF(AND($B27="",$B26<>"",COUNTIF(F$8:F26,"R")),COUNTIF(F$8:F26,"R")&"R",IF($B27="","",IF(AND($B27=F$7,$C27<>""),"R",IF(F26="R",$A26,IF($B27=F$7,$A27,F26)))))) | G27: =IF($A27="","",IF(AND($B27="",$B26<>"",COUNTIF(G$8:G26,"R")),COUNTIF(G$8:G26,"R")&"R",IF($B27="","",IF(AND($B27=G$7,$C27<>""),"R",IF(G26="R",$A26,IF($B27=G$7,$A27,G26)))))) | H27: =IF($A27="","",IF(AND($B27="",$B26<>"",COUNTIF(H$8:H26,"R")),COUNTIF(H$8:H26,"R")&"R",IF($B27="","",IF(AND($B27=H$7,$C27<>""),"R",IF(H26="R",$A26,IF($B27=H$7,$A27,H26)))))) | I27: =IF($A27="","",IF(AND($B27="",$B26<>"",COUNTIF(I$8:I26,"R")),COUNTIF(I$8:I26,"R")&"R",IF($B27="","",IF(AND($B27=I$7,$C27<>""),"R",IF(I26="R",$A26,IF($B27=I$7,$A27,I26)))))) | J27: =IF($A27="","",IF(AND($B27="",$B26<>"",COUNTIF(J$8:J26,"R")),COUNTIF(J$8:J26,"R")&"R",IF($B27="","",IF(AND($B27=J$7,$C27<>""),"R",IF(J26="R",$A26,IF($B27=J$7,$A27,J26)))))) | K27: =IF($A27="","",IF(AND($B27="",$B26<>"",COUNTIF(K$8:K26,"R")),COUNTIF(K$8:K26,"R")&"R",IF($B27="","",IF(AND($B27=K$7,$C27<>""),"R",IF(K26="R",$A26,IF($B27=K$7,$A27,K26)))))) | ... AO27: =IF($A27="","",IF(AND($B27="",$B26<>"",COUNTIF(AO$8:AO26,"R")),COUNTIF(AO$8:AO26,"R")&"R",IF($B27="","",IF(AND($B27=AO$7,$C27<>""),"R",IF(AO26="R",$A26,IF($B27=AO$7,$A27,AO26))))))
... A257: 250 | C257: =IF(COUNTIF(B$8:B256,B257)=0,"",COUNTIF(B$8:B256,B257)) | D257: =IF($A257="","",IF(AND($B257="",$B256<>"",COUNTIF(D$8:D256,"R")),COUNTIF(D$8:D256,"R")&"R",IF($B257="","",IF(AND($B257=D$7,$C257<>""),"R",IF(D256="R",$A256,IF($B257=D$7,$A257,D256)))))) | E257: =IF($A257="","",IF(AND($B257="",$B256<>"",COUNTIF(E$8:E256,"R")),COUNTIF(E$8:E256,"R")&"R",IF($B257="","",IF(AND($B257=E$7,$C257<>""),"R",IF(E256="R",$A256,IF($B257=E$7,$A257,E256)))))) | F257: =IF($A257="","",IF(AND($B257="",$B256<>"",COUNTIF(F$8:F256,"R")),COUNTIF(F$8:F256,"R")&"R",IF($B257="","",IF(AND($B257=F$7,$C257<>""),"R",IF(F256="R",$A256,IF($B257=F$7,$A257,F256)))))) | G257: =IF($A257="","",IF(AND($B257="",$B256<>"",COUNTIF(G$8:G256,"R")),COUNTIF(G$8:G256,"R")&"R",IF($B257="","",IF(AND($B257=G$7,$C257<>""),"R",IF(G256="R",$A256,IF($B257=G$7,$A257,G256)))))) | H257: =IF($A257="","",IF(AND($B257="",$B256<>"",COUNTIF(H$8:H256,"R")),COUNTIF(H$8:H256,"R")&"R",IF($B257="","",IF(AND($B257=H$7,$C257<>""),"R",IF(H256="R",$A256,IF($B257=H$7,$A257,H256)))))) | I257: =IF($A257="","",IF(AND($B257="",$B256<>"",COUNTIF(I$8:I256,"R")),COUNTIF(I$8:I256,"R")&"R",IF($B257="","",IF(AND($B257=I$7,$C257<>""),"R",IF(I256="R",$A256,IF($B257=I$7,$A257,I256)))))) | J257: =IF($A257="","",IF(AND($B257="",$B256<>"",COUNTIF(J$8:J256,"R")),COUNTIF(J$8:J256,"R")&"R",IF($B257="","",IF(AND($B257=J$7,$C257<>""),"R",IF(J256="R",$A256,IF($B257=J$7,$A257,J256)))))) | K257: =IF($A257="","",IF(AND($B257="",$B256<>"",COUNTIF(K$8:K256,"R")),COUNTIF(K$8:K256,"R")&"R",IF($B257="","",IF(AND($B257=K$7,$C257<>""),"R",IF(K256="R",$A256,IF($B257=K$7,$A257,K256)))))) | ... AO257: =IF($A257="","",IF(AND($B257="",$B256<>"",COUNTIF(AO$8:AO256,"R")),COUNTIF(AO$8:AO256,"R")&"R",IF($B257="","",IF(AND($B257=AO$7,$C257<>""),"R",IF(AO256="R",$A256,IF($B257=AO$7,$A257,AO256))))))

Sheet Tracker-Rolling spins
Q2: Layout | T2: Rolling spin
Q3: Board | T3: 37
E5: =Q3 -> Board
E6: 0 | F6: 1 | G6: 2 | H6: 3 | I6: 4 | J6: 5 | K6: 6 | L6: 7 | M6: 8 | N6: 9 | O6: 10 | P6: 11 | Q6: 12 | R6: 13 | S6: 14 | T6: 15 | U6: 16 | V6: 17 | W6: 18 | X6: 19 | Y6: 20 | Z6: 21 | AA6: 22 | AB6: 23 | AC6: 24 | AD6: 25 | AE6: 26 | AF6: 27 | AG6: 28 | AH6: 29 | AI6: 30 | AJ6: 31 | AK6: 32 | AL6: 33 | AM6: 34 | AN6: 35 | AO6: 36 | AP6: 37
A7: Spin | B7: Nr | D7: Rep | E7: =IF($Q3="Board",E6,IF($Q3="European",LOOKUP(E6,Layout!$A:$A,Layout!$B:$B),IF($Q3="American",LOOKUP(E6,Layout!$A:$A,Layout!$D:$D)))) -> 0 | F7: =IF($Q3="Board",F6,IF($Q3="European",LOOKUP(F6,Layout!$A:$A,Layout!$B:$B),IF($Q3="American",LOOKUP(F6,Layout!$A:$A,Layout!$D:$D)))) -> 1 | G7: =IF($Q3="Board",G6,IF($Q3="European",LOOKUP(G6,Layout!$A:$A,Layout!$B:$B),IF($Q3="American",LOOKUP(G6,Layout!$A:$A,Layout!$D:$D)))) -> 2 | H7: =IF($Q3="Board",H6,IF($Q3="European",LOOKUP(H6,Layout!$A:$A,Layout!$B:$B),IF($Q3="American",LOOKUP(H6,Layout!$A:$A,Layout!$D:$D)))) -> 3 | I7: =IF($Q3="Board",I6,IF($Q3="European",LOOKUP(I6,Layout!$A:$A,Layout!$B:$B),IF($Q3="American",LOOKUP(I6,Layout!$A:$A,Layout!$D:$D)))) -> 4 | J7: =IF($Q3="Board",J6,IF($Q3="European",LOOKUP(J6,Layout!$A:$A,Layout!$B:$B),IF($Q3="American",LOOKUP(J6,Layout!$A:$A,Layout!$D:$D)))) -> 5 | K7: =IF($Q3="Board",K6,IF($Q3="European",LOOKUP(K6,Layout!$A:$A,Layout!$B:$B),IF($Q3="American",LOOKUP(K6,Layout!$A:$A,Layout!$D:$D)))) -> 6 | L7: =IF($Q3="Board",L6,IF($Q3="European",LOOKUP(L6,Layout!$A:$A,Layout!$B:$B),IF($Q3="American",LOOKUP(L6,Layout!$A:$A,Layout!$D:$D)))) -> 7 | ... AO7: =IF($Q3="Board",AO6,IF($Q3="European",LOOKUP(AO6,Layout!$A:$A,Layout!$B:$B),IF($Q3="American",LOOKUP(AO6,Layout!$A:$A,Layout!$D:$D)))) -> 36 | AP7: =IF($Q3="Board","",IF($Q3="European","",IF($Q3="American",LOOKUP(AP6,Layout!$A:$A,Layout!$D:$D))))
A8: 1 | B8: =IF(Q$3="American",RANDBETWEEN(0,37),RANDBETWEEN(0,36)) -> 3 | C8: =IF(A8<T$3,A8,T$3) -> 1 | E8: =IF($B8="","",IF($B8=E$7,$A8,"")) | F8: =IF($B8="","",IF($B8=F$7,$A8,"")) | G8: =IF($B8="","",IF($B8=G$7,$A8,"")) | H8: =IF($B8="","",IF($B8=H$7,$A8,"")) -> 1 | I8: =IF($B8="","",IF($B8=I$7,$A8,"")) | J8: =IF($B8="","",IF($B8=J$7,$A8,"")) | K8: =IF($B8="","",IF($B8=K$7,$A8,"")) | L8: =IF($B8="","",IF($B8=L$7,$A8,"")) | ... AP8: =IF($B8="","",IF($B8=AP$7,$A8,""))
A9: 2 | B9: =IF(Q$3="American",RANDBETWEEN(0,37),RANDBETWEEN(0,36)) -> 29 | C9: =IF(A9<T$3,A9,T$3) -> 2 | D9: =IF(COUNTIF(B$8:B8,B9)=0,"",COUNTIF(B$8:B8,B9)) | E9: =IF($A9="","",IF(AND(E8<>"",$C9=$T$3,COUNTIF(OFFSET($E8,-($C8-1),0,1,1):E8,E8)=$T$3),"",IF(AND($B9="",$B8<>"",COUNTIF(E$8:E8,"R")),COUNTIF(E$8:E8,"R")&"R",IF($B9="","",IF(AND($B9=E$7,E8<>"",COUNTIF(OFFSET($B8,-($C8-1),0,1,1):$B8,E$7)>0),"R",IF(E8="R",$A8,IF($B9=E$7,$A9,E8))))))) | F9: =IF($A9="","",IF(AND(F8<>"",$C9=$T$3,COUNTIF(OFFSET($E8,-($C8-1),0,1,1):F8,F8)=$T$3),"",IF(AND($B9="",$B8<>"",COUNTIF(F$8:F8,"R")),COUNTIF(F$8:F8,"R")&"R",IF($B9="","",IF(AND($B9=F$7,F8<>"",COUNTIF(OFFSET($B8,-($C8-1),0,1,1):$B8,F$7)>0),"R",IF(F8="R",$A8,IF($B9=F$7,$A9,F8))))))) | G9: =IF($A9="","",IF(AND(G8<>"",$C9=$T$3,COUNTIF(OFFSET($E8,-($C8-1),0,1,1):G8,G8)=$T$3),"",IF(AND($B9="",$B8<>"",COUNTIF(G$8:G8,"R")),COUNTIF(G$8:G8,"R")&"R",IF($B9="","",IF(AND($B9=G$7,G8<>"",COUNTIF(OFFSET($B8,-($C8-1),0,1,1):$B8,G$7)>0),"R",IF(G8="R",$A8,IF($B9=G$7,$A9,G8))))))) | H9: =IF($A9="","",IF(AND(H8<>"",$C9=$T$3,COUNTIF(OFFSET($E8,-($C8-1),0,1,1):H8,H8)=$T$3),"",IF(AND($B9="",$B8<>"",COUNTIF(H$8:H8,"R")),COUNTIF(H$8:H8,"R")&"R",IF($B9="","",IF(AND($B9=H$7,H8<>"",COUNTIF(OFFSET($B8,-($C8-1),0,1,1):$B8,H$7)>0),"R",IF(H8="R",$A8,IF($B9=H$7,$A9,H8))))))) -> 1 | I9: =IF($A9="","",IF(AND(I8<>"",$C9=$T$3,COUNTIF(OFFSET($E8,-($C8-1),0,1,1):I8,I8)=$T$3),"",IF(AND($B9="",$B8<>"",COUNTIF(I$8:I8,"R")),COUNTIF(I$8:I8,"R")&"R",IF($B9="","",IF(AND($B9=I$7,I8<>"",COUNTIF(OFFSET($B8,-($C8-1),0,1,1):$B8,I$7)>0),"R",IF(I8="R",$A8,IF($B9=I$7,$A9,I8))))))) | J9: =IF($A9="","",IF(AND(J8<>"",$C9=$T$3,COUNTIF(OFFSET($E8,-($C8-1),0,1,1):J8,J8)=$T$3),"",IF(AND($B9="",$B8<>"",COUNTIF(J$8:J8,"R")),COUNTIF(J$8:J8,"R")&"R",IF($B9="","",IF(AND($B9=J$7,J8<>"",COUNTIF(OFFSET($B8,-($C8-1),0,1,1):$B8,J$7)>0),"R",IF(J8="R",$A8,IF($B9=J$7,$A9,J8))))))) | K9: =IF($A9="","",IF(AND(K8<>"",$C9=$T$3,COUNTIF(OFFSET($E8,-($C8-1),0,1,1):K8,K8)=$T$3),"",IF(AND($B9="",$B8<>"",COUNTIF(K$8:K8,"R")),COUNTIF(K$8:K8,"R")&"R",IF($B9="","",IF(AND($B9=K$7,K8<>"",COUNTIF(OFFSET($B8,-($C8-1),0,1,1):$B8,K$7)>0),"R",IF(K8="R",$A8,IF($B9=K$7,$A9,K8))))))) | L9: =IF($A9="","",IF(AND(L8<>"",$C9=$T$3,COUNTIF(OFFSET($E8,-($C8-1),0,1,1):L8,L8)=$T$3),"",IF(AND($B9="",$B8<>"",COUNTIF(L$8:L8,"R")),COUNTIF(L$8:L8,"R")&"R",IF($B9="","",IF(AND($B9=L$7,L8<>"",COUNTIF(OFFSET($B8,-($C8-1),0,1,1):$B8,L$7)>0),"R",IF(L8="R",$A8,IF($B9=L$7,$A9,L8))))))) | ... AP9: =IF($A9="","",IF(AND(AP8<>"",$C9=$T$3,COUNTIF(OFFSET($E8,-($C8-1),0,1,1):AP8,AP8)=$T$3),"",IF(AND($B9="",$B8<>"",COUNTIF(AP$8:AP8,"R")),COUNTIF(AP$8:AP8,"R")&"R",IF($B9="","",IF(AND($B9=AP$7,AP8<>"",COUNTIF(OFFSET($B8,-($C8-1),0,1,1):$B8,AP$7)>0),"R",IF(AP8="R",$A8,IF($B9=AP$7,$A9,AP8)))))))
A10: 3 | B10: =IF(Q$3="American",RANDBETWEEN(0,37),RANDBETWEEN(0,36)) -> 22 | C10: =IF(A10<T$3,A10,T$3) -> 3 | D10: =IF(COUNTIF(B$8:B9,B10)=0,"",COUNTIF(B$8:B9,B10)) | E10: =IF($A10="","",IF(AND(E9<>"",$C10=$T$3,COUNTIF(OFFSET($E9,-($C9-1),0,1,1):E9,E9)=$T$3),"",IF(AND($B10="",$B9<>"",COUNTIF(E$8:E9,"R")),COUNTIF(E$8:E9,"R")&"R",IF($B10="","",IF(AND($B10=E$7,E9<>"",COUNTIF(OFFSET($B9,-($C9-1),0,1,1):$B9,E$7)>0),"R",IF(E9="R",$A9,IF($B10=E$7,$A10,E9))))))) | F10: =IF($A10="","",IF(AND(F9<>"",$C10=$T$3,COUNTIF(OFFSET($E9,-($C9-1),0,1,1):F9,F9)=$T$3),"",IF(AND($B10="",$B9<>"",COUNTIF(F$8:F9,"R")),COUNTIF(F$8:F9,"R")&"R",IF($B10="","",IF(AND($B10=F$7,F9<>"",COUNTIF(OFFSET($B9,-($C9-1),0,1,1):$B9,F$7)>0),"R",IF(F9="R",$A9,IF($B10=F$7,$A10,F9))))))) | G10: =IF($A10="","",IF(AND(G9<>"",$C10=$T$3,COUNTIF(OFFSET($E9,-($C9-1),0,1,1):G9,G9)=$T$3),"",IF(AND($B10="",$B9<>"",COUNTIF(G$8:G9,"R")),COUNTIF(G$8:G9,"R")&"R",IF($B10="","",IF(AND($B10=G$7,G9<>"",COUNTIF(OFFSET($B9,-($C9-1),0,1,1):$B9,G$7)>0),"R",IF(G9="R",$A9,IF($B10=G$7,$A10,G9))))))) | H10: =IF($A10="","",IF(AND(H9<>"",$C10=$T$3,COUNTIF(OFFSET($E9,-($C9-1),0,1,1):H9,H9)=$T$3),"",IF(AND($B10="",$B9<>"",COUNTIF(H$8:H9,"R")),COUNTIF(H$8:H9,"R")&"R",IF($B10="","",IF(AND($B10=H$7,H9<>"",COUNTIF(OFFSET($B9,-($C9-1),0,1,1):$B9,H$7)>0),"R",IF(H9="R",$A9,IF($B10=H$7,$A10,H9))))))) -> 1 | I10: =IF($A10="","",IF(AND(I9<>"",$C10=$T$3,COUNTIF(OFFSET($E9,-($C9-1),0,1,1):I9,I9)=$T$3),"",IF(AND($B10="",$B9<>"",COUNTIF(I$8:I9,"R")),COUNTIF(I$8:I9,"R")&"R",IF($B10="","",IF(AND($B10=I$7,I9<>"",COUNTIF(OFFSET($B9,-($C9-1),0,1,1):$B9,I$7)>0),"R",IF(I9="R",$A9,IF($B10=I$7,$A10,I9))))))) | J10: =IF($A10="","",IF(AND(J9<>"",$C10=$T$3,COUNTIF(OFFSET($E9,-($C9-1),0,1,1):J9,J9)=$T$3),"",IF(AND($B10="",$B9<>"",COUNTIF(J$8:J9,"R")),COUNTIF(J$8:J9,"R")&"R",IF($B10="","",IF(AND($B10=J$7,J9<>"",COUNTIF(OFFSET($B9,-($C9-1),0,1,1):$B9,J$7)>0),"R",IF(J9="R",$A9,IF($B10=J$7,$A10,J9))))))) | K10: =IF($A10="","",IF(AND(K9<>"",$C10=$T$3,COUNTIF(OFFSET($E9,-($C9-1),0,1,1):K9,K9)=$T$3),"",IF(AND($B10="",$B9<>"",COUNTIF(K$8:K9,"R")),COUNTIF(K$8:K9,"R")&"R",IF($B10="","",IF(AND($B10=K$7,K9<>"",COUNTIF(OFFSET($B9,-($C9-1),0,1,1):$B9,K$7)>0),"R",IF(K9="R",$A9,IF($B10=K$7,$A10,K9))))))) | L10: =IF($A10="","",IF(AND(L9<>"",$C10=$T$3,COUNTIF(OFFSET($E9,-($C9-1),0,1,1):L9,L9)=$T$3),"",IF(AND($B10="",$B9<>"",COUNTIF(L$8:L9,"R")),COUNTIF(L$8:L9,"R")&"R",IF($B10="","",IF(AND($B10=L$7,L9<>"",COUNTIF(OFFSET($B9,-($C9-1),0,1,1):$B9,L$7)>0),"R",IF(L9="R",$A9,IF($B10=L$7,$A10,L9))))))) | ... AP10: =IF($A10="","",IF(AND(AP9<>"",$C10=$T$3,COUNTIF(OFFSET($E9,-($C9-1),0,1,1):AP9,AP9)=$T$3),"",IF(AND($B10="",$B9<>"",COUNTIF(AP$8:AP9,"R")),COUNTIF(AP$8:AP9,"R")&"R",IF($B10="","",IF(AND($B10=AP$7,AP9<>"",COUNTIF(OFFSET($B9,-($C9-1),0,1,1):$B9,AP$7)>0),"R",IF(AP9="R",$A9,IF($B10=AP$7,$A10,AP9)))))))
A11: 4 | B11: =IF(Q$3="American",RANDBETWEEN(0,37),RANDBETWEEN(0,36)) -> 6 | C11: =IF(A11<T$3,A11,T$3) -> 4 | D11: =IF(COUNTIF(B$8:B10,B11)=0,"",COUNTIF(B$8:B10,B11)) | E11: =IF($A11="","",IF(AND(E10<>"",$C11=$T$3,COUNTIF(OFFSET($E10,-($C10-1),0,1,1):E10,E10)=$T$3),"",IF(AND($B11="",$B10<>"",COUNTIF(E$8:E10,"R")),COUNTIF(E$8:E10,"R")&"R",IF($B11="","",IF(AND($B11=E$7,E10<>"",COUNTIF(OFFSET($B10,-($C10-1),0,1,1):$B10,E$7)>0),"R",IF(E10="R",$A10,IF($B11=E$7,$A11,E10))))))) | F11: =IF($A11="","",IF(AND(F10<>"",$C11=$T$3,COUNTIF(OFFSET($E10,-($C10-1),0,1,1):F10,F10)=$T$3),"",IF(AND($B11="",$B10<>"",COUNTIF(F$8:F10,"R")),COUNTIF(F$8:F10,"R")&"R",IF($B11="","",IF(AND($B11=F$7,F10<>"",COUNTIF(OFFSET($B10,-($C10-1),0,1,1):$B10,F$7)>0),"R",IF(F10="R",$A10,IF($B11=F$7,$A11,F10))))))) | G11: =IF($A11="","",IF(AND(G10<>"",$C11=$T$3,COUNTIF(OFFSET($E10,-($C10-1),0,1,1):G10,G10)=$T$3),"",IF(AND($B11="",$B10<>"",COUNTIF(G$8:G10,"R")),COUNTIF(G$8:G10,"R")&"R",IF($B11="","",IF(AND($B11=G$7,G10<>"",COUNTIF(OFFSET($B10,-($C10-1),0,1,1):$B10,G$7)>0),"R",IF(G10="R",$A10,IF($B11=G$7,$A11,G10))))))) | H11: =IF($A11="","",IF(AND(H10<>"",$C11=$T$3,COUNTIF(OFFSET($E10,-($C10-1),0,1,1):H10,H10)=$T$3),"",IF(AND($B11="",$B10<>"",COUNTIF(H$8:H10,"R")),COUNTIF(H$8:H10,"R")&"R",IF($B11="","",IF(AND($B11=H$7,H10<>"",COUNTIF(OFFSET($B10,-($C10-1),0,1,1):$B10,H$7)>0),"R",IF(H10="R",$A10,IF($B11=H$7,$A11,H10))))))) -> 1 | I11: =IF($A11="","",IF(AND(I10<>"",$C11=$T$3,COUNTIF(OFFSET($E10,-($C10-1),0,1,1):I10,I10)=$T$3),"",IF(AND($B11="",$B10<>"",COUNTIF(I$8:I10,"R")),COUNTIF(I$8:I10,"R")&"R",IF($B11="","",IF(AND($B11=I$7,I10<>"",COUNTIF(OFFSET($B10,-($C10-1),0,1,1):$B10,I$7)>0),"R",IF(I10="R",$A10,IF($B11=I$7,$A11,I10))))))) | J11: =IF($A11="","",IF(AND(J10<>"",$C11=$T$3,COUNTIF(OFFSET($E10,-($C10-1),0,1,1):J10,J10)=$T$3),"",IF(AND($B11="",$B10<>"",COUNTIF(J$8:J10,"R")),COUNTIF(J$8:J10,"R")&"R",IF($B11="","",IF(AND($B11=J$7,J10<>"",COUNTIF(OFFSET($B10,-($C10-1),0,1,1):$B10,J$7)>0),"R",IF(J10="R",$A10,IF($B11=J$7,$A11,J10))))))) | K11: =IF($A11="","",IF(AND(K10<>"",$C11=$T$3,COUNTIF(OFFSET($E10,-($C10-1),0,1,1):K10,K10)=$T$3),"",IF(AND($B11="",$B10<>"",COUNTIF(K$8:K10,"R")),COUNTIF(K$8:K10,"R")&"R",IF($B11="","",IF(AND($B11=K$7,K10<>"",COUNTIF(OFFSET($B10,-($C10-1),0,1,1):$B10,K$7)>0),"R",IF(K10="R",$A10,IF($B11=K$7,$A11,K10))))))) -> 4 | L11: =IF($A11="","",IF(AND(L10<>"",$C11=$T$3,COUNTIF(OFFSET($E10,-($C10-1),0,1,1):L10,L10)=$T$3),"",IF(AND($B11="",$B10<>"",COUNTIF(L$8:L10,"R")),COUNTIF(L$8:L10,"R")&"R",IF($B11="","",IF(AND($B11=L$7,L10<>"",COUNTIF(OFFSET($B10,-($C10-1),0,1,1):$B10,L$7)>0),"R",IF(L10="R",$A10,IF($B11=L$7,$A11,L10))))))) | ... AP11: =IF($A11="","",IF(AND(AP10<>"",$C11=$T$3,COUNTIF(OFFSET($E10,-($C10-1),0,1,1):AP10,AP10)=$T$3),"",IF(AND($B11="",$B10<>"",COUNTIF(AP$8:AP10,"R")),COUNTIF(AP$8:AP10,"R")&"R",IF($B11="","",IF(AND($B11=AP$7,AP10<>"",COUNTIF(OFFSET($B10,-($C10-1),0,1,1):$B10,AP$7)>0),"R",IF(AP10="R",$A10,IF($B11=AP$7,$A11,AP10)))))))
A12: 5 | B12: =IF(Q$3="American",RANDBETWEEN(0,37),RANDBETWEEN(0,36)) -> 31 | C12: =IF(A12<T$3,A12,T$3) -> 5 | D12: =IF(COUNTIF(B$8:B11,B12)=0,"",COUNTIF(B$8:B11,B12)) | E12: =IF($A12="","",IF(AND(E11<>"",$C12=$T$3,COUNTIF(OFFSET($E11,-($C11-1),0,1,1):E11,E11)=$T$3),"",IF(AND($B12="",$B11<>"",COUNTIF(E$8:E11,"R")),COUNTIF(E$8:E11,"R")&"R",IF($B12="","",IF(AND($B12=E$7,E11<>"",COUNTIF(OFFSET($B11,-($C11-1),0,1,1):$B11,E$7)>0),"R",IF(E11="R",$A11,IF($B12=E$7,$A12,E11))))))) | F12: =IF($A12="","",IF(AND(F11<>"",$C12=$T$3,COUNTIF(OFFSET($E11,-($C11-1),0,1,1):F11,F11)=$T$3),"",IF(AND($B12="",$B11<>"",COUNTIF(F$8:F11,"R")),COUNTIF(F$8:F11,"R")&"R",IF($B12="","",IF(AND($B12=F$7,F11<>"",COUNTIF(OFFSET($B11,-($C11-1),0,1,1):$B11,F$7)>0),"R",IF(F11="R",$A11,IF($B12=F$7,$A12,F11))))))) | G12: =IF($A12="","",IF(AND(G11<>"",$C12=$T$3,COUNTIF(OFFSET($E11,-($C11-1),0,1,1):G11,G11)=$T$3),"",IF(AND($B12="",$B11<>"",COUNTIF(G$8:G11,"R")),COUNTIF(G$8:G11,"R")&"R",IF($B12="","",IF(AND($B12=G$7,G11<>"",COUNTIF(OFFSET($B11,-($C11-1),0,1,1):$B11,G$7)>0),"R",IF(G11="R",$A11,IF($B12=G$7,$A12,G11))))))) | H12: =IF($A12="","",IF(AND(H11<>"",$C12=$T$3,COUNTIF(OFFSET($E11,-($C11-1),0,1,1):H11,H11)=$T$3),"",IF(AND($B12="",$B11<>"",COUNTIF(H$8:H11,"R")),COUNTIF(H$8:H11,"R")&"R",IF($B12="","",IF(AND($B12=H$7,H11<>"",COUNTIF(OFFSET($B11,-($C11-1),0,1,1):$B11,H$7)>0),"R",IF(H11="R",$A11,IF($B12=H$7,$A12,H11))))))) -> 1 | I12: =IF($A12="","",IF(AND(I11<>"",$C12=$T$3,COUNTIF(OFFSET($E11,-($C11-1),0,1,1):I11,I11)=$T$3),"",IF(AND($B12="",$B11<>"",COUNTIF(I$8:I11,"R")),COUNTIF(I$8:I11,"R")&"R",IF($B12="","",IF(AND($B12=I$7,I11<>"",COUNTIF(OFFSET($B11,-($C11-1),0,1,1):$B11,I$7)>0),"R",IF(I11="R",$A11,IF($B12=I$7,$A12,I11))))))) | J12: =IF($A12="","",IF(AND(J11<>"",$C12=$T$3,COUNTIF(OFFSET($E11,-($C11-1),0,1,1):J11,J11)=$T$3),"",IF(AND($B12="",$B11<>"",COUNTIF(J$8:J11,"R")),COUNTIF(J$8:J11,"R")&"R",IF($B12="","",IF(AND($B12=J$7,J11<>"",COUNTIF(OFFSET($B11,-($C11-1),0,1,1):$B11,J$7)>0),"R",IF(J11="R",$A11,IF($B12=J$7,$A12,J11))))))) | K12: =IF($A12="","",IF(AND(K11<>"",$C12=$T$3,COUNTIF(OFFSET($E11,-($C11-1),0,1,1):K11,K11)=$T$3),"",IF(AND($B12="",$B11<>"",COUNTIF(K$8:K11,"R")),COUNTIF(K$8:K11,"R")&"R",IF($B12="","",IF(AND($B12=K$7,K11<>"",COUNTIF(OFFSET($B11,-($C11-1),0,1,1):$B11,K$7)>0),"R",IF(K11="R",$A11,IF($B12=K$7,$A12,K11))))))) -> 4 | L12: =IF($A12="","",IF(AND(L11<>"",$C12=$T$3,COUNTIF(OFFSET($E11,-($C11-1),0,1,1):L11,L11)=$T$3),"",IF(AND($B12="",$B11<>"",COUNTIF(L$8:L11,"R")),COUNTIF(L$8:L11,"R")&"R",IF($B12="","",IF(AND($B12=L$7,L11<>"",COUNTIF(OFFSET($B11,-($C11-1),0,1,1):$B11,L$7)>0),"R",IF(L11="R",$A11,IF($B12=L$7,$A12,L11))))))) | ... AP12: =IF($A12="","",IF(AND(AP11<>"",$C12=$T$3,COUNTIF(OFFSET($E11,-($C11-1),0,1,1):AP11,AP11)=$T$3),"",IF(AND($B12="",$B11<>"",COUNTIF(AP$8:AP11,"R")),COUNTIF(AP$8:AP11,"R")&"R",IF($B12="","",IF(AND($B12=AP$7,AP11<>"",COUNTIF(OFFSET($B11,-($C11-1),0,1,1):$B11,AP$7)>0),"R",IF(AP11="R",$A11,IF($B12=AP$7,$A12,AP11)))))))
A13: 6 | B13: =IF(Q$3="American",RANDBETWEEN(0,37),RANDBETWEEN(0,36)) -> 21 | C13: =IF(A13<T$3,A13,T$3) -> 6 | D13: =IF(COUNTIF(B$8:B12,B13)=0,"",COUNTIF(B$8:B12,B13)) | E13: =IF($A13="","",IF(AND(E12<>"",$C13=$T$3,COUNTIF(OFFSET($E12,-($C12-1),0,1,1):E12,E12)=$T$3),"",IF(AND($B13="",$B12<>"",COUNTIF(E$8:E12,"R")),COUNTIF(E$8:E12,"R")&"R",IF($B13="","",IF(AND($B13=E$7,E12<>"",COUNTIF(OFFSET($B12,-($C12-1),0,1,1):$B12,E$7)>0),"R",IF(E12="R",$A12,IF($B13=E$7,$A13,E12))))))) | F13: =IF($A13="","",IF(AND(F12<>"",$C13=$T$3,COUNTIF(OFFSET($E12,-($C12-1),0,1,1):F12,F12)=$T$3),"",IF(AND($B13="",$B12<>"",COUNTIF(F$8:F12,"R")),COUNTIF(F$8:F12,"R")&"R",IF($B13="","",IF(AND($B13=F$7,F12<>"",COUNTIF(OFFSET($B12,-($C12-1),0,1,1):$B12,F$7)>0),"R",IF(F12="R",$A12,IF($B13=F$7,$A13,F12))))))) | G13: =IF($A13="","",IF(AND(G12<>"",$C13=$T$3,COUNTIF(OFFSET($E12,-($C12-1),0,1,1):G12,G12)=$T$3),"",IF(AND($B13="",$B12<>"",COUNTIF(G$8:G12,"R")),COUNTIF(G$8:G12,"R")&"R",IF($B13="","",IF(AND($B13=G$7,G12<>"",COUNTIF(OFFSET($B12,-($C12-1),0,1,1):$B12,G$7)>0),"R",IF(G12="R",$A12,IF($B13=G$7,$A13,G12))))))) | H13: =IF($A13="","",IF(AND(H12<>"",$C13=$T$3,COUNTIF(OFFSET($E12,-($C12-1),0,1,1):H12,H12)=$T$3),"",IF(AND($B13="",$B12<>"",COUNTIF(H$8:H12,"R")),COUNTIF(H$8:H12,"R")&"R",IF($B13="","",IF(AND($B13=H$7,H12<>"",COUNTIF(OFFSET($B12,-($C12-1),0,1,1):$B12,H$7)>0),"R",IF(H12="R",$A12,IF($B13=H$7,$A13,H12))))))) -> 1 | I13: =IF($A13="","",IF(AND(I12<>"",$C13=$T$3,COUNTIF(OFFSET($E12,-($C12-1),0,1,1):I12,I12)=$T$3),"",IF(AND($B13="",$B12<>"",COUNTIF(I$8:I12,"R")),COUNTIF(I$8:I12,"R")&"R",IF($B13="","",IF(AND($B13=I$7,I12<>"",COUNTIF(OFFSET($B12,-($C12-1),0,1,1):$B12,I$7)>0),"R",IF(I12="R",$A12,IF($B13=I$7,$A13,I12))))))) | J13: =IF($A13="","",IF(AND(J12<>"",$C13=$T$3,COUNTIF(OFFSET($E12,-($C12-1),0,1,1):J12,J12)=$T$3),"",IF(AND($B13="",$B12<>"",COUNTIF(J$8:J12,"R")),COUNTIF(J$8:J12,"R")&"R",IF($B13="","",IF(AND($B13=J$7,J12<>"",COUNTIF(OFFSET($B12,-($C12-1),0,1,1):$B12,J$7)>0),"R",IF(J12="R",$A12,IF($B13=J$7,$A13,J12))))))) | K13: =IF($A13="","",IF(AND(K12<>"",$C13=$T$3,COUNTIF(OFFSET($E12,-($C12-1),0,1,1):K12,K12)=$T$3),"",IF(AND($B13="",$B12<>"",COUNTIF(K$8:K12,"R")),COUNTIF(K$8:K12,"R")&"R",IF($B13="","",IF(AND($B13=K$7,K12<>"",COUNTIF(OFFSET($B12,-($C12-1),0,1,1):$B12,K$7)>0),"R",IF(K12="R",$A12,IF($B13=K$7,$A13,K12))))))) -> 4 | L13: =IF($A13="","",IF(AND(L12<>"",$C13=$T$3,COUNTIF(OFFSET($E12,-($C12-1),0,1,1):L12,L12)=$T$3),"",IF(AND($B13="",$B12<>"",COUNTIF(L$8:L12,"R")),COUNTIF(L$8:L12,"R")&"R",IF($B13="","",IF(AND($B13=L$7,L12<>"",COUNTIF(OFFSET($B12,-($C12-1),0,1,1):$B12,L$7)>0),"R",IF(L12="R",$A12,IF($B13=L$7,$A13,L12))))))) | ... AP13: =IF($A13="","",IF(AND(AP12<>"",$C13=$T$3,COUNTIF(OFFSET($E12,-($C12-1),0,1,1):AP12,AP12)=$T$3),"",IF(AND($B13="",$B12<>"",COUNTIF(AP$8:AP12,"R")),COUNTIF(AP$8:AP12,"R")&"R",IF($B13="","",IF(AND($B13=AP$7,AP12<>"",COUNTIF(OFFSET($B12,-($C12-1),0,1,1):$B12,AP$7)>0),"R",IF(AP12="R",$A12,IF($B13=AP$7,$A13,AP12)))))))
A14: 7 | B14: =IF(Q$3="American",RANDBETWEEN(0,37),RANDBETWEEN(0,36)) -> 4 | C14: =IF(A14<T$3,A14,T$3) -> 7 | D14: =IF(COUNTIF(B$8:B13,B14)=0,"",COUNTIF(B$8:B13,B14)) | E14: =IF($A14="","",IF(AND(E13<>"",$C14=$T$3,COUNTIF(OFFSET($E13,-($C13-1),0,1,1):E13,E13)=$T$3),"",IF(AND($B14="",$B13<>"",COUNTIF(E$8:E13,"R")),COUNTIF(E$8:E13,"R")&"R",IF($B14="","",IF(AND($B14=E$7,E13<>"",COUNTIF(OFFSET($B13,-($C13-1),0,1,1):$B13,E$7)>0),"R",IF(E13="R",$A13,IF($B14=E$7,$A14,E13))))))) | F14: =IF($A14="","",IF(AND(F13<>"",$C14=$T$3,COUNTIF(OFFSET($E13,-($C13-1),0,1,1):F13,F13)=$T$3),"",IF(AND($B14="",$B13<>"",COUNTIF(F$8:F13,"R")),COUNTIF(F$8:F13,"R")&"R",IF($B14="","",IF(AND($B14=F$7,F13<>"",COUNTIF(OFFSET($B13,-($C13-1),0,1,1):$B13,F$7)>0),"R",IF(F13="R",$A13,IF($B14=F$7,$A14,F13))))))) | G14: =IF($A14="","",IF(AND(G13<>"",$C14=$T$3,COUNTIF(OFFSET($E13,-($C13-1),0,1,1):G13,G13)=$T$3),"",IF(AND($B14="",$B13<>"",COUNTIF(G$8:G13,"R")),COUNTIF(G$8:G13,"R")&"R",IF($B14="","",IF(AND($B14=G$7,G13<>"",COUNTIF(OFFSET($B13,-($C13-1),0,1,1):$B13,G$7)>0),"R",IF(G13="R",$A13,IF($B14=G$7,$A14,G13))))))) | H14: =IF($A14="","",IF(AND(H13<>"",$C14=$T$3,COUNTIF(OFFSET($E13,-($C13-1),0,1,1):H13,H13)=$T$3),"",IF(AND($B14="",$B13<>"",COUNTIF(H$8:H13,"R")),COUNTIF(H$8:H13,"R")&"R",IF($B14="","",IF(AND($B14=H$7,H13<>"",COUNTIF(OFFSET($B13,-($C13-1),0,1,1):$B13,H$7)>0),"R",IF(H13="R",$A13,IF($B14=H$7,$A14,H13))))))) -> 1 | I14: =IF($A14="","",IF(AND(I13<>"",$C14=$T$3,COUNTIF(OFFSET($E13,-($C13-1),0,1,1):I13,I13)=$T$3),"",IF(AND($B14="",$B13<>"",COUNTIF(I$8:I13,"R")),COUNTIF(I$8:I13,"R")&"R",IF($B14="","",IF(AND($B14=I$7,I13<>"",COUNTIF(OFFSET($B13,-($C13-1),0,1,1):$B13,I$7)>0),"R",IF(I13="R",$A13,IF($B14=I$7,$A14,I13))))))) -> 7 | J14: =IF($A14="","",IF(AND(J13<>"",$C14=$T$3,COUNTIF(OFFSET($E13,-($C13-1),0,1,1):J13,J13)=$T$3),"",IF(AND($B14="",$B13<>"",COUNTIF(J$8:J13,"R")),COUNTIF(J$8:J13,"R")&"R",IF($B14="","",IF(AND($B14=J$7,J13<>"",COUNTIF(OFFSET($B13,-($C13-1),0,1,1):$B13,J$7)>0),"R",IF(J13="R",$A13,IF($B14=J$7,$A14,J13))))))) | K14: =IF($A14="","",IF(AND(K13<>"",$C14=$T$3,COUNTIF(OFFSET($E13,-($C13-1),0,1,1):K13,K13)=$T$3),"",IF(AND($B14="",$B13<>"",COUNTIF(K$8:K13,"R")),COUNTIF(K$8:K13,"R")&"R",IF($B14="","",IF(AND($B14=K$7,K13<>"",COUNTIF(OFFSET($B13,-($C13-1),0,1,1):$B13,K$7)>0),"R",IF(K13="R",$A13,IF($B14=K$7,$A14,K13))))))) -> 4 | L14: =IF($A14="","",IF(AND(L13<>"",$C14=$T$3,COUNTIF(OFFSET($E13,-($C13-1),0,1,1):L13,L13)=$T$3),"",IF(AND($B14="",$B13<>"",COUNTIF(L$8:L13,"R")),COUNTIF(L$8:L13,"R")&"R",IF($B14="","",IF(AND($B14=L$7,L13<>"",COUNTIF(OFFSET($B13,-($C13-1),0,1,1):$B13,L$7)>0),"R",IF(L13="R",$A13,IF($B14=L$7,$A14,L13))))))) | ... AP14: =IF($A14="","",IF(AND(AP13<>"",$C14=$T$3,COUNTIF(OFFSET($E13,-($C13-1),0,1,1):AP13,AP13)=$T$3),"",IF(AND($B14="",$B13<>"",COUNTIF(AP$8:AP13,"R")),COUNTIF(AP$8:AP13,"R")&"R",IF($B14="","",IF(AND($B14=AP$7,AP13<>"",COUNTIF(OFFSET($B13,-($C13-1),0,1,1):$B13,AP$7)>0),"R",IF(AP13="R",$A13,IF($B14=AP$7,$A14,AP13)))))))
A15: 8 | B15: =IF(Q$3="American",RANDBETWEEN(0,37),RANDBETWEEN(0,36)) -> 35 | C15: =IF(A15<T$3,A15,T$3) -> 8 | D15: =IF(COUNTIF(B$8:B14,B15)=0,"",COUNTIF(B$8:B14,B15)) | E15: =IF($A15="","",IF(AND(E14<>"",$C15=$T$3,COUNTIF(OFFSET($E14,-($C14-1),0,1,1):E14,E14)=$T$3),"",IF(AND($B15="",$B14<>"",COUNTIF(E$8:E14,"R")),COUNTIF(E$8:E14,"R")&"R",IF($B15="","",IF(AND($B15=E$7,E14<>"",COUNTIF(OFFSET($B14,-($C14-1),0,1,1):$B14,E$7)>0),"R",IF(E14="R",$A14,IF($B15=E$7,$A15,E14))))))) | F15: =IF($A15="","",IF(AND(F14<>"",$C15=$T$3,COUNTIF(OFFSET($E14,-($C14-1),0,1,1):F14,F14)=$T$3),"",IF(AND($B15="",$B14<>"",COUNTIF(F$8:F14,"R")),COUNTIF(F$8:F14,"R")&"R",IF($B15="","",IF(AND($B15=F$7,F14<>"",COUNTIF(OFFSET($B14,-($C14-1),0,1,1):$B14,F$7)>0),"R",IF(F14="R",$A14,IF($B15=F$7,$A15,F14))))))) | G15: =IF($A15="","",IF(AND(G14<>"",$C15=$T$3,COUNTIF(OFFSET($E14,-($C14-1),0,1,1):G14,G14)=$T$3),"",IF(AND($B15="",$B14<>"",COUNTIF(G$8:G14,"R")),COUNTIF(G$8:G14,"R")&"R",IF($B15="","",IF(AND($B15=G$7,G14<>"",COUNTIF(OFFSET($B14,-($C14-1),0,1,1):$B14,G$7)>0),"R",IF(G14="R",$A14,IF($B15=G$7,$A15,G14))))))) | H15: =IF($A15="","",IF(AND(H14<>"",$C15=$T$3,COUNTIF(OFFSET($E14,-($C14-1),0,1,1):H14,H14)=$T$3),"",IF(AND($B15="",$B14<>"",COUNTIF(H$8:H14,"R")),COUNTIF(H$8:H14,"R")&"R",IF($B15="","",IF(AND($B15=H$7,H14<>"",COUNTIF(OFFSET($B14,-($C14-1),0,1,1):$B14,H$7)>0),"R",IF(H14="R",$A14,IF($B15=H$7,$A15,H14))))))) -> 1 | I15: =IF($A15="","",IF(AND(I14<>"",$C15=$T$3,COUNTIF(OFFSET($E14,-($C14-1),0,1,1):I14,I14)=$T$3),"",IF(AND($B15="",$B14<>"",COUNTIF(I$8:I14,"R")),COUNTIF(I$8:I14,"R")&"R",IF($B15="","",IF(AND($B15=I$7,I14<>"",COUNTIF(OFFSET($B14,-($C14-1),0,1,1):$B14,I$7)>0),"R",IF(I14="R",$A14,IF($B15=I$7,$A15,I14))))))) -> 7 | J15: =IF($A15="","",IF(AND(J14<>"",$C15=$T$3,COUNTIF(OFFSET($E14,-($C14-1),0,1,1):J14,J14)=$T$3),"",IF(AND($B15="",$B14<>"",COUNTIF(J$8:J14,"R")),COUNTIF(J$8:J14,"R")&"R",IF($B15="","",IF(AND($B15=J$7,J14<>"",COUNTIF(OFFSET($B14,-($C14-1),0,1,1):$B14,J$7)>0),"R",IF(J14="R",$A14,IF($B15=J$7,$A15,J14))))))) | K15: =IF($A15="","",IF(AND(K14<>"",$C15=$T$3,COUNTIF(OFFSET($E14,-($C14-1),0,1,1):K14,K14)=$T$3),"",IF(AND($B15="",$B14<>"",COUNTIF(K$8:K14,"R")),COUNTIF(K$8:K14,"R")&"R",IF($B15="","",IF(AND($B15=K$7,K14<>"",COUNTIF(OFFSET($B14,-($C14-1),0,1,1):$B14,K$7)>0),"R",IF(K14="R",$A14,IF($B15=K$7,$A15,K14))))))) -> 4 | L15: =IF($A15="","",IF(AND(L14<>"",$C15=$T$3,COUNTIF(OFFSET($E14,-($C14-1),0,1,1):L14,L14)=$T$3),"",IF(AND($B15="",$B14<>"",COUNTIF(L$8:L14,"R")),COUNTIF(L$8:L14,"R")&"R",IF($B15="","",IF(AND($B15=L$7,L14<>"",COUNTIF(OFFSET($B14,-($C14-1),0,1,1):$B14,L$7)>0),"R",IF(L14="R",$A14,IF($B15=L$7,$A15,L14))))))) | ... AP15: =IF($A15="","",IF(AND(AP14<>"",$C15=$T$3,COUNTIF(OFFSET($E14,-($C14-1),0,1,1):AP14,AP14)=$T$3),"",IF(AND($B15="",$B14<>"",COUNTIF(AP$8:AP14,"R")),COUNTIF(AP$8:AP14,"R")&"R",IF($B15="","",IF(AND($B15=AP$7,AP14<>"",COUNTIF(OFFSET($B14,-($C14-1),0,1,1):$B14,AP$7)>0),"R",IF(AP14="R",$A14,IF($B15=AP$7,$A15,AP14)))))))
A16: 9 | B16: =IF(Q$3="American",RANDBETWEEN(0,37),RANDBETWEEN(0,36)) -> 26 | C16: =IF(A16<T$3,A16,T$3) -> 9 | D16: =IF(COUNTIF(B$8:B15,B16)=0,"",COUNTIF(B$8:B15,B16)) | E16: =IF($A16="","",IF(AND(E15<>"",$C16=$T$3,COUNTIF(OFFSET($E15,-($C15-1),0,1,1):E15,E15)=$T$3),"",IF(AND($B16="",$B15<>"",COUNTIF(E$8:E15,"R")),COUNTIF(E$8:E15,"R")&"R",IF($B16="","",IF(AND($B16=E$7,E15<>"",COUNTIF(OFFSET($B15,-($C15-1),0,1,1):$B15,E$7)>0),"R",IF(E15="R",$A15,IF($B16=E$7,$A16,E15))))))) | F16: =IF($A16="","",IF(AND(F15<>"",$C16=$T$3,COUNTIF(OFFSET($E15,-($C15-1),0,1,1):F15,F15)=$T$3),"",IF(AND($B16="",$B15<>"",COUNTIF(F$8:F15,"R")),COUNTIF(F$8:F15,"R")&"R",IF($B16="","",IF(AND($B16=F$7,F15<>"",COUNTIF(OFFSET($B15,-($C15-1),0,1,1):$B15,F$7)>0),"R",IF(F15="R",$A15,IF($B16=F$7,$A16,F15))))))) | G16: =IF($A16="","",IF(AND(G15<>"",$C16=$T$3,COUNTIF(OFFSET($E15,-($C15-1),0,1,1):G15,G15)=$T$3),"",IF(AND($B16="",$B15<>"",COUNTIF(G$8:G15,"R")),COUNTIF(G$8:G15,"R")&"R",IF($B16="","",IF(AND($B16=G$7,G15<>"",COUNTIF(OFFSET($B15,-($C15-1),0,1,1):$B15,G$7)>0),"R",IF(G15="R",$A15,IF($B16=G$7,$A16,G15))))))) | H16: =IF($A16="","",IF(AND(H15<>"",$C16=$T$3,COUNTIF(OFFSET($E15,-($C15-1),0,1,1):H15,H15)=$T$3),"",IF(AND($B16="",$B15<>"",COUNTIF(H$8:H15,"R")),COUNTIF(H$8:H15,"R")&"R",IF($B16="","",IF(AND($B16=H$7,H15<>"",COUNTIF(OFFSET($B15,-($C15-1),0,1,1):$B15,H$7)>0),"R",IF(H15="R",$A15,IF($B16=H$7,$A16,H15))))))) -> 1 | I16: =IF($A16="","",IF(AND(I15<>"",$C16=$T$3,COUNTIF(OFFSET($E15,-($C15-1),0,1,1):I15,I15)=$T$3),"",IF(AND($B16="",$B15<>"",COUNTIF(I$8:I15,"R")),COUNTIF(I$8:I15,"R")&"R",IF($B16="","",IF(AND($B16=I$7,I15<>"",COUNTIF(OFFSET($B15,-($C15-1),0,1,1):$B15,I$7)>0),"R",IF(I15="R",$A15,IF($B16=I$7,$A16,I15))))))) -> 7 | J16: =IF($A16="","",IF(AND(J15<>"",$C16=$T$3,COUNTIF(OFFSET($E15,-($C15-1),0,1,1):J15,J15)=$T$3),"",IF(AND($B16="",$B15<>"",COUNTIF(J$8:J15,"R")),COUNTIF(J$8:J15,"R")&"R",IF($B16="","",IF(AND($B16=J$7,J15<>"",COUNTIF(OFFSET($B15,-($C15-1),0,1,1):$B15,J$7)>0),"R",IF(J15="R",$A15,IF($B16=J$7,$A16,J15))))))) | K16: =IF($A16="","",IF(AND(K15<>"",$C16=$T$3,COUNTIF(OFFSET($E15,-($C15-1),0,1,1):K15,K15)=$T$3),"",IF(AND($B16="",$B15<>"",COUNTIF(K$8:K15,"R")),COUNTIF(K$8:K15,"R")&"R",IF($B16="","",IF(AND($B16=K$7,K15<>"",COUNTIF(OFFSET($B15,-($C15-1),0,1,1):$B15,K$7)>0),"R",IF(K15="R",$A15,IF($B16=K$7,$A16,K15))))))) -> 4 | L16: =IF($A16="","",IF(AND(L15<>"",$C16=$T$3,COUNTIF(OFFSET($E15,-($C15-1),0,1,1):L15,L15)=$T$3),"",IF(AND($B16="",$B15<>"",COUNTIF(L$8:L15,"R")),COUNTIF(L$8:L15,"R")&"R",IF($B16="","",IF(AND($B16=L$7,L15<>"",COUNTIF(OFFSET($B15,-($C15-1),0,1,1):$B15,L$7)>0),"R",IF(L15="R",$A15,IF($B16=L$7,$A16,L15))))))) | ... AP16: =IF($A16="","",IF(AND(AP15<>"",$C16=$T$3,COUNTIF(OFFSET($E15,-($C15-1),0,1,1):AP15,AP15)=$T$3),"",IF(AND($B16="",$B15<>"",COUNTIF(AP$8:AP15,"R")),COUNTIF(AP$8:AP15,"R")&"R",IF($B16="","",IF(AND($B16=AP$7,AP15<>"",COUNTIF(OFFSET($B15,-($C15-1),0,1,1):$B15,AP$7)>0),"R",IF(AP15="R",$A15,IF($B16=AP$7,$A16,AP15)))))))
A17: 10 | B17: =IF(Q$3="American",RANDBETWEEN(0,37),RANDBETWEEN(0,36)) -> 21 | C17: =IF(A17<T$3,A17,T$3) -> 10 | D17: =IF(COUNTIF(B$8:B16,B17)=0,"",COUNTIF(B$8:B16,B17)) -> 1 | E17: =IF($A17="","",IF(AND(E16<>"",$C17=$T$3,COUNTIF(OFFSET($E16,-($C16-1),0,1,1):E16,E16)=$T$3),"",IF(AND($B17="",$B16<>"",COUNTIF(E$8:E16,"R")),COUNTIF(E$8:E16,"R")&"R",IF($B17="","",IF(AND($B17=E$7,E16<>"",COUNTIF(OFFSET($B16,-($C16-1),0,1,1):$B16,E$7)>0),"R",IF(E16="R",$A16,IF($B17=E$7,$A17,E16))))))) | F17: =IF($A17="","",IF(AND(F16<>"",$C17=$T$3,COUNTIF(OFFSET($E16,-($C16-1),0,1,1):F16,F16)=$T$3),"",IF(AND($B17="",$B16<>"",COUNTIF(F$8:F16,"R")),COUNTIF(F$8:F16,"R")&"R",IF($B17="","",IF(AND($B17=F$7,F16<>"",COUNTIF(OFFSET($B16,-($C16-1),0,1,1):$B16,F$7)>0),"R",IF(F16="R",$A16,IF($B17=F$7,$A17,F16))))))) | G17: =IF($A17="","",IF(AND(G16<>"",$C17=$T$3,COUNTIF(OFFSET($E16,-($C16-1),0,1,1):G16,G16)=$T$3),"",IF(AND($B17="",$B16<>"",COUNTIF(G$8:G16,"R")),COUNTIF(G$8:G16,"R")&"R",IF($B17="","",IF(AND($B17=G$7,G16<>"",COUNTIF(OFFSET($B16,-($C16-1),0,1,1):$B16,G$7)>0),"R",IF(G16="R",$A16,IF($B17=G$7,$A17,G16))))))) | H17: =IF($A17="","",IF(AND(H16<>"",$C17=$T$3,COUNTIF(OFFSET($E16,-($C16-1),0,1,1):H16,H16)=$T$3),"",IF(AND($B17="",$B16<>"",COUNTIF(H$8:H16,"R")),COUNTIF(H$8:H16,"R")&"R",IF($B17="","",IF(AND($B17=H$7,H16<>"",COUNTIF(OFFSET($B16,-($C16-1),0,1,1):$B16,H$7)>0),"R",IF(H16="R",$A16,IF($B17=H$7,$A17,H16))))))) -> 1 | I17: =IF($A17="","",IF(AND(I16<>"",$C17=$T$3,COUNTIF(OFFSET($E16,-($C16-1),0,1,1):I16,I16)=$T$3),"",IF(AND($B17="",$B16<>"",COUNTIF(I$8:I16,"R")),COUNTIF(I$8:I16,"R")&"R",IF($B17="","",IF(AND($B17=I$7,I16<>"",COUNTIF(OFFSET($B16,-($C16-1),0,1,1):$B16,I$7)>0),"R",IF(I16="R",$A16,IF($B17=I$7,$A17,I16))))))) -> 7 | J17: =IF($A17="","",IF(AND(J16<>"",$C17=$T$3,COUNTIF(OFFSET($E16,-($C16-1),0,1,1):J16,J16)=$T$3),"",IF(AND($B17="",$B16<>"",COUNTIF(J$8:J16,"R")),COUNTIF(J$8:J16,"R")&"R",IF($B17="","",IF(AND($B17=J$7,J16<>"",COUNTIF(OFFSET($B16,-($C16-1),0,1,1):$B16,J$7)>0),"R",IF(J16="R",$A16,IF($B17=J$7,$A17,J16))))))) | K17: =IF($A17="","",IF(AND(K16<>"",$C17=$T$3,COUNTIF(OFFSET($E16,-($C16-1),0,1,1):K16,K16)=$T$3),"",IF(AND($B17="",$B16<>"",COUNTIF(K$8:K16,"R")),COUNTIF(K$8:K16,"R")&"R",IF($B17="","",IF(AND($B17=K$7,K16<>"",COUNTIF(OFFSET($B16,-($C16-1),0,1,1):$B16,K$7)>0),"R",IF(K16="R",$A16,IF($B17=K$7,$A17,K16))))))) -> 4 | L17: =IF($A17="","",IF(AND(L16<>"",$C17=$T$3,COUNTIF(OFFSET($E16,-($C16-1),0,1,1):L16,L16)=$T$3),"",IF(AND($B17="",$B16<>"",COUNTIF(L$8:L16,"R")),COUNTIF(L$8:L16,"R")&"R",IF($B17="","",IF(AND($B17=L$7,L16<>"",COUNTIF(OFFSET($B16,-($C16-1),0,1,1):$B16,L$7)>0),"R",IF(L16="R",$A16,IF($B17=L$7,$A17,L16))))))) | ... AP17: =IF($A17="","",IF(AND(AP16<>"",$C17=$T$3,COUNTIF(OFFSET($E16,-($C16-1),0,1,1):AP16,AP16)=$T$3),"",IF(AND($B17="",$B16<>"",COUNTIF(AP$8:AP16,"R")),COUNTIF(AP$8:AP16,"R")&"R",IF($B17="","",IF(AND($B17=AP$7,AP16<>"",COUNTIF(OFFSET($B16,-($C16-1),0,1,1):$B16,AP$7)>0),"R",IF(AP16="R",$A16,IF($B17=AP$7,$A17,AP16)))))))
A18: 11 | B18: =IF(Q$3="American",RANDBETWEEN(0,37),RANDBETWEEN(0,36)) -> 14 | C18: =IF(A18<T$3,A18,T$3) -> 11 | D18: =IF(COUNTIF(B$8:B17,B18)=0,"",COUNTIF(B$8:B17,B18)) | E18: =IF($A18="","",IF(AND(E17<>"",$C18=$T$3,COUNTIF(OFFSET($E17,-($C17-1),0,1,1):E17,E17)=$T$3),"",IF(AND($B18="",$B17<>"",COUNTIF(E$8:E17,"R")),COUNTIF(E$8:E17,"R")&"R",IF($B18="","",IF(AND($B18=E$7,E17<>"",COUNTIF(OFFSET($B17,-($C17-1),0,1,1):$B17,E$7)>0),"R",IF(E17="R",$A17,IF($B18=E$7,$A18,E17))))))) | F18: =IF($A18="","",IF(AND(F17<>"",$C18=$T$3,COUNTIF(OFFSET($E17,-($C17-1),0,1,1):F17,F17)=$T$3),"",IF(AND($B18="",$B17<>"",COUNTIF(F$8:F17,"R")),COUNTIF(F$8:F17,"R")&"R",IF($B18="","",IF(AND($B18=F$7,F17<>"",COUNTIF(OFFSET($B17,-($C17-1),0,1,1):$B17,F$7)>0),"R",IF(F17="R",$A17,IF($B18=F$7,$A18,F17))))))) | G18: =IF($A18="","",IF(AND(G17<>"",$C18=$T$3,COUNTIF(OFFSET($E17,-($C17-1),0,1,1):G17,G17)=$T$3),"",IF(AND($B18="",$B17<>"",COUNTIF(G$8:G17,"R")),COUNTIF(G$8:G17,"R")&"R",IF($B18="","",IF(AND($B18=G$7,G17<>"",COUNTIF(OFFSET($B17,-($C17-1),0,1,1):$B17,G$7)>0),"R",IF(G17="R",$A17,IF($B18=G$7,$A18,G17))))))) | H18: =IF($A18="","",IF(AND(H17<>"",$C18=$T$3,COUNTIF(OFFSET($E17,-($C17-1),0,1,1):H17,H17)=$T$3),"",IF(AND($B18="",$B17<>"",COUNTIF(H$8:H17,"R")),COUNTIF(H$8:H17,"R")&"R",IF($B18="","",IF(AND($B18=H$7,H17<>"",COUNTIF(OFFSET($B17,-($C17-1),0,1,1):$B17,H$7)>0),"R",IF(H17="R",$A17,IF($B18=H$7,$A18,H17))))))) -> 1 | I18: =IF($A18="","",IF(AND(I17<>"",$C18=$T$3,COUNTIF(OFFSET($E17,-($C17-1),0,1,1):I17,I17)=$T$3),"",IF(AND($B18="",$B17<>"",COUNTIF(I$8:I17,"R")),COUNTIF(I$8:I17,"R")&"R",IF($B18="","",IF(AND($B18=I$7,I17<>"",COUNTIF(OFFSET($B17,-($C17-1),0,1,1):$B17,I$7)>0),"R",IF(I17="R",$A17,IF($B18=I$7,$A18,I17))))))) -> 7 | J18: =IF($A18="","",IF(AND(J17<>"",$C18=$T$3,COUNTIF(OFFSET($E17,-($C17-1),0,1,1):J17,J17)=$T$3),"",IF(AND($B18="",$B17<>"",COUNTIF(J$8:J17,"R")),COUNTIF(J$8:J17,"R")&"R",IF($B18="","",IF(AND($B18=J$7,J17<>"",COUNTIF(OFFSET($B17,-($C17-1),0,1,1):$B17,J$7)>0),"R",IF(J17="R",$A17,IF($B18=J$7,$A18,J17))))))) | K18: =IF($A18="","",IF(AND(K17<>"",$C18=$T$3,COUNTIF(OFFSET($E17,-($C17-1),0,1,1):K17,K17)=$T$3),"",IF(AND($B18="",$B17<>"",COUNTIF(K$8:K17,"R")),COUNTIF(K$8:K17,"R")&"R",IF($B18="","",IF(AND($B18=K$7,K17<>"",COUNTIF(OFFSET($B17,-($C17-1),0,1,1):$B17,K$7)>0),"R",IF(K17="R",$A17,IF($B18=K$7,$A18,K17))))))) -> 4 | L18: =IF($A18="","",IF(AND(L17<>"",$C18=$T$3,COUNTIF(OFFSET($E17,-($C17-1),0,1,1):L17,L17)=$T$3),"",IF(AND($B18="",$B17<>"",COUNTIF(L$8:L17,"R")),COUNTIF(L$8:L17,"R")&"R",IF($B18="","",IF(AND($B18=L$7,L17<>"",COUNTIF(OFFSET($B17,-($C17-1),0,1,1):$B17,L$7)>0),"R",IF(L17="R",$A17,IF($B18=L$7,$A18,L17))))))) | ... AP18: =IF($A18="","",IF(AND(AP17<>"",$C18=$T$3,COUNTIF(OFFSET($E17,-($C17-1),0,1,1):AP17,AP17)=$T$3),"",IF(AND($B18="",$B17<>"",COUNTIF(AP$8:AP17,"R")),COUNTIF(AP$8:AP17,"R")&"R",IF($B18="","",IF(AND($B18=AP$7,AP17<>"",COUNTIF(OFFSET($B17,-($C17-1),0,1,1):$B17,AP$7)>0),"R",IF(AP17="R",$A17,IF($B18=AP$7,$A18,AP17)))))))
A19: 12 | B19: =IF(Q$3="American",RANDBETWEEN(0,37),RANDBETWEEN(0,36)) -> 30 | C19: =IF(A19<T$3,A19,T$3) -> 12 | D19: =IF(COUNTIF(B$8:B18,B19)=0,"",COUNTIF(B$8:B18,B19)) | E19: =IF($A19="","",IF(AND(E18<>"",$C19=$T$3,COUNTIF(OFFSET($E18,-($C18-1),0,1,1):E18,E18)=$T$3),"",IF(AND($B19="",$B18<>"",COUNTIF(E$8:E18,"R")),COUNTIF(E$8:E18,"R")&"R",IF($B19="","",IF(AND($B19=E$7,E18<>"",COUNTIF(OFFSET($B18,-($C18-1),0,1,1):$B18,E$7)>0),"R",IF(E18="R",$A18,IF($B19=E$7,$A19,E18))))))) | F19: =IF($A19="","",IF(AND(F18<>"",$C19=$T$3,COUNTIF(OFFSET($E18,-($C18-1),0,1,1):F18,F18)=$T$3),"",IF(AND($B19="",$B18<>"",COUNTIF(F$8:F18,"R")),COUNTIF(F$8:F18,"R")&"R",IF($B19="","",IF(AND($B19=F$7,F18<>"",COUNTIF(OFFSET($B18,-($C18-1),0,1,1):$B18,F$7)>0),"R",IF(F18="R",$A18,IF($B19=F$7,$A19,F18))))))) | G19: =IF($A19="","",IF(AND(G18<>"",$C19=$T$3,COUNTIF(OFFSET($E18,-($C18-1),0,1,1):G18,G18)=$T$3),"",IF(AND($B19="",$B18<>"",COUNTIF(G$8:G18,"R")),COUNTIF(G$8:G18,"R")&"R",IF($B19="","",IF(AND($B19=G$7,G18<>"",COUNTIF(OFFSET($B18,-($C18-1),0,1,1):$B18,G$7)>0),"R",IF(G18="R",$A18,IF($B19=G$7,$A19,G18))))))) | H19: =IF($A19="","",IF(AND(H18<>"",$C19=$T$3,COUNTIF(OFFSET($E18,-($C18-1),0,1,1):H18,H18)=$T$3),"",IF(AND($B19="",$B18<>"",COUNTIF(H$8:H18,"R")),COUNTIF(H$8:H18,"R")&"R",IF($B19="","",IF(AND($B19=H$7,H18<>"",COUNTIF(OFFSET($B18,-($C18-1),0,1,1):$B18,H$7)>0),"R",IF(H18="R",$A18,IF($B19=H$7,$A19,H18))))))) -> 1 | I19: =IF($A19="","",IF(AND(I18<>"",$C19=$T$3,COUNTIF(OFFSET($E18,-($C18-1),0,1,1):I18,I18)=$T$3),"",IF(AND($B19="",$B18<>"",COUNTIF(I$8:I18,"R")),COUNTIF(I$8:I18,"R")&"R",IF($B19="","",IF(AND($B19=I$7,I18<>"",COUNTIF(OFFSET($B18,-($C18-1),0,1,1):$B18,I$7)>0),"R",IF(I18="R",$A18,IF($B19=I$7,$A19,I18))))))) -> 7 | J19: =IF($A19="","",IF(AND(J18<>"",$C19=$T$3,COUNTIF(OFFSET($E18,-($C18-1),0,1,1):J18,J18)=$T$3),"",IF(AND($B19="",$B18<>"",COUNTIF(J$8:J18,"R")),COUNTIF(J$8:J18,"R")&"R",IF($B19="","",IF(AND($B19=J$7,J18<>"",COUNTIF(OFFSET($B18,-($C18-1),0,1,1):$B18,J$7)>0),"R",IF(J18="R",$A18,IF($B19=J$7,$A19,J18))))))) | K19: =IF($A19="","",IF(AND(K18<>"",$C19=$T$3,COUNTIF(OFFSET($E18,-($C18-1),0,1,1):K18,K18)=$T$3),"",IF(AND($B19="",$B18<>"",COUNTIF(K$8:K18,"R")),COUNTIF(K$8:K18,"R")&"R",IF($B19="","",IF(AND($B19=K$7,K18<>"",COUNTIF(OFFSET($B18,-($C18-1),0,1,1):$B18,K$7)>0),"R",IF(K18="R",$A18,IF($B19=K$7,$A19,K18))))))) -> 4 | L19: =IF($A19="","",IF(AND(L18<>"",$C19=$T$3,COUNTIF(OFFSET($E18,-($C18-1),0,1,1):L18,L18)=$T$3),"",IF(AND($B19="",$B18<>"",COUNTIF(L$8:L18,"R")),COUNTIF(L$8:L18,"R")&"R",IF($B19="","",IF(AND($B19=L$7,L18<>"",COUNTIF(OFFSET($B18,-($C18-1),0,1,1):$B18,L$7)>0),"R",IF(L18="R",$A18,IF($B19=L$7,$A19,L18))))))) | ... AP19: =IF($A19="","",IF(AND(AP18<>"",$C19=$T$3,COUNTIF(OFFSET($E18,-($C18-1),0,1,1):AP18,AP18)=$T$3),"",IF(AND($B19="",$B18<>"",COUNTIF(AP$8:AP18,"R")),COUNTIF(AP$8:AP18,"R")&"R",IF($B19="","",IF(AND($B19=AP$7,AP18<>"",COUNTIF(OFFSET($B18,-($C18-1),0,1,1):$B18,AP$7)>0),"R",IF(AP18="R",$A18,IF($B19=AP$7,$A19,AP18)))))))
A20: 13 | B20: =IF(Q$3="American",RANDBETWEEN(0,37),RANDBETWEEN(0,36)) -> 4 | C20: =IF(A20<T$3,A20,T$3) -> 13 | D20: =IF(COUNTIF(B$8:B19,B20)=0,"",COUNTIF(B$8:B19,B20)) -> 1 | E20: =IF($A20="","",IF(AND(E19<>"",$C20=$T$3,COUNTIF(OFFSET($E19,-($C19-1),0,1,1):E19,E19)=$T$3),"",IF(AND($B20="",$B19<>"",COUNTIF(E$8:E19,"R")),COUNTIF(E$8:E19,"R")&"R",IF($B20="","",IF(AND($B20=E$7,E19<>"",COUNTIF(OFFSET($B19,-($C19-1),0,1,1):$B19,E$7)>0),"R",IF(E19="R",$A19,IF($B20=E$7,$A20,E19))))))) | F20: =IF($A20="","",IF(AND(F19<>"",$C20=$T$3,COUNTIF(OFFSET($E19,-($C19-1),0,1,1):F19,F19)=$T$3),"",IF(AND($B20="",$B19<>"",COUNTIF(F$8:F19,"R")),COUNTIF(F$8:F19,"R")&"R",IF($B20="","",IF(AND($B20=F$7,F19<>"",COUNTIF(OFFSET($B19,-($C19-1),0,1,1):$B19,F$7)>0),"R",IF(F19="R",$A19,IF($B20=F$7,$A20,F19))))))) | G20: =IF($A20="","",IF(AND(G19<>"",$C20=$T$3,COUNTIF(OFFSET($E19,-($C19-1),0,1,1):G19,G19)=$T$3),"",IF(AND($B20="",$B19<>"",COUNTIF(G$8:G19,"R")),COUNTIF(G$8:G19,"R")&"R",IF($B20="","",IF(AND($B20=G$7,G19<>"",COUNTIF(OFFSET($B19,-($C19-1),0,1,1):$B19,G$7)>0),"R",IF(G19="R",$A19,IF($B20=G$7,$A20,G19))))))) | H20: =IF($A20="","",IF(AND(H19<>"",$C20=$T$3,COUNTIF(OFFSET($E19,-($C19-1),0,1,1):H19,H19)=$T$3),"",IF(AND($B20="",$B19<>"",COUNTIF(H$8:H19,"R")),COUNTIF(H$8:H19,"R")&"R",IF($B20="","",IF(AND($B20=H$7,H19<>"",COUNTIF(OFFSET($B19,-($C19-1),0,1,1):$B19,H$7)>0),"R",IF(H19="R",$A19,IF($B20=H$7,$A20,H19))))))) -> 1 | I20: =IF($A20="","",IF(AND(I19<>"",$C20=$T$3,COUNTIF(OFFSET($E19,-($C19-1),0,1,1):I19,I19)=$T$3),"",IF(AND($B20="",$B19<>"",COUNTIF(I$8:I19,"R")),COUNTIF(I$8:I19,"R")&"R",IF($B20="","",IF(AND($B20=I$7,I19<>"",COUNTIF(OFFSET($B19,-($C19-1),0,1,1):$B19,I$7)>0),"R",IF(I19="R",$A19,IF($B20=I$7,$A20,I19))))))) -> R | J20: =IF($A20="","",IF(AND(J19<>"",$C20=$T$3,COUNTIF(OFFSET($E19,-($C19-1),0,1,1):J19,J19)=$T$3),"",IF(AND($B20="",$B19<>"",COUNTIF(J$8:J19,"R")),COUNTIF(J$8:J19,"R")&"R",IF($B20="","",IF(AND($B20=J$7,J19<>"",COUNTIF(OFFSET($B19,-($C19-1),0,1,1):$B19,J$7)>0),"R",IF(J19="R",$A19,IF($B20=J$7,$A20,J19))))))) | K20: =IF($A20="","",IF(AND(K19<>"",$C20=$T$3,COUNTIF(OFFSET($E19,-($C19-1),0,1,1):K19,K19)=$T$3),"",IF(AND($B20="",$B19<>"",COUNTIF(K$8:K19,"R")),COUNTIF(K$8:K19,"R")&"R",IF($B20="","",IF(AND($B20=K$7,K19<>"",COUNTIF(OFFSET($B19,-($C19-1),0,1,1):$B19,K$7)>0),"R",IF(K19="R",$A19,IF($B20=K$7,$A20,K19))))))) -> 4 | L20: =IF($A20="","",IF(AND(L19<>"",$C20=$T$3,COUNTIF(OFFSET($E19,-($C19-1),0,1,1):L19,L19)=$T$3),"",IF(AND($B20="",$B19<>"",COUNTIF(L$8:L19,"R")),COUNTIF(L$8:L19,"R")&"R",IF($B20="","",IF(AND($B20=L$7,L19<>"",COUNTIF(OFFSET($B19,-($C19-1),0,1,1):$B19,L$7)>0),"R",IF(L19="R",$A19,IF($B20=L$7,$A20,L19))))))) | ... AP20: =IF($A20="","",IF(AND(AP19<>"",$C20=$T$3,COUNTIF(OFFSET($E19,-($C19-1),0,1,1):AP19,AP19)=$T$3),"",IF(AND($B20="",$B19<>"",COUNTIF(AP$8:AP19,"R")),COUNTIF(AP$8:AP19,"R")&"R",IF($B20="","",IF(AND($B20=AP$7,AP19<>"",COUNTIF(OFFSET($B19,-($C19-1),0,1,1):$B19,AP$7)>0),"R",IF(AP19="R",$A19,IF($B20=AP$7,$A20,AP19)))))))
... A81: 74 | B81: =IF(Q$3="American",RANDBETWEEN(0,37),RANDBETWEEN(0,36)) -> 11 | C81: =IF(A81<T$3,A81,T$3) -> 37 | D81: =IF(COUNTIF(B$8:B80,B81)=0,"",COUNTIF(B$8:B80,B81)) -> 1 | E81: =IF($A81="","",IF(AND(E80<>"",$C81=$T$3,COUNTIF(OFFSET($E80,-($C80-1),0,1,1):E80,E80)=$T$3),"",IF(AND($B81="",$B80<>"",COUNTIF(E$8:E80,"R")),COUNTIF(E$8:E80,"R")&"R",IF($B81="","",IF(AND($B81=E$7,E80<>"",COUNTIF(OFFSET($B80,-($C80-1),0,1,1):$B80,E$7)>0),"R",IF(E80="R",$A80,IF($B81=E$7,$A81,E80))))))) | F81: =IF($A81="","",IF(AND(F80<>"",$C81=$T$3,COUNTIF(OFFSET($E80,-($C80-1),0,1,1):F80,F80)=$T$3),"",IF(AND($B81="",$B80<>"",COUNTIF(F$8:F80,"R")),COUNTIF(F$8:F80,"R")&"R",IF($B81="","",IF(AND($B81=F$7,F80<>"",COUNTIF(OFFSET($B80,-($C80-1),0,1,1):$B80,F$7)>0),"R",IF(F80="R",$A80,IF($B81=F$7,$A81,F80))))))) -> 63 | G81: =IF($A81="","",IF(AND(G80<>"",$C81=$T$3,COUNTIF(OFFSET($E80,-($C80-1),0,1,1):G80,G80)=$T$3),"",IF(AND($B81="",$B80<>"",COUNTIF(G$8:G80,"R")),COUNTIF(G$8:G80,"R")&"R",IF($B81="","",IF(AND($B81=G$7,G80<>"",COUNTIF(OFFSET($B80,-($C80-1),0,1,1):$B80,G$7)>0),"R",IF(G80="R",$A80,IF($B81=G$7,$A81,G80))))))) -> 38 | H81: =IF($A81="","",IF(AND(H80<>"",$C81=$T$3,COUNTIF(OFFSET($E80,-($C80-1),0,1,1):H80,H80)=$T$3),"",IF(AND($B81="",$B80<>"",COUNTIF(H$8:H80,"R")),COUNTIF(H$8:H80,"R")&"R",IF($B81="","",IF(AND($B81=H$7,H80<>"",COUNTIF(OFFSET($B80,-($C80-1),0,1,1):$B80,H$7)>0),"R",IF(H80="R",$A80,IF($B81=H$7,$A81,H80))))))) | I81: =IF($A81="","",IF(AND(I80<>"",$C81=$T$3,COUNTIF(OFFSET($E80,-($C80-1),0,1,1):I80,I80)=$T$3),"",IF(AND($B81="",$B80<>"",COUNTIF(I$8:I80,"R")),COUNTIF(I$8:I80,"R")&"R",IF($B81="","",IF(AND($B81=I$7,I80<>"",COUNTIF(OFFSET($B80,-($C80-1),0,1,1):$B80,I$7)>0),"R",IF(I80="R",$A80,IF($B81=I$7,$A81,I80))))))) | J81: =IF($A81="","",IF(AND(J80<>"",$C81=$T$3,COUNTIF(OFFSET($E80,-($C80-1),0,1,1):J80,J80)=$T$3),"",IF(AND($B81="",$B80<>"",COUNTIF(J$8:J80,"R")),COUNTIF(J$8:J80,"R")&"R",IF($B81="","",IF(AND($B81=J$7,J80<>"",COUNTIF(OFFSET($B80,-($C80-1),0,1,1):$B80,J$7)>0),"R",IF(J80="R",$A80,IF($B81=J$7,$A81,J80))))))) | K81: =IF($A81="","",IF(AND(K80<>"",$C81=$T$3,COUNTIF(OFFSET($E80,-($C80-1),0,1,1):K80,K80)=$T$3),"",IF(AND($B81="",$B80<>"",COUNTIF(K$8:K80,"R")),COUNTIF(K$8:K80,"R")&"R",IF($B81="","",IF(AND($B81=K$7,K80<>"",COUNTIF(OFFSET($B80,-($C80-1),0,1,1):$B80,K$7)>0),"R",IF(K80="R",$A80,IF($B81=K$7,$A81,K80))))))) | L81: =IF($A81="","",IF(AND(L80<>"",$C81=$T$3,COUNTIF(OFFSET($E80,-($C80-1),0,1,1):L80,L80)=$T$3),"",IF(AND($B81="",$B80<>"",COUNTIF(L$8:L80,"R")),COUNTIF(L$8:L80,"R")&"R",IF($B81="","",IF(AND($B81=L$7,L80<>"",COUNTIF(OFFSET($B80,-($C80-1),0,1,1):$B80,L$7)>0),"R",IF(L80="R",$A80,IF($B81=L$7,$A81,L80))))))) -> 40 | ... AP81: =IF($A81="","",IF(AND(AP80<>"",$C81=$T$3,COUNTIF(OFFSET($E80,-($C80-1),0,1,1):AP80,AP80)=$T$3),"",IF(AND($B81="",$B80<>"",COUNTIF(AP$8:AP80,"R")),COUNTIF(AP$8:AP80,"R")&"R",IF($B81="","",IF(AND($B81=AP$7,AP80<>"",COUNTIF(OFFSET($B80,-($C80-1),0,1,1):$B80,AP$7)>0),"R",IF(AP80="R",$A80,IF($B81=AP$7,$A81,AP80)))))))
A82: 75 | C82: =IF(A82<T$3,A82,T$3) -> 37 | D82: =IF(COUNTIF(B$8:B81,B82)=0,"",COUNTIF(B$8:B81,B82)) | E82: =IF($A82="","",IF(AND(E81<>"",$C82=$T$3,COUNTIF(OFFSET($E81,-($C81-1),0,1,1):E81,E81)=$T$3),"",IF(AND($B82="",$B81<>"",COUNTIF(E$8:E81,"R")),COUNTIF(E$8:E81,"R")&"R",IF($B82="","",IF(AND($B82=E$7,E81<>"",COUNTIF(OFFSET($B81,-($C81-1),0,1,1):$B81,E$7)>0),"R",IF(E81="R",$A81,IF($B82=E$7,$A82,E81))))))) | F82: =IF($A82="","",IF(AND(F81<>"",$C82=$T$3,COUNTIF(OFFSET($E81,-($C81-1),0,1,1):F81,F81)=$T$3),"",IF(AND($B82="",$B81<>"",COUNTIF(F$8:F81,"R")),COUNTIF(F$8:F81,"R")&"R",IF($B82="","",IF(AND($B82=F$7,F81<>"",COUNTIF(OFFSET($B81,-($C81-1),0,1,1):$B81,F$7)>0),"R",IF(F81="R",$A81,IF($B82=F$7,$A82,F81))))))) | G82: =IF($A82="","",IF(AND(G81<>"",$C82=$T$3,COUNTIF(OFFSET($E81,-($C81-1),0,1,1):G81,G81)=$T$3),"",IF(AND($B82="",$B81<>"",COUNTIF(G$8:G81,"R")),COUNTIF(G$8:G81,"R")&"R",IF($B82="","",IF(AND($B82=G$7,G81<>"",COUNTIF(OFFSET($B81,-($C81-1),0,1,1):$B81,G$7)>0),"R",IF(G81="R",$A81,IF($B82=G$7,$A82,G81))))))) -> 1R | H82: =IF($A82="","",IF(AND(H81<>"",$C82=$T$3,COUNTIF(OFFSET($E81,-($C81-1),0,1,1):H81,H81)=$T$3),"",IF(AND($B82="",$B81<>"",COUNTIF(H$8:H81,"R")),COUNTIF(H$8:H81,"R")&"R",IF($B82="","",IF(AND($B82=H$7,H81<>"",COUNTIF(OFFSET($B81,-($C81-1),0,1,1):$B81,H$7)>0),"R",IF(H81="R",$A81,IF($B82=H$7,$A82,H81))))))) | I82: =IF($A82="","",IF(AND(I81<>"",$C82=$T$3,COUNTIF(OFFSET($E81,-($C81-1),0,1,1):I81,I81)=$T$3),"",IF(AND($B82="",$B81<>"",COUNTIF(I$8:I81,"R")),COUNTIF(I$8:I81,"R")&"R",IF($B82="","",IF(AND($B82=I$7,I81<>"",COUNTIF(OFFSET($B81,-($C81-1),0,1,1):$B81,I$7)>0),"R",IF(I81="R",$A81,IF($B82=I$7,$A82,I81))))))) -> 2R | J82: =IF($A82="","",IF(AND(J81<>"",$C82=$T$3,COUNTIF(OFFSET($E81,-($C81-1),0,1,1):J81,J81)=$T$3),"",IF(AND($B82="",$B81<>"",COUNTIF(J$8:J81,"R")),COUNTIF(J$8:J81,"R")&"R",IF($B82="","",IF(AND($B82=J$7,J81<>"",COUNTIF(OFFSET($B81,-($C81-1),0,1,1):$B81,J$7)>0),"R",IF(J81="R",$A81,IF($B82=J$7,$A82,J81))))))) | K82: =IF($A82="","",IF(AND(K81<>"",$C82=$T$3,COUNTIF(OFFSET($E81,-($C81-1),0,1,1):K81,K81)=$T$3),"",IF(AND($B82="",$B81<>"",COUNTIF(K$8:K81,"R")),COUNTIF(K$8:K81,"R")&"R",IF($B82="","",IF(AND($B82=K$7,K81<>"",COUNTIF(OFFSET($B81,-($C81-1),0,1,1):$B81,K$7)>0),"R",IF(K81="R",$A81,IF($B82=K$7,$A82,K81))))))) -> 2R | L82: =IF($A82="","",IF(AND(L81<>"",$C82=$T$3,COUNTIF(OFFSET($E81,-($C81-1),0,1,1):L81,L81)=$T$3),"",IF(AND($B82="",$B81<>"",COUNTIF(L$8:L81,"R")),COUNTIF(L$8:L81,"R")&"R",IF($B82="","",IF(AND($B82=L$7,L81<>"",COUNTIF(OFFSET($B81,-($C81-1),0,1,1):$B81,L$7)>0),"R",IF(L81="R",$A81,IF($B82=L$7,$A82,L81))))))) -> 1R | ... AP82: =IF($A82="","",IF(AND(AP81<>"",$C82=$T$3,COUNTIF(OFFSET($E81,-($C81-1),0,1,1):AP81,AP81)=$T$3),"",IF(AND($B82="",$B81<>"",COUNTIF(AP$8:AP81,"R")),COUNTIF(AP$8:AP81,"R")&"R",IF($B82="","",IF(AND($B82=AP$7,AP81<>"",COUNTIF(OFFSET($B81,-($C81-1),0,1,1):$B81,AP$7)>0),"R",IF(AP81="R",$A81,IF($B82=AP$7,$A82,AP81)))))))
A83: 76 | C83: =IF(A83<T$3,A83,T$3) -> 37 | D83: =IF(COUNTIF(B$8:B82,B83)=0,"",COUNTIF(B$8:B82,B83)) | E83: =IF($A83="","",IF(AND(E82<>"",$C83=$T$3,COUNTIF(OFFSET($E82,-($C82-1),0,1,1):E82,E82)=$T$3),"",IF(AND($B83="",$B82<>"",COUNTIF(E$8:E82,"R")),COUNTIF(E$8:E82,"R")&"R",IF($B83="","",IF(AND($B83=E$7,E82<>"",COUNTIF(OFFSET($B82,-($C82-1),0,1,1):$B82,E$7)>0),"R",IF(E82="R",$A82,IF($B83=E$7,$A83,E82))))))) | F83: =IF($A83="","",IF(AND(F82<>"",$C83=$T$3,COUNTIF(OFFSET($E82,-($C82-1),0,1,1):F82,F82)=$T$3),"",IF(AND($B83="",$B82<>"",COUNTIF(F$8:F82,"R")),COUNTIF(F$8:F82,"R")&"R",IF($B83="","",IF(AND($B83=F$7,F82<>"",COUNTIF(OFFSET($B82,-($C82-1),0,1,1):$B82,F$7)>0),"R",IF(F82="R",$A82,IF($B83=F$7,$A83,F82))))))) | G83: =IF($A83="","",IF(AND(G82<>"",$C83=$T$3,COUNTIF(OFFSET($E82,-($C82-1),0,1,1):G82,G82)=$T$3),"",IF(AND($B83="",$B82<>"",COUNTIF(G$8:G82,"R")),COUNTIF(G$8:G82,"R")&"R",IF($B83="","",IF(AND($B83=G$7,G82<>"",COUNTIF(OFFSET($B82,-($C82-1),0,1,1):$B82,G$7)>0),"R",IF(G82="R",$A82,IF($B83=G$7,$A83,G82))))))) | H83: =IF($A83="","",IF(AND(H82<>"",$C83=$T$3,COUNTIF(OFFSET($E82,-($C82-1),0,1,1):H82,H82)=$T$3),"",IF(AND($B83="",$B82<>"",COUNTIF(H$8:H82,"R")),COUNTIF(H$8:H82,"R")&"R",IF($B83="","",IF(AND($B83=H$7,H82<>"",COUNTIF(OFFSET($B82,-($C82-1),0,1,1):$B82,H$7)>0),"R",IF(H82="R",$A82,IF($B83=H$7,$A83,H82))))))) | I83: =IF($A83="","",IF(AND(I82<>"",$C83=$T$3,COUNTIF(OFFSET($E82,-($C82-1),0,1,1):I82,I82)=$T$3),"",IF(AND($B83="",$B82<>"",COUNTIF(I$8:I82,"R")),COUNTIF(I$8:I82,"R")&"R",IF($B83="","",IF(AND($B83=I$7,I82<>"",COUNTIF(OFFSET($B82,-($C82-1),0,1,1):$B82,I$7)>0),"R",IF(I82="R",$A82,IF($B83=I$7,$A83,I82))))))) | J83: =IF($A83="","",IF(AND(J82<>"",$C83=$T$3,COUNTIF(OFFSET($E82,-($C82-1),0,1,1):J82,J82)=$T$3),"",IF(AND($B83="",$B82<>"",COUNTIF(J$8:J82,"R")),COUNTIF(J$8:J82,"R")&"R",IF($B83="","",IF(AND($B83=J$7,J82<>"",COUNTIF(OFFSET($B82,-($C82-1),0,1,1):$B82,J$7)>0),"R",IF(J82="R",$A82,IF($B83=J$7,$A83,J82))))))) | K83: =IF($A83="","",IF(AND(K82<>"",$C83=$T$3,COUNTIF(OFFSET($E82,-($C82-1),0,1,1):K82,K82)=$T$3),"",IF(AND($B83="",$B82<>"",COUNTIF(K$8:K82,"R")),COUNTIF(K$8:K82,"R")&"R",IF($B83="","",IF(AND($B83=K$7,K82<>"",COUNTIF(OFFSET($B82,-($C82-1),0,1,1):$B82,K$7)>0),"R",IF(K82="R",$A82,IF($B83=K$7,$A83,K82))))))) | L83: =IF($A83="","",IF(AND(L82<>"",$C83=$T$3,COUNTIF(OFFSET($E82,-($C82-1),0,1,1):L82,L82)=$T$3),"",IF(AND($B83="",$B82<>"",COUNTIF(L$8:L82,"R")),COUNTIF(L$8:L82,"R")&"R",IF($B83="","",IF(AND($B83=L$7,L82<>"",COUNTIF(OFFSET($B82,-($C82-1),0,1,1):$B82,L$7)>0),"R",IF(L82="R",$A82,IF($B83=L$7,$A83,L82))))))) | ... AP83: =IF($A83="","",IF(AND(AP82<>"",$C83=$T$3,COUNTIF(OFFSET($E82,-($C82-1),0,1,1):AP82,AP82)=$T$3),"",IF(AND($B83="",$B82<>"",COUNTIF(AP$8:AP82,"R")),COUNTIF(AP$8:AP82,"R")&"R",IF($B83="","",IF(AND($B83=AP$7,AP82<>"",COUNTIF(OFFSET($B82,-($C82-1),0,1,1):$B82,AP$7)>0),"R",IF(AP82="R",$A82,IF($B83=AP$7,$A83,AP82)))))))
A84: 77 | C84: =IF(A84<T$3,A84,T$3) -> 37 | D84: =IF(COUNTIF(B$8:B83,B84)=0,"",COUNTIF(B$8:B83,B84)) | E84: =IF($A84="","",IF(AND(E83<>"",$C84=$T$3,COUNTIF(OFFSET($E83,-($C83-1),0,1,1):E83,E83)=$T$3),"",IF(AND($B84="",$B83<>"",COUNTIF(E$8:E83,"R")),COUNTIF(E$8:E83,"R")&"R",IF($B84="","",IF(AND($B84=E$7,E83<>"",COUNTIF(OFFSET($B83,-($C83-1),0,1,1):$B83,E$7)>0),"R",IF(E83="R",$A83,IF($B84=E$7,$A84,E83))))))) | F84: =IF($A84="","",IF(AND(F83<>"",$C84=$T$3,COUNTIF(OFFSET($E83,-($C83-1),0,1,1):F83,F83)=$T$3),"",IF(AND($B84="",$B83<>"",COUNTIF(F$8:F83,"R")),COUNTIF(F$8:F83,"R")&"R",IF($B84="","",IF(AND($B84=F$7,F83<>"",COUNTIF(OFFSET($B83,-($C83-1),0,1,1):$B83,F$7)>0),"R",IF(F83="R",$A83,IF($B84=F$7,$A84,F83))))))) | G84: =IF($A84="","",IF(AND(G83<>"",$C84=$T$3,COUNTIF(OFFSET($E83,-($C83-1),0,1,1):G83,G83)=$T$3),"",IF(AND($B84="",$B83<>"",COUNTIF(G$8:G83,"R")),COUNTIF(G$8:G83,"R")&"R",IF($B84="","",IF(AND($B84=G$7,G83<>"",COUNTIF(OFFSET($B83,-($C83-1),0,1,1):$B83,G$7)>0),"R",IF(G83="R",$A83,IF($B84=G$7,$A84,G83))))))) | H84: =IF($A84="","",IF(AND(H83<>"",$C84=$T$3,COUNTIF(OFFSET($E83,-($C83-1),0,1,1):H83,H83)=$T$3),"",IF(AND($B84="",$B83<>"",COUNTIF(H$8:H83,"R")),COUNTIF(H$8:H83,"R")&"R",IF($B84="","",IF(AND($B84=H$7,H83<>"",COUNTIF(OFFSET($B83,-($C83-1),0,1,1):$B83,H$7)>0),"R",IF(H83="R",$A83,IF($B84=H$7,$A84,H83))))))) | I84: =IF($A84="","",IF(AND(I83<>"",$C84=$T$3,COUNTIF(OFFSET($E83,-($C83-1),0,1,1):I83,I83)=$T$3),"",IF(AND($B84="",$B83<>"",COUNTIF(I$8:I83,"R")),COUNTIF(I$8:I83,"R")&"R",IF($B84="","",IF(AND($B84=I$7,I83<>"",COUNTIF(OFFSET($B83,-($C83-1),0,1,1):$B83,I$7)>0),"R",IF(I83="R",$A83,IF($B84=I$7,$A84,I83))))))) | J84: =IF($A84="","",IF(AND(J83<>"",$C84=$T$3,COUNTIF(OFFSET($E83,-($C83-1),0,1,1):J83,J83)=$T$3),"",IF(AND($B84="",$B83<>"",COUNTIF(J$8:J83,"R")),COUNTIF(J$8:J83,"R")&"R",IF($B84="","",IF(AND($B84=J$7,J83<>"",COUNTIF(OFFSET($B83,-($C83-1),0,1,1):$B83,J$7)>0),"R",IF(J83="R",$A83,IF($B84=J$7,$A84,J83))))))) | K84: =IF($A84="","",IF(AND(K83<>"",$C84=$T$3,COUNTIF(OFFSET($E83,-($C83-1),0,1,1):K83,K83)=$T$3),"",IF(AND($B84="",$B83<>"",COUNTIF(K$8:K83,"R")),COUNTIF(K$8:K83,"R")&"R",IF($B84="","",IF(AND($B84=K$7,K83<>"",COUNTIF(OFFSET($B83,-($C83-1),0,1,1):$B83,K$7)>0),"R",IF(K83="R",$A83,IF($B84=K$7,$A84,K83))))))) | L84: =IF($A84="","",IF(AND(L83<>"",$C84=$T$3,COUNTIF(OFFSET($E83,-($C83-1),0,1,1):L83,L83)=$T$3),"",IF(AND($B84="",$B83<>"",COUNTIF(L$8:L83,"R")),COUNTIF(L$8:L83,"R")&"R",IF($B84="","",IF(AND($B84=L$7,L83<>"",COUNTIF(OFFSET($B83,-($C83-1),0,1,1):$B83,L$7)>0),"R",IF(L83="R",$A83,IF($B84=L$7,$A84,L83))))))) | ... AP84: =IF($A84="","",IF(AND(AP83<>"",$C84=$T$3,COUNTIF(OFFSET($E83,-($C83-1),0,1,1):AP83,AP83)=$T$3),"",IF(AND($B84="",$B83<>"",COUNTIF(AP$8:AP83,"R")),COUNTIF(AP$8:AP83,"R")&"R",IF($B84="","",IF(AND($B84=AP$7,AP83<>"",COUNTIF(OFFSET($B83,-($C83-1),0,1,1):$B83,AP$7)>0),"R",IF(AP83="R",$A83,IF($B84=AP$7,$A84,AP83)))))))
A85: 78 | C85: =IF(A85<T$3,A85,T$3) -> 37 | D85: =IF(COUNTIF(B$8:B84,B85)=0,"",COUNTIF(B$8:B84,B85)) | E85: =IF($A85="","",IF(AND(E84<>"",$C85=$T$3,COUNTIF(OFFSET($E84,-($C84-1),0,1,1):E84,E84)=$T$3),"",IF(AND($B85="",$B84<>"",COUNTIF(E$8:E84,"R")),COUNTIF(E$8:E84,"R")&"R",IF($B85="","",IF(AND($B85=E$7,E84<>"",COUNTIF(OFFSET($B84,-($C84-1),0,1,1):$B84,E$7)>0),"R",IF(E84="R",$A84,IF($B85=E$7,$A85,E84))))))) | F85: =IF($A85="","",IF(AND(F84<>"",$C85=$T$3,COUNTIF(OFFSET($E84,-($C84-1),0,1,1):F84,F84)=$T$3),"",IF(AND($B85="",$B84<>"",COUNTIF(F$8:F84,"R")),COUNTIF(F$8:F84,"R")&"R",IF($B85="","",IF(AND($B85=F$7,F84<>"",COUNTIF(OFFSET($B84,-($C84-1),0,1,1):$B84,F$7)>0),"R",IF(F84="R",$A84,IF($B85=F$7,$A85,F84))))))) | G85: =IF($A85="","",IF(AND(G84<>"",$C85=$T$3,COUNTIF(OFFSET($E84,-($C84-1),0,1,1):G84,G84)=$T$3),"",IF(AND($B85="",$B84<>"",COUNTIF(G$8:G84,"R")),COUNTIF(G$8:G84,"R")&"R",IF($B85="","",IF(AND($B85=G$7,G84<>"",COUNTIF(OFFSET($B84,-($C84-1),0,1,1):$B84,G$7)>0),"R",IF(G84="R",$A84,IF($B85=G$7,$A85,G84))))))) | H85: =IF($A85="","",IF(AND(H84<>"",$C85=$T$3,COUNTIF(OFFSET($E84,-($C84-1),0,1,1):H84,H84)=$T$3),"",IF(AND($B85="",$B84<>"",COUNTIF(H$8:H84,"R")),COUNTIF(H$8:H84,"R")&"R",IF($B85="","",IF(AND($B85=H$7,H84<>"",COUNTIF(OFFSET($B84,-($C84-1),0,1,1):$B84,H$7)>0),"R",IF(H84="R",$A84,IF($B85=H$7,$A85,H84))))))) | I85: =IF($A85="","",IF(AND(I84<>"",$C85=$T$3,COUNTIF(OFFSET($E84,-($C84-1),0,1,1):I84,I84)=$T$3),"",IF(AND($B85="",$B84<>"",COUNTIF(I$8:I84,"R")),COUNTIF(I$8:I84,"R")&"R",IF($B85="","",IF(AND($B85=I$7,I84<>"",COUNTIF(OFFSET($B84,-($C84-1),0,1,1):$B84,I$7)>0),"R",IF(I84="R",$A84,IF($B85=I$7,$A85,I84))))))) | J85: =IF($A85="","",IF(AND(J84<>"",$C85=$T$3,COUNTIF(OFFSET($E84,-($C84-1),0,1,1):J84,J84)=$T$3),"",IF(AND($B85="",$B84<>"",COUNTIF(J$8:J84,"R")),COUNTIF(J$8:J84,"R")&"R",IF($B85="","",IF(AND($B85=J$7,J84<>"",COUNTIF(OFFSET($B84,-($C84-1),0,1,1):$B84,J$7)>0),"R",IF(J84="R",$A84,IF($B85=J$7,$A85,J84))))))) | K85: =IF($A85="","",IF(AND(K84<>"",$C85=$T$3,COUNTIF(OFFSET($E84,-($C84-1),0,1,1):K84,K84)=$T$3),"",IF(AND($B85="",$B84<>"",COUNTIF(K$8:K84,"R")),COUNTIF(K$8:K84,"R")&"R",IF($B85="","",IF(AND($B85=K$7,K84<>"",COUNTIF(OFFSET($B84,-($C84-1),0,1,1):$B84,K$7)>0),"R",IF(K84="R",$A84,IF($B85=K$7,$A85,K84))))))) | L85: =IF($A85="","",IF(AND(L84<>"",$C85=$T$3,COUNTIF(OFFSET($E84,-($C84-1),0,1,1):L84,L84)=$T$3),"",IF(AND($B85="",$B84<>"",COUNTIF(L$8:L84,"R")),COUNTIF(L$8:L84,"R")&"R",IF($B85="","",IF(AND($B85=L$7,L84<>"",COUNTIF(OFFSET($B84,-($C84-1),0,1,1):$B84,L$7)>0),"R",IF(L84="R",$A84,IF($B85=L$7,$A85,L84))))))) | ... AP85: =IF($A85="","",IF(AND(AP84<>"",$C85=$T$3,COUNTIF(OFFSET($E84,-($C84-1),0,1,1):AP84,AP84)=$T$3),"",IF(AND($B85="",$B84<>"",COUNTIF(AP$8:AP84,"R")),COUNTIF(AP$8:AP84,"R")&"R",IF($B85="","",IF(AND($B85=AP$7,AP84<>"",COUNTIF(OFFSET($B84,-($C84-1),0,1,1):$B84,AP$7)>0),"R",IF(AP84="R",$A84,IF($B85=AP$7,$A85,AP84)))))))
A86: 79 | C86: =IF(A86<T$3,A86,T$3) -> 37 | D86: =IF(COUNTIF(B$8:B85,B86)=0,"",COUNTIF(B$8:B85,B86)) | E86: =IF($A86="","",IF(AND(E85<>"",$C86=$T$3,COUNTIF(OFFSET($E85,-($C85-1),0,1,1):E85,E85)=$T$3),"",IF(AND($B86="",$B85<>"",COUNTIF(E$8:E85,"R")),COUNTIF(E$8:E85,"R")&"R",IF($B86="","",IF(AND($B86=E$7,E85<>"",COUNTIF(OFFSET($B85,-($C85-1),0,1,1):$B85,E$7)>0),"R",IF(E85="R",$A85,IF($B86=E$7,$A86,E85))))))) | F86: =IF($A86="","",IF(AND(F85<>"",$C86=$T$3,COUNTIF(OFFSET($E85,-($C85-1),0,1,1):F85,F85)=$T$3),"",IF(AND($B86="",$B85<>"",COUNTIF(F$8:F85,"R")),COUNTIF(F$8:F85,"R")&"R",IF($B86="","",IF(AND($B86=F$7,F85<>"",COUNTIF(OFFSET($B85,-($C85-1),0,1,1):$B85,F$7)>0),"R",IF(F85="R",$A85,IF($B86=F$7,$A86,F85))))))) | G86: =IF($A86="","",IF(AND(G85<>"",$C86=$T$3,COUNTIF(OFFSET($E85,-($C85-1),0,1,1):G85,G85)=$T$3),"",IF(AND($B86="",$B85<>"",COUNTIF(G$8:G85,"R")),COUNTIF(G$8:G85,"R")&"R",IF($B86="","",IF(AND($B86=G$7,G85<>"",COUNTIF(OFFSET($B85,-($C85-1),0,1,1):$B85,G$7)>0),"R",IF(G85="R",$A85,IF($B86=G$7,$A86,G85))))))) | H86: =IF($A86="","",IF(AND(H85<>"",$C86=$T$3,COUNTIF(OFFSET($E85,-($C85-1),0,1,1):H85,H85)=$T$3),"",IF(AND($B86="",$B85<>"",COUNTIF(H$8:H85,"R")),COUNTIF(H$8:H85,"R")&"R",IF($B86="","",IF(AND($B86=H$7,H85<>"",COUNTIF(OFFSET($B85,-($C85-1),0,1,1):$B85,H$7)>0),"R",IF(H85="R",$A85,IF($B86=H$7,$A86,H85))))))) | I86: =IF($A86="","",IF(AND(I85<>"",$C86=$T$3,COUNTIF(OFFSET($E85,-($C85-1),0,1,1):I85,I85)=$T$3),"",IF(AND($B86="",$B85<>"",COUNTIF(I$8:I85,"R")),COUNTIF(I$8:I85,"R")&"R",IF($B86="","",IF(AND($B86=I$7,I85<>"",COUNTIF(OFFSET($B85,-($C85-1),0,1,1):$B85,I$7)>0),"R",IF(I85="R",$A85,IF($B86=I$7,$A86,I85))))))) | J86: =IF($A86="","",IF(AND(J85<>"",$C86=$T$3,COUNTIF(OFFSET($E85,-($C85-1),0,1,1):J85,J85)=$T$3),"",IF(AND($B86="",$B85<>"",COUNTIF(J$8:J85,"R")),COUNTIF(J$8:J85,"R")&"R",IF($B86="","",IF(AND($B86=J$7,J85<>"",COUNTIF(OFFSET($B85,-($C85-1),0,1,1):$B85,J$7)>0),"R",IF(J85="R",$A85,IF($B86=J$7,$A86,J85))))))) | K86: =IF($A86="","",IF(AND(K85<>"",$C86=$T$3,COUNTIF(OFFSET($E85,-($C85-1),0,1,1):K85,K85)=$T$3),"",IF(AND($B86="",$B85<>"",COUNTIF(K$8:K85,"R")),COUNTIF(K$8:K85,"R")&"R",IF($B86="","",IF(AND($B86=K$7,K85<>"",COUNTIF(OFFSET($B85,-($C85-1),0,1,1):$B85,K$7)>0),"R",IF(K85="R",$A85,IF($B86=K$7,$A86,K85))))))) | L86: =IF($A86="","",IF(AND(L85<>"",$C86=$T$3,COUNTIF(OFFSET($E85,-($C85-1),0,1,1):L85,L85)=$T$3),"",IF(AND($B86="",$B85<>"",COUNTIF(L$8:L85,"R")),COUNTIF(L$8:L85,"R")&"R",IF($B86="","",IF(AND($B86=L$7,L85<>"",COUNTIF(OFFSET($B85,-($C85-1),0,1,1):$B85,L$7)>0),"R",IF(L85="R",$A85,IF($B86=L$7,$A86,L85))))))) | ... AP86: =IF($A86="","",IF(AND(AP85<>"",$C86=$T$3,COUNTIF(OFFSET($E85,-($C85-1),0,1,1):AP85,AP85)=$T$3),"",IF(AND($B86="",$B85<>"",COUNTIF(AP$8:AP85,"R")),COUNTIF(AP$8:AP85,"R")&"R",IF($B86="","",IF(AND($B86=AP$7,AP85<>"",COUNTIF(OFFSET($B85,-($C85-1),0,1,1):$B85,AP$7)>0),"R",IF(AP85="R",$A85,IF($B86=AP$7,$A86,AP85)))))))
A87: 80 | C87: =IF(A87<T$3,A87,T$3) -> 37 | D87: =IF(COUNTIF(B$8:B86,B87)=0,"",COUNTIF(B$8:B86,B87)) | E87: =IF($A87="","",IF(AND(E86<>"",$C87=$T$3,COUNTIF(OFFSET($E86,-($C86-1),0,1,1):E86,E86)=$T$3),"",IF(AND($B87="",$B86<>"",COUNTIF(E$8:E86,"R")),COUNTIF(E$8:E86,"R")&"R",IF($B87="","",IF(AND($B87=E$7,E86<>"",COUNTIF(OFFSET($B86,-($C86-1),0,1,1):$B86,E$7)>0),"R",IF(E86="R",$A86,IF($B87=E$7,$A87,E86))))))) | F87: =IF($A87="","",IF(AND(F86<>"",$C87=$T$3,COUNTIF(OFFSET($E86,-($C86-1),0,1,1):F86,F86)=$T$3),"",IF(AND($B87="",$B86<>"",COUNTIF(F$8:F86,"R")),COUNTIF(F$8:F86,"R")&"R",IF($B87="","",IF(AND($B87=F$7,F86<>"",COUNTIF(OFFSET($B86,-($C86-1),0,1,1):$B86,F$7)>0),"R",IF(F86="R",$A86,IF($B87=F$7,$A87,F86))))))) | G87: =IF($A87="","",IF(AND(G86<>"",$C87=$T$3,COUNTIF(OFFSET($E86,-($C86-1),0,1,1):G86,G86)=$T$3),"",IF(AND($B87="",$B86<>"",COUNTIF(G$8:G86,"R")),COUNTIF(G$8:G86,"R")&"R",IF($B87="","",IF(AND($B87=G$7,G86<>"",COUNTIF(OFFSET($B86,-($C86-1),0,1,1):$B86,G$7)>0),"R",IF(G86="R",$A86,IF($B87=G$7,$A87,G86))))))) | H87: =IF($A87="","",IF(AND(H86<>"",$C87=$T$3,COUNTIF(OFFSET($E86,-($C86-1),0,1,1):H86,H86)=$T$3),"",IF(AND($B87="",$B86<>"",COUNTIF(H$8:H86,"R")),COUNTIF(H$8:H86,"R")&"R",IF($B87="","",IF(AND($B87=H$7,H86<>"",COUNTIF(OFFSET($B86,-($C86-1),0,1,1):$B86,H$7)>0),"R",IF(H86="R",$A86,IF($B87=H$7,$A87,H86))))))) | I87: =IF($A87="","",IF(AND(I86<>"",$C87=$T$3,COUNTIF(OFFSET($E86,-($C86-1),0,1,1):I86,I86)=$T$3),"",IF(AND($B87="",$B86<>"",COUNTIF(I$8:I86,"R")),COUNTIF(I$8:I86,"R")&"R",IF($B87="","",IF(AND($B87=I$7,I86<>"",COUNTIF(OFFSET($B86,-($C86-1),0,1,1):$B86,I$7)>0),"R",IF(I86="R",$A86,IF($B87=I$7,$A87,I86))))))) | J87: =IF($A87="","",IF(AND(J86<>"",$C87=$T$3,COUNTIF(OFFSET($E86,-($C86-1),0,1,1):J86,J86)=$T$3),"",IF(AND($B87="",$B86<>"",COUNTIF(J$8:J86,"R")),COUNTIF(J$8:J86,"R")&"R",IF($B87="","",IF(AND($B87=J$7,J86<>"",COUNTIF(OFFSET($B86,-($C86-1),0,1,1):$B86,J$7)>0),"R",IF(J86="R",$A86,IF($B87=J$7,$A87,J86))))))) | K87: =IF($A87="","",IF(AND(K86<>"",$C87=$T$3,COUNTIF(OFFSET($E86,-($C86-1),0,1,1):K86,K86)=$T$3),"",IF(AND($B87="",$B86<>"",COUNTIF(K$8:K86,"R")),COUNTIF(K$8:K86,"R")&"R",IF($B87="","",IF(AND($B87=K$7,K86<>"",COUNTIF(OFFSET($B86,-($C86-1),0,1,1):$B86,K$7)>0),"R",IF(K86="R",$A86,IF($B87=K$7,$A87,K86))))))) | L87: =IF($A87="","",IF(AND(L86<>"",$C87=$T$3,COUNTIF(OFFSET($E86,-($C86-1),0,1,1):L86,L86)=$T$3),"",IF(AND($B87="",$B86<>"",COUNTIF(L$8:L86,"R")),COUNTIF(L$8:L86,"R")&"R",IF($B87="","",IF(AND($B87=L$7,L86<>"",COUNTIF(OFFSET($B86,-($C86-1),0,1,1):$B86,L$7)>0),"R",IF(L86="R",$A86,IF($B87=L$7,$A87,L86))))))) | ... AP87: =IF($A87="","",IF(AND(AP86<>"",$C87=$T$3,COUNTIF(OFFSET($E86,-($C86-1),0,1,1):AP86,AP86)=$T$3),"",IF(AND($B87="",$B86<>"",COUNTIF(AP$8:AP86,"R")),COUNTIF(AP$8:AP86,"R")&"R",IF($B87="","",IF(AND($B87=AP$7,AP86<>"",COUNTIF(OFFSET($B86,-($C86-1),0,1,1):$B86,AP$7)>0),"R",IF(AP86="R",$A86,IF($B87=AP$7,$A87,AP86)))))))
A88: 81 | C88: =IF(A88<T$3,A88,T$3) -> 37 | D88: =IF(COUNTIF(B$8:B87,B88)=0,"",COUNTIF(B$8:B87,B88)) | E88: =IF($A88="","",IF(AND(E87<>"",$C88=$T$3,COUNTIF(OFFSET($E87,-($C87-1),0,1,1):E87,E87)=$T$3),"",IF(AND($B88="",$B87<>"",COUNTIF(E$8:E87,"R")),COUNTIF(E$8:E87,"R")&"R",IF($B88="","",IF(AND($B88=E$7,E87<>"",COUNTIF(OFFSET($B87,-($C87-1),0,1,1):$B87,E$7)>0),"R",IF(E87="R",$A87,IF($B88=E$7,$A88,E87))))))) | F88: =IF($A88="","",IF(AND(F87<>"",$C88=$T$3,COUNTIF(OFFSET($E87,-($C87-1),0,1,1):F87,F87)=$T$3),"",IF(AND($B88="",$B87<>"",COUNTIF(F$8:F87,"R")),COUNTIF(F$8:F87,"R")&"R",IF($B88="","",IF(AND($B88=F$7,F87<>"",COUNTIF(OFFSET($B87,-($C87-1),0,1,1):$B87,F$7)>0),"R",IF(F87="R",$A87,IF($B88=F$7,$A88,F87))))))) | G88: =IF($A88="","",IF(AND(G87<>"",$C88=$T$3,COUNTIF(OFFSET($E87,-($C87-1),0,1,1):G87,G87)=$T$3),"",IF(AND($B88="",$B87<>"",COUNTIF(G$8:G87,"R")),COUNTIF(G$8:G87,"R")&"R",IF($B88="","",IF(AND($B88=G$7,G87<>"",COUNTIF(OFFSET($B87,-($C87-1),0,1,1):$B87,G$7)>0),"R",IF(G87="R",$A87,IF($B88=G$7,$A88,G87))))))) | H88: =IF($A88="","",IF(AND(H87<>"",$C88=$T$3,COUNTIF(OFFSET($E87,-($C87-1),0,1,1):H87,H87)=$T$3),"",IF(AND($B88="",$B87<>"",COUNTIF(H$8:H87,"R")),COUNTIF(H$8:H87,"R")&"R",IF($B88="","",IF(AND($B88=H$7,H87<>"",COUNTIF(OFFSET($B87,-($C87-1),0,1,1):$B87,H$7)>0),"R",IF(H87="R",$A87,IF($B88=H$7,$A88,H87))))))) | I88: =IF($A88="","",IF(AND(I87<>"",$C88=$T$3,COUNTIF(OFFSET($E87,-($C87-1),0,1,1):I87,I87)=$T$3),"",IF(AND($B88="",$B87<>"",COUNTIF(I$8:I87,"R")),COUNTIF(I$8:I87,"R")&"R",IF($B88="","",IF(AND($B88=I$7,I87<>"",COUNTIF(OFFSET($B87,-($C87-1),0,1,1):$B87,I$7)>0),"R",IF(I87="R",$A87,IF($B88=I$7,$A88,I87))))))) | J88: =IF($A88="","",IF(AND(J87<>"",$C88=$T$3,COUNTIF(OFFSET($E87,-($C87-1),0,1,1):J87,J87)=$T$3),"",IF(AND($B88="",$B87<>"",COUNTIF(J$8:J87,"R")),COUNTIF(J$8:J87,"R")&"R",IF($B88="","",IF(AND($B88=J$7,J87<>"",COUNTIF(OFFSET($B87,-($C87-1),0,1,1):$B87,J$7)>0),"R",IF(J87="R",$A87,IF($B88=J$7,$A88,J87))))))) | K88: =IF($A88="","",IF(AND(K87<>"",$C88=$T$3,COUNTIF(OFFSET($E87,-($C87-1),0,1,1):K87,K87)=$T$3),"",IF(AND($B88="",$B87<>"",COUNTIF(K$8:K87,"R")),COUNTIF(K$8:K87,"R")&"R",IF($B88="","",IF(AND($B88=K$7,K87<>"",COUNTIF(OFFSET($B87,-($C87-1),0,1,1):$B87,K$7)>0),"R",IF(K87="R",$A87,IF($B88=K$7,$A88,K87))))))) | L88: =IF($A88="","",IF(AND(L87<>"",$C88=$T$3,COUNTIF(OFFSET($E87,-($C87-1),0,1,1):L87,L87)=$T$3),"",IF(AND($B88="",$B87<>"",COUNTIF(L$8:L87,"R")),COUNTIF(L$8:L87,"R")&"R",IF($B88="","",IF(AND($B88=L$7,L87<>"",COUNTIF(OFFSET($B87,-($C87-1),0,1,1):$B87,L$7)>0),"R",IF(L87="R",$A87,IF($B88=L$7,$A88,L87))))))) | ... AP88: =IF($A88="","",IF(AND(AP87<>"",$C88=$T$3,COUNTIF(OFFSET($E87,-($C87-1),0,1,1):AP87,AP87)=$T$3),"",IF(AND($B88="",$B87<>"",COUNTIF(AP$8:AP87,"R")),COUNTIF(AP$8:AP87,"R")&"R",IF($B88="","",IF(AND($B88=AP$7,AP87<>"",COUNTIF(OFFSET($B87,-($C87-1),0,1,1):$B87,AP$7)>0),"R",IF(AP87="R",$A87,IF($B88=AP$7,$A88,AP87)))))))
A89: 82 | C89: =IF(A89<T$3,A89,T$3) -> 37 | D89: =IF(COUNTIF(B$8:B88,B89)=0,"",COUNTIF(B$8:B88,B89)) | E89: =IF($A89="","",IF(AND(E88<>"",$C89=$T$3,COUNTIF(OFFSET($E88,-($C88-1),0,1,1):E88,E88)=$T$3),"",IF(AND($B89="",$B88<>"",COUNTIF(E$8:E88,"R")),COUNTIF(E$8:E88,"R")&"R",IF($B89="","",IF(AND($B89=E$7,E88<>"",COUNTIF(OFFSET($B88,-($C88-1),0,1,1):$B88,E$7)>0),"R",IF(E88="R",$A88,IF($B89=E$7,$A89,E88))))))) | F89: =IF($A89="","",IF(AND(F88<>"",$C89=$T$3,COUNTIF(OFFSET($E88,-($C88-1),0,1,1):F88,F88)=$T$3),"",IF(AND($B89="",$B88<>"",COUNTIF(F$8:F88,"R")),COUNTIF(F$8:F88,"R")&"R",IF($B89="","",IF(AND($B89=F$7,F88<>"",COUNTIF(OFFSET($B88,-($C88-1),0,1,1):$B88,F$7)>0),"R",IF(F88="R",$A88,IF($B89=F$7,$A89,F88))))))) | G89: =IF($A89="","",IF(AND(G88<>"",$C89=$T$3,COUNTIF(OFFSET($E88,-($C88-1),0,1,1):G88,G88)=$T$3),"",IF(AND($B89="",$B88<>"",COUNTIF(G$8:G88,"R")),COUNTIF(G$8:G88,"R")&"R",IF($B89="","",IF(AND($B89=G$7,G88<>"",COUNTIF(OFFSET($B88,-($C88-1),0,1,1):$B88,G$7)>0),"R",IF(G88="R",$A88,IF($B89=G$7,$A89,G88))))))) | H89: =IF($A89="","",IF(AND(H88<>"",$C89=$T$3,COUNTIF(OFFSET($E88,-($C88-1),0,1,1):H88,H88)=$T$3),"",IF(AND($B89="",$B88<>"",COUNTIF(H$8:H88,"R")),COUNTIF(H$8:H88,"R")&"R",IF($B89="","",IF(AND($B89=H$7,H88<>"",COUNTIF(OFFSET($B88,-($C88-1),0,1,1):$B88,H$7)>0),"R",IF(H88="R",$A88,IF($B89=H$7,$A89,H88))))))) | I89: =IF($A89="","",IF(AND(I88<>"",$C89=$T$3,COUNTIF(OFFSET($E88,-($C88-1),0,1,1):I88,I88)=$T$3),"",IF(AND($B89="",$B88<>"",COUNTIF(I$8:I88,"R")),COUNTIF(I$8:I88,"R")&"R",IF($B89="","",IF(AND($B89=I$7,I88<>"",COUNTIF(OFFSET($B88,-($C88-1),0,1,1):$B88,I$7)>0),"R",IF(I88="R",$A88,IF($B89=I$7,$A89,I88))))))) | J89: =IF($A89="","",IF(AND(J88<>"",$C89=$T$3,COUNTIF(OFFSET($E88,-($C88-1),0,1,1):J88,J88)=$T$3),"",IF(AND($B89="",$B88<>"",COUNTIF(J$8:J88,"R")),COUNTIF(J$8:J88,"R")&"R",IF($B89="","",IF(AND($B89=J$7,J88<>"",COUNTIF(OFFSET($B88,-($C88-1),0,1,1):$B88,J$7)>0),"R",IF(J88="R",$A88,IF($B89=J$7,$A89,J88))))))) | K89: =IF($A89="","",IF(AND(K88<>"",$C89=$T$3,COUNTIF(OFFSET($E88,-($C88-1),0,1,1):K88,K88)=$T$3),"",IF(AND($B89="",$B88<>"",COUNTIF(K$8:K88,"R")),COUNTIF(K$8:K88,"R")&"R",IF($B89="","",IF(AND($B89=K$7,K88<>"",COUNTIF(OFFSET($B88,-($C88-1),0,1,1):$B88,K$7)>0),"R",IF(K88="R",$A88,IF($B89=K$7,$A89,K88))))))) | L89: =IF($A89="","",IF(AND(L88<>"",$C89=$T$3,COUNTIF(OFFSET($E88,-($C88-1),0,1,1):L88,L88)=$T$3),"",IF(AND($B89="",$B88<>"",COUNTIF(L$8:L88,"R")),COUNTIF(L$8:L88,"R")&"R",IF($B89="","",IF(AND($B89=L$7,L88<>"",COUNTIF(OFFSET($B88,-($C88-1),0,1,1):$B88,L$7)>0),"R",IF(L88="R",$A88,IF($B89=L$7,$A89,L88))))))) | ... AP89: =IF($A89="","",IF(AND(AP88<>"",$C89=$T$3,COUNTIF(OFFSET($E88,-($C88-1),0,1,1):AP88,AP88)=$T$3),"",IF(AND($B89="",$B88<>"",COUNTIF(AP$8:AP88,"R")),COUNTIF(AP$8:AP88,"R")&"R",IF($B89="","",IF(AND($B89=AP$7,AP88<>"",COUNTIF(OFFSET($B88,-($C88-1),0,1,1):$B88,AP$7)>0),"R",IF(AP88="R",$A88,IF($B89=AP$7,$A89,AP88)))))))
A90: 83 | C90: =IF(A90<T$3,A90,T$3) -> 37 | D90: =IF(COUNTIF(B$8:B89,B90)=0,"",COUNTIF(B$8:B89,B90)) | E90: =IF($A90="","",IF(AND(E89<>"",$C90=$T$3,COUNTIF(OFFSET($E89,-($C89-1),0,1,1):E89,E89)=$T$3),"",IF(AND($B90="",$B89<>"",COUNTIF(E$8:E89,"R")),COUNTIF(E$8:E89,"R")&"R",IF($B90="","",IF(AND($B90=E$7,E89<>"",COUNTIF(OFFSET($B89,-($C89-1),0,1,1):$B89,E$7)>0),"R",IF(E89="R",$A89,IF($B90=E$7,$A90,E89))))))) | F90: =IF($A90="","",IF(AND(F89<>"",$C90=$T$3,COUNTIF(OFFSET($E89,-($C89-1),0,1,1):F89,F89)=$T$3),"",IF(AND($B90="",$B89<>"",COUNTIF(F$8:F89,"R")),COUNTIF(F$8:F89,"R")&"R",IF($B90="","",IF(AND($B90=F$7,F89<>"",COUNTIF(OFFSET($B89,-($C89-1),0,1,1):$B89,F$7)>0),"R",IF(F89="R",$A89,IF($B90=F$7,$A90,F89))))))) | G90: =IF($A90="","",IF(AND(G89<>"",$C90=$T$3,COUNTIF(OFFSET($E89,-($C89-1),0,1,1):G89,G89)=$T$3),"",IF(AND($B90="",$B89<>"",COUNTIF(G$8:G89,"R")),COUNTIF(G$8:G89,"R")&"R",IF($B90="","",IF(AND($B90=G$7,G89<>"",COUNTIF(OFFSET($B89,-($C89-1),0,1,1):$B89,G$7)>0),"R",IF(G89="R",$A89,IF($B90=G$7,$A90,G89))))))) | H90: =IF($A90="","",IF(AND(H89<>"",$C90=$T$3,COUNTIF(OFFSET($E89,-($C89-1),0,1,1):H89,H89)=$T$3),"",IF(AND($B90="",$B89<>"",COUNTIF(H$8:H89,"R")),COUNTIF(H$8:H89,"R")&"R",IF($B90="","",IF(AND($B90=H$7,H89<>"",COUNTIF(OFFSET($B89,-($C89-1),0,1,1):$B89,H$7)>0),"R",IF(H89="R",$A89,IF($B90=H$7,$A90,H89))))))) | I90: =IF($A90="","",IF(AND(I89<>"",$C90=$T$3,COUNTIF(OFFSET($E89,-($C89-1),0,1,1):I89,I89)=$T$3),"",IF(AND($B90="",$B89<>"",COUNTIF(I$8:I89,"R")),COUNTIF(I$8:I89,"R")&"R",IF($B90="","",IF(AND($B90=I$7,I89<>"",COUNTIF(OFFSET($B89,-($C89-1),0,1,1):$B89,I$7)>0),"R",IF(I89="R",$A89,IF($B90=I$7,$A90,I89))))))) | J90: =IF($A90="","",IF(AND(J89<>"",$C90=$T$3,COUNTIF(OFFSET($E89,-($C89-1),0,1,1):J89,J89)=$T$3),"",IF(AND($B90="",$B89<>"",COUNTIF(J$8:J89,"R")),COUNTIF(J$8:J89,"R")&"R",IF($B90="","",IF(AND($B90=J$7,J89<>"",COUNTIF(OFFSET($B89,-($C89-1),0,1,1):$B89,J$7)>0),"R",IF(J89="R",$A89,IF($B90=J$7,$A90,J89))))))) | K90: =IF($A90="","",IF(AND(K89<>"",$C90=$T$3,COUNTIF(OFFSET($E89,-($C89-1),0,1,1):K89,K89)=$T$3),"",IF(AND($B90="",$B89<>"",COUNTIF(K$8:K89,"R")),COUNTIF(K$8:K89,"R")&"R",IF($B90="","",IF(AND($B90=K$7,K89<>"",COUNTIF(OFFSET($B89,-($C89-1),0,1,1):$B89,K$7)>0),"R",IF(K89="R",$A89,IF($B90=K$7,$A90,K89))))))) | L90: =IF($A90="","",IF(AND(L89<>"",$C90=$T$3,COUNTIF(OFFSET($E89,-($C89-1),0,1,1):L89,L89)=$T$3),"",IF(AND($B90="",$B89<>"",COUNTIF(L$8:L89,"R")),COUNTIF(L$8:L89,"R")&"R",IF($B90="","",IF(AND($B90=L$7,L89<>"",COUNTIF(OFFSET($B89,-($C89-1),0,1,1):$B89,L$7)>0),"R",IF(L89="R",$A89,IF($B90=L$7,$A90,L89))))))) | ... AP90: =IF($A90="","",IF(AND(AP89<>"",$C90=$T$3,COUNTIF(OFFSET($E89,-($C89-1),0,1,1):AP89,AP89)=$T$3),"",IF(AND($B90="",$B89<>"",COUNTIF(AP$8:AP89,"R")),COUNTIF(AP$8:AP89,"R")&"R",IF($B90="","",IF(AND($B90=AP$7,AP89<>"",COUNTIF(OFFSET($B89,-($C89-1),0,1,1):$B89,AP$7)>0),"R",IF(AP89="R",$A89,IF($B90=AP$7,$A90,AP89)))))))
A91: 84 | C91: =IF(A91<T$3,A91,T$3) -> 37 | D91: =IF(COUNTIF(B$8:B90,B91)=0,"",COUNTIF(B$8:B90,B91)) | E91: =IF($A91="","",IF(AND(E90<>"",$C91=$T$3,COUNTIF(OFFSET($E90,-($C90-1),0,1,1):E90,E90)=$T$3),"",IF(AND($B91="",$B90<>"",COUNTIF(E$8:E90,"R")),COUNTIF(E$8:E90,"R")&"R",IF($B91="","",IF(AND($B91=E$7,E90<>"",COUNTIF(OFFSET($B90,-($C90-1),0,1,1):$B90,E$7)>0),"R",IF(E90="R",$A90,IF($B91=E$7,$A91,E90))))))) | F91: =IF($A91="","",IF(AND(F90<>"",$C91=$T$3,COUNTIF(OFFSET($E90,-($C90-1),0,1,1):F90,F90)=$T$3),"",IF(AND($B91="",$B90<>"",COUNTIF(F$8:F90,"R")),COUNTIF(F$8:F90,"R")&"R",IF($B91="","",IF(AND($B91=F$7,F90<>"",COUNTIF(OFFSET($B90,-($C90-1),0,1,1):$B90,F$7)>0),"R",IF(F90="R",$A90,IF($B91=F$7,$A91,F90))))))) | G91: =IF($A91="","",IF(AND(G90<>"",$C91=$T$3,COUNTIF(OFFSET($E90,-($C90-1),0,1,1):G90,G90)=$T$3),"",IF(AND($B91="",$B90<>"",COUNTIF(G$8:G90,"R")),COUNTIF(G$8:G90,"R")&"R",IF($B91="","",IF(AND($B91=G$7,G90<>"",COUNTIF(OFFSET($B90,-($C90-1),0,1,1):$B90,G$7)>0),"R",IF(G90="R",$A90,IF($B91=G$7,$A91,G90))))))) | H91: =IF($A91="","",IF(AND(H90<>"",$C91=$T$3,COUNTIF(OFFSET($E90,-($C90-1),0,1,1):H90,H90)=$T$3),"",IF(AND($B91="",$B90<>"",COUNTIF(H$8:H90,"R")),COUNTIF(H$8:H90,"R")&"R",IF($B91="","",IF(AND($B91=H$7,H90<>"",COUNTIF(OFFSET($B90,-($C90-1),0,1,1):$B90,H$7)>0),"R",IF(H90="R",$A90,IF($B91=H$7,$A91,H90))))))) | I91: =IF($A91="","",IF(AND(I90<>"",$C91=$T$3,COUNTIF(OFFSET($E90,-($C90-1),0,1,1):I90,I90)=$T$3),"",IF(AND($B91="",$B90<>"",COUNTIF(I$8:I90,"R")),COUNTIF(I$8:I90,"R")&"R",IF($B91="","",IF(AND($B91=I$7,I90<>"",COUNTIF(OFFSET($B90,-($C90-1),0,1,1):$B90,I$7)>0),"R",IF(I90="R",$A90,IF($B91=I$7,$A91,I90))))))) | J91: =IF($A91="","",IF(AND(J90<>"",$C91=$T$3,COUNTIF(OFFSET($E90,-($C90-1),0,1,1):J90,J90)=$T$3),"",IF(AND($B91="",$B90<>"",COUNTIF(J$8:J90,"R")),COUNTIF(J$8:J90,"R")&"R",IF($B91="","",IF(AND($B91=J$7,J90<>"",COUNTIF(OFFSET($B90,-($C90-1),0,1,1):$B90,J$7)>0),"R",IF(J90="R",$A90,IF($B91=J$7,$A91,J90))))))) | K91: =IF($A91="","",IF(AND(K90<>"",$C91=$T$3,COUNTIF(OFFSET($E90,-($C90-1),0,1,1):K90,K90)=$T$3),"",IF(AND($B91="",$B90<>"",COUNTIF(K$8:K90,"R")),COUNTIF(K$8:K90,"R")&"R",IF($B91="","",IF(AND($B91=K$7,K90<>"",COUNTIF(OFFSET($B90,-($C90-1),0,1,1):$B90,K$7)>0),"R",IF(K90="R",$A90,IF($B91=K$7,$A91,K90))))))) | L91: =IF($A91="","",IF(AND(L90<>"",$C91=$T$3,COUNTIF(OFFSET($E90,-($C90-1),0,1,1):L90,L90)=$T$3),"",IF(AND($B91="",$B90<>"",COUNTIF(L$8:L90,"R")),COUNTIF(L$8:L90,"R")&"R",IF($B91="","",IF(AND($B91=L$7,L90<>"",COUNTIF(OFFSET($B90,-($C90-1),0,1,1):$B90,L$7)>0),"R",IF(L90="R",$A90,IF($B91=L$7,$A91,L90))))))) | ... AP91: =IF($A91="","",IF(AND(AP90<>"",$C91=$T$3,COUNTIF(OFFSET($E90,-($C90-1),0,1,1):AP90,AP90)=$T$3),"",IF(AND($B91="",$B90<>"",COUNTIF(AP$8:AP90,"R")),COUNTIF(AP$8:AP90,"R")&"R",IF($B91="","",IF(AND($B91=AP$7,AP90<>"",COUNTIF(OFFSET($B90,-($C90-1),0,1,1):$B90,AP$7)>0),"R",IF(AP90="R",$A90,IF($B91=AP$7,$A91,AP90)))))))
A92: 85 | C92: =IF(A92<T$3,A92,T$3) -> 37 | D92: =IF(COUNTIF(B$8:B91,B92)=0,"",COUNTIF(B$8:B91,B92)) | E92: =IF($A92="","",IF(AND(E91<>"",$C92=$T$3,COUNTIF(OFFSET($E91,-($C91-1),0,1,1):E91,E91)=$T$3),"",IF(AND($B92="",$B91<>"",COUNTIF(E$8:E91,"R")),COUNTIF(E$8:E91,"R")&"R",IF($B92="","",IF(AND($B92=E$7,E91<>"",COUNTIF(OFFSET($B91,-($C91-1),0,1,1):$B91,E$7)>0),"R",IF(E91="R",$A91,IF($B92=E$7,$A92,E91))))))) | F92: =IF($A92="","",IF(AND(F91<>"",$C92=$T$3,COUNTIF(OFFSET($E91,-($C91-1),0,1,1):F91,F91)=$T$3),"",IF(AND($B92="",$B91<>"",COUNTIF(F$8:F91,"R")),COUNTIF(F$8:F91,"R")&"R",IF($B92="","",IF(AND($B92=F$7,F91<>"",COUNTIF(OFFSET($B91,-($C91-1),0,1,1):$B91,F$7)>0),"R",IF(F91="R",$A91,IF($B92=F$7,$A92,F91))))))) | G92: =IF($A92="","",IF(AND(G91<>"",$C92=$T$3,COUNTIF(OFFSET($E91,-($C91-1),0,1,1):G91,G91)=$T$3),"",IF(AND($B92="",$B91<>"",COUNTIF(G$8:G91,"R")),COUNTIF(G$8:G91,"R")&"R",IF($B92="","",IF(AND($B92=G$7,G91<>"",COUNTIF(OFFSET($B91,-($C91-1),0,1,1):$B91,G$7)>0),"R",IF(G91="R",$A91,IF($B92=G$7,$A92,G91))))))) | H92: =IF($A92="","",IF(AND(H91<>"",$C92=$T$3,COUNTIF(OFFSET($E91,-($C91-1),0,1,1):H91,H91)=$T$3),"",IF(AND($B92="",$B91<>"",COUNTIF(H$8:H91,"R")),COUNTIF(H$8:H91,"R")&"R",IF($B92="","",IF(AND($B92=H$7,H91<>"",COUNTIF(OFFSET($B91,-($C91-1),0,1,1):$B91,H$7)>0),"R",IF(H91="R",$A91,IF($B92=H$7,$A92,H91))))))) | I92: =IF($A92="","",IF(AND(I91<>"",$C92=$T$3,COUNTIF(OFFSET($E91,-($C91-1),0,1,1):I91,I91)=$T$3),"",IF(AND($B92="",$B91<>"",COUNTIF(I$8:I91,"R")),COUNTIF(I$8:I91,"R")&"R",IF($B92="","",IF(AND($B92=I$7,I91<>"",COUNTIF(OFFSET($B91,-($C91-1),0,1,1):$B91,I$7)>0),"R",IF(I91="R",$A91,IF($B92=I$7,$A92,I91))))))) | J92: =IF($A92="","",IF(AND(J91<>"",$C92=$T$3,COUNTIF(OFFSET($E91,-($C91-1),0,1,1):J91,J91)=$T$3),"",IF(AND($B92="",$B91<>"",COUNTIF(J$8:J91,"R")),COUNTIF(J$8:J91,"R")&"R",IF($B92="","",IF(AND($B92=J$7,J91<>"",COUNTIF(OFFSET($B91,-($C91-1),0,1,1):$B91,J$7)>0),"R",IF(J91="R",$A91,IF($B92=J$7,$A92,J91))))))) | K92: =IF($A92="","",IF(AND(K91<>"",$C92=$T$3,COUNTIF(OFFSET($E91,-($C91-1),0,1,1):K91,K91)=$T$3),"",IF(AND($B92="",$B91<>"",COUNTIF(K$8:K91,"R")),COUNTIF(K$8:K91,"R")&"R",IF($B92="","",IF(AND($B92=K$7,K91<>"",COUNTIF(OFFSET($B91,-($C91-1),0,1,1):$B91,K$7)>0),"R",IF(K91="R",$A91,IF($B92=K$7,$A92,K91))))))) | L92: =IF($A92="","",IF(AND(L91<>"",$C92=$T$3,COUNTIF(OFFSET($E91,-($C91-1),0,1,1):L91,L91)=$T$3),"",IF(AND($B92="",$B91<>"",COUNTIF(L$8:L91,"R")),COUNTIF(L$8:L91,"R")&"R",IF($B92="","",IF(AND($B92=L$7,L91<>"",COUNTIF(OFFSET($B91,-($C91-1),0,1,1):$B91,L$7)>0),"R",IF(L91="R",$A91,IF($B92=L$7,$A92,L91))))))) | ... AP92: =IF($A92="","",IF(AND(AP91<>"",$C92=$T$3,COUNTIF(OFFSET($E91,-($C91-1),0,1,1):AP91,AP91)=$T$3),"",IF(AND($B92="",$B91<>"",COUNTIF(AP$8:AP91,"R")),COUNTIF(AP$8:AP91,"R")&"R",IF($B92="","",IF(AND($B92=AP$7,AP91<>"",COUNTIF(OFFSET($B91,-($C91-1),0,1,1):$B91,AP$7)>0),"R",IF(AP91="R",$A91,IF($B92=AP$7,$A92,AP91)))))))
A93: 86 | C93: =IF(A93<T$3,A93,T$3) -> 37 | D93: =IF(COUNTIF(B$8:B92,B93)=0,"",COUNTIF(B$8:B92,B93)) | E93: =IF($A93="","",IF(AND(E92<>"",$C93=$T$3,COUNTIF(OFFSET($E92,-($C92-1),0,1,1):E92,E92)=$T$3),"",IF(AND($B93="",$B92<>"",COUNTIF(E$8:E92,"R")),COUNTIF(E$8:E92,"R")&"R",IF($B93="","",IF(AND($B93=E$7,E92<>"",COUNTIF(OFFSET($B92,-($C92-1),0,1,1):$B92,E$7)>0),"R",IF(E92="R",$A92,IF($B93=E$7,$A93,E92))))))) | F93: =IF($A93="","",IF(AND(F92<>"",$C93=$T$3,COUNTIF(OFFSET($E92,-($C92-1),0,1,1):F92,F92)=$T$3),"",IF(AND($B93="",$B92<>"",COUNTIF(F$8:F92,"R")),COUNTIF(F$8:F92,"R")&"R",IF($B93="","",IF(AND($B93=F$7,F92<>"",COUNTIF(OFFSET($B92,-($C92-1),0,1,1):$B92,F$7)>0),"R",IF(F92="R",$A92,IF($B93=F$7,$A93,F92))))))) | G93: =IF($A93="","",IF(AND(G92<>"",$C93=$T$3,COUNTIF(OFFSET($E92,-($C92-1),0,1,1):G92,G92)=$T$3),"",IF(AND($B93="",$B92<>"",COUNTIF(G$8:G92,"R")),COUNTIF(G$8:G92,"R")&"R",IF($B93="","",IF(AND($B93=G$7,G92<>"",COUNTIF(OFFSET($B92,-($C92-1),0,1,1):$B92,G$7)>0),"R",IF(G92="R",$A92,IF($B93=G$7,$A93,G92))))))) | H93: =IF($A93="","",IF(AND(H92<>"",$C93=$T$3,COUNTIF(OFFSET($E92,-($C92-1),0,1,1):H92,H92)=$T$3),"",IF(AND($B93="",$B92<>"",COUNTIF(H$8:H92,"R")),COUNTIF(H$8:H92,"R")&"R",IF($B93="","",IF(AND($B93=H$7,H92<>"",COUNTIF(OFFSET($B92,-($C92-1),0,1,1):$B92,H$7)>0),"R",IF(H92="R",$A92,IF($B93=H$7,$A93,H92))))))) | I93: =IF($A93="","",IF(AND(I92<>"",$C93=$T$3,COUNTIF(OFFSET($E92,-($C92-1),0,1,1):I92,I92)=$T$3),"",IF(AND($B93="",$B92<>"",COUNTIF(I$8:I92,"R")),COUNTIF(I$8:I92,"R")&"R",IF($B93="","",IF(AND($B93=I$7,I92<>"",COUNTIF(OFFSET($B92,-($C92-1),0,1,1):$B92,I$7)>0),"R",IF(I92="R",$A92,IF($B93=I$7,$A93,I92))))))) | J93: =IF($A93="","",IF(AND(J92<>"",$C93=$T$3,COUNTIF(OFFSET($E92,-($C92-1),0,1,1):J92,J92)=$T$3),"",IF(AND($B93="",$B92<>"",COUNTIF(J$8:J92,"R")),COUNTIF(J$8:J92,"R")&"R",IF($B93="","",IF(AND($B93=J$7,J92<>"",COUNTIF(OFFSET($B92,-($C92-1),0,1,1):$B92,J$7)>0),"R",IF(J92="R",$A92,IF($B93=J$7,$A93,J92))))))) | K93: =IF($A93="","",IF(AND(K92<>"",$C93=$T$3,COUNTIF(OFFSET($E92,-($C92-1),0,1,1):K92,K92)=$T$3),"",IF(AND($B93="",$B92<>"",COUNTIF(K$8:K92,"R")),COUNTIF(K$8:K92,"R")&"R",IF($B93="","",IF(AND($B93=K$7,K92<>"",COUNTIF(OFFSET($B92,-($C92-1),0,1,1):$B92,K$7)>0),"R",IF(K92="R",$A92,IF($B93=K$7,$A93,K92))))))) | L93: =IF($A93="","",IF(AND(L92<>"",$C93=$T$3,COUNTIF(OFFSET($E92,-($C92-1),0,1,1):L92,L92)=$T$3),"",IF(AND($B93="",$B92<>"",COUNTIF(L$8:L92,"R")),COUNTIF(L$8:L92,"R")&"R",IF($B93="","",IF(AND($B93=L$7,L92<>"",COUNTIF(OFFSET($B92,-($C92-1),0,1,1):$B92,L$7)>0),"R",IF(L92="R",$A92,IF($B93=L$7,$A93,L92))))))) | ... AP93: =IF($A93="","",IF(AND(AP92<>"",$C93=$T$3,COUNTIF(OFFSET($E92,-($C92-1),0,1,1):AP92,AP92)=$T$3),"",IF(AND($B93="",$B92<>"",COUNTIF(AP$8:AP92,"R")),COUNTIF(AP$8:AP92,"R")&"R",IF($B93="","",IF(AND($B93=AP$7,AP92<>"",COUNTIF(OFFSET($B92,-($C92-1),0,1,1):$B92,AP$7)>0),"R",IF(AP92="R",$A92,IF($B93=AP$7,$A93,AP92)))))))
... A257: 250 | C257: =IF(A257<T$3,A257,T$3) -> 37 | D257: =IF(COUNTIF(B$8:B256,B257)=0,"",COUNTIF(B$8:B256,B257)) | E257: =IF($A257="","",IF(AND(E256<>"",$C257=$T$3,COUNTIF(OFFSET($E256,-($C256-1),0,1,1):E256,E256)=$T$3),"",IF(AND($B257="",$B256<>"",COUNTIF(E$8:E256,"R")),COUNTIF(E$8:E256,"R")&"R",IF($B257="","",IF(AND($B257=E$7,E256<>"",COUNTIF(OFFSET($B256,-($C256-1),0,1,1):$B256,E$7)>0),"R",IF(E256="R",$A256,IF($B257=E$7,$A257,E256))))))) | F257: =IF($A257="","",IF(AND(F256<>"",$C257=$T$3,COUNTIF(OFFSET($E256,-($C256-1),0,1,1):F256,F256)=$T$3),"",IF(AND($B257="",$B256<>"",COUNTIF(F$8:F256,"R")),COUNTIF(F$8:F256,"R")&"R",IF($B257="","",IF(AND($B257=F$7,F256<>"",COUNTIF(OFFSET($B256,-($C256-1),0,1,1):$B256,F$7)>0),"R",IF(F256="R",$A256,IF($B257=F$7,$A257,F256))))))) | G257: =IF($A257="","",IF(AND(G256<>"",$C257=$T$3,COUNTIF(OFFSET($E256,-($C256-1),0,1,1):G256,G256)=$T$3),"",IF(AND($B257="",$B256<>"",COUNTIF(G$8:G256,"R")),COUNTIF(G$8:G256,"R")&"R",IF($B257="","",IF(AND($B257=G$7,G256<>"",COUNTIF(OFFSET($B256,-($C256-1),0,1,1):$B256,G$7)>0),"R",IF(G256="R",$A256,IF($B257=G$7,$A257,G256))))))) | H257: =IF($A257="","",IF(AND(H256<>"",$C257=$T$3,COUNTIF(OFFSET($E256,-($C256-1),0,1,1):H256,H256)=$T$3),"",IF(AND($B257="",$B256<>"",COUNTIF(H$8:H256,"R")),COUNTIF(H$8:H256,"R")&"R",IF($B257="","",IF(AND($B257=H$7,H256<>"",COUNTIF(OFFSET($B256,-($C256-1),0,1,1):$B256,H$7)>0),"R",IF(H256="R",$A256,IF($B257=H$7,$A257,H256))))))) | I257: =IF($A257="","",IF(AND(I256<>"",$C257=$T$3,COUNTIF(OFFSET($E256,-($C256-1),0,1,1):I256,I256)=$T$3),"",IF(AND($B257="",$B256<>"",COUNTIF(I$8:I256,"R")),COUNTIF(I$8:I256,"R")&"R",IF($B257="","",IF(AND($B257=I$7,I256<>"",COUNTIF(OFFSET($B256,-($C256-1),0,1,1):$B256,I$7)>0),"R",IF(I256="R",$A256,IF($B257=I$7,$A257,I256))))))) | J257: =IF($A257="","",IF(AND(J256<>"",$C257=$T$3,COUNTIF(OFFSET($E256,-($C256-1),0,1,1):J256,J256)=$T$3),"",IF(AND($B257="",$B256<>"",COUNTIF(J$8:J256,"R")),COUNTIF(J$8:J256,"R")&"R",IF($B257="","",IF(AND($B257=J$7,J256<>"",COUNTIF(OFFSET($B256,-($C256-1),0,1,1):$B256,J$7)>0),"R",IF(J256="R",$A256,IF($B257=J$7,$A257,J256))))))) | K257: =IF($A257="","",IF(AND(K256<>"",$C257=$T$3,COUNTIF(OFFSET($E256,-($C256-1),0,1,1):K256,K256)=$T$3),"",IF(AND($B257="",$B256<>"",COUNTIF(K$8:K256,"R")),COUNTIF(K$8:K256,"R")&"R",IF($B257="","",IF(AND($B257=K$7,K256<>"",COUNTIF(OFFSET($B256,-($C256-1),0,1,1):$B256,K$7)>0),"R",IF(K256="R",$A256,IF($B257=K$7,$A257,K256))))))) | L257: =IF($A257="","",IF(AND(L256<>"",$C257=$T$3,COUNTIF(OFFSET($E256,-($C256-1),0,1,1):L256,L256)=$T$3),"",IF(AND($B257="",$B256<>"",COUNTIF(L$8:L256,"R")),COUNTIF(L$8:L256,"R")&"R",IF($B257="","",IF(AND($B257=L$7,L256<>"",COUNTIF(OFFSET($B256,-($C256-1),0,1,1):$B256,L$7)>0),"R",IF(L256="R",$A256,IF($B257=L$7,$A257,L256))))))) | ... AP257: =IF($A257="","",IF(AND(AP256<>"",$C257=$T$3,COUNTIF(OFFSET($E256,-($C256-1),0,1,1):AP256,AP256)=$T$3),"",IF(AND($B257="",$B256<>"",COUNTIF(AP$8:AP256,"R")),COUNTIF(AP$8:AP256,"R")&"R",IF($B257="","",IF(AND($B257=AP$7,AP256<>"",COUNTIF(OFFSET($B256,-($C256-1),0,1,1):$B256,AP$7)>0),"R",IF(AP256="R",$A256,IF($B257=AP$7,$A257,AP256)))))))

Sheet Layout
A1: Position | B1: Nr-Eur | C1: Pos | D1: Nr-Amer | F1: Board | G1: Nrs | H1: PosEur | I1: posAm
F2: European | G2: 0 | H2: 1 | I2: 1
A3: 0 | B3: 0 | C3: 1 | D3: 0 | F3: American | G3: 1 | H3: 24 | I3: 19
A4: 1 | B4: 32 | C4: 2 | D4: 28 | G4: 2 | H4: 7 | I4: 38
A5: 2 | B5: 15 | C5: 3 | D5: 9 | G5: 3 | H5: 36 | I5: 15
A6: 3 | B6: 19 | C6: 4 | D6: 26 | G6: 4 | H6: 5 | I6: 34
A7: 4 | B7: 4 | C7: 5 | D7: 30 | G7: 5 | H7: 20 | I7: 11
A8: 5 | B8: 21 | C8: 6 | D8: 11 | G8: 6 | H8: 11 | I8: 30
A9: 6 | B9: 2 | C9: 7 | D9: 7 | G9: 7 | H9: 32 | I9: 7
A10: 7 | B10: 25 | C10: 8 | D10: 20 | G10: 8 | H10: 17 | I10: 26
A11: 8 | B11: 17 | C11: 9 | D11: 32 | G11: 9 | H11: 28 | I11: 3
A12: 9 | B12: 34 | C12: 10 | D12: 17 | G12: 10 | H12: 19 | I12: 22
A13: 10 | B13: 6 | C13: 11 | D13: 5 | G13: 11 | H13: 15 | I13: 6
A14: 11 | B14: 27 | C14: 12 | D14: 22 | G14: 12 | H14: 34 | I14: 25
A15: 12 | B15: 13 | C15: 13 | D15: 34 | G15: 13 | H15: 13 | I15: 18
... A38: 35 | B38: 3 | C38: 36 | D38: 35 | G38: 36 | H38: 14 | I38: 17
A39: 36 | B39: 26 | C39: 37 | D39: 14 | G39: 37 | I39: 20
A40: 37 | C40: 38 | D40: 2
