Workbook
Name ResetProg: '[1]anti-ktf'!$AN$5:$AN$15633

Sheet Tracker
R2: Layout
R3: European
D5: =R3 -> European
D6: 0 | E6: 1 | F6: 2 | G6: 3 | H6: 4 | I6: 5 | J6: 6 | K6: 7 | L6: 8 | M6: 9 | N6: 10 | O6: 11 | P6: 12 | Q6: 13 | R6: 14 | S6: 15 | T6: 16 | U6: 17 | V6: 18 | W6: 19 | X6: 20 | Y6: 21 | Z6: 22 | AA6: 23 | AB6: 24 | AC6: 25 | AD6: 26 | AE6: 27 | AF6: 28 | AG6: 29 | AH6: 30 | AI6: 31 | AJ6: 32 | AK6: 33 | AL6: 34 | AM6: 35 | AN6: 36 | AO6: 37
A7: Spin | B7: Nr | C7: Rep | D7: =IF($R3="Board",D6,IF($R3="European",LOOKUP(D6,Layout!$A:$A,Layout!$B:$B),IF($R3="American",LOOKUP(D6,Layout!$A:$A,Layout!$D:$D)))) -> 0 | E7: =IF($R3="Board",E6,IF($R3="European",LOOKUP(E6,Layout!$A:$A,Layout!$B:$B),IF($R3="American",LOOKUP(E6,Layout!$A:$A,Layout!$D:$D)))) -> 32 | F7: =IF($R3="Board",F6,IF($R3="European",LOOKUP(F6,Layout!$A:$A,Layout!$B:$B),IF($R3="American",LOOKUP(F6,Layout!$A:$A,Layout!$D:$D)))) -> 15 | G7: =IF($R3="Board",G6,IF($R3="European",LOOKUP(G6,Layout!$A:$A,Layout!$B:$B),IF($R3="American",LOOKUP(G6,Layout!$A:$A,Layout!$D:$D)))) -> 19 | H7: =IF($R3="Board",H6,IF($R3="European",LOOKUP(H6,Layout!$A:$A,Layout!$B:$B),IF($R3="American",LOOKUP(H6,Layout!$A:$A,Layout!$D:$D)))) -> 4 | I7: =IF($R3="Board",I6,IF($R3="European",LOOKUP(I6,Layout!$A:$A,Layout!$B:$B),IF($R3="American",LOOKUP(I6,Layout!$A:$A,Layout!$D:$D)))) -> 21 | J7: =IF($R3="Board",J6,IF($R3="European",LOOKUP(J6,Layout!$A:$A,Layout!$B:$B),IF($R3="American",LOOKUP(J6,Layout!$A:$A,Layout!$D:$D)))) -> 2 | K7: =IF($R3="Board",K6,IF($R3="European",LOOKUP(K6,Layout!$A:$A,Layout!$B:$B),IF($R3="American",LOOKUP(K6,Layout!$A:$A,Layout!$D:$D)))) -> 25 | ... AN7: =IF($R3="Board",AN6,IF($R3="European",LOOKUP(AN6,Layout!$A:$A,Layout!$B:$B),IF($R3="American",LOOKUP(AN6,Layout!$A:$A,Layout!$D:$D)))) -> 26 | AO7: =IF($R3="Board","",IF($R3="European","",IF($R3="American",LOOKUP(AO6,Layout!$A:$A,Layout!$D:$D))))
A8: 1 | B8: =IF(R$3="American",RANDBETWEEN(0,37),RANDBETWEEN(0,36)) -> 5 | D8: =IF($B8="","",IF($B8=D$7,$A8,"")) | E8: =IF($B8="","",IF($B8=E$7,$A8,"")) | F8: =IF($B8="","",IF($B8=F$7,$A8,"")) | G8: =IF($B8="","",IF($B8=G$7,$A8,"")) | H8: =IF($B8="","",IF($B8=H$7,$A8,"")) | I8: =IF($B8="","",IF($B8=I$7,$A8,"")) | J8: =IF($B8="","",IF($B8=J$7,$A8,"")) | K8: =IF($B8="","",IF($B8=K$7,$A8,"")) | ... AO8: =IF($B8="","",IF($B8=AO$7,$A8,""))
A9: 2 | B9: =IF(R$3="American",RANDBETWEEN(0,37),RANDBETWEEN(0,36)) -> 18 | C9: =IF(COUNTIF(B$8:B8,B9)=0,"",COUNTIF(B$8:B8,B9)) | D9: =IF($A9="","",IF(AND($B9="",$B8<>"",COUNTIF(D$8:D8,"R")),COUNTIF(D$8:D8,"R")&"R",IF($B9="","",IF(AND($B9=D$7,$C9<>""),"R",IF(D8="R",$A8,IF($B9=D$7,$A9,D8)))))) | E9: =IF($A9="","",IF(AND($B9="",$B8<>"",COUNTIF(E$8:E8,"R")),COUNTIF(E$8:E8,"R")&"R",IF($B9="","",IF(AND($B9=E$7,$C9<>""),"R",IF(E8="R",$A8,IF($B9=E$7,$A9,E8)))))) | F9: =IF($A9="","",IF(AND($B9="",$B8<>"",COUNTIF(F$8:F8,"R")),COUNTIF(F$8:F8,"R")&"R",IF($B9="","",IF(AND($B9=F$7,$C9<>""),"R",IF(F8="R",$A8,IF($B9=F$7,$A9,F8)))))) | G9: =IF($A9="","",IF(AND($B9="",$B8<>"",COUNTIF(G$8:G8,"R")),COUNTIF(G$8:G8,"R")&"R",IF($B9="","",IF(AND($B9=G$7,$C9<>""),"R",IF(G8="R",$A8,IF($B9=G$7,$A9,G8)))))) | H9: =IF($A9="","",IF(AND($B9="",$B8<>"",COUNTIF(H$8:H8,"R")),COUNTIF(H$8:H8,"R")&"R",IF($B9="","",IF(AND($B9=H$7,$C9<>""),"R",IF(H8="R",$A8,IF($B9=H$7,$A9,H8)))))) | I9: =IF($A9="","",IF(AND($B9="",$B8<>"",COUNTIF(I$8:I8,"R")),COUNTIF(I$8:I8,"R")&"R",IF($B9="","",IF(AND($B9=I$7,$C9<>""),"R",IF(I8="R",$A8,IF($B9=I$7,$A9,I8)))))) | J9: =IF($A9="","",IF(AND($B9="",$B8<>"",COUNTIF(J$8:J8,"R")),COUNTIF(J$8:J8,"R")&"R",IF($B9="","",IF(AND($B9=J$7,$C9<>""),"R",IF(J8="R",$A8,IF($B9=J$7,$A9,J8)))))) | K9: =IF($A9="","",IF(AND($B9="",$B8<>"",COUNTIF(K$8:K8,"R")),COUNTIF(K$8:K8,"R")&"R",IF($B9="","",IF(AND($B9=K$7,$C9<>""),"R",IF(K8="R",$A8,IF($B9=K$7,$A9,K8)))))) | ... AO9: =IF($A9="","",IF(AND($B9="",$B8<>"",COUNTIF(AO$8:AO8,"R")),COUNTIF(AO$8:AO8,"R")&"R",IF($B9="","",IF(AND($B9=AO$7,$C9<>""),"R",IF(AO8="R",$A8,IF($B9=AO$7,$A9,AO8))))))
A10: 3 | B10: =IF(R$3="American",RANDBETWEEN(0,37),RANDBETWEEN(0,36)) -> 14 | C10: =IF(COUNTIF(B$8:B9,B10)=0,"",COUNTIF(B$8:B9,B10)) | D10: =IF($A10="","",IF(AND($B10="",$B9<>"",COUNTIF(D$8:D9,"R")),COUNTIF(D$8:D9,"R")&"R",IF($B10="","",IF(AND($B10=D$7,$C10<>""),"R",IF(D9="R",$A9,IF($B10=D$7,$A10,D9)))))) | E10: =IF($A10="","",IF(AND($B10="",$B9<>"",COUNTIF(E$8:E9,"R")),COUNTIF(E$8:E9,"R")&"R",IF($B10="","",IF(AND($B10=E$7,$C10<>""),"R",IF(E9="R",$A9,IF($B10=E$7,$A10,E9)))))) | F10: =IF($A10="","",IF(AND($B10="",$B9<>"",COUNTIF(F$8:F9,"R")),COUNTIF(F$8:F9,"R")&"R",IF($B10="","",IF(AND($B10=F$7,$C10<>""),"R",IF(F9="R",$A9,IF($B10=F$7,$A10,F9)))))) | G10: =IF($A10="","",IF(AND($B10="",$B9<>"",COUNTIF(G$8:G9,"R")),COUNTIF(G$8:G9,"R")&"R",IF($B10="","",IF(AND($B10=G$7,$C10<>""),"R",IF(G9="R",$A9,IF($B10=G$7,$A10,G9)))))) | H10: =IF($A10="","",IF(AND($B10="",$B9<>"",COUNTIF(H$8:H9,"R")),COUNTIF(H$8:H9,"R")&"R",IF($B10="","",IF(AND($B10=H$7,$C10<>""),"R",IF(H9="R",$A9,IF($B10=H$7,$A10,H9)))))) | I10: =IF($A10="","",IF(AND($B10="",$B9<>"",COUNTIF(I$8:I9,"R")),COUNTIF(I$8:I9,"R")&"R",IF($B10="","",IF(AND($B10=I$7,$C10<>""),"R",IF(I9="R",$A9,IF($B10=I$7,$A10,I9)))))) | J10: =IF($A10="","",IF(AND($B10="",$B9<>"",COUNTIF(J$8:J9,"R")),COUNTIF(J$8:J9,"R")&"R",IF($B10="","",IF(AND($B10=J$7,$C10<>""),"R",IF(J9="R",$A9,IF($B10=J$7,$A10,J9)))))) | K10: =IF($A10="","",IF(AND($B10="",$B9<>"",COUNTIF(K$8:K9,"R")),COUNTIF(K$8:K9,"R")&"R",IF($B10="","",IF(AND($B10=K$7,$C10<>""),"R",IF(K9="R",$A9,IF($B10=K$7,$A10,K9)))))) | ... AO10: =IF($A10="","",IF(AND($B10="",$B9<>"",COUNTIF(AO$8:AO9,"R")),COUNTIF(AO$8:AO9,"R")&"R",IF($B10="","",IF(AND($B10=AO$7,$C10<>""),"R",IF(AO9="R",$A9,IF($B10=AO$7,$A10,AO9))))))
A11: 4 | B11: =IF(R$3="American",RANDBETWEEN(0,37),RANDBETWEEN(0,36)) -> 33 | C11: =IF(COUNTIF(B$8:B10,B11)=0,"",COUNTIF(B$8:B10,B11)) | D11: =IF($A11="","",IF(AND($B11="",$B10<>"",COUNTIF(D$8:D10,"R")),COUNTIF(D$8:D10,"R")&"R",IF($B11="","",IF(AND($B11=D$7,$C11<>""),"R",IF(D10="R",$A10,IF($B11=D$7,$A11,D10)))))) | E11: =IF($A11="","",IF(AND($B11="",$B10<>"",COUNTIF(E$8:E10,"R")),COUNTIF(E$8:E10,"R")&"R",IF($B11="","",IF(AND($B11=E$7,$C11<>""),"R",IF(E10="R",$A10,IF($B11=E$7,$A11,E10)))))) | F11: =IF($A11="","",IF(AND($B11="",$B10<>"",COUNTIF(F$8:F10,"R")),COUNTIF(F$8:F10,"R")&"R",IF($B11="","",IF(AND($B11=F$7,$C11<>""),"R",IF(F10="R",$A10,IF($B11=F$7,$A11,F10)))))) | G11: =IF($A11="","",IF(AND($B11="",$B10<>"",COUNTIF(G$8:G10,"R")),COUNTIF(G$8:G10,"R")&"R",IF($B11="","",IF(AND($B11=G$7,$C11<>""),"R",IF(G10="R",$A10,IF($B11=G$7,$A11,G10)))))) | H11: =IF($A11="","",IF(AND($B11="",$B10<>"",COUNTIF(H$8:H10,"R")),COUNTIF(H$8:H10,"R")&"R",IF($B11="","",IF(AND($B11=H$7,$C11<>""),"R",IF(H10="R",$A10,IF($B11=H$7,$A11,H10)))))) | I11: =IF($A11="","",IF(AND($B11="",$B10<>"",COUNTIF(I$8:I10,"R")),COUNTIF(I$8:I10,"R")&"R",IF($B11="","",IF(AND($B11=I$7,$C11<>""),"R",IF(I10="R",$A10,IF($B11=I$7,$A11,I10)))))) | J11: =IF($A11="","",IF(AND($B11="",$B10<>"",COUNTIF(J$8:J10,"R")),COUNTIF(J$8:J10,"R")&"R",IF($B11="","",IF(AND($B11=J$7,$C11<>""),"R",IF(J10="R",$A10,IF($B11=J$7,$A11,J10)))))) | K11: =IF($A11="","",IF(AND($B11="",$B10<>"",COUNTIF(K$8:K10,"R")),COUNTIF(K$8:K10,"R")&"R",IF($B11="","",IF(AND($B11=K$7,$C11<>""),"R",IF(K10="R",$A10,IF($B11=K$7,$A11,K10)))))) | ... AO11: =IF($A11="","",IF(AND($B11="",$B10<>"",COUNTIF(AO$8:AO10,"R")),COUNTIF(AO$8:AO10,"R")&"R",IF($B11="","",IF(AND($B11=AO$7,$C11<>""),"R",IF(AO10="R",$A10,IF($B11=AO$7,$A11,AO10))))))
A12: 5 | B12: =IF(R$3="American",RANDBETWEEN(0,37),RANDBETWEEN(0,36)) -> 9 | C12: =IF(COUNTIF(B$8:B11,B12)=0,"",COUNTIF(B$8:B11,B12)) | D12: =IF($A12="","",IF(AND($B12="",$B11<>"",COUNTIF(D$8:D11,"R")),COUNTIF(D$8:D11,"R")&"R",IF($B12="","",IF(AND($B12=D$7,$C12<>""),"R",IF(D11="R",$A11,IF($B12=D$7,$A12,D11)))))) | E12: =IF($A12="","",IF(AND($B12="",$B11<>"",COUNTIF(E$8:E11,"R")),COUNTIF(E$8:E11,"R")&"R",IF($B12="","",IF(AND($B12=E$7,$C12<>""),"R",IF(E11="R",$A11,IF($B12=E$7,$A12,E11)))))) | F12: =IF($A12="","",IF(AND($B12="",$B11<>"",COUNTIF(F$8:F11,"R")),COUNTIF(F$8:F11,"R")&"R",IF($B12="","",IF(AND($B12=F$7,$C12<>""),"R",IF(F11="R",$A11,IF($B12=F$7,$A12,F11)))))) | G12: =IF($A12="","",IF(AND($B12="",$B11<>"",COUNTIF(G$8:G11,"R")),COUNTIF(G$8:G11,"R")&"R",IF($B12="","",IF(AND($B12=G$7,$C12<>""),"R",IF(G11="R",$A11,IF($B12=G$7,$A12,G11)))))) | H12: =IF($A12="","",IF(AND($B12="",$B11<>"",COUNTIF(H$8:H11,"R")),COUNTIF(H$8:H11,"R")&"R",IF($B12="","",IF(AND($B12=H$7,$C12<>""),"R",IF(H11="R",$A11,IF($B12=H$7,$A12,H11)))))) | I12: =IF($A12="","",IF(AND($B12="",$B11<>"",COUNTIF(I$8:I11,"R")),COUNTIF(I$8:I11,"R")&"R",IF($B12="","",IF(AND($B12=I$7,$C12<>""),"R",IF(I11="R",$A11,IF($B12=I$7,$A12,I11)))))) | J12: =IF($A12="","",IF(AND($B12="",$B11<>"",COUNTIF(J$8:J11,"R")),COUNTIF(J$8:J11,"R")&"R",IF($B12="","",IF(AND($B12=J$7,$C12<>""),"R",IF(J11="R",$A11,IF($B12=J$7,$A12,J11)))))) | K12: =IF($A12="","",IF(AND($B12="",$B11<>"",COUNTIF(K$8:K11,"R")),COUNTIF(K$8:K11,"R")&"R",IF($B12="","",IF(AND($B12=K$7,$C12<>""),"R",IF(K11="R",$A11,IF($B12=K$7,$A12,K11)))))) | ... AO12: =IF($A12="","",IF(AND($B12="",$B11<>"",COUNTIF(AO$8:AO11,"R")),COUNTIF(AO$8:AO11,"R")&"R",IF($B12="","",IF(AND($B12=AO$7,$C12<>""),"R",IF(AO11="R",$A11,IF($B12=AO$7,$A12,AO11))))))
A13: 6 | B13: =IF(R$3="American",RANDBETWEEN(0,37),RANDBETWEEN(0,36)) -> 14 | C13: =IF(COUNTIF(B$8:B12,B13)=0,"",COUNTIF(B$8:B12,B13)) -> 1 | D13: =IF($A13="","",IF(AND($B13="",$B12<>"",COUNTIF(D$8:D12,"R")),COUNTIF(D$8:D12,"R")&"R",IF($B13="","",IF(AND($B13=D$7,$C13<>""),"R",IF(D12="R",$A12,IF($B13=D$7,$A13,D12)))))) | E13: =IF($A13="","",IF(AND($B13="",$B12<>"",COUNTIF(E$8:E12,"R")),COUNTIF(E$8:E12,"R")&"R",IF($B13="","",IF(AND($B13=E$7,$C13<>""),"R",IF(E12="R",$A12,IF($B13=E$7,$A13,E12)))))) | F13: =IF($A13="","",IF(AND($B13="",$B12<>"",COUNTIF(F$8:F12,"R")),COUNTIF(F$8:F12,"R")&"R",IF($B13="","",IF(AND($B13=F$7,$C13<>""),"R",IF(F12="R",$A12,IF($B13=F$7,$A13,F12)))))) | G13: =IF($A13="","",IF(AND($B13="",$B12<>"",COUNTIF(G$8:G12,"R")),COUNTIF(G$8:G12,"R")&"R",IF($B13="","",IF(AND($B13=G$7,$C13<>""),"R",IF(G12="R",$A12,IF($B13=G$7,$A13,G12)))))) | H13: =IF($A13="","",IF(AND($B13="",$B12<>"",COUNTIF(H$8:H12,"R")),COUNTIF(H$8:H12,"R")&"R",IF($B13="","",IF(AND($B13=H$7,$C13<>""),"R",IF(H12="R",$A12,IF($B13=H$7,$A13,H12)))))) | I13: =IF($A13="","",IF(AND($B13="",$B12<>"",COUNTIF(I$8:I12,"R")),COUNTIF(I$8:I12,"R")&"R",IF($B13="","",IF(AND($B13=I$7,$C13<>""),"R",IF(I12="R",$A12,IF($B13=I$7,$A13,I12)))))) | J13: =IF($A13="","",IF(AND($B13="",$B12<>"",COUNTIF(J$8:J12,"R")),COUNTIF(J$8:J12,"R")&"R",IF($B13="","",IF(AND($B13=J$7,$C13<>""),"R",IF(J12="R",$A12,IF($B13=J$7,$A13,J12)))))) | K13: =IF($A13="","",IF(AND($B13="",$B12<>"",COUNTIF(K$8:K12,"R")),COUNTIF(K$8:K12,"R")&"R",IF($B13="","",IF(AND($B13=K$7,$C13<>""),"R",IF(K12="R",$A12,IF($B13=K$7,$A13,K12)))))) | ... AO13: =IF($A13="","",IF(AND($B13="",$B12<>"",COUNTIF(AO$8:AO12,"R")),COUNTIF(AO$8:AO12,"R")&"R",IF($B13="","",IF(AND($B13=AO$7,$C13<>""),"R",IF(AO12="R",$A12,IF($B13=AO$7,$A13,AO12))))))
A14: 7 | B14: =IF(R$3="American",RANDBETWEEN(0,37),RANDBETWEEN(0,36)) -> 3 | C14: =IF(COUNTIF(B$8:B13,B14)=0,"",COUNTIF(B$8:B13,B14)) | D14: =IF($A14="","",IF(AND($B14="",$B13<>"",COUNTIF(D$8:D13,"R")),COUNTIF(D$8:D13,"R")&"R",IF($B14="","",IF(AND($B14=D$7,$C14<>""),"R",IF(D13="R",$A13,IF($B14=D$7,$A14,D13)))))) | E14: =IF($A14="","",IF(AND($B14="",$B13<>"",COUNTIF(E$8:E13,"R")),COUNTIF(E$8:E13,"R")&"R",IF($B14="","",IF(AND($B14=E$7,$C14<>""),"R",IF(E13="R",$A13,IF($B14=E$7,$A14,E13)))))) | F14: =IF($A14="","",IF(AND($B14="",$B13<>"",COUNTIF(F$8:F13,"R")),COUNTIF(F$8:F13,"R")&"R",IF($B14="","",IF(AND($B14=F$7,$C14<>""),"R",IF(F13="R",$A13,IF($B14=F$7,$A14,F13)))))) | G14: =IF($A14="","",IF(AND($B14="",$B13<>"",COUNTIF(G$8:G13,"R")),COUNTIF(G$8:G13,"R")&"R",IF($B14="","",IF(AND($B14=G$7,$C14<>""),"R",IF(G13="R",$A13,IF($B14=G$7,$A14,G13)))))) | H14: =IF($A14="","",IF(AND($B14="",$B13<>"",COUNTIF(H$8:H13,"R")),COUNTIF(H$8:H13,"R")&"R",IF($B14="","",IF(AND($B14=H$7,$C14<>""),"R",IF(H13="R",$A13,IF($B14=H$7,$A14,H13)))))) | I14: =IF($A14="","",IF(AND($B14="",$B13<>"",COUNTIF(I$8:I13,"R")),COUNTIF(I$8:I13,"R")&"R",IF($B14="","",IF(AND($B14=I$7,$C14<>""),"R",IF(I13="R",$A13,IF($B14=I$7,$A14,I13)))))) | J14: =IF($A14="","",IF(AND($B14="",$B13<>"",COUNTIF(J$8:J13,"R")),COUNTIF(J$8:J13,"R")&"R",IF($B14="","",IF(AND($B14=J$7,$C14<>""),"R",IF(J13="R",$A13,IF($B14=J$7,$A14,J13)))))) | K14: =IF($A14="","",IF(AND($B14="",$B13<>"",COUNTIF(K$8:K13,"R")),COUNTIF(K$8:K13,"R")&"R",IF($B14="","",IF(AND($B14=K$7,$C14<>""),"R",IF(K13="R",$A13,IF($B14=K$7,$A14,K13)))))) | ... AO14: =IF($A14="","",IF(AND($B14="",$B13<>"",COUNTIF(AO$8:AO13,"R")),COUNTIF(AO$8:AO13,"R")&"R",IF($B14="","",IF(AND($B14=AO$7,$C14<>""),"R",IF(AO13="R",$A13,IF($B14=AO$7,$A14,AO13))))))
A15: 8 | B15: =IF(R$3="American",RANDBETWEEN(0,37),RANDBETWEEN(0,36)) -> 12 | C15: =IF(COUNTIF(B$8:B14,B15)=0,"",COUNTIF(B$8:B14,B15)) | D15: =IF($A15="","",IF(AND($B15="",$B14<>"",COUNTIF(D$8:D14,"R")),COUNTIF(D$8:D14,"R")&"R",IF($B15="","",IF(AND($B15=D$7,$C15<>""),"R",IF(D14="R",$A14,IF($B15=D$7,$A15,D14)))))) | E15: =IF($A15="","",IF(AND($B15="",$B14<>"",COUNTIF(E$8:E14,"R")),COUNTIF(E$8:E14,"R")&"R",IF($B15="","",IF(AND($B15=E$7,$C15<>""),"R",IF(E14="R",$A14,IF($B15=E$7,$A15,E14)))))) | F15: =IF($A15="","",IF(AND($B15="",$B14<>"",COUNTIF(F$8:F14,"R")),COUNTIF(F$8:F14,"R")&"R",IF($B15="","",IF(AND($B15=F$7,$C15<>""),"R",IF(F14="R",$A14,IF($B15=F$7,$A15,F14)))))) | G15: =IF($A15="","",IF(AND($B15="",$B14<>"",COUNTIF(G$8:G14,"R")),COUNTIF(G$8:G14,"R")&"R",IF($B15="","",IF(AND($B15=G$7,$C15<>""),"R",IF(G14="R",$A14,IF($B15=G$7,$A15,G14)))))) | H15: =IF($A15="","",IF(AND($B15="",$B14<>"",COUNTIF(H$8:H14,"R")),COUNTIF(H$8:H14,"R")&"R",IF($B15="","",IF(AND($B15=H$7,$C15<>""),"R",IF(H14="R",$A14,IF($B15=H$7,$A15,H14)))))) | I15: =IF($A15="","",IF(AND($B15="",$B14<>"",COUNTIF(I$8:I14,"R")),COUNTIF(I$8:I14,"R")&"R",IF($B15="","",IF(AND($B15=I$7,$C15<>""),"R",IF(I14="R",$A14,IF($B15=I$7,$A15,I14)))))) | J15: =IF($A15="","",IF(AND($B15="",$B14<>"",COUNTIF(J$8:J14,"R")),COUNTIF(J$8:J14,"R")&"R",IF($B15="","",IF(AND($B15=J$7,$C15<>""),"R",IF(J14="R",$A14,IF($B15=J$7,$A15,J14)))))) | K15: =IF($A15="","",IF(AND($B15="",$B14<>"",COUNTIF(K$8:K14,"R")),COUNTIF(K$8:K14,"R")&"R",IF($B15="","",IF(AND($B15=K$7,$C15<>""),"R",IF(K14="R",$A14,IF($B15=K$7,$A15,K14)))))) | ... AO15: =IF($A15="","",IF(AND($B15="",$B14<>"",COUNTIF(AO$8:AO14,"R")),COUNTIF(AO$8:AO14,"R")&"R",IF($B15="","",IF(AND($B15=AO$7,$C15<>""),"R",IF(AO14="R",$A14,IF($B15=AO$7,$A15,AO14))))))
A16: 9 | C16: =IF(COUNTIF(B$8:B15,B16)=0,"",COUNTIF(B$8:B15,B16)) | D16: =IF($A16="","",IF(AND($B16="",$B15<>"",COUNTIF(D$8:D15,"R")),COUNTIF(D$8:D15,"R")&"R",IF($B16="","",IF(AND($B16=D$7,$C16<>""),"R",IF(D15="R",$A15,IF($B16=D$7,$A16,D15)))))) | E16: =IF($A16="","",IF(AND($B16="",$B15<>"",COUNTIF(E$8:E15,"R")),COUNTIF(E$8:E15,"R")&"R",IF($B16="","",IF(AND($B16=E$7,$C16<>""),"R",IF(E15="R",$A15,IF($B16=E$7,$A16,E15)))))) | F16: =IF($A16="","",IF(AND($B16="",$B15<>"",COUNTIF(F$8:F15,"R")),COUNTIF(F$8:F15,"R")&"R",IF($B16="","",IF(AND($B16=F$7,$C16<>""),"R",IF(F15="R",$A15,IF($B16=F$7,$A16,F15)))))) | G16: =IF($A16="","",IF(AND($B16="",$B15<>"",COUNTIF(G$8:G15,"R")),COUNTIF(G$8:G15,"R")&"R",IF($B16="","",IF(AND($B16=G$7,$C16<>""),"R",IF(G15="R",$A15,IF($B16=G$7,$A16,G15)))))) | H16: =IF($A16="","",IF(AND($B16="",$B15<>"",COUNTIF(H$8:H15,"R")),COUNTIF(H$8:H15,"R")&"R",IF($B16="","",IF(AND($B16=H$7,$C16<>""),"R",IF(H15="R",$A15,IF($B16=H$7,$A16,H15)))))) | I16: =IF($A16="","",IF(AND($B16="",$B15<>"",COUNTIF(I$8:I15,"R")),COUNTIF(I$8:I15,"R")&"R",IF($B16="","",IF(AND($B16=I$7,$C16<>""),"R",IF(I15="R",$A15,IF($B16=I$7,$A16,I15)))))) | J16: =IF($A16="","",IF(AND($B16="",$B15<>"",COUNTIF(J$8:J15,"R")),COUNTIF(J$8:J15,"R")&"R",IF($B16="","",IF(AND($B16=J$7,$C16<>""),"R",IF(J15="R",$A15,IF($B16=J$7,$A16,J15)))))) | K16: =IF($A16="","",IF(AND($B16="",$B15<>"",COUNTIF(K$8:K15,"R")),COUNTIF(K$8:K15,"R")&"R",IF($B16="","",IF(AND($B16=K$7,$C16<>""),"R",IF(K15="R",$A15,IF($B16=K$7,$A16,K15)))))) | ... AO16: =IF($A16="","",IF(AND($B16="",$B15<>"",COUNTIF(AO$8:AO15,"R")),COUNTIF(AO$8:AO15,"R")&"R",IF($B16="","",IF(AND($B16=AO$7,$C16<>""),"R",IF(AO15="R",$A15,IF($B16=AO$7,$A16,AO15))))))
A17: 10 | C17: =IF(COUNTIF(B$8:B16,B17)=0,"",COUNTIF(B$8:B16,B17)) | D17: =IF($A17="","",IF(AND($B17="",$B16<>"",COUNTIF(D$8:D16,"R")),COUNTIF(D$8:D16,"R")&"R",IF($B17="","",IF(AND($B17=D$7,$C17<>""),"R",IF(D16="R",$A16,IF($B17=D$7,$A17,D16)))))) | E17: =IF($A17="","",IF(AND($B17="",$B16<>"",COUNTIF(E$8:E16,"R")),COUNTIF(E$8:E16,"R")&"R",IF($B17="","",IF(AND($B17=E$7,$C17<>""),"R",IF(E16="R",$A16,IF($B17=E$7,$A17,E16)))))) | F17: =IF($A17="","",IF(AND($B17="",$B16<>"",COUNTIF(F$8:F16,"R")),COUNTIF(F$8:F16,"R")&"R",IF($B17="","",IF(AND($B17=F$7,$C17<>""),"R",IF(F16="R",$A16,IF($B17=F$7,$A17,F16)))))) | G17: =IF($A17="","",IF(AND($B17="",$B16<>"",COUNTIF(G$8:G16,"R")),COUNTIF(G$8:G16,"R")&"R",IF($B17="","",IF(AND($B17=G$7,$C17<>""),"R",IF(G16="R",$A16,IF($B17=G$7,$A17,G16)))))) | H17: =IF($A17="","",IF(AND($B17="",$B16<>"",COUNTIF(H$8:H16,"R")),COUNTIF(H$8:H16,"R")&"R",IF($B17="","",IF(AND($B17=H$7,$C17<>""),"R",IF(H16="R",$A16,IF($B17=H$7,$A17,H16)))))) | I17: =IF($A17="","",IF(AND($B17="",$B16<>"",COUNTIF(I$8:I16,"R")),COUNTIF(I$8:I16,"R")&"R",IF($B17="","",IF(AND($B17=I$7,$C17<>""),"R",IF(I16="R",$A16,IF($B17=I$7,$A17,I16)))))) | J17: =IF($A17="","",IF(AND($B17="",$B16<>"",COUNTIF(J$8:J16,"R")),COUNTIF(J$8:J16,"R")&"R",IF($B17="","",IF(AND($B17=J$7,$C17<>""),"R",IF(J16="R",$A16,IF($B17=J$7,$A17,J16)))))) | K17: =IF($A17="","",IF(AND($B17="",$B16<>"",COUNTIF(K$8:K16,"R")),COUNTIF(K$8:K16,"R")&"R",IF($B17="","",IF(AND($B17=K$7,$C17<>""),"R",IF(K16="R",$A16,IF($B17=K$7,$A17,K16)))))) | ... AO17: =IF($A17="","",IF(AND($B17="",$B16<>"",COUNTIF(AO$8:AO16,"R")),COUNTIF(AO$8:AO16,"R")&"R",IF($B17="","",IF(AND($B17=AO$7,$C17<>""),"R",IF(AO16="R",$A16,IF($B17=AO$7,$A17,AO16))))))
A18: 11 | C18: =IF(COUNTIF(B$8:B17,B18)=0,"",COUNTIF(B$8:B17,B18)) | D18: =IF($A18="","",IF(AND($B18="",$B17<>"",COUNTIF(D$8:D17,"R")),COUNTIF(D$8:D17,"R")&"R",IF($B18="","",IF(AND($B18=D$7,$C18<>""),"R",IF(D17="R",$A17,IF($B18=D$7,$A18,D17)))))) | E18: =IF($A18="","",IF(AND($B18="",$B17<>"",COUNTIF(E$8:E17,"R")),COUNTIF(E$8:E17,"R")&"R",IF($B18="","",IF(AND($B18=E$7,$C18<>""),"R",IF(E17="R",$A17,IF($B18=E$7,$A18,E17)))))) | F18: =IF($A18="","",IF(AND($B18="",$B17<>"",COUNTIF(F$8:F17,"R")),COUNTIF(F$8:F17,"R")&"R",IF($B18="","",IF(AND($B18=F$7,$C18<>""),"R",IF(F17="R",$A17,IF($B18=F$7,$A18,F17)))))) | G18: =IF($A18="","",IF(AND($B18="",$B17<>"",COUNTIF(G$8:G17,"R")),COUNTIF(G$8:G17,"R")&"R",IF($B18="","",IF(AND($B18=G$7,$C18<>""),"R",IF(G17="R",$A17,IF($B18=G$7,$A18,G17)))))) | H18: =IF($A18="","",IF(AND($B18="",$B17<>"",COUNTIF(H$8:H17,"R")),COUNTIF(H$8:H17,"R")&"R",IF($B18="","",IF(AND($B18=H$7,$C18<>""),"R",IF(H17="R",$A17,IF($B18=H$7,$A18,H17)))))) | I18: =IF($A18="","",IF(AND($B18="",$B17<>"",COUNTIF(I$8:I17,"R")),COUNTIF(I$8:I17,"R")&"R",IF($B18="","",IF(AND($B18=I$7,$C18<>""),"R",IF(I17="R",$A17,IF($B18=I$7,$A18,I17)))))) | J18: =IF($A18="","",IF(AND($B18="",$B17<>"",COUNTIF(J$8:J17,"R")),COUNTIF(J$8:J17,"R")&"R",IF($B18="","",IF(AND($B18=J$7,$C18<>""),"R",IF(J17="R",$A17,IF($B18=J$7,$A18,J17)))))) | K18: =IF($A18="","",IF(AND($B18="",$B17<>"",COUNTIF(K$8:K17,"R")),COUNTIF(K$8:K17,"R")&"R",IF($B18="","",IF(AND($B18=K$7,$C18<>""),"R",IF(K17="R",$A17,IF($B18=K$7,$A18,K17)))))) | ... AO18: =IF($A18="","",IF(AND($B18="",$B17<>"",COUNTIF(AO$8:AO17,"R")),COUNTIF(AO$8:AO17,"R")&"R",IF($B18="","",IF(AND($B18=AO$7,$C18<>""),"R",IF(AO17="R",$A17,IF($B18=AO$7,$A18,AO17))))))
A19: 12 | C19: =IF(COUNTIF(B$8:B18,B19)=0,"",COUNTIF(B$8:B18,B19)) | D19: =IF($A19="","",IF(AND($B19="",$B18<>"",COUNTIF(D$8:D18,"R")),COUNTIF(D$8:D18,"R")&"R",IF($B19="","",IF(AND($B19=D$7,$C19<>""),"R",IF(D18="R",$A18,IF($B19=D$7,$A19,D18)))))) | E19: =IF($A19="","",IF(AND($B19="",$B18<>"",COUNTIF(E$8:E18,"R")),COUNTIF(E$8:E18,"R")&"R",IF($B19="","",IF(AND($B19=E$7,$C19<>""),"R",IF(E18="R",$A18,IF($B19=E$7,$A19,E18)))))) | F19: =IF($A19="","",IF(AND($B19="",$B18<>"",COUNTIF(F$8:F18,"R")),COUNTIF(F$8:F18,"R")&"R",IF($B19="","",IF(AND($B19=F$7,$C19<>""),"R",IF(F18="R",$A18,IF($B19=F$7,$A19,F18)))))) | G19: =IF($A19="","",IF(AND($B19="",$B18<>"",COUNTIF(G$8:G18,"R")),COUNTIF(G$8:G18,"R")&"R",IF($B19="","",IF(AND($B19=G$7,$C19<>""),"R",IF(G18="R",$A18,IF($B19=G$7,$A19,G18)))))) | H19: =IF($A19="","",IF(AND($B19="",$B18<>"",COUNTIF(H$8:H18,"R")),COUNTIF(H$8:H18,"R")&"R",IF($B19="","",IF(AND($B19=H$7,$C19<>""),"R",IF(H18="R",$A18,IF($B19=H$7,$A19,H18)))))) | I19: =IF($A19="","",IF(AND($B19="",$B18<>"",COUNTIF(I$8:I18,"R")),COUNTIF(I$8:I18,"R")&"R",IF($B19="","",IF(AND($B19=I$7,$C19<>""),"R",IF(I18="R",$A18,IF($B19=I$7,$A19,I18)))))) | J19: =IF($A19="","",IF(AND($B19="",$B18<>"",COUNTIF(J$8:J18,"R")),COUNTIF(J$8:J18,"R")&"R",IF($B19="","",IF(AND($B19=J$7,$C19<>""),"R",IF(J18="R",$A18,IF($B19=J$7,$A19,J18)))))) | K19: =IF($A19="","",IF(AND($B19="",$B18<>"",COUNTIF(K$8:K18,"R")),COUNTIF(K$8:K18,"R")&"R",IF($B19="","",IF(AND($B19=K$7,$C19<>""),"R",IF(K18="R",$A18,IF($B19=K$7,$A19,K18)))))) | ... AO19: =IF($A19="","",IF(AND($B19="",$B18<>"",COUNTIF(AO$8:AO18,"R")),COUNTIF(AO$8:AO18,"R")&"R",IF($B19="","",IF(AND($B19=AO$7,$C19<>""),"R",IF(AO18="R",$A18,IF($B19=AO$7,$A19,AO18))))))
A20: 13 | C20: =IF(COUNTIF(B$8:B19,B20)=0,"",COUNTIF(B$8:B19,B20)) | D20: =IF($A20="","",IF(AND($B20="",$B19<>"",COUNTIF(D$8:D19,"R")),COUNTIF(D$8:D19,"R")&"R",IF($B20="","",IF(AND($B20=D$7,$C20<>""),"R",IF(D19="R",$A19,IF($B20=D$7,$A20,D19)))))) | E20: =IF($A20="","",IF(AND($B20="",$B19<>"",COUNTIF(E$8:E19,"R")),COUNTIF(E$8:E19,"R")&"R",IF($B20="","",IF(AND($B20=E$7,$C20<>""),"R",IF(E19="R",$A19,IF($B20=E$7,$A20,E19)))))) | F20: =IF($A20="","",IF(AND($B20="",$B19<>"",COUNTIF(F$8:F19,"R")),COUNTIF(F$8:F19,"R")&"R",IF($B20="","",IF(AND($B20=F$7,$C20<>""),"R",IF(F19="R",$A19,IF($B20=F$7,$A20,F19)))))) | G20: =IF($A20="","",IF(AND($B20="",$B19<>"",COUNTIF(G$8:G19,"R")),COUNTIF(G$8:G19,"R")&"R",IF($B20="","",IF(AND($B20=G$7,$C20<>""),"R",IF(G19="R",$A19,IF($B20=G$7,$A20,G19)))))) | H20: =IF($A20="","",IF(AND($B20="",$B19<>"",COUNTIF(H$8:H19,"R")),COUNTIF(H$8:H19,"R")&"R",IF($B20="","",IF(AND($B20=H$7,$C20<>""),"R",IF(H19="R",$A19,IF($B20=H$7,$A20,H19)))))) | I20: =IF($A20="","",IF(AND($B20="",$B19<>"",COUNTIF(I$8:I19,"R")),COUNTIF(I$8:I19,"R")&"R",IF($B20="","",IF(AND($B20=I$7,$C20<>""),"R",IF(I19="R",$A19,IF($B20=I$7,$A20,I19)))))) | J20: =IF($A20="","",IF(AND($B20="",$B19<>"",COUNTIF(J$8:J19,"R")),COUNTIF(J$8:J19,"R")&"R",IF($B20="","",IF(AND($B20=J$7,$C20<>""),"R",IF(J19="R",$A19,IF($B20=J$7,$A20,J19)))))) | K20: =IF($A20="","",IF(AND($B20="",$B19<>"",COUNTIF(K$8:K19,"R")),COUNTIF(K$8:K19,"R")&"R",IF($B20="","",IF(AND($B20=K$7,$C20<>""),"R",IF(K19="R",$A19,IF($B20=K$7,$A20,K19)))))) | ... AO20: =IF($A20="","",IF(AND($B20="",$B19<>"",COUNTIF(AO$8:AO19,"R")),COUNTIF(AO$8:AO19,"R")&"R",IF($B20="","",IF(AND($B20=AO$7,$C20<>""),"R",IF(AO19="R",$A19,IF($B20=AO$7,$A20,AO19))))))
A21: 14 | C21: =IF(COUNTIF(B$8:B20,B21)=0,"",COUNTIF(B$8:B20,B21)) | D21: =IF($A21="","",IF(AND($B21="",$B20<>"",COUNTIF(D$8:D20,"R")),COUNTIF(D$8:D20,"R")&"R",IF($B21="","",IF(AND($B21=D$7,$C21<>""),"R",IF(D20="R",$A20,IF($B21=D$7,$A21,D20)))))) | E21: =IF($A21="","",IF(AND($B21="",$B20<>"",COUNTIF(E$8:E20,"R")),COUNTIF(E$8:E20,"R")&"R",IF($B21="","",IF(AND($B21=E$7,$C21<>""),"R",IF(E20="R",$A20,IF($B21=E$7,$A21,E20)))))) | F21: =IF($A21="","",IF(AND($B21="",$B20<>"",COUNTIF(F$8:F20,"R")),COUNTIF(F$8:F20,"R")&"R",IF($B21="","",IF(AND($B21=F$7,$C21<>""),"R",IF(F20="R",$A20,IF($B21=F$7,$A21,F20)))))) | G21: =IF($A21="","",IF(AND($B21="",$B20<>"",COUNTIF(G$8:G20,"R")),COUNTIF(G$8:G20,"R")&"R",IF($B21="","",IF(AND($B21=G$7,$C21<>""),"R",IF(G20="R",$A20,IF($B21=G$7,$A21,G20)))))) | H21: =IF($A21="","",IF(AND($B21="",$B20<>"",COUNTIF(H$8:H20,"R")),COUNTIF(H$8:H20,"R")&"R",IF($B21="","",IF(AND($B21=H$7,$C21<>""),"R",IF(H20="R",$A20,IF($B21=H$7,$A21,H20)))))) | I21: =IF($A21="","",IF(AND($B21="",$B20<>"",COUNTIF(I$8:I20,"R")),COUNTIF(I$8:I20,"R")&"R",IF($B21="","",IF(AND($B21=I$7,$C21<>""),"R",IF(I20="R",$A20,IF($B21=I$7,$A21,I20)))))) | J21: =IF($A21="","",IF(AND($B21="",$B20<>"",COUNTIF(J$8:J20,"R")),COUNTIF(J$8:J20,"R")&"R",IF($B21="","",IF(AND($B21=J$7,$C21<>""),"R",IF(J20="R",$A20,IF($B21=J$7,$A21,J20)))))) | K21: =IF($A21="","",IF(AND($B21="",$B20<>"",COUNTIF(K$8:K20,"R")),COUNTIF(K$8:K20,"R")&"R",IF($B21="","",IF(AND($B21=K$7,$C21<>""),"R",IF(K20="R",$A20,IF($B21=K$7,$A21,K20)))))) | ... AO21: =IF($A21="","",IF(AND($B21="",$B20<>"",COUNTIF(AO$8:AO20,"R")),COUNTIF(AO$8:AO20,"R")&"R",IF($B21="","",IF(AND($B21=AO$7,$C21<>""),"R",IF(AO20="R",$A20,IF($B21=AO$7,$A21,AO20))))))
A22: 15 | C22: =IF(COUNTIF(B$8:B21,B22)=0,"",COUNTIF(B$8:B21,B22)) | D22: =IF($A22="","",IF(AND($B22="",$B21<>"",COUNTIF(D$8:D21,"R")),COUNTIF(D$8:D21,"R")&"R",IF($B22="","",IF(AND($B22=D$7,$C22<>""),"R",IF(D21="R",$A21,IF($B22=D$7,$A22,D21)))))) | E22: =IF($A22="","",IF(AND($B22="",$B21<>"",COUNTIF(E$8:E21,"R")),COUNTIF(E$8:E21,"R")&"R",IF($B22="","",IF(AND($B22=E$7,$C22<>""),"R",IF(E21="R",$A21,IF($B22=E$7,$A22,E21)))))) | F22: =IF($A22="","",IF(AND($B22="",$B21<>"",COUNTIF(F$8:F21,"R")),COUNTIF(F$8:F21,"R")&"R",IF($B22="","",IF(AND($B22=F$7,$C22<>""),"R",IF(F21="R",$A21,IF($B22=F$7,$A22,F21)))))) | G22: =IF($A22="","",IF(AND($B22="",$B21<>"",COUNTIF(G$8:G21,"R")),COUNTIF(G$8:G21,"R")&"R",IF($B22="","",IF(AND($B22=G$7,$C22<>""),"R",IF(G21="R",$A21,IF($B22=G$7,$A22,G21)))))) | H22: =IF($A22="","",IF(AND($B22="",$B21<>"",COUNTIF(H$8:H21,"R")),COUNTIF(H$8:H21,"R")&"R",IF($B22="","",IF(AND($B22=H$7,$C22<>""),"R",IF(H21="R",$A21,IF($B22=H$7,$A22,H21)))))) | I22: =IF($A22="","",IF(AND($B22="",$B21<>"",COUNTIF(I$8:I21,"R")),COUNTIF(I$8:I21,"R")&"R",IF($B22="","",IF(AND($B22=I$7,$C22<>""),"R",IF(I21="R",$A21,IF($B22=I$7,$A22,I21)))))) | J22: =IF($A22="","",IF(AND($B22="",$B21<>"",COUNTIF(J$8:J21,"R")),COUNTIF(J$8:J21,"R")&"R",IF($B22="","",IF(AND($B22=J$7,$C22<>""),"R",IF(J21="R",$A21,IF($B22=J$7,$A22,J21)))))) | K22: =IF($A22="","",IF(AND($B22="",$B21<>"",COUNTIF(K$8:K21,"R")),COUNTIF(K$8:K21,"R")&"R",IF($B22="","",IF(AND($B22=K$7,$C22<>""),"R",IF(K21="R",$A21,IF($B22=K$7,$A22,K21)))))) | ... AO22: =IF($A22="","",IF(AND($B22="",$B21<>"",COUNTIF(AO$8:AO21,"R")),COUNTIF(AO$8:AO21,"R")&"R",IF($B22="","",IF(AND($B22=AO$7,$C22<>""),"R",IF(AO21="R",$A21,IF($B22=AO$7,$A22,AO21))))))
A23: 16 | C23: =IF(COUNTIF(B$8:B22,B23)=0,"",COUNTIF(B$8:B22,B23)) | D23: =IF($A23="","",IF(AND($B23="",$B22<>"",COUNTIF(D$8:D22,"R")),COUNTIF(D$8:D22,"R")&"R",IF($B23="","",IF(AND($B23=D$7,$C23<>""),"R",IF(D22="R",$A22,IF($B23=D$7,$A23,D22)))))) | E23: =IF($A23="","",IF(AND($B23="",$B22<>"",COUNTIF(E$8:E22,"R")),COUNTIF(E$8:E22,"R")&"R",IF($B23="","",IF(AND($B23=E$7,$C23<>""),"R",IF(E22="R",$A22,IF($B23=E$7,$A23,E22)))))) | F23: =IF($A23="","",IF(AND($B23="",$B22<>"",COUNTIF(F$8:F22,"R")),COUNTIF(F$8:F22,"R")&"R",IF($B23="","",IF(AND($B23=F$7,$C23<>""),"R",IF(F22="R",$A22,IF($B23=F$7,$A23,F22)))))) | G23: =IF($A23="","",IF(AND($B23="",$B22<>"",COUNTIF(G$8:G22,"R")),COUNTIF(G$8:G22,"R")&"R",IF($B23="","",IF(AND($B23=G$7,$C23<>""),"R",IF(G22="R",$A22,IF($B23=G$7,$A23,G22)))))) | H23: =IF($A23="","",IF(AND($B23="",$B22<>"",COUNTIF(H$8:H22,"R")),COUNTIF(H$8:H22,"R")&"R",IF($B23="","",IF(AND($B23=H$7,$C23<>""),"R",IF(H22="R",$A22,IF($B23=H$7,$A23,H22)))))) | I23: =IF($A23="","",IF(AND($B23="",$B22<>"",COUNTIF(I$8:I22,"R")),COUNTIF(I$8:I22,"R")&"R",IF($B23="","",IF(AND($B23=I$7,$C23<>""),"R",IF(I22="R",$A22,IF($B23=I$7,$A23,I22)))))) | J23: =IF($A23="","",IF(AND($B23="",$B22<>"",COUNTIF(J$8:J22,"R")),COUNTIF(J$8:J22,"R")&"R",IF($B23="","",IF(AND($B23=J$7,$C23<>""),"R",IF(J22="R",$A22,IF($B23=J$7,$A23,J22)))))) | K23: =IF($A23="","",IF(AND($B23="",$B22<>"",COUNTIF(K$8:K22,"R")),COUNTIF(K$8:K22,"R")&"R",IF($B23="","",IF(AND($B23=K$7,$C23<>""),"R",IF(K22="R",$A22,IF($B23=K$7,$A23,K22)))))) | ... AO23: =IF($A23="","",IF(AND($B23="",$B22<>"",COUNTIF(AO$8:AO22,"R")),COUNTIF(AO$8:AO22,"R")&"R",IF($B23="","",IF(AND($B23=AO$7,$C23<>""),"R",IF(AO22="R",$A22,IF($B23=AO$7,$A23,AO22))))))
A24: 17 | C24: =IF(COUNTIF(B$8:B23,B24)=0,"",COUNTIF(B$8:B23,B24)) | D24: =IF($A24="","",IF(AND($B24="",$B23<>"",COUNTIF(D$8:D23,"R")),COUNTIF(D$8:D23,"R")&"R",IF($B24="","",IF(AND($B24=D$7,$C24<>""),"R",IF(D23="R",$A23,IF($B24=D$7,$A24,D23)))))) | E24: =IF($A24="","",IF(AND($B24="",$B23<>"",COUNTIF(E$8:E23,"R")),COUNTIF(E$8:E23,"R")&"R",IF($B24="","",IF(AND($B24=E$7,$C24<>""),"R",IF(E23="R",$A23,IF($B24=E$7,$A24,E23)))))) | F24: =IF($A24="","",IF(AND($B24="",$B23<>"",COUNTIF(F$8:F23,"R")),COUNTIF(F$8:F23,"R")&"R",IF($B24="","",IF(AND($B24=F$7,$C24<>""),"R",IF(F23="R",$A23,IF($B24=F$7,$A24,F23)))))) | G24: =IF($A24="","",IF(AND($B24="",$B23<>"",COUNTIF(G$8:G23,"R")),COUNTIF(G$8:G23,"R")&"R",IF($B24="","",IF(AND($B24=G$7,$C24<>""),"R",IF(G23="R",$A23,IF($B24=G$7,$A24,G23)))))) | H24: =IF($A24="","",IF(AND($B24="",$B23<>"",COUNTIF(H$8:H23,"R")),COUNTIF(H$8:H23,"R")&"R",IF($B24="","",IF(AND($B24=H$7,$C24<>""),"R",IF(H23="R",$A23,IF($B24=H$7,$A24,H23)))))) | I24: =IF($A24="","",IF(AND($B24="",$B23<>"",COUNTIF(I$8:I23,"R")),COUNTIF(I$8:I23,"R")&"R",IF($B24="","",IF(AND($B24=I$7,$C24<>""),"R",IF(I23="R",$A23,IF($B24=I$7,$A24,I23)))))) | J24: =IF($A24="","",IF(AND($B24="",$B23<>"",COUNTIF(J$8:J23,"R")),COUNTIF(J$8:J23,"R")&"R",IF($B24="","",IF(AND($B24=J$7,$C24<>""),"R",IF(J23="R",$A23,IF($B24=J$7,$A24,J23)))))) | K24: =IF($A24="","",IF(AND($B24="",$B23<>"",COUNTIF(K$8:K23,"R")),COUNTIF(K$8:K23,"R")&"R",IF($B24="","",IF(AND($B24=K$7,$C24<>""),"R",IF(K23="R",$A23,IF($B24=K$7,$A24,K23)))))) | ... AO24: =IF($A24="","",IF(AND($B24="",$B23<>"",COUNTIF(AO$8:AO23,"R")),COUNTIF(AO$8:AO23,"R")&"R",IF($B24="","",IF(AND($B24=AO$7,$C24<>""),"R",IF(AO23="R",$A23,IF($B24=AO$7,$A24,AO23))))))
A25: 18 | C25: =IF(COUNTIF(B$8:B24,B25)=0,"",COUNTIF(B$8:B24,B25)) | D25: =IF($A25="","",IF(AND($B25="",$B24<>"",COUNTIF(D$8:D24,"R")),COUNTIF(D$8:D24,"R")&"R",IF($B25="","",IF(AND($B25=D$7,$C25<>""),"R",IF(D24="R",$A24,IF($B25=D$7,$A25,D24)))))) | E25: =IF($A25="","",IF(AND($B25="",$B24<>"",COUNTIF(E$8:E24,"R")),COUNTIF(E$8:E24,"R")&"R",IF($B25="","",IF(AND($B25=E$7,$C25<>""),"R",IF(E24="R",$A24,IF($B25=E$7,$A25,E24)))))) | F25: =IF($A25="","",IF(AND($B25="",$B24<>"",COUNTIF(F$8:F24,"R")),COUNTIF(F$8:F24,"R")&"R",IF($B25="","",IF(AND($B25=F$7,$C25<>""),"R",IF(F24="R",$A24,IF($B25=F$7,$A25,F24)))))) | G25: =IF($A25="","",IF(AND($B25="",$B24<>"",COUNTIF(G$8:G24,"R")),COUNTIF(G$8:G24,"R")&"R",IF($B25="","",IF(AND($B25=G$7,$C25<>""),"R",IF(G24="R",$A24,IF($B25=G$7,$A25,G24)))))) | H25: =IF($A25="","",IF(AND($B25="",$B24<>"",COUNTIF(H$8:H24,"R")),COUNTIF(H$8:H24,"R")&"R",IF($B25="","",IF(AND($B25=H$7,$C25<>""),"R",IF(H24="R",$A24,IF($B25=H$7,$A25,H24)))))) | I25: =IF($A25="","",IF(AND($B25="",$B24<>"",COUNTIF(I$8:I24,"R")),COUNTIF(I$8:I24,"R")&"R",IF($B25="","",IF(AND($B25=I$7,$C25<>""),"R",IF(I24="R",$A24,IF($B25=I$7,$A25,I24)))))) | J25: =IF($A25="","",IF(AND($B25="",$B24<>"",COUNTIF(J$8:J24,"R")),COUNTIF(J$8:J24,"R")&"R",IF($B25="","",IF(AND($B25=J$7,$C25<>""),"R",IF(J24="R",$A24,IF($B25=J$7,$A25,J24)))))) | K25: =IF($A25="","",IF(AND($B25="",$B24<>"",COUNTIF(K$8:K24,"R")),COUNTIF(K$8:K24,"R")&"R",IF($B25="","",IF(AND($B25=K$7,$C25<>""),"R",IF(K24="R",$A24,IF($B25=K$7,$A25,K24)))))) | ... AO25: =IF($A25="","",IF(AND($B25="",$B24<>"",COUNTIF(AO$8:AO24,"R")),COUNTIF(AO$8:AO24,"R")&"R",IF($B25="","",IF(AND($B25=AO$7,$C25<>""),"R",IF(AO24="R",$A24,IF($B25=AO$7,$A25,AO24))))))
A26: 19 | C26: =IF(COUNTIF(B$8:B25,B26)=0,"",COUNTIF(B$8:B25,B26)) | D26: =IF($A26="","",IF(AND($B26="",$B25<>"",COUNTIF(D$8:D25,"R")),COUNTIF(D$8:D25,"R")&"R",IF($B26="","",IF(AND($B26=D$7,$C26<>""),"R",IF(D25="R",$A25,IF($B26=D$7,$A26,D25)))))) | E26: =IF($A26="","",IF(AND($B26="",$B25<>"",COUNTIF(E$8:E25,"R")),COUNTIF(E$8:E25,"R")&"R",IF($B26="","",IF(AND($B26=E$7,$C26<>""),"R",IF(E25="R",$A25,IF($B26=E$7,$A26,E25)))))) | F26: =IF($A26="","",IF(AND($B26="",$B25<>"",COUNTIF(F$8:F25,"R")),COUNTIF(F$8:F25,"R")&"R",IF($B26="","",IF(AND($B26=F$7,$C26<>""),"R",IF(F25="R",$A25,IF($B26=F$7,$A26,F25)))))) | G26: =IF($A26="","",IF(AND($B26="",$B25<>"",COUNTIF(G$8:G25,"R")),COUNTIF(G$8:G25,"R")&"R",IF($B26="","",IF(AND($B26=G$7,$C26<>""),"R",IF(G25="R",$A25,IF($B26=G$7,$A26,G25)))))) | H26: =IF($A26="","",IF(AND($B26="",$B25<>"",COUNTIF(H$8:H25,"R")),COUNTIF(H$8:H25,"R")&"R",IF($B26="","",IF(AND($B26=H$7,$C26<>""),"R",IF(H25="R",$A25,IF($B26=H$7,$A26,H25)))))) | I26: =IF($A26="","",IF(AND($B26="",$B25<>"",COUNTIF(I$8:I25,"R")),COUNTIF(I$8:I25,"R")&"R",IF($B26="","",IF(AND($B26=I$7,$C26<>""),"R",IF(I25="R",$A25,IF($B26=I$7,$A26,I25)))))) | J26: =IF($A26="","",IF(AND($B26="",$B25<>"",COUNTIF(J$8:J25,"R")),COUNTIF(J$8:J25,"R")&"R",IF($B26="","",IF(AND($B26=J$7,$C26<>""),"R",IF(J25="R",$A25,IF($B26=J$7,$A26,J25)))))) | K26: =IF($A26="","",IF(AND($B26="",$B25<>"",COUNTIF(K$8:K25,"R")),COUNTIF(K$8:K25,"R")&"R",IF($B26="","",IF(AND($B26=K$7,$C26<>""),"R",IF(K25="R",$A25,IF($B26=K$7,$A26,K25)))))) | ... AO26: =IF($A26="","",IF(AND($B26="",$B25<>"",COUNTIF(AO$8:AO25,"R")),COUNTIF(AO$8:AO25,"R")&"R",IF($B26="","",IF(AND($B26=AO$7,$C26<>""),"R",IF(AO25="R",$A25,IF($B26=AO$7,$A26,AO25))))))
A27: 20 | C27: =IF(COUNTIF(B$8:B26,B27)=0,"",COUNTIF(B$8:B26,B27)) | D27: =IF($A27="","",IF(AND($B27="",$B26<>"",COUNTIF(D$8:D26,"R")),COUNTIF(D$8:D26,"R")&"R",IF($B27="","",IF(AND($B27=D$7,$C27<>""),"R",IF(D26="R",$A26,IF($B27=D$7,$A27,D26)))))) | E27: =IF($A27="","",IF(AND($B27="",$B26<>"",COUNTIF(E$8:E26,"R")),COUNTIF(E$8:E26,"R")&"R",IF($B27="","",IF(AND($B27=E$7,$C27<>""),"R",IF(E26="R",$A26,IF($B27=E$7,$A27,E26)))))) | F27: =IF($A27="","",IF(AND($B27="",$B26<>"",COUNTIF(F$8:F26,"R")),COUNTIF(F$8:F26,"R")&"R",IF($B27="","",IF(AND($B27=F$7,$C27<>""),"R",IF(F26="R",$A26,IF($B27=F$7,$A27,F26)))))) | G27: =IF($A27="","",IF(AND($B27="",$B26<>"",COUNTIF(G$8:G26,"R")),COUNTIF(G$8:G26,"R")&"R",IF($B27="","",IF(AND($B27=G$7,$C27<>""),"R",IF(G26="R",$A26,IF($B27=G$7,$A27,G26)))))) | H27: =IF($A27="","",IF(AND($B27="",$B26<>"",COUNTIF(H$8:H26,"R")),COUNTIF(H$8:H26,"R")&"R",IF($B27="","",IF(AND($B27=H$7,$C27<>""),"R",IF(H26="R",$A26,IF($B27=H$7,$A27,H26)))))) | I27: =IF($A27="","",IF(AND($B27="",$B26<>"",COUNTIF(I$8:I26,"R")),COUNTIF(I$8:I26,"R")&"R",IF($B27="","",IF(AND($B27=I$7,$C27<>""),"R",IF(I26="R",$A26,IF($B27=I$7,$A27,I26)))))) | J27: =IF($A27="","",IF(AND($B27="",$B26<>"",COUNTIF(J$8:J26,"R")),COUNTIF(J$8:J26,"R")&"R",IF($B27="","",IF(AND($B27=J$7,$C27<>""),"R",IF(J26="R",$A26,IF($B27=J$7,$A27,J26)))))) | K27: =IF($A27="","",IF(AND($B27="",$B26<>"",COUNTIF(K$8:K26,"R")),COUNTIF(K$8:K26,"R")&"R",IF($B27="","",IF(AND($B27=K$7,$C27<>""),"R",IF(K26="R",$A26,IF($B27=K$7,$A27,K26)))))) | ... AO27: =IF($A27="","",IF(AND($B27="",$B26<>"",COUNTIF(AO$8:AO26,"R")),COUNTIF(AO$8:AO26,"R")&"R",IF($B27="","",IF(AND($B27=AO$7,$C27<>""),"R",IF(AO26="R",$A26,IF($B27=AO$7,$A27,AO26))))))
... A257: 250 | C257: =IF(COUNTIF(B$8:B256,B257)=0,"",COUNTIF(B$8:B256,B257)) | D257: =IF($A257="","",IF(AND($B257="",$B256<>"",COUNTIF(D$8:D256,"R")),COUNTIF(D$8:D256,"R")&"R",IF($B257="","",IF(AND($B257=D$7,$C257<>""),"R",IF(D256="R",$A256,IF($B257=D$7,$A257,D256)))))) | E257: =IF($A257="","",IF(AND($B257="",$B256<>"",COUNTIF(E$8:E256,"R")),COUNTIF(E$8:E256,"R")&"R",IF($B257="","",IF(AND($B257=E$7,$C257<>""),"R",IF(E256="R",$A256,IF($B257=E$7,$A257,E256)))))) | F257: =IF($A257="","",IF(AND($B257="",$B256<>"",COUNTIF(F$8:F256,"R")),COUNTIF(F$8:F256,"R")&"R",IF($B257="","",IF(AND($B257=F$7,$C257<>""),"R",IF(F256="R",$A256,IF($B257=F$7,$A257,F256)))))) | G257: =IF($A257="","",IF(AND($B257="",$B256<>"",COUNTIF(G$8:G256,"R")),COUNTIF(G$8:G256,"R")&"R",IF($B257="","",IF(AND($B257=G$7,$C257<>""),"R",IF(G256="R",$A256,IF($B257=G$7,$A257,G256)))))) | H257: =IF($A257="","",IF(AND($B257="",$B256<>"",COUNTIF(H$8:H256,"R")),COUNTIF(H$8:H256,"R")&"R",IF($B257="","",IF(AND($B257=H$7,$C257<>""),"R",IF(H256="R",$A256,IF($B257=H$7,$A257,H256)))))) | I257: =IF($A257="","",IF(AND($B257="",$B256<>"",COUNTIF(I$8:I256,"R")),COUNTIF(I$8:I256,"R")&"R",IF($B257="","",IF(AND($B257=I$7,$C257<>""),"R",IF(I256="R",$A256,IF($B257=I$7,$A257,I256)))))) | J257: =IF($A257="","",IF(AND($B257="",$B256<>"",COUNTIF(J$8:J256,"R")),COUNTIF(J$8:J256,"R")&"R",IF($B257="","",IF(AND($B257=J$7,$C257<>""),"R",IF(J256="R",$A256,IF($B257=J$7,$A257,J256)))))) | K257: =IF($A257="","",IF(AND($B257="",$B256<>"",COUNTIF(K$8:K256,"R")),COUNTIF(K$8:K256,"R")&"R",IF($B257="","",IF(AND($B257=K$7,$C257<>""),"R",IF(K256="R",$A256,IF($B257=K$7,$A257,K256)))))) | ... AO257: =IF($A257="","",IF(AND($B257="",$B256<>"",COUNTIF(AO$8:AO256,"R")),COUNTIF(AO$8:AO256,"R")&"R",IF($B257="","",IF(AND($B257=AO$7,$C257<>""),"R",IF(AO256="R",$A256,IF($B257=AO$7,$A257,AO256))))))

Sheet Tracker-Rolling spins
Q2: Layout | T2: Rolling spin
Q3: Board | T3: 37
E5: =Q3 -> Board
E6: 0 | F6: 1 | G6: 2 | H6: 3 | I6: 4 | J6: 5 | K6: 6 | L6: 7 | M6: 8 | N6: 9 | O6: 10 | P6: 11 | Q6: 12 | R6: 13 | S6: 14 | T6: 15 | U6: 16 | V6: 17 | W6: 18 | X6: 19 | Y6: 20 | Z6: 21 | AA6: 22 | AB6: 23 | AC6: 24 | AD6: 25 | AE6: 26 | AF6: 27 | AG6: 28 | AH6: 29 | AI6: 30 | AJ6: 31 | AK6: 32 | AL6: 33 | AM6: 34 | AN6: 35 | AO6: 36 | AP6: 37
A7: Spin | B7: Nr | D7: Rep | E7: =IF($Q3="Board",E6,IF($Q3="European",LOOKUP(E6,Layout!$A:$A,Layout!$B:$B),IF($Q3="American",LOOKUP(E6,Layout!$A:$A,Layout!$D:$D)))) -> 0 | F7: =IF($Q3="Board",F6,IF($Q3="European",LOOKUP(F6,Layout!$A:$A,Layout!$B:$B),IF($Q3="American",LOOKUP(F6,Layout!$A:$A,Layout!$D:$D)))) -> 1 | G7: =IF($Q3="Board",G6,IF($Q3="European",LOOKUP(G6,Layout!$A:$A,Layout!$B:$B),IF($Q3="American",LOOKUP(G6,Layout!$A:$A,Layout!$D:$D)))) -> 2 | H7: =IF($Q3="Board",H6,IF($Q3="European",LOOKUP(H6,Layout!$A:$A,Layout!$B:$B),IF($Q3="American",LOOKUP(H6,Layout!$A:$A,Layout!$D:$D)))) -> 3 | I7: =IF($Q3="Board",I6,IF($Q3="European",LOOKUP(I6,Layout!$A:$A,Layout!$B:$B),IF($Q3="American",LOOKUP(I6,Layout!$A:$A,Layout!$D:$D)))) -> 4 | J7: =IF($Q3="Board",J6,IF($Q3="European",LOOKUP(J6,Layout!$A:$A,Layout!$B:$B),IF($Q3="American",LOOKUP(J6,Layout!$A:$A,Layout!$D:$D)))) -> 5 | K7: =IF($Q3="Board",K6,IF($Q3="European",LOOKUP(K6,Layout!$A:$A,Layout!$B:$B),IF($Q3="American",LOOKUP(K6,Layout!$A:$A,Layout!$D:$D)))) -> 6 | L7: =IF($Q3="Board",L6,IF($Q3="European",LOOKUP(L6,Layout!$A:$A,Layout!$B:$B),IF($Q3="American",LOOKUP(L6,Layout!$A:$A,Layout!$D:$D)))) -> 7 | ... AO7: =IF($Q3="Board",AO6,IF($Q3="European",LOOKUP(AO6,Layout!$A:$A,Layout!$B:$B),IF($Q3="American",LOOKUP(AO6,Layout!$A:$A,Layout!$D:$D)))) -> 36 | AP7: =IF($Q3="Board","",IF($Q3="European","",IF($Q3="American",LOOKUP(AP6,Layout!$A:$A,Layout!$D:$D))))
A8: 1 | B8: =IF(Q$3="American",RANDBETWEEN(0,37),RANDBETWEEN(0,36)) -> 3 | C8: =IF(A8<T$3,A8,T$3) -> 1 | E8: =IF($B8="","",IF($B8=E$7,$A8,"")) | F8: =IF($B8="","",IF($B8=F$7,$A8,"")) | G8: =IF($B8="","",IF($B8=G$7,$A8,"")) | H8: =IF($B8="","",IF($B8=H$7,$A8,"")) -> 1 | I8: =IF($B8="","",IF($B8=I$7,$A8,"")) | J8: =IF($B8="","",IF($B8=J$7,$A8,"")) | K8: =IF($B8="","",IF($B8=K$7,$A8,"")) | L8: =IF($B8="","",IF($B8=L$7,$A8,"")) | ... AP8: =IF($B8="","",IF($B8=AP$7,$A8,""))
A9: 2 | B9: =IF(Q$3="American",RANDBETWEEN(0,37),RANDBETWEEN(0,36)) -> 29 | C9: =IF(A9<T$3,A9,T$3) -> 2 | D9: =IF(COUNTIF(B$8:B8,B9)=0,"",COUNTIF(B$8:B8,B9)) | E9: =IF($A9="","",IF(AND(E8<>"",$C9=$T$3,COUNTIF(OFFSET($E8,-($C8-1),0,1,1):E8,E8)=$T$3),"",IF(AND($B9="",$B8<>"",COUNTIF(E$8:E8,"R")),COUNTIF(E$8:E8,"R")&"R",IF($B9="","",IF(AND($B9=E$7,E8<>"",COUNTIF(OFFSET($B8,-($C8-1),0,1,1):$B8,E$7)>0),"R",IF(E8="R",$A8,IF($B9=E$7,$A9,E8))))))) | F9: =IF($A9="","",IF(AND(F8<>"",$C9=$T$3,COUNTIF(OFFSET($E8,-($C8-1),0,1,1):F8,F8)=$T$3),"",IF(AND($B9="",$B8<>"",COUNTIF(F$8:F8,"R")),COUNTIF(F$8:F8,"R")&"R",IF($B9="","",IF(AND($B9=F$7,F8<>"",COUNTIF(OFFSET($B8,-($C8-1),0,1,1):$B8,F$7)>0),"R",IF(F8="R",$A8,IF($B9=F$7,$A9,F8))))))) | G9: =IF($A9="","",IF(AND(G8<>"",$C9=$T$3,COUNTIF(OFFSET($E8,-($C8-1),0,1,1):G8,G8)=$T$3),"",IF(AND($B9="",$B8<>"",COUNTIF(G$8:G8,"R")),COUNTIF(G$8:G8,"R")&"R",IF($B9="","",IF(AND($B9=G$7,G8<>"",COUNTIF(OFFSET($B8,-($C8-1),0,1,1):$B8,G$7)>0),"R",IF(G8="R",$A8,IF($B9=G$7,$A9,G8))))))) | H9: =IF($A9="","",IF(AND(H8<>"",$C9=$T$3,COUNTIF(OFFSET($E8,-($C8-1),0,1,1):H8,H8)=$T$3),"",IF(AND($B9="",$B8<>"",COUNTIF(H$8:H8,"R")),COUNTIF(H$8:H8,"R")&"R",IF($B9="","",IF(AND($B9=H$7,H8<>"",COUNTIF(OFFSET($B8,-($C8-1),0,1,1):$B8,H$7)>0),"R",IF(H8="R",$A8,IF($B9=H$7,$A9,H8))))))) -> 1 | I9: =IF($A9="","",IF(AND(I8<>"",$C9=$T$3,COUNTIF(OFFSET($E8,-($C8-1),0,1,1):I8,I8)=$T$3),"",IF(AND($B9="",$B8<>"",COUNTIF(I$8:I8,"R")),COUNTIF(I$8:I8,"R")&"R",IF($B9="","",IF(AND($B9=I$7,I8<>"",COUNTIF(OFFSET($B8,-($C8-1),0,1,1):$B8,I$7)>0),"R",IF(I8="R",$A8,IF($B9=I$7,$A9,I8))))))) | J9: =IF($A9="","",IF(AND(J8<>"",$C9=$T$3,COUNTIF(OFFSET($E8,-($C8-1),0,1,1):J8,J8)=$T$3),"",IF(AND($B9="",$B8<>"",COUNTIF(J$8:J8,"R")),COUNTIF(J$8:J8,"R")&"R",IF($B9="","",IF(AND($B9=J$7,J8<>"",COUNTIF(OFFSET($B8,-($C8-1),0,1,1):$B8,J$7)>0),"R",IF(J8="R",$A8,IF($B9=J$7,$A9,J8))))))) | K9: =IF($A9="","",IF(AND(K8<>"",$C9=$T$3,COUNTIF(OFFSET($E8,-($C8-1),0,1,1):K8,K8)=$T$3),"",IF(AND($B9="",$B8<>"",COUNTIF(K$8:K8,"R")),COUNTIF(K$8:K8,"R")&"R",IF($B9="","",IF(AND($B9=K$7,K8<>"",COUNTIF(OFFSET($B8,-($C8-1),0,1,1):$B8,K$7)>0),"R",IF(K8="R",$A8,IF($B9=K$7,$A9,K8))))))) | L9: =IF($A9="","",IF(AND(L8<>"",$C9=$T$3,COUNTIF(OFFSET($E8,-($C8-1),0,1,1):L8,L8)=$T$3),"",IF(AND($B9="",$B8<>"",COUNTIF(L$8:L8,"R")),COUNTIF(L$8:L8,"R")&"R",IF($B9="","",IF(AND($B9=L$7,L8<>"",COUNTIF(OFFSET($B8,-($C8-1),0,1,1):$B8,L$7)>0),"R",IF(L8="R",$A8,IF($B9=L$7,$A9,L8))))))) | ... AP9: =IF($A9="","",IF(AND(AP8<>"",$C9=$T$3,COUNTIF(OFFSET($E8,-($C8-1),0,1,1):AP8,AP8)=$T$3),"",IF(AND($B9="",$B8<>"",COUNTIF(AP$8:AP8,"R")),COUNTIF(AP$8:AP8,"R")&"R",IF($B9="","",IF(AND($B9=AP$7,AP8<>"",COUNTIF(OFFSET($B8,-($C8-1),0,1,1):$B8,AP$7)>0),"R",IF(AP8="R",$A8,IF($B9=AP$7,$A9,AP8)))))))
A10: 3 | B10: =IF(Q$3="American",RANDBETWEEN(0,37),RANDBETWEEN(0,36)) -> 22 | C10: =IF(A10<T$3,A10,T$3) -> 3 | D10: =IF(COUNTIF(B$8:B9,B10)=0,"",COUNTIF(B$8:B9,B10)) | E10: =IF($A10="","",IF(AND(E9<>"",$C10=$T$3,COUNTIF(OFFSET($E9,-($C9-1),0,1,1):E9,E9)=$T$3),"",IF(AND($B10="",$B9<>"",COUNTIF(E$8:E9,"R")),COUNTIF(E$8:E9,"R")&"R",IF($B10="","",IF(AND($B10=E$7,E9<>"",COUNTIF(OFFSET($B9,-($C9-1),0,1,1):$B9,E$7)>0),"R",IF(E9="R",$A9,IF($B10=E$7,$A10,E9))))))) | F10: =IF($A10="","",IF(AND(F9<>"",$C10=$T$3,COUNTIF(OFFSET($E9,-($C9-1),0,1,1):F9,F9)=$T$3),"",IF(AND($B10="",$B9<>"",COUNTIF(F$8:F9,"R")),COUNTIF(F$8:F9,"R")&"R",IF($B10="","",IF(AND($B10=F$7,F9<>"",COUNTIF(OFFSET($B9,-($C9-1),0,1,1):$B9,F$7)>0),"R",IF(F9="R",$A9,IF($B10=F$7,$A10,F9))))))) | G10: =IF($A10="","",IF(AND(G9<>"",$C10=$T$3,COUNTIF(OFFSET($E9,-($C9-1),0,1,1):G9,G9)=$T$3),"",IF(AND($B10="",$B9<>"",COUNTIF(G$8:G9,"R")),COUNTIF(G$8:G9,"R")&"R",IF($B10="","",IF(AND($B10=G$7,G9<>"",COUNTIF(OFFSET($B9,-($C9-1),0,1,1):$B9,G$7)>0),"R",IF(G9="R",$A9,IF($B10=G$7,$A10,G9))))))) | H10: =IF($A10="","",IF(AND(H9<>"",$C10=$T$3,COUNTIF(OFFSET($E9,-($C9-1),0,1,1):H9,H9)=$T$3),"",IF(AND($B10="",$B9<>"",COUNTIF(H$8:H9,"R")),COUNTIF(H$8:H9,"R")&"R",IF($B10="","",IF(AND($B10=H$7,H9<>"",COUNTIF(OFFSET($B9,-($C9-1),0,1,1):$B9,H$7)>0),"R",IF(H9="R",$A9,IF($B10=H$7,$A10,H9))))))) -> 1 | I10: =IF($A10="","",IF(AND(I9<>"",$C10=$T$3,COUNTIF(OFFSET($E9,-($C9-1),0,1,1):I9,I9)=$T$3),"",IF(AND($B10="",$B9<>"",COUNTIF(I$8:I9,"R")),COUNTIF(I$8:I9,"R")&"R",IF($B10="","",IF(AND($B10=I$7,I9<>"",COUNTIF(OFFSET($B9,-($C9-1),0,1,1):$B9,I$7)>0),"R",IF(I9="R",$A9,IF($B10=I$7,$A10,I9))))))) | J10: =IF($A10="","",IF(AND(J9<>"",$C10=$T$3,COUNTIF(OFFSET($E9,-($C9-1),0,1,1):J9,J9)=$T$3),"",IF(AND($B10="",$B9<>"",COUNTIF(J$8:J9,"R")),COUNTIF(J$8:J9,"R")&"R",IF($B10="","",IF(AND($B10=J$7,J9<>"",COUNTIF(OFFSET($B9,-($C9-1),0,1,1):$B9,J$7)>0),"R",IF(J9="R",$A9,IF($B10=J$7,$A10,J9))))))) | K10: =IF($A10="","",IF(AND(K9<>"",$C10=$T$3,COUNTIF(OFFSET($E9,-($C9-1),0,1,1):K9,K9)=$T$3),"",IF(AND($B10="",$B9<>"",COUNTIF(K$8:K9,"R")),COUNTIF(K$8:K9,"R")&"R",IF($B10="","",IF(AND($B10=K$7,K9<>"",COUNTIF(OFFSET($B9,-($C9-1),0,1,1):$B9,K$7)>0),"R",IF(K9="R",$A9,IF($B10=K$7,$A10,K9))))))) | L10: =IF($A10="","",IF(AND(L9<>"",$C10=$T$3,COUNTIF(OFFSET($E9,-($C9-1),0,1,1):L9,L9)=$T$3),"",IF(AND($B10="",$B9<>"",COUNTIF(L$8:L9,"R")),COUNTIF(L$8:L9,"R")&"R",IF($B10="","",IF(AND($B10=L$7,L9<>"",COUNTIF(OFFSET($B9,-($C9-1),0,1,1):$B9,L$7)>0),"R",IF(L9="R",$A9,IF($B10=L$7,$A10,L9))))))) | ... AP10: =IF($A10="","",IF(AND(AP9<>"",$C10=$T$3,COUNTIF(OFFSET($E9,-($C9-1),0,1,1):AP9,AP9)=$T$3),"",IF(AND($B10="",$B9<>"",COUNTIF(AP$8:AP9,"R")),COUNTIF(AP$8:AP9,"R")&"R",IF($B10="","",IF(AND($B10=AP$7,AP9<>"",COUNTIF(OFFSET($B9,-($C9-1),0,1,1):$B9,AP$7)>0),"R",IF(AP9="R",$A9,IF($B10=AP$7,$A10,AP9)))))))
A11: 4 | B11: =IF(Q$3="American",RANDBETWEEN(0,37),RANDBETWEEN(0,36)) -> 6 | C11: =IF(A11<T$3,A11,T$3) -> 4 | D11: =IF(COUNTIF(B$8:B10,B11)=0,"",COUNTIF(B$8:B10,B11)) | E11: =IF($A11="","",IF(AND(E10<>"",$C11=$T$3,COUNTIF(OFFSET($E10,-($C10-1),0,1,1):E10,E10)=$T$3),"",IF(AND($B11="",$B10<>"",COUNTIF(E$8:E10,"R")),COUNTIF(E$8:E10,"R")&"R",IF($B11="","",IF(AND($B11=E$7,E10<>"",COUNTIF(OFFSET($B10,-($C10-1),0,1,1):$B10,E$7)>0),"R",IF(E10="R",$A10,IF($B11=E$7,$A11,E10))))))) | F11: =IF($A11="","",IF(AND(F10<>"",$C11=$T$3,COUNTIF(OFFSET($E10,-($C10-1),0,1,1):F10,F10)=$T$3),"",IF(AND($B11="",$B10<>"",COUNTIF(F$8:F10,"R")),COUNTIF(F$8:F10,"R")&"R",IF($B11="","",IF(AND($B11=F$7,F10<>"",COUNTIF(OFFSET($B10,-($C10-1),0,1,1):$B10,F$7)>0),"R",IF(F10="R",$A10,IF($B11=F$7,$A11,F10))))))) | G11: =IF($A11="","",IF(AND(G10<>"",$C11=$T$3,COUNTIF(OFFSET($E10,-($C10-1),0,1,1):G10,G10)=$T$3),"",IF(AND($B11="",$B10<>"",COUNTIF(G$8:G10,"R")),COUNTIF(G$8:G10,"R")&"R",IF($B11="","",IF(AND($B11=G$7,G10<>"",COUNTIF(OFFSET($B10,-($C10-1),0,1,1):$B10,G$7)>0),"R",IF(G10="R",$A10,IF($B11=G$7,$A11,G10))))))) | H11: =IF($A11="","",IF(AND(H10<>"",$C11=$T$3,COUNTIF(OFFSET($E10,-($C10-1),0,1,1):H10,H10)=$T$3),"",IF(AND($B11="",$B10<>"",COUNTIF(H$8:H10,"R")),COUNTIF(H$8:H10,"R")&"R",IF($B11="","",IF(AND($B11=H$7,H10<>"",COUNTIF(OFFSET($B10,-($C10-1),0,1,1):$B10,H$7)>0),"R",IF(H10="R",$A10,IF($B11=H$7,$A11,H10))))))) -> 1 | I11: =IF($A11="","",IF(AND(I10<>"",$C11=$T$3,COUNTIF(OFFSET($E10,-($C10-1),0,1,1):I10,I10)=$T$3),"",IF(AND($B11="",$B10<>"",COUNTIF(I$8:I10,"R")),COUNTIF(I$8:I10,"R")&"R",IF($B11="","",IF(AND($B11=I$7,I10<>"",COUNTIF(OFFSET($B10,-($C10-1),0,1,1):$B10,I$7)>0),"R",IF(I10="R",$A10,IF($B11=I$7,$A11,I10))))))) | J11: =IF($A11="","",IF(AND(J10<>"",$C11=$T$3,COUNTIF(OFFSET($E10,-($C10-1),0,1,1):J10,J10)=$T$3),"",IF(AND($B11="",$B10<>"",COUNTIF(J$8:J10,"R")),COUNTIF(J$8:J10,"R")&"R",IF($B11="","",IF(AND($B11=J$7,J10<>"",COUNTIF(OFFSET($B10,-($C10-1),0,1,1):$B10,J$7)>0),"R",IF(J10="R",$A10,IF($B11=J$7,$A11,J10))))))) | K11: =IF($A11="","",IF(AND(K10<>"",$C11=$T$3,COUNTIF(OFFSET($E10,-($C10-1),0,1,1):K10,K10)=$T$3),"",IF(AND($B11="",$B10<>"",COUNTIF(K$8:K10,"R")),COUNTIF(K$8:K10,"R")&"R",IF($B11="","",IF(AND($B11=K$7,K10<>"",COUNTIF(OFFSET($B10,-($C10-1),0,1,1):$B10,K$7)>0),"R",IF(K10="R",$A10,IF($B11=K$7,$A11,K10))))))) -> 4 | L11: =IF($A11="","",IF(AND(L10<>"",$C11=$T$3,COUNTIF(OFFSET($E10,-($C10-1),0,1,1):L10,L10)=$T$3),"",IF(AND($B11="",$B10<>"",COUNTIF(L$8:L10,"R")),COUNTIF(L$8:L10,"R")&"R",IF($B11="","",IF(AND($B11=L$7,L10<>"",COUNTIF(OFFSET($B10,-($C10-1),0,1,1):$B10,L$7)>0),"R",IF(L10="R",$A10,IF($B11=L$7,$A11,L10))))))) | ... AP11: =IF($A11="","",IF(AND(AP10<>"",$C11=$T$3,COUNTIF(OFFSET($E10,-($C10-1),0,1,1):AP10,AP10)=$T$3),"",IF(AND($B11="",$B10<>"",COUNTIF(AP$8:AP10,"R")),COUNTIF(AP$8:AP10,"R")&"R",IF($B11="","",IF(AND($B11=AP$7,AP10<>"",COUNTIF(OFFSET($B10,-($C10-1),0,1,1):$B10,AP$7)>0),"R",IF(AP10="R",$A10,IF($B11=AP$7,$A11,AP10)))))))
A12: 5 | B12: =IF(Q$3="American",RANDBETWEEN(0,37),RANDBETWEEN(0,36)) -> 31 | C12: =IF(A12<T$3,A12,T$3) -> 5 | D12: =IF(COUNTIF(B$8:B11,B12)=0,"",COUNTIF(B$8:B11,B12)) | E12: =IF($A12="","",IF(AND(E11<>"",$C12=$T$3,COUNTIF(OFFSET($E11,-($C11-1),0,1,1):E11,E11)=$T$3),"",IF(AND($B12="",$B11<>"",COUNTIF(E$8:E11,"R")),COUNTIF(E$8:E11,"R")&"R",IF($B12="","",IF(AND($B12=E$7,E11<>"",COUNTIF(OFFSET($B11,-($C11-1),0,1,1):$B11,E$7)>0),"R",IF(E11="R",$A11,IF($B12=E$7,$A12,E11))))))) | F12: =IF($A12="","",IF(AND(F11<>"",$C12=$T$3,COUNTIF(OFFSET($E11,-($C11-1),0,1,1):F11,F11)=$T$3),"",IF(AND($B12="",$B11<>"",COUNTIF(F$8:F11,"R")),COUNTIF(F$8:F11,"R")&"R",IF($B12="","",IF(AND($B12=F$7,F11<>"",COUNTIF(OFFSET($B11,-($C11-1),0,1,1):$B11,F$7)>0),"R",IF(F11="R",$A11,IF($B12=F$7,$A12,F11))))))) | G12: =IF($A12="","",IF(AND(G11<>"",$C12=$T$3,COUNTIF(OFFSET($E11,-($C11-1),0,1,1):G11,G11)=$T$3),"",IF(AND($B12="",$B11<>"",COUNTIF(G$8:G11,"R")),COUNTIF(G$8:G11,"R")&"R",IF($B12="","",IF(AND($B12=G$7,G11<>"",COUNTIF(OFFSET($B11,-($C11-1),0,1,1):$B11,G$7)>0),"R",IF(G11="R",$A11,IF($B12=G$7,$A12,G11))))))) | H12: =IF($A12="","",IF(AND(H11<>"",$C12=$T$3,COUNTIF(OFFSET($E11,-($C11-1),0,1,1):H11,H11)=$T$3),"",IF(AND($B12="",$B11<>"",COUNTIF(H$8:H11,"R")),COUNTIF(H$8:H11,"R")&"R",IF($B12="","",IF(AND($B12=H$7,H11<>"",COUNTIF(OFFSET($B11,-($C11-1),0,1,1):$B11,H$7)>0),"R",IF(H11="R",$A11,IF($B12=H$7,$A12,H11))))))) -> 1 | I12: =IF($A12="","",IF(AND(I11<>"",$C12=$T$3,COUNTIF(OFFSET($E11,-($C11-1),0,1,1):I11,I11)=$T$3),"",IF(AND($B12="",$B11<>"",COUNTIF(I$8:I11,"R")),COUNTIF(I$8:I11,"R")&"R",IF($B12="","",IF(AND($B12=I$7,I11<>"",COUNTIF(OFFSET($B11,-($C11-1),0,1,1):$B11,I$7)>0),"R",IF(I11="R",$A11,IF($B12=I$7,$A12,I11))))))) | J12: =IF($A12="","",IF(AND(J11<>"",$C12=$T$3,COUNTIF(OFFSET($E11,-($C11-1),0,1,1):J11,J11)=$T$3),"",IF(AND($B12="",$B11<>"",COUNTIF(J$8:J11,"R")),COUNTIF(J$8:J11,"R")&"R",IF($B12="","",IF(AND($B12=J$7,J11<>"",COUNTIF(OFFSET($B11,-($C11-1),0,1,1):$B11,J$7)>0),"R",IF(J11="R",$A11,IF($B12=J$7,$A12,J11))))))) | K12: =IF($A12="","",IF(AND(K11<>"",$C12=$T$3,COUNTIF(OFFSET($E11,-($C11-1),0,1,1):K11,K11)=$T$3),"",IF(AND($B12="",$B11<>"",COUNTIF(K$8:K11,"R")),COUNTIF(K$8:K11,"R")&"R",IF($B12="","",IF(AND($B12=K$7,K11<>"",COUNTIF(OFFSET($B11,-($C11-1),0,1,1):$B11,K$7)>0),"R",IF(K11="R",$A11,IF($B12=K$7,$A12,K11))))))) -> 4 | L12: =IF($A12="","",IF(AND(L11<>"",$C12=$T$3,COUNTIF(OFFSET($E11,-($C11-1),0,1,1):L11,L11)=$T$3),"",IF(AND($B12="",$B11<>"",COUNTIF(L$8:L11,"R")),COUNTIF(L$8:L11,"R")&"R",IF($B12="","",IF(AND($B12=L$7,L11<>"",COUNTIF(OFFSET($B11,-($C11-1),0,1,1):$B11,L$7)>0),"R",IF(L11="R",$A11,IF($B12=L$7,$A12,L11))))))) | ... AP12: =IF($A12="","",IF(AND(AP11<>"",$C12=$T$3,COUNTIF(OFFSET($E11,-($C11-1),0,1,1):AP11,AP11)=$T$3),"",IF(AND($B12="",$B11<>"",COUNTIF(AP$8:AP11,"R")),COUNTIF(AP$8:AP11,"R")&"R",IF($B12="","",IF(AND($B12=AP$7,AP11<>"",COUNTIF(OFFSET($B11,-($C11-1),0,1,1):$B11,AP$7)>0),"R",IF(AP11="R",$A11,IF($B12=AP$7,$A12,AP11)))))))
A13: 6 | B13: =IF(Q$3="American",RANDBETWEEN(0,37),RANDBETWEEN(0,36)) -> 21 | C13: =IF(A13<T$3,A13,T$3) -> 6 | D13: =IF(COUNTIF(B$8:B12,B13)=0,"",COUNTIF(B$8:B12,B13)) | E13: =IF($A13="","",IF(AND(E12<>"",$C13=$T$3,COUNTIF(OFFSET($E12,-($C12-1),0,1,1):E12,E12)=$T$3),"",IF(AND($B13="",$B12<>"",COUNTIF(E$8:E12,"R")),COUNTIF(E$8:E12,"R")&"R",IF($B13="","",IF(AND($B13=E$7,E12<>"",COUNTIF(OFFSET($B12,-($C12-1),0,1,1):$B12,E$7)>0),"R",IF(E12="R",$A12,IF($B13=E$7,$A13,E12))))))) | F13: =IF($A13="","",IF(AND(F12<>"",$C13=$T$3,COUNTIF(OFFSET($E12,-($C12-1),0,1,1):F12,F12)=$T$3),"",IF(AND($B13="",$B12<>"",COUNTIF(F$8:F12,"R")),COUNTIF(F$8:F12,"R")&"R",IF($B13="","",IF(AND($B13=F$7,F12<>"",COUNTIF(OFFSET($B12,-($C12-1),0,1,1):$B12,F$7)>0),"R",IF(F12="R",$A12,IF($B13=F$7,$A13,F12))))))) | G13: =IF($A13="","",IF(AND(G12<>"",$C13=$T$3,COUNTIF(OFFSET($E12,-($C12-1),0,1,1):G12,G12)=$T$3),"",IF(AND($B13="",$B12<>"",COUNTIF(G$8:G12,"R")),COUNTIF(G$8:G12,"R")&"R",IF($B13="","",IF(AND($B13=G$7,G12<>"",COUNTIF(OFFSET($B12,-($C12-1),0,1,1):$B12,G$7)>0),"R",IF(G12="R",$A12,IF($B13=G$7,$A13,G12))))))) | H13: =IF($A13="","",IF(AND(H12<>"",$C13=$T$3,COUNTIF(OFFSET($E12,-($C12-1),0,1,1):H12,H12)=$T$3),"",IF(AND($B13="",$B12<>"",COUNTIF(H$8:H12,"R")),COUNTIF(H$8:H12,"R")&"R",IF($B13="","",IF(AND($B13=H$7,H12<>"",COUNTIF(OFFSET($B12,-($C12-1),0,1,1):$B12,H$7)>0),"R",IF(H12="R",$A12,IF($B13=H$7,$A13,H12))))))) -> 1 | I13: =IF($A13="","",IF(AND(I12<>"",$C13=$T$3,COUNTIF(OFFSET($E12,-($C12-1),0,1,1):I12,I12)=$T$3),"",IF(AND($B13="",$B12<>"",COUNTIF(I$8:I12,"R")),COUNTIF(I$8:I12,"R")&"R",IF($B13="","",IF(AND($B13=I$7,I12<>"",COUNTIF(OFFSET($B12,-($C12-1),0,1,1):$B12,I$7)>0),"R",IF(I12="R",$A12,IF($B13=I$7,$A13,I12))))))) | J13: =IF($A13="","",IF(AND(J12<>"",$C13=$T$3,COUNTIF(OFFSET($E12,-($C12-1),0,1,1):J12,J12)=$T$3),"",IF(AND($B13="",$B12<>"",COUNTIF(J$8:J12,"R")),COUNTIF(J$8:J12,"R")&"R",IF($B13="","",IF(AND($B13=J$7,J12<>"",COUNTIF(OFFSET($B12,-($C12-1),0,1,1):$B12,J$7)>0),"R",IF(J12="R",$A12,IF($B13=J$7,$A13,J12))))))) | K13: =IF($A13="","",IF(AND(K12<>"",$C13=$T$3,COUNTIF(OFFSET($E12,-($C12-1),0,1,1):K12,K12)=$T$3),"",IF(AND($B13="",$B12<>"",COUNTIF(K$8:K12,"R")),COUNTIF(K$8:K12,"R")&"R",IF($B13="","",IF(AND($B13=K$7,K12<>"",COUNTIF(OFFSET($B12,-($C12-1),0,1,1):$B12,K$7)>0),"R",IF(K12="R",$A12,IF($B13=K$7,$A13,K12))))))) -> 4 | L13: =IF($A13="","",IF(AND(L12<>"",$C13=$T$3,COUNTIF(OFFSET($E12,-($C12-1),0,1,1):L12,L12)=$T$3),"",IF(AND($B13="",$B12<>"",COUNTIF(L$8:L12,"R")),COUNTIF(L$8:L12,"R")&"R",IF($B13="","",IF(AND($B13=L$7,L12<>"",COUNTIF(OFFSET($B12,-($C12-1),0,1,1):$B12,L$7)>0),"R",IF(L12="R",$A12,IF($B13=L$7,$A13,L12))))))) | ... AP13: =IF($A13="","",IF(AND(AP12<>"",$C13=$T$3,COUNTIF(OFFSET($E12,-($C12-1),0,1,1):AP12,AP12)=$T$3),"",IF(AND($B13="",$B12<>"",COUNTIF(AP$8:AP12,"R")),COUNTIF(AP$8:AP12,"R")&"R",IF($B13="","",IF(AND($B13=AP$7,AP12<>"",COUNTIF(OFFSET($B12,-($C12-1),0,1,1):$B12,AP$7)>0),"R",IF(AP12="R",$A12,IF($B13=AP$7,$A13,AP12)))))))
A14: 7 | B14: =IF(Q$3="American",RANDBETWEEN(0,37),RANDBETWEEN(0,36)) -> 4 | C14: =IF(A14<T$3,A14,T$3) -> 7 | D14: =IF(COUNTIF(B$8:B13,B14)=0,"",COUNTIF(B$8:B13,B14)) | E14: =IF($A14="","",IF(AND(E13<>"",$C14=$T$3,COUNTIF(OFFSET($E13,-($C13-1),0,1,1):E13,E13)=$T$3),"",IF(AND($B14="",$B13<>"",COUNTIF(E$8:E13,"R")),COUNTIF(E$8:E13,"R")&"R",IF($B14="","",IF(AND($B14=E$7,E13<>"",COUNTIF(OFFSET($B13,-($C13-1),0,1,1):$B13,E$7)>0),"R",IF(E13="R",$A13,IF($B14=E$7,$A14,E13))))))) | F14: =IF($A14="","",IF(AND(F13<>"",$C14=$T$3,COUNTIF(OFFSET($E13,-($C13-1),0,1,1):F13,F13)=$T$3),"",IF(AND($B14="",$B13<>"",COUNTIF(F$8:F13,"R")),COUNTIF(F$8:F13,"R")&"R",IF($B14="","",IF(AND($B14=F$7,F13<>"",COUNTIF(OFFSET($B13,-($C13-1),0,1,1):$B13,F$7)>0),"R",IF(F13="R",$A13,IF($B14=F$7,$A14,F13))))))) | G14: =IF($A14="","",IF(AND(G13<>"",$C14=$T$3,COUNTIF(OFFSET($E13,-($C13-1),0,1,1):G13,G13)=$T$3),"",IF(AND($B14="",$B13<>"",COUNTIF(G$8:G13,"R")),COUNTIF(G$8:G13,"R")&"R",IF($B14="","",IF(AND($B14=G$7,G13<>"",COUNTIF(OFFSET($B13,-($C13-1),0,1,1):$B13,G$7)>0),"R",IF(G13="R",$A13,IF($B14=G$7,$A14,G13))))))) | H14: =IF($A14="","",IF(AND(H13<>"",$C14=$T$3,COUNTIF(OFFSET($E13,-($C13-1),0,1,1):H13,H13)=$T$3),"",IF(AND($B14="",$B13<>"",COUNTIF(H$8:H13,"R")),COUNTIF(H$8:H13,"R")&"R",IF($B14="","",IF(AND($B14=H$7,H13<>"",COUNTIF(OFFSET($B13,-($C13-1),0,1,1):$B13,H$7)>0),"R",IF(H13="R",$A13,IF($B14=H$7,$A14,H13))))))) -> 1 | I14: =IF($A14="","",IF(AND(I13<>"",$C14=$T$3,COUNTIF(OFFSET($E13,-($C13-1),0,1,1):I13,I13)=$T$3),"",IF(AND($B14="",$B13<>"",COUNTIF(I$8:I13,"R")),COUNTIF(I$8:I13,"R")&"R",IF($B14="","",IF(AND($B14=I$7,I13<>"",COUNTIF(OFFSET($B13,-($C13-1),0,1,1):$B13,I$7)>0),"R",IF(I13="R",$A13,IF($B14=I$7,$A14,I13))))))) -> 7 | J14: =IF($A14="","",IF(AND(J13<>"",$C14=$T$3,COUNTIF(OFFSET($E13,-($C13-1),0,1,1):J13,J13)=$T$3),"",IF(AND($B14="",$B13<>"",COUNTIF(J$8:J13,"R")),COUNTIF(J$8:J13,"R")&"R",IF($B14="","",IF(AND($B14=J$7,J13<>"",COUNTIF(OFFSET($B13,-($C13-1),0,1,1):$B13,J$7)>0),"R",IF(J13="R",$A13,IF($B14=J$7,$A14,J13))))))) | K14: =IF($A14="","",IF(AND(K13<>"",$C14=$T$3,COUNTIF(OFFSET($E13,-($C13-1),0,1,1):K13,K13)=$T$3),"",IF(AND($B14="",$B13<>"",COUNTIF(K$8:K13,"R")),COUNTIF(K$8:K13,"R")&"R",IF($B14="","",IF(AND($B14=K$7,K13<>"",COUNTIF(OFFSET($B13,-($C13-1),0,1,1):$B13,K$7)>0),"R",IF(K13="R",$A13,IF($B14=K$7,$A14,K13))))))) -> 4 | L14: =IF($A14="","",IF(AND(L13<>"",$C14=$T$3,COUNTIF(OFFSET($E13,-($C13-1),0,1,1):L13,L13)=$T$3),"",IF(AND($B14="",$B13<>"",COUNTIF(L$8:L13,"R")),COUNTIF(L$8:L13,"R")&"R",IF($B14="","",IF(AND($B14=L$7,L13<>"",COUNTIF(OFFSET($B13,-($C13-1),0,1,1):$B13,L$7)>0),"R",IF(L13="R",$A13,IF($B14=L$7,$A14,L13))))))) | ... AP14: =IF($A14="","",IF(AND(AP13<>"",$C14=$T$3,COUNTIF(OFFSET($E13,-($C13-1),0,1,1):AP13,AP13)=$T$3),"",IF(AND($B14="",$B13<>"",COUNTIF(AP$8:AP13,"R")),COUNTIF(AP$8:AP13,"R")&"R",IF($B14="","",IF(AND($B14=AP$7,AP13<>"",COUNTIF(OFFSET($B13,-($C13-1),0,1,1):$B13,AP$7)>0),"R",IF(AP13="R",$A13,IF($B14=AP$7,$A14,AP13)))))))
A15: 8 | B15: =IF(Q$3="American",RANDBETWEEN(0,37),RANDBETWEEN(0,36)) -> 35 | C15: =IF(A15<T$3,A15,T$3) -> 8 | D15: =IF(COUNTIF(B$8:B14,B15)=0,"",COUNTIF(B$8:B14,B15)) | E15: =IF($A15="","",IF(AND(E14<>"",$C15=$T$3,COUNTIF(OFFSET($E14,-($C14-1),0,1,1):E14,E14)=$T$3),"",IF(AND($B15="",$B14<>"",COUNTIF(E$8:E14,"R")),COUNTIF(E$8:E14,"R")&"R",IF($B15="","",IF(AND($B15=E$7,E14<>"",COUNTIF(OFFSET($B14,-($C14-1),0,1,1):$B14,E$7)>0),"R",IF(E14="R",$A14,IF($B15=E$7,$A15,E14))))))) | F15: =IF($A15="","",IF(AND(F14<>"",$C15=$T$3,COUNTIF(OFFSET($E14,-($C14-1),0,1,1):F14,F14)=$T$3),"",IF(AND($B15="",$B14<>"",COUNTIF(F$8:F14,"R")),COUNTIF(F$8:F14,"R")&"R",IF($B15="","",IF(AND($B15=F$7,F14<>"",COUNTIF(OFFSET($B14,-($C14-1),0,1,1):$B14,F$7)>0),"R",IF(F14="R",$A14,IF($B15=F$7,$A15,F14))))))) | G15: =IF($A15="","",IF(AND(G14<>"",$C15=$T$3,COUNTIF(OFFSET($E14,-($C14-1),0,1,1):G14,G14)=$T$3),"",IF(AND($B15="",$B14<>"",COUNTIF(G$8:G14,"R")),COUNTIF(G$8:G14,"R")&"R",IF($B15="","",IF(AND($B15=G$7,G14<>"",COUNTIF(OFFSET($B14,-($C14-1),0,1,1):$B14,G$7)>0),"R",IF(G14="R",$A14,IF($B15=G$7,$A15,G14))))))) | H15: =IF($A15="","",IF(AND(H14<>"",$C15=$T$3,COUNTIF(OFFSET($E14,-($C14-1),0,1,1):H14,H14)=$T$3),"",IF(AND($B15="",$B14<>"",COUNTIF(H$8:H14,"R")),COUNTIF(H$8:H14,"R")&"R",IF($B15="","",IF(AND($B15=H$7,H14<>"",COUNTIF(OFFSET($B14,-($C14-1),0,1,1):$B14,H$7)>0),"R",IF(H14="R",$A14,IF($B15=H$7,$A15,H14))))))) -> 1 | I15: =IF($A15="","",IF(AND(I14<>"",$C15=$T$3,COUNTIF(OFFSET($E14,-($C14-1),0,1,1):I14,I14)=$T$3),"",IF(AND($B15="",$B14<>"",COUNTIF(I$8:I14,"R")),COUNTIF(I$8:I14,"R")&"R",IF($B15="","",IF(AND($B15=I$7,I14<>"",COUNTIF(OFFSET($B14,-($C14-1),0,1,1):$B14,I$7)>0),"R",IF(I14="R",$A14,IF($B15=I$7,$A15,I14))))))) -> 7 | J15: =IF($A15="","",IF(AND(J14<>"",$C15=$T$3,COUNTIF(OFFSET($E14,-($C14-1),0,1,1):J14,J14)=$T$3),"",IF(AND($B15="",$B14<>"",COUNTIF(J$8:J14,"R")),COUNTIF(J$8:J14,"R")&"R",IF($B15="","",IF(AND($B15=J$7,J14<>"",COUNTIF(OFFSET($B14,-($C14-1),0,1,1):$B14,J$7)>0),"R",IF(J14="R",$A14,IF($B15=J$7,$A15,J14))))))) | K15: =IF($A15="","",IF(AND(K14<>"",$C15=$T$3,COUNTIF(OFFSET($E14,-($C14-1),0,1,1):K14,K14)=$T$3),"",IF(AND($B15="",$B14<>"",COUNTIF(K$8:K14,"R")),COUNTIF(K$8:K14,"R")&"R",IF($B15="","",IF(AND($B15=K$7,K14<>"",COUNTIF(OFFSET($B14,-($C14-1),0,1,1):$B14,K$7)>0),"R",IF(K14="R",$A14,IF($B15=K$7,$A15,K14))))))) -> 4 | L15: =IF($A15="","",IF(AND(L14<>"",$C15=$T$3,COUNTIF(OFFSET($E14,-($C14-1),0,1,1):L14,L14)=$T$3),"",IF(AND($B15="",$B14<>"",COUNTIF(L$8:L14,"R")),COUNTIF(L$8:L14,"R")&"R",IF($B15="","",IF(AND($B15=L$7,L14<>"",COUNTIF(OFFSET($B14,-($C14-1),0,1,1):$B14,L$7)>0),"R",IF(L14="R",$A14,IF($B15=L$7,$A15,L14))))))) | ... AP15: =IF($A15="","",IF(AND(AP14<>"",$C15=$T$3,COUNTIF(OFFSET($E14,-($C14-1),0,1,1):AP14,AP14)=$T$3),"",IF(AND($B15="",$B14<>"",COUNTIF(AP$8:AP14,"R")),COUNTIF(AP$8:AP14,"R")&"R",IF($B15="","",IF(AND($B15=AP$7,AP14<>"",COUNTIF(OFFSET($B14,-($C14-1),0,1,1):$B14,AP$7)>0),"R",IF(AP14="R",$A14,IF($B15=AP$7,$A15,AP14)))))))
