Workbook

Sheet RevLab
A2: EC | B2: Red/Black | D2: Wins | E2: =COUNTIF(H11:H507,"1") -> 244
A3: Play type | B3: Black | D3: Losses | E3: =COUNTIF(H11:H508,"-1") -> 253
A4: Max Bet | B4: 1000 | D4: End | E4: =K507 -> -600
A5: Reset new high? | D5: Max | E5: =L507 -> 103
A6: No | D6: Max Bet | E6: =MAX(I11:I507) -> 434
A7: Reset on max bet?
A8: Yes | R8: Stelle | S8: Unit bank, end of spin
A9: Seq length | B9: =COUNTIF(B12:B111,">0") -> 4 | P9: Min | Q9: Max | R9: cntf | S9: 1 | T9: 2 | U9: 3 | V9: 4 | W9: 5 | X9: 6 | Y9: 7 | Z9: 8 | AA9: 9 | AB9: 10 | AC9: 11 | AD9: 12 | AE9: 13 | AF9: 14 | AG9: 15 | AH9: 16 | AI9: 17 | AJ9: 18 | AK9: 19 | AL9: 20 | AM9: 21 | AN9: 22 | AO9: 23 | AP9: 24 | AQ9: 25 | AR9: 26 | AS9: 27 | AT9: 28 | AU9: 29 | AV9: 30 | AW9: 31 | AX9: 32 | AY9: 33 | AZ9: 34 | BA9: 35 | BB9: 36 | BC9: 37 | BD9: 38 | BE9: 39 | BF9: 40 | BG9: 41 | BH9: 42 | BI9: 43 | BJ9: 44 | BK9: 45 | BL9: 46 | BM9: 47 | BN9: 48 | BO9: 49 | BP9: 50
A10: Starting sequence | D10: Spin | E10: Nr | F10: Decision | G10: Result | H10: WL | I10: Bet | J10: Net | K10: Total | L10: Max | M10: Rst | P10: =IF(E10="","",S10) -> 1 | Q10: =IF(E10="","",MAX(S10:DN10)) -> 4 | R10: =IF(E10="","",COUNTIF(S10:DN10,">0")) -> 4 | S10: =IF(S9>$B$9,"",IF($D11=1,LOOKUP(S9,$A12:$A111,$B12:$B111),"")) -> 1 | T10: =IF(T9>$B$9,"",IF($D11=1,LOOKUP(T9,$A12:$A111,$B12:$B111),"")) -> 2 | U10: =IF(U9>$B$9,"",IF($D11=1,LOOKUP(U9,$A12:$A111,$B12:$B111),"")) -> 3 | V10: =IF(V9>$B$9,"",IF($D11=1,LOOKUP(V9,$A12:$A111,$B12:$B111),"")) -> 4 | W10: =IF(W9>$B$9,"",IF($D11=1,LOOKUP(W9,$A12:$A111,$B12:$B111),"")) | X10: =IF(X9>$B$9,"",IF($D11=1,LOOKUP(X9,$A12:$A111,$B12:$B111),"")) | Y10: =IF(Y9>$B$9,"",IF($D11=1,LOOKUP(Y9,$A12:$A111,$B12:$B111),"")) | Z10: =IF(Z9>$B$9,"",IF($D11=1,LOOKUP(Z9,$A12:$A111,$B12:$B111),"")) | ... BP10: =IF(BP9>$B$9,"",IF($D11=1,LOOKUP(BP9,$A12:$A111,$B12:$B111),""))
A11: Seq.Nr | B11: Units | D11: 1 | E11: =RANDBETWEEN(0,36) -> 36 | F11: =IF(E10="","",IF(COUNTIF(Refs!$E$5:$I$6,B$3)=1,RevLab!B$3,"")) -> Black | G11: =IF(E11="","",IF(B$2="Red/Black",LOOKUP(E11,Refs!D:D,Refs!F:F),IF(B$2="High/Low",LOOKUP(E11,Refs!D:D,Refs!H:H),IF(B$2="Odd/Even",LOOKUP(E11,Refs!D:D,Refs!J:J),"")))) -> Red | H11: =IF(E11="","",IF(F11="","",IF(G11=F11,1,-1))) -> -1 | I11: =IF(E10="","",IF(F11="","",IF(AND(R10>1,P10+Q10>=$B$4),$B$4,IF(R10=1,P10,P10+Q10)))) -> 5 | J11: =IF(E11="","",IF(F11="","",IF(H11=1,I11,-I11))) -> -5 | K11: =IF(E11="","",IF(F11="",0,J11)) -> -5 | M11: =IF(E10="","",IF(OR(AND($A$6="Yes",$L11>$L10),AND($A$8="Yes",$P10+$Q10>=$B$4),AND($R10<=2,$H11=-1)),1,0)) -> 0 | P11: =IF(E11="","",S11) -> 2 | Q11: =IF(E11="","",MAX(S11:DN11)) -> 3 | R11: =IF(E11="","",COUNTIF(S11:DN11,">0")) -> 2 | S11: =IF(E10="","",IF($F11="",S10,IF($M11=1,LOOKUP(S$9,$A$12:$A$111,$B$12:$B$111),IF(AND($H11=-1,T$9=$R10),"",IF($H11=-1,T10,IF($H11=1,S10)))))) -> 2 | T11: =IF($E10="","",IF($F11="",T10,IF(AND($M11=1,T$9>$B$9),"",IF(AND($M11=1,T$9<=$B$9),LOOKUP(T$9,$A$12:$A$111,$B$12:$B$111),IF(AND($H11=-1,U$9=$R10),"",IF($H11=-1,U10,IF(AND($H11=1,S$9=$R10),$J11,IF($H11=1,T10,"")))))))) -> 3 | U11: =IF($E10="","",IF($F11="",U10,IF(AND($M11=1,U$9>$B$9),"",IF(AND($M11=1,U$9<=$B$9),LOOKUP(U$9,$A$12:$A$111,$B$12:$B$111),IF(AND($H11=-1,V$9=$R10),"",IF($H11=-1,V10,IF(AND($H11=1,T$9=$R10),$J11,IF($H11=1,U10,"")))))))) | V11: =IF($E10="","",IF($F11="",V10,IF(AND($M11=1,V$9>$B$9),"",IF(AND($M11=1,V$9<=$B$9),LOOKUP(V$9,$A$12:$A$111,$B$12:$B$111),IF(AND($H11=-1,W$9=$R10),"",IF($H11=-1,W10,IF(AND($H11=1,U$9=$R10),$J11,IF($H11=1,V10,"")))))))) | W11: =IF($E10="","",IF($F11="",W10,IF(AND($M11=1,W$9>$B$9),"",IF(AND($M11=1,W$9<=$B$9),LOOKUP(W$9,$A$12:$A$111,$B$12:$B$111),IF(AND($H11=-1,X$9=$R10),"",IF($H11=-1,X10,IF(AND($H11=1,V$9=$R10),$J11,IF($H11=1,W10,"")))))))) | X11: =IF($E10="","",IF($F11="",X10,IF(AND($M11=1,X$9>$B$9),"",IF(AND($M11=1,X$9<=$B$9),LOOKUP(X$9,$A$12:$A$111,$B$12:$B$111),IF(AND($H11=-1,Y$9=$R10),"",IF($H11=-1,Y10,IF(AND($H11=1,W$9=$R10),$J11,IF($H11=1,X10,"")))))))) | Y11: =IF($E10="","",IF($F11="",Y10,IF(AND($M11=1,Y$9>$B$9),"",IF(AND($M11=1,Y$9<=$B$9),LOOKUP(Y$9,$A$12:$A$111,$B$12:$B$111),IF(AND($H11=-1,Z$9=$R10),"",IF($H11=-1,Z10,IF(AND($H11=1,X$9=$R10),$J11,IF($H11=1,Y10,"")))))))) | Z11: =IF($E10="","",IF($F11="",Z10,IF(AND($M11=1,Z$9>$B$9),"",IF(AND($M11=1,Z$9<=$B$9),LOOKUP(Z$9,$A$12:$A$111,$B$12:$B$111),IF(AND($H11=-1,AA$9=$R10),"",IF($H11=-1,AA10,IF(AND($H11=1,Y$9=$R10),$J11,IF($H11=1,Z10,"")))))))) | AA11: =IF($E10="","",IF($F11="",AA10,IF(AND($M11=1,AA$9>$B$9),"",IF(AND($M11=1,AA$9<=$B$9),LOOKUP(AA$9,$A$12:$A$111,$B$12:$B$111),IF(AND($H11=-1,AB$9=$R10),"",IF($H11=-1,AB10,IF(AND($H11=1,Z$9=$R10),$J11,IF($H11=1,AA10,"")))))))) | ... BP11: =IF($E10="","",IF($F11="",BP10,IF(AND($M11=1,BP$9>$B$9),"",IF(AND($M11=1,BP$9<=$B$9),LOOKUP(BP$9,$A$12:$A$111,$B$12:$B$111),IF(AND($H11=-1,BQ$9=$R10),"",IF($H11=-1,BQ10,IF(AND($H11=1,BO$9=$R10),$J11,IF($H11=1,BP10,"")))))))) -> 0
A12: 1 | B12: 1 | D12: 2 | E12: =RANDBETWEEN(0,36) -> 30 | F12: =IF(E11="","",IF(AND(B$3="Last",G11="Zero"),F11,IF(B$3="Last",G11,IF(B$3="2nd last","",IF(AND(B$3="Opposite",G11="Zero"),F11,IF(AND(B$3="Opposite",G11="Red"),"Black",IF(AND(B$3="Opposite",G11="Black"),"Red",IF(AND(B$3="Opposite",G11="Odd"),"Even",IF(AND(B$3="Opposite",G11="Even"),"Odd",IF(AND(B$3="Opposite",G11="High"),"Low",IF(AND(B$3="Opposite",G11="Low"),"High",IF(COUNTIF(Refs!$E$5:$I$6,B$3)=1,RevLab!B$3,"")))))))))))) -> Black | G12: =IF(E12="","",IF(B$2="Red/Black",LOOKUP(E12,Refs!D:D,Refs!F:F),IF(B$2="High/Low",LOOKUP(E12,Refs!D:D,Refs!H:H),IF(B$2="Odd/Even",LOOKUP(E12,Refs!D:D,Refs!J:J),"")))) -> Red | H12: =IF(E12="","",IF(F12="","",IF(G12=F12,1,-1))) -> -1 | I12: =IF(E11="","",IF(F12="","",IF(AND(R11>1,P11+Q11>=$B$4),$B$4,IF(R11=1,P11,P11+Q11)))) -> 5 | J12: =IF(E12="","",IF(F12="","",IF(H12=1,I12,-I12))) -> -5 | K12: =IF(E12="","",IF(F12="",K11,J12+K11)) -> -10 | L12: =IF(E12="","",IF(K12>L11,K12,L11)) -> 0 | M12: =IF(E11="","",IF(OR(AND($A$6="Yes",$L12>$L11),AND($A$8="Yes",$P11+$Q11>=$B$4),AND($R11<=2,$H12=-1)),1,0)) -> 1 | P12: =IF(E12="","",S12) -> 1 | Q12: =IF(E12="","",MAX(S12:DN12)) -> 4 | R12: =IF(E12="","",COUNTIF(S12:DN12,">0")) -> 4 | S12: =IF(E11="","",IF($F12="",S11,IF($M12=1,LOOKUP(S$9,$A$12:$A$111,$B$12:$B$111),IF(AND($H12=-1,T$9=$R11),"",IF($H12=-1,T11,IF($H12=1,S11)))))) -> 1 | T12: =IF($E11="","",IF($F12="",T11,IF(AND($M12=1,T$9>$B$9),"",IF(AND($M12=1,T$9<=$B$9),LOOKUP(T$9,$A$12:$A$111,$B$12:$B$111),IF(AND($H12=-1,U$9=$R11),"",IF($H12=-1,U11,IF(AND($H12=1,S$9=$R11),$J12,IF($H12=1,T11,"")))))))) -> 2 | U12: =IF($E11="","",IF($F12="",U11,IF(AND($M12=1,U$9>$B$9),"",IF(AND($M12=1,U$9<=$B$9),LOOKUP(U$9,$A$12:$A$111,$B$12:$B$111),IF(AND($H12=-1,V$9=$R11),"",IF($H12=-1,V11,IF(AND($H12=1,T$9=$R11),$J12,IF($H12=1,U11,"")))))))) -> 3 | V12: =IF($E11="","",IF($F12="",V11,IF(AND($M12=1,V$9>$B$9),"",IF(AND($M12=1,V$9<=$B$9),LOOKUP(V$9,$A$12:$A$111,$B$12:$B$111),IF(AND($H12=-1,W$9=$R11),"",IF($H12=-1,W11,IF(AND($H12=1,U$9=$R11),$J12,IF($H12=1,V11,"")))))))) -> 4 | W12: =IF($E11="","",IF($F12="",W11,IF(AND($M12=1,W$9>$B$9),"",IF(AND($M12=1,W$9<=$B$9),LOOKUP(W$9,$A$12:$A$111,$B$12:$B$111),IF(AND($H12=-1,X$9=$R11),"",IF($H12=-1,X11,IF(AND($H12=1,V$9=$R11),$J12,IF($H12=1,W11,"")))))))) | X12: =IF($E11="","",IF($F12="",X11,IF(AND($M12=1,X$9>$B$9),"",IF(AND($M12=1,X$9<=$B$9),LOOKUP(X$9,$A$12:$A$111,$B$12:$B$111),IF(AND($H12=-1,Y$9=$R11),"",IF($H12=-1,Y11,IF(AND($H12=1,W$9=$R11),$J12,IF($H12=1,X11,"")))))))) | Y12: =IF($E11="","",IF($F12="",Y11,IF(AND($M12=1,Y$9>$B$9),"",IF(AND($M12=1,Y$9<=$B$9),LOOKUP(Y$9,$A$12:$A$111,$B$12:$B$111),IF(AND($H12=-1,Z$9=$R11),"",IF($H12=-1,Z11,IF(AND($H12=1,X$9=$R11),$J12,IF($H12=1,Y11,"")))))))) | Z12: =IF($E11="","",IF($F12="",Z11,IF(AND($M12=1,Z$9>$B$9),"",IF(AND($M12=1,Z$9<=$B$9),LOOKUP(Z$9,$A$12:$A$111,$B$12:$B$111),IF(AND($H12=-1,AA$9=$R11),"",IF($H12=-1,AA11,IF(AND($H12=1,Y$9=$R11),$J12,IF($H12=1,Z11,"")))))))) | AA12: =IF($E11="","",IF($F12="",AA11,IF(AND($M12=1,AA$9>$B$9),"",IF(AND($M12=1,AA$9<=$B$9),LOOKUP(AA$9,$A$12:$A$111,$B$12:$B$111),IF(AND($H12=-1,AB$9=$R11),"",IF($H12=-1,AB11,IF(AND($H12=1,Z$9=$R11),$J12,IF($H12=1,AA11,"")))))))) | ... BP12: =IF($E11="","",IF($F12="",BP11,IF(AND($M12=1,BP$9>$B$9),"",IF(AND($M12=1,BP$9<=$B$9),LOOKUP(BP$9,$A$12:$A$111,$B$12:$B$111),IF(AND($H12=-1,BQ$9=$R11),"",IF($H12=-1,BQ11,IF(AND($H12=1,BO$9=$R11),$J12,IF($H12=1,BP11,""))))))))
A13: 2 | B13: 2 | D13: 3 | E13: =RANDBETWEEN(0,36) -> 18 | F13: =IF(E12="","",IF(AND(B$3="Last",G12="Zero"),F12,IF(B$3="Last",G12,IF(AND(B$3="2nd last",G11="Zero"),F12,IF(B$3="2nd last",G11,IF(AND(B$3="Opposite",G12="Zero"),F12,IF(AND(B$3="Opposite",G12="Red"),"Black",IF(AND(B$3="Opposite",G12="Black"),"Red",IF(AND(B$3="Opposite",G12="Odd"),"Even",IF(AND(B$3="Opposite",G12="Even"),"Odd",IF(AND(B$3="Opposite",G12="High"),"Low",IF(AND(B$3="Opposite",G12="Low"),"High",IF(COUNTIF(Refs!$E$5:$I$6,B$3)=1,RevLab!B$3,""))))))))))))) -> Black | G13: =IF(E13="","",IF(B$2="Red/Black",LOOKUP(E13,Refs!D:D,Refs!F:F),IF(B$2="High/Low",LOOKUP(E13,Refs!D:D,Refs!H:H),IF(B$2="Odd/Even",LOOKUP(E13,Refs!D:D,Refs!J:J),"")))) -> Red | H13: =IF(E13="","",IF(F13="","",IF(G13=F13,1,-1))) -> -1 | I13: =IF(E12="","",IF(F13="","",IF(AND(R12>1,P12+Q12>=$B$4),$B$4,IF(R12=1,P12,P12+Q12)))) -> 5 | J13: =IF(E13="","",IF(F13="","",IF(H13=1,I13,-I13))) -> -5 | K13: =IF(E13="","",IF(F13="",K12,J13+K12)) -> -15 | L13: =IF(E13="","",IF(K13>L12,K13,L12)) -> 0 | M13: =IF(E12="","",IF(OR(AND($A$6="Yes",$L13>$L12),AND($A$8="Yes",$P12+$Q12>=$B$4),AND($R12<=2,$H13=-1)),1,0)) -> 0 | P13: =IF(E13="","",S13) -> 2 | Q13: =IF(E13="","",MAX(S13:DN13)) -> 3 | R13: =IF(E13="","",COUNTIF(S13:DN13,">0")) -> 2 | S13: =IF(E12="","",IF($F13="",S12,IF($M13=1,LOOKUP(S$9,$A$12:$A$111,$B$12:$B$111),IF(AND($H13=-1,T$9=$R12),"",IF($H13=-1,T12,IF($H13=1,S12)))))) -> 2 | T13: =IF($E12="","",IF($F13="",T12,IF(AND($M13=1,T$9>$B$9),"",IF(AND($M13=1,T$9<=$B$9),LOOKUP(T$9,$A$12:$A$111,$B$12:$B$111),IF(AND($H13=-1,U$9=$R12),"",IF($H13=-1,U12,IF(AND($H13=1,S$9=$R12),$J13,IF($H13=1,T12,"")))))))) -> 3 | U13: =IF($E12="","",IF($F13="",U12,IF(AND($M13=1,U$9>$B$9),"",IF(AND($M13=1,U$9<=$B$9),LOOKUP(U$9,$A$12:$A$111,$B$12:$B$111),IF(AND($H13=-1,V$9=$R12),"",IF($H13=-1,V12,IF(AND($H13=1,T$9=$R12),$J13,IF($H13=1,U12,"")))))))) | V13: =IF($E12="","",IF($F13="",V12,IF(AND($M13=1,V$9>$B$9),"",IF(AND($M13=1,V$9<=$B$9),LOOKUP(V$9,$A$12:$A$111,$B$12:$B$111),IF(AND($H13=-1,W$9=$R12),"",IF($H13=-1,W12,IF(AND($H13=1,U$9=$R12),$J13,IF($H13=1,V12,"")))))))) | W13: =IF($E12="","",IF($F13="",W12,IF(AND($M13=1,W$9>$B$9),"",IF(AND($M13=1,W$9<=$B$9),LOOKUP(W$9,$A$12:$A$111,$B$12:$B$111),IF(AND($H13=-1,X$9=$R12),"",IF($H13=-1,X12,IF(AND($H13=1,V$9=$R12),$J13,IF($H13=1,W12,"")))))))) | X13: =IF($E12="","",IF($F13="",X12,IF(AND($M13=1,X$9>$B$9),"",IF(AND($M13=1,X$9<=$B$9),LOOKUP(X$9,$A$12:$A$111,$B$12:$B$111),IF(AND($H13=-1,Y$9=$R12),"",IF($H13=-1,Y12,IF(AND($H13=1,W$9=$R12),$J13,IF($H13=1,X12,"")))))))) | Y13: =IF($E12="","",IF($F13="",Y12,IF(AND($M13=1,Y$9>$B$9),"",IF(AND($M13=1,Y$9<=$B$9),LOOKUP(Y$9,$A$12:$A$111,$B$12:$B$111),IF(AND($H13=-1,Z$9=$R12),"",IF($H13=-1,Z12,IF(AND($H13=1,X$9=$R12),$J13,IF($H13=1,Y12,"")))))))) | Z13: =IF($E12="","",IF($F13="",Z12,IF(AND($M13=1,Z$9>$B$9),"",IF(AND($M13=1,Z$9<=$B$9),LOOKUP(Z$9,$A$12:$A$111,$B$12:$B$111),IF(AND($H13=-1,AA$9=$R12),"",IF($H13=-1,AA12,IF(AND($H13=1,Y$9=$R12),$J13,IF($H13=1,Z12,"")))))))) | AA13: =IF($E12="","",IF($F13="",AA12,IF(AND($M13=1,AA$9>$B$9),"",IF(AND($M13=1,AA$9<=$B$9),LOOKUP(AA$9,$A$12:$A$111,$B$12:$B$111),IF(AND($H13=-1,AB$9=$R12),"",IF($H13=-1,AB12,IF(AND($H13=1,Z$9=$R12),$J13,IF($H13=1,AA12,"")))))))) | ... BP13: =IF($E12="","",IF($F13="",BP12,IF(AND($M13=1,BP$9>$B$9),"",IF(AND($M13=1,BP$9<=$B$9),LOOKUP(BP$9,$A$12:$A$111,$B$12:$B$111),IF(AND($H13=-1,BQ$9=$R12),"",IF($H13=-1,BQ12,IF(AND($H13=1,BO$9=$R12),$J13,IF($H13=1,BP12,"")))))))) -> 0
A14: 3 | B14: 3 | D14: 4 | E14: =RANDBETWEEN(0,36) -> 28 | F14: =IF(E13="","",IF(AND(B$3="Last",G13="Zero"),F13,IF(B$3="Last",G13,IF(AND(B$3="2nd last",G12="Zero"),F13,IF(B$3="2nd last",G12,IF(AND(B$3="Opposite",G13="Zero"),F13,IF(AND(B$3="Opposite",G13="Red"),"Black",IF(AND(B$3="Opposite",G13="Black"),"Red",IF(AND(B$3="Opposite",G13="Odd"),"Even",IF(AND(B$3="Opposite",G13="Even"),"Odd",IF(AND(B$3="Opposite",G13="High"),"Low",IF(AND(B$3="Opposite",G13="Low"),"High",IF(COUNTIF(Refs!$E$5:$I$6,B$3)=1,RevLab!B$3,""))))))))))))) -> Black | G14: =IF(E14="","",IF(B$2="Red/Black",LOOKUP(E14,Refs!D:D,Refs!F:F),IF(B$2="High/Low",LOOKUP(E14,Refs!D:D,Refs!H:H),IF(B$2="Odd/Even",LOOKUP(E14,Refs!D:D,Refs!J:J),"")))) -> Black | H14: =IF(E14="","",IF(F14="","",IF(G14=F14,1,-1))) -> 1 | I14: =IF(E13="","",IF(F14="","",IF(AND(R13>1,P13+Q13>=$B$4),$B$4,IF(R13=1,P13,P13+Q13)))) -> 5 | J14: =IF(E14="","",IF(F14="","",IF(H14=1,I14,-I14))) -> 5 | K14: =IF(E14="","",IF(F14="",K13,J14+K13)) -> -10 | L14: =IF(E14="","",IF(K14>L13,K14,L13)) -> 0 | M14: =IF(E13="","",IF(OR(AND($A$6="Yes",$L14>$L13),AND($A$8="Yes",$P13+$Q13>=$B$4),AND($R13<=2,$H14=-1)),1,0)) -> 0 | P14: =IF(E14="","",S14) -> 2 | Q14: =IF(E14="","",MAX(S14:DN14)) -> 5 | R14: =IF(E14="","",COUNTIF(S14:DN14,">0")) -> 3 | S14: =IF(E13="","",IF($F14="",S13,IF($M14=1,LOOKUP(S$9,$A$12:$A$111,$B$12:$B$111),IF(AND($H14=-1,T$9=$R13),"",IF($H14=-1,T13,IF($H14=1,S13)))))) -> 2 | T14: =IF($E13="","",IF($F14="",T13,IF(AND($M14=1,T$9>$B$9),"",IF(AND($M14=1,T$9<=$B$9),LOOKUP(T$9,$A$12:$A$111,$B$12:$B$111),IF(AND($H14=-1,U$9=$R13),"",IF($H14=-1,U13,IF(AND($H14=1,S$9=$R13),$J14,IF($H14=1,T13,"")))))))) -> 3 | U14: =IF($E13="","",IF($F14="",U13,IF(AND($M14=1,U$9>$B$9),"",IF(AND($M14=1,U$9<=$B$9),LOOKUP(U$9,$A$12:$A$111,$B$12:$B$111),IF(AND($H14=-1,V$9=$R13),"",IF($H14=-1,V13,IF(AND($H14=1,T$9=$R13),$J14,IF($H14=1,U13,"")))))))) -> 5 | V14: =IF($E13="","",IF($F14="",V13,IF(AND($M14=1,V$9>$B$9),"",IF(AND($M14=1,V$9<=$B$9),LOOKUP(V$9,$A$12:$A$111,$B$12:$B$111),IF(AND($H14=-1,W$9=$R13),"",IF($H14=-1,W13,IF(AND($H14=1,U$9=$R13),$J14,IF($H14=1,V13,"")))))))) | W14: =IF($E13="","",IF($F14="",W13,IF(AND($M14=1,W$9>$B$9),"",IF(AND($M14=1,W$9<=$B$9),LOOKUP(W$9,$A$12:$A$111,$B$12:$B$111),IF(AND($H14=-1,X$9=$R13),"",IF($H14=-1,X13,IF(AND($H14=1,V$9=$R13),$J14,IF($H14=1,W13,"")))))))) | X14: =IF($E13="","",IF($F14="",X13,IF(AND($M14=1,X$9>$B$9),"",IF(AND($M14=1,X$9<=$B$9),LOOKUP(X$9,$A$12:$A$111,$B$12:$B$111),IF(AND($H14=-1,Y$9=$R13),"",IF($H14=-1,Y13,IF(AND($H14=1,W$9=$R13),$J14,IF($H14=1,X13,"")))))))) | Y14: =IF($E13="","",IF($F14="",Y13,IF(AND($M14=1,Y$9>$B$9),"",IF(AND($M14=1,Y$9<=$B$9),LOOKUP(Y$9,$A$12:$A$111,$B$12:$B$111),IF(AND($H14=-1,Z$9=$R13),"",IF($H14=-1,Z13,IF(AND($H14=1,X$9=$R13),$J14,IF($H14=1,Y13,"")))))))) | Z14: =IF($E13="","",IF($F14="",Z13,IF(AND($M14=1,Z$9>$B$9),"",IF(AND($M14=1,Z$9<=$B$9),LOOKUP(Z$9,$A$12:$A$111,$B$12:$B$111),IF(AND($H14=-1,AA$9=$R13),"",IF($H14=-1,AA13,IF(AND($H14=1,Y$9=$R13),$J14,IF($H14=1,Z13,"")))))))) | AA14: =IF($E13="","",IF($F14="",AA13,IF(AND($M14=1,AA$9>$B$9),"",IF(AND($M14=1,AA$9<=$B$9),LOOKUP(AA$9,$A$12:$A$111,$B$12:$B$111),IF(AND($H14=-1,AB$9=$R13),"",IF($H14=-1,AB13,IF(AND($H14=1,Z$9=$R13),$J14,IF($H14=1,AA13,"")))))))) | ... BP14: =IF($E13="","",IF($F14="",BP13,IF(AND($M14=1,BP$9>$B$9),"",IF(AND($M14=1,BP$9<=$B$9),LOOKUP(BP$9,$A$12:$A$111,$B$12:$B$111),IF(AND($H14=-1,BQ$9=$R13),"",IF($H14=-1,BQ13,IF(AND($H14=1,BO$9=$R13),$J14,IF($H14=1,BP13,"")))))))) -> 0
A15: 4 | B15: 4 | D15: 5 | E15: =RANDBETWEEN(0,36) -> 29 | F15: =IF(E14="","",IF(AND(B$3="Last",G14="Zero"),F14,IF(B$3="Last",G14,IF(AND(B$3="2nd last",G13="Zero"),F14,IF(B$3="2nd last",G13,IF(AND(B$3="Opposite",G14="Zero"),F14,IF(AND(B$3="Opposite",G14="Red"),"Black",IF(AND(B$3="Opposite",G14="Black"),"Red",IF(AND(B$3="Opposite",G14="Odd"),"Even",IF(AND(B$3="Opposite",G14="Even"),"Odd",IF(AND(B$3="Opposite",G14="High"),"Low",IF(AND(B$3="Opposite",G14="Low"),"High",IF(COUNTIF(Refs!$E$5:$I$6,B$3)=1,RevLab!B$3,""))))))))))))) -> Black | G15: =IF(E15="","",IF(B$2="Red/Black",LOOKUP(E15,Refs!D:D,Refs!F:F),IF(B$2="High/Low",LOOKUP(E15,Refs!D:D,Refs!H:H),IF(B$2="Odd/Even",LOOKUP(E15,Refs!D:D,Refs!J:J),"")))) -> Black | H15: =IF(E15="","",IF(F15="","",IF(G15=F15,1,-1))) -> 1 | I15: =IF(E14="","",IF(F15="","",IF(AND(R14>1,P14+Q14>=$B$4),$B$4,IF(R14=1,P14,P14+Q14)))) -> 7 | J15: =IF(E15="","",IF(F15="","",IF(H15=1,I15,-I15))) -> 7 | K15: =IF(E15="","",IF(F15="",K14,J15+K14)) -> -3 | L15: =IF(E15="","",IF(K15>L14,K15,L14)) -> 0 | M15: =IF(E14="","",IF(OR(AND($A$6="Yes",$L15>$L14),AND($A$8="Yes",$P14+$Q14>=$B$4),AND($R14<=2,$H15=-1)),1,0)) -> 0 | P15: =IF(E15="","",S15) -> 2 | Q15: =IF(E15="","",MAX(S15:DN15)) -> 7 | R15: =IF(E15="","",COUNTIF(S15:DN15,">0")) -> 4 | S15: =IF(E14="","",IF($F15="",S14,IF($M15=1,LOOKUP(S$9,$A$12:$A$111,$B$12:$B$111),IF(AND($H15=-1,T$9=$R14),"",IF($H15=-1,T14,IF($H15=1,S14)))))) -> 2 | T15: =IF($E14="","",IF($F15="",T14,IF(AND($M15=1,T$9>$B$9),"",IF(AND($M15=1,T$9<=$B$9),LOOKUP(T$9,$A$12:$A$111,$B$12:$B$111),IF(AND($H15=-1,U$9=$R14),"",IF($H15=-1,U14,IF(AND($H15=1,S$9=$R14),$J15,IF($H15=1,T14,"")))))))) -> 3 | U15: =IF($E14="","",IF($F15="",U14,IF(AND($M15=1,U$9>$B$9),"",IF(AND($M15=1,U$9<=$B$9),LOOKUP(U$9,$A$12:$A$111,$B$12:$B$111),IF(AND($H15=-1,V$9=$R14),"",IF($H15=-1,V14,IF(AND($H15=1,T$9=$R14),$J15,IF($H15=1,U14,"")))))))) -> 5 | V15: =IF($E14="","",IF($F15="",V14,IF(AND($M15=1,V$9>$B$9),"",IF(AND($M15=1,V$9<=$B$9),LOOKUP(V$9,$A$12:$A$111,$B$12:$B$111),IF(AND($H15=-1,W$9=$R14),"",IF($H15=-1,W14,IF(AND($H15=1,U$9=$R14),$J15,IF($H15=1,V14,"")))))))) -> 7 | W15: =IF($E14="","",IF($F15="",W14,IF(AND($M15=1,W$9>$B$9),"",IF(AND($M15=1,W$9<=$B$9),LOOKUP(W$9,$A$12:$A$111,$B$12:$B$111),IF(AND($H15=-1,X$9=$R14),"",IF($H15=-1,X14,IF(AND($H15=1,V$9=$R14),$J15,IF($H15=1,W14,"")))))))) | X15: =IF($E14="","",IF($F15="",X14,IF(AND($M15=1,X$9>$B$9),"",IF(AND($M15=1,X$9<=$B$9),LOOKUP(X$9,$A$12:$A$111,$B$12:$B$111),IF(AND($H15=-1,Y$9=$R14),"",IF($H15=-1,Y14,IF(AND($H15=1,W$9=$R14),$J15,IF($H15=1,X14,"")))))))) | Y15: =IF($E14="","",IF($F15="",Y14,IF(AND($M15=1,Y$9>$B$9),"",IF(AND($M15=1,Y$9<=$B$9),LOOKUP(Y$9,$A$12:$A$111,$B$12:$B$111),IF(AND($H15=-1,Z$9=$R14),"",IF($H15=-1,Z14,IF(AND($H15=1,X$9=$R14),$J15,IF($H15=1,Y14,"")))))))) | Z15: =IF($E14="","",IF($F15="",Z14,IF(AND($M15=1,Z$9>$B$9),"",IF(AND($M15=1,Z$9<=$B$9),LOOKUP(Z$9,$A$12:$A$111,$B$12:$B$111),IF(AND($H15=-1,AA$9=$R14),"",IF($H15=-1,AA14,IF(AND($H15=1,Y$9=$R14),$J15,IF($H15=1,Z14,"")))))))) | AA15: =IF($E14="","",IF($F15="",AA14,IF(AND($M15=1,AA$9>$B$9),"",IF(AND($M15=1,AA$9<=$B$9),LOOKUP(AA$9,$A$12:$A$111,$B$12:$B$111),IF(AND($H15=-1,AB$9=$R14),"",IF($H15=-1,AB14,IF(AND($H15=1,Z$9=$R14),$J15,IF($H15=1,AA14,"")))))))) | ... BP15: =IF($E14="","",IF($F15="",BP14,IF(AND($M15=1,BP$9>$B$9),"",IF(AND($M15=1,BP$9<=$B$9),LOOKUP(BP$9,$A$12:$A$111,$B$12:$B$111),IF(AND($H15=-1,BQ$9=$R14),"",IF($H15=-1,BQ14,IF(AND($H15=1,BO$9=$R14),$J15,IF($H15=1,BP14,"")))))))) -> 0
A16: 5 | D16: 6 | E16: =RANDBETWEEN(0,36) -> 31 | F16: =IF(E15="","",IF(AND(B$3="Last",G15="Zero"),F15,IF(B$3="Last",G15,IF(AND(B$3="2nd last",G14="Zero"),F15,IF(B$3="2nd last",G14,IF(AND(B$3="Opposite",G15="Zero"),F15,IF(AND(B$3="Opposite",G15="Red"),"Black",IF(AND(B$3="Opposite",G15="Black"),"Red",IF(AND(B$3="Opposite",G15="Odd"),"Even",IF(AND(B$3="Opposite",G15="Even"),"Odd",IF(AND(B$3="Opposite",G15="High"),"Low",IF(AND(B$3="Opposite",G15="Low"),"High",IF(COUNTIF(Refs!$E$5:$I$6,B$3)=1,RevLab!B$3,""))))))))))))) -> Black | G16: =IF(E16="","",IF(B$2="Red/Black",LOOKUP(E16,Refs!D:D,Refs!F:F),IF(B$2="High/Low",LOOKUP(E16,Refs!D:D,Refs!H:H),IF(B$2="Odd/Even",LOOKUP(E16,Refs!D:D,Refs!J:J),"")))) -> Black | H16: =IF(E16="","",IF(F16="","",IF(G16=F16,1,-1))) -> 1 | I16: =IF(E15="","",IF(F16="","",IF(AND(R15>1,P15+Q15>=$B$4),$B$4,IF(R15=1,P15,P15+Q15)))) -> 9 | J16: =IF(E16="","",IF(F16="","",IF(H16=1,I16,-I16))) -> 9 | K16: =IF(E16="","",IF(F16="",K15,J16+K15)) -> 6 | L16: =IF(E16="","",IF(K16>L15,K16,L15)) -> 6 | M16: =IF(E15="","",IF(OR(AND($A$6="Yes",$L16>$L15),AND($A$8="Yes",$P15+$Q15>=$B$4),AND($R15<=2,$H16=-1)),1,0)) -> 0 | P16: =IF(E16="","",S16) -> 2 | Q16: =IF(E16="","",MAX(S16:DN16)) -> 9 | R16: =IF(E16="","",COUNTIF(S16:DN16,">0")) -> 5 | S16: =IF(E15="","",IF($F16="",S15,IF($M16=1,LOOKUP(S$9,$A$12:$A$111,$B$12:$B$111),IF(AND($H16=-1,T$9=$R15),"",IF($H16=-1,T15,IF($H16=1,S15)))))) -> 2 | T16: =IF($E15="","",IF($F16="",T15,IF(AND($M16=1,T$9>$B$9),"",IF(AND($M16=1,T$9<=$B$9),LOOKUP(T$9,$A$12:$A$111,$B$12:$B$111),IF(AND($H16=-1,U$9=$R15),"",IF($H16=-1,U15,IF(AND($H16=1,S$9=$R15),$J16,IF($H16=1,T15,"")))))))) -> 3 | U16: =IF($E15="","",IF($F16="",U15,IF(AND($M16=1,U$9>$B$9),"",IF(AND($M16=1,U$9<=$B$9),LOOKUP(U$9,$A$12:$A$111,$B$12:$B$111),IF(AND($H16=-1,V$9=$R15),"",IF($H16=-1,V15,IF(AND($H16=1,T$9=$R15),$J16,IF($H16=1,U15,"")))))))) -> 5 | V16: =IF($E15="","",IF($F16="",V15,IF(AND($M16=1,V$9>$B$9),"",IF(AND($M16=1,V$9<=$B$9),LOOKUP(V$9,$A$12:$A$111,$B$12:$B$111),IF(AND($H16=-1,W$9=$R15),"",IF($H16=-1,W15,IF(AND($H16=1,U$9=$R15),$J16,IF($H16=1,V15,"")))))))) -> 7 | W16: =IF($E15="","",IF($F16="",W15,IF(AND($M16=1,W$9>$B$9),"",IF(AND($M16=1,W$9<=$B$9),LOOKUP(W$9,$A$12:$A$111,$B$12:$B$111),IF(AND($H16=-1,X$9=$R15),"",IF($H16=-1,X15,IF(AND($H16=1,V$9=$R15),$J16,IF($H16=1,W15,"")))))))) -> 9 | X16: =IF($E15="","",IF($F16="",X15,IF(AND($M16=1,X$9>$B$9),"",IF(AND($M16=1,X$9<=$B$9),LOOKUP(X$9,$A$12:$A$111,$B$12:$B$111),IF(AND($H16=-1,Y$9=$R15),"",IF($H16=-1,Y15,IF(AND($H16=1,W$9=$R15),$J16,IF($H16=1,X15,"")))))))) | Y16: =IF($E15="","",IF($F16="",Y15,IF(AND($M16=1,Y$9>$B$9),"",IF(AND($M16=1,Y$9<=$B$9),LOOKUP(Y$9,$A$12:$A$111,$B$12:$B$111),IF(AND($H16=-1,Z$9=$R15),"",IF($H16=-1,Z15,IF(AND($H16=1,X$9=$R15),$J16,IF($H16=1,Y15,"")))))))) | Z16: =IF($E15="","",IF($F16="",Z15,IF(AND($M16=1,Z$9>$B$9),"",IF(AND($M16=1,Z$9<=$B$9),LOOKUP(Z$9,$A$12:$A$111,$B$12:$B$111),IF(AND($H16=-1,AA$9=$R15),"",IF($H16=-1,AA15,IF(AND($H16=1,Y$9=$R15),$J16,IF($H16=1,Z15,"")))))))) | AA16: =IF($E15="","",IF($F16="",AA15,IF(AND($M16=1,AA$9>$B$9),"",IF(AND($M16=1,AA$9<=$B$9),LOOKUP(AA$9,$A$12:$A$111,$B$12:$B$111),IF(AND($H16=-1,AB$9=$R15),"",IF($H16=-1,AB15,IF(AND($H16=1,Z$9=$R15),$J16,IF($H16=1,AA15,"")))))))) | ... BP16: =IF($E15="","",IF($F16="",BP15,IF(AND($M16=1,BP$9>$B$9),"",IF(AND($M16=1,BP$9<=$B$9),LOOKUP(BP$9,$A$12:$A$111,$B$12:$B$111),IF(AND($H16=-1,BQ$9=$R15),"",IF($H16=-1,BQ15,IF(AND($H16=1,BO$9=$R15),$J16,IF($H16=1,BP15,"")))))))) -> 0
A17: 6 | D17: 7 | E17: =RANDBETWEEN(0,36) -> 27 | F17: =IF(E16="","",IF(AND(B$3="Last",G16="Zero"),F16,IF(B$3="Last",G16,IF(AND(B$3="2nd last",G15="Zero"),F16,IF(B$3="2nd last",G15,IF(AND(B$3="Opposite",G16="Zero"),F16,IF(AND(B$3="Opposite",G16="Red"),"Black",IF(AND(B$3="Opposite",G16="Black"),"Red",IF(AND(B$3="Opposite",G16="Odd"),"Even",IF(AND(B$3="Opposite",G16="Even"),"Odd",IF(AND(B$3="Opposite",G16="High"),"Low",IF(AND(B$3="Opposite",G16="Low"),"High",IF(COUNTIF(Refs!$E$5:$I$6,B$3)=1,RevLab!B$3,""))))))))))))) -> Black | G17: =IF(E17="","",IF(B$2="Red/Black",LOOKUP(E17,Refs!D:D,Refs!F:F),IF(B$2="High/Low",LOOKUP(E17,Refs!D:D,Refs!H:H),IF(B$2="Odd/Even",LOOKUP(E17,Refs!D:D,Refs!J:J),"")))) -> Red | H17: =IF(E17="","",IF(F17="","",IF(G17=F17,1,-1))) -> -1 | I17: =IF(E16="","",IF(F17="","",IF(AND(R16>1,P16+Q16>=$B$4),$B$4,IF(R16=1,P16,P16+Q16)))) -> 11 | J17: =IF(E17="","",IF(F17="","",IF(H17=1,I17,-I17))) -> -11 | K17: =IF(E17="","",IF(F17="",K16,J17+K16)) -> -5 | L17: =IF(E17="","",IF(K17>L16,K17,L16)) -> 6 | M17: =IF(E16="","",IF(OR(AND($A$6="Yes",$L17>$L16),AND($A$8="Yes",$P16+$Q16>=$B$4),AND($R16<=2,$H17=-1)),1,0)) -> 0 | P17: =IF(E17="","",S17) -> 3 | Q17: =IF(E17="","",MAX(S17:DN17)) -> 7 | R17: =IF(E17="","",COUNTIF(S17:DN17,">0")) -> 3 | S17: =IF(E16="","",IF($F17="",S16,IF($M17=1,LOOKUP(S$9,$A$12:$A$111,$B$12:$B$111),IF(AND($H17=-1,T$9=$R16),"",IF($H17=-1,T16,IF($H17=1,S16)))))) -> 3 | T17: =IF($E16="","",IF($F17="",T16,IF(AND($M17=1,T$9>$B$9),"",IF(AND($M17=1,T$9<=$B$9),LOOKUP(T$9,$A$12:$A$111,$B$12:$B$111),IF(AND($H17=-1,U$9=$R16),"",IF($H17=-1,U16,IF(AND($H17=1,S$9=$R16),$J17,IF($H17=1,T16,"")))))))) -> 5 | U17: =IF($E16="","",IF($F17="",U16,IF(AND($M17=1,U$9>$B$9),"",IF(AND($M17=1,U$9<=$B$9),LOOKUP(U$9,$A$12:$A$111,$B$12:$B$111),IF(AND($H17=-1,V$9=$R16),"",IF($H17=-1,V16,IF(AND($H17=1,T$9=$R16),$J17,IF($H17=1,U16,"")))))))) -> 7 | V17: =IF($E16="","",IF($F17="",V16,IF(AND($M17=1,V$9>$B$9),"",IF(AND($M17=1,V$9<=$B$9),LOOKUP(V$9,$A$12:$A$111,$B$12:$B$111),IF(AND($H17=-1,W$9=$R16),"",IF($H17=-1,W16,IF(AND($H17=1,U$9=$R16),$J17,IF($H17=1,V16,"")))))))) | W17: =IF($E16="","",IF($F17="",W16,IF(AND($M17=1,W$9>$B$9),"",IF(AND($M17=1,W$9<=$B$9),LOOKUP(W$9,$A$12:$A$111,$B$12:$B$111),IF(AND($H17=-1,X$9=$R16),"",IF($H17=-1,X16,IF(AND($H17=1,V$9=$R16),$J17,IF($H17=1,W16,"")))))))) | X17: =IF($E16="","",IF($F17="",X16,IF(AND($M17=1,X$9>$B$9),"",IF(AND($M17=1,X$9<=$B$9),LOOKUP(X$9,$A$12:$A$111,$B$12:$B$111),IF(AND($H17=-1,Y$9=$R16),"",IF($H17=-1,Y16,IF(AND($H17=1,W$9=$R16),$J17,IF($H17=1,X16,"")))))))) | Y17: =IF($E16="","",IF($F17="",Y16,IF(AND($M17=1,Y$9>$B$9),"",IF(AND($M17=1,Y$9<=$B$9),LOOKUP(Y$9,$A$12:$A$111,$B$12:$B$111),IF(AND($H17=-1,Z$9=$R16),"",IF($H17=-1,Z16,IF(AND($H17=1,X$9=$R16),$J17,IF($H17=1,Y16,"")))))))) | Z17: =IF($E16="","",IF($F17="",Z16,IF(AND($M17=1,Z$9>$B$9),"",IF(AND($M17=1,Z$9<=$B$9),LOOKUP(Z$9,$A$12:$A$111,$B$12:$B$111),IF(AND($H17=-1,AA$9=$R16),"",IF($H17=-1,AA16,IF(AND($H17=1,Y$9=$R16),$J17,IF($H17=1,Z16,"")))))))) | AA17: =IF($E16="","",IF($F17="",AA16,IF(AND($M17=1,AA$9>$B$9),"",IF(AND($M17=1,AA$9<=$B$9),LOOKUP(AA$9,$A$12:$A$111,$B$12:$B$111),IF(AND($H17=-1,AB$9=$R16),"",IF($H17=-1,AB16,IF(AND($H17=1,Z$9=$R16),$J17,IF($H17=1,AA16,"")))))))) | ... BP17: =IF($E16="","",IF($F17="",BP16,IF(AND($M17=1,BP$9>$B$9),"",IF(AND($M17=1,BP$9<=$B$9),LOOKUP(BP$9,$A$12:$A$111,$B$12:$B$111),IF(AND($H17=-1,BQ$9=$R16),"",IF($H17=-1,BQ16,IF(AND($H17=1,BO$9=$R16),$J17,IF($H17=1,BP16,"")))))))) -> 0
A18: 7 | D18: 8 | E18: =RANDBETWEEN(0,36) -> 11 | F18: =IF(E17="","",IF(AND(B$3="Last",G17="Zero"),F17,IF(B$3="Last",G17,IF(AND(B$3="2nd last",G16="Zero"),F17,IF(B$3="2nd last",G16,IF(AND(B$3="Opposite",G17="Zero"),F17,IF(AND(B$3="Opposite",G17="Red"),"Black",IF(AND(B$3="Opposite",G17="Black"),"Red",IF(AND(B$3="Opposite",G17="Odd"),"Even",IF(AND(B$3="Opposite",G17="Even"),"Odd",IF(AND(B$3="Opposite",G17="High"),"Low",IF(AND(B$3="Opposite",G17="Low"),"High",IF(COUNTIF(Refs!$E$5:$I$6,B$3)=1,RevLab!B$3,""))))))))))))) -> Black | G18: =IF(E18="","",IF(B$2="Red/Black",LOOKUP(E18,Refs!D:D,Refs!F:F),IF(B$2="High/Low",LOOKUP(E18,Refs!D:D,Refs!H:H),IF(B$2="Odd/Even",LOOKUP(E18,Refs!D:D,Refs!J:J),"")))) -> Black | H18: =IF(E18="","",IF(F18="","",IF(G18=F18,1,-1))) -> 1 | I18: =IF(E17="","",IF(F18="","",IF(AND(R17>1,P17+Q17>=$B$4),$B$4,IF(R17=1,P17,P17+Q17)))) -> 10 | J18: =IF(E18="","",IF(F18="","",IF(H18=1,I18,-I18))) -> 10 | K18: =IF(E18="","",IF(F18="",K17,J18+K17)) -> 5 | L18: =IF(E18="","",IF(K18>L17,K18,L17)) -> 6 | M18: =IF(E17="","",IF(OR(AND($A$6="Yes",$L18>$L17),AND($A$8="Yes",$P17+$Q17>=$B$4),AND($R17<=2,$H18=-1)),1,0)) -> 0 | P18: =IF(E18="","",S18) -> 3 | Q18: =IF(E18="","",MAX(S18:DN18)) -> 10 | R18: =IF(E18="","",COUNTIF(S18:DN18,">0")) -> 4 | S18: =IF(E17="","",IF($F18="",S17,IF($M18=1,LOOKUP(S$9,$A$12:$A$111,$B$12:$B$111),IF(AND($H18=-1,T$9=$R17),"",IF($H18=-1,T17,IF($H18=1,S17)))))) -> 3 | T18: =IF($E17="","",IF($F18="",T17,IF(AND($M18=1,T$9>$B$9),"",IF(AND($M18=1,T$9<=$B$9),LOOKUP(T$9,$A$12:$A$111,$B$12:$B$111),IF(AND($H18=-1,U$9=$R17),"",IF($H18=-1,U17,IF(AND($H18=1,S$9=$R17),$J18,IF($H18=1,T17,"")))))))) -> 5 | U18: =IF($E17="","",IF($F18="",U17,IF(AND($M18=1,U$9>$B$9),"",IF(AND($M18=1,U$9<=$B$9),LOOKUP(U$9,$A$12:$A$111,$B$12:$B$111),IF(AND($H18=-1,V$9=$R17),"",IF($H18=-1,V17,IF(AND($H18=1,T$9=$R17),$J18,IF($H18=1,U17,"")))))))) -> 7 | V18: =IF($E17="","",IF($F18="",V17,IF(AND($M18=1,V$9>$B$9),"",IF(AND($M18=1,V$9<=$B$9),LOOKUP(V$9,$A$12:$A$111,$B$12:$B$111),IF(AND($H18=-1,W$9=$R17),"",IF($H18=-1,W17,IF(AND($H18=1,U$9=$R17),$J18,IF($H18=1,V17,"")))))))) -> 10 | W18: =IF($E17="","",IF($F18="",W17,IF(AND($M18=1,W$9>$B$9),"",IF(AND($M18=1,W$9<=$B$9),LOOKUP(W$9,$A$12:$A$111,$B$12:$B$111),IF(AND($H18=-1,X$9=$R17),"",IF($H18=-1,X17,IF(AND($H18=1,V$9=$R17),$J18,IF($H18=1,W17,"")))))))) | X18: =IF($E17="","",IF($F18="",X17,IF(AND($M18=1,X$9>$B$9),"",IF(AND($M18=1,X$9<=$B$9),LOOKUP(X$9,$A$12:$A$111,$B$12:$B$111),IF(AND($H18=-1,Y$9=$R17),"",IF($H18=-1,Y17,IF(AND($H18=1,W$9=$R17),$J18,IF($H18=1,X17,"")))))))) | Y18: =IF($E17="","",IF($F18="",Y17,IF(AND($M18=1,Y$9>$B$9),"",IF(AND($M18=1,Y$9<=$B$9),LOOKUP(Y$9,$A$12:$A$111,$B$12:$B$111),IF(AND($H18=-1,Z$9=$R17),"",IF($H18=-1,Z17,IF(AND($H18=1,X$9=$R17),$J18,IF($H18=1,Y17,"")))))))) | Z18: =IF($E17="","",IF($F18="",Z17,IF(AND($M18=1,Z$9>$B$9),"",IF(AND($M18=1,Z$9<=$B$9),LOOKUP(Z$9,$A$12:$A$111,$B$12:$B$111),IF(AND($H18=-1,AA$9=$R17),"",IF($H18=-1,AA17,IF(AND($H18=1,Y$9=$R17),$J18,IF($H18=1,Z17,"")))))))) | AA18: =IF($E17="","",IF($F18="",AA17,IF(AND($M18=1,AA$9>$B$9),"",IF(AND($M18=1,AA$9<=$B$9),LOOKUP(AA$9,$A$12:$A$111,$B$12:$B$111),IF(AND($H18=-1,AB$9=$R17),"",IF($H18=-1,AB17,IF(AND($H18=1,Z$9=$R17),$J18,IF($H18=1,AA17,"")))))))) | ... BP18: =IF($E17="","",IF($F18="",BP17,IF(AND($M18=1,BP$9>$B$9),"",IF(AND($M18=1,BP$9<=$B$9),LOOKUP(BP$9,$A$12:$A$111,$B$12:$B$111),IF(AND($H18=-1,BQ$9=$R17),"",IF($H18=-1,BQ17,IF(AND($H18=1,BO$9=$R17),$J18,IF($H18=1,BP17,"")))))))) -> 0
A19: 8 | D19: 9 | E19: =RANDBETWEEN(0,36) -> 9 | F19: =IF(E18="","",IF(AND(B$3="Last",G18="Zero"),F18,IF(B$3="Last",G18,IF(AND(B$3="2nd last",G17="Zero"),F18,IF(B$3="2nd last",G17,IF(AND(B$3="Opposite",G18="Zero"),F18,IF(AND(B$3="Opposite",G18="Red"),"Black",IF(AND(B$3="Opposite",G18="Black"),"Red",IF(AND(B$3="Opposite",G18="Odd"),"Even",IF(AND(B$3="Opposite",G18="Even"),"Odd",IF(AND(B$3="Opposite",G18="High"),"Low",IF(AND(B$3="Opposite",G18="Low"),"High",IF(COUNTIF(Refs!$E$5:$I$6,B$3)=1,RevLab!B$3,""))))))))))))) -> Black | G19: =IF(E19="","",IF(B$2="Red/Black",LOOKUP(E19,Refs!D:D,Refs!F:F),IF(B$2="High/Low",LOOKUP(E19,Refs!D:D,Refs!H:H),IF(B$2="Odd/Even",LOOKUP(E19,Refs!D:D,Refs!J:J),"")))) -> Red | H19: =IF(E19="","",IF(F19="","",IF(G19=F19,1,-1))) -> -1 | I19: =IF(E18="","",IF(F19="","",IF(AND(R18>1,P18+Q18>=$B$4),$B$4,IF(R18=1,P18,P18+Q18)))) -> 13 | J19: =IF(E19="","",IF(F19="","",IF(H19=1,I19,-I19))) -> -13 | K19: =IF(E19="","",IF(F19="",K18,J19+K18)) -> -8 | L19: =IF(E19="","",IF(K19>L18,K19,L18)) -> 6 | M19: =IF(E18="","",IF(OR(AND($A$6="Yes",$L19>$L18),AND($A$8="Yes",$P18+$Q18>=$B$4),AND($R18<=2,$H19=-1)),1,0)) -> 0 | P19: =IF(E19="","",S19) -> 5 | Q19: =IF(E19="","",MAX(S19:DN19)) -> 7 | R19: =IF(E19="","",COUNTIF(S19:DN19,">0")) -> 2 | S19: =IF(E18="","",IF($F19="",S18,IF($M19=1,LOOKUP(S$9,$A$12:$A$111,$B$12:$B$111),IF(AND($H19=-1,T$9=$R18),"",IF($H19=-1,T18,IF($H19=1,S18)))))) -> 5 | T19: =IF($E18="","",IF($F19="",T18,IF(AND($M19=1,T$9>$B$9),"",IF(AND($M19=1,T$9<=$B$9),LOOKUP(T$9,$A$12:$A$111,$B$12:$B$111),IF(AND($H19=-1,U$9=$R18),"",IF($H19=-1,U18,IF(AND($H19=1,S$9=$R18),$J19,IF($H19=1,T18,"")))))))) -> 7 | U19: =IF($E18="","",IF($F19="",U18,IF(AND($M19=1,U$9>$B$9),"",IF(AND($M19=1,U$9<=$B$9),LOOKUP(U$9,$A$12:$A$111,$B$12:$B$111),IF(AND($H19=-1,V$9=$R18),"",IF($H19=-1,V18,IF(AND($H19=1,T$9=$R18),$J19,IF($H19=1,U18,"")))))))) | V19: =IF($E18="","",IF($F19="",V18,IF(AND($M19=1,V$9>$B$9),"",IF(AND($M19=1,V$9<=$B$9),LOOKUP(V$9,$A$12:$A$111,$B$12:$B$111),IF(AND($H19=-1,W$9=$R18),"",IF($H19=-1,W18,IF(AND($H19=1,U$9=$R18),$J19,IF($H19=1,V18,"")))))))) | W19: =IF($E18="","",IF($F19="",W18,IF(AND($M19=1,W$9>$B$9),"",IF(AND($M19=1,W$9<=$B$9),LOOKUP(W$9,$A$12:$A$111,$B$12:$B$111),IF(AND($H19=-1,X$9=$R18),"",IF($H19=-1,X18,IF(AND($H19=1,V$9=$R18),$J19,IF($H19=1,W18,"")))))))) | X19: =IF($E18="","",IF($F19="",X18,IF(AND($M19=1,X$9>$B$9),"",IF(AND($M19=1,X$9<=$B$9),LOOKUP(X$9,$A$12:$A$111,$B$12:$B$111),IF(AND($H19=-1,Y$9=$R18),"",IF($H19=-1,Y18,IF(AND($H19=1,W$9=$R18),$J19,IF($H19=1,X18,"")))))))) | Y19: =IF($E18="","",IF($F19="",Y18,IF(AND($M19=1,Y$9>$B$9),"",IF(AND($M19=1,Y$9<=$B$9),LOOKUP(Y$9,$A$12:$A$111,$B$12:$B$111),IF(AND($H19=-1,Z$9=$R18),"",IF($H19=-1,Z18,IF(AND($H19=1,X$9=$R18),$J19,IF($H19=1,Y18,"")))))))) | Z19: =IF($E18="","",IF($F19="",Z18,IF(AND($M19=1,Z$9>$B$9),"",IF(AND($M19=1,Z$9<=$B$9),LOOKUP(Z$9,$A$12:$A$111,$B$12:$B$111),IF(AND($H19=-1,AA$9=$R18),"",IF($H19=-1,AA18,IF(AND($H19=1,Y$9=$R18),$J19,IF($H19=1,Z18,"")))))))) | AA19: =IF($E18="","",IF($F19="",AA18,IF(AND($M19=1,AA$9>$B$9),"",IF(AND($M19=1,AA$9<=$B$9),LOOKUP(AA$9,$A$12:$A$111,$B$12:$B$111),IF(AND($H19=-1,AB$9=$R18),"",IF($H19=-1,AB18,IF(AND($H19=1,Z$9=$R18),$J19,IF($H19=1,AA18,"")))))))) | ... BP19: =IF($E18="","",IF($F19="",BP18,IF(AND($M19=1,BP$9>$B$9),"",IF(AND($M19=1,BP$9<=$B$9),LOOKUP(BP$9,$A$12:$A$111,$B$12:$B$111),IF(AND($H19=-1,BQ$9=$R18),"",IF($H19=-1,BQ18,IF(AND($H19=1,BO$9=$R18),$J19,IF($H19=1,BP18,"")))))))) -> 0
A20: 9 | D20: 10 | E20: =RANDBETWEEN(0,36) -> 23 | F20: =IF(E19="","",IF(AND(B$3="Last",G19="Zero"),F19,IF(B$3="Last",G19,IF(AND(B$3="2nd last",G18="Zero"),F19,IF(B$3="2nd last",G18,IF(AND(B$3="Opposite",G19="Zero"),F19,IF(AND(B$3="Opposite",G19="Red"),"Black",IF(AND(B$3="Opposite",G19="Black"),"Red",IF(AND(B$3="Opposite",G19="Odd"),"Even",IF(AND(B$3="Opposite",G19="Even"),"Odd",IF(AND(B$3="Opposite",G19="High"),"Low",IF(AND(B$3="Opposite",G19="Low"),"High",IF(COUNTIF(Refs!$E$5:$I$6,B$3)=1,RevLab!B$3,""))))))))))))) -> Black | G20: =IF(E20="","",IF(B$2="Red/Black",LOOKUP(E20,Refs!D:D,Refs!F:F),IF(B$2="High/Low",LOOKUP(E20,Refs!D:D,Refs!H:H),IF(B$2="Odd/Even",LOOKUP(E20,Refs!D:D,Refs!J:J),"")))) -> Red | H20: =IF(E20="","",IF(F20="","",IF(G20=F20,1,-1))) -> -1 | I20: =IF(E19="","",IF(F20="","",IF(AND(R19>1,P19+Q19>=$B$4),$B$4,IF(R19=1,P19,P19+Q19)))) -> 12 | J20: =IF(E20="","",IF(F20="","",IF(H20=1,I20,-I20))) -> -12 | K20: =IF(E20="","",IF(F20="",K19,J20+K19)) -> -20 | L20: =IF(E20="","",IF(K20>L19,K20,L19)) -> 6 | M20: =IF(E19="","",IF(OR(AND($A$6="Yes",$L20>$L19),AND($A$8="Yes",$P19+$Q19>=$B$4),AND($R19<=2,$H20=-1)),1,0)) -> 1 | P20: =IF(E20="","",S20) -> 1 | Q20: =IF(E20="","",MAX(S20:DN20)) -> 4 | R20: =IF(E20="","",COUNTIF(S20:DN20,">0")) -> 4 | S20: =IF(E19="","",IF($F20="",S19,IF($M20=1,LOOKUP(S$9,$A$12:$A$111,$B$12:$B$111),IF(AND($H20=-1,T$9=$R19),"",IF($H20=-1,T19,IF($H20=1,S19)))))) -> 1 | T20: =IF($E19="","",IF($F20="",T19,IF(AND($M20=1,T$9>$B$9),"",IF(AND($M20=1,T$9<=$B$9),LOOKUP(T$9,$A$12:$A$111,$B$12:$B$111),IF(AND($H20=-1,U$9=$R19),"",IF($H20=-1,U19,IF(AND($H20=1,S$9=$R19),$J20,IF($H20=1,T19,"")))))))) -> 2 | U20: =IF($E19="","",IF($F20="",U19,IF(AND($M20=1,U$9>$B$9),"",IF(AND($M20=1,U$9<=$B$9),LOOKUP(U$9,$A$12:$A$111,$B$12:$B$111),IF(AND($H20=-1,V$9=$R19),"",IF($H20=-1,V19,IF(AND($H20=1,T$9=$R19),$J20,IF($H20=1,U19,"")))))))) -> 3 | V20: =IF($E19="","",IF($F20="",V19,IF(AND($M20=1,V$9>$B$9),"",IF(AND($M20=1,V$9<=$B$9),LOOKUP(V$9,$A$12:$A$111,$B$12:$B$111),IF(AND($H20=-1,W$9=$R19),"",IF($H20=-1,W19,IF(AND($H20=1,U$9=$R19),$J20,IF($H20=1,V19,"")))))))) -> 4 | W20: =IF($E19="","",IF($F20="",W19,IF(AND($M20=1,W$9>$B$9),"",IF(AND($M20=1,W$9<=$B$9),LOOKUP(W$9,$A$12:$A$111,$B$12:$B$111),IF(AND($H20=-1,X$9=$R19),"",IF($H20=-1,X19,IF(AND($H20=1,V$9=$R19),$J20,IF($H20=1,W19,"")))))))) | X20: =IF($E19="","",IF($F20="",X19,IF(AND($M20=1,X$9>$B$9),"",IF(AND($M20=1,X$9<=$B$9),LOOKUP(X$9,$A$12:$A$111,$B$12:$B$111),IF(AND($H20=-1,Y$9=$R19),"",IF($H20=-1,Y19,IF(AND($H20=1,W$9=$R19),$J20,IF($H20=1,X19,"")))))))) | Y20: =IF($E19="","",IF($F20="",Y19,IF(AND($M20=1,Y$9>$B$9),"",IF(AND($M20=1,Y$9<=$B$9),LOOKUP(Y$9,$A$12:$A$111,$B$12:$B$111),IF(AND($H20=-1,Z$9=$R19),"",IF($H20=-1,Z19,IF(AND($H20=1,X$9=$R19),$J20,IF($H20=1,Y19,"")))))))) | Z20: =IF($E19="","",IF($F20="",Z19,IF(AND($M20=1,Z$9>$B$9),"",IF(AND($M20=1,Z$9<=$B$9),LOOKUP(Z$9,$A$12:$A$111,$B$12:$B$111),IF(AND($H20=-1,AA$9=$R19),"",IF($H20=-1,AA19,IF(AND($H20=1,Y$9=$R19),$J20,IF($H20=1,Z19,"")))))))) | AA20: =IF($E19="","",IF($F20="",AA19,IF(AND($M20=1,AA$9>$B$9),"",IF(AND($M20=1,AA$9<=$B$9),LOOKUP(AA$9,$A$12:$A$111,$B$12:$B$111),IF(AND($H20=-1,AB$9=$R19),"",IF($H20=-1,AB19,IF(AND($H20=1,Z$9=$R19),$J20,IF($H20=1,AA19,"")))))))) | ... BP20: =IF($E19="","",IF($F20="",BP19,IF(AND($M20=1,BP$9>$B$9),"",IF(AND($M20=1,BP$9<=$B$9),LOOKUP(BP$9,$A$12:$A$111,$B$12:$B$111),IF(AND($H20=-1,BQ$9=$R19),"",IF($H20=-1,BQ19,IF(AND($H20=1,BO$9=$R19),$J20,IF($H20=1,BP19,""))))))))
A21: 10 | D21: 11 | E21: =RANDBETWEEN(0,36) -> 33 | F21: =IF(E20="","",IF(AND(B$3="Last",G20="Zero"),F20,IF(B$3="Last",G20,IF(AND(B$3="2nd last",G19="Zero"),F20,IF(B$3="2nd last",G19,IF(AND(B$3="Opposite",G20="Zero"),F20,IF(AND(B$3="Opposite",G20="Red"),"Black",IF(AND(B$3="Opposite",G20="Black"),"Red",IF(AND(B$3="Opposite",G20="Odd"),"Even",IF(AND(B$3="Opposite",G20="Even"),"Odd",IF(AND(B$3="Opposite",G20="High"),"Low",IF(AND(B$3="Opposite",G20="Low"),"High",IF(COUNTIF(Refs!$E$5:$I$6,B$3)=1,RevLab!B$3,""))))))))))))) -> Black | G21: =IF(E21="","",IF(B$2="Red/Black",LOOKUP(E21,Refs!D:D,Refs!F:F),IF(B$2="High/Low",LOOKUP(E21,Refs!D:D,Refs!H:H),IF(B$2="Odd/Even",LOOKUP(E21,Refs!D:D,Refs!J:J),"")))) -> Black | H21: =IF(E21="","",IF(F21="","",IF(G21=F21,1,-1))) -> 1 | I21: =IF(E20="","",IF(F21="","",IF(AND(R20>1,P20+Q20>=$B$4),$B$4,IF(R20=1,P20,P20+Q20)))) -> 5 | J21: =IF(E21="","",IF(F21="","",IF(H21=1,I21,-I21))) -> 5 | K21: =IF(E21="","",IF(F21="",K20,J21+K20)) -> -15 | L21: =IF(E21="","",IF(K21>L20,K21,L20)) -> 6 | M21: =IF(E20="","",IF(OR(AND($A$6="Yes",$L21>$L20),AND($A$8="Yes",$P20+$Q20>=$B$4),AND($R20<=2,$H21=-1)),1,0)) -> 0 | P21: =IF(E21="","",S21) -> 1 | Q21: =IF(E21="","",MAX(S21:DN21)) -> 5 | R21: =IF(E21="","",COUNTIF(S21:DN21,">0")) -> 5 | S21: =IF(E20="","",IF($F21="",S20,IF($M21=1,LOOKUP(S$9,$A$12:$A$111,$B$12:$B$111),IF(AND($H21=-1,T$9=$R20),"",IF($H21=-1,T20,IF($H21=1,S20)))))) -> 1 | T21: =IF($E20="","",IF($F21="",T20,IF(AND($M21=1,T$9>$B$9),"",IF(AND($M21=1,T$9<=$B$9),LOOKUP(T$9,$A$12:$A$111,$B$12:$B$111),IF(AND($H21=-1,U$9=$R20),"",IF($H21=-1,U20,IF(AND($H21=1,S$9=$R20),$J21,IF($H21=1,T20,"")))))))) -> 2 | U21: =IF($E20="","",IF($F21="",U20,IF(AND($M21=1,U$9>$B$9),"",IF(AND($M21=1,U$9<=$B$9),LOOKUP(U$9,$A$12:$A$111,$B$12:$B$111),IF(AND($H21=-1,V$9=$R20),"",IF($H21=-1,V20,IF(AND($H21=1,T$9=$R20),$J21,IF($H21=1,U20,"")))))))) -> 3 | V21: =IF($E20="","",IF($F21="",V20,IF(AND($M21=1,V$9>$B$9),"",IF(AND($M21=1,V$9<=$B$9),LOOKUP(V$9,$A$12:$A$111,$B$12:$B$111),IF(AND($H21=-1,W$9=$R20),"",IF($H21=-1,W20,IF(AND($H21=1,U$9=$R20),$J21,IF($H21=1,V20,"")))))))) -> 4 | W21: =IF($E20="","",IF($F21="",W20,IF(AND($M21=1,W$9>$B$9),"",IF(AND($M21=1,W$9<=$B$9),LOOKUP(W$9,$A$12:$A$111,$B$12:$B$111),IF(AND($H21=-1,X$9=$R20),"",IF($H21=-1,X20,IF(AND($H21=1,V$9=$R20),$J21,IF($H21=1,W20,"")))))))) -> 5 | X21: =IF($E20="","",IF($F21="",X20,IF(AND($M21=1,X$9>$B$9),"",IF(AND($M21=1,X$9<=$B$9),LOOKUP(X$9,$A$12:$A$111,$B$12:$B$111),IF(AND($H21=-1,Y$9=$R20),"",IF($H21=-1,Y20,IF(AND($H21=1,W$9=$R20),$J21,IF($H21=1,X20,"")))))))) | Y21: =IF($E20="","",IF($F21="",Y20,IF(AND($M21=1,Y$9>$B$9),"",IF(AND($M21=1,Y$9<=$B$9),LOOKUP(Y$9,$A$12:$A$111,$B$12:$B$111),IF(AND($H21=-1,Z$9=$R20),"",IF($H21=-1,Z20,IF(AND($H21=1,X$9=$R20),$J21,IF($H21=1,Y20,"")))))))) | Z21: =IF($E20="","",IF($F21="",Z20,IF(AND($M21=1,Z$9>$B$9),"",IF(AND($M21=1,Z$9<=$B$9),LOOKUP(Z$9,$A$12:$A$111,$B$12:$B$111),IF(AND($H21=-1,AA$9=$R20),"",IF($H21=-1,AA20,IF(AND($H21=1,Y$9=$R20),$J21,IF($H21=1,Z20,"")))))))) | AA21: =IF($E20="","",IF($F21="",AA20,IF(AND($M21=1,AA$9>$B$9),"",IF(AND($M21=1,AA$9<=$B$9),LOOKUP(AA$9,$A$12:$A$111,$B$12:$B$111),IF(AND($H21=-1,AB$9=$R20),"",IF($H21=-1,AB20,IF(AND($H21=1,Z$9=$R20),$J21,IF($H21=1,AA20,"")))))))) | ... BP21: =IF($E20="","",IF($F21="",BP20,IF(AND($M21=1,BP$9>$B$9),"",IF(AND($M21=1,BP$9<=$B$9),LOOKUP(BP$9,$A$12:$A$111,$B$12:$B$111),IF(AND($H21=-1,BQ$9=$R20),"",IF($H21=-1,BQ20,IF(AND($H21=1,BO$9=$R20),$J21,IF($H21=1,BP20,""))))))))
D22: 12 | E22: =RANDBETWEEN(0,36) -> 27 | F22: =IF(E21="","",IF(AND(B$3="Last",G21="Zero"),F21,IF(B$3="Last",G21,IF(AND(B$3="2nd last",G20="Zero"),F21,IF(B$3="2nd last",G20,IF(AND(B$3="Opposite",G21="Zero"),F21,IF(AND(B$3="Opposite",G21="Red"),"Black",IF(AND(B$3="Opposite",G21="Black"),"Red",IF(AND(B$3="Opposite",G21="Odd"),"Even",IF(AND(B$3="Opposite",G21="Even"),"Odd",IF(AND(B$3="Opposite",G21="High"),"Low",IF(AND(B$3="Opposite",G21="Low"),"High",IF(COUNTIF(Refs!$E$5:$I$6,B$3)=1,RevLab!B$3,""))))))))))))) -> Black | G22: =IF(E22="","",IF(B$2="Red/Black",LOOKUP(E22,Refs!D:D,Refs!F:F),IF(B$2="High/Low",LOOKUP(E22,Refs!D:D,Refs!H:H),IF(B$2="Odd/Even",LOOKUP(E22,Refs!D:D,Refs!J:J),"")))) -> Red | H22: =IF(E22="","",IF(F22="","",IF(G22=F22,1,-1))) -> -1 | I22: =IF(E21="","",IF(F22="","",IF(AND(R21>1,P21+Q21>=$B$4),$B$4,IF(R21=1,P21,P21+Q21)))) -> 6 | J22: =IF(E22="","",IF(F22="","",IF(H22=1,I22,-I22))) -> -6 | K22: =IF(E22="","",IF(F22="",K21,J22+K21)) -> -21 | L22: =IF(E22="","",IF(K22>L21,K22,L21)) -> 6 | M22: =IF(E21="","",IF(OR(AND($A$6="Yes",$L22>$L21),AND($A$8="Yes",$P21+$Q21>=$B$4),AND($R21<=2,$H22=-1)),1,0)) -> 0 | P22: =IF(E22="","",S22) -> 2 | Q22: =IF(E22="","",MAX(S22:DN22)) -> 4 | R22: =IF(E22="","",COUNTIF(S22:DN22,">0")) -> 3 | S22: =IF(E21="","",IF($F22="",S21,IF($M22=1,LOOKUP(S$9,$A$12:$A$111,$B$12:$B$111),IF(AND($H22=-1,T$9=$R21),"",IF($H22=-1,T21,IF($H22=1,S21)))))) -> 2 | T22: =IF($E21="","",IF($F22="",T21,IF(AND($M22=1,T$9>$B$9),"",IF(AND($M22=1,T$9<=$B$9),LOOKUP(T$9,$A$12:$A$111,$B$12:$B$111),IF(AND($H22=-1,U$9=$R21),"",IF($H22=-1,U21,IF(AND($H22=1,S$9=$R21),$J22,IF($H22=1,T21,"")))))))) -> 3 | U22: =IF($E21="","",IF($F22="",U21,IF(AND($M22=1,U$9>$B$9),"",IF(AND($M22=1,U$9<=$B$9),LOOKUP(U$9,$A$12:$A$111,$B$12:$B$111),IF(AND($H22=-1,V$9=$R21),"",IF($H22=-1,V21,IF(AND($H22=1,T$9=$R21),$J22,IF($H22=1,U21,"")))))))) -> 4 | V22: =IF($E21="","",IF($F22="",V21,IF(AND($M22=1,V$9>$B$9),"",IF(AND($M22=1,V$9<=$B$9),LOOKUP(V$9,$A$12:$A$111,$B$12:$B$111),IF(AND($H22=-1,W$9=$R21),"",IF($H22=-1,W21,IF(AND($H22=1,U$9=$R21),$J22,IF($H22=1,V21,"")))))))) | W22: =IF($E21="","",IF($F22="",W21,IF(AND($M22=1,W$9>$B$9),"",IF(AND($M22=1,W$9<=$B$9),LOOKUP(W$9,$A$12:$A$111,$B$12:$B$111),IF(AND($H22=-1,X$9=$R21),"",IF($H22=-1,X21,IF(AND($H22=1,V$9=$R21),$J22,IF($H22=1,W21,"")))))))) | X22: =IF($E21="","",IF($F22="",X21,IF(AND($M22=1,X$9>$B$9),"",IF(AND($M22=1,X$9<=$B$9),LOOKUP(X$9,$A$12:$A$111,$B$12:$B$111),IF(AND($H22=-1,Y$9=$R21),"",IF($H22=-1,Y21,IF(AND($H22=1,W$9=$R21),$J22,IF($H22=1,X21,"")))))))) | Y22: =IF($E21="","",IF($F22="",Y21,IF(AND($M22=1,Y$9>$B$9),"",IF(AND($M22=1,Y$9<=$B$9),LOOKUP(Y$9,$A$12:$A$111,$B$12:$B$111),IF(AND($H22=-1,Z$9=$R21),"",IF($H22=-1,Z21,IF(AND($H22=1,X$9=$R21),$J22,IF($H22=1,Y21,"")))))))) | Z22: =IF($E21="","",IF($F22="",Z21,IF(AND($M22=1,Z$9>$B$9),"",IF(AND($M22=1,Z$9<=$B$9),LOOKUP(Z$9,$A$12:$A$111,$B$12:$B$111),IF(AND($H22=-1,AA$9=$R21),"",IF($H22=-1,AA21,IF(AND($H22=1,Y$9=$R21),$J22,IF($H22=1,Z21,"")))))))) | AA22: =IF($E21="","",IF($F22="",AA21,IF(AND($M22=1,AA$9>$B$9),"",IF(AND($M22=1,AA$9<=$B$9),LOOKUP(AA$9,$A$12:$A$111,$B$12:$B$111),IF(AND($H22=-1,AB$9=$R21),"",IF($H22=-1,AB21,IF(AND($H22=1,Z$9=$R21),$J22,IF($H22=1,AA21,"")))))))) | ... BP22: =IF($E21="","",IF($F22="",BP21,IF(AND($M22=1,BP$9>$B$9),"",IF(AND($M22=1,BP$9<=$B$9),LOOKUP(BP$9,$A$12:$A$111,$B$12:$B$111),IF(AND($H22=-1,BQ$9=$R21),"",IF($H22=-1,BQ21,IF(AND($H22=1,BO$9=$R21),$J22,IF($H22=1,BP21,"")))))))) -> 0
D23: 13 | E23: =RANDBETWEEN(0,36) -> 11 | F23: =IF(E22="","",IF(AND(B$3="Last",G22="Zero"),F22,IF(B$3="Last",G22,IF(AND(B$3="2nd last",G21="Zero"),F22,IF(B$3="2nd last",G21,IF(AND(B$3="Opposite",G22="Zero"),F22,IF(AND(B$3="Opposite",G22="Red"),"Black",IF(AND(B$3="Opposite",G22="Black"),"Red",IF(AND(B$3="Opposite",G22="Odd"),"Even",IF(AND(B$3="Opposite",G22="Even"),"Odd",IF(AND(B$3="Opposite",G22="High"),"Low",IF(AND(B$3="Opposite",G22="Low"),"High",IF(COUNTIF(Refs!$E$5:$I$6,B$3)=1,RevLab!B$3,""))))))))))))) -> Black | G23: =IF(E23="","",IF(B$2="Red/Black",LOOKUP(E23,Refs!D:D,Refs!F:F),IF(B$2="High/Low",LOOKUP(E23,Refs!D:D,Refs!H:H),IF(B$2="Odd/Even",LOOKUP(E23,Refs!D:D,Refs!J:J),"")))) -> Black | H23: =IF(E23="","",IF(F23="","",IF(G23=F23,1,-1))) -> 1 | I23: =IF(E22="","",IF(F23="","",IF(AND(R22>1,P22+Q22>=$B$4),$B$4,IF(R22=1,P22,P22+Q22)))) -> 6 | J23: =IF(E23="","",IF(F23="","",IF(H23=1,I23,-I23))) -> 6 | K23: =IF(E23="","",IF(F23="",K22,J23+K22)) -> -15 | L23: =IF(E23="","",IF(K23>L22,K23,L22)) -> 6 | M23: =IF(E22="","",IF(OR(AND($A$6="Yes",$L23>$L22),AND($A$8="Yes",$P22+$Q22>=$B$4),AND($R22<=2,$H23=-1)),1,0)) -> 0 | P23: =IF(E23="","",S23) -> 2 | Q23: =IF(E23="","",MAX(S23:DN23)) -> 6 | R23: =IF(E23="","",COUNTIF(S23:DN23,">0")) -> 4 | S23: =IF(E22="","",IF($F23="",S22,IF($M23=1,LOOKUP(S$9,$A$12:$A$111,$B$12:$B$111),IF(AND($H23=-1,T$9=$R22),"",IF($H23=-1,T22,IF($H23=1,S22)))))) -> 2 | T23: =IF($E22="","",IF($F23="",T22,IF(AND($M23=1,T$9>$B$9),"",IF(AND($M23=1,T$9<=$B$9),LOOKUP(T$9,$A$12:$A$111,$B$12:$B$111),IF(AND($H23=-1,U$9=$R22),"",IF($H23=-1,U22,IF(AND($H23=1,S$9=$R22),$J23,IF($H23=1,T22,"")))))))) -> 3 | U23: =IF($E22="","",IF($F23="",U22,IF(AND($M23=1,U$9>$B$9),"",IF(AND($M23=1,U$9<=$B$9),LOOKUP(U$9,$A$12:$A$111,$B$12:$B$111),IF(AND($H23=-1,V$9=$R22),"",IF($H23=-1,V22,IF(AND($H23=1,T$9=$R22),$J23,IF($H23=1,U22,"")))))))) -> 4 | V23: =IF($E22="","",IF($F23="",V22,IF(AND($M23=1,V$9>$B$9),"",IF(AND($M23=1,V$9<=$B$9),LOOKUP(V$9,$A$12:$A$111,$B$12:$B$111),IF(AND($H23=-1,W$9=$R22),"",IF($H23=-1,W22,IF(AND($H23=1,U$9=$R22),$J23,IF($H23=1,V22,"")))))))) -> 6 | W23: =IF($E22="","",IF($F23="",W22,IF(AND($M23=1,W$9>$B$9),"",IF(AND($M23=1,W$9<=$B$9),LOOKUP(W$9,$A$12:$A$111,$B$12:$B$111),IF(AND($H23=-1,X$9=$R22),"",IF($H23=-1,X22,IF(AND($H23=1,V$9=$R22),$J23,IF($H23=1,W22,"")))))))) | X23: =IF($E22="","",IF($F23="",X22,IF(AND($M23=1,X$9>$B$9),"",IF(AND($M23=1,X$9<=$B$9),LOOKUP(X$9,$A$12:$A$111,$B$12:$B$111),IF(AND($H23=-1,Y$9=$R22),"",IF($H23=-1,Y22,IF(AND($H23=1,W$9=$R22),$J23,IF($H23=1,X22,"")))))))) | Y23: =IF($E22="","",IF($F23="",Y22,IF(AND($M23=1,Y$9>$B$9),"",IF(AND($M23=1,Y$9<=$B$9),LOOKUP(Y$9,$A$12:$A$111,$B$12:$B$111),IF(AND($H23=-1,Z$9=$R22),"",IF($H23=-1,Z22,IF(AND($H23=1,X$9=$R22),$J23,IF($H23=1,Y22,"")))))))) | Z23: =IF($E22="","",IF($F23="",Z22,IF(AND($M23=1,Z$9>$B$9),"",IF(AND($M23=1,Z$9<=$B$9),LOOKUP(Z$9,$A$12:$A$111,$B$12:$B$111),IF(AND($H23=-1,AA$9=$R22),"",IF($H23=-1,AA22,IF(AND($H23=1,Y$9=$R22),$J23,IF($H23=1,Z22,"")))))))) | AA23: =IF($E22="","",IF($F23="",AA22,IF(AND($M23=1,AA$9>$B$9),"",IF(AND($M23=1,AA$9<=$B$9),LOOKUP(AA$9,$A$12:$A$111,$B$12:$B$111),IF(AND($H23=-1,AB$9=$R22),"",IF($H23=-1,AB22,IF(AND($H23=1,Z$9=$R22),$J23,IF($H23=1,AA22,"")))))))) | ... BP23: =IF($E22="","",IF($F23="",BP22,IF(AND($M23=1,BP$9>$B$9),"",IF(AND($M23=1,BP$9<=$B$9),LOOKUP(BP$9,$A$12:$A$111,$B$12:$B$111),IF(AND($H23=-1,BQ$9=$R22),"",IF($H23=-1,BQ22,IF(AND($H23=1,BO$9=$R22),$J23,IF($H23=1,BP22,"")))))))) -> 0
D24: 14 | E24: =RANDBETWEEN(0,36) -> 29 | F24: =IF(E23="","",IF(AND(B$3="Last",G23="Zero"),F23,IF(B$3="Last",G23,IF(AND(B$3="2nd last",G22="Zero"),F23,IF(B$3="2nd last",G22,IF(AND(B$3="Opposite",G23="Zero"),F23,IF(AND(B$3="Opposite",G23="Red"),"Black",IF(AND(B$3="Opposite",G23="Black"),"Red",IF(AND(B$3="Opposite",G23="Odd"),"Even",IF(AND(B$3="Opposite",G23="Even"),"Odd",IF(AND(B$3="Opposite",G23="High"),"Low",IF(AND(B$3="Opposite",G23="Low"),"High",IF(COUNTIF(Refs!$E$5:$I$6,B$3)=1,RevLab!B$3,""))))))))))))) -> Black | G24: =IF(E24="","",IF(B$2="Red/Black",LOOKUP(E24,Refs!D:D,Refs!F:F),IF(B$2="High/Low",LOOKUP(E24,Refs!D:D,Refs!H:H),IF(B$2="Odd/Even",LOOKUP(E24,Refs!D:D,Refs!J:J),"")))) -> Black | H24: =IF(E24="","",IF(F24="","",IF(G24=F24,1,-1))) -> 1 | I24: =IF(E23="","",IF(F24="","",IF(AND(R23>1,P23+Q23>=$B$4),$B$4,IF(R23=1,P23,P23+Q23)))) -> 8 | J24: =IF(E24="","",IF(F24="","",IF(H24=1,I24,-I24))) -> 8 | K24: =IF(E24="","",IF(F24="",K23,J24+K23)) -> -7 | L24: =IF(E24="","",IF(K24>L23,K24,L23)) -> 6 | M24: =IF(E23="","",IF(OR(AND($A$6="Yes",$L24>$L23),AND($A$8="Yes",$P23+$Q23>=$B$4),AND($R23<=2,$H24=-1)),1,0)) -> 0 | P24: =IF(E24="","",S24) -> 2 | Q24: =IF(E24="","",MAX(S24:DN24)) -> 8 | R24: =IF(E24="","",COUNTIF(S24:DN24,">0")) -> 5 | S24: =IF(E23="","",IF($F24="",S23,IF($M24=1,LOOKUP(S$9,$A$12:$A$111,$B$12:$B$111),IF(AND($H24=-1,T$9=$R23),"",IF($H24=-1,T23,IF($H24=1,S23)))))) -> 2 | T24: =IF($E23="","",IF($F24="",T23,IF(AND($M24=1,T$9>$B$9),"",IF(AND($M24=1,T$9<=$B$9),LOOKUP(T$9,$A$12:$A$111,$B$12:$B$111),IF(AND($H24=-1,U$9=$R23),"",IF($H24=-1,U23,IF(AND($H24=1,S$9=$R23),$J24,IF($H24=1,T23,"")))))))) -> 3 | U24: =IF($E23="","",IF($F24="",U23,IF(AND($M24=1,U$9>$B$9),"",IF(AND($M24=1,U$9<=$B$9),LOOKUP(U$9,$A$12:$A$111,$B$12:$B$111),IF(AND($H24=-1,V$9=$R23),"",IF($H24=-1,V23,IF(AND($H24=1,T$9=$R23),$J24,IF($H24=1,U23,"")))))))) -> 4 | V24: =IF($E23="","",IF($F24="",V23,IF(AND($M24=1,V$9>$B$9),"",IF(AND($M24=1,V$9<=$B$9),LOOKUP(V$9,$A$12:$A$111,$B$12:$B$111),IF(AND($H24=-1,W$9=$R23),"",IF($H24=-1,W23,IF(AND($H24=1,U$9=$R23),$J24,IF($H24=1,V23,"")))))))) -> 6 | W24: =IF($E23="","",IF($F24="",W23,IF(AND($M24=1,W$9>$B$9),"",IF(AND($M24=1,W$9<=$B$9),LOOKUP(W$9,$A$12:$A$111,$B$12:$B$111),IF(AND($H24=-1,X$9=$R23),"",IF($H24=-1,X23,IF(AND($H24=1,V$9=$R23),$J24,IF($H24=1,W23,"")))))))) -> 8 | X24: =IF($E23="","",IF($F24="",X23,IF(AND($M24=1,X$9>$B$9),"",IF(AND($M24=1,X$9<=$B$9),LOOKUP(X$9,$A$12:$A$111,$B$12:$B$111),IF(AND($H24=-1,Y$9=$R23),"",IF($H24=-1,Y23,IF(AND($H24=1,W$9=$R23),$J24,IF($H24=1,X23,"")))))))) | Y24: =IF($E23="","",IF($F24="",Y23,IF(AND($M24=1,Y$9>$B$9),"",IF(AND($M24=1,Y$9<=$B$9),LOOKUP(Y$9,$A$12:$A$111,$B$12:$B$111),IF(AND($H24=-1,Z$9=$R23),"",IF($H24=-1,Z23,IF(AND($H24=1,X$9=$R23),$J24,IF($H24=1,Y23,"")))))))) | Z24: =IF($E23="","",IF($F24="",Z23,IF(AND($M24=1,Z$9>$B$9),"",IF(AND($M24=1,Z$9<=$B$9),LOOKUP(Z$9,$A$12:$A$111,$B$12:$B$111),IF(AND($H24=-1,AA$9=$R23),"",IF($H24=-1,AA23,IF(AND($H24=1,Y$9=$R23),$J24,IF($H24=1,Z23,"")))))))) | AA24: =IF($E23="","",IF($F24="",AA23,IF(AND($M24=1,AA$9>$B$9),"",IF(AND($M24=1,AA$9<=$B$9),LOOKUP(AA$9,$A$12:$A$111,$B$12:$B$111),IF(AND($H24=-1,AB$9=$R23),"",IF($H24=-1,AB23,IF(AND($H24=1,Z$9=$R23),$J24,IF($H24=1,AA23,"")))))))) | ... BP24: =IF($E23="","",IF($F24="",BP23,IF(AND($M24=1,BP$9>$B$9),"",IF(AND($M24=1,BP$9<=$B$9),LOOKUP(BP$9,$A$12:$A$111,$B$12:$B$111),IF(AND($H24=-1,BQ$9=$R23),"",IF($H24=-1,BQ23,IF(AND($H24=1,BO$9=$R23),$J24,IF($H24=1,BP23,"")))))))) -> 0
D25: 15 | E25: =RANDBETWEEN(0,36) -> 33 | F25: =IF(E24="","",IF(AND(B$3="Last",G24="Zero"),F24,IF(B$3="Last",G24,IF(AND(B$3="2nd last",G23="Zero"),F24,IF(B$3="2nd last",G23,IF(AND(B$3="Opposite",G24="Zero"),F24,IF(AND(B$3="Opposite",G24="Red"),"Black",IF(AND(B$3="Opposite",G24="Black"),"Red",IF(AND(B$3="Opposite",G24="Odd"),"Even",IF(AND(B$3="Opposite",G24="Even"),"Odd",IF(AND(B$3="Opposite",G24="High"),"Low",IF(AND(B$3="Opposite",G24="Low"),"High",IF(COUNTIF(Refs!$E$5:$I$6,B$3)=1,RevLab!B$3,""))))))))))))) -> Black | G25: =IF(E25="","",IF(B$2="Red/Black",LOOKUP(E25,Refs!D:D,Refs!F:F),IF(B$2="High/Low",LOOKUP(E25,Refs!D:D,Refs!H:H),IF(B$2="Odd/Even",LOOKUP(E25,Refs!D:D,Refs!J:J),"")))) -> Black | H25: =IF(E25="","",IF(F25="","",IF(G25=F25,1,-1))) -> 1 | I25: =IF(E24="","",IF(F25="","",IF(AND(R24>1,P24+Q24>=$B$4),$B$4,IF(R24=1,P24,P24+Q24)))) -> 10 | J25: =IF(E25="","",IF(F25="","",IF(H25=1,I25,-I25))) -> 10 | K25: =IF(E25="","",IF(F25="",K24,J25+K24)) -> 3 | L25: =IF(E25="","",IF(K25>L24,K25,L24)) -> 6 | M25: =IF(E24="","",IF(OR(AND($A$6="Yes",$L25>$L24),AND($A$8="Yes",$P24+$Q24>=$B$4),AND($R24<=2,$H25=-1)),1,0)) -> 0 | P25: =IF(E25="","",S25) -> 2 | Q25: =IF(E25="","",MAX(S25:DN25)) -> 10 | R25: =IF(E25="","",COUNTIF(S25:DN25,">0")) -> 6 | S25: =IF(E24="","",IF($F25="",S24,IF($M25=1,LOOKUP(S$9,$A$12:$A$111,$B$12:$B$111),IF(AND($H25=-1,T$9=$R24),"",IF($H25=-1,T24,IF($H25=1,S24)))))) -> 2 | T25: =IF($E24="","",IF($F25="",T24,IF(AND($M25=1,T$9>$B$9),"",IF(AND($M25=1,T$9<=$B$9),LOOKUP(T$9,$A$12:$A$111,$B$12:$B$111),IF(AND($H25=-1,U$9=$R24),"",IF($H25=-1,U24,IF(AND($H25=1,S$9=$R24),$J25,IF($H25=1,T24,"")))))))) -> 3 | U25: =IF($E24="","",IF($F25="",U24,IF(AND($M25=1,U$9>$B$9),"",IF(AND($M25=1,U$9<=$B$9),LOOKUP(U$9,$A$12:$A$111,$B$12:$B$111),IF(AND($H25=-1,V$9=$R24),"",IF($H25=-1,V24,IF(AND($H25=1,T$9=$R24),$J25,IF($H25=1,U24,"")))))))) -> 4 | V25: =IF($E24="","",IF($F25="",V24,IF(AND($M25=1,V$9>$B$9),"",IF(AND($M25=1,V$9<=$B$9),LOOKUP(V$9,$A$12:$A$111,$B$12:$B$111),IF(AND($H25=-1,W$9=$R24),"",IF($H25=-1,W24,IF(AND($H25=1,U$9=$R24),$J25,IF($H25=1,V24,"")))))))) -> 6 | W25: =IF($E24="","",IF($F25="",W24,IF(AND($M25=1,W$9>$B$9),"",IF(AND($M25=1,W$9<=$B$9),LOOKUP(W$9,$A$12:$A$111,$B$12:$B$111),IF(AND($H25=-1,X$9=$R24),"",IF($H25=-1,X24,IF(AND($H25=1,V$9=$R24),$J25,IF($H25=1,W24,"")))))))) -> 8 | X25: =IF($E24="","",IF($F25="",X24,IF(AND($M25=1,X$9>$B$9),"",IF(AND($M25=1,X$9<=$B$9),LOOKUP(X$9,$A$12:$A$111,$B$12:$B$111),IF(AND($H25=-1,Y$9=$R24),"",IF($H25=-1,Y24,IF(AND($H25=1,W$9=$R24),$J25,IF($H25=1,X24,"")))))))) -> 10 | Y25: =IF($E24="","",IF($F25="",Y24,IF(AND($M25=1,Y$9>$B$9),"",IF(AND($M25=1,Y$9<=$B$9),LOOKUP(Y$9,$A$12:$A$111,$B$12:$B$111),IF(AND($H25=-1,Z$9=$R24),"",IF($H25=-1,Z24,IF(AND($H25=1,X$9=$R24),$J25,IF($H25=1,Y24,"")))))))) | Z25: =IF($E24="","",IF($F25="",Z24,IF(AND($M25=1,Z$9>$B$9),"",IF(AND($M25=1,Z$9<=$B$9),LOOKUP(Z$9,$A$12:$A$111,$B$12:$B$111),IF(AND($H25=-1,AA$9=$R24),"",IF($H25=-1,AA24,IF(AND($H25=1,Y$9=$R24),$J25,IF($H25=1,Z24,"")))))))) | AA25: =IF($E24="","",IF($F25="",AA24,IF(AND($M25=1,AA$9>$B$9),"",IF(AND($M25=1,AA$9<=$B$9),LOOKUP(AA$9,$A$12:$A$111,$B$12:$B$111),IF(AND($H25=-1,AB$9=$R24),"",IF($H25=-1,AB24,IF(AND($H25=1,Z$9=$R24),$J25,IF($H25=1,AA24,"")))))))) | ... BP25: =IF($E24="","",IF($F25="",BP24,IF(AND($M25=1,BP$9>$B$9),"",IF(AND($M25=1,BP$9<=$B$9),LOOKUP(BP$9,$A$12:$A$111,$B$12:$B$111),IF(AND($H25=-1,BQ$9=$R24),"",IF($H25=-1,BQ24,IF(AND($H25=1,BO$9=$R24),$J25,IF($H25=1,BP24,"")))))))) -> 0
D26: 16 | E26: =RANDBETWEEN(0,36) -> 13 | F26: =IF(E25="","",IF(AND(B$3="Last",G25="Zero"),F25,IF(B$3="Last",G25,IF(AND(B$3="2nd last",G24="Zero"),F25,IF(B$3="2nd last",G24,IF(AND(B$3="Opposite",G25="Zero"),F25,IF(AND(B$3="Opposite",G25="Red"),"Black",IF(AND(B$3="Opposite",G25="Black"),"Red",IF(AND(B$3="Opposite",G25="Odd"),"Even",IF(AND(B$3="Opposite",G25="Even"),"Odd",IF(AND(B$3="Opposite",G25="High"),"Low",IF(AND(B$3="Opposite",G25="Low"),"High",IF(COUNTIF(Refs!$E$5:$I$6,B$3)=1,RevLab!B$3,""))))))))))))) -> Black | G26: =IF(E26="","",IF(B$2="Red/Black",LOOKUP(E26,Refs!D:D,Refs!F:F),IF(B$2="High/Low",LOOKUP(E26,Refs!D:D,Refs!H:H),IF(B$2="Odd/Even",LOOKUP(E26,Refs!D:D,Refs!J:J),"")))) -> Black | H26: =IF(E26="","",IF(F26="","",IF(G26=F26,1,-1))) -> 1 | I26: =IF(E25="","",IF(F26="","",IF(AND(R25>1,P25+Q25>=$B$4),$B$4,IF(R25=1,P25,P25+Q25)))) -> 12 | J26: =IF(E26="","",IF(F26="","",IF(H26=1,I26,-I26))) -> 12 | K26: =IF(E26="","",IF(F26="",K25,J26+K25)) -> 15 | L26: =IF(E26="","",IF(K26>L25,K26,L25)) -> 15 | M26: =IF(E25="","",IF(OR(AND($A$6="Yes",$L26>$L25),AND($A$8="Yes",$P25+$Q25>=$B$4),AND($R25<=2,$H26=-1)),1,0)) -> 0 | P26: =IF(E26="","",S26) -> 2 | Q26: =IF(E26="","",MAX(S26:DN26)) -> 12 | R26: =IF(E26="","",COUNTIF(S26:DN26,">0")) -> 7 | S26: =IF(E25="","",IF($F26="",S25,IF($M26=1,LOOKUP(S$9,$A$12:$A$111,$B$12:$B$111),IF(AND($H26=-1,T$9=$R25),"",IF($H26=-1,T25,IF($H26=1,S25)))))) -> 2 | T26: =IF($E25="","",IF($F26="",T25,IF(AND($M26=1,T$9>$B$9),"",IF(AND($M26=1,T$9<=$B$9),LOOKUP(T$9,$A$12:$A$111,$B$12:$B$111),IF(AND($H26=-1,U$9=$R25),"",IF($H26=-1,U25,IF(AND($H26=1,S$9=$R25),$J26,IF($H26=1,T25,"")))))))) -> 3 | U26: =IF($E25="","",IF($F26="",U25,IF(AND($M26=1,U$9>$B$9),"",IF(AND($M26=1,U$9<=$B$9),LOOKUP(U$9,$A$12:$A$111,$B$12:$B$111),IF(AND($H26=-1,V$9=$R25),"",IF($H26=-1,V25,IF(AND($H26=1,T$9=$R25),$J26,IF($H26=1,U25,"")))))))) -> 4 | V26: =IF($E25="","",IF($F26="",V25,IF(AND($M26=1,V$9>$B$9),"",IF(AND($M26=1,V$9<=$B$9),LOOKUP(V$9,$A$12:$A$111,$B$12:$B$111),IF(AND($H26=-1,W$9=$R25),"",IF($H26=-1,W25,IF(AND($H26=1,U$9=$R25),$J26,IF($H26=1,V25,"")))))))) -> 6 | W26: =IF($E25="","",IF($F26="",W25,IF(AND($M26=1,W$9>$B$9),"",IF(AND($M26=1,W$9<=$B$9),LOOKUP(W$9,$A$12:$A$111,$B$12:$B$111),IF(AND($H26=-1,X$9=$R25),"",IF($H26=-1,X25,IF(AND($H26=1,V$9=$R25),$J26,IF($H26=1,W25,"")))))))) -> 8 | X26: =IF($E25="","",IF($F26="",X25,IF(AND($M26=1,X$9>$B$9),"",IF(AND($M26=1,X$9<=$B$9),LOOKUP(X$9,$A$12:$A$111,$B$12:$B$111),IF(AND($H26=-1,Y$9=$R25),"",IF($H26=-1,Y25,IF(AND($H26=1,W$9=$R25),$J26,IF($H26=1,X25,"")))))))) -> 10 | Y26: =IF($E25="","",IF($F26="",Y25,IF(AND($M26=1,Y$9>$B$9),"",IF(AND($M26=1,Y$9<=$B$9),LOOKUP(Y$9,$A$12:$A$111,$B$12:$B$111),IF(AND($H26=-1,Z$9=$R25),"",IF($H26=-1,Z25,IF(AND($H26=1,X$9=$R25),$J26,IF($H26=1,Y25,"")))))))) -> 12 | Z26: =IF($E25="","",IF($F26="",Z25,IF(AND($M26=1,Z$9>$B$9),"",IF(AND($M26=1,Z$9<=$B$9),LOOKUP(Z$9,$A$12:$A$111,$B$12:$B$111),IF(AND($H26=-1,AA$9=$R25),"",IF($H26=-1,AA25,IF(AND($H26=1,Y$9=$R25),$J26,IF($H26=1,Z25,"")))))))) | AA26: =IF($E25="","",IF($F26="",AA25,IF(AND($M26=1,AA$9>$B$9),"",IF(AND($M26=1,AA$9<=$B$9),LOOKUP(AA$9,$A$12:$A$111,$B$12:$B$111),IF(AND($H26=-1,AB$9=$R25),"",IF($H26=-1,AB25,IF(AND($H26=1,Z$9=$R25),$J26,IF($H26=1,AA25,"")))))))) | ... BP26: =IF($E25="","",IF($F26="",BP25,IF(AND($M26=1,BP$9>$B$9),"",IF(AND($M26=1,BP$9<=$B$9),LOOKUP(BP$9,$A$12:$A$111,$B$12:$B$111),IF(AND($H26=-1,BQ$9=$R25),"",IF($H26=-1,BQ25,IF(AND($H26=1,BO$9=$R25),$J26,IF($H26=1,BP25,"")))))))) -> 0
D27: 17 | E27: =RANDBETWEEN(0,36) -> 16 | F27: =IF(E26="","",IF(AND(B$3="Last",G26="Zero"),F26,IF(B$3="Last",G26,IF(AND(B$3="2nd last",G25="Zero"),F26,IF(B$3="2nd last",G25,IF(AND(B$3="Opposite",G26="Zero"),F26,IF(AND(B$3="Opposite",G26="Red"),"Black",IF(AND(B$3="Opposite",G26="Black"),"Red",IF(AND(B$3="Opposite",G26="Odd"),"Even",IF(AND(B$3="Opposite",G26="Even"),"Odd",IF(AND(B$3="Opposite",G26="High"),"Low",IF(AND(B$3="Opposite",G26="Low"),"High",IF(COUNTIF(Refs!$E$5:$I$6,B$3)=1,RevLab!B$3,""))))))))))))) -> Black | G27: =IF(E27="","",IF(B$2="Red/Black",LOOKUP(E27,Refs!D:D,Refs!F:F),IF(B$2="High/Low",LOOKUP(E27,Refs!D:D,Refs!H:H),IF(B$2="Odd/Even",LOOKUP(E27,Refs!D:D,Refs!J:J),"")))) -> Red | H27: =IF(E27="","",IF(F27="","",IF(G27=F27,1,-1))) -> -1 | I27: =IF(E26="","",IF(F27="","",IF(AND(R26>1,P26+Q26>=$B$4),$B$4,IF(R26=1,P26,P26+Q26)))) -> 14 | J27: =IF(E27="","",IF(F27="","",IF(H27=1,I27,-I27))) -> -14 | K27: =IF(E27="","",IF(F27="",K26,J27+K26)) -> 1 | L27: =IF(E27="","",IF(K27>L26,K27,L26)) -> 15 | M27: =IF(E26="","",IF(OR(AND($A$6="Yes",$L27>$L26),AND($A$8="Yes",$P26+$Q26>=$B$4),AND($R26<=2,$H27=-1)),1,0)) -> 0 | P27: =IF(E27="","",S27) -> 3 | Q27: =IF(E27="","",MAX(S27:DN27)) -> 10 | R27: =IF(E27="","",COUNTIF(S27:DN27,">0")) -> 5 | S27: =IF(E26="","",IF($F27="",S26,IF($M27=1,LOOKUP(S$9,$A$12:$A$111,$B$12:$B$111),IF(AND($H27=-1,T$9=$R26),"",IF($H27=-1,T26,IF($H27=1,S26)))))) -> 3 | T27: =IF($E26="","",IF($F27="",T26,IF(AND($M27=1,T$9>$B$9),"",IF(AND($M27=1,T$9<=$B$9),LOOKUP(T$9,$A$12:$A$111,$B$12:$B$111),IF(AND($H27=-1,U$9=$R26),"",IF($H27=-1,U26,IF(AND($H27=1,S$9=$R26),$J27,IF($H27=1,T26,"")))))))) -> 4 | U27: =IF($E26="","",IF($F27="",U26,IF(AND($M27=1,U$9>$B$9),"",IF(AND($M27=1,U$9<=$B$9),LOOKUP(U$9,$A$12:$A$111,$B$12:$B$111),IF(AND($H27=-1,V$9=$R26),"",IF($H27=-1,V26,IF(AND($H27=1,T$9=$R26),$J27,IF($H27=1,U26,"")))))))) -> 6 | V27: =IF($E26="","",IF($F27="",V26,IF(AND($M27=1,V$9>$B$9),"",IF(AND($M27=1,V$9<=$B$9),LOOKUP(V$9,$A$12:$A$111,$B$12:$B$111),IF(AND($H27=-1,W$9=$R26),"",IF($H27=-1,W26,IF(AND($H27=1,U$9=$R26),$J27,IF($H27=1,V26,"")))))))) -> 8 | W27: =IF($E26="","",IF($F27="",W26,IF(AND($M27=1,W$9>$B$9),"",IF(AND($M27=1,W$9<=$B$9),LOOKUP(W$9,$A$12:$A$111,$B$12:$B$111),IF(AND($H27=-1,X$9=$R26),"",IF($H27=-1,X26,IF(AND($H27=1,V$9=$R26),$J27,IF($H27=1,W26,"")))))))) -> 10 | X27: =IF($E26="","",IF($F27="",X26,IF(AND($M27=1,X$9>$B$9),"",IF(AND($M27=1,X$9<=$B$9),LOOKUP(X$9,$A$12:$A$111,$B$12:$B$111),IF(AND($H27=-1,Y$9=$R26),"",IF($H27=-1,Y26,IF(AND($H27=1,W$9=$R26),$J27,IF($H27=1,X26,"")))))))) | Y27: =IF($E26="","",IF($F27="",Y26,IF(AND($M27=1,Y$9>$B$9),"",IF(AND($M27=1,Y$9<=$B$9),LOOKUP(Y$9,$A$12:$A$111,$B$12:$B$111),IF(AND($H27=-1,Z$9=$R26),"",IF($H27=-1,Z26,IF(AND($H27=1,X$9=$R26),$J27,IF($H27=1,Y26,"")))))))) | Z27: =IF($E26="","",IF($F27="",Z26,IF(AND($M27=1,Z$9>$B$9),"",IF(AND($M27=1,Z$9<=$B$9),LOOKUP(Z$9,$A$12:$A$111,$B$12:$B$111),IF(AND($H27=-1,AA$9=$R26),"",IF($H27=-1,AA26,IF(AND($H27=1,Y$9=$R26),$J27,IF($H27=1,Z26,"")))))))) | AA27: =IF($E26="","",IF($F27="",AA26,IF(AND($M27=1,AA$9>$B$9),"",IF(AND($M27=1,AA$9<=$B$9),LOOKUP(AA$9,$A$12:$A$111,$B$12:$B$111),IF(AND($H27=-1,AB$9=$R26),"",IF($H27=-1,AB26,IF(AND($H27=1,Z$9=$R26),$J27,IF($H27=1,AA26,"")))))))) | ... BP27: =IF($E26="","",IF($F27="",BP26,IF(AND($M27=1,BP$9>$B$9),"",IF(AND($M27=1,BP$9<=$B$9),LOOKUP(BP$9,$A$12:$A$111,$B$12:$B$111),IF(AND($H27=-1,BQ$9=$R26),"",IF($H27=-1,BQ26,IF(AND($H27=1,BO$9=$R26),$J27,IF($H27=1,BP26,"")))))))) -> 0
D28: 18 | E28: =RANDBETWEEN(0,36) -> 32 | F28: =IF(E27="","",IF(AND(B$3="Last",G27="Zero"),F27,IF(B$3="Last",G27,IF(AND(B$3="2nd last",G26="Zero"),F27,IF(B$3="2nd last",G26,IF(AND(B$3="Opposite",G27="Zero"),F27,IF(AND(B$3="Opposite",G27="Red"),"Black",IF(AND(B$3="Opposite",G27="Black"),"Red",IF(AND(B$3="Opposite",G27="Odd"),"Even",IF(AND(B$3="Opposite",G27="Even"),"Odd",IF(AND(B$3="Opposite",G27="High"),"Low",IF(AND(B$3="Opposite",G27="Low"),"High",IF(COUNTIF(Refs!$E$5:$I$6,B$3)=1,RevLab!B$3,""))))))))))))) -> Black | G28: =IF(E28="","",IF(B$2="Red/Black",LOOKUP(E28,Refs!D:D,Refs!F:F),IF(B$2="High/Low",LOOKUP(E28,Refs!D:D,Refs!H:H),IF(B$2="Odd/Even",LOOKUP(E28,Refs!D:D,Refs!J:J),"")))) -> Red | H28: =IF(E28="","",IF(F28="","",IF(G28=F28,1,-1))) -> -1 | I28: =IF(E27="","",IF(F28="","",IF(AND(R27>1,P27+Q27>=$B$4),$B$4,IF(R27=1,P27,P27+Q27)))) -> 13 | J28: =IF(E28="","",IF(F28="","",IF(H28=1,I28,-I28))) -> -13 | K28: =IF(E28="","",IF(F28="",K27,J28+K27)) -> -12 | L28: =IF(E28="","",IF(K28>L27,K28,L27)) -> 15 | M28: =IF(E27="","",IF(OR(AND($A$6="Yes",$L28>$L27),AND($A$8="Yes",$P27+$Q27>=$B$4),AND($R27<=2,$H28=-1)),1,0)) -> 0 | P28: =IF(E28="","",S28) -> 4 | Q28: =IF(E28="","",MAX(S28:DN28)) -> 8 | R28: =IF(E28="","",COUNTIF(S28:DN28,">0")) -> 3 | S28: =IF(E27="","",IF($F28="",S27,IF($M28=1,LOOKUP(S$9,$A$12:$A$111,$B$12:$B$111),IF(AND($H28=-1,T$9=$R27),"",IF($H28=-1,T27,IF($H28=1,S27)))))) -> 4 | T28: =IF($E27="","",IF($F28="",T27,IF(AND($M28=1,T$9>$B$9),"",IF(AND($M28=1,T$9<=$B$9),LOOKUP(T$9,$A$12:$A$111,$B$12:$B$111),IF(AND($H28=-1,U$9=$R27),"",IF($H28=-1,U27,IF(AND($H28=1,S$9=$R27),$J28,IF($H28=1,T27,"")))))))) -> 6 | U28: =IF($E27="","",IF($F28="",U27,IF(AND($M28=1,U$9>$B$9),"",IF(AND($M28=1,U$9<=$B$9),LOOKUP(U$9,$A$12:$A$111,$B$12:$B$111),IF(AND($H28=-1,V$9=$R27),"",IF($H28=-1,V27,IF(AND($H28=1,T$9=$R27),$J28,IF($H28=1,U27,"")))))))) -> 8 | V28: =IF($E27="","",IF($F28="",V27,IF(AND($M28=1,V$9>$B$9),"",IF(AND($M28=1,V$9<=$B$9),LOOKUP(V$9,$A$12:$A$111,$B$12:$B$111),IF(AND($H28=-1,W$9=$R27),"",IF($H28=-1,W27,IF(AND($H28=1,U$9=$R27),$J28,IF($H28=1,V27,"")))))))) | W28: =IF($E27="","",IF($F28="",W27,IF(AND($M28=1,W$9>$B$9),"",IF(AND($M28=1,W$9<=$B$9),LOOKUP(W$9,$A$12:$A$111,$B$12:$B$111),IF(AND($H28=-1,X$9=$R27),"",IF($H28=-1,X27,IF(AND($H28=1,V$9=$R27),$J28,IF($H28=1,W27,"")))))))) | X28: =IF($E27="","",IF($F28="",X27,IF(AND($M28=1,X$9>$B$9),"",IF(AND($M28=1,X$9<=$B$9),LOOKUP(X$9,$A$12:$A$111,$B$12:$B$111),IF(AND($H28=-1,Y$9=$R27),"",IF($H28=-1,Y27,IF(AND($H28=1,W$9=$R27),$J28,IF($H28=1,X27,"")))))))) | Y28: =IF($E27="","",IF($F28="",Y27,IF(AND($M28=1,Y$9>$B$9),"",IF(AND($M28=1,Y$9<=$B$9),LOOKUP(Y$9,$A$12:$A$111,$B$12:$B$111),IF(AND($H28=-1,Z$9=$R27),"",IF($H28=-1,Z27,IF(AND($H28=1,X$9=$R27),$J28,IF($H28=1,Y27,"")))))))) | Z28: =IF($E27="","",IF($F28="",Z27,IF(AND($M28=1,Z$9>$B$9),"",IF(AND($M28=1,Z$9<=$B$9),LOOKUP(Z$9,$A$12:$A$111,$B$12:$B$111),IF(AND($H28=-1,AA$9=$R27),"",IF($H28=-1,AA27,IF(AND($H28=1,Y$9=$R27),$J28,IF($H28=1,Z27,"")))))))) | AA28: =IF($E27="","",IF($F28="",AA27,IF(AND($M28=1,AA$9>$B$9),"",IF(AND($M28=1,AA$9<=$B$9),LOOKUP(AA$9,$A$12:$A$111,$B$12:$B$111),IF(AND($H28=-1,AB$9=$R27),"",IF($H28=-1,AB27,IF(AND($H28=1,Z$9=$R27),$J28,IF($H28=1,AA27,"")))))))) | ... BP28: =IF($E27="","",IF($F28="",BP27,IF(AND($M28=1,BP$9>$B$9),"",IF(AND($M28=1,BP$9<=$B$9),LOOKUP(BP$9,$A$12:$A$111,$B$12:$B$111),IF(AND($H28=-1,BQ$9=$R27),"",IF($H28=-1,BQ27,IF(AND($H28=1,BO$9=$R27),$J28,IF($H28=1,BP27,"")))))))) -> 0
D29: 19 | E29: =RANDBETWEEN(0,36) -> 32 | F29: =IF(E28="","",IF(AND(B$3="Last",G28="Zero"),F28,IF(B$3="Last",G28,IF(AND(B$3="2nd last",G27="Zero"),F28,IF(B$3="2nd last",G27,IF(AND(B$3="Opposite",G28="Zero"),F28,IF(AND(B$3="Opposite",G28="Red"),"Black",IF(AND(B$3="Opposite",G28="Black"),"Red",IF(AND(B$3="Opposite",G28="Odd"),"Even",IF(AND(B$3="Opposite",G28="Even"),"Odd",IF(AND(B$3="Opposite",G28="High"),"Low",IF(AND(B$3="Opposite",G28="Low"),"High",IF(COUNTIF(Refs!$E$5:$I$6,B$3)=1,RevLab!B$3,""))))))))))))) -> Black | G29: =IF(E29="","",IF(B$2="Red/Black",LOOKUP(E29,Refs!D:D,Refs!F:F),IF(B$2="High/Low",LOOKUP(E29,Refs!D:D,Refs!H:H),IF(B$2="Odd/Even",LOOKUP(E29,Refs!D:D,Refs!J:J),"")))) -> Red | H29: =IF(E29="","",IF(F29="","",IF(G29=F29,1,-1))) -> -1 | I29: =IF(E28="","",IF(F29="","",IF(AND(R28>1,P28+Q28>=$B$4),$B$4,IF(R28=1,P28,P28+Q28)))) -> 12 | J29: =IF(E29="","",IF(F29="","",IF(H29=1,I29,-I29))) -> -12 | K29: =IF(E29="","",IF(F29="",K28,J29+K28)) -> -24 | L29: =IF(E29="","",IF(K29>L28,K29,L28)) -> 15 | M29: =IF(E28="","",IF(OR(AND($A$6="Yes",$L29>$L28),AND($A$8="Yes",$P28+$Q28>=$B$4),AND($R28<=2,$H29=-1)),1,0)) -> 0 | P29: =IF(E29="","",S29) -> 6 | Q29: =IF(E29="","",MAX(S29:DN29)) -> 6 | R29: =IF(E29="","",COUNTIF(S29:DN29,">0")) -> 1 | S29: =IF(E28="","",IF($F29="",S28,IF($M29=1,LOOKUP(S$9,$A$12:$A$111,$B$12:$B$111),IF(AND($H29=-1,T$9=$R28),"",IF($H29=-1,T28,IF($H29=1,S28)))))) -> 6 | T29: =IF($E28="","",IF($F29="",T28,IF(AND($M29=1,T$9>$B$9),"",IF(AND($M29=1,T$9<=$B$9),LOOKUP(T$9,$A$12:$A$111,$B$12:$B$111),IF(AND($H29=-1,U$9=$R28),"",IF($H29=-1,U28,IF(AND($H29=1,S$9=$R28),$J29,IF($H29=1,T28,"")))))))) | U29: =IF($E28="","",IF($F29="",U28,IF(AND($M29=1,U$9>$B$9),"",IF(AND($M29=1,U$9<=$B$9),LOOKUP(U$9,$A$12:$A$111,$B$12:$B$111),IF(AND($H29=-1,V$9=$R28),"",IF($H29=-1,V28,IF(AND($H29=1,T$9=$R28),$J29,IF($H29=1,U28,"")))))))) | V29: =IF($E28="","",IF($F29="",V28,IF(AND($M29=1,V$9>$B$9),"",IF(AND($M29=1,V$9<=$B$9),LOOKUP(V$9,$A$12:$A$111,$B$12:$B$111),IF(AND($H29=-1,W$9=$R28),"",IF($H29=-1,W28,IF(AND($H29=1,U$9=$R28),$J29,IF($H29=1,V28,"")))))))) | W29: =IF($E28="","",IF($F29="",W28,IF(AND($M29=1,W$9>$B$9),"",IF(AND($M29=1,W$9<=$B$9),LOOKUP(W$9,$A$12:$A$111,$B$12:$B$111),IF(AND($H29=-1,X$9=$R28),"",IF($H29=-1,X28,IF(AND($H29=1,V$9=$R28),$J29,IF($H29=1,W28,"")))))))) | X29: =IF($E28="","",IF($F29="",X28,IF(AND($M29=1,X$9>$B$9),"",IF(AND($M29=1,X$9<=$B$9),LOOKUP(X$9,$A$12:$A$111,$B$12:$B$111),IF(AND($H29=-1,Y$9=$R28),"",IF($H29=-1,Y28,IF(AND($H29=1,W$9=$R28),$J29,IF($H29=1,X28,"")))))))) | Y29: =IF($E28="","",IF($F29="",Y28,IF(AND($M29=1,Y$9>$B$9),"",IF(AND($M29=1,Y$9<=$B$9),LOOKUP(Y$9,$A$12:$A$111,$B$12:$B$111),IF(AND($H29=-1,Z$9=$R28),"",IF($H29=-1,Z28,IF(AND($H29=1,X$9=$R28),$J29,IF($H29=1,Y28,"")))))))) | Z29: =IF($E28="","",IF($F29="",Z28,IF(AND($M29=1,Z$9>$B$9),"",IF(AND($M29=1,Z$9<=$B$9),LOOKUP(Z$9,$A$12:$A$111,$B$12:$B$111),IF(AND($H29=-1,AA$9=$R28),"",IF($H29=-1,AA28,IF(AND($H29=1,Y$9=$R28),$J29,IF($H29=1,Z28,"")))))))) | AA29: =IF($E28="","",IF($F29="",AA28,IF(AND($M29=1,AA$9>$B$9),"",IF(AND($M29=1,AA$9<=$B$9),LOOKUP(AA$9,$A$12:$A$111,$B$12:$B$111),IF(AND($H29=-1,AB$9=$R28),"",IF($H29=-1,AB28,IF(AND($H29=1,Z$9=$R28),$J29,IF($H29=1,AA28,"")))))))) | ... BP29: =IF($E28="","",IF($F29="",BP28,IF(AND($M29=1,BP$9>$B$9),"",IF(AND($M29=1,BP$9<=$B$9),LOOKUP(BP$9,$A$12:$A$111,$B$12:$B$111),IF(AND($H29=-1,BQ$9=$R28),"",IF($H29=-1,BQ28,IF(AND($H29=1,BO$9=$R28),$J29,IF($H29=1,BP28,"")))))))) -> 0
D30: 20 | E30: =RANDBETWEEN(0,36) -> 15 | F30: =IF(E29="","",IF(AND(B$3="Last",G29="Zero"),F29,IF(B$3="Last",G29,IF(AND(B$3="2nd last",G28="Zero"),F29,IF(B$3="2nd last",G28,IF(AND(B$3="Opposite",G29="Zero"),F29,IF(AND(B$3="Opposite",G29="Red"),"Black",IF(AND(B$3="Opposite",G29="Black"),"Red",IF(AND(B$3="Opposite",G29="Odd"),"Even",IF(AND(B$3="Opposite",G29="Even"),"Odd",IF(AND(B$3="Opposite",G29="High"),"Low",IF(AND(B$3="Opposite",G29="Low"),"High",IF(COUNTIF(Refs!$E$5:$I$6,B$3)=1,RevLab!B$3,""))))))))))))) -> Black | G30: =IF(E30="","",IF(B$2="Red/Black",LOOKUP(E30,Refs!D:D,Refs!F:F),IF(B$2="High/Low",LOOKUP(E30,Refs!D:D,Refs!H:H),IF(B$2="Odd/Even",LOOKUP(E30,Refs!D:D,Refs!J:J),"")))) -> Black | H30: =IF(E30="","",IF(F30="","",IF(G30=F30,1,-1))) -> 1 | I30: =IF(E29="","",IF(F30="","",IF(AND(R29>1,P29+Q29>=$B$4),$B$4,IF(R29=1,P29,P29+Q29)))) -> 6 | J30: =IF(E30="","",IF(F30="","",IF(H30=1,I30,-I30))) -> 6 | K30: =IF(E30="","",IF(F30="",K29,J30+K29)) -> -18 | L30: =IF(E30="","",IF(K30>L29,K30,L29)) -> 15 | M30: =IF(E29="","",IF(OR(AND($A$6="Yes",$L30>$L29),AND($A$8="Yes",$P29+$Q29>=$B$4),AND($R29<=2,$H30=-1)),1,0)) -> 0 | P30: =IF(E30="","",S30) -> 6 | Q30: =IF(E30="","",MAX(S30:DN30)) -> 6 | R30: =IF(E30="","",COUNTIF(S30:DN30,">0")) -> 2 | S30: =IF(E29="","",IF($F30="",S29,IF($M30=1,LOOKUP(S$9,$A$12:$A$111,$B$12:$B$111),IF(AND($H30=-1,T$9=$R29),"",IF($H30=-1,T29,IF($H30=1,S29)))))) -> 6 | T30: =IF($E29="","",IF($F30="",T29,IF(AND($M30=1,T$9>$B$9),"",IF(AND($M30=1,T$9<=$B$9),LOOKUP(T$9,$A$12:$A$111,$B$12:$B$111),IF(AND($H30=-1,U$9=$R29),"",IF($H30=-1,U29,IF(AND($H30=1,S$9=$R29),$J30,IF($H30=1,T29,"")))))))) -> 6 | U30: =IF($E29="","",IF($F30="",U29,IF(AND($M30=1,U$9>$B$9),"",IF(AND($M30=1,U$9<=$B$9),LOOKUP(U$9,$A$12:$A$111,$B$12:$B$111),IF(AND($H30=-1,V$9=$R29),"",IF($H30=-1,V29,IF(AND($H30=1,T$9=$R29),$J30,IF($H30=1,U29,"")))))))) | V30: =IF($E29="","",IF($F30="",V29,IF(AND($M30=1,V$9>$B$9),"",IF(AND($M30=1,V$9<=$B$9),LOOKUP(V$9,$A$12:$A$111,$B$12:$B$111),IF(AND($H30=-1,W$9=$R29),"",IF($H30=-1,W29,IF(AND($H30=1,U$9=$R29),$J30,IF($H30=1,V29,"")))))))) | W30: =IF($E29="","",IF($F30="",W29,IF(AND($M30=1,W$9>$B$9),"",IF(AND($M30=1,W$9<=$B$9),LOOKUP(W$9,$A$12:$A$111,$B$12:$B$111),IF(AND($H30=-1,X$9=$R29),"",IF($H30=-1,X29,IF(AND($H30=1,V$9=$R29),$J30,IF($H30=1,W29,"")))))))) | X30: =IF($E29="","",IF($F30="",X29,IF(AND($M30=1,X$9>$B$9),"",IF(AND($M30=1,X$9<=$B$9),LOOKUP(X$9,$A$12:$A$111,$B$12:$B$111),IF(AND($H30=-1,Y$9=$R29),"",IF($H30=-1,Y29,IF(AND($H30=1,W$9=$R29),$J30,IF($H30=1,X29,"")))))))) | Y30: =IF($E29="","",IF($F30="",Y29,IF(AND($M30=1,Y$9>$B$9),"",IF(AND($M30=1,Y$9<=$B$9),LOOKUP(Y$9,$A$12:$A$111,$B$12:$B$111),IF(AND($H30=-1,Z$9=$R29),"",IF($H30=-1,Z29,IF(AND($H30=1,X$9=$R29),$J30,IF($H30=1,Y29,"")))))))) | Z30: =IF($E29="","",IF($F30="",Z29,IF(AND($M30=1,Z$9>$B$9),"",IF(AND($M30=1,Z$9<=$B$9),LOOKUP(Z$9,$A$12:$A$111,$B$12:$B$111),IF(AND($H30=-1,AA$9=$R29),"",IF($H30=-1,AA29,IF(AND($H30=1,Y$9=$R29),$J30,IF($H30=1,Z29,"")))))))) | AA30: =IF($E29="","",IF($F30="",AA29,IF(AND($M30=1,AA$9>$B$9),"",IF(AND($M30=1,AA$9<=$B$9),LOOKUP(AA$9,$A$12:$A$111,$B$12:$B$111),IF(AND($H30=-1,AB$9=$R29),"",IF($H30=-1,AB29,IF(AND($H30=1,Z$9=$R29),$J30,IF($H30=1,AA29,"")))))))) | ... BP30: =IF($E29="","",IF($F30="",BP29,IF(AND($M30=1,BP$9>$B$9),"",IF(AND($M30=1,BP$9<=$B$9),LOOKUP(BP$9,$A$12:$A$111,$B$12:$B$111),IF(AND($H30=-1,BQ$9=$R29),"",IF($H30=-1,BQ29,IF(AND($H30=1,BO$9=$R29),$J30,IF($H30=1,BP29,"")))))))) -> 0
D31: 21 | E31: =RANDBETWEEN(0,36) -> 17 | F31: =IF(E30="","",IF(AND(B$3="Last",G30="Zero"),F30,IF(B$3="Last",G30,IF(AND(B$3="2nd last",G29="Zero"),F30,IF(B$3="2nd last",G29,IF(AND(B$3="Opposite",G30="Zero"),F30,IF(AND(B$3="Opposite",G30="Red"),"Black",IF(AND(B$3="Opposite",G30="Black"),"Red",IF(AND(B$3="Opposite",G30="Odd"),"Even",IF(AND(B$3="Opposite",G30="Even"),"Odd",IF(AND(B$3="Opposite",G30="High"),"Low",IF(AND(B$3="Opposite",G30="Low"),"High",IF(COUNTIF(Refs!$E$5:$I$6,B$3)=1,RevLab!B$3,""))))))))))))) -> Black | G31: =IF(E31="","",IF(B$2="Red/Black",LOOKUP(E31,Refs!D:D,Refs!F:F),IF(B$2="High/Low",LOOKUP(E31,Refs!D:D,Refs!H:H),IF(B$2="Odd/Even",LOOKUP(E31,Refs!D:D,Refs!J:J),"")))) -> Black | H31: =IF(E31="","",IF(F31="","",IF(G31=F31,1,-1))) -> 1 | I31: =IF(E30="","",IF(F31="","",IF(AND(R30>1,P30+Q30>=$B$4),$B$4,IF(R30=1,P30,P30+Q30)))) -> 12 | J31: =IF(E31="","",IF(F31="","",IF(H31=1,I31,-I31))) -> 12 | K31: =IF(E31="","",IF(F31="",K30,J31+K30)) -> -6 | L31: =IF(E31="","",IF(K31>L30,K31,L30)) -> 15 | M31: =IF(E30="","",IF(OR(AND($A$6="Yes",$L31>$L30),AND($A$8="Yes",$P30+$Q30>=$B$4),AND($R30<=2,$H31=-1)),1,0)) -> 0 | P31: =IF(E31="","",S31) -> 6 | Q31: =IF(E31="","",MAX(S31:DN31)) -> 12 | R31: =IF(E31="","",COUNTIF(S31:DN31,">0")) -> 3 | S31: =IF(E30="","",IF($F31="",S30,IF($M31=1,LOOKUP(S$9,$A$12:$A$111,$B$12:$B$111),IF(AND($H31=-1,T$9=$R30),"",IF($H31=-1,T30,IF($H31=1,S30)))))) -> 6 | T31: =IF($E30="","",IF($F31="",T30,IF(AND($M31=1,T$9>$B$9),"",IF(AND($M31=1,T$9<=$B$9),LOOKUP(T$9,$A$12:$A$111,$B$12:$B$111),IF(AND($H31=-1,U$9=$R30),"",IF($H31=-1,U30,IF(AND($H31=1,S$9=$R30),$J31,IF($H31=1,T30,"")))))))) -> 6 | U31: =IF($E30="","",IF($F31="",U30,IF(AND($M31=1,U$9>$B$9),"",IF(AND($M31=1,U$9<=$B$9),LOOKUP(U$9,$A$12:$A$111,$B$12:$B$111),IF(AND($H31=-1,V$9=$R30),"",IF($H31=-1,V30,IF(AND($H31=1,T$9=$R30),$J31,IF($H31=1,U30,"")))))))) -> 12 | V31: =IF($E30="","",IF($F31="",V30,IF(AND($M31=1,V$9>$B$9),"",IF(AND($M31=1,V$9<=$B$9),LOOKUP(V$9,$A$12:$A$111,$B$12:$B$111),IF(AND($H31=-1,W$9=$R30),"",IF($H31=-1,W30,IF(AND($H31=1,U$9=$R30),$J31,IF($H31=1,V30,"")))))))) | W31: =IF($E30="","",IF($F31="",W30,IF(AND($M31=1,W$9>$B$9),"",IF(AND($M31=1,W$9<=$B$9),LOOKUP(W$9,$A$12:$A$111,$B$12:$B$111),IF(AND($H31=-1,X$9=$R30),"",IF($H31=-1,X30,IF(AND($H31=1,V$9=$R30),$J31,IF($H31=1,W30,"")))))))) | X31: =IF($E30="","",IF($F31="",X30,IF(AND($M31=1,X$9>$B$9),"",IF(AND($M31=1,X$9<=$B$9),LOOKUP(X$9,$A$12:$A$111,$B$12:$B$111),IF(AND($H31=-1,Y$9=$R30),"",IF($H31=-1,Y30,IF(AND($H31=1,W$9=$R30),$J31,IF($H31=1,X30,"")))))))) | Y31: =IF($E30="","",IF($F31="",Y30,IF(AND($M31=1,Y$9>$B$9),"",IF(AND($M31=1,Y$9<=$B$9),LOOKUP(Y$9,$A$12:$A$111,$B$12:$B$111),IF(AND($H31=-1,Z$9=$R30),"",IF($H31=-1,Z30,IF(AND($H31=1,X$9=$R30),$J31,IF($H31=1,Y30,"")))))))) | Z31: =IF($E30="","",IF($F31="",Z30,IF(AND($M31=1,Z$9>$B$9),"",IF(AND($M31=1,Z$9<=$B$9),LOOKUP(Z$9,$A$12:$A$111,$B$12:$B$111),IF(AND($H31=-1,AA$9=$R30),"",IF($H31=-1,AA30,IF(AND($H31=1,Y$9=$R30),$J31,IF($H31=1,Z30,"")))))))) | AA31: =IF($E30="","",IF($F31="",AA30,IF(AND($M31=1,AA$9>$B$9),"",IF(AND($M31=1,AA$9<=$B$9),LOOKUP(AA$9,$A$12:$A$111,$B$12:$B$111),IF(AND($H31=-1,AB$9=$R30),"",IF($H31=-1,AB30,IF(AND($H31=1,Z$9=$R30),$J31,IF($H31=1,AA30,"")))))))) | ... BP31: =IF($E30="","",IF($F31="",BP30,IF(AND($M31=1,BP$9>$B$9),"",IF(AND($M31=1,BP$9<=$B$9),LOOKUP(BP$9,$A$12:$A$111,$B$12:$B$111),IF(AND($H31=-1,BQ$9=$R30),"",IF($H31=-1,BQ30,IF(AND($H31=1,BO$9=$R30),$J31,IF($H31=1,BP30,"")))))))) -> 0
D32: 22 | E32: =RANDBETWEEN(0,36) -> 21 | F32: =IF(E31="","",IF(AND(B$3="Last",G31="Zero"),F31,IF(B$3="Last",G31,IF(AND(B$3="2nd last",G30="Zero"),F31,IF(B$3="2nd last",G30,IF(AND(B$3="Opposite",G31="Zero"),F31,IF(AND(B$3="Opposite",G31="Red"),"Black",IF(AND(B$3="Opposite",G31="Black"),"Red",IF(AND(B$3="Opposite",G31="Odd"),"Even",IF(AND(B$3="Opposite",G31="Even"),"Odd",IF(AND(B$3="Opposite",G31="High"),"Low",IF(AND(B$3="Opposite",G31="Low"),"High",IF(COUNTIF(Refs!$E$5:$I$6,B$3)=1,RevLab!B$3,""))))))))))))) -> Black | G32: =IF(E32="","",IF(B$2="Red/Black",LOOKUP(E32,Refs!D:D,Refs!F:F),IF(B$2="High/Low",LOOKUP(E32,Refs!D:D,Refs!H:H),IF(B$2="Odd/Even",LOOKUP(E32,Refs!D:D,Refs!J:J),"")))) -> Red | H32: =IF(E32="","",IF(F32="","",IF(G32=F32,1,-1))) -> -1 | I32: =IF(E31="","",IF(F32="","",IF(AND(R31>1,P31+Q31>=$B$4),$B$4,IF(R31=1,P31,P31+Q31)))) -> 18 | J32: =IF(E32="","",IF(F32="","",IF(H32=1,I32,-I32))) -> -18 | K32: =IF(E32="","",IF(F32="",K31,J32+K31)) -> -24 | L32: =IF(E32="","",IF(K32>L31,K32,L31)) -> 15 | M32: =IF(E31="","",IF(OR(AND($A$6="Yes",$L32>$L31),AND($A$8="Yes",$P31+$Q31>=$B$4),AND($R31<=2,$H32=-1)),1,0)) -> 0 | P32: =IF(E32="","",S32) -> 6 | Q32: =IF(E32="","",MAX(S32:DN32)) -> 6 | R32: =IF(E32="","",COUNTIF(S32:DN32,">0")) -> 1 | S32: =IF(E31="","",IF($F32="",S31,IF($M32=1,LOOKUP(S$9,$A$12:$A$111,$B$12:$B$111),IF(AND($H32=-1,T$9=$R31),"",IF($H32=-1,T31,IF($H32=1,S31)))))) -> 6 | T32: =IF($E31="","",IF($F32="",T31,IF(AND($M32=1,T$9>$B$9),"",IF(AND($M32=1,T$9<=$B$9),LOOKUP(T$9,$A$12:$A$111,$B$12:$B$111),IF(AND($H32=-1,U$9=$R31),"",IF($H32=-1,U31,IF(AND($H32=1,S$9=$R31),$J32,IF($H32=1,T31,"")))))))) | U32: =IF($E31="","",IF($F32="",U31,IF(AND($M32=1,U$9>$B$9),"",IF(AND($M32=1,U$9<=$B$9),LOOKUP(U$9,$A$12:$A$111,$B$12:$B$111),IF(AND($H32=-1,V$9=$R31),"",IF($H32=-1,V31,IF(AND($H32=1,T$9=$R31),$J32,IF($H32=1,U31,"")))))))) | V32: =IF($E31="","",IF($F32="",V31,IF(AND($M32=1,V$9>$B$9),"",IF(AND($M32=1,V$9<=$B$9),LOOKUP(V$9,$A$12:$A$111,$B$12:$B$111),IF(AND($H32=-1,W$9=$R31),"",IF($H32=-1,W31,IF(AND($H32=1,U$9=$R31),$J32,IF($H32=1,V31,"")))))))) | W32: =IF($E31="","",IF($F32="",W31,IF(AND($M32=1,W$9>$B$9),"",IF(AND($M32=1,W$9<=$B$9),LOOKUP(W$9,$A$12:$A$111,$B$12:$B$111),IF(AND($H32=-1,X$9=$R31),"",IF($H32=-1,X31,IF(AND($H32=1,V$9=$R31),$J32,IF($H32=1,W31,"")))))))) | X32: =IF($E31="","",IF($F32="",X31,IF(AND($M32=1,X$9>$B$9),"",IF(AND($M32=1,X$9<=$B$9),LOOKUP(X$9,$A$12:$A$111,$B$12:$B$111),IF(AND($H32=-1,Y$9=$R31),"",IF($H32=-1,Y31,IF(AND($H32=1,W$9=$R31),$J32,IF($H32=1,X31,"")))))))) | Y32: =IF($E31="","",IF($F32="",Y31,IF(AND($M32=1,Y$9>$B$9),"",IF(AND($M32=1,Y$9<=$B$9),LOOKUP(Y$9,$A$12:$A$111,$B$12:$B$111),IF(AND($H32=-1,Z$9=$R31),"",IF($H32=-1,Z31,IF(AND($H32=1,X$9=$R31),$J32,IF($H32=1,Y31,"")))))))) | Z32: =IF($E31="","",IF($F32="",Z31,IF(AND($M32=1,Z$9>$B$9),"",IF(AND($M32=1,Z$9<=$B$9),LOOKUP(Z$9,$A$12:$A$111,$B$12:$B$111),IF(AND($H32=-1,AA$9=$R31),"",IF($H32=-1,AA31,IF(AND($H32=1,Y$9=$R31),$J32,IF($H32=1,Z31,"")))))))) | AA32: =IF($E31="","",IF($F32="",AA31,IF(AND($M32=1,AA$9>$B$9),"",IF(AND($M32=1,AA$9<=$B$9),LOOKUP(AA$9,$A$12:$A$111,$B$12:$B$111),IF(AND($H32=-1,AB$9=$R31),"",IF($H32=-1,AB31,IF(AND($H32=1,Z$9=$R31),$J32,IF($H32=1,AA31,"")))))))) | ... BP32: =IF($E31="","",IF($F32="",BP31,IF(AND($M32=1,BP$9>$B$9),"",IF(AND($M32=1,BP$9<=$B$9),LOOKUP(BP$9,$A$12:$A$111,$B$12:$B$111),IF(AND($H32=-1,BQ$9=$R31),"",IF($H32=-1,BQ31,IF(AND($H32=1,BO$9=$R31),$J32,IF($H32=1,BP31,"")))))))) -> 0
D33: 23 | E33: =RANDBETWEEN(0,36) -> 20 | F33: =IF(E32="","",IF(AND(B$3="Last",G32="Zero"),F32,IF(B$3="Last",G32,IF(AND(B$3="2nd last",G31="Zero"),F32,IF(B$3="2nd last",G31,IF(AND(B$3="Opposite",G32="Zero"),F32,IF(AND(B$3="Opposite",G32="Red"),"Black",IF(AND(B$3="Opposite",G32="Black"),"Red",IF(AND(B$3="Opposite",G32="Odd"),"Even",IF(AND(B$3="Opposite",G32="Even"),"Odd",IF(AND(B$3="Opposite",G32="High"),"Low",IF(AND(B$3="Opposite",G32="Low"),"High",IF(COUNTIF(Refs!$E$5:$I$6,B$3)=1,RevLab!B$3,""))))))))))))) -> Black | G33: =IF(E33="","",IF(B$2="Red/Black",LOOKUP(E33,Refs!D:D,Refs!F:F),IF(B$2="High/Low",LOOKUP(E33,Refs!D:D,Refs!H:H),IF(B$2="Odd/Even",LOOKUP(E33,Refs!D:D,Refs!J:J),"")))) -> Black | H33: =IF(E33="","",IF(F33="","",IF(G33=F33,1,-1))) -> 1 | I33: =IF(E32="","",IF(F33="","",IF(AND(R32>1,P32+Q32>=$B$4),$B$4,IF(R32=1,P32,P32+Q32)))) -> 6 | J33: =IF(E33="","",IF(F33="","",IF(H33=1,I33,-I33))) -> 6 | K33: =IF(E33="","",IF(F33="",K32,J33+K32)) -> -18 | L33: =IF(E33="","",IF(K33>L32,K33,L32)) -> 15 | M33: =IF(E32="","",IF(OR(AND($A$6="Yes",$L33>$L32),AND($A$8="Yes",$P32+$Q32>=$B$4),AND($R32<=2,$H33=-1)),1,0)) -> 0 | P33: =IF(E33="","",S33) -> 6 | Q33: =IF(E33="","",MAX(S33:DN33)) -> 6 | R33: =IF(E33="","",COUNTIF(S33:DN33,">0")) -> 2 | S33: =IF(E32="","",IF($F33="",S32,IF($M33=1,LOOKUP(S$9,$A$12:$A$111,$B$12:$B$111),IF(AND($H33=-1,T$9=$R32),"",IF($H33=-1,T32,IF($H33=1,S32)))))) -> 6 | T33: =IF($E32="","",IF($F33="",T32,IF(AND($M33=1,T$9>$B$9),"",IF(AND($M33=1,T$9<=$B$9),LOOKUP(T$9,$A$12:$A$111,$B$12:$B$111),IF(AND($H33=-1,U$9=$R32),"",IF($H33=-1,U32,IF(AND($H33=1,S$9=$R32),$J33,IF($H33=1,T32,"")))))))) -> 6 | U33: =IF($E32="","",IF($F33="",U32,IF(AND($M33=1,U$9>$B$9),"",IF(AND($M33=1,U$9<=$B$9),LOOKUP(U$9,$A$12:$A$111,$B$12:$B$111),IF(AND($H33=-1,V$9=$R32),"",IF($H33=-1,V32,IF(AND($H33=1,T$9=$R32),$J33,IF($H33=1,U32,"")))))))) | V33: =IF($E32="","",IF($F33="",V32,IF(AND($M33=1,V$9>$B$9),"",IF(AND($M33=1,V$9<=$B$9),LOOKUP(V$9,$A$12:$A$111,$B$12:$B$111),IF(AND($H33=-1,W$9=$R32),"",IF($H33=-1,W32,IF(AND($H33=1,U$9=$R32),$J33,IF($H33=1,V32,"")))))))) | W33: =IF($E32="","",IF($F33="",W32,IF(AND($M33=1,W$9>$B$9),"",IF(AND($M33=1,W$9<=$B$9),LOOKUP(W$9,$A$12:$A$111,$B$12:$B$111),IF(AND($H33=-1,X$9=$R32),"",IF($H33=-1,X32,IF(AND($H33=1,V$9=$R32),$J33,IF($H33=1,W32,"")))))))) | X33: =IF($E32="","",IF($F33="",X32,IF(AND($M33=1,X$9>$B$9),"",IF(AND($M33=1,X$9<=$B$9),LOOKUP(X$9,$A$12:$A$111,$B$12:$B$111),IF(AND($H33=-1,Y$9=$R32),"",IF($H33=-1,Y32,IF(AND($H33=1,W$9=$R32),$J33,IF($H33=1,X32,"")))))))) | Y33: =IF($E32="","",IF($F33="",Y32,IF(AND($M33=1,Y$9>$B$9),"",IF(AND($M33=1,Y$9<=$B$9),LOOKUP(Y$9,$A$12:$A$111,$B$12:$B$111),IF(AND($H33=-1,Z$9=$R32),"",IF($H33=-1,Z32,IF(AND($H33=1,X$9=$R32),$J33,IF($H33=1,Y32,"")))))))) | Z33: =IF($E32="","",IF($F33="",Z32,IF(AND($M33=1,Z$9>$B$9),"",IF(AND($M33=1,Z$9<=$B$9),LOOKUP(Z$9,$A$12:$A$111,$B$12:$B$111),IF(AND($H33=-1,AA$9=$R32),"",IF($H33=-1,AA32,IF(AND($H33=1,Y$9=$R32),$J33,IF($H33=1,Z32,"")))))))) | AA33: =IF($E32="","",IF($F33="",AA32,IF(AND($M33=1,AA$9>$B$9),"",IF(AND($M33=1,AA$9<=$B$9),LOOKUP(AA$9,$A$12:$A$111,$B$12:$B$111),IF(AND($H33=-1,AB$9=$R32),"",IF($H33=-1,AB32,IF(AND($H33=1,Z$9=$R32),$J33,IF($H33=1,AA32,"")))))))) | ... BP33: =IF($E32="","",IF($F33="",BP32,IF(AND($M33=1,BP$9>$B$9),"",IF(AND($M33=1,BP$9<=$B$9),LOOKUP(BP$9,$A$12:$A$111,$B$12:$B$111),IF(AND($H33=-1,BQ$9=$R32),"",IF($H33=-1,BQ32,IF(AND($H33=1,BO$9=$R32),$J33,IF($H33=1,BP32,"")))))))) -> 0
... D510: 500 | E510: =RANDBETWEEN(0,36) -> 2 | F510: =IF(E509="","",IF(AND(B$3="Last",G509="Zero"),F509,IF(B$3="Last",G509,IF(AND(B$3="2nd last",G508="Zero"),F509,IF(B$3="2nd last",G508,IF(AND(B$3="Opposite",G509="Zero"),F509,IF(AND(B$3="Opposite",G509="Red"),"Black",IF(AND(B$3="Opposite",G509="Black"),"Red",IF(AND(B$3="Opposite",G509="Odd"),"Even",IF(AND(B$3="Opposite",G509="Even"),"Odd",IF(AND(B$3="Opposite",G509="High"),"Low",IF(AND(B$3="Opposite",G509="Low"),"High",IF(COUNTIF(Refs!$E$5:$I$6,B$3)=1,RevLab!B$3,""))))))))))))) -> Black | G510: =IF(E510="","",IF(B$2="Red/Black",LOOKUP(E510,Refs!D:D,Refs!F:F),IF(B$2="High/Low",LOOKUP(E510,Refs!D:D,Refs!H:H),IF(B$2="Odd/Even",LOOKUP(E510,Refs!D:D,Refs!J:J),"")))) -> Black | H510: =IF(E510="","",IF(F510="","",IF(G510=F510,1,-1))) -> 1 | I510: =IF(E509="","",IF(F510="","",IF(AND(R509>1,P509+Q509>=$B$4),$B$4,IF(R509=1,P509,P509+Q509)))) -> 7 | J510: =IF(E510="","",IF(F510="","",IF(H510=1,I510,-I510))) -> 7 | K510: =IF(E510="","",IF(F510="",K509,J510+K509)) -> -582 | L510: =IF(E510="","",IF(K510>L509,K510,L509)) -> 103 | M510: =IF(E509="","",IF(OR(AND($A$6="Yes",$L510>$L509),AND($A$8="Yes",$P509+$Q509>=$B$4),AND($R509<=2,$H510=-1)),1,0)) -> 0 | P510: =IF(E510="","",S510) -> 1 | Q510: =IF(E510="","",MAX(S510:DN510)) -> 7 | R510: =IF(E510="","",COUNTIF(S510:DN510,">0")) -> 7 | S510: =IF(E509="","",IF($F510="",S509,IF($M510=1,LOOKUP(S$9,$A$12:$A$111,$B$12:$B$111),IF(AND($H510=-1,T$9=$R509),"",IF($H510=-1,T509,IF($H510=1,S509)))))) -> 1 | T510: =IF($E509="","",IF($F510="",T509,IF(AND($M510=1,T$9>$B$9),"",IF(AND($M510=1,T$9<=$B$9),LOOKUP(T$9,$A$12:$A$111,$B$12:$B$111),IF(AND($H510=-1,U$9=$R509),"",IF($H510=-1,U509,IF(AND($H510=1,S$9=$R509),$J510,IF($H510=1,T509,"")))))))) -> 2 | U510: =IF($E509="","",IF($F510="",U509,IF(AND($M510=1,U$9>$B$9),"",IF(AND($M510=1,U$9<=$B$9),LOOKUP(U$9,$A$12:$A$111,$B$12:$B$111),IF(AND($H510=-1,V$9=$R509),"",IF($H510=-1,V509,IF(AND($H510=1,T$9=$R509),$J510,IF($H510=1,U509,"")))))))) -> 3 | V510: =IF($E509="","",IF($F510="",V509,IF(AND($M510=1,V$9>$B$9),"",IF(AND($M510=1,V$9<=$B$9),LOOKUP(V$9,$A$12:$A$111,$B$12:$B$111),IF(AND($H510=-1,W$9=$R509),"",IF($H510=-1,W509,IF(AND($H510=1,U$9=$R509),$J510,IF($H510=1,V509,"")))))))) -> 4 | W510: =IF($E509="","",IF($F510="",W509,IF(AND($M510=1,W$9>$B$9),"",IF(AND($M510=1,W$9<=$B$9),LOOKUP(W$9,$A$12:$A$111,$B$12:$B$111),IF(AND($H510=-1,X$9=$R509),"",IF($H510=-1,X509,IF(AND($H510=1,V$9=$R509),$J510,IF($H510=1,W509,"")))))))) -> 5 | X510: =IF($E509="","",IF($F510="",X509,IF(AND($M510=1,X$9>$B$9),"",IF(AND($M510=1,X$9<=$B$9),LOOKUP(X$9,$A$12:$A$111,$B$12:$B$111),IF(AND($H510=-1,Y$9=$R509),"",IF($H510=-1,Y509,IF(AND($H510=1,W$9=$R509),$J510,IF($H510=1,X509,"")))))))) -> 6 | Y510: =IF($E509="","",IF($F510="",Y509,IF(AND($M510=1,Y$9>$B$9),"",IF(AND($M510=1,Y$9<=$B$9),LOOKUP(Y$9,$A$12:$A$111,$B$12:$B$111),IF(AND($H510=-1,Z$9=$R509),"",IF($H510=-1,Z509,IF(AND($H510=1,X$9=$R509),$J510,IF($H510=1,Y509,"")))))))) -> 7 | Z510: =IF($E509="","",IF($F510="",Z509,IF(AND($M510=1,Z$9>$B$9),"",IF(AND($M510=1,Z$9<=$B$9),LOOKUP(Z$9,$A$12:$A$111,$B$12:$B$111),IF(AND($H510=-1,AA$9=$R509),"",IF($H510=-1,AA509,IF(AND($H510=1,Y$9=$R509),$J510,IF($H510=1,Z509,"")))))))) | AA510: =IF($E509="","",IF($F510="",AA509,IF(AND($M510=1,AA$9>$B$9),"",IF(AND($M510=1,AA$9<=$B$9),LOOKUP(AA$9,$A$12:$A$111,$B$12:$B$111),IF(AND($H510=-1,AB$9=$R509),"",IF($H510=-1,AB509,IF(AND($H510=1,Z$9=$R509),$J510,IF($H510=1,AA509,"")))))))) | ... BP510: =IF($E509="","",IF($F510="",BP509,IF(AND($M510=1,BP$9>$B$9),"",IF(AND($M510=1,BP$9<=$B$9),LOOKUP(BP$9,$A$12:$A$111,$B$12:$B$111),IF(AND($H510=-1,BQ$9=$R509),"",IF($H510=-1,BQ509,IF(AND($H510=1,BO$9=$R509),$J510,IF($H510=1,BP509,""))))))))

Sheet Refs
B2: High/Low | C2: Yes | D2: 1
B3: Odd/Even | C3: No | D3: 2
B4: Red/Black | D4: 3
E5: Red | G5: High | I5: Odd
B6: =IF(RevLab!B$2="Red/Black","Red",IF(RevLab!B$2="Odd/Even","Odd",IF(RevLab!B$2="High/Low","High",""))) -> Red | C6: 1 | E6: Black | G6: Low | I6: Even
B7: =IF(RevLab!B$2="Red/Black","Black",IF(RevLab!B$2="Odd/Even","Even",IF(RevLab!B$2="High/Low","Low",""))) -> Black | C7: 2 | D7: Nr | E7: R/B | G7: H/L | I7: Odd/Even
B8: Last | C8: 3 | D8: 0 | E8: 0 | F8: Zero | G8: 0 | H8: Zero | I8: 0 | J8: Zero
B9: Opposite | C9: 4 | D9: 1 | E9: 1 | F9: Red | G9: 1 | H9: Low | I9: 1 | J9: Odd
B10: 2nd last | C10: 5 | D10: 2 | E10: 2 | F10: Black | G10: =G9 -> 1 | H10: Low | I10: 2 | J10: Even
D11: 3 | E11: 1 | F11: Red | G11: =G10 -> 1 | H11: Low | I11: 1 | J11: Odd
D12: 4 | E12: 2 | F12: Black | G12: =G11 -> 1 | H12: Low | I12: 2 | J12: Even
D13: 5 | E13: 1 | F13: Red | G13: =G12 -> 1 | H13: Low | I13: 1 | J13: Odd
D14: 6 | E14: 2 | F14: Black | G14: =G13 -> 1 | H14: Low | I14: 2 | J14: Even
D15: 7 | E15: 1 | F15: Red | G15: =G14 -> 1 | H15: Low | I15: 1 | J15: Odd
D16: 8 | E16: 2 | F16: Black | G16: =G15 -> 1 | H16: Low | I16: 2 | J16: Even
D17: 9 | E17: 1 | F17: Red | G17: =G16 -> 1 | H17: Low | I17: 1 | J17: Odd
D18: 10 | E18: 2 | F18: Black | G18: =G17 -> 1 | H18: Low | I18: 2 | J18: Even
D19: 11 | E19: 2 | F19: Black | G19: =G18 -> 1 | H19: Low | I19: 1 | J19: Odd
D20: 12 | E20: 1 | F20: Red | G20: =G19 -> 1 | H20: Low | I20: 2 | J20: Even
D21: 13 | E21: 2 | F21: Black | G21: =G20 -> 1 | H21: Low | I21: 1 | J21: Odd
D22: 14 | E22: 1 | F22: Red | G22: =G21 -> 1 | H22: Low | I22: 2 | J22: Even
... D26: 18 | E26: 1 | F26: Red | G26: =G25 -> 1 | H26: Low | I26: 2 | J26: Even
D27: 19 | E27: 1 | F27: Red | G27: 2 | H27: High | I27: 1 | J27: Odd
D28: 20 | E28: 2 | F28: Black | G28: =G27 -> 2 | H28: High | I28: 2 | J28: Even
D29: 21 | E29: 1 | F29: Red | G29: =G28 -> 2 | H29: High | I29: 1 | J29: Odd
D30: 22 | E30: 2 | F30: Black | G30: =G29 -> 2 | H30: High | I30: 2 | J30: Even
D31: 23 | E31: 1 | F31: Red | G31: =G30 -> 2 | H31: High | I31: 1 | J31: Odd
D32: 24 | E32: 2 | F32: Black | G32: =G31 -> 2 | H32: High | I32: 2 | J32: Even
D33: 25 | E33: 1 | F33: Red | G33: =G32 -> 2 | H33: High | I33: 1 | J33: Odd
D34: 26 | E34: 2 | F34: Black | G34: =G33 -> 2 | H34: High | I34: 2 | J34: Even
D35: 27 | E35: 1 | F35: Red | G35: =G34 -> 2 | H35: High | I35: 1 | J35: Odd
D36: 28 | E36: 2 | F36: Black | G36: =G35 -> 2 | H36: High | I36: 2 | J36: Even
D37: 29 | E37: 2 | F37: Black | G37: =G36 -> 2 | H37: High | I37: 1 | J37: Odd
D38: 30 | E38: 1 | F38: Red | G38: =G37 -> 2 | H38: High | I38: 2 | J38: Even
D39: 31 | E39: 2 | F39: Black | G39: =G38 -> 2 | H39: High | I39: 1 | J39: Odd
... D44: 36 | E44: 1 | F44: Red | G44: =G43 -> 2 | H44: High | I44: 2 | J44: Even
