Workbook

Sheet TESTING
A1: NUMBER | B1: PAIR | C1: SECTION | D1: SPIN COUNT | E1: BET SECTION | F1: MATCHING NUMBERS TRACKER | G1: WIN/LOSS | H1: BET NUMBER COUNT | I1: PROFIT | J1: BANK
A2: 18 | B2: =IF(A2=36,0,A2+1) -> 19 | C2: =IF(A2=0,1,VLOOKUP(A2,'BASIC INFO'!A:H,8,0)) -> 2 | D2: 1
A3: 36 | B3: =IF(A3=36,0,A3+1) -> 0 | C3: =IF(A3=0,1,VLOOKUP(A3,'BASIC INFO'!A:H,8,0)) -> 3 | D3: =D2+1 -> 2 | E3: =IF(D3=1,"",OFFSET(C3,-D3+1,0)) -> 2 | F3: =IF(D3=1,"",COUNTIF(OFFSET(A2:B2,0,0,-D3+1),A3)) -> 0 | G3: =IF(D3=1,"",IF(AND(E3=C3,F3=1),1,IF(AND(E3=C3,F3=0),0,""))) | Q3: MIN | R3: =MIN(J2:J400) -> -120 | T3: MAX | U3: =MAX(J2:J400) -> 432
A4: 22 | B4: =IF(A4=36,0,A4+1) -> 23 | C4: =IF(A4=0,1,VLOOKUP(A4,'BASIC INFO'!A:H,8,0)) -> 2 | D4: =D3+1 -> 3 | E4: =IF(D4=1,"",OFFSET(C4,-D4+1,0)) -> 2 | F4: =IF(D4=1,"",COUNTIF(OFFSET(A3:B3,0,0,-D4+1),A4)) -> 0 | G4: =IF(D4=1,"",IF(AND(E4=C4,F4=1),1,IF(AND(E4=C4,F4=0),0,""))) -> 0 | H4: =IF(G4=0,H3+2,IF(G3=1,0,H3)) -> 2 | I4: =IF(G4=1,36-H4,-H4) -> -2 | J4: =J3+I4 -> -2
A5: 11 | B5: =IF(A5=36,0,A5+1) -> 12 | C5: =IF(A5=0,1,VLOOKUP(A5,'BASIC INFO'!A:H,8,0)) -> 1 | D5: =D4+1 -> 4 | E5: =IF(D5=1,"",OFFSET(C5,-D5+1,0)) -> 2 | F5: =IF(D5=1,"",COUNTIF(OFFSET(A4:B4,0,0,-D5+1),A5)) -> 0 | G5: =IF(D5=1,"",IF(AND(E5=C5,F5=1),1,IF(AND(E5=C5,F5=0),0,""))) | H5: =IF(G5=0,H4+2,IF(G4=1,0,H4)) -> 2 | I5: =IF(G5=1,36-H5,-H5) -> -2 | J5: =J4+I5 -> -4
A6: 4 | B6: =IF(A6=36,0,A6+1) -> 5 | C6: =IF(A6=0,1,VLOOKUP(A6,'BASIC INFO'!A:H,8,0)) -> 1 | D6: =D5+1 -> 5 | E6: =IF(D6=1,"",OFFSET(C6,-D6+1,0)) -> 2 | F6: =IF(D6=1,"",COUNTIF(OFFSET(A5:B5,0,0,-D6+1),A6)) -> 0 | G6: =IF(D6=1,"",IF(AND(E6=C6,F6=1),1,IF(AND(E6=C6,F6=0),0,""))) | H6: =IF(G6=0,H5+2,IF(G5=1,0,H5)) -> 2 | I6: =IF(G6=1,36-H6,-H6) -> -2 | J6: =J5+I6 -> -6
A7: 1 | B7: =IF(A7=36,0,A7+1) -> 2 | C7: =IF(A7=0,1,VLOOKUP(A7,'BASIC INFO'!A:H,8,0)) -> 1 | D7: =D6+1 -> 6 | E7: =IF(D7=1,"",OFFSET(C7,-D7+1,0)) -> 2 | F7: =IF(D7=1,"",COUNTIF(OFFSET(A6:B6,0,0,-D7+1),A7)) -> 0 | G7: =IF(D7=1,"",IF(AND(E7=C7,F7=1),1,IF(AND(E7=C7,F7=0),0,""))) | H7: =IF(G7=0,H6+2,IF(G6=1,0,H6)) -> 2 | I7: =IF(G7=1,36-H7,-H7) -> -2 | J7: =J6+I7 -> -8
A8: 5 | B8: =IF(A8=36,0,A8+1) -> 6 | C8: =IF(A8=0,1,VLOOKUP(A8,'BASIC INFO'!A:H,8,0)) -> 1 | D8: =D7+1 -> 7 | E8: =IF(D8=1,"",OFFSET(C8,-D8+1,0)) -> 2 | F8: =IF(D8=1,"",COUNTIF(OFFSET(A7:B7,0,0,-D8+1),A8)) -> 1 | G8: =IF(D8=1,"",IF(AND(E8=C8,F8=1),1,IF(AND(E8=C8,F8=0),0,""))) | H8: =IF(G8=0,H7+2,IF(G7=1,0,H7)) -> 2 | I8: =IF(G8=1,36-H8,-H8) -> -2 | J8: =J7+I8 -> -10
A9: 32 | B9: =IF(A9=36,0,A9+1) -> 33 | C9: =IF(A9=0,1,VLOOKUP(A9,'BASIC INFO'!A:H,8,0)) -> 3 | D9: =IF(G8=1,1,D8+1) -> 8 | E9: =IF(D9=1,"",OFFSET(C9,-D9+1,0)) -> 2 | F9: =IF(D9=1,"",COUNTIF(OFFSET(A8:B8,0,0,-D9+1),A9)) -> 0 | G9: =IF(D9=1,"",IF(AND(E9=C9,F9=1),1,IF(AND(E9=C9,F9=0),0,""))) | H9: =IF(G9=0,H8+2,IF(G8=1,0,H8)) -> 2 | I9: =IF(G9=1,36-H9,-H9) -> -2 | J9: =J8+I9 -> -12
A10: 14 | B10: =IF(A10=36,0,A10+1) -> 15 | C10: =IF(A10=0,1,VLOOKUP(A10,'BASIC INFO'!A:H,8,0)) -> 2 | D10: =IF(G9=1,1,D9+1) -> 9 | E10: =IF(D10=1,"",OFFSET(C10,-D10+1,0)) -> 2 | F10: =IF(D10=1,"",COUNTIF(OFFSET(A9:B9,0,0,-D10+1),A10)) -> 0 | G10: =IF(D10=1,"",IF(AND(E10=C10,F10=1),1,IF(AND(E10=C10,F10=0),0,""))) -> 0 | H10: =IF(G10=0,H9+2,IF(G9=1,0,H9)) -> 4 | I10: =IF(G10=1,36-H10,-H10) -> -4 | J10: =J9+I10 -> -16
A11: 9 | B11: =IF(A11=36,0,A11+1) -> 10 | C11: =IF(A11=0,1,VLOOKUP(A11,'BASIC INFO'!A:H,8,0)) -> 1 | D11: =IF(G10=1,1,D10+1) -> 10 | E11: =IF(D11=1,"",OFFSET(C11,-D11+1,0)) -> 2 | F11: =IF(D11=1,"",COUNTIF(OFFSET(A10:B10,0,0,-D11+1),A11)) -> 0 | G11: =IF(D11=1,"",IF(AND(E11=C11,F11=1),1,IF(AND(E11=C11,F11=0),0,""))) | H11: =IF(G11=0,H10+2,IF(G10=1,0,H10)) -> 4 | I11: =IF(G11=1,36-H11,-H11) -> -4 | J11: =J10+I11 -> -20
A12: 8 | B12: =IF(A12=36,0,A12+1) -> 9 | C12: =IF(A12=0,1,VLOOKUP(A12,'BASIC INFO'!A:H,8,0)) -> 1 | D12: =IF(G11=1,1,D11+1) -> 11 | E12: =IF(D12=1,"",OFFSET(C12,-D12+1,0)) -> 2 | F12: =IF(D12=1,"",COUNTIF(OFFSET(A11:B11,0,0,-D12+1),A12)) -> 0 | G12: =IF(D12=1,"",IF(AND(E12=C12,F12=1),1,IF(AND(E12=C12,F12=0),0,""))) | H12: =IF(G12=0,H11+2,IF(G11=1,0,H11)) -> 4 | I12: =IF(G12=1,36-H12,-H12) -> -4 | J12: =J11+I12 -> -24
A13: 16 | B13: =IF(A13=36,0,A13+1) -> 17 | C13: =IF(A13=0,1,VLOOKUP(A13,'BASIC INFO'!A:H,8,0)) -> 2 | D13: =IF(G12=1,1,D12+1) -> 12 | E13: =IF(D13=1,"",OFFSET(C13,-D13+1,0)) -> 2 | F13: =IF(D13=1,"",COUNTIF(OFFSET(A12:B12,0,0,-D13+1),A13)) -> 0 | G13: =IF(D13=1,"",IF(AND(E13=C13,F13=1),1,IF(AND(E13=C13,F13=0),0,""))) -> 0 | H13: =IF(G13=0,H12+2,IF(G12=1,0,H12)) -> 6 | I13: =IF(G13=1,36-H13,-H13) -> -6 | J13: =J12+I13 -> -30
A14: 32 | B14: =IF(A14=36,0,A14+1) -> 33 | C14: =IF(A14=0,1,VLOOKUP(A14,'BASIC INFO'!A:H,8,0)) -> 3 | D14: =IF(G13=1,1,D13+1) -> 13 | E14: =IF(D14=1,"",OFFSET(C14,-D14+1,0)) -> 2 | F14: =IF(D14=1,"",COUNTIF(OFFSET(A13:B13,0,0,-D14+1),A14)) -> 1 | G14: =IF(D14=1,"",IF(AND(E14=C14,F14=1),1,IF(AND(E14=C14,F14=0),0,""))) | H14: =IF(G14=0,H13+2,IF(G13=1,0,H13)) -> 6 | I14: =IF(G14=1,36-H14,-H14) -> -6 | J14: =J13+I14 -> -36
A15: 27 | B15: =IF(A15=36,0,A15+1) -> 28 | C15: =IF(A15=0,1,VLOOKUP(A15,'BASIC INFO'!A:H,8,0)) -> 3 | D15: =IF(G14=1,1,D14+1) -> 14 | E15: =IF(D15=1,"",OFFSET(C15,-D15+1,0)) -> 2 | F15: =IF(D15=1,"",COUNTIF(OFFSET(A14:B14,0,0,-D15+1),A15)) -> 0 | G15: =IF(D15=1,"",IF(AND(E15=C15,F15=1),1,IF(AND(E15=C15,F15=0),0,""))) | H15: =IF(G15=0,H14+2,IF(G14=1,0,H14)) -> 6 | I15: =IF(G15=1,36-H15,-H15) -> -6 | J15: =J14+I15 -> -42
A16: 5 | B16: =IF(A16=36,0,A16+1) -> 6 | C16: =IF(A16=0,1,VLOOKUP(A16,'BASIC INFO'!A:H,8,0)) -> 1 | D16: =IF(G15=1,1,D15+1) -> 15 | E16: =IF(D16=1,"",OFFSET(C16,-D16+1,0)) -> 2 | F16: =IF(D16=1,"",COUNTIF(OFFSET(A15:B15,0,0,-D16+1),A16)) -> 2 | G16: =IF(D16=1,"",IF(AND(E16=C16,F16=1),1,IF(AND(E16=C16,F16=0),0,""))) | H16: =IF(G16=0,H15+2,IF(G15=1,0,H15)) -> 6 | I16: =IF(G16=1,36-H16,-H16) -> -6 | J16: =J15+I16 -> -48
A17: 29 | B17: =IF(A17=36,0,A17+1) -> 30 | C17: =IF(A17=0,1,VLOOKUP(A17,'BASIC INFO'!A:H,8,0)) -> 3 | D17: =IF(G16=1,1,D16+1) -> 16 | E17: =IF(D17=1,"",OFFSET(C17,-D17+1,0)) -> 2 | F17: =IF(D17=1,"",COUNTIF(OFFSET(A16:B16,0,0,-D17+1),A17)) -> 0 | G17: =IF(D17=1,"",IF(AND(E17=C17,F17=1),1,IF(AND(E17=C17,F17=0),0,""))) | H17: =IF(G17=0,H16+2,IF(G16=1,0,H16)) -> 6 | I17: =IF(G17=1,36-H17,-H17) -> -6 | J17: =J16+I17 -> -54
A18: 30 | B18: =IF(A18=36,0,A18+1) -> 31 | C18: =IF(A18=0,1,VLOOKUP(A18,'BASIC INFO'!A:H,8,0)) -> 3 | D18: =IF(G17=1,1,D17+1) -> 17 | E18: =IF(D18=1,"",OFFSET(C18,-D18+1,0)) -> 2 | F18: =IF(D18=1,"",COUNTIF(OFFSET(A17:B17,0,0,-D18+1),A18)) -> 1 | G18: =IF(D18=1,"",IF(AND(E18=C18,F18=1),1,IF(AND(E18=C18,F18=0),0,""))) | H18: =IF(G18=0,H17+2,IF(G17=1,0,H17)) -> 6 | I18: =IF(G18=1,36-H18,-H18) -> -6 | J18: =J17+I18 -> -60
A19: 18 | B19: =IF(A19=36,0,A19+1) -> 19 | C19: =IF(A19=0,1,VLOOKUP(A19,'BASIC INFO'!A:H,8,0)) -> 2 | D19: =IF(G18=1,1,D18+1) -> 18 | E19: =IF(D19=1,"",OFFSET(C19,-D19+1,0)) -> 2 | F19: =IF(D19=1,"",COUNTIF(OFFSET(A18:B18,0,0,-D19+1),A19)) -> 1 | G19: =IF(D19=1,"",IF(AND(E19=C19,F19=1),1,IF(AND(E19=C19,F19=0),0,""))) -> 1 | H19: =IF(G19=0,H18+2,IF(G18=1,0,H18)) -> 6 | I19: =IF(G19=1,36-H19,-H19) -> 30 | J19: =J18+I19 -> -30
A20: 3 | B20: =IF(A20=36,0,A20+1) -> 4 | C20: =IF(A20=0,1,VLOOKUP(A20,'BASIC INFO'!A:H,8,0)) -> 1 | D20: =IF(G19=1,1,D19+1) -> 1 | E20: =IF(D20=1,"",OFFSET(C20,-D20+1,0)) | F20: =IF(D20=1,"",COUNTIF(OFFSET(A19:B19,0,0,-D20+1),A20)) | G20: =IF(D20=1,"",IF(AND(E20=C20,F20=1),1,IF(AND(E20=C20,F20=0),0,""))) | H20: =IF(G20=0,H19+2,IF(G19=1,0,H19)) -> 0 | I20: =IF(G20=1,36-H20,-H20) -> 0 | J20: =J19+I20 -> -30 | Q20: MIN | R20: =MIN(J:J) -> -120 | T20: MAX | U20: =MAX(J:J) -> 3838
A21: 29 | B21: =IF(A21=36,0,A21+1) -> 30 | C21: =IF(A21=0,1,VLOOKUP(A21,'BASIC INFO'!A:H,8,0)) -> 3 | D21: =IF(G20=1,1,D20+1) -> 2 | E21: =IF(D21=1,"",OFFSET(C21,-D21+1,0)) -> 1 | F21: =IF(D21=1,"",COUNTIF(OFFSET(A20:B20,0,0,-D21+1),A21)) -> 0 | G21: =IF(D21=1,"",IF(AND(E21=C21,F21=1),1,IF(AND(E21=C21,F21=0),0,""))) | H21: =IF(G21=0,H20+2,IF(G20=1,0,H20)) -> 0 | I21: =IF(G21=1,36-H21,-H21) -> 0 | J21: =J20+I21 -> -30
A22: 23 | B22: =IF(A22=36,0,A22+1) -> 24 | C22: =IF(A22=0,1,VLOOKUP(A22,'BASIC INFO'!A:H,8,0)) -> 2 | D22: =IF(G21=1,1,D21+1) -> 3 | E22: =IF(D22=1,"",OFFSET(C22,-D22+1,0)) -> 1 | F22: =IF(D22=1,"",COUNTIF(OFFSET(A21:B21,0,0,-D22+1),A22)) -> 0 | G22: =IF(D22=1,"",IF(AND(E22=C22,F22=1),1,IF(AND(E22=C22,F22=0),0,""))) | H22: =IF(G22=0,H21+2,IF(G21=1,0,H21)) -> 0 | I22: =IF(G22=1,36-H22,-H22) -> 0 | J22: =J21+I22 -> -30
A23: 31 | B23: =IF(A23=36,0,A23+1) -> 32 | C23: =IF(A23=0,1,VLOOKUP(A23,'BASIC INFO'!A:H,8,0)) -> 3 | D23: =IF(G22=1,1,D22+1) -> 4 | E23: =IF(D23=1,"",OFFSET(C23,-D23+1,0)) -> 1 | F23: =IF(D23=1,"",COUNTIF(OFFSET(A22:B22,0,0,-D23+1),A23)) -> 0 | G23: =IF(D23=1,"",IF(AND(E23=C23,F23=1),1,IF(AND(E23=C23,F23=0),0,""))) | H23: =IF(G23=0,H22+2,IF(G22=1,0,H22)) -> 0 | I23: =IF(G23=1,36-H23,-H23) -> 0 | J23: =J22+I23 -> -30
A24: 3 | B24: =IF(A24=36,0,A24+1) -> 4 | C24: =IF(A24=0,1,VLOOKUP(A24,'BASIC INFO'!A:H,8,0)) -> 1 | D24: =IF(G23=1,1,D23+1) -> 5 | E24: =IF(D24=1,"",OFFSET(C24,-D24+1,0)) -> 1 | F24: =IF(D24=1,"",COUNTIF(OFFSET(A23:B23,0,0,-D24+1),A24)) -> 1 | G24: =IF(D24=1,"",IF(AND(E24=C24,F24=1),1,IF(AND(E24=C24,F24=0),0,""))) -> 1 | H24: =IF(G24=0,H23+2,IF(G23=1,0,H23)) -> 0 | I24: =IF(G24=1,36-H24,-H24) -> 36 | J24: =J23+I24 -> 6
A25: 29 | B25: =IF(A25=36,0,A25+1) -> 30 | C25: =IF(A25=0,1,VLOOKUP(A25,'BASIC INFO'!A:H,8,0)) -> 3 | D25: =IF(G24=1,1,D24+1) -> 1 | E25: =IF(D25=1,"",OFFSET(C25,-D25+1,0)) | F25: =IF(D25=1,"",COUNTIF(OFFSET(A24:B24,0,0,-D25+1),A25)) | G25: =IF(D25=1,"",IF(AND(E25=C25,F25=1),1,IF(AND(E25=C25,F25=0),0,""))) | H25: =IF(G25=0,H24+2,IF(G24=1,0,H24)) -> 0 | I25: =IF(G25=1,36-H25,-H25) -> 0 | J25: =J24+I25 -> 6
A26: 13 | B26: =IF(A26=36,0,A26+1) -> 14 | C26: =IF(A26=0,1,VLOOKUP(A26,'BASIC INFO'!A:H,8,0)) -> 2 | D26: =IF(G25=1,1,D25+1) -> 2 | E26: =IF(D26=1,"",OFFSET(C26,-D26+1,0)) -> 3 | F26: =IF(D26=1,"",COUNTIF(OFFSET(A25:B25,0,0,-D26+1),A26)) -> 0 | G26: =IF(D26=1,"",IF(AND(E26=C26,F26=1),1,IF(AND(E26=C26,F26=0),0,""))) | H26: =IF(G26=0,H25+2,IF(G25=1,0,H25)) -> 0 | I26: =IF(G26=1,36-H26,-H26) -> 0 | J26: =J25+I26 -> 6
A27: 8 | B27: =IF(A27=36,0,A27+1) -> 9 | C27: =IF(A27=0,1,VLOOKUP(A27,'BASIC INFO'!A:H,8,0)) -> 1 | D27: =IF(G26=1,1,D26+1) -> 3 | E27: =IF(D27=1,"",OFFSET(C27,-D27+1,0)) -> 3 | F27: =IF(D27=1,"",COUNTIF(OFFSET(A26:B26,0,0,-D27+1),A27)) -> 0 | G27: =IF(D27=1,"",IF(AND(E27=C27,F27=1),1,IF(AND(E27=C27,F27=0),0,""))) | H27: =IF(G27=0,H26+2,IF(G26=1,0,H26)) -> 0 | I27: =IF(G27=1,36-H27,-H27) -> 0 | J27: =J26+I27 -> 6
A28: 23 | B28: =IF(A28=36,0,A28+1) -> 24 | C28: =IF(A28=0,1,VLOOKUP(A28,'BASIC INFO'!A:H,8,0)) -> 2 | D28: =IF(G27=1,1,D27+1) -> 4 | E28: =IF(D28=1,"",OFFSET(C28,-D28+1,0)) -> 3 | F28: =IF(D28=1,"",COUNTIF(OFFSET(A27:B27,0,0,-D28+1),A28)) -> 0 | G28: =IF(D28=1,"",IF(AND(E28=C28,F28=1),1,IF(AND(E28=C28,F28=0),0,""))) | H28: =IF(G28=0,H27+2,IF(G27=1,0,H27)) -> 0 | I28: =IF(G28=1,36-H28,-H28) -> 0 | J28: =J27+I28 -> 6
A29: 20 | B29: =IF(A29=36,0,A29+1) -> 21 | C29: =IF(A29=0,1,VLOOKUP(A29,'BASIC INFO'!A:H,8,0)) -> 2 | D29: =IF(G28=1,1,D28+1) -> 5 | E29: =IF(D29=1,"",OFFSET(C29,-D29+1,0)) -> 3 | F29: =IF(D29=1,"",COUNTIF(OFFSET(A28:B28,0,0,-D29+1),A29)) -> 0 | G29: =IF(D29=1,"",IF(AND(E29=C29,F29=1),1,IF(AND(E29=C29,F29=0),0,""))) | H29: =IF(G29=0,H28+2,IF(G28=1,0,H28)) -> 0 | I29: =IF(G29=1,36-H29,-H29) -> 0 | J29: =J28+I29 -> 6
A30: 26 | B30: =IF(A30=36,0,A30+1) -> 27 | C30: =IF(A30=0,1,VLOOKUP(A30,'BASIC INFO'!A:H,8,0)) -> 3 | D30: =IF(G29=1,1,D29+1) -> 6 | E30: =IF(D30=1,"",OFFSET(C30,-D30+1,0)) -> 3 | F30: =IF(D30=1,"",COUNTIF(OFFSET(A29:B29,0,0,-D30+1),A30)) -> 0 | G30: =IF(D30=1,"",IF(AND(E30=C30,F30=1),1,IF(AND(E30=C30,F30=0),0,""))) -> 0 | H30: =IF(G30=0,H29+2,IF(G29=1,0,H29)) -> 2 | I30: =IF(G30=1,36-H30,-H30) -> -2 | J30: =J29+I30 -> 4
A31: 28 | B31: =IF(A31=36,0,A31+1) -> 29 | C31: =IF(A31=0,1,VLOOKUP(A31,'BASIC INFO'!A:H,8,0)) -> 3 | D31: =IF(G30=1,1,D30+1) -> 7 | E31: =IF(D31=1,"",OFFSET(C31,-D31+1,0)) -> 3 | F31: =IF(D31=1,"",COUNTIF(OFFSET(A30:B30,0,0,-D31+1),A31)) -> 0 | G31: =IF(D31=1,"",IF(AND(E31=C31,F31=1),1,IF(AND(E31=C31,F31=0),0,""))) -> 0 | H31: =IF(G31=0,H30+2,IF(G30=1,0,H30)) -> 4 | I31: =IF(G31=1,36-H31,-H31) -> -4 | J31: =J30+I31 -> 0
A32: 32 | B32: =IF(A32=36,0,A32+1) -> 33 | C32: =IF(A32=0,1,VLOOKUP(A32,'BASIC INFO'!A:H,8,0)) -> 3 | D32: =IF(G31=1,1,D31+1) -> 8 | E32: =IF(D32=1,"",OFFSET(C32,-D32+1,0)) -> 3 | F32: =IF(D32=1,"",COUNTIF(OFFSET(A31:B31,0,0,-D32+1),A32)) -> 0 | G32: =IF(D32=1,"",IF(AND(E32=C32,F32=1),1,IF(AND(E32=C32,F32=0),0,""))) -> 0 | H32: =IF(G32=0,H31+2,IF(G31=1,0,H31)) -> 6 | I32: =IF(G32=1,36-H32,-H32) -> -6 | J32: =J31+I32 -> -6
... A10399: 11 | B10399: =IF(A10399=36,0,A10399+1) -> 12 | C10399: =IF(A10399=0,1,VLOOKUP(A10399,'BASIC INFO'!A:H,8,0)) -> 1 | D10399: =IF(G10398=1,1,D10398+1) -> 1 | E10399: =IF(D10399=1,"",OFFSET(C10399,-D10399+1,0)) | F10399: =IF(D10399=1,"",COUNTIF(OFFSET(A10398:B10398,0,0,-D10399+1),A10399)) | G10399: =IF(D10399=1,"",IF(AND(E10399=C10399,F10399=1),1,IF(AND(E10399=C10399,F10399=0),0,""))) | H10399: =IF(G10399=0,H10398+2,IF(G10398=1,0,H10398)) -> 0 | I10399: =IF(G10399=1,36-H10399,-H10399) -> 0 | J10399: =J10398+I10399 -> 3660

Sheet BASIC INFO
A1: NUMBER | B1: SPLIT | C1: RB | D1: OE | E1: HL | F1: ROW | G1: STREET | H1: SEC | I1: DBL STREET
A2: 0 | B2: 0 | C2: 0 | D2: 0 | E2: 0 | F2: 0 | G2: 0 | H2: 0 | I2: 0
A3: 1 | B3: 2 | C3: R | D3: O | E3: L | F3: 3 | G3: 1 | H3: 1 | I3: 1
A4: 2 | B4: 3 | C4: B | D4: E | E4: L | F4: 2 | G4: 1 | H4: 1 | I4: 1
A5: 3 | B5: 2 | C5: R | D5: O | E5: L | F5: 1 | G5: 1 | H5: 1 | I5: 1
A6: 4 | B6: 5 | C6: B | D6: E | E6: L | F6: 3 | G6: 2 | H6: 1 | I6: 1
A7: 5 | B7: 6 | C7: R | D7: O | E7: L | F7: 2 | G7: 2 | H7: 1 | I7: 1
A8: 6 | B8: 5 | C8: B | D8: E | E8: L | F8: 1 | G8: 2 | H8: 1 | I8: 1
A9: 7 | B9: =B6+3 -> 8 | C9: R | D9: O | E9: L | F9: 3 | G9: 3 | H9: 1 | I9: 2
A10: 8 | B10: =B7+3 -> 9 | C10: B | D10: E | E10: L | F10: 2 | G10: 3 | H10: 1 | I10: 2
A11: 9 | B11: =B8+3 -> 8 | C11: R | D11: O | E11: L | F11: 1 | G11: 3 | H11: 1 | I11: 2
A12: 10 | B12: =B9+3 -> 11 | C12: B | D12: E | E12: L | F12: 3 | G12: 4 | H12: 1 | I12: 2
A13: 11 | B13: =B10+3 -> 12 | C13: B | D13: O | E13: L | F13: 2 | G13: 4 | H13: 1 | I13: 2
A14: 12 | B14: =B11+3 -> 11 | C14: R | D14: E | E14: L | F14: 1 | G14: 4 | H14: 1 | I14: 2
A15: 13 | B15: =B12+3 -> 14 | C15: B | D15: O | E15: L | F15: 3 | G15: 5 | H15: 2 | I15: 3
A16: 14 | B16: =B13+3 -> 15 | C16: R | D16: E | E16: L | F16: 2 | G16: 5 | H16: 2 | I16: 3
A17: 15 | B17: =B14+3 -> 14 | C17: B | D17: O | E17: L | F17: 1 | G17: 5 | H17: 2 | I17: 3
A18: 16 | B18: =B15+3 -> 17 | C18: R | D18: E | E18: L | F18: 3 | G18: 6 | H18: 2 | I18: 3
A19: 17 | B19: =B16+3 -> 18 | C19: B | D19: O | E19: L | F19: 2 | G19: 6 | H19: 2 | I19: 3
A20: 18 | B20: =B17+3 -> 17 | C20: R | D20: E | E20: L | F20: 1 | G20: 6 | H20: 2 | I20: 3
... A37: 35 | B37: =B34+3 -> 36 | C37: B | D37: O | E37: H | F37: 2 | G37: 12 | H37: 3 | I37: 6
A38: 36 | B38: 0 | C38: R | D38: E | E38: H | F38: 1 | G38: 12 | H38: 3 | I38: 6
