Workbook
Name ResetProg: '[1]anti-ktf'!$AN$5:$AN$15633

Sheet Tracker-Rolling spins
F2: Layout | I2: Board | L2: Reset tracking spin on pair? | T2: No
F3: Rolling spin | I3: 8
G5: Nr State | H5: =I2 -> Board
H6: 0 | I6: 1 | J6: 2 | K6: 3 | L6: 4 | M6: 5 | N6: 6 | O6: 7 | P6: 8 | Q6: 9 | R6: 10 | S6: 11 | T6: 12 | U6: 13 | V6: 14 | W6: 15 | X6: 16 | Y6: 17 | Z6: 18 | AA6: 19 | AB6: 20 | AC6: 21 | AD6: 22 | AE6: 23 | AF6: 24 | AG6: 25 | AH6: 26 | AI6: 27 | AJ6: 28 | AK6: 29 | AL6: 30 | AM6: 31 | AN6: 32 | AO6: 33 | AP6: 34 | AQ6: 35 | AR6: 36 | AS6: 38
A7: Spin | B7: Pos | C7: Nr | D7: Offset | E7: Rep | H7: =IF($I2="Board",H6,IF($I2="European",LOOKUP(H6,Layout!$A:$A,Layout!$B:$B),IF($I2="American",LOOKUP(H6,Layout!$A:$A,Layout!$D:$D)))) -> 0 | I7: =IF($I2="Board",I6,IF($I2="European",LOOKUP(I6,Layout!$A:$A,Layout!$B:$B),IF($I2="American",LOOKUP(I6,Layout!$A:$A,Layout!$D:$D)))) -> 1 | J7: =IF($I2="Board",J6,IF($I2="European",LOOKUP(J6,Layout!$A:$A,Layout!$B:$B),IF($I2="American",LOOKUP(J6,Layout!$A:$A,Layout!$D:$D)))) -> 2 | K7: =IF($I2="Board",K6,IF($I2="European",LOOKUP(K6,Layout!$A:$A,Layout!$B:$B),IF($I2="American",LOOKUP(K6,Layout!$A:$A,Layout!$D:$D)))) -> 3 | L7: =IF($I2="Board",L6,IF($I2="European",LOOKUP(L6,Layout!$A:$A,Layout!$B:$B),IF($I2="American",LOOKUP(L6,Layout!$A:$A,Layout!$D:$D)))) -> 4 | M7: =IF($I2="Board",M6,IF($I2="European",LOOKUP(M6,Layout!$A:$A,Layout!$B:$B),IF($I2="American",LOOKUP(M6,Layout!$A:$A,Layout!$D:$D)))) -> 5 | N7: =IF($I2="Board",N6,IF($I2="European",LOOKUP(N6,Layout!$A:$A,Layout!$B:$B),IF($I2="American",LOOKUP(N6,Layout!$A:$A,Layout!$D:$D)))) -> 6 | O7: =IF($I2="Board",O6,IF($I2="European",LOOKUP(O6,Layout!$A:$A,Layout!$B:$B),IF($I2="American",LOOKUP(O6,Layout!$A:$A,Layout!$D:$D)))) -> 7 | ... AR7: =IF($I2="Board",AR6,IF($I2="European",LOOKUP(AR6,Layout!$A:$A,Layout!$B:$B),IF($I2="American",LOOKUP(AR6,Layout!$A:$A,Layout!$D:$D)))) -> 36 | AS7: =IF($I2="Board","",IF($I2="European","",IF($I2="American",LOOKUP(AS6,Layout!$A:$A,Layout!$D:$D))))
A8: 1 | B8: =IF($I$2="American",LOOKUP(C8,Layout!G:G,Layout!I:I),IF($I$2="European",LOOKUP(C8,Layout!G:G,Layout!H:H),C8)) -> 25 | C8: =IF(I$2="American",RANDBETWEEN(0,37),RANDBETWEEN(0,36)) -> 25 | D8: =IF(A8<I$3,A8,I$3) -> 1 | H8: =IF($C8="","",IF($C8=H$7,$A8,"")) | I8: =IF($C8="","",IF($C8=I$7,$A8,"")) | J8: =IF($C8="","",IF($C8=J$7,$A8,"")) | K8: =IF($C8="","",IF($C8=K$7,$A8,"")) | L8: =IF($C8="","",IF($C8=L$7,$A8,"")) | M8: =IF($C8="","",IF($C8=M$7,$A8,"")) | N8: =IF($C8="","",IF($C8=N$7,$A8,"")) | O8: =IF($C8="","",IF($C8=O$7,$A8,"")) | ... AS8: =IF($C8="","",IF($C8=AS$7,$A8,""))
A9: 2 | B9: =IF($I$2="American",LOOKUP(C9,Layout!G:G,Layout!I:I),IF($I$2="European",LOOKUP(C9,Layout!G:G,Layout!H:H),C9)) -> 26 | C9: =IF(I$2="American",RANDBETWEEN(0,37),RANDBETWEEN(0,36)) -> 26 | D9: =IF(A9<I$3,A9,I$3) -> 2 | E9: =IF(COUNTIF(C$8:C8,C9)=0,"",COUNTIF(C$8:C8,C9)) | G9: =IF(OR(LOOKUP(B9,H$6:AR$6,H9:AR9)="P",LOOKUP(B9,H$6:AR$6,H9:AR9)="R"),LOOKUP(B9,H$6:AR$6,H9:AR9),"" ) -> P | H9: =IF($A10="","",IF(AND($T$2="No",H8<>"",$D8=$I$3,COUNTIF(OFFSET(H8,-($D8-1),0,1,1):H8,"R")=0,COUNTIF(OFFSET(H8,-($D8-1),0,1,1):H8,"")=0),"",IF(AND(H8<>"",$D8=$I$3,COUNTIF(OFFSET(H8,-($D8-1),0,1,1):H8,H8)=$I$3),"",IF(AND($C9="",$C8<>"",COUNTIF(H$8:H8,"R")>0),COUNTIF(H$8:H8,"R")&"R",IF($C9="","",IF(AND($C9=H$7,H8<>"",COUNTIF(OFFSET($C8,-$D8,0,1,1):$C8,H$7)>0),"R",IF(AND(H8="P",$C8<>H$7),H7,IF(OR(H8="R",H8="P"),$A8,IF(AND(H8<>"",OR($C9=I$7,$C9=AR$7)),"P",IF(AND($C9=H$7,OR(I8<>"",AR8<>"")),"P",IF($C9=H$7,$A9,H8))))))))))) | I9: =IF($A10="","",IF(AND($T$2="No",I8<>"",$D8=$I$3,COUNTIF(OFFSET(I8,-($D8-1),0,1,1):I8,"R")=0,COUNTIF(OFFSET(I8,-($D8-1),0,1,1):I8,"")=0),"",IF(AND(I8<>"",$D8=$I$3,COUNTIF(OFFSET(I8,-($D8-1),0,1,1):I8,I8)=$I$3),"",IF(AND($C9="",$C8<>"",COUNTIF(I$8:I8,"R")>0),COUNTIF(I$8:I8,"R")&"R",IF($C9="","",IF(AND($C9=I$7,I8<>"",COUNTIF(OFFSET($C8,-$D8,0,1,1):$C8,I$7)>0),"R",IF(AND(I8="P",$C8<>I$7),I7,IF(OR(I8="R",I8="P"),$A8,IF(AND(I8<>"",OR($C9=H$7,$C9=J$7)),"P",IF(AND($C9=I$7,OR(H8<>"",J8<>"")),"P",IF($C9=I$7,$A9,I8))))))))))) | J9: =IF($A10="","",IF(AND($T$2="No",J8<>"",$D8=$I$3,COUNTIF(OFFSET(J8,-($D8-1),0,1,1):J8,"R")=0,COUNTIF(OFFSET(J8,-($D8-1),0,1,1):J8,"")=0),"",IF(AND(J8<>"",$D8=$I$3,COUNTIF(OFFSET(J8,-($D8-1),0,1,1):J8,J8)=$I$3),"",IF(AND($C9="",$C8<>"",COUNTIF(J$8:J8,"R")>0),COUNTIF(J$8:J8,"R")&"R",IF($C9="","",IF(AND($C9=J$7,J8<>"",COUNTIF(OFFSET($C8,-$D8,0,1,1):$C8,J$7)>0),"R",IF(AND(J8="P",$C8<>J$7),J7,IF(OR(J8="R",J8="P"),$A8,IF(AND(J8<>"",OR($C9=I$7,$C9=K$7)),"P",IF(AND($C9=J$7,OR(I8<>"",K8<>"")),"P",IF($C9=J$7,$A9,J8))))))))))) | K9: =IF($A10="","",IF(AND($T$2="No",K8<>"",$D8=$I$3,COUNTIF(OFFSET(K8,-($D8-1),0,1,1):K8,"R")=0,COUNTIF(OFFSET(K8,-($D8-1),0,1,1):K8,"")=0),"",IF(AND(K8<>"",$D8=$I$3,COUNTIF(OFFSET(K8,-($D8-1),0,1,1):K8,K8)=$I$3),"",IF(AND($C9="",$C8<>"",COUNTIF(K$8:K8,"R")>0),COUNTIF(K$8:K8,"R")&"R",IF($C9="","",IF(AND($C9=K$7,K8<>"",COUNTIF(OFFSET($C8,-$D8,0,1,1):$C8,K$7)>0),"R",IF(AND(K8="P",$C8<>K$7),K7,IF(OR(K8="R",K8="P"),$A8,IF(AND(K8<>"",OR($C9=J$7,$C9=L$7)),"P",IF(AND($C9=K$7,OR(J8<>"",L8<>"")),"P",IF($C9=K$7,$A9,K8))))))))))) | L9: =IF($A10="","",IF(AND($T$2="No",L8<>"",$D8=$I$3,COUNTIF(OFFSET(L8,-($D8-1),0,1,1):L8,"R")=0,COUNTIF(OFFSET(L8,-($D8-1),0,1,1):L8,"")=0),"",IF(AND(L8<>"",$D8=$I$3,COUNTIF(OFFSET(L8,-($D8-1),0,1,1):L8,L8)=$I$3),"",IF(AND($C9="",$C8<>"",COUNTIF(L$8:L8,"R")>0),COUNTIF(L$8:L8,"R")&"R",IF($C9="","",IF(AND($C9=L$7,L8<>"",COUNTIF(OFFSET($C8,-$D8,0,1,1):$C8,L$7)>0),"R",IF(AND(L8="P",$C8<>L$7),L7,IF(OR(L8="R",L8="P"),$A8,IF(AND(L8<>"",OR($C9=K$7,$C9=M$7)),"P",IF(AND($C9=L$7,OR(K8<>"",M8<>"")),"P",IF($C9=L$7,$A9,L8))))))))))) | M9: =IF($A10="","",IF(AND($T$2="No",M8<>"",$D8=$I$3,COUNTIF(OFFSET(M8,-($D8-1),0,1,1):M8,"R")=0,COUNTIF(OFFSET(M8,-($D8-1),0,1,1):M8,"")=0),"",IF(AND(M8<>"",$D8=$I$3,COUNTIF(OFFSET(M8,-($D8-1),0,1,1):M8,M8)=$I$3),"",IF(AND($C9="",$C8<>"",COUNTIF(M$8:M8,"R")>0),COUNTIF(M$8:M8,"R")&"R",IF($C9="","",IF(AND($C9=M$7,M8<>"",COUNTIF(OFFSET($C8,-$D8,0,1,1):$C8,M$7)>0),"R",IF(AND(M8="P",$C8<>M$7),M7,IF(OR(M8="R",M8="P"),$A8,IF(AND(M8<>"",OR($C9=L$7,$C9=N$7)),"P",IF(AND($C9=M$7,OR(L8<>"",N8<>"")),"P",IF($C9=M$7,$A9,M8))))))))))) | N9: =IF($A10="","",IF(AND($T$2="No",N8<>"",$D8=$I$3,COUNTIF(OFFSET(N8,-($D8-1),0,1,1):N8,"R")=0,COUNTIF(OFFSET(N8,-($D8-1),0,1,1):N8,"")=0),"",IF(AND(N8<>"",$D8=$I$3,COUNTIF(OFFSET(N8,-($D8-1),0,1,1):N8,N8)=$I$3),"",IF(AND($C9="",$C8<>"",COUNTIF(N$8:N8,"R")>0),COUNTIF(N$8:N8,"R")&"R",IF($C9="","",IF(AND($C9=N$7,N8<>"",COUNTIF(OFFSET($C8,-$D8,0,1,1):$C8,N$7)>0),"R",IF(AND(N8="P",$C8<>N$7),N7,IF(OR(N8="R",N8="P"),$A8,IF(AND(N8<>"",OR($C9=M$7,$C9=O$7)),"P",IF(AND($C9=N$7,OR(M8<>"",O8<>"")),"P",IF($C9=N$7,$A9,N8))))))))))) | O9: =IF($A10="","",IF(AND($T$2="No",O8<>"",$D8=$I$3,COUNTIF(OFFSET(O8,-($D8-1),0,1,1):O8,"R")=0,COUNTIF(OFFSET(O8,-($D8-1),0,1,1):O8,"")=0),"",IF(AND(O8<>"",$D8=$I$3,COUNTIF(OFFSET(O8,-($D8-1),0,1,1):O8,O8)=$I$3),"",IF(AND($C9="",$C8<>"",COUNTIF(O$8:O8,"R")>0),COUNTIF(O$8:O8,"R")&"R",IF($C9="","",IF(AND($C9=O$7,O8<>"",COUNTIF(OFFSET($C8,-$D8,0,1,1):$C8,O$7)>0),"R",IF(AND(O8="P",$C8<>O$7),O7,IF(OR(O8="R",O8="P"),$A8,IF(AND(O8<>"",OR($C9=N$7,$C9=P$7)),"P",IF(AND($C9=O$7,OR(N8<>"",P8<>"")),"P",IF($C9=O$7,$A9,O8))))))))))) | P9: =IF($A10="","",IF(AND($T$2="No",P8<>"",$D8=$I$3,COUNTIF(OFFSET(P8,-($D8-1),0,1,1):P8,"R")=0,COUNTIF(OFFSET(P8,-($D8-1),0,1,1):P8,"")=0),"",IF(AND(P8<>"",$D8=$I$3,COUNTIF(OFFSET(P8,-($D8-1),0,1,1):P8,P8)=$I$3),"",IF(AND($C9="",$C8<>"",COUNTIF(P$8:P8,"R")>0),COUNTIF(P$8:P8,"R")&"R",IF($C9="","",IF(AND($C9=P$7,P8<>"",COUNTIF(OFFSET($C8,-$D8,0,1,1):$C8,P$7)>0),"R",IF(AND(P8="P",$C8<>P$7),P7,IF(OR(P8="R",P8="P"),$A8,IF(AND(P8<>"",OR($C9=O$7,$C9=Q$7)),"P",IF(AND($C9=P$7,OR(O8<>"",Q8<>"")),"P",IF($C9=P$7,$A9,P8))))))))))) | ... AR9: =IF($A10="","",IF(AND($T$2="No",AR8<>"",$D8=$I$3,COUNTIF(OFFSET(AR8,-($D8-1),0,1,1):AR8,"R")=0,COUNTIF(OFFSET(AR8,-($D8-1),0,1,1):AR8,"")=0),"",IF(AND(AR8<>"",$D8=$I$3,COUNTIF(OFFSET(AR8,-($D8-1),0,1,1):AR8,AR8)=$I$3),"",IF(AND($C9="",$C8<>"",COUNTIF(AR$8:AR8,"R")>0),COUNTIF(AR$8:AR8,"R")&"R",IF($C9="","",IF(AND($C9=AR$7,AR8<>"",COUNTIF(OFFSET($C8,-$D8,0,1,1):$C8,AR$7)>0),"R",IF(AND(AR8="P",$C8<>AR$7),AR7,IF(OR(AR8="R",AR8="P"),$A8,IF(AND(AR8<>"",OR($C9=AQ$7,$C9=AS$7)),"P",IF(AND($C9=AR$7,OR(AQ8<>"",AS8<>"")),"P",IF($C9=AR$7,$A9,AR8))))))))))) | AS9: =IF($A10="","",IF(AND($T$2="No",AS8<>"",$D8=$I$3,COUNTIF(OFFSET(AS8,-($D8-1),0,1,1):AS8,"R")=0,COUNTIF(OFFSET(AS8,-($D8-1),0,1,1):AS8,"")=0),"",IF(AND(AS8<>"",$D8=$I$3,COUNTIF(OFFSET($H8,-$D8,0,1,1):AS8,AS8)=$I$3),"",IF(AND($C9="",$C8<>"",COUNTIF(AS$8:AS8,"R")>0),COUNTIF(AS$8:AS8,"R")&"R",IF($C9="","",IF(AND($C9=AS$7,AS8<>"",COUNTIF(OFFSET($C8,$D8,0,1,1):$C8,AS$7)>0),"R",IF(AS8="R",$A8,IF($C9=AS$7,$A9,AS8))))))))
A10: 3 | B10: =IF($I$2="American",LOOKUP(C10,Layout!G:G,Layout!I:I),IF($I$2="European",LOOKUP(C10,Layout!G:G,Layout!H:H),C10)) -> 34 | C10: =IF(I$2="American",RANDBETWEEN(0,37),RANDBETWEEN(0,36)) -> 34 | D10: =IF(A10<I$3,A10,I$3) -> 3 | E10: =IF(COUNTIF(C$8:C9,C10)=0,"",COUNTIF(C$8:C9,C10)) | G10: =IF(OR(LOOKUP(B10,H$6:AR$6,H10:AR10)="P",LOOKUP(B10,H$6:AR$6,H10:AR10)="R"),LOOKUP(B10,H$6:AR$6,H10:AR10),"" ) | H10: =IF($A11="","",IF(AND($T$2="No",H9<>"",$D9=$I$3,COUNTIF(OFFSET(H9,-($D9-1),0,1,1):H9,"R")=0,COUNTIF(OFFSET(H9,-($D9-1),0,1,1):H9,"")=0),"",IF(AND(H9<>"",$D9=$I$3,COUNTIF(OFFSET(H9,-($D9-1),0,1,1):H9,H9)=$I$3),"",IF(AND($C10="",$C9<>"",COUNTIF(H$8:H9,"R")>0),COUNTIF(H$8:H9,"R")&"R",IF($C10="","",IF(AND($C10=H$7,H9<>"",COUNTIF(OFFSET($C9,-$D9,0,1,1):$C9,H$7)>0),"R",IF(AND(H9="P",$C9<>H$7),H8,IF(OR(H9="R",H9="P"),$A9,IF(AND(H9<>"",OR($C10=I$7,$C10=AR$7)),"P",IF(AND($C10=H$7,OR(I9<>"",AR9<>"")),"P",IF($C10=H$7,$A10,H9))))))))))) | I10: =IF($A11="","",IF(AND($T$2="No",I9<>"",$D9=$I$3,COUNTIF(OFFSET(I9,-($D9-1),0,1,1):I9,"R")=0,COUNTIF(OFFSET(I9,-($D9-1),0,1,1):I9,"")=0),"",IF(AND(I9<>"",$D9=$I$3,COUNTIF(OFFSET(I9,-($D9-1),0,1,1):I9,I9)=$I$3),"",IF(AND($C10="",$C9<>"",COUNTIF(I$8:I9,"R")>0),COUNTIF(I$8:I9,"R")&"R",IF($C10="","",IF(AND($C10=I$7,I9<>"",COUNTIF(OFFSET($C9,-$D9,0,1,1):$C9,I$7)>0),"R",IF(AND(I9="P",$C9<>I$7),I8,IF(OR(I9="R",I9="P"),$A9,IF(AND(I9<>"",OR($C10=H$7,$C10=J$7)),"P",IF(AND($C10=I$7,OR(H9<>"",J9<>"")),"P",IF($C10=I$7,$A10,I9))))))))))) | J10: =IF($A11="","",IF(AND($T$2="No",J9<>"",$D9=$I$3,COUNTIF(OFFSET(J9,-($D9-1),0,1,1):J9,"R")=0,COUNTIF(OFFSET(J9,-($D9-1),0,1,1):J9,"")=0),"",IF(AND(J9<>"",$D9=$I$3,COUNTIF(OFFSET(J9,-($D9-1),0,1,1):J9,J9)=$I$3),"",IF(AND($C10="",$C9<>"",COUNTIF(J$8:J9,"R")>0),COUNTIF(J$8:J9,"R")&"R",IF($C10="","",IF(AND($C10=J$7,J9<>"",COUNTIF(OFFSET($C9,-$D9,0,1,1):$C9,J$7)>0),"R",IF(AND(J9="P",$C9<>J$7),J8,IF(OR(J9="R",J9="P"),$A9,IF(AND(J9<>"",OR($C10=I$7,$C10=K$7)),"P",IF(AND($C10=J$7,OR(I9<>"",K9<>"")),"P",IF($C10=J$7,$A10,J9))))))))))) | K10: =IF($A11="","",IF(AND($T$2="No",K9<>"",$D9=$I$3,COUNTIF(OFFSET(K9,-($D9-1),0,1,1):K9,"R")=0,COUNTIF(OFFSET(K9,-($D9-1),0,1,1):K9,"")=0),"",IF(AND(K9<>"",$D9=$I$3,COUNTIF(OFFSET(K9,-($D9-1),0,1,1):K9,K9)=$I$3),"",IF(AND($C10="",$C9<>"",COUNTIF(K$8:K9,"R")>0),COUNTIF(K$8:K9,"R")&"R",IF($C10="","",IF(AND($C10=K$7,K9<>"",COUNTIF(OFFSET($C9,-$D9,0,1,1):$C9,K$7)>0),"R",IF(AND(K9="P",$C9<>K$7),K8,IF(OR(K9="R",K9="P"),$A9,IF(AND(K9<>"",OR($C10=J$7,$C10=L$7)),"P",IF(AND($C10=K$7,OR(J9<>"",L9<>"")),"P",IF($C10=K$7,$A10,K9))))))))))) | L10: =IF($A11="","",IF(AND($T$2="No",L9<>"",$D9=$I$3,COUNTIF(OFFSET(L9,-($D9-1),0,1,1):L9,"R")=0,COUNTIF(OFFSET(L9,-($D9-1),0,1,1):L9,"")=0),"",IF(AND(L9<>"",$D9=$I$3,COUNTIF(OFFSET(L9,-($D9-1),0,1,1):L9,L9)=$I$3),"",IF(AND($C10="",$C9<>"",COUNTIF(L$8:L9,"R")>0),COUNTIF(L$8:L9,"R")&"R",IF($C10="","",IF(AND($C10=L$7,L9<>"",COUNTIF(OFFSET($C9,-$D9,0,1,1):$C9,L$7)>0),"R",IF(AND(L9="P",$C9<>L$7),L8,IF(OR(L9="R",L9="P"),$A9,IF(AND(L9<>"",OR($C10=K$7,$C10=M$7)),"P",IF(AND($C10=L$7,OR(K9<>"",M9<>"")),"P",IF($C10=L$7,$A10,L9))))))))))) | M10: =IF($A11="","",IF(AND($T$2="No",M9<>"",$D9=$I$3,COUNTIF(OFFSET(M9,-($D9-1),0,1,1):M9,"R")=0,COUNTIF(OFFSET(M9,-($D9-1),0,1,1):M9,"")=0),"",IF(AND(M9<>"",$D9=$I$3,COUNTIF(OFFSET(M9,-($D9-1),0,1,1):M9,M9)=$I$3),"",IF(AND($C10="",$C9<>"",COUNTIF(M$8:M9,"R")>0),COUNTIF(M$8:M9,"R")&"R",IF($C10="","",IF(AND($C10=M$7,M9<>"",COUNTIF(OFFSET($C9,-$D9,0,1,1):$C9,M$7)>0),"R",IF(AND(M9="P",$C9<>M$7),M8,IF(OR(M9="R",M9="P"),$A9,IF(AND(M9<>"",OR($C10=L$7,$C10=N$7)),"P",IF(AND($C10=M$7,OR(L9<>"",N9<>"")),"P",IF($C10=M$7,$A10,M9))))))))))) | N10: =IF($A11="","",IF(AND($T$2="No",N9<>"",$D9=$I$3,COUNTIF(OFFSET(N9,-($D9-1),0,1,1):N9,"R")=0,COUNTIF(OFFSET(N9,-($D9-1),0,1,1):N9,"")=0),"",IF(AND(N9<>"",$D9=$I$3,COUNTIF(OFFSET(N9,-($D9-1),0,1,1):N9,N9)=$I$3),"",IF(AND($C10="",$C9<>"",COUNTIF(N$8:N9,"R")>0),COUNTIF(N$8:N9,"R")&"R",IF($C10="","",IF(AND($C10=N$7,N9<>"",COUNTIF(OFFSET($C9,-$D9,0,1,1):$C9,N$7)>0),"R",IF(AND(N9="P",$C9<>N$7),N8,IF(OR(N9="R",N9="P"),$A9,IF(AND(N9<>"",OR($C10=M$7,$C10=O$7)),"P",IF(AND($C10=N$7,OR(M9<>"",O9<>"")),"P",IF($C10=N$7,$A10,N9))))))))))) | O10: =IF($A11="","",IF(AND($T$2="No",O9<>"",$D9=$I$3,COUNTIF(OFFSET(O9,-($D9-1),0,1,1):O9,"R")=0,COUNTIF(OFFSET(O9,-($D9-1),0,1,1):O9,"")=0),"",IF(AND(O9<>"",$D9=$I$3,COUNTIF(OFFSET(O9,-($D9-1),0,1,1):O9,O9)=$I$3),"",IF(AND($C10="",$C9<>"",COUNTIF(O$8:O9,"R")>0),COUNTIF(O$8:O9,"R")&"R",IF($C10="","",IF(AND($C10=O$7,O9<>"",COUNTIF(OFFSET($C9,-$D9,0,1,1):$C9,O$7)>0),"R",IF(AND(O9="P",$C9<>O$7),O8,IF(OR(O9="R",O9="P"),$A9,IF(AND(O9<>"",OR($C10=N$7,$C10=P$7)),"P",IF(AND($C10=O$7,OR(N9<>"",P9<>"")),"P",IF($C10=O$7,$A10,O9))))))))))) | P10: =IF($A11="","",IF(AND($T$2="No",P9<>"",$D9=$I$3,COUNTIF(OFFSET(P9,-($D9-1),0,1,1):P9,"R")=0,COUNTIF(OFFSET(P9,-($D9-1),0,1,1):P9,"")=0),"",IF(AND(P9<>"",$D9=$I$3,COUNTIF(OFFSET(P9,-($D9-1),0,1,1):P9,P9)=$I$3),"",IF(AND($C10="",$C9<>"",COUNTIF(P$8:P9,"R")>0),COUNTIF(P$8:P9,"R")&"R",IF($C10="","",IF(AND($C10=P$7,P9<>"",COUNTIF(OFFSET($C9,-$D9,0,1,1):$C9,P$7)>0),"R",IF(AND(P9="P",$C9<>P$7),P8,IF(OR(P9="R",P9="P"),$A9,IF(AND(P9<>"",OR($C10=O$7,$C10=Q$7)),"P",IF(AND($C10=P$7,OR(O9<>"",Q9<>"")),"P",IF($C10=P$7,$A10,P9))))))))))) | ... AR10: =IF($A11="","",IF(AND($T$2="No",AR9<>"",$D9=$I$3,COUNTIF(OFFSET(AR9,-($D9-1),0,1,1):AR9,"R")=0,COUNTIF(OFFSET(AR9,-($D9-1),0,1,1):AR9,"")=0),"",IF(AND(AR9<>"",$D9=$I$3,COUNTIF(OFFSET(AR9,-($D9-1),0,1,1):AR9,AR9)=$I$3),"",IF(AND($C10="",$C9<>"",COUNTIF(AR$8:AR9,"R")>0),COUNTIF(AR$8:AR9,"R")&"R",IF($C10="","",IF(AND($C10=AR$7,AR9<>"",COUNTIF(OFFSET($C9,-$D9,0,1,1):$C9,AR$7)>0),"R",IF(AND(AR9="P",$C9<>AR$7),AR8,IF(OR(AR9="R",AR9="P"),$A9,IF(AND(AR9<>"",OR($C10=AQ$7,$C10=AS$7)),"P",IF(AND($C10=AR$7,OR(AQ9<>"",AS9<>"")),"P",IF($C10=AR$7,$A10,AR9))))))))))) | AS10: =IF($A11="","",IF(AND($T$2="No",AS9<>"",$D9=$I$3,COUNTIF(OFFSET(AS9,-($D9-1),0,1,1):AS9,"R")=0,COUNTIF(OFFSET(AS9,-($D9-1),0,1,1):AS9,"")=0),"",IF(AND(AS9<>"",$D9=$I$3,COUNTIF(OFFSET($H9,-$D9,0,1,1):AS9,AS9)=$I$3),"",IF(AND($C10="",$C9<>"",COUNTIF(AS$8:AS9,"R")>0),COUNTIF(AS$8:AS9,"R")&"R",IF($C10="","",IF(AND($C10=AS$7,AS9<>"",COUNTIF(OFFSET($C9,$D9,0,1,1):$C9,AS$7)>0),"R",IF(AS9="R",$A9,IF($C10=AS$7,$A10,AS9))))))))
A11: 4 | B11: =IF($I$2="American",LOOKUP(C11,Layout!G:G,Layout!I:I),IF($I$2="European",LOOKUP(C11,Layout!G:G,Layout!H:H),C11)) -> 15 | C11: =IF(I$2="American",RANDBETWEEN(0,37),RANDBETWEEN(0,36)) -> 15 | D11: =IF(A11<I$3,A11,I$3) -> 4 | E11: =IF(COUNTIF(C$8:C10,C11)=0,"",COUNTIF(C$8:C10,C11)) | G11: =IF(OR(LOOKUP(B11,H$6:AR$6,H11:AR11)="P",LOOKUP(B11,H$6:AR$6,H11:AR11)="R"),LOOKUP(B11,H$6:AR$6,H11:AR11),"" ) | H11: =IF($A12="","",IF(AND($T$2="No",H10<>"",$D10=$I$3,COUNTIF(OFFSET(H10,-($D10-1),0,1,1):H10,"R")=0,COUNTIF(OFFSET(H10,-($D10-1),0,1,1):H10,"")=0),"",IF(AND(H10<>"",$D10=$I$3,COUNTIF(OFFSET(H10,-($D10-1),0,1,1):H10,H10)=$I$3),"",IF(AND($C11="",$C10<>"",COUNTIF(H$8:H10,"R")>0),COUNTIF(H$8:H10,"R")&"R",IF($C11="","",IF(AND($C11=H$7,H10<>"",COUNTIF(OFFSET($C10,-$D10,0,1,1):$C10,H$7)>0),"R",IF(AND(H10="P",$C10<>H$7),H9,IF(OR(H10="R",H10="P"),$A10,IF(AND(H10<>"",OR($C11=I$7,$C11=AR$7)),"P",IF(AND($C11=H$7,OR(I10<>"",AR10<>"")),"P",IF($C11=H$7,$A11,H10))))))))))) | I11: =IF($A12="","",IF(AND($T$2="No",I10<>"",$D10=$I$3,COUNTIF(OFFSET(I10,-($D10-1),0,1,1):I10,"R")=0,COUNTIF(OFFSET(I10,-($D10-1),0,1,1):I10,"")=0),"",IF(AND(I10<>"",$D10=$I$3,COUNTIF(OFFSET(I10,-($D10-1),0,1,1):I10,I10)=$I$3),"",IF(AND($C11="",$C10<>"",COUNTIF(I$8:I10,"R")>0),COUNTIF(I$8:I10,"R")&"R",IF($C11="","",IF(AND($C11=I$7,I10<>"",COUNTIF(OFFSET($C10,-$D10,0,1,1):$C10,I$7)>0),"R",IF(AND(I10="P",$C10<>I$7),I9,IF(OR(I10="R",I10="P"),$A10,IF(AND(I10<>"",OR($C11=H$7,$C11=J$7)),"P",IF(AND($C11=I$7,OR(H10<>"",J10<>"")),"P",IF($C11=I$7,$A11,I10))))))))))) | J11: =IF($A12="","",IF(AND($T$2="No",J10<>"",$D10=$I$3,COUNTIF(OFFSET(J10,-($D10-1),0,1,1):J10,"R")=0,COUNTIF(OFFSET(J10,-($D10-1),0,1,1):J10,"")=0),"",IF(AND(J10<>"",$D10=$I$3,COUNTIF(OFFSET(J10,-($D10-1),0,1,1):J10,J10)=$I$3),"",IF(AND($C11="",$C10<>"",COUNTIF(J$8:J10,"R")>0),COUNTIF(J$8:J10,"R")&"R",IF($C11="","",IF(AND($C11=J$7,J10<>"",COUNTIF(OFFSET($C10,-$D10,0,1,1):$C10,J$7)>0),"R",IF(AND(J10="P",$C10<>J$7),J9,IF(OR(J10="R",J10="P"),$A10,IF(AND(J10<>"",OR($C11=I$7,$C11=K$7)),"P",IF(AND($C11=J$7,OR(I10<>"",K10<>"")),"P",IF($C11=J$7,$A11,J10))))))))))) | K11: =IF($A12="","",IF(AND($T$2="No",K10<>"",$D10=$I$3,COUNTIF(OFFSET(K10,-($D10-1),0,1,1):K10,"R")=0,COUNTIF(OFFSET(K10,-($D10-1),0,1,1):K10,"")=0),"",IF(AND(K10<>"",$D10=$I$3,COUNTIF(OFFSET(K10,-($D10-1),0,1,1):K10,K10)=$I$3),"",IF(AND($C11="",$C10<>"",COUNTIF(K$8:K10,"R")>0),COUNTIF(K$8:K10,"R")&"R",IF($C11="","",IF(AND($C11=K$7,K10<>"",COUNTIF(OFFSET($C10,-$D10,0,1,1):$C10,K$7)>0),"R",IF(AND(K10="P",$C10<>K$7),K9,IF(OR(K10="R",K10="P"),$A10,IF(AND(K10<>"",OR($C11=J$7,$C11=L$7)),"P",IF(AND($C11=K$7,OR(J10<>"",L10<>"")),"P",IF($C11=K$7,$A11,K10))))))))))) | L11: =IF($A12="","",IF(AND($T$2="No",L10<>"",$D10=$I$3,COUNTIF(OFFSET(L10,-($D10-1),0,1,1):L10,"R")=0,COUNTIF(OFFSET(L10,-($D10-1),0,1,1):L10,"")=0),"",IF(AND(L10<>"",$D10=$I$3,COUNTIF(OFFSET(L10,-($D10-1),0,1,1):L10,L10)=$I$3),"",IF(AND($C11="",$C10<>"",COUNTIF(L$8:L10,"R")>0),COUNTIF(L$8:L10,"R")&"R",IF($C11="","",IF(AND($C11=L$7,L10<>"",COUNTIF(OFFSET($C10,-$D10,0,1,1):$C10,L$7)>0),"R",IF(AND(L10="P",$C10<>L$7),L9,IF(OR(L10="R",L10="P"),$A10,IF(AND(L10<>"",OR($C11=K$7,$C11=M$7)),"P",IF(AND($C11=L$7,OR(K10<>"",M10<>"")),"P",IF($C11=L$7,$A11,L10))))))))))) | M11: =IF($A12="","",IF(AND($T$2="No",M10<>"",$D10=$I$3,COUNTIF(OFFSET(M10,-($D10-1),0,1,1):M10,"R")=0,COUNTIF(OFFSET(M10,-($D10-1),0,1,1):M10,"")=0),"",IF(AND(M10<>"",$D10=$I$3,COUNTIF(OFFSET(M10,-($D10-1),0,1,1):M10,M10)=$I$3),"",IF(AND($C11="",$C10<>"",COUNTIF(M$8:M10,"R")>0),COUNTIF(M$8:M10,"R")&"R",IF($C11="","",IF(AND($C11=M$7,M10<>"",COUNTIF(OFFSET($C10,-$D10,0,1,1):$C10,M$7)>0),"R",IF(AND(M10="P",$C10<>M$7),M9,IF(OR(M10="R",M10="P"),$A10,IF(AND(M10<>"",OR($C11=L$7,$C11=N$7)),"P",IF(AND($C11=M$7,OR(L10<>"",N10<>"")),"P",IF($C11=M$7,$A11,M10))))))))))) | N11: =IF($A12="","",IF(AND($T$2="No",N10<>"",$D10=$I$3,COUNTIF(OFFSET(N10,-($D10-1),0,1,1):N10,"R")=0,COUNTIF(OFFSET(N10,-($D10-1),0,1,1):N10,"")=0),"",IF(AND(N10<>"",$D10=$I$3,COUNTIF(OFFSET(N10,-($D10-1),0,1,1):N10,N10)=$I$3),"",IF(AND($C11="",$C10<>"",COUNTIF(N$8:N10,"R")>0),COUNTIF(N$8:N10,"R")&"R",IF($C11="","",IF(AND($C11=N$7,N10<>"",COUNTIF(OFFSET($C10,-$D10,0,1,1):$C10,N$7)>0),"R",IF(AND(N10="P",$C10<>N$7),N9,IF(OR(N10="R",N10="P"),$A10,IF(AND(N10<>"",OR($C11=M$7,$C11=O$7)),"P",IF(AND($C11=N$7,OR(M10<>"",O10<>"")),"P",IF($C11=N$7,$A11,N10))))))))))) | O11: =IF($A12="","",IF(AND($T$2="No",O10<>"",$D10=$I$3,COUNTIF(OFFSET(O10,-($D10-1),0,1,1):O10,"R")=0,COUNTIF(OFFSET(O10,-($D10-1),0,1,1):O10,"")=0),"",IF(AND(O10<>"",$D10=$I$3,COUNTIF(OFFSET(O10,-($D10-1),0,1,1):O10,O10)=$I$3),"",IF(AND($C11="",$C10<>"",COUNTIF(O$8:O10,"R")>0),COUNTIF(O$8:O10,"R")&"R",IF($C11="","",IF(AND($C11=O$7,O10<>"",COUNTIF(OFFSET($C10,-$D10,0,1,1):$C10,O$7)>0),"R",IF(AND(O10="P",$C10<>O$7),O9,IF(OR(O10="R",O10="P"),$A10,IF(AND(O10<>"",OR($C11=N$7,$C11=P$7)),"P",IF(AND($C11=O$7,OR(N10<>"",P10<>"")),"P",IF($C11=O$7,$A11,O10))))))))))) | P11: =IF($A12="","",IF(AND($T$2="No",P10<>"",$D10=$I$3,COUNTIF(OFFSET(P10,-($D10-1),0,1,1):P10,"R")=0,COUNTIF(OFFSET(P10,-($D10-1),0,1,1):P10,"")=0),"",IF(AND(P10<>"",$D10=$I$3,COUNTIF(OFFSET(P10,-($D10-1),0,1,1):P10,P10)=$I$3),"",IF(AND($C11="",$C10<>"",COUNTIF(P$8:P10,"R")>0),COUNTIF(P$8:P10,"R")&"R",IF($C11="","",IF(AND($C11=P$7,P10<>"",COUNTIF(OFFSET($C10,-$D10,0,1,1):$C10,P$7)>0),"R",IF(AND(P10="P",$C10<>P$7),P9,IF(OR(P10="R",P10="P"),$A10,IF(AND(P10<>"",OR($C11=O$7,$C11=Q$7)),"P",IF(AND($C11=P$7,OR(O10<>"",Q10<>"")),"P",IF($C11=P$7,$A11,P10))))))))))) | ... AR11: =IF($A12="","",IF(AND($T$2="No",AR10<>"",$D10=$I$3,COUNTIF(OFFSET(AR10,-($D10-1),0,1,1):AR10,"R")=0,COUNTIF(OFFSET(AR10,-($D10-1),0,1,1):AR10,"")=0),"",IF(AND(AR10<>"",$D10=$I$3,COUNTIF(OFFSET(AR10,-($D10-1),0,1,1):AR10,AR10)=$I$3),"",IF(AND($C11="",$C10<>"",COUNTIF(AR$8:AR10,"R")>0),COUNTIF(AR$8:AR10,"R")&"R",IF($C11="","",IF(AND($C11=AR$7,AR10<>"",COUNTIF(OFFSET($C10,-$D10,0,1,1):$C10,AR$7)>0),"R",IF(AND(AR10="P",$C10<>AR$7),AR9,IF(OR(AR10="R",AR10="P"),$A10,IF(AND(AR10<>"",OR($C11=AQ$7,$C11=AS$7)),"P",IF(AND($C11=AR$7,OR(AQ10<>"",AS10<>"")),"P",IF($C11=AR$7,$A11,AR10))))))))))) | AS11: =IF($A12="","",IF(AND($T$2="No",AS10<>"",$D10=$I$3,COUNTIF(OFFSET(AS10,-($D10-1),0,1,1):AS10,"R")=0,COUNTIF(OFFSET(AS10,-($D10-1),0,1,1):AS10,"")=0),"",IF(AND(AS10<>"",$D10=$I$3,COUNTIF(OFFSET($H10,-$D10,0,1,1):AS10,AS10)=$I$3),"",IF(AND($C11="",$C10<>"",COUNTIF(AS$8:AS10,"R")>0),COUNTIF(AS$8:AS10,"R")&"R",IF($C11="","",IF(AND($C11=AS$7,AS10<>"",COUNTIF(OFFSET($C10,$D10,0,1,1):$C10,AS$7)>0),"R",IF(AS10="R",$A10,IF($C11=AS$7,$A11,AS10))))))))
A12: 5 | B12: =IF($I$2="American",LOOKUP(C12,Layout!G:G,Layout!I:I),IF($I$2="European",LOOKUP(C12,Layout!G:G,Layout!H:H),C12)) -> 28 | C12: =IF(I$2="American",RANDBETWEEN(0,37),RANDBETWEEN(0,36)) -> 28 | D12: =IF(A12<I$3,A12,I$3) -> 5 | E12: =IF(COUNTIF(C$8:C11,C12)=0,"",COUNTIF(C$8:C11,C12)) | G12: =IF(OR(LOOKUP(B12,H$6:AR$6,H12:AR12)="P",LOOKUP(B12,H$6:AR$6,H12:AR12)="R"),LOOKUP(B12,H$6:AR$6,H12:AR12),"" ) | H12: =IF($A13="","",IF(AND($T$2="No",H11<>"",$D11=$I$3,COUNTIF(OFFSET(H11,-($D11-1),0,1,1):H11,"R")=0,COUNTIF(OFFSET(H11,-($D11-1),0,1,1):H11,"")=0),"",IF(AND(H11<>"",$D11=$I$3,COUNTIF(OFFSET(H11,-($D11-1),0,1,1):H11,H11)=$I$3),"",IF(AND($C12="",$C11<>"",COUNTIF(H$8:H11,"R")>0),COUNTIF(H$8:H11,"R")&"R",IF($C12="","",IF(AND($C12=H$7,H11<>"",COUNTIF(OFFSET($C11,-$D11,0,1,1):$C11,H$7)>0),"R",IF(AND(H11="P",$C11<>H$7),H10,IF(OR(H11="R",H11="P"),$A11,IF(AND(H11<>"",OR($C12=I$7,$C12=AR$7)),"P",IF(AND($C12=H$7,OR(I11<>"",AR11<>"")),"P",IF($C12=H$7,$A12,H11))))))))))) | I12: =IF($A13="","",IF(AND($T$2="No",I11<>"",$D11=$I$3,COUNTIF(OFFSET(I11,-($D11-1),0,1,1):I11,"R")=0,COUNTIF(OFFSET(I11,-($D11-1),0,1,1):I11,"")=0),"",IF(AND(I11<>"",$D11=$I$3,COUNTIF(OFFSET(I11,-($D11-1),0,1,1):I11,I11)=$I$3),"",IF(AND($C12="",$C11<>"",COUNTIF(I$8:I11,"R")>0),COUNTIF(I$8:I11,"R")&"R",IF($C12="","",IF(AND($C12=I$7,I11<>"",COUNTIF(OFFSET($C11,-$D11,0,1,1):$C11,I$7)>0),"R",IF(AND(I11="P",$C11<>I$7),I10,IF(OR(I11="R",I11="P"),$A11,IF(AND(I11<>"",OR($C12=H$7,$C12=J$7)),"P",IF(AND($C12=I$7,OR(H11<>"",J11<>"")),"P",IF($C12=I$7,$A12,I11))))))))))) | J12: =IF($A13="","",IF(AND($T$2="No",J11<>"",$D11=$I$3,COUNTIF(OFFSET(J11,-($D11-1),0,1,1):J11,"R")=0,COUNTIF(OFFSET(J11,-($D11-1),0,1,1):J11,"")=0),"",IF(AND(J11<>"",$D11=$I$3,COUNTIF(OFFSET(J11,-($D11-1),0,1,1):J11,J11)=$I$3),"",IF(AND($C12="",$C11<>"",COUNTIF(J$8:J11,"R")>0),COUNTIF(J$8:J11,"R")&"R",IF($C12="","",IF(AND($C12=J$7,J11<>"",COUNTIF(OFFSET($C11,-$D11,0,1,1):$C11,J$7)>0),"R",IF(AND(J11="P",$C11<>J$7),J10,IF(OR(J11="R",J11="P"),$A11,IF(AND(J11<>"",OR($C12=I$7,$C12=K$7)),"P",IF(AND($C12=J$7,OR(I11<>"",K11<>"")),"P",IF($C12=J$7,$A12,J11))))))))))) | K12: =IF($A13="","",IF(AND($T$2="No",K11<>"",$D11=$I$3,COUNTIF(OFFSET(K11,-($D11-1),0,1,1):K11,"R")=0,COUNTIF(OFFSET(K11,-($D11-1),0,1,1):K11,"")=0),"",IF(AND(K11<>"",$D11=$I$3,COUNTIF(OFFSET(K11,-($D11-1),0,1,1):K11,K11)=$I$3),"",IF(AND($C12="",$C11<>"",COUNTIF(K$8:K11,"R")>0),COUNTIF(K$8:K11,"R")&"R",IF($C12="","",IF(AND($C12=K$7,K11<>"",COUNTIF(OFFSET($C11,-$D11,0,1,1):$C11,K$7)>0),"R",IF(AND(K11="P",$C11<>K$7),K10,IF(OR(K11="R",K11="P"),$A11,IF(AND(K11<>"",OR($C12=J$7,$C12=L$7)),"P",IF(AND($C12=K$7,OR(J11<>"",L11<>"")),"P",IF($C12=K$7,$A12,K11))))))))))) | L12: =IF($A13="","",IF(AND($T$2="No",L11<>"",$D11=$I$3,COUNTIF(OFFSET(L11,-($D11-1),0,1,1):L11,"R")=0,COUNTIF(OFFSET(L11,-($D11-1),0,1,1):L11,"")=0),"",IF(AND(L11<>"",$D11=$I$3,COUNTIF(OFFSET(L11,-($D11-1),0,1,1):L11,L11)=$I$3),"",IF(AND($C12="",$C11<>"",COUNTIF(L$8:L11,"R")>0),COUNTIF(L$8:L11,"R")&"R",IF($C12="","",IF(AND($C12=L$7,L11<>"",COUNTIF(OFFSET($C11,-$D11,0,1,1):$C11,L$7)>0),"R",IF(AND(L11="P",$C11<>L$7),L10,IF(OR(L11="R",L11="P"),$A11,IF(AND(L11<>"",OR($C12=K$7,$C12=M$7)),"P",IF(AND($C12=L$7,OR(K11<>"",M11<>"")),"P",IF($C12=L$7,$A12,L11))))))))))) | M12: =IF($A13="","",IF(AND($T$2="No",M11<>"",$D11=$I$3,COUNTIF(OFFSET(M11,-($D11-1),0,1,1):M11,"R")=0,COUNTIF(OFFSET(M11,-($D11-1),0,1,1):M11,"")=0),"",IF(AND(M11<>"",$D11=$I$3,COUNTIF(OFFSET(M11,-($D11-1),0,1,1):M11,M11)=$I$3),"",IF(AND($C12="",$C11<>"",COUNTIF(M$8:M11,"R")>0),COUNTIF(M$8:M11,"R")&"R",IF($C12="","",IF(AND($C12=M$7,M11<>"",COUNTIF(OFFSET($C11,-$D11,0,1,1):$C11,M$7)>0),"R",IF(AND(M11="P",$C11<>M$7),M10,IF(OR(M11="R",M11="P"),$A11,IF(AND(M11<>"",OR($C12=L$7,$C12=N$7)),"P",IF(AND($C12=M$7,OR(L11<>"",N11<>"")),"P",IF($C12=M$7,$A12,M11))))))))))) | N12: =IF($A13="","",IF(AND($T$2="No",N11<>"",$D11=$I$3,COUNTIF(OFFSET(N11,-($D11-1),0,1,1):N11,"R")=0,COUNTIF(OFFSET(N11,-($D11-1),0,1,1):N11,"")=0),"",IF(AND(N11<>"",$D11=$I$3,COUNTIF(OFFSET(N11,-($D11-1),0,1,1):N11,N11)=$I$3),"",IF(AND($C12="",$C11<>"",COUNTIF(N$8:N11,"R")>0),COUNTIF(N$8:N11,"R")&"R",IF($C12="","",IF(AND($C12=N$7,N11<>"",COUNTIF(OFFSET($C11,-$D11,0,1,1):$C11,N$7)>0),"R",IF(AND(N11="P",$C11<>N$7),N10,IF(OR(N11="R",N11="P"),$A11,IF(AND(N11<>"",OR($C12=M$7,$C12=O$7)),"P",IF(AND($C12=N$7,OR(M11<>"",O11<>"")),"P",IF($C12=N$7,$A12,N11))))))))))) | O12: =IF($A13="","",IF(AND($T$2="No",O11<>"",$D11=$I$3,COUNTIF(OFFSET(O11,-($D11-1),0,1,1):O11,"R")=0,COUNTIF(OFFSET(O11,-($D11-1),0,1,1):O11,"")=0),"",IF(AND(O11<>"",$D11=$I$3,COUNTIF(OFFSET(O11,-($D11-1),0,1,1):O11,O11)=$I$3),"",IF(AND($C12="",$C11<>"",COUNTIF(O$8:O11,"R")>0),COUNTIF(O$8:O11,"R")&"R",IF($C12="","",IF(AND($C12=O$7,O11<>"",COUNTIF(OFFSET($C11,-$D11,0,1,1):$C11,O$7)>0),"R",IF(AND(O11="P",$C11<>O$7),O10,IF(OR(O11="R",O11="P"),$A11,IF(AND(O11<>"",OR($C12=N$7,$C12=P$7)),"P",IF(AND($C12=O$7,OR(N11<>"",P11<>"")),"P",IF($C12=O$7,$A12,O11))))))))))) | P12: =IF($A13="","",IF(AND($T$2="No",P11<>"",$D11=$I$3,COUNTIF(OFFSET(P11,-($D11-1),0,1,1):P11,"R")=0,COUNTIF(OFFSET(P11,-($D11-1),0,1,1):P11,"")=0),"",IF(AND(P11<>"",$D11=$I$3,COUNTIF(OFFSET(P11,-($D11-1),0,1,1):P11,P11)=$I$3),"",IF(AND($C12="",$C11<>"",COUNTIF(P$8:P11,"R")>0),COUNTIF(P$8:P11,"R")&"R",IF($C12="","",IF(AND($C12=P$7,P11<>"",COUNTIF(OFFSET($C11,-$D11,0,1,1):$C11,P$7)>0),"R",IF(AND(P11="P",$C11<>P$7),P10,IF(OR(P11="R",P11="P"),$A11,IF(AND(P11<>"",OR($C12=O$7,$C12=Q$7)),"P",IF(AND($C12=P$7,OR(O11<>"",Q11<>"")),"P",IF($C12=P$7,$A12,P11))))))))))) | ... AR12: =IF($A13="","",IF(AND($T$2="No",AR11<>"",$D11=$I$3,COUNTIF(OFFSET(AR11,-($D11-1),0,1,1):AR11,"R")=0,COUNTIF(OFFSET(AR11,-($D11-1),0,1,1):AR11,"")=0),"",IF(AND(AR11<>"",$D11=$I$3,COUNTIF(OFFSET(AR11,-($D11-1),0,1,1):AR11,AR11)=$I$3),"",IF(AND($C12="",$C11<>"",COUNTIF(AR$8:AR11,"R")>0),COUNTIF(AR$8:AR11,"R")&"R",IF($C12="","",IF(AND($C12=AR$7,AR11<>"",COUNTIF(OFFSET($C11,-$D11,0,1,1):$C11,AR$7)>0),"R",IF(AND(AR11="P",$C11<>AR$7),AR10,IF(OR(AR11="R",AR11="P"),$A11,IF(AND(AR11<>"",OR($C12=AQ$7,$C12=AS$7)),"P",IF(AND($C12=AR$7,OR(AQ11<>"",AS11<>"")),"P",IF($C12=AR$7,$A12,AR11))))))))))) | AS12: =IF($A13="","",IF(AND($T$2="No",AS11<>"",$D11=$I$3,COUNTIF(OFFSET(AS11,-($D11-1),0,1,1):AS11,"R")=0,COUNTIF(OFFSET(AS11,-($D11-1),0,1,1):AS11,"")=0),"",IF(AND(AS11<>"",$D11=$I$3,COUNTIF(OFFSET($H11,-$D11,0,1,1):AS11,AS11)=$I$3),"",IF(AND($C12="",$C11<>"",COUNTIF(AS$8:AS11,"R")>0),COUNTIF(AS$8:AS11,"R")&"R",IF($C12="","",IF(AND($C12=AS$7,AS11<>"",COUNTIF(OFFSET($C11,$D11,0,1,1):$C11,AS$7)>0),"R",IF(AS11="R",$A11,IF($C12=AS$7,$A12,AS11))))))))
A13: 6 | B13: =IF($I$2="American",LOOKUP(C13,Layout!G:G,Layout!I:I),IF($I$2="European",LOOKUP(C13,Layout!G:G,Layout!H:H),C13)) -> 31 | C13: =IF(I$2="American",RANDBETWEEN(0,37),RANDBETWEEN(0,36)) -> 31 | D13: =IF(A13<I$3,A13,I$3) -> 6 | E13: =IF(COUNTIF(C$8:C12,C13)=0,"",COUNTIF(C$8:C12,C13)) | G13: =IF(OR(LOOKUP(B13,H$6:AR$6,H13:AR13)="P",LOOKUP(B13,H$6:AR$6,H13:AR13)="R"),LOOKUP(B13,H$6:AR$6,H13:AR13),"" ) | H13: =IF($A14="","",IF(AND($T$2="No",H12<>"",$D12=$I$3,COUNTIF(OFFSET(H12,-($D12-1),0,1,1):H12,"R")=0,COUNTIF(OFFSET(H12,-($D12-1),0,1,1):H12,"")=0),"",IF(AND(H12<>"",$D12=$I$3,COUNTIF(OFFSET(H12,-($D12-1),0,1,1):H12,H12)=$I$3),"",IF(AND($C13="",$C12<>"",COUNTIF(H$8:H12,"R")>0),COUNTIF(H$8:H12,"R")&"R",IF($C13="","",IF(AND($C13=H$7,H12<>"",COUNTIF(OFFSET($C12,-$D12,0,1,1):$C12,H$7)>0),"R",IF(AND(H12="P",$C12<>H$7),H11,IF(OR(H12="R",H12="P"),$A12,IF(AND(H12<>"",OR($C13=I$7,$C13=AR$7)),"P",IF(AND($C13=H$7,OR(I12<>"",AR12<>"")),"P",IF($C13=H$7,$A13,H12))))))))))) | I13: =IF($A14="","",IF(AND($T$2="No",I12<>"",$D12=$I$3,COUNTIF(OFFSET(I12,-($D12-1),0,1,1):I12,"R")=0,COUNTIF(OFFSET(I12,-($D12-1),0,1,1):I12,"")=0),"",IF(AND(I12<>"",$D12=$I$3,COUNTIF(OFFSET(I12,-($D12-1),0,1,1):I12,I12)=$I$3),"",IF(AND($C13="",$C12<>"",COUNTIF(I$8:I12,"R")>0),COUNTIF(I$8:I12,"R")&"R",IF($C13="","",IF(AND($C13=I$7,I12<>"",COUNTIF(OFFSET($C12,-$D12,0,1,1):$C12,I$7)>0),"R",IF(AND(I12="P",$C12<>I$7),I11,IF(OR(I12="R",I12="P"),$A12,IF(AND(I12<>"",OR($C13=H$7,$C13=J$7)),"P",IF(AND($C13=I$7,OR(H12<>"",J12<>"")),"P",IF($C13=I$7,$A13,I12))))))))))) | J13: =IF($A14="","",IF(AND($T$2="No",J12<>"",$D12=$I$3,COUNTIF(OFFSET(J12,-($D12-1),0,1,1):J12,"R")=0,COUNTIF(OFFSET(J12,-($D12-1),0,1,1):J12,"")=0),"",IF(AND(J12<>"",$D12=$I$3,COUNTIF(OFFSET(J12,-($D12-1),0,1,1):J12,J12)=$I$3),"",IF(AND($C13="",$C12<>"",COUNTIF(J$8:J12,"R")>0),COUNTIF(J$8:J12,"R")&"R",IF($C13="","",IF(AND($C13=J$7,J12<>"",COUNTIF(OFFSET($C12,-$D12,0,1,1):$C12,J$7)>0),"R",IF(AND(J12="P",$C12<>J$7),J11,IF(OR(J12="R",J12="P"),$A12,IF(AND(J12<>"",OR($C13=I$7,$C13=K$7)),"P",IF(AND($C13=J$7,OR(I12<>"",K12<>"")),"P",IF($C13=J$7,$A13,J12))))))))))) | K13: =IF($A14="","",IF(AND($T$2="No",K12<>"",$D12=$I$3,COUNTIF(OFFSET(K12,-($D12-1),0,1,1):K12,"R")=0,COUNTIF(OFFSET(K12,-($D12-1),0,1,1):K12,"")=0),"",IF(AND(K12<>"",$D12=$I$3,COUNTIF(OFFSET(K12,-($D12-1),0,1,1):K12,K12)=$I$3),"",IF(AND($C13="",$C12<>"",COUNTIF(K$8:K12,"R")>0),COUNTIF(K$8:K12,"R")&"R",IF($C13="","",IF(AND($C13=K$7,K12<>"",COUNTIF(OFFSET($C12,-$D12,0,1,1):$C12,K$7)>0),"R",IF(AND(K12="P",$C12<>K$7),K11,IF(OR(K12="R",K12="P"),$A12,IF(AND(K12<>"",OR($C13=J$7,$C13=L$7)),"P",IF(AND($C13=K$7,OR(J12<>"",L12<>"")),"P",IF($C13=K$7,$A13,K12))))))))))) | L13: =IF($A14="","",IF(AND($T$2="No",L12<>"",$D12=$I$3,COUNTIF(OFFSET(L12,-($D12-1),0,1,1):L12,"R")=0,COUNTIF(OFFSET(L12,-($D12-1),0,1,1):L12,"")=0),"",IF(AND(L12<>"",$D12=$I$3,COUNTIF(OFFSET(L12,-($D12-1),0,1,1):L12,L12)=$I$3),"",IF(AND($C13="",$C12<>"",COUNTIF(L$8:L12,"R")>0),COUNTIF(L$8:L12,"R")&"R",IF($C13="","",IF(AND($C13=L$7,L12<>"",COUNTIF(OFFSET($C12,-$D12,0,1,1):$C12,L$7)>0),"R",IF(AND(L12="P",$C12<>L$7),L11,IF(OR(L12="R",L12="P"),$A12,IF(AND(L12<>"",OR($C13=K$7,$C13=M$7)),"P",IF(AND($C13=L$7,OR(K12<>"",M12<>"")),"P",IF($C13=L$7,$A13,L12))))))))))) | M13: =IF($A14="","",IF(AND($T$2="No",M12<>"",$D12=$I$3,COUNTIF(OFFSET(M12,-($D12-1),0,1,1):M12,"R")=0,COUNTIF(OFFSET(M12,-($D12-1),0,1,1):M12,"")=0),"",IF(AND(M12<>"",$D12=$I$3,COUNTIF(OFFSET(M12,-($D12-1),0,1,1):M12,M12)=$I$3),"",IF(AND($C13="",$C12<>"",COUNTIF(M$8:M12,"R")>0),COUNTIF(M$8:M12,"R")&"R",IF($C13="","",IF(AND($C13=M$7,M12<>"",COUNTIF(OFFSET($C12,-$D12,0,1,1):$C12,M$7)>0),"R",IF(AND(M12="P",$C12<>M$7),M11,IF(OR(M12="R",M12="P"),$A12,IF(AND(M12<>"",OR($C13=L$7,$C13=N$7)),"P",IF(AND($C13=M$7,OR(L12<>"",N12<>"")),"P",IF($C13=M$7,$A13,M12))))))))))) | N13: =IF($A14="","",IF(AND($T$2="No",N12<>"",$D12=$I$3,COUNTIF(OFFSET(N12,-($D12-1),0,1,1):N12,"R")=0,COUNTIF(OFFSET(N12,-($D12-1),0,1,1):N12,"")=0),"",IF(AND(N12<>"",$D12=$I$3,COUNTIF(OFFSET(N12,-($D12-1),0,1,1):N12,N12)=$I$3),"",IF(AND($C13="",$C12<>"",COUNTIF(N$8:N12,"R")>0),COUNTIF(N$8:N12,"R")&"R",IF($C13="","",IF(AND($C13=N$7,N12<>"",COUNTIF(OFFSET($C12,-$D12,0,1,1):$C12,N$7)>0),"R",IF(AND(N12="P",$C12<>N$7),N11,IF(OR(N12="R",N12="P"),$A12,IF(AND(N12<>"",OR($C13=M$7,$C13=O$7)),"P",IF(AND($C13=N$7,OR(M12<>"",O12<>"")),"P",IF($C13=N$7,$A13,N12))))))))))) | O13: =IF($A14="","",IF(AND($T$2="No",O12<>"",$D12=$I$3,COUNTIF(OFFSET(O12,-($D12-1),0,1,1):O12,"R")=0,COUNTIF(OFFSET(O12,-($D12-1),0,1,1):O12,"")=0),"",IF(AND(O12<>"",$D12=$I$3,COUNTIF(OFFSET(O12,-($D12-1),0,1,1):O12,O12)=$I$3),"",IF(AND($C13="",$C12<>"",COUNTIF(O$8:O12,"R")>0),COUNTIF(O$8:O12,"R")&"R",IF($C13="","",IF(AND($C13=O$7,O12<>"",COUNTIF(OFFSET($C12,-$D12,0,1,1):$C12,O$7)>0),"R",IF(AND(O12="P",$C12<>O$7),O11,IF(OR(O12="R",O12="P"),$A12,IF(AND(O12<>"",OR($C13=N$7,$C13=P$7)),"P",IF(AND($C13=O$7,OR(N12<>"",P12<>"")),"P",IF($C13=O$7,$A13,O12))))))))))) | P13: =IF($A14="","",IF(AND($T$2="No",P12<>"",$D12=$I$3,COUNTIF(OFFSET(P12,-($D12-1),0,1,1):P12,"R")=0,COUNTIF(OFFSET(P12,-($D12-1),0,1,1):P12,"")=0),"",IF(AND(P12<>"",$D12=$I$3,COUNTIF(OFFSET(P12,-($D12-1),0,1,1):P12,P12)=$I$3),"",IF(AND($C13="",$C12<>"",COUNTIF(P$8:P12,"R")>0),COUNTIF(P$8:P12,"R")&"R",IF($C13="","",IF(AND($C13=P$7,P12<>"",COUNTIF(OFFSET($C12,-$D12,0,1,1):$C12,P$7)>0),"R",IF(AND(P12="P",$C12<>P$7),P11,IF(OR(P12="R",P12="P"),$A12,IF(AND(P12<>"",OR($C13=O$7,$C13=Q$7)),"P",IF(AND($C13=P$7,OR(O12<>"",Q12<>"")),"P",IF($C13=P$7,$A13,P12))))))))))) | ... AR13: =IF($A14="","",IF(AND($T$2="No",AR12<>"",$D12=$I$3,COUNTIF(OFFSET(AR12,-($D12-1),0,1,1):AR12,"R")=0,COUNTIF(OFFSET(AR12,-($D12-1),0,1,1):AR12,"")=0),"",IF(AND(AR12<>"",$D12=$I$3,COUNTIF(OFFSET(AR12,-($D12-1),0,1,1):AR12,AR12)=$I$3),"",IF(AND($C13="",$C12<>"",COUNTIF(AR$8:AR12,"R")>0),COUNTIF(AR$8:AR12,"R")&"R",IF($C13="","",IF(AND($C13=AR$7,AR12<>"",COUNTIF(OFFSET($C12,-$D12,0,1,1):$C12,AR$7)>0),"R",IF(AND(AR12="P",$C12<>AR$7),AR11,IF(OR(AR12="R",AR12="P"),$A12,IF(AND(AR12<>"",OR($C13=AQ$7,$C13=AS$7)),"P",IF(AND($C13=AR$7,OR(AQ12<>"",AS12<>"")),"P",IF($C13=AR$7,$A13,AR12))))))))))) | AS13: =IF($A14="","",IF(AND($T$2="No",AS12<>"",$D12=$I$3,COUNTIF(OFFSET(AS12,-($D12-1),0,1,1):AS12,"R")=0,COUNTIF(OFFSET(AS12,-($D12-1),0,1,1):AS12,"")=0),"",IF(AND(AS12<>"",$D12=$I$3,COUNTIF(OFFSET($H12,-$D12,0,1,1):AS12,AS12)=$I$3),"",IF(AND($C13="",$C12<>"",COUNTIF(AS$8:AS12,"R")>0),COUNTIF(AS$8:AS12,"R")&"R",IF($C13="","",IF(AND($C13=AS$7,AS12<>"",COUNTIF(OFFSET($C12,$D12,0,1,1):$C12,AS$7)>0),"R",IF(AS12="R",$A12,IF($C13=AS$7,$A13,AS12))))))))
A14: 7 | B14: =IF($I$2="American",LOOKUP(C14,Layout!G:G,Layout!I:I),IF($I$2="European",LOOKUP(C14,Layout!G:G,Layout!H:H),C14)) -> 24 | C14: =IF(I$2="American",RANDBETWEEN(0,37),RANDBETWEEN(0,36)) -> 24 | D14: =IF(A14<I$3,A14,I$3) -> 7 | E14: =IF(COUNTIF(C$8:C13,C14)=0,"",COUNTIF(C$8:C13,C14)) | G14: =IF(OR(LOOKUP(B14,H$6:AR$6,H14:AR14)="P",LOOKUP(B14,H$6:AR$6,H14:AR14)="R"),LOOKUP(B14,H$6:AR$6,H14:AR14),"" ) -> P | H14: =IF($A15="","",IF(AND($T$2="No",H13<>"",$D13=$I$3,COUNTIF(OFFSET(H13,-($D13-1),0,1,1):H13,"R")=0,COUNTIF(OFFSET(H13,-($D13-1),0,1,1):H13,"")=0),"",IF(AND(H13<>"",$D13=$I$3,COUNTIF(OFFSET(H13,-($D13-1),0,1,1):H13,H13)=$I$3),"",IF(AND($C14="",$C13<>"",COUNTIF(H$8:H13,"R")>0),COUNTIF(H$8:H13,"R")&"R",IF($C14="","",IF(AND($C14=H$7,H13<>"",COUNTIF(OFFSET($C13,-$D13,0,1,1):$C13,H$7)>0),"R",IF(AND(H13="P",$C13<>H$7),H12,IF(OR(H13="R",H13="P"),$A13,IF(AND(H13<>"",OR($C14=I$7,$C14=AR$7)),"P",IF(AND($C14=H$7,OR(I13<>"",AR13<>"")),"P",IF($C14=H$7,$A14,H13))))))))))) | I14: =IF($A15="","",IF(AND($T$2="No",I13<>"",$D13=$I$3,COUNTIF(OFFSET(I13,-($D13-1),0,1,1):I13,"R")=0,COUNTIF(OFFSET(I13,-($D13-1),0,1,1):I13,"")=0),"",IF(AND(I13<>"",$D13=$I$3,COUNTIF(OFFSET(I13,-($D13-1),0,1,1):I13,I13)=$I$3),"",IF(AND($C14="",$C13<>"",COUNTIF(I$8:I13,"R")>0),COUNTIF(I$8:I13,"R")&"R",IF($C14="","",IF(AND($C14=I$7,I13<>"",COUNTIF(OFFSET($C13,-$D13,0,1,1):$C13,I$7)>0),"R",IF(AND(I13="P",$C13<>I$7),I12,IF(OR(I13="R",I13="P"),$A13,IF(AND(I13<>"",OR($C14=H$7,$C14=J$7)),"P",IF(AND($C14=I$7,OR(H13<>"",J13<>"")),"P",IF($C14=I$7,$A14,I13))))))))))) | J14: =IF($A15="","",IF(AND($T$2="No",J13<>"",$D13=$I$3,COUNTIF(OFFSET(J13,-($D13-1),0,1,1):J13,"R")=0,COUNTIF(OFFSET(J13,-($D13-1),0,1,1):J13,"")=0),"",IF(AND(J13<>"",$D13=$I$3,COUNTIF(OFFSET(J13,-($D13-1),0,1,1):J13,J13)=$I$3),"",IF(AND($C14="",$C13<>"",COUNTIF(J$8:J13,"R")>0),COUNTIF(J$8:J13,"R")&"R",IF($C14="","",IF(AND($C14=J$7,J13<>"",COUNTIF(OFFSET($C13,-$D13,0,1,1):$C13,J$7)>0),"R",IF(AND(J13="P",$C13<>J$7),J12,IF(OR(J13="R",J13="P"),$A13,IF(AND(J13<>"",OR($C14=I$7,$C14=K$7)),"P",IF(AND($C14=J$7,OR(I13<>"",K13<>"")),"P",IF($C14=J$7,$A14,J13))))))))))) | K14: =IF($A15="","",IF(AND($T$2="No",K13<>"",$D13=$I$3,COUNTIF(OFFSET(K13,-($D13-1),0,1,1):K13,"R")=0,COUNTIF(OFFSET(K13,-($D13-1),0,1,1):K13,"")=0),"",IF(AND(K13<>"",$D13=$I$3,COUNTIF(OFFSET(K13,-($D13-1),0,1,1):K13,K13)=$I$3),"",IF(AND($C14="",$C13<>"",COUNTIF(K$8:K13,"R")>0),COUNTIF(K$8:K13,"R")&"R",IF($C14="","",IF(AND($C14=K$7,K13<>"",COUNTIF(OFFSET($C13,-$D13,0,1,1):$C13,K$7)>0),"R",IF(AND(K13="P",$C13<>K$7),K12,IF(OR(K13="R",K13="P"),$A13,IF(AND(K13<>"",OR($C14=J$7,$C14=L$7)),"P",IF(AND($C14=K$7,OR(J13<>"",L13<>"")),"P",IF($C14=K$7,$A14,K13))))))))))) | L14: =IF($A15="","",IF(AND($T$2="No",L13<>"",$D13=$I$3,COUNTIF(OFFSET(L13,-($D13-1),0,1,1):L13,"R")=0,COUNTIF(OFFSET(L13,-($D13-1),0,1,1):L13,"")=0),"",IF(AND(L13<>"",$D13=$I$3,COUNTIF(OFFSET(L13,-($D13-1),0,1,1):L13,L13)=$I$3),"",IF(AND($C14="",$C13<>"",COUNTIF(L$8:L13,"R")>0),COUNTIF(L$8:L13,"R")&"R",IF($C14="","",IF(AND($C14=L$7,L13<>"",COUNTIF(OFFSET($C13,-$D13,0,1,1):$C13,L$7)>0),"R",IF(AND(L13="P",$C13<>L$7),L12,IF(OR(L13="R",L13="P"),$A13,IF(AND(L13<>"",OR($C14=K$7,$C14=M$7)),"P",IF(AND($C14=L$7,OR(K13<>"",M13<>"")),"P",IF($C14=L$7,$A14,L13))))))))))) | M14: =IF($A15="","",IF(AND($T$2="No",M13<>"",$D13=$I$3,COUNTIF(OFFSET(M13,-($D13-1),0,1,1):M13,"R")=0,COUNTIF(OFFSET(M13,-($D13-1),0,1,1):M13,"")=0),"",IF(AND(M13<>"",$D13=$I$3,COUNTIF(OFFSET(M13,-($D13-1),0,1,1):M13,M13)=$I$3),"",IF(AND($C14="",$C13<>"",COUNTIF(M$8:M13,"R")>0),COUNTIF(M$8:M13,"R")&"R",IF($C14="","",IF(AND($C14=M$7,M13<>"",COUNTIF(OFFSET($C13,-$D13,0,1,1):$C13,M$7)>0),"R",IF(AND(M13="P",$C13<>M$7),M12,IF(OR(M13="R",M13="P"),$A13,IF(AND(M13<>"",OR($C14=L$7,$C14=N$7)),"P",IF(AND($C14=M$7,OR(L13<>"",N13<>"")),"P",IF($C14=M$7,$A14,M13))))))))))) | N14: =IF($A15="","",IF(AND($T$2="No",N13<>"",$D13=$I$3,COUNTIF(OFFSET(N13,-($D13-1),0,1,1):N13,"R")=0,COUNTIF(OFFSET(N13,-($D13-1),0,1,1):N13,"")=0),"",IF(AND(N13<>"",$D13=$I$3,COUNTIF(OFFSET(N13,-($D13-1),0,1,1):N13,N13)=$I$3),"",IF(AND($C14="",$C13<>"",COUNTIF(N$8:N13,"R")>0),COUNTIF(N$8:N13,"R")&"R",IF($C14="","",IF(AND($C14=N$7,N13<>"",COUNTIF(OFFSET($C13,-$D13,0,1,1):$C13,N$7)>0),"R",IF(AND(N13="P",$C13<>N$7),N12,IF(OR(N13="R",N13="P"),$A13,IF(AND(N13<>"",OR($C14=M$7,$C14=O$7)),"P",IF(AND($C14=N$7,OR(M13<>"",O13<>"")),"P",IF($C14=N$7,$A14,N13))))))))))) | O14: =IF($A15="","",IF(AND($T$2="No",O13<>"",$D13=$I$3,COUNTIF(OFFSET(O13,-($D13-1),0,1,1):O13,"R")=0,COUNTIF(OFFSET(O13,-($D13-1),0,1,1):O13,"")=0),"",IF(AND(O13<>"",$D13=$I$3,COUNTIF(OFFSET(O13,-($D13-1),0,1,1):O13,O13)=$I$3),"",IF(AND($C14="",$C13<>"",COUNTIF(O$8:O13,"R")>0),COUNTIF(O$8:O13,"R")&"R",IF($C14="","",IF(AND($C14=O$7,O13<>"",COUNTIF(OFFSET($C13,-$D13,0,1,1):$C13,O$7)>0),"R",IF(AND(O13="P",$C13<>O$7),O12,IF(OR(O13="R",O13="P"),$A13,IF(AND(O13<>"",OR($C14=N$7,$C14=P$7)),"P",IF(AND($C14=O$7,OR(N13<>"",P13<>"")),"P",IF($C14=O$7,$A14,O13))))))))))) | P14: =IF($A15="","",IF(AND($T$2="No",P13<>"",$D13=$I$3,COUNTIF(OFFSET(P13,-($D13-1),0,1,1):P13,"R")=0,COUNTIF(OFFSET(P13,-($D13-1),0,1,1):P13,"")=0),"",IF(AND(P13<>"",$D13=$I$3,COUNTIF(OFFSET(P13,-($D13-1),0,1,1):P13,P13)=$I$3),"",IF(AND($C14="",$C13<>"",COUNTIF(P$8:P13,"R")>0),COUNTIF(P$8:P13,"R")&"R",IF($C14="","",IF(AND($C14=P$7,P13<>"",COUNTIF(OFFSET($C13,-$D13,0,1,1):$C13,P$7)>0),"R",IF(AND(P13="P",$C13<>P$7),P12,IF(OR(P13="R",P13="P"),$A13,IF(AND(P13<>"",OR($C14=O$7,$C14=Q$7)),"P",IF(AND($C14=P$7,OR(O13<>"",Q13<>"")),"P",IF($C14=P$7,$A14,P13))))))))))) | ... AR14: =IF($A15="","",IF(AND($T$2="No",AR13<>"",$D13=$I$3,COUNTIF(OFFSET(AR13,-($D13-1),0,1,1):AR13,"R")=0,COUNTIF(OFFSET(AR13,-($D13-1),0,1,1):AR13,"")=0),"",IF(AND(AR13<>"",$D13=$I$3,COUNTIF(OFFSET(AR13,-($D13-1),0,1,1):AR13,AR13)=$I$3),"",IF(AND($C14="",$C13<>"",COUNTIF(AR$8:AR13,"R")>0),COUNTIF(AR$8:AR13,"R")&"R",IF($C14="","",IF(AND($C14=AR$7,AR13<>"",COUNTIF(OFFSET($C13,-$D13,0,1,1):$C13,AR$7)>0),"R",IF(AND(AR13="P",$C13<>AR$7),AR12,IF(OR(AR13="R",AR13="P"),$A13,IF(AND(AR13<>"",OR($C14=AQ$7,$C14=AS$7)),"P",IF(AND($C14=AR$7,OR(AQ13<>"",AS13<>"")),"P",IF($C14=AR$7,$A14,AR13))))))))))) | AS14: =IF($A15="","",IF(AND($T$2="No",AS13<>"",$D13=$I$3,COUNTIF(OFFSET(AS13,-($D13-1),0,1,1):AS13,"R")=0,COUNTIF(OFFSET(AS13,-($D13-1),0,1,1):AS13,"")=0),"",IF(AND(AS13<>"",$D13=$I$3,COUNTIF(OFFSET($H13,-$D13,0,1,1):AS13,AS13)=$I$3),"",IF(AND($C14="",$C13<>"",COUNTIF(AS$8:AS13,"R")>0),COUNTIF(AS$8:AS13,"R")&"R",IF($C14="","",IF(AND($C14=AS$7,AS13<>"",COUNTIF(OFFSET($C13,$D13,0,1,1):$C13,AS$7)>0),"R",IF(AS13="R",$A13,IF($C14=AS$7,$A14,AS13))))))))
A15: 8 | B15: =IF($I$2="American",LOOKUP(C15,Layout!G:G,Layout!I:I),IF($I$2="European",LOOKUP(C15,Layout!G:G,Layout!H:H),C15)) -> 0 | C15: =IF(I$2="American",RANDBETWEEN(0,37),RANDBETWEEN(0,36)) -> 0 | D15: =IF(A15<I$3,A15,I$3) -> 8 | E15: =IF(COUNTIF(C$8:C14,C15)=0,"",COUNTIF(C$8:C14,C15)) | G15: =IF(OR(LOOKUP(B15,H$6:AR$6,H15:AR15)="P",LOOKUP(B15,H$6:AR$6,H15:AR15)="R"),LOOKUP(B15,H$6:AR$6,H15:AR15),"" ) | H15: =IF($A16="","",IF(AND($T$2="No",H14<>"",$D14=$I$3,COUNTIF(OFFSET(H14,-($D14-1),0,1,1):H14,"R")=0,COUNTIF(OFFSET(H14,-($D14-1),0,1,1):H14,"")=0),"",IF(AND(H14<>"",$D14=$I$3,COUNTIF(OFFSET(H14,-($D14-1),0,1,1):H14,H14)=$I$3),"",IF(AND($C15="",$C14<>"",COUNTIF(H$8:H14,"R")>0),COUNTIF(H$8:H14,"R")&"R",IF($C15="","",IF(AND($C15=H$7,H14<>"",COUNTIF(OFFSET($C14,-$D14,0,1,1):$C14,H$7)>0),"R",IF(AND(H14="P",$C14<>H$7),H13,IF(OR(H14="R",H14="P"),$A14,IF(AND(H14<>"",OR($C15=I$7,$C15=AR$7)),"P",IF(AND($C15=H$7,OR(I14<>"",AR14<>"")),"P",IF($C15=H$7,$A15,H14))))))))))) -> 8 | I15: =IF($A16="","",IF(AND($T$2="No",I14<>"",$D14=$I$3,COUNTIF(OFFSET(I14,-($D14-1),0,1,1):I14,"R")=0,COUNTIF(OFFSET(I14,-($D14-1),0,1,1):I14,"")=0),"",IF(AND(I14<>"",$D14=$I$3,COUNTIF(OFFSET(I14,-($D14-1),0,1,1):I14,I14)=$I$3),"",IF(AND($C15="",$C14<>"",COUNTIF(I$8:I14,"R")>0),COUNTIF(I$8:I14,"R")&"R",IF($C15="","",IF(AND($C15=I$7,I14<>"",COUNTIF(OFFSET($C14,-$D14,0,1,1):$C14,I$7)>0),"R",IF(AND(I14="P",$C14<>I$7),I13,IF(OR(I14="R",I14="P"),$A14,IF(AND(I14<>"",OR($C15=H$7,$C15=J$7)),"P",IF(AND($C15=I$7,OR(H14<>"",J14<>"")),"P",IF($C15=I$7,$A15,I14))))))))))) | J15: =IF($A16="","",IF(AND($T$2="No",J14<>"",$D14=$I$3,COUNTIF(OFFSET(J14,-($D14-1),0,1,1):J14,"R")=0,COUNTIF(OFFSET(J14,-($D14-1),0,1,1):J14,"")=0),"",IF(AND(J14<>"",$D14=$I$3,COUNTIF(OFFSET(J14,-($D14-1),0,1,1):J14,J14)=$I$3),"",IF(AND($C15="",$C14<>"",COUNTIF(J$8:J14,"R")>0),COUNTIF(J$8:J14,"R")&"R",IF($C15="","",IF(AND($C15=J$7,J14<>"",COUNTIF(OFFSET($C14,-$D14,0,1,1):$C14,J$7)>0),"R",IF(AND(J14="P",$C14<>J$7),J13,IF(OR(J14="R",J14="P"),$A14,IF(AND(J14<>"",OR($C15=I$7,$C15=K$7)),"P",IF(AND($C15=J$7,OR(I14<>"",K14<>"")),"P",IF($C15=J$7,$A15,J14))))))))))) | K15: =IF($A16="","",IF(AND($T$2="No",K14<>"",$D14=$I$3,COUNTIF(OFFSET(K14,-($D14-1),0,1,1):K14,"R")=0,COUNTIF(OFFSET(K14,-($D14-1),0,1,1):K14,"")=0),"",IF(AND(K14<>"",$D14=$I$3,COUNTIF(OFFSET(K14,-($D14-1),0,1,1):K14,K14)=$I$3),"",IF(AND($C15="",$C14<>"",COUNTIF(K$8:K14,"R")>0),COUNTIF(K$8:K14,"R")&"R",IF($C15="","",IF(AND($C15=K$7,K14<>"",COUNTIF(OFFSET($C14,-$D14,0,1,1):$C14,K$7)>0),"R",IF(AND(K14="P",$C14<>K$7),K13,IF(OR(K14="R",K14="P"),$A14,IF(AND(K14<>"",OR($C15=J$7,$C15=L$7)),"P",IF(AND($C15=K$7,OR(J14<>"",L14<>"")),"P",IF($C15=K$7,$A15,K14))))))))))) | L15: =IF($A16="","",IF(AND($T$2="No",L14<>"",$D14=$I$3,COUNTIF(OFFSET(L14,-($D14-1),0,1,1):L14,"R")=0,COUNTIF(OFFSET(L14,-($D14-1),0,1,1):L14,"")=0),"",IF(AND(L14<>"",$D14=$I$3,COUNTIF(OFFSET(L14,-($D14-1),0,1,1):L14,L14)=$I$3),"",IF(AND($C15="",$C14<>"",COUNTIF(L$8:L14,"R")>0),COUNTIF(L$8:L14,"R")&"R",IF($C15="","",IF(AND($C15=L$7,L14<>"",COUNTIF(OFFSET($C14,-$D14,0,1,1):$C14,L$7)>0),"R",IF(AND(L14="P",$C14<>L$7),L13,IF(OR(L14="R",L14="P"),$A14,IF(AND(L14<>"",OR($C15=K$7,$C15=M$7)),"P",IF(AND($C15=L$7,OR(K14<>"",M14<>"")),"P",IF($C15=L$7,$A15,L14))))))))))) | M15: =IF($A16="","",IF(AND($T$2="No",M14<>"",$D14=$I$3,COUNTIF(OFFSET(M14,-($D14-1),0,1,1):M14,"R")=0,COUNTIF(OFFSET(M14,-($D14-1),0,1,1):M14,"")=0),"",IF(AND(M14<>"",$D14=$I$3,COUNTIF(OFFSET(M14,-($D14-1),0,1,1):M14,M14)=$I$3),"",IF(AND($C15="",$C14<>"",COUNTIF(M$8:M14,"R")>0),COUNTIF(M$8:M14,"R")&"R",IF($C15="","",IF(AND($C15=M$7,M14<>"",COUNTIF(OFFSET($C14,-$D14,0,1,1):$C14,M$7)>0),"R",IF(AND(M14="P",$C14<>M$7),M13,IF(OR(M14="R",M14="P"),$A14,IF(AND(M14<>"",OR($C15=L$7,$C15=N$7)),"P",IF(AND($C15=M$7,OR(L14<>"",N14<>"")),"P",IF($C15=M$7,$A15,M14))))))))))) | N15: =IF($A16="","",IF(AND($T$2="No",N14<>"",$D14=$I$3,COUNTIF(OFFSET(N14,-($D14-1),0,1,1):N14,"R")=0,COUNTIF(OFFSET(N14,-($D14-1),0,1,1):N14,"")=0),"",IF(AND(N14<>"",$D14=$I$3,COUNTIF(OFFSET(N14,-($D14-1),0,1,1):N14,N14)=$I$3),"",IF(AND($C15="",$C14<>"",COUNTIF(N$8:N14,"R")>0),COUNTIF(N$8:N14,"R")&"R",IF($C15="","",IF(AND($C15=N$7,N14<>"",COUNTIF(OFFSET($C14,-$D14,0,1,1):$C14,N$7)>0),"R",IF(AND(N14="P",$C14<>N$7),N13,IF(OR(N14="R",N14="P"),$A14,IF(AND(N14<>"",OR($C15=M$7,$C15=O$7)),"P",IF(AND($C15=N$7,OR(M14<>"",O14<>"")),"P",IF($C15=N$7,$A15,N14))))))))))) | O15: =IF($A16="","",IF(AND($T$2="No",O14<>"",$D14=$I$3,COUNTIF(OFFSET(O14,-($D14-1),0,1,1):O14,"R")=0,COUNTIF(OFFSET(O14,-($D14-1),0,1,1):O14,"")=0),"",IF(AND(O14<>"",$D14=$I$3,COUNTIF(OFFSET(O14,-($D14-1),0,1,1):O14,O14)=$I$3),"",IF(AND($C15="",$C14<>"",COUNTIF(O$8:O14,"R")>0),COUNTIF(O$8:O14,"R")&"R",IF($C15="","",IF(AND($C15=O$7,O14<>"",COUNTIF(OFFSET($C14,-$D14,0,1,1):$C14,O$7)>0),"R",IF(AND(O14="P",$C14<>O$7),O13,IF(OR(O14="R",O14="P"),$A14,IF(AND(O14<>"",OR($C15=N$7,$C15=P$7)),"P",IF(AND($C15=O$7,OR(N14<>"",P14<>"")),"P",IF($C15=O$7,$A15,O14))))))))))) | P15: =IF($A16="","",IF(AND($T$2="No",P14<>"",$D14=$I$3,COUNTIF(OFFSET(P14,-($D14-1),0,1,1):P14,"R")=0,COUNTIF(OFFSET(P14,-($D14-1),0,1,1):P14,"")=0),"",IF(AND(P14<>"",$D14=$I$3,COUNTIF(OFFSET(P14,-($D14-1),0,1,1):P14,P14)=$I$3),"",IF(AND($C15="",$C14<>"",COUNTIF(P$8:P14,"R")>0),COUNTIF(P$8:P14,"R")&"R",IF($C15="","",IF(AND($C15=P$7,P14<>"",COUNTIF(OFFSET($C14,-$D14,0,1,1):$C14,P$7)>0),"R",IF(AND(P14="P",$C14<>P$7),P13,IF(OR(P14="R",P14="P"),$A14,IF(AND(P14<>"",OR($C15=O$7,$C15=Q$7)),"P",IF(AND($C15=P$7,OR(O14<>"",Q14<>"")),"P",IF($C15=P$7,$A15,P14))))))))))) | ... AR15: =IF($A16="","",IF(AND($T$2="No",AR14<>"",$D14=$I$3,COUNTIF(OFFSET(AR14,-($D14-1),0,1,1):AR14,"R")=0,COUNTIF(OFFSET(AR14,-($D14-1),0,1,1):AR14,"")=0),"",IF(AND(AR14<>"",$D14=$I$3,COUNTIF(OFFSET(AR14,-($D14-1),0,1,1):AR14,AR14)=$I$3),"",IF(AND($C15="",$C14<>"",COUNTIF(AR$8:AR14,"R")>0),COUNTIF(AR$8:AR14,"R")&"R",IF($C15="","",IF(AND($C15=AR$7,AR14<>"",COUNTIF(OFFSET($C14,-$D14,0,1,1):$C14,AR$7)>0),"R",IF(AND(AR14="P",$C14<>AR$7),AR13,IF(OR(AR14="R",AR14="P"),$A14,IF(AND(AR14<>"",OR($C15=AQ$7,$C15=AS$7)),"P",IF(AND($C15=AR$7,OR(AQ14<>"",AS14<>"")),"P",IF($C15=AR$7,$A15,AR14))))))))))) | AS15: =IF($A16="","",IF(AND($T$2="No",AS14<>"",$D14=$I$3,COUNTIF(OFFSET(AS14,-($D14-1),0,1,1):AS14,"R")=0,COUNTIF(OFFSET(AS14,-($D14-1),0,1,1):AS14,"")=0),"",IF(AND(AS14<>"",$D14=$I$3,COUNTIF(OFFSET($H14,-$D14,0,1,1):AS14,AS14)=$I$3),"",IF(AND($C15="",$C14<>"",COUNTIF(AS$8:AS14,"R")>0),COUNTIF(AS$8:AS14,"R")&"R",IF($C15="","",IF(AND($C15=AS$7,AS14<>"",COUNTIF(OFFSET($C14,$D14,0,1,1):$C14,AS$7)>0),"R",IF(AS14="R",$A14,IF($C15=AS$7,$A15,AS14))))))))
A16: 9 | B16: =IF($I$2="American",LOOKUP(C16,Layout!G:G,Layout!I:I),IF($I$2="European",LOOKUP(C16,Layout!G:G,Layout!H:H),C16)) -> 17 | C16: =IF(I$2="American",RANDBETWEEN(0,37),RANDBETWEEN(0,36)) -> 17 | D16: =IF(A16<I$3,A16,I$3) -> 8 | E16: =IF(COUNTIF(C$8:C15,C16)=0,"",COUNTIF(C$8:C15,C16)) | G16: =IF(OR(LOOKUP(B16,H$6:AR$6,H16:AR16)="P",LOOKUP(B16,H$6:AR$6,H16:AR16)="R"),LOOKUP(B16,H$6:AR$6,H16:AR16),"" ) | H16: =IF($A17="","",IF(AND($T$2="No",H15<>"",$D15=$I$3,COUNTIF(OFFSET(H15,-($D15-1),0,1,1):H15,"R")=0,COUNTIF(OFFSET(H15,-($D15-1),0,1,1):H15,"")=0),"",IF(AND(H15<>"",$D15=$I$3,COUNTIF(OFFSET(H15,-($D15-1),0,1,1):H15,H15)=$I$3),"",IF(AND($C16="",$C15<>"",COUNTIF(H$8:H15,"R")>0),COUNTIF(H$8:H15,"R")&"R",IF($C16="","",IF(AND($C16=H$7,H15<>"",COUNTIF(OFFSET($C15,-$D15,0,1,1):$C15,H$7)>0),"R",IF(AND(H15="P",$C15<>H$7),H14,IF(OR(H15="R",H15="P"),$A15,IF(AND(H15<>"",OR($C16=I$7,$C16=AR$7)),"P",IF(AND($C16=H$7,OR(I15<>"",AR15<>"")),"P",IF($C16=H$7,$A16,H15))))))))))) -> 8 | I16: =IF($A17="","",IF(AND($T$2="No",I15<>"",$D15=$I$3,COUNTIF(OFFSET(I15,-($D15-1),0,1,1):I15,"R")=0,COUNTIF(OFFSET(I15,-($D15-1),0,1,1):I15,"")=0),"",IF(AND(I15<>"",$D15=$I$3,COUNTIF(OFFSET(I15,-($D15-1),0,1,1):I15,I15)=$I$3),"",IF(AND($C16="",$C15<>"",COUNTIF(I$8:I15,"R")>0),COUNTIF(I$8:I15,"R")&"R",IF($C16="","",IF(AND($C16=I$7,I15<>"",COUNTIF(OFFSET($C15,-$D15,0,1,1):$C15,I$7)>0),"R",IF(AND(I15="P",$C15<>I$7),I14,IF(OR(I15="R",I15="P"),$A15,IF(AND(I15<>"",OR($C16=H$7,$C16=J$7)),"P",IF(AND($C16=I$7,OR(H15<>"",J15<>"")),"P",IF($C16=I$7,$A16,I15))))))))))) | J16: =IF($A17="","",IF(AND($T$2="No",J15<>"",$D15=$I$3,COUNTIF(OFFSET(J15,-($D15-1),0,1,1):J15,"R")=0,COUNTIF(OFFSET(J15,-($D15-1),0,1,1):J15,"")=0),"",IF(AND(J15<>"",$D15=$I$3,COUNTIF(OFFSET(J15,-($D15-1),0,1,1):J15,J15)=$I$3),"",IF(AND($C16="",$C15<>"",COUNTIF(J$8:J15,"R")>0),COUNTIF(J$8:J15,"R")&"R",IF($C16="","",IF(AND($C16=J$7,J15<>"",COUNTIF(OFFSET($C15,-$D15,0,1,1):$C15,J$7)>0),"R",IF(AND(J15="P",$C15<>J$7),J14,IF(OR(J15="R",J15="P"),$A15,IF(AND(J15<>"",OR($C16=I$7,$C16=K$7)),"P",IF(AND($C16=J$7,OR(I15<>"",K15<>"")),"P",IF($C16=J$7,$A16,J15))))))))))) | K16: =IF($A17="","",IF(AND($T$2="No",K15<>"",$D15=$I$3,COUNTIF(OFFSET(K15,-($D15-1),0,1,1):K15,"R")=0,COUNTIF(OFFSET(K15,-($D15-1),0,1,1):K15,"")=0),"",IF(AND(K15<>"",$D15=$I$3,COUNTIF(OFFSET(K15,-($D15-1),0,1,1):K15,K15)=$I$3),"",IF(AND($C16="",$C15<>"",COUNTIF(K$8:K15,"R")>0),COUNTIF(K$8:K15,"R")&"R",IF($C16="","",IF(AND($C16=K$7,K15<>"",COUNTIF(OFFSET($C15,-$D15,0,1,1):$C15,K$7)>0),"R",IF(AND(K15="P",$C15<>K$7),K14,IF(OR(K15="R",K15="P"),$A15,IF(AND(K15<>"",OR($C16=J$7,$C16=L$7)),"P",IF(AND($C16=K$7,OR(J15<>"",L15<>"")),"P",IF($C16=K$7,$A16,K15))))))))))) | L16: =IF($A17="","",IF(AND($T$2="No",L15<>"",$D15=$I$3,COUNTIF(OFFSET(L15,-($D15-1),0,1,1):L15,"R")=0,COUNTIF(OFFSET(L15,-($D15-1),0,1,1):L15,"")=0),"",IF(AND(L15<>"",$D15=$I$3,COUNTIF(OFFSET(L15,-($D15-1),0,1,1):L15,L15)=$I$3),"",IF(AND($C16="",$C15<>"",COUNTIF(L$8:L15,"R")>0),COUNTIF(L$8:L15,"R")&"R",IF($C16="","",IF(AND($C16=L$7,L15<>"",COUNTIF(OFFSET($C15,-$D15,0,1,1):$C15,L$7)>0),"R",IF(AND(L15="P",$C15<>L$7),L14,IF(OR(L15="R",L15="P"),$A15,IF(AND(L15<>"",OR($C16=K$7,$C16=M$7)),"P",IF(AND($C16=L$7,OR(K15<>"",M15<>"")),"P",IF($C16=L$7,$A16,L15))))))))))) | M16: =IF($A17="","",IF(AND($T$2="No",M15<>"",$D15=$I$3,COUNTIF(OFFSET(M15,-($D15-1),0,1,1):M15,"R")=0,COUNTIF(OFFSET(M15,-($D15-1),0,1,1):M15,"")=0),"",IF(AND(M15<>"",$D15=$I$3,COUNTIF(OFFSET(M15,-($D15-1),0,1,1):M15,M15)=$I$3),"",IF(AND($C16="",$C15<>"",COUNTIF(M$8:M15,"R")>0),COUNTIF(M$8:M15,"R")&"R",IF($C16="","",IF(AND($C16=M$7,M15<>"",COUNTIF(OFFSET($C15,-$D15,0,1,1):$C15,M$7)>0),"R",IF(AND(M15="P",$C15<>M$7),M14,IF(OR(M15="R",M15="P"),$A15,IF(AND(M15<>"",OR($C16=L$7,$C16=N$7)),"P",IF(AND($C16=M$7,OR(L15<>"",N15<>"")),"P",IF($C16=M$7,$A16,M15))))))))))) | N16: =IF($A17="","",IF(AND($T$2="No",N15<>"",$D15=$I$3,COUNTIF(OFFSET(N15,-($D15-1),0,1,1):N15,"R")=0,COUNTIF(OFFSET(N15,-($D15-1),0,1,1):N15,"")=0),"",IF(AND(N15<>"",$D15=$I$3,COUNTIF(OFFSET(N15,-($D15-1),0,1,1):N15,N15)=$I$3),"",IF(AND($C16="",$C15<>"",COUNTIF(N$8:N15,"R")>0),COUNTIF(N$8:N15,"R")&"R",IF($C16="","",IF(AND($C16=N$7,N15<>"",COUNTIF(OFFSET($C15,-$D15,0,1,1):$C15,N$7)>0),"R",IF(AND(N15="P",$C15<>N$7),N14,IF(OR(N15="R",N15="P"),$A15,IF(AND(N15<>"",OR($C16=M$7,$C16=O$7)),"P",IF(AND($C16=N$7,OR(M15<>"",O15<>"")),"P",IF($C16=N$7,$A16,N15))))))))))) | O16: =IF($A17="","",IF(AND($T$2="No",O15<>"",$D15=$I$3,COUNTIF(OFFSET(O15,-($D15-1),0,1,1):O15,"R")=0,COUNTIF(OFFSET(O15,-($D15-1),0,1,1):O15,"")=0),"",IF(AND(O15<>"",$D15=$I$3,COUNTIF(OFFSET(O15,-($D15-1),0,1,1):O15,O15)=$I$3),"",IF(AND($C16="",$C15<>"",COUNTIF(O$8:O15,"R")>0),COUNTIF(O$8:O15,"R")&"R",IF($C16="","",IF(AND($C16=O$7,O15<>"",COUNTIF(OFFSET($C15,-$D15,0,1,1):$C15,O$7)>0),"R",IF(AND(O15="P",$C15<>O$7),O14,IF(OR(O15="R",O15="P"),$A15,IF(AND(O15<>"",OR($C16=N$7,$C16=P$7)),"P",IF(AND($C16=O$7,OR(N15<>"",P15<>"")),"P",IF($C16=O$7,$A16,O15))))))))))) | P16: =IF($A17="","",IF(AND($T$2="No",P15<>"",$D15=$I$3,COUNTIF(OFFSET(P15,-($D15-1),0,1,1):P15,"R")=0,COUNTIF(OFFSET(P15,-($D15-1),0,1,1):P15,"")=0),"",IF(AND(P15<>"",$D15=$I$3,COUNTIF(OFFSET(P15,-($D15-1),0,1,1):P15,P15)=$I$3),"",IF(AND($C16="",$C15<>"",COUNTIF(P$8:P15,"R")>0),COUNTIF(P$8:P15,"R")&"R",IF($C16="","",IF(AND($C16=P$7,P15<>"",COUNTIF(OFFSET($C15,-$D15,0,1,1):$C15,P$7)>0),"R",IF(AND(P15="P",$C15<>P$7),P14,IF(OR(P15="R",P15="P"),$A15,IF(AND(P15<>"",OR($C16=O$7,$C16=Q$7)),"P",IF(AND($C16=P$7,OR(O15<>"",Q15<>"")),"P",IF($C16=P$7,$A16,P15))))))))))) | ... AR16: =IF($A17="","",IF(AND($T$2="No",AR15<>"",$D15=$I$3,COUNTIF(OFFSET(AR15,-($D15-1),0,1,1):AR15,"R")=0,COUNTIF(OFFSET(AR15,-($D15-1),0,1,1):AR15,"")=0),"",IF(AND(AR15<>"",$D15=$I$3,COUNTIF(OFFSET(AR15,-($D15-1),0,1,1):AR15,AR15)=$I$3),"",IF(AND($C16="",$C15<>"",COUNTIF(AR$8:AR15,"R")>0),COUNTIF(AR$8:AR15,"R")&"R",IF($C16="","",IF(AND($C16=AR$7,AR15<>"",COUNTIF(OFFSET($C15,-$D15,0,1,1):$C15,AR$7)>0),"R",IF(AND(AR15="P",$C15<>AR$7),AR14,IF(OR(AR15="R",AR15="P"),$A15,IF(AND(AR15<>"",OR($C16=AQ$7,$C16=AS$7)),"P",IF(AND($C16=AR$7,OR(AQ15<>"",AS15<>"")),"P",IF($C16=AR$7,$A16,AR15))))))))))) | AS16: =IF($A17="","",IF(AND($T$2="No",AS15<>"",$D15=$I$3,COUNTIF(OFFSET(AS15,-($D15-1),0,1,1):AS15,"R")=0,COUNTIF(OFFSET(AS15,-($D15-1),0,1,1):AS15,"")=0),"",IF(AND(AS15<>"",$D15=$I$3,COUNTIF(OFFSET($H15,-$D15,0,1,1):AS15,AS15)=$I$3),"",IF(AND($C16="",$C15<>"",COUNTIF(AS$8:AS15,"R")>0),COUNTIF(AS$8:AS15,"R")&"R",IF($C16="","",IF(AND($C16=AS$7,AS15<>"",COUNTIF(OFFSET($C15,$D15,0,1,1):$C15,AS$7)>0),"R",IF(AS15="R",$A15,IF($C16=AS$7,$A16,AS15))))))))
A17: 10 | B17: =IF($I$2="American",LOOKUP(C17,Layout!G:G,Layout!I:I),IF($I$2="European",LOOKUP(C17,Layout!G:G,Layout!H:H),C17)) -> 20 | C17: =IF(I$2="American",RANDBETWEEN(0,37),RANDBETWEEN(0,36)) -> 20 | D17: =IF(A17<I$3,A17,I$3) -> 8 | E17: =IF(COUNTIF(C$8:C16,C17)=0,"",COUNTIF(C$8:C16,C17)) | G17: =IF(OR(LOOKUP(B17,H$6:AR$6,H17:AR17)="P",LOOKUP(B17,H$6:AR$6,H17:AR17)="R"),LOOKUP(B17,H$6:AR$6,H17:AR17),"" ) | H17: =IF($A18="","",IF(AND($T$2="No",H16<>"",$D16=$I$3,COUNTIF(OFFSET(H16,-($D16-1),0,1,1):H16,"R")=0,COUNTIF(OFFSET(H16,-($D16-1),0,1,1):H16,"")=0),"",IF(AND(H16<>"",$D16=$I$3,COUNTIF(OFFSET(H16,-($D16-1),0,1,1):H16,H16)=$I$3),"",IF(AND($C17="",$C16<>"",COUNTIF(H$8:H16,"R")>0),COUNTIF(H$8:H16,"R")&"R",IF($C17="","",IF(AND($C17=H$7,H16<>"",COUNTIF(OFFSET($C16,-$D16,0,1,1):$C16,H$7)>0),"R",IF(AND(H16="P",$C16<>H$7),H15,IF(OR(H16="R",H16="P"),$A16,IF(AND(H16<>"",OR($C17=I$7,$C17=AR$7)),"P",IF(AND($C17=H$7,OR(I16<>"",AR16<>"")),"P",IF($C17=H$7,$A17,H16))))))))))) -> 8 | I17: =IF($A18="","",IF(AND($T$2="No",I16<>"",$D16=$I$3,COUNTIF(OFFSET(I16,-($D16-1),0,1,1):I16,"R")=0,COUNTIF(OFFSET(I16,-($D16-1),0,1,1):I16,"")=0),"",IF(AND(I16<>"",$D16=$I$3,COUNTIF(OFFSET(I16,-($D16-1),0,1,1):I16,I16)=$I$3),"",IF(AND($C17="",$C16<>"",COUNTIF(I$8:I16,"R")>0),COUNTIF(I$8:I16,"R")&"R",IF($C17="","",IF(AND($C17=I$7,I16<>"",COUNTIF(OFFSET($C16,-$D16,0,1,1):$C16,I$7)>0),"R",IF(AND(I16="P",$C16<>I$7),I15,IF(OR(I16="R",I16="P"),$A16,IF(AND(I16<>"",OR($C17=H$7,$C17=J$7)),"P",IF(AND($C17=I$7,OR(H16<>"",J16<>"")),"P",IF($C17=I$7,$A17,I16))))))))))) | J17: =IF($A18="","",IF(AND($T$2="No",J16<>"",$D16=$I$3,COUNTIF(OFFSET(J16,-($D16-1),0,1,1):J16,"R")=0,COUNTIF(OFFSET(J16,-($D16-1),0,1,1):J16,"")=0),"",IF(AND(J16<>"",$D16=$I$3,COUNTIF(OFFSET(J16,-($D16-1),0,1,1):J16,J16)=$I$3),"",IF(AND($C17="",$C16<>"",COUNTIF(J$8:J16,"R")>0),COUNTIF(J$8:J16,"R")&"R",IF($C17="","",IF(AND($C17=J$7,J16<>"",COUNTIF(OFFSET($C16,-$D16,0,1,1):$C16,J$7)>0),"R",IF(AND(J16="P",$C16<>J$7),J15,IF(OR(J16="R",J16="P"),$A16,IF(AND(J16<>"",OR($C17=I$7,$C17=K$7)),"P",IF(AND($C17=J$7,OR(I16<>"",K16<>"")),"P",IF($C17=J$7,$A17,J16))))))))))) | K17: =IF($A18="","",IF(AND($T$2="No",K16<>"",$D16=$I$3,COUNTIF(OFFSET(K16,-($D16-1),0,1,1):K16,"R")=0,COUNTIF(OFFSET(K16,-($D16-1),0,1,1):K16,"")=0),"",IF(AND(K16<>"",$D16=$I$3,COUNTIF(OFFSET(K16,-($D16-1),0,1,1):K16,K16)=$I$3),"",IF(AND($C17="",$C16<>"",COUNTIF(K$8:K16,"R")>0),COUNTIF(K$8:K16,"R")&"R",IF($C17="","",IF(AND($C17=K$7,K16<>"",COUNTIF(OFFSET($C16,-$D16,0,1,1):$C16,K$7)>0),"R",IF(AND(K16="P",$C16<>K$7),K15,IF(OR(K16="R",K16="P"),$A16,IF(AND(K16<>"",OR($C17=J$7,$C17=L$7)),"P",IF(AND($C17=K$7,OR(J16<>"",L16<>"")),"P",IF($C17=K$7,$A17,K16))))))))))) | L17: =IF($A18="","",IF(AND($T$2="No",L16<>"",$D16=$I$3,COUNTIF(OFFSET(L16,-($D16-1),0,1,1):L16,"R")=0,COUNTIF(OFFSET(L16,-($D16-1),0,1,1):L16,"")=0),"",IF(AND(L16<>"",$D16=$I$3,COUNTIF(OFFSET(L16,-($D16-1),0,1,1):L16,L16)=$I$3),"",IF(AND($C17="",$C16<>"",COUNTIF(L$8:L16,"R")>0),COUNTIF(L$8:L16,"R")&"R",IF($C17="","",IF(AND($C17=L$7,L16<>"",COUNTIF(OFFSET($C16,-$D16,0,1,1):$C16,L$7)>0),"R",IF(AND(L16="P",$C16<>L$7),L15,IF(OR(L16="R",L16="P"),$A16,IF(AND(L16<>"",OR($C17=K$7,$C17=M$7)),"P",IF(AND($C17=L$7,OR(K16<>"",M16<>"")),"P",IF($C17=L$7,$A17,L16))))))))))) | M17: =IF($A18="","",IF(AND($T$2="No",M16<>"",$D16=$I$3,COUNTIF(OFFSET(M16,-($D16-1),0,1,1):M16,"R")=0,COUNTIF(OFFSET(M16,-($D16-1),0,1,1):M16,"")=0),"",IF(AND(M16<>"",$D16=$I$3,COUNTIF(OFFSET(M16,-($D16-1),0,1,1):M16,M16)=$I$3),"",IF(AND($C17="",$C16<>"",COUNTIF(M$8:M16,"R")>0),COUNTIF(M$8:M16,"R")&"R",IF($C17="","",IF(AND($C17=M$7,M16<>"",COUNTIF(OFFSET($C16,-$D16,0,1,1):$C16,M$7)>0),"R",IF(AND(M16="P",$C16<>M$7),M15,IF(OR(M16="R",M16="P"),$A16,IF(AND(M16<>"",OR($C17=L$7,$C17=N$7)),"P",IF(AND($C17=M$7,OR(L16<>"",N16<>"")),"P",IF($C17=M$7,$A17,M16))))))))))) | N17: =IF($A18="","",IF(AND($T$2="No",N16<>"",$D16=$I$3,COUNTIF(OFFSET(N16,-($D16-1),0,1,1):N16,"R")=0,COUNTIF(OFFSET(N16,-($D16-1),0,1,1):N16,"")=0),"",IF(AND(N16<>"",$D16=$I$3,COUNTIF(OFFSET(N16,-($D16-1),0,1,1):N16,N16)=$I$3),"",IF(AND($C17="",$C16<>"",COUNTIF(N$8:N16,"R")>0),COUNTIF(N$8:N16,"R")&"R",IF($C17="","",IF(AND($C17=N$7,N16<>"",COUNTIF(OFFSET($C16,-$D16,0,1,1):$C16,N$7)>0),"R",IF(AND(N16="P",$C16<>N$7),N15,IF(OR(N16="R",N16="P"),$A16,IF(AND(N16<>"",OR($C17=M$7,$C17=O$7)),"P",IF(AND($C17=N$7,OR(M16<>"",O16<>"")),"P",IF($C17=N$7,$A17,N16))))))))))) | O17: =IF($A18="","",IF(AND($T$2="No",O16<>"",$D16=$I$3,COUNTIF(OFFSET(O16,-($D16-1),0,1,1):O16,"R")=0,COUNTIF(OFFSET(O16,-($D16-1),0,1,1):O16,"")=0),"",IF(AND(O16<>"",$D16=$I$3,COUNTIF(OFFSET(O16,-($D16-1),0,1,1):O16,O16)=$I$3),"",IF(AND($C17="",$C16<>"",COUNTIF(O$8:O16,"R")>0),COUNTIF(O$8:O16,"R")&"R",IF($C17="","",IF(AND($C17=O$7,O16<>"",COUNTIF(OFFSET($C16,-$D16,0,1,1):$C16,O$7)>0),"R",IF(AND(O16="P",$C16<>O$7),O15,IF(OR(O16="R",O16="P"),$A16,IF(AND(O16<>"",OR($C17=N$7,$C17=P$7)),"P",IF(AND($C17=O$7,OR(N16<>"",P16<>"")),"P",IF($C17=O$7,$A17,O16))))))))))) | P17: =IF($A18="","",IF(AND($T$2="No",P16<>"",$D16=$I$3,COUNTIF(OFFSET(P16,-($D16-1),0,1,1):P16,"R")=0,COUNTIF(OFFSET(P16,-($D16-1),0,1,1):P16,"")=0),"",IF(AND(P16<>"",$D16=$I$3,COUNTIF(OFFSET(P16,-($D16-1),0,1,1):P16,P16)=$I$3),"",IF(AND($C17="",$C16<>"",COUNTIF(P$8:P16,"R")>0),COUNTIF(P$8:P16,"R")&"R",IF($C17="","",IF(AND($C17=P$7,P16<>"",COUNTIF(OFFSET($C16,-$D16,0,1,1):$C16,P$7)>0),"R",IF(AND(P16="P",$C16<>P$7),P15,IF(OR(P16="R",P16="P"),$A16,IF(AND(P16<>"",OR($C17=O$7,$C17=Q$7)),"P",IF(AND($C17=P$7,OR(O16<>"",Q16<>"")),"P",IF($C17=P$7,$A17,P16))))))))))) | ... AR17: =IF($A18="","",IF(AND($T$2="No",AR16<>"",$D16=$I$3,COUNTIF(OFFSET(AR16,-($D16-1),0,1,1):AR16,"R")=0,COUNTIF(OFFSET(AR16,-($D16-1),0,1,1):AR16,"")=0),"",IF(AND(AR16<>"",$D16=$I$3,COUNTIF(OFFSET(AR16,-($D16-1),0,1,1):AR16,AR16)=$I$3),"",IF(AND($C17="",$C16<>"",COUNTIF(AR$8:AR16,"R")>0),COUNTIF(AR$8:AR16,"R")&"R",IF($C17="","",IF(AND($C17=AR$7,AR16<>"",COUNTIF(OFFSET($C16,-$D16,0,1,1):$C16,AR$7)>0),"R",IF(AND(AR16="P",$C16<>AR$7),AR15,IF(OR(AR16="R",AR16="P"),$A16,IF(AND(AR16<>"",OR($C17=AQ$7,$C17=AS$7)),"P",IF(AND($C17=AR$7,OR(AQ16<>"",AS16<>"")),"P",IF($C17=AR$7,$A17,AR16))))))))))) | AS17: =IF($A18="","",IF(AND($T$2="No",AS16<>"",$D16=$I$3,COUNTIF(OFFSET(AS16,-($D16-1),0,1,1):AS16,"R")=0,COUNTIF(OFFSET(AS16,-($D16-1),0,1,1):AS16,"")=0),"",IF(AND(AS16<>"",$D16=$I$3,COUNTIF(OFFSET($H16,-$D16,0,1,1):AS16,AS16)=$I$3),"",IF(AND($C17="",$C16<>"",COUNTIF(AS$8:AS16,"R")>0),COUNTIF(AS$8:AS16,"R")&"R",IF($C17="","",IF(AND($C17=AS$7,AS16<>"",COUNTIF(OFFSET($C16,$D16,0,1,1):$C16,AS$7)>0),"R",IF(AS16="R",$A16,IF($C17=AS$7,$A17,AS16))))))))
A18: 11 | B18: =IF($I$2="American",LOOKUP(C18,Layout!G:G,Layout!I:I),IF($I$2="European",LOOKUP(C18,Layout!G:G,Layout!H:H),C18)) -> 14 | C18: =IF(I$2="American",RANDBETWEEN(0,37),RANDBETWEEN(0,36)) -> 14 | D18: =IF(A18<I$3,A18,I$3) -> 8 | E18: =IF(COUNTIF(C$8:C17,C18)=0,"",COUNTIF(C$8:C17,C18)) | G18: =IF(OR(LOOKUP(B18,H$6:AR$6,H18:AR18)="P",LOOKUP(B18,H$6:AR$6,H18:AR18)="R"),LOOKUP(B18,H$6:AR$6,H18:AR18),"" ) -> P | H18: =IF($A19="","",IF(AND($T$2="No",H17<>"",$D17=$I$3,COUNTIF(OFFSET(H17,-($D17-1),0,1,1):H17,"R")=0,COUNTIF(OFFSET(H17,-($D17-1),0,1,1):H17,"")=0),"",IF(AND(H17<>"",$D17=$I$3,COUNTIF(OFFSET(H17,-($D17-1),0,1,1):H17,H17)=$I$3),"",IF(AND($C18="",$C17<>"",COUNTIF(H$8:H17,"R")>0),COUNTIF(H$8:H17,"R")&"R",IF($C18="","",IF(AND($C18=H$7,H17<>"",COUNTIF(OFFSET($C17,-$D17,0,1,1):$C17,H$7)>0),"R",IF(AND(H17="P",$C17<>H$7),H16,IF(OR(H17="R",H17="P"),$A17,IF(AND(H17<>"",OR($C18=I$7,$C18=AR$7)),"P",IF(AND($C18=H$7,OR(I17<>"",AR17<>"")),"P",IF($C18=H$7,$A18,H17))))))))))) -> 8 | I18: =IF($A19="","",IF(AND($T$2="No",I17<>"",$D17=$I$3,COUNTIF(OFFSET(I17,-($D17-1),0,1,1):I17,"R")=0,COUNTIF(OFFSET(I17,-($D17-1),0,1,1):I17,"")=0),"",IF(AND(I17<>"",$D17=$I$3,COUNTIF(OFFSET(I17,-($D17-1),0,1,1):I17,I17)=$I$3),"",IF(AND($C18="",$C17<>"",COUNTIF(I$8:I17,"R")>0),COUNTIF(I$8:I17,"R")&"R",IF($C18="","",IF(AND($C18=I$7,I17<>"",COUNTIF(OFFSET($C17,-$D17,0,1,1):$C17,I$7)>0),"R",IF(AND(I17="P",$C17<>I$7),I16,IF(OR(I17="R",I17="P"),$A17,IF(AND(I17<>"",OR($C18=H$7,$C18=J$7)),"P",IF(AND($C18=I$7,OR(H17<>"",J17<>"")),"P",IF($C18=I$7,$A18,I17))))))))))) | J18: =IF($A19="","",IF(AND($T$2="No",J17<>"",$D17=$I$3,COUNTIF(OFFSET(J17,-($D17-1),0,1,1):J17,"R")=0,COUNTIF(OFFSET(J17,-($D17-1),0,1,1):J17,"")=0),"",IF(AND(J17<>"",$D17=$I$3,COUNTIF(OFFSET(J17,-($D17-1),0,1,1):J17,J17)=$I$3),"",IF(AND($C18="",$C17<>"",COUNTIF(J$8:J17,"R")>0),COUNTIF(J$8:J17,"R")&"R",IF($C18="","",IF(AND($C18=J$7,J17<>"",COUNTIF(OFFSET($C17,-$D17,0,1,1):$C17,J$7)>0),"R",IF(AND(J17="P",$C17<>J$7),J16,IF(OR(J17="R",J17="P"),$A17,IF(AND(J17<>"",OR($C18=I$7,$C18=K$7)),"P",IF(AND($C18=J$7,OR(I17<>"",K17<>"")),"P",IF($C18=J$7,$A18,J17))))))))))) | K18: =IF($A19="","",IF(AND($T$2="No",K17<>"",$D17=$I$3,COUNTIF(OFFSET(K17,-($D17-1),0,1,1):K17,"R")=0,COUNTIF(OFFSET(K17,-($D17-1),0,1,1):K17,"")=0),"",IF(AND(K17<>"",$D17=$I$3,COUNTIF(OFFSET(K17,-($D17-1),0,1,1):K17,K17)=$I$3),"",IF(AND($C18="",$C17<>"",COUNTIF(K$8:K17,"R")>0),COUNTIF(K$8:K17,"R")&"R",IF($C18="","",IF(AND($C18=K$7,K17<>"",COUNTIF(OFFSET($C17,-$D17,0,1,1):$C17,K$7)>0),"R",IF(AND(K17="P",$C17<>K$7),K16,IF(OR(K17="R",K17="P"),$A17,IF(AND(K17<>"",OR($C18=J$7,$C18=L$7)),"P",IF(AND($C18=K$7,OR(J17<>"",L17<>"")),"P",IF($C18=K$7,$A18,K17))))))))))) | L18: =IF($A19="","",IF(AND($T$2="No",L17<>"",$D17=$I$3,COUNTIF(OFFSET(L17,-($D17-1),0,1,1):L17,"R")=0,COUNTIF(OFFSET(L17,-($D17-1),0,1,1):L17,"")=0),"",IF(AND(L17<>"",$D17=$I$3,COUNTIF(OFFSET(L17,-($D17-1),0,1,1):L17,L17)=$I$3),"",IF(AND($C18="",$C17<>"",COUNTIF(L$8:L17,"R")>0),COUNTIF(L$8:L17,"R")&"R",IF($C18="","",IF(AND($C18=L$7,L17<>"",COUNTIF(OFFSET($C17,-$D17,0,1,1):$C17,L$7)>0),"R",IF(AND(L17="P",$C17<>L$7),L16,IF(OR(L17="R",L17="P"),$A17,IF(AND(L17<>"",OR($C18=K$7,$C18=M$7)),"P",IF(AND($C18=L$7,OR(K17<>"",M17<>"")),"P",IF($C18=L$7,$A18,L17))))))))))) | M18: =IF($A19="","",IF(AND($T$2="No",M17<>"",$D17=$I$3,COUNTIF(OFFSET(M17,-($D17-1),0,1,1):M17,"R")=0,COUNTIF(OFFSET(M17,-($D17-1),0,1,1):M17,"")=0),"",IF(AND(M17<>"",$D17=$I$3,COUNTIF(OFFSET(M17,-($D17-1),0,1,1):M17,M17)=$I$3),"",IF(AND($C18="",$C17<>"",COUNTIF(M$8:M17,"R")>0),COUNTIF(M$8:M17,"R")&"R",IF($C18="","",IF(AND($C18=M$7,M17<>"",COUNTIF(OFFSET($C17,-$D17,0,1,1):$C17,M$7)>0),"R",IF(AND(M17="P",$C17<>M$7),M16,IF(OR(M17="R",M17="P"),$A17,IF(AND(M17<>"",OR($C18=L$7,$C18=N$7)),"P",IF(AND($C18=M$7,OR(L17<>"",N17<>"")),"P",IF($C18=M$7,$A18,M17))))))))))) | N18: =IF($A19="","",IF(AND($T$2="No",N17<>"",$D17=$I$3,COUNTIF(OFFSET(N17,-($D17-1),0,1,1):N17,"R")=0,COUNTIF(OFFSET(N17,-($D17-1),0,1,1):N17,"")=0),"",IF(AND(N17<>"",$D17=$I$3,COUNTIF(OFFSET(N17,-($D17-1),0,1,1):N17,N17)=$I$3),"",IF(AND($C18="",$C17<>"",COUNTIF(N$8:N17,"R")>0),COUNTIF(N$8:N17,"R")&"R",IF($C18="","",IF(AND($C18=N$7,N17<>"",COUNTIF(OFFSET($C17,-$D17,0,1,1):$C17,N$7)>0),"R",IF(AND(N17="P",$C17<>N$7),N16,IF(OR(N17="R",N17="P"),$A17,IF(AND(N17<>"",OR($C18=M$7,$C18=O$7)),"P",IF(AND($C18=N$7,OR(M17<>"",O17<>"")),"P",IF($C18=N$7,$A18,N17))))))))))) | O18: =IF($A19="","",IF(AND($T$2="No",O17<>"",$D17=$I$3,COUNTIF(OFFSET(O17,-($D17-1),0,1,1):O17,"R")=0,COUNTIF(OFFSET(O17,-($D17-1),0,1,1):O17,"")=0),"",IF(AND(O17<>"",$D17=$I$3,COUNTIF(OFFSET(O17,-($D17-1),0,1,1):O17,O17)=$I$3),"",IF(AND($C18="",$C17<>"",COUNTIF(O$8:O17,"R")>0),COUNTIF(O$8:O17,"R")&"R",IF($C18="","",IF(AND($C18=O$7,O17<>"",COUNTIF(OFFSET($C17,-$D17,0,1,1):$C17,O$7)>0),"R",IF(AND(O17="P",$C17<>O$7),O16,IF(OR(O17="R",O17="P"),$A17,IF(AND(O17<>"",OR($C18=N$7,$C18=P$7)),"P",IF(AND($C18=O$7,OR(N17<>"",P17<>"")),"P",IF($C18=O$7,$A18,O17))))))))))) | P18: =IF($A19="","",IF(AND($T$2="No",P17<>"",$D17=$I$3,COUNTIF(OFFSET(P17,-($D17-1),0,1,1):P17,"R")=0,COUNTIF(OFFSET(P17,-($D17-1),0,1,1):P17,"")=0),"",IF(AND(P17<>"",$D17=$I$3,COUNTIF(OFFSET(P17,-($D17-1),0,1,1):P17,P17)=$I$3),"",IF(AND($C18="",$C17<>"",COUNTIF(P$8:P17,"R")>0),COUNTIF(P$8:P17,"R")&"R",IF($C18="","",IF(AND($C18=P$7,P17<>"",COUNTIF(OFFSET($C17,-$D17,0,1,1):$C17,P$7)>0),"R",IF(AND(P17="P",$C17<>P$7),P16,IF(OR(P17="R",P17="P"),$A17,IF(AND(P17<>"",OR($C18=O$7,$C18=Q$7)),"P",IF(AND($C18=P$7,OR(O17<>"",Q17<>"")),"P",IF($C18=P$7,$A18,P17))))))))))) | ... AR18: =IF($A19="","",IF(AND($T$2="No",AR17<>"",$D17=$I$3,COUNTIF(OFFSET(AR17,-($D17-1),0,1,1):AR17,"R")=0,COUNTIF(OFFSET(AR17,-($D17-1),0,1,1):AR17,"")=0),"",IF(AND(AR17<>"",$D17=$I$3,COUNTIF(OFFSET(AR17,-($D17-1),0,1,1):AR17,AR17)=$I$3),"",IF(AND($C18="",$C17<>"",COUNTIF(AR$8:AR17,"R")>0),COUNTIF(AR$8:AR17,"R")&"R",IF($C18="","",IF(AND($C18=AR$7,AR17<>"",COUNTIF(OFFSET($C17,-$D17,0,1,1):$C17,AR$7)>0),"R",IF(AND(AR17="P",$C17<>AR$7),AR16,IF(OR(AR17="R",AR17="P"),$A17,IF(AND(AR17<>"",OR($C18=AQ$7,$C18=AS$7)),"P",IF(AND($C18=AR$7,OR(AQ17<>"",AS17<>"")),"P",IF($C18=AR$7,$A18,AR17))))))))))) | AS18: =IF($A19="","",IF(AND($T$2="No",AS17<>"",$D17=$I$3,COUNTIF(OFFSET(AS17,-($D17-1),0,1,1):AS17,"R")=0,COUNTIF(OFFSET(AS17,-($D17-1),0,1,1):AS17,"")=0),"",IF(AND(AS17<>"",$D17=$I$3,COUNTIF(OFFSET($H17,-$D17,0,1,1):AS17,AS17)=$I$3),"",IF(AND($C18="",$C17<>"",COUNTIF(AS$8:AS17,"R")>0),COUNTIF(AS$8:AS17,"R")&"R",IF($C18="","",IF(AND($C18=AS$7,AS17<>"",COUNTIF(OFFSET($C17,$D17,0,1,1):$C17,AS$7)>0),"R",IF(AS17="R",$A17,IF($C18=AS$7,$A18,AS17))))))))
A19: 12 | B19: =IF($I$2="American",LOOKUP(C19,Layout!G:G,Layout!I:I),IF($I$2="European",LOOKUP(C19,Layout!G:G,Layout!H:H),C19)) -> 27 | C19: =IF(I$2="American",RANDBETWEEN(0,37),RANDBETWEEN(0,36)) -> 27 | D19: =IF(A19<I$3,A19,I$3) -> 8 | E19: =IF(COUNTIF(C$8:C18,C19)=0,"",COUNTIF(C$8:C18,C19)) | G19: =IF(OR(LOOKUP(B19,H$6:AR$6,H19:AR19)="P",LOOKUP(B19,H$6:AR$6,H19:AR19)="R"),LOOKUP(B19,H$6:AR$6,H19:AR19),"" ) -> P | H19: =IF($A20="","",IF(AND($T$2="No",H18<>"",$D18=$I$3,COUNTIF(OFFSET(H18,-($D18-1),0,1,1):H18,"R")=0,COUNTIF(OFFSET(H18,-($D18-1),0,1,1):H18,"")=0),"",IF(AND(H18<>"",$D18=$I$3,COUNTIF(OFFSET(H18,-($D18-1),0,1,1):H18,H18)=$I$3),"",IF(AND($C19="",$C18<>"",COUNTIF(H$8:H18,"R")>0),COUNTIF(H$8:H18,"R")&"R",IF($C19="","",IF(AND($C19=H$7,H18<>"",COUNTIF(OFFSET($C18,-$D18,0,1,1):$C18,H$7)>0),"R",IF(AND(H18="P",$C18<>H$7),H17,IF(OR(H18="R",H18="P"),$A18,IF(AND(H18<>"",OR($C19=I$7,$C19=AR$7)),"P",IF(AND($C19=H$7,OR(I18<>"",AR18<>"")),"P",IF($C19=H$7,$A19,H18))))))))))) -> 8 | I19: =IF($A20="","",IF(AND($T$2="No",I18<>"",$D18=$I$3,COUNTIF(OFFSET(I18,-($D18-1),0,1,1):I18,"R")=0,COUNTIF(OFFSET(I18,-($D18-1),0,1,1):I18,"")=0),"",IF(AND(I18<>"",$D18=$I$3,COUNTIF(OFFSET(I18,-($D18-1),0,1,1):I18,I18)=$I$3),"",IF(AND($C19="",$C18<>"",COUNTIF(I$8:I18,"R")>0),COUNTIF(I$8:I18,"R")&"R",IF($C19="","",IF(AND($C19=I$7,I18<>"",COUNTIF(OFFSET($C18,-$D18,0,1,1):$C18,I$7)>0),"R",IF(AND(I18="P",$C18<>I$7),I17,IF(OR(I18="R",I18="P"),$A18,IF(AND(I18<>"",OR($C19=H$7,$C19=J$7)),"P",IF(AND($C19=I$7,OR(H18<>"",J18<>"")),"P",IF($C19=I$7,$A19,I18))))))))))) | J19: =IF($A20="","",IF(AND($T$2="No",J18<>"",$D18=$I$3,COUNTIF(OFFSET(J18,-($D18-1),0,1,1):J18,"R")=0,COUNTIF(OFFSET(J18,-($D18-1),0,1,1):J18,"")=0),"",IF(AND(J18<>"",$D18=$I$3,COUNTIF(OFFSET(J18,-($D18-1),0,1,1):J18,J18)=$I$3),"",IF(AND($C19="",$C18<>"",COUNTIF(J$8:J18,"R")>0),COUNTIF(J$8:J18,"R")&"R",IF($C19="","",IF(AND($C19=J$7,J18<>"",COUNTIF(OFFSET($C18,-$D18,0,1,1):$C18,J$7)>0),"R",IF(AND(J18="P",$C18<>J$7),J17,IF(OR(J18="R",J18="P"),$A18,IF(AND(J18<>"",OR($C19=I$7,$C19=K$7)),"P",IF(AND($C19=J$7,OR(I18<>"",K18<>"")),"P",IF($C19=J$7,$A19,J18))))))))))) | K19: =IF($A20="","",IF(AND($T$2="No",K18<>"",$D18=$I$3,COUNTIF(OFFSET(K18,-($D18-1),0,1,1):K18,"R")=0,COUNTIF(OFFSET(K18,-($D18-1),0,1,1):K18,"")=0),"",IF(AND(K18<>"",$D18=$I$3,COUNTIF(OFFSET(K18,-($D18-1),0,1,1):K18,K18)=$I$3),"",IF(AND($C19="",$C18<>"",COUNTIF(K$8:K18,"R")>0),COUNTIF(K$8:K18,"R")&"R",IF($C19="","",IF(AND($C19=K$7,K18<>"",COUNTIF(OFFSET($C18,-$D18,0,1,1):$C18,K$7)>0),"R",IF(AND(K18="P",$C18<>K$7),K17,IF(OR(K18="R",K18="P"),$A18,IF(AND(K18<>"",OR($C19=J$7,$C19=L$7)),"P",IF(AND($C19=K$7,OR(J18<>"",L18<>"")),"P",IF($C19=K$7,$A19,K18))))))))))) | L19: =IF($A20="","",IF(AND($T$2="No",L18<>"",$D18=$I$3,COUNTIF(OFFSET(L18,-($D18-1),0,1,1):L18,"R")=0,COUNTIF(OFFSET(L18,-($D18-1),0,1,1):L18,"")=0),"",IF(AND(L18<>"",$D18=$I$3,COUNTIF(OFFSET(L18,-($D18-1),0,1,1):L18,L18)=$I$3),"",IF(AND($C19="",$C18<>"",COUNTIF(L$8:L18,"R")>0),COUNTIF(L$8:L18,"R")&"R",IF($C19="","",IF(AND($C19=L$7,L18<>"",COUNTIF(OFFSET($C18,-$D18,0,1,1):$C18,L$7)>0),"R",IF(AND(L18="P",$C18<>L$7),L17,IF(OR(L18="R",L18="P"),$A18,IF(AND(L18<>"",OR($C19=K$7,$C19=M$7)),"P",IF(AND($C19=L$7,OR(K18<>"",M18<>"")),"P",IF($C19=L$7,$A19,L18))))))))))) | M19: =IF($A20="","",IF(AND($T$2="No",M18<>"",$D18=$I$3,COUNTIF(OFFSET(M18,-($D18-1),0,1,1):M18,"R")=0,COUNTIF(OFFSET(M18,-($D18-1),0,1,1):M18,"")=0),"",IF(AND(M18<>"",$D18=$I$3,COUNTIF(OFFSET(M18,-($D18-1),0,1,1):M18,M18)=$I$3),"",IF(AND($C19="",$C18<>"",COUNTIF(M$8:M18,"R")>0),COUNTIF(M$8:M18,"R")&"R",IF($C19="","",IF(AND($C19=M$7,M18<>"",COUNTIF(OFFSET($C18,-$D18,0,1,1):$C18,M$7)>0),"R",IF(AND(M18="P",$C18<>M$7),M17,IF(OR(M18="R",M18="P"),$A18,IF(AND(M18<>"",OR($C19=L$7,$C19=N$7)),"P",IF(AND($C19=M$7,OR(L18<>"",N18<>"")),"P",IF($C19=M$7,$A19,M18))))))))))) | N19: =IF($A20="","",IF(AND($T$2="No",N18<>"",$D18=$I$3,COUNTIF(OFFSET(N18,-($D18-1),0,1,1):N18,"R")=0,COUNTIF(OFFSET(N18,-($D18-1),0,1,1):N18,"")=0),"",IF(AND(N18<>"",$D18=$I$3,COUNTIF(OFFSET(N18,-($D18-1),0,1,1):N18,N18)=$I$3),"",IF(AND($C19="",$C18<>"",COUNTIF(N$8:N18,"R")>0),COUNTIF(N$8:N18,"R")&"R",IF($C19="","",IF(AND($C19=N$7,N18<>"",COUNTIF(OFFSET($C18,-$D18,0,1,1):$C18,N$7)>0),"R",IF(AND(N18="P",$C18<>N$7),N17,IF(OR(N18="R",N18="P"),$A18,IF(AND(N18<>"",OR($C19=M$7,$C19=O$7)),"P",IF(AND($C19=N$7,OR(M18<>"",O18<>"")),"P",IF($C19=N$7,$A19,N18))))))))))) | O19: =IF($A20="","",IF(AND($T$2="No",O18<>"",$D18=$I$3,COUNTIF(OFFSET(O18,-($D18-1),0,1,1):O18,"R")=0,COUNTIF(OFFSET(O18,-($D18-1),0,1,1):O18,"")=0),"",IF(AND(O18<>"",$D18=$I$3,COUNTIF(OFFSET(O18,-($D18-1),0,1,1):O18,O18)=$I$3),"",IF(AND($C19="",$C18<>"",COUNTIF(O$8:O18,"R")>0),COUNTIF(O$8:O18,"R")&"R",IF($C19="","",IF(AND($C19=O$7,O18<>"",COUNTIF(OFFSET($C18,-$D18,0,1,1):$C18,O$7)>0),"R",IF(AND(O18="P",$C18<>O$7),O17,IF(OR(O18="R",O18="P"),$A18,IF(AND(O18<>"",OR($C19=N$7,$C19=P$7)),"P",IF(AND($C19=O$7,OR(N18<>"",P18<>"")),"P",IF($C19=O$7,$A19,O18))))))))))) | P19: =IF($A20="","",IF(AND($T$2="No",P18<>"",$D18=$I$3,COUNTIF(OFFSET(P18,-($D18-1),0,1,1):P18,"R")=0,COUNTIF(OFFSET(P18,-($D18-1),0,1,1):P18,"")=0),"",IF(AND(P18<>"",$D18=$I$3,COUNTIF(OFFSET(P18,-($D18-1),0,1,1):P18,P18)=$I$3),"",IF(AND($C19="",$C18<>"",COUNTIF(P$8:P18,"R")>0),COUNTIF(P$8:P18,"R")&"R",IF($C19="","",IF(AND($C19=P$7,P18<>"",COUNTIF(OFFSET($C18,-$D18,0,1,1):$C18,P$7)>0),"R",IF(AND(P18="P",$C18<>P$7),P17,IF(OR(P18="R",P18="P"),$A18,IF(AND(P18<>"",OR($C19=O$7,$C19=Q$7)),"P",IF(AND($C19=P$7,OR(O18<>"",Q18<>"")),"P",IF($C19=P$7,$A19,P18))))))))))) | ... AR19: =IF($A20="","",IF(AND($T$2="No",AR18<>"",$D18=$I$3,COUNTIF(OFFSET(AR18,-($D18-1),0,1,1):AR18,"R")=0,COUNTIF(OFFSET(AR18,-($D18-1),0,1,1):AR18,"")=0),"",IF(AND(AR18<>"",$D18=$I$3,COUNTIF(OFFSET(AR18,-($D18-1),0,1,1):AR18,AR18)=$I$3),"",IF(AND($C19="",$C18<>"",COUNTIF(AR$8:AR18,"R")>0),COUNTIF(AR$8:AR18,"R")&"R",IF($C19="","",IF(AND($C19=AR$7,AR18<>"",COUNTIF(OFFSET($C18,-$D18,0,1,1):$C18,AR$7)>0),"R",IF(AND(AR18="P",$C18<>AR$7),AR17,IF(OR(AR18="R",AR18="P"),$A18,IF(AND(AR18<>"",OR($C19=AQ$7,$C19=AS$7)),"P",IF(AND($C19=AR$7,OR(AQ18<>"",AS18<>"")),"P",IF($C19=AR$7,$A19,AR18))))))))))) | AS19: =IF($A20="","",IF(AND($T$2="No",AS18<>"",$D18=$I$3,COUNTIF(OFFSET(AS18,-($D18-1),0,1,1):AS18,"R")=0,COUNTIF(OFFSET(AS18,-($D18-1),0,1,1):AS18,"")=0),"",IF(AND(AS18<>"",$D18=$I$3,COUNTIF(OFFSET($H18,-$D18,0,1,1):AS18,AS18)=$I$3),"",IF(AND($C19="",$C18<>"",COUNTIF(AS$8:AS18,"R")>0),COUNTIF(AS$8:AS18,"R")&"R",IF($C19="","",IF(AND($C19=AS$7,AS18<>"",COUNTIF(OFFSET($C18,$D18,0,1,1):$C18,AS$7)>0),"R",IF(AS18="R",$A18,IF($C19=AS$7,$A19,AS18))))))))
A20: 13 | B20: =IF($I$2="American",LOOKUP(C20,Layout!G:G,Layout!I:I),IF($I$2="European",LOOKUP(C20,Layout!G:G,Layout!H:H),C20)) -> 23 | C20: =IF(I$2="American",RANDBETWEEN(0,37),RANDBETWEEN(0,36)) -> 23 | D20: =IF(A20<I$3,A20,I$3) -> 8 | E20: =IF(COUNTIF(C$8:C19,C20)=0,"",COUNTIF(C$8:C19,C20)) | G20: =IF(OR(LOOKUP(B20,H$6:AR$6,H20:AR20)="P",LOOKUP(B20,H$6:AR$6,H20:AR20)="R"),LOOKUP(B20,H$6:AR$6,H20:AR20),"" ) -> P | H20: =IF($A21="","",IF(AND($T$2="No",H19<>"",$D19=$I$3,COUNTIF(OFFSET(H19,-($D19-1),0,1,1):H19,"R")=0,COUNTIF(OFFSET(H19,-($D19-1),0,1,1):H19,"")=0),"",IF(AND(H19<>"",$D19=$I$3,COUNTIF(OFFSET(H19,-($D19-1),0,1,1):H19,H19)=$I$3),"",IF(AND($C20="",$C19<>"",COUNTIF(H$8:H19,"R")>0),COUNTIF(H$8:H19,"R")&"R",IF($C20="","",IF(AND($C20=H$7,H19<>"",COUNTIF(OFFSET($C19,-$D19,0,1,1):$C19,H$7)>0),"R",IF(AND(H19="P",$C19<>H$7),H18,IF(OR(H19="R",H19="P"),$A19,IF(AND(H19<>"",OR($C20=I$7,$C20=AR$7)),"P",IF(AND($C20=H$7,OR(I19<>"",AR19<>"")),"P",IF($C20=H$7,$A20,H19))))))))))) -> 8 | I20: =IF($A21="","",IF(AND($T$2="No",I19<>"",$D19=$I$3,COUNTIF(OFFSET(I19,-($D19-1),0,1,1):I19,"R")=0,COUNTIF(OFFSET(I19,-($D19-1),0,1,1):I19,"")=0),"",IF(AND(I19<>"",$D19=$I$3,COUNTIF(OFFSET(I19,-($D19-1),0,1,1):I19,I19)=$I$3),"",IF(AND($C20="",$C19<>"",COUNTIF(I$8:I19,"R")>0),COUNTIF(I$8:I19,"R")&"R",IF($C20="","",IF(AND($C20=I$7,I19<>"",COUNTIF(OFFSET($C19,-$D19,0,1,1):$C19,I$7)>0),"R",IF(AND(I19="P",$C19<>I$7),I18,IF(OR(I19="R",I19="P"),$A19,IF(AND(I19<>"",OR($C20=H$7,$C20=J$7)),"P",IF(AND($C20=I$7,OR(H19<>"",J19<>"")),"P",IF($C20=I$7,$A20,I19))))))))))) | J20: =IF($A21="","",IF(AND($T$2="No",J19<>"",$D19=$I$3,COUNTIF(OFFSET(J19,-($D19-1),0,1,1):J19,"R")=0,COUNTIF(OFFSET(J19,-($D19-1),0,1,1):J19,"")=0),"",IF(AND(J19<>"",$D19=$I$3,COUNTIF(OFFSET(J19,-($D19-1),0,1,1):J19,J19)=$I$3),"",IF(AND($C20="",$C19<>"",COUNTIF(J$8:J19,"R")>0),COUNTIF(J$8:J19,"R")&"R",IF($C20="","",IF(AND($C20=J$7,J19<>"",COUNTIF(OFFSET($C19,-$D19,0,1,1):$C19,J$7)>0),"R",IF(AND(J19="P",$C19<>J$7),J18,IF(OR(J19="R",J19="P"),$A19,IF(AND(J19<>"",OR($C20=I$7,$C20=K$7)),"P",IF(AND($C20=J$7,OR(I19<>"",K19<>"")),"P",IF($C20=J$7,$A20,J19))))))))))) | K20: =IF($A21="","",IF(AND($T$2="No",K19<>"",$D19=$I$3,COUNTIF(OFFSET(K19,-($D19-1),0,1,1):K19,"R")=0,COUNTIF(OFFSET(K19,-($D19-1),0,1,1):K19,"")=0),"",IF(AND(K19<>"",$D19=$I$3,COUNTIF(OFFSET(K19,-($D19-1),0,1,1):K19,K19)=$I$3),"",IF(AND($C20="",$C19<>"",COUNTIF(K$8:K19,"R")>0),COUNTIF(K$8:K19,"R")&"R",IF($C20="","",IF(AND($C20=K$7,K19<>"",COUNTIF(OFFSET($C19,-$D19,0,1,1):$C19,K$7)>0),"R",IF(AND(K19="P",$C19<>K$7),K18,IF(OR(K19="R",K19="P"),$A19,IF(AND(K19<>"",OR($C20=J$7,$C20=L$7)),"P",IF(AND($C20=K$7,OR(J19<>"",L19<>"")),"P",IF($C20=K$7,$A20,K19))))))))))) | L20: =IF($A21="","",IF(AND($T$2="No",L19<>"",$D19=$I$3,COUNTIF(OFFSET(L19,-($D19-1),0,1,1):L19,"R")=0,COUNTIF(OFFSET(L19,-($D19-1),0,1,1):L19,"")=0),"",IF(AND(L19<>"",$D19=$I$3,COUNTIF(OFFSET(L19,-($D19-1),0,1,1):L19,L19)=$I$3),"",IF(AND($C20="",$C19<>"",COUNTIF(L$8:L19,"R")>0),COUNTIF(L$8:L19,"R")&"R",IF($C20="","",IF(AND($C20=L$7,L19<>"",COUNTIF(OFFSET($C19,-$D19,0,1,1):$C19,L$7)>0),"R",IF(AND(L19="P",$C19<>L$7),L18,IF(OR(L19="R",L19="P"),$A19,IF(AND(L19<>"",OR($C20=K$7,$C20=M$7)),"P",IF(AND($C20=L$7,OR(K19<>"",M19<>"")),"P",IF($C20=L$7,$A20,L19))))))))))) | M20: =IF($A21="","",IF(AND($T$2="No",M19<>"",$D19=$I$3,COUNTIF(OFFSET(M19,-($D19-1),0,1,1):M19,"R")=0,COUNTIF(OFFSET(M19,-($D19-1),0,1,1):M19,"")=0),"",IF(AND(M19<>"",$D19=$I$3,COUNTIF(OFFSET(M19,-($D19-1),0,1,1):M19,M19)=$I$3),"",IF(AND($C20="",$C19<>"",COUNTIF(M$8:M19,"R")>0),COUNTIF(M$8:M19,"R")&"R",IF($C20="","",IF(AND($C20=M$7,M19<>"",COUNTIF(OFFSET($C19,-$D19,0,1,1):$C19,M$7)>0),"R",IF(AND(M19="P",$C19<>M$7),M18,IF(OR(M19="R",M19="P"),$A19,IF(AND(M19<>"",OR($C20=L$7,$C20=N$7)),"P",IF(AND($C20=M$7,OR(L19<>"",N19<>"")),"P",IF($C20=M$7,$A20,M19))))))))))) | N20: =IF($A21="","",IF(AND($T$2="No",N19<>"",$D19=$I$3,COUNTIF(OFFSET(N19,-($D19-1),0,1,1):N19,"R")=0,COUNTIF(OFFSET(N19,-($D19-1),0,1,1):N19,"")=0),"",IF(AND(N19<>"",$D19=$I$3,COUNTIF(OFFSET(N19,-($D19-1),0,1,1):N19,N19)=$I$3),"",IF(AND($C20="",$C19<>"",COUNTIF(N$8:N19,"R")>0),COUNTIF(N$8:N19,"R")&"R",IF($C20="","",IF(AND($C20=N$7,N19<>"",COUNTIF(OFFSET($C19,-$D19,0,1,1):$C19,N$7)>0),"R",IF(AND(N19="P",$C19<>N$7),N18,IF(OR(N19="R",N19="P"),$A19,IF(AND(N19<>"",OR($C20=M$7,$C20=O$7)),"P",IF(AND($C20=N$7,OR(M19<>"",O19<>"")),"P",IF($C20=N$7,$A20,N19))))))))))) | O20: =IF($A21="","",IF(AND($T$2="No",O19<>"",$D19=$I$3,COUNTIF(OFFSET(O19,-($D19-1),0,1,1):O19,"R")=0,COUNTIF(OFFSET(O19,-($D19-1),0,1,1):O19,"")=0),"",IF(AND(O19<>"",$D19=$I$3,COUNTIF(OFFSET(O19,-($D19-1),0,1,1):O19,O19)=$I$3),"",IF(AND($C20="",$C19<>"",COUNTIF(O$8:O19,"R")>0),COUNTIF(O$8:O19,"R")&"R",IF($C20="","",IF(AND($C20=O$7,O19<>"",COUNTIF(OFFSET($C19,-$D19,0,1,1):$C19,O$7)>0),"R",IF(AND(O19="P",$C19<>O$7),O18,IF(OR(O19="R",O19="P"),$A19,IF(AND(O19<>"",OR($C20=N$7,$C20=P$7)),"P",IF(AND($C20=O$7,OR(N19<>"",P19<>"")),"P",IF($C20=O$7,$A20,O19))))))))))) | P20: =IF($A21="","",IF(AND($T$2="No",P19<>"",$D19=$I$3,COUNTIF(OFFSET(P19,-($D19-1),0,1,1):P19,"R")=0,COUNTIF(OFFSET(P19,-($D19-1),0,1,1):P19,"")=0),"",IF(AND(P19<>"",$D19=$I$3,COUNTIF(OFFSET(P19,-($D19-1),0,1,1):P19,P19)=$I$3),"",IF(AND($C20="",$C19<>"",COUNTIF(P$8:P19,"R")>0),COUNTIF(P$8:P19,"R")&"R",IF($C20="","",IF(AND($C20=P$7,P19<>"",COUNTIF(OFFSET($C19,-$D19,0,1,1):$C19,P$7)>0),"R",IF(AND(P19="P",$C19<>P$7),P18,IF(OR(P19="R",P19="P"),$A19,IF(AND(P19<>"",OR($C20=O$7,$C20=Q$7)),"P",IF(AND($C20=P$7,OR(O19<>"",Q19<>"")),"P",IF($C20=P$7,$A20,P19))))))))))) | ... AR20: =IF($A21="","",IF(AND($T$2="No",AR19<>"",$D19=$I$3,COUNTIF(OFFSET(AR19,-($D19-1),0,1,1):AR19,"R")=0,COUNTIF(OFFSET(AR19,-($D19-1),0,1,1):AR19,"")=0),"",IF(AND(AR19<>"",$D19=$I$3,COUNTIF(OFFSET(AR19,-($D19-1),0,1,1):AR19,AR19)=$I$3),"",IF(AND($C20="",$C19<>"",COUNTIF(AR$8:AR19,"R")>0),COUNTIF(AR$8:AR19,"R")&"R",IF($C20="","",IF(AND($C20=AR$7,AR19<>"",COUNTIF(OFFSET($C19,-$D19,0,1,1):$C19,AR$7)>0),"R",IF(AND(AR19="P",$C19<>AR$7),AR18,IF(OR(AR19="R",AR19="P"),$A19,IF(AND(AR19<>"",OR($C20=AQ$7,$C20=AS$7)),"P",IF(AND($C20=AR$7,OR(AQ19<>"",AS19<>"")),"P",IF($C20=AR$7,$A20,AR19))))))))))) | AS20: =IF($A21="","",IF(AND($T$2="No",AS19<>"",$D19=$I$3,COUNTIF(OFFSET(AS19,-($D19-1),0,1,1):AS19,"R")=0,COUNTIF(OFFSET(AS19,-($D19-1),0,1,1):AS19,"")=0),"",IF(AND(AS19<>"",$D19=$I$3,COUNTIF(OFFSET($H19,-$D19,0,1,1):AS19,AS19)=$I$3),"",IF(AND($C20="",$C19<>"",COUNTIF(AS$8:AS19,"R")>0),COUNTIF(AS$8:AS19,"R")&"R",IF($C20="","",IF(AND($C20=AS$7,AS19<>"",COUNTIF(OFFSET($C19,$D19,0,1,1):$C19,AS$7)>0),"R",IF(AS19="R",$A19,IF($C20=AS$7,$A20,AS19))))))))
... A257: 250 | B257: =IF($I$2="American",LOOKUP(C257,Layout!G:G,Layout!I:I),IF($I$2="European",LOOKUP(C257,Layout!G:G,Layout!H:H),C257)) -> 15 | C257: =IF(I$2="American",RANDBETWEEN(0,37),RANDBETWEEN(0,36)) -> 15 | D257: =IF(A257<I$3,A257,I$3) -> 8 | E257: =IF(COUNTIF(C$8:C256,C257)=0,"",COUNTIF(C$8:C256,C257)) -> 4 | G257: =IF(OR(LOOKUP(B257,H$6:AR$6,H257:AR257)="P",LOOKUP(B257,H$6:AR$6,H257:AR257)="R"),LOOKUP(B257,H$6:AR$6,H257:AR257),"" ) | H257: =IF($A258="","",IF(AND($T$2="No",H256<>"",$D256=$I$3,COUNTIF(OFFSET(H256,-($D256-1),0,1,1):H256,"R")=0,COUNTIF(OFFSET(H256,-($D256-1),0,1,1):H256,"")=0),"",IF(AND(H256<>"",$D256=$I$3,COUNTIF(OFFSET(H256,-($D256-1),0,1,1):H256,H256)=$I$3),"",IF(AND($C257="",$C256<>"",COUNTIF(H$8:H256,"R")>0),COUNTIF(H$8:H256,"R")&"R",IF($C257="","",IF(AND($C257=H$7,H256<>"",COUNTIF(OFFSET($C256,-$D256,0,1,1):$C256,H$7)>0),"R",IF(AND(H256="P",$C256<>H$7),H255,IF(OR(H256="R",H256="P"),$A256,IF(AND(H256<>"",OR($C257=I$7,$C257=AR$7)),"P",IF(AND($C257=H$7,OR(I256<>"",AR256<>"")),"P",IF($C257=H$7,$A257,H256))))))))))) | I257: =IF($A258="","",IF(AND($T$2="No",I256<>"",$D256=$I$3,COUNTIF(OFFSET(I256,-($D256-1),0,1,1):I256,"R")=0,COUNTIF(OFFSET(I256,-($D256-1),0,1,1):I256,"")=0),"",IF(AND(I256<>"",$D256=$I$3,COUNTIF(OFFSET(I256,-($D256-1),0,1,1):I256,I256)=$I$3),"",IF(AND($C257="",$C256<>"",COUNTIF(I$8:I256,"R")>0),COUNTIF(I$8:I256,"R")&"R",IF($C257="","",IF(AND($C257=I$7,I256<>"",COUNTIF(OFFSET($C256,-$D256,0,1,1):$C256,I$7)>0),"R",IF(AND(I256="P",$C256<>I$7),I255,IF(OR(I256="R",I256="P"),$A256,IF(AND(I256<>"",OR($C257=H$7,$C257=J$7)),"P",IF(AND($C257=I$7,OR(H256<>"",J256<>"")),"P",IF($C257=I$7,$A257,I256))))))))))) | J257: =IF($A258="","",IF(AND($T$2="No",J256<>"",$D256=$I$3,COUNTIF(OFFSET(J256,-($D256-1),0,1,1):J256,"R")=0,COUNTIF(OFFSET(J256,-($D256-1),0,1,1):J256,"")=0),"",IF(AND(J256<>"",$D256=$I$3,COUNTIF(OFFSET(J256,-($D256-1),0,1,1):J256,J256)=$I$3),"",IF(AND($C257="",$C256<>"",COUNTIF(J$8:J256,"R")>0),COUNTIF(J$8:J256,"R")&"R",IF($C257="","",IF(AND($C257=J$7,J256<>"",COUNTIF(OFFSET($C256,-$D256,0,1,1):$C256,J$7)>0),"R",IF(AND(J256="P",$C256<>J$7),J255,IF(OR(J256="R",J256="P"),$A256,IF(AND(J256<>"",OR($C257=I$7,$C257=K$7)),"P",IF(AND($C257=J$7,OR(I256<>"",K256<>"")),"P",IF($C257=J$7,$A257,J256))))))))))) | K257: =IF($A258="","",IF(AND($T$2="No",K256<>"",$D256=$I$3,COUNTIF(OFFSET(K256,-($D256-1),0,1,1):K256,"R")=0,COUNTIF(OFFSET(K256,-($D256-1),0,1,1):K256,"")=0),"",IF(AND(K256<>"",$D256=$I$3,COUNTIF(OFFSET(K256,-($D256-1),0,1,1):K256,K256)=$I$3),"",IF(AND($C257="",$C256<>"",COUNTIF(K$8:K256,"R")>0),COUNTIF(K$8:K256,"R")&"R",IF($C257="","",IF(AND($C257=K$7,K256<>"",COUNTIF(OFFSET($C256,-$D256,0,1,1):$C256,K$7)>0),"R",IF(AND(K256="P",$C256<>K$7),K255,IF(OR(K256="R",K256="P"),$A256,IF(AND(K256<>"",OR($C257=J$7,$C257=L$7)),"P",IF(AND($C257=K$7,OR(J256<>"",L256<>"")),"P",IF($C257=K$7,$A257,K256))))))))))) | L257: =IF($A258="","",IF(AND($T$2="No",L256<>"",$D256=$I$3,COUNTIF(OFFSET(L256,-($D256-1),0,1,1):L256,"R")=0,COUNTIF(OFFSET(L256,-($D256-1),0,1,1):L256,"")=0),"",IF(AND(L256<>"",$D256=$I$3,COUNTIF(OFFSET(L256,-($D256-1),0,1,1):L256,L256)=$I$3),"",IF(AND($C257="",$C256<>"",COUNTIF(L$8:L256,"R")>0),COUNTIF(L$8:L256,"R")&"R",IF($C257="","",IF(AND($C257=L$7,L256<>"",COUNTIF(OFFSET($C256,-$D256,0,1,1):$C256,L$7)>0),"R",IF(AND(L256="P",$C256<>L$7),L255,IF(OR(L256="R",L256="P"),$A256,IF(AND(L256<>"",OR($C257=K$7,$C257=M$7)),"P",IF(AND($C257=L$7,OR(K256<>"",M256<>"")),"P",IF($C257=L$7,$A257,L256))))))))))) | M257: =IF($A258="","",IF(AND($T$2="No",M256<>"",$D256=$I$3,COUNTIF(OFFSET(M256,-($D256-1),0,1,1):M256,"R")=0,COUNTIF(OFFSET(M256,-($D256-1),0,1,1):M256,"")=0),"",IF(AND(M256<>"",$D256=$I$3,COUNTIF(OFFSET(M256,-($D256-1),0,1,1):M256,M256)=$I$3),"",IF(AND($C257="",$C256<>"",COUNTIF(M$8:M256,"R")>0),COUNTIF(M$8:M256,"R")&"R",IF($C257="","",IF(AND($C257=M$7,M256<>"",COUNTIF(OFFSET($C256,-$D256,0,1,1):$C256,M$7)>0),"R",IF(AND(M256="P",$C256<>M$7),M255,IF(OR(M256="R",M256="P"),$A256,IF(AND(M256<>"",OR($C257=L$7,$C257=N$7)),"P",IF(AND($C257=M$7,OR(L256<>"",N256<>"")),"P",IF($C257=M$7,$A257,M256))))))))))) | N257: =IF($A258="","",IF(AND($T$2="No",N256<>"",$D256=$I$3,COUNTIF(OFFSET(N256,-($D256-1),0,1,1):N256,"R")=0,COUNTIF(OFFSET(N256,-($D256-1),0,1,1):N256,"")=0),"",IF(AND(N256<>"",$D256=$I$3,COUNTIF(OFFSET(N256,-($D256-1),0,1,1):N256,N256)=$I$3),"",IF(AND($C257="",$C256<>"",COUNTIF(N$8:N256,"R")>0),COUNTIF(N$8:N256,"R")&"R",IF($C257="","",IF(AND($C257=N$7,N256<>"",COUNTIF(OFFSET($C256,-$D256,0,1,1):$C256,N$7)>0),"R",IF(AND(N256="P",$C256<>N$7),N255,IF(OR(N256="R",N256="P"),$A256,IF(AND(N256<>"",OR($C257=M$7,$C257=O$7)),"P",IF(AND($C257=N$7,OR(M256<>"",O256<>"")),"P",IF($C257=N$7,$A257,N256))))))))))) | O257: =IF($A258="","",IF(AND($T$2="No",O256<>"",$D256=$I$3,COUNTIF(OFFSET(O256,-($D256-1),0,1,1):O256,"R")=0,COUNTIF(OFFSET(O256,-($D256-1),0,1,1):O256,"")=0),"",IF(AND(O256<>"",$D256=$I$3,COUNTIF(OFFSET(O256,-($D256-1),0,1,1):O256,O256)=$I$3),"",IF(AND($C257="",$C256<>"",COUNTIF(O$8:O256,"R")>0),COUNTIF(O$8:O256,"R")&"R",IF($C257="","",IF(AND($C257=O$7,O256<>"",COUNTIF(OFFSET($C256,-$D256,0,1,1):$C256,O$7)>0),"R",IF(AND(O256="P",$C256<>O$7),O255,IF(OR(O256="R",O256="P"),$A256,IF(AND(O256<>"",OR($C257=N$7,$C257=P$7)),"P",IF(AND($C257=O$7,OR(N256<>"",P256<>"")),"P",IF($C257=O$7,$A257,O256))))))))))) | P257: =IF($A258="","",IF(AND($T$2="No",P256<>"",$D256=$I$3,COUNTIF(OFFSET(P256,-($D256-1),0,1,1):P256,"R")=0,COUNTIF(OFFSET(P256,-($D256-1),0,1,1):P256,"")=0),"",IF(AND(P256<>"",$D256=$I$3,COUNTIF(OFFSET(P256,-($D256-1),0,1,1):P256,P256)=$I$3),"",IF(AND($C257="",$C256<>"",COUNTIF(P$8:P256,"R")>0),COUNTIF(P$8:P256,"R")&"R",IF($C257="","",IF(AND($C257=P$7,P256<>"",COUNTIF(OFFSET($C256,-$D256,0,1,1):$C256,P$7)>0),"R",IF(AND(P256="P",$C256<>P$7),P255,IF(OR(P256="R",P256="P"),$A256,IF(AND(P256<>"",OR($C257=O$7,$C257=Q$7)),"P",IF(AND($C257=P$7,OR(O256<>"",Q256<>"")),"P",IF($C257=P$7,$A257,P256))))))))))) | ... AR257: =IF($A258="","",IF(AND($T$2="No",AR256<>"",$D256=$I$3,COUNTIF(OFFSET(AR256,-($D256-1),0,1,1):AR256,"R")=0,COUNTIF(OFFSET(AR256,-($D256-1),0,1,1):AR256,"")=0),"",IF(AND(AR256<>"",$D256=$I$3,COUNTIF(OFFSET(AR256,-($D256-1),0,1,1):AR256,AR256)=$I$3),"",IF(AND($C257="",$C256<>"",COUNTIF(AR$8:AR256,"R")>0),COUNTIF(AR$8:AR256,"R")&"R",IF($C257="","",IF(AND($C257=AR$7,AR256<>"",COUNTIF(OFFSET($C256,-$D256,0,1,1):$C256,AR$7)>0),"R",IF(AND(AR256="P",$C256<>AR$7),AR255,IF(OR(AR256="R",AR256="P"),$A256,IF(AND(AR256<>"",OR($C257=AQ$7,$C257=AS$7)),"P",IF(AND($C257=AR$7,OR(AQ256<>"",AS256<>"")),"P",IF($C257=AR$7,$A257,AR256))))))))))) | AS257: =IF($A258="","",IF(AND($T$2="No",AS256<>"",$D256=$I$3,COUNTIF(OFFSET(AS256,-($D256-1),0,1,1):AS256,"R")=0,COUNTIF(OFFSET(AS256,-($D256-1),0,1,1):AS256,"")=0),"",IF(AND(AS256<>"",$D256=$I$3,COUNTIF(OFFSET($H256,-$D256,0,1,1):AS256,AS256)=$I$3),"",IF(AND($C257="",$C256<>"",COUNTIF(AS$8:AS256,"R")>0),COUNTIF(AS$8:AS256,"R")&"R",IF($C257="","",IF(AND($C257=AS$7,AS256<>"",COUNTIF(OFFSET($C256,$D256,0,1,1):$C256,AS$7)>0),"R",IF(AS256="R",$A256,IF($C257=AS$7,$A257,AS256))))))))
B258: =IF($I$2="American",LOOKUP(C258,Layout!G:G,Layout!I:I),IF($I$2="European",LOOKUP(C258,Layout!G:G,Layout!H:H),C258)) -> 22 | C258: =IF(I$2="American",RANDBETWEEN(0,37),RANDBETWEEN(0,36)) -> 22 | D258: =IF(A258<I$3,A258,I$3) -> 0 | G258: =IF(OR(LOOKUP(B258,H$6:AR$6,H258:AR258)="P",LOOKUP(B258,H$6:AR$6,H258:AR258)="R"),LOOKUP(B258,H$6:AR$6,H258:AR258),"" ) | H258: =IF($A259="","",IF(AND($T$2="No",H257<>"",$D257=$I$3,COUNTIF(OFFSET(H257,-($D257-1),0,1,1):H257,"R")=0,COUNTIF(OFFSET(H257,-($D257-1),0,1,1):H257,"")=0),"",IF(AND(H257<>"",$D257=$I$3,COUNTIF(OFFSET(H257,-($D257-1),0,1,1):H257,H257)=$I$3),"",IF(AND($C258="",$C257<>"",COUNTIF(H$8:H257,"R")>0),COUNTIF(H$8:H257,"R")&"R",IF($C258="","",IF(AND($C258=H$7,H257<>"",COUNTIF(OFFSET($C257,-$D257,0,1,1):$C257,H$7)>0),"R",IF(AND(H257="P",$C257<>H$7),H256,IF(OR(H257="R",H257="P"),$A257,IF(AND(H257<>"",OR($C258=I$7,$C258=AR$7)),"P",IF(AND($C258=H$7,OR(I257<>"",AR257<>"")),"P",IF($C258=H$7,$A258,H257))))))))))) | I258: =IF($A259="","",IF(AND($T$2="No",I257<>"",$D257=$I$3,COUNTIF(OFFSET(I257,-($D257-1),0,1,1):I257,"R")=0,COUNTIF(OFFSET(I257,-($D257-1),0,1,1):I257,"")=0),"",IF(AND(I257<>"",$D257=$I$3,COUNTIF(OFFSET(I257,-($D257-1),0,1,1):I257,I257)=$I$3),"",IF(AND($C258="",$C257<>"",COUNTIF(I$8:I257,"R")>0),COUNTIF(I$8:I257,"R")&"R",IF($C258="","",IF(AND($C258=I$7,I257<>"",COUNTIF(OFFSET($C257,-$D257,0,1,1):$C257,I$7)>0),"R",IF(AND(I257="P",$C257<>I$7),I256,IF(OR(I257="R",I257="P"),$A257,IF(AND(I257<>"",OR($C258=H$7,$C258=J$7)),"P",IF(AND($C258=I$7,OR(H257<>"",J257<>"")),"P",IF($C258=I$7,$A258,I257))))))))))) | J258: =IF($A259="","",IF(AND($T$2="No",J257<>"",$D257=$I$3,COUNTIF(OFFSET(J257,-($D257-1),0,1,1):J257,"R")=0,COUNTIF(OFFSET(J257,-($D257-1),0,1,1):J257,"")=0),"",IF(AND(J257<>"",$D257=$I$3,COUNTIF(OFFSET(J257,-($D257-1),0,1,1):J257,J257)=$I$3),"",IF(AND($C258="",$C257<>"",COUNTIF(J$8:J257,"R")>0),COUNTIF(J$8:J257,"R")&"R",IF($C258="","",IF(AND($C258=J$7,J257<>"",COUNTIF(OFFSET($C257,-$D257,0,1,1):$C257,J$7)>0),"R",IF(AND(J257="P",$C257<>J$7),J256,IF(OR(J257="R",J257="P"),$A257,IF(AND(J257<>"",OR($C258=I$7,$C258=K$7)),"P",IF(AND($C258=J$7,OR(I257<>"",K257<>"")),"P",IF($C258=J$7,$A258,J257))))))))))) | K258: =IF($A259="","",IF(AND($T$2="No",K257<>"",$D257=$I$3,COUNTIF(OFFSET(K257,-($D257-1),0,1,1):K257,"R")=0,COUNTIF(OFFSET(K257,-($D257-1),0,1,1):K257,"")=0),"",IF(AND(K257<>"",$D257=$I$3,COUNTIF(OFFSET(K257,-($D257-1),0,1,1):K257,K257)=$I$3),"",IF(AND($C258="",$C257<>"",COUNTIF(K$8:K257,"R")>0),COUNTIF(K$8:K257,"R")&"R",IF($C258="","",IF(AND($C258=K$7,K257<>"",COUNTIF(OFFSET($C257,-$D257,0,1,1):$C257,K$7)>0),"R",IF(AND(K257="P",$C257<>K$7),K256,IF(OR(K257="R",K257="P"),$A257,IF(AND(K257<>"",OR($C258=J$7,$C258=L$7)),"P",IF(AND($C258=K$7,OR(J257<>"",L257<>"")),"P",IF($C258=K$7,$A258,K257))))))))))) | L258: =IF($A259="","",IF(AND($T$2="No",L257<>"",$D257=$I$3,COUNTIF(OFFSET(L257,-($D257-1),0,1,1):L257,"R")=0,COUNTIF(OFFSET(L257,-($D257-1),0,1,1):L257,"")=0),"",IF(AND(L257<>"",$D257=$I$3,COUNTIF(OFFSET(L257,-($D257-1),0,1,1):L257,L257)=$I$3),"",IF(AND($C258="",$C257<>"",COUNTIF(L$8:L257,"R")>0),COUNTIF(L$8:L257,"R")&"R",IF($C258="","",IF(AND($C258=L$7,L257<>"",COUNTIF(OFFSET($C257,-$D257,0,1,1):$C257,L$7)>0),"R",IF(AND(L257="P",$C257<>L$7),L256,IF(OR(L257="R",L257="P"),$A257,IF(AND(L257<>"",OR($C258=K$7,$C258=M$7)),"P",IF(AND($C258=L$7,OR(K257<>"",M257<>"")),"P",IF($C258=L$7,$A258,L257))))))))))) | M258: =IF($A259="","",IF(AND($T$2="No",M257<>"",$D257=$I$3,COUNTIF(OFFSET(M257,-($D257-1),0,1,1):M257,"R")=0,COUNTIF(OFFSET(M257,-($D257-1),0,1,1):M257,"")=0),"",IF(AND(M257<>"",$D257=$I$3,COUNTIF(OFFSET(M257,-($D257-1),0,1,1):M257,M257)=$I$3),"",IF(AND($C258="",$C257<>"",COUNTIF(M$8:M257,"R")>0),COUNTIF(M$8:M257,"R")&"R",IF($C258="","",IF(AND($C258=M$7,M257<>"",COUNTIF(OFFSET($C257,-$D257,0,1,1):$C257,M$7)>0),"R",IF(AND(M257="P",$C257<>M$7),M256,IF(OR(M257="R",M257="P"),$A257,IF(AND(M257<>"",OR($C258=L$7,$C258=N$7)),"P",IF(AND($C258=M$7,OR(L257<>"",N257<>"")),"P",IF($C258=M$7,$A258,M257))))))))))) | N258: =IF($A259="","",IF(AND($T$2="No",N257<>"",$D257=$I$3,COUNTIF(OFFSET(N257,-($D257-1),0,1,1):N257,"R")=0,COUNTIF(OFFSET(N257,-($D257-1),0,1,1):N257,"")=0),"",IF(AND(N257<>"",$D257=$I$3,COUNTIF(OFFSET(N257,-($D257-1),0,1,1):N257,N257)=$I$3),"",IF(AND($C258="",$C257<>"",COUNTIF(N$8:N257,"R")>0),COUNTIF(N$8:N257,"R")&"R",IF($C258="","",IF(AND($C258=N$7,N257<>"",COUNTIF(OFFSET($C257,-$D257,0,1,1):$C257,N$7)>0),"R",IF(AND(N257="P",$C257<>N$7),N256,IF(OR(N257="R",N257="P"),$A257,IF(AND(N257<>"",OR($C258=M$7,$C258=O$7)),"P",IF(AND($C258=N$7,OR(M257<>"",O257<>"")),"P",IF($C258=N$7,$A258,N257))))))))))) | O258: =IF($A259="","",IF(AND($T$2="No",O257<>"",$D257=$I$3,COUNTIF(OFFSET(O257,-($D257-1),0,1,1):O257,"R")=0,COUNTIF(OFFSET(O257,-($D257-1),0,1,1):O257,"")=0),"",IF(AND(O257<>"",$D257=$I$3,COUNTIF(OFFSET(O257,-($D257-1),0,1,1):O257,O257)=$I$3),"",IF(AND($C258="",$C257<>"",COUNTIF(O$8:O257,"R")>0),COUNTIF(O$8:O257,"R")&"R",IF($C258="","",IF(AND($C258=O$7,O257<>"",COUNTIF(OFFSET($C257,-$D257,0,1,1):$C257,O$7)>0),"R",IF(AND(O257="P",$C257<>O$7),O256,IF(OR(O257="R",O257="P"),$A257,IF(AND(O257<>"",OR($C258=N$7,$C258=P$7)),"P",IF(AND($C258=O$7,OR(N257<>"",P257<>"")),"P",IF($C258=O$7,$A258,O257))))))))))) | P258: =IF($A259="","",IF(AND($T$2="No",P257<>"",$D257=$I$3,COUNTIF(OFFSET(P257,-($D257-1),0,1,1):P257,"R")=0,COUNTIF(OFFSET(P257,-($D257-1),0,1,1):P257,"")=0),"",IF(AND(P257<>"",$D257=$I$3,COUNTIF(OFFSET(P257,-($D257-1),0,1,1):P257,P257)=$I$3),"",IF(AND($C258="",$C257<>"",COUNTIF(P$8:P257,"R")>0),COUNTIF(P$8:P257,"R")&"R",IF($C258="","",IF(AND($C258=P$7,P257<>"",COUNTIF(OFFSET($C257,-$D257,0,1,1):$C257,P$7)>0),"R",IF(AND(P257="P",$C257<>P$7),P256,IF(OR(P257="R",P257="P"),$A257,IF(AND(P257<>"",OR($C258=O$7,$C258=Q$7)),"P",IF(AND($C258=P$7,OR(O257<>"",Q257<>"")),"P",IF($C258=P$7,$A258,P257))))))))))) | ... AR258: =IF($A259="","",IF(AND($T$2="No",AR257<>"",$D257=$I$3,COUNTIF(OFFSET(AR257,-($D257-1),0,1,1):AR257,"R")=0,COUNTIF(OFFSET(AR257,-($D257-1),0,1,1):AR257,"")=0),"",IF(AND(AR257<>"",$D257=$I$3,COUNTIF(OFFSET(AR257,-($D257-1),0,1,1):AR257,AR257)=$I$3),"",IF(AND($C258="",$C257<>"",COUNTIF(AR$8:AR257,"R")>0),COUNTIF(AR$8:AR257,"R")&"R",IF($C258="","",IF(AND($C258=AR$7,AR257<>"",COUNTIF(OFFSET($C257,-$D257,0,1,1):$C257,AR$7)>0),"R",IF(AND(AR257="P",$C257<>AR$7),AR256,IF(OR(AR257="R",AR257="P"),$A257,IF(AND(AR257<>"",OR($C258=AQ$7,$C258=AS$7)),"P",IF(AND($C258=AR$7,OR(AQ257<>"",AS257<>"")),"P",IF($C258=AR$7,$A258,AR257))))))))))) | AS258: =IF($A259="","",IF(AND($T$2="No",AS257<>"",$D257=$I$3,COUNTIF(OFFSET(AS257,-($D257-1),0,1,1):AS257,"R")=0,COUNTIF(OFFSET(AS257,-($D257-1),0,1,1):AS257,"")=0),"",IF(AND(AS257<>"",$D257=$I$3,COUNTIF(OFFSET($H257,-$D257,0,1,1):AS257,AS257)=$I$3),"",IF(AND($C258="",$C257<>"",COUNTIF(AS$8:AS257,"R")>0),COUNTIF(AS$8:AS257,"R")&"R",IF($C258="","",IF(AND($C258=AS$7,AS257<>"",COUNTIF(OFFSET($C257,$D257,0,1,1):$C257,AS$7)>0),"R",IF(AS257="R",$A257,IF($C258=AS$7,$A258,AS257))))))))
C259: =IF(I$2="American",RANDBETWEEN(0,37),RANDBETWEEN(0,36)) -> 18 | H259: =IF($A260="","",IF(AND($T$2="No",H258<>"",$D258=$I$3,COUNTIF(OFFSET(H258,-($D258-1),0,1,1):H258,"R")=0,COUNTIF(OFFSET(H258,-($D258-1),0,1,1):H258,"")=0),"",IF(AND(H258<>"",$D258=$I$3,COUNTIF(OFFSET(H258,-($D258-1),0,1,1):H258,H258)=$I$3),"",IF(AND($C259="",$C258<>"",COUNTIF(H$8:H258,"R")>0),COUNTIF(H$8:H258,"R")&"R",IF($C259="","",IF(AND($C259=H$7,H258<>"",COUNTIF(OFFSET($C258,-$D258,0,1,1):$C258,H$7)>0),"R",IF(AND(H258="P",$C258<>H$7),H257,IF(OR(H258="R",H258="P"),$A258,IF(AND(H258<>"",OR($C259=I$7,$C259=AR$7)),"P",IF(AND($C259=H$7,OR(I258<>"",AR258<>"")),"P",IF($C259=H$7,$A259,H258))))))))))) | I259: =IF($A260="","",IF(AND($T$2="No",I258<>"",$D258=$I$3,COUNTIF(OFFSET(I258,-($D258-1),0,1,1):I258,"R")=0,COUNTIF(OFFSET(I258,-($D258-1),0,1,1):I258,"")=0),"",IF(AND(I258<>"",$D258=$I$3,COUNTIF(OFFSET(I258,-($D258-1),0,1,1):I258,I258)=$I$3),"",IF(AND($C259="",$C258<>"",COUNTIF(I$8:I258,"R")>0),COUNTIF(I$8:I258,"R")&"R",IF($C259="","",IF(AND($C259=I$7,I258<>"",COUNTIF(OFFSET($C258,-$D258,0,1,1):$C258,I$7)>0),"R",IF(AND(I258="P",$C258<>I$7),I257,IF(OR(I258="R",I258="P"),$A258,IF(AND(I258<>"",OR($C259=H$7,$C259=J$7)),"P",IF(AND($C259=I$7,OR(H258<>"",J258<>"")),"P",IF($C259=I$7,$A259,I258))))))))))) | J259: =IF($A260="","",IF(AND($T$2="No",J258<>"",$D258=$I$3,COUNTIF(OFFSET(J258,-($D258-1),0,1,1):J258,"R")=0,COUNTIF(OFFSET(J258,-($D258-1),0,1,1):J258,"")=0),"",IF(AND(J258<>"",$D258=$I$3,COUNTIF(OFFSET(J258,-($D258-1),0,1,1):J258,J258)=$I$3),"",IF(AND($C259="",$C258<>"",COUNTIF(J$8:J258,"R")>0),COUNTIF(J$8:J258,"R")&"R",IF($C259="","",IF(AND($C259=J$7,J258<>"",COUNTIF(OFFSET($C258,-$D258,0,1,1):$C258,J$7)>0),"R",IF(AND(J258="P",$C258<>J$7),J257,IF(OR(J258="R",J258="P"),$A258,IF(AND(J258<>"",OR($C259=I$7,$C259=K$7)),"P",IF(AND($C259=J$7,OR(I258<>"",K258<>"")),"P",IF($C259=J$7,$A259,J258))))))))))) | K259: =IF($A260="","",IF(AND($T$2="No",K258<>"",$D258=$I$3,COUNTIF(OFFSET(K258,-($D258-1),0,1,1):K258,"R")=0,COUNTIF(OFFSET(K258,-($D258-1),0,1,1):K258,"")=0),"",IF(AND(K258<>"",$D258=$I$3,COUNTIF(OFFSET(K258,-($D258-1),0,1,1):K258,K258)=$I$3),"",IF(AND($C259="",$C258<>"",COUNTIF(K$8:K258,"R")>0),COUNTIF(K$8:K258,"R")&"R",IF($C259="","",IF(AND($C259=K$7,K258<>"",COUNTIF(OFFSET($C258,-$D258,0,1,1):$C258,K$7)>0),"R",IF(AND(K258="P",$C258<>K$7),K257,IF(OR(K258="R",K258="P"),$A258,IF(AND(K258<>"",OR($C259=J$7,$C259=L$7)),"P",IF(AND($C259=K$7,OR(J258<>"",L258<>"")),"P",IF($C259=K$7,$A259,K258))))))))))) | L259: =IF($A260="","",IF(AND($T$2="No",L258<>"",$D258=$I$3,COUNTIF(OFFSET(L258,-($D258-1),0,1,1):L258,"R")=0,COUNTIF(OFFSET(L258,-($D258-1),0,1,1):L258,"")=0),"",IF(AND(L258<>"",$D258=$I$3,COUNTIF(OFFSET(L258,-($D258-1),0,1,1):L258,L258)=$I$3),"",IF(AND($C259="",$C258<>"",COUNTIF(L$8:L258,"R")>0),COUNTIF(L$8:L258,"R")&"R",IF($C259="","",IF(AND($C259=L$7,L258<>"",COUNTIF(OFFSET($C258,-$D258,0,1,1):$C258,L$7)>0),"R",IF(AND(L258="P",$C258<>L$7),L257,IF(OR(L258="R",L258="P"),$A258,IF(AND(L258<>"",OR($C259=K$7,$C259=M$7)),"P",IF(AND($C259=L$7,OR(K258<>"",M258<>"")),"P",IF($C259=L$7,$A259,L258))))))))))) | M259: =IF($A260="","",IF(AND($T$2="No",M258<>"",$D258=$I$3,COUNTIF(OFFSET(M258,-($D258-1),0,1,1):M258,"R")=0,COUNTIF(OFFSET(M258,-($D258-1),0,1,1):M258,"")=0),"",IF(AND(M258<>"",$D258=$I$3,COUNTIF(OFFSET(M258,-($D258-1),0,1,1):M258,M258)=$I$3),"",IF(AND($C259="",$C258<>"",COUNTIF(M$8:M258,"R")>0),COUNTIF(M$8:M258,"R")&"R",IF($C259="","",IF(AND($C259=M$7,M258<>"",COUNTIF(OFFSET($C258,-$D258,0,1,1):$C258,M$7)>0),"R",IF(AND(M258="P",$C258<>M$7),M257,IF(OR(M258="R",M258="P"),$A258,IF(AND(M258<>"",OR($C259=L$7,$C259=N$7)),"P",IF(AND($C259=M$7,OR(L258<>"",N258<>"")),"P",IF($C259=M$7,$A259,M258))))))))))) | N259: =IF($A260="","",IF(AND($T$2="No",N258<>"",$D258=$I$3,COUNTIF(OFFSET(N258,-($D258-1),0,1,1):N258,"R")=0,COUNTIF(OFFSET(N258,-($D258-1),0,1,1):N258,"")=0),"",IF(AND(N258<>"",$D258=$I$3,COUNTIF(OFFSET(N258,-($D258-1),0,1,1):N258,N258)=$I$3),"",IF(AND($C259="",$C258<>"",COUNTIF(N$8:N258,"R")>0),COUNTIF(N$8:N258,"R")&"R",IF($C259="","",IF(AND($C259=N$7,N258<>"",COUNTIF(OFFSET($C258,-$D258,0,1,1):$C258,N$7)>0),"R",IF(AND(N258="P",$C258<>N$7),N257,IF(OR(N258="R",N258="P"),$A258,IF(AND(N258<>"",OR($C259=M$7,$C259=O$7)),"P",IF(AND($C259=N$7,OR(M258<>"",O258<>"")),"P",IF($C259=N$7,$A259,N258))))))))))) | O259: =IF($A260="","",IF(AND($T$2="No",O258<>"",$D258=$I$3,COUNTIF(OFFSET(O258,-($D258-1),0,1,1):O258,"R")=0,COUNTIF(OFFSET(O258,-($D258-1),0,1,1):O258,"")=0),"",IF(AND(O258<>"",$D258=$I$3,COUNTIF(OFFSET(O258,-($D258-1),0,1,1):O258,O258)=$I$3),"",IF(AND($C259="",$C258<>"",COUNTIF(O$8:O258,"R")>0),COUNTIF(O$8:O258,"R")&"R",IF($C259="","",IF(AND($C259=O$7,O258<>"",COUNTIF(OFFSET($C258,-$D258,0,1,1):$C258,O$7)>0),"R",IF(AND(O258="P",$C258<>O$7),O257,IF(OR(O258="R",O258="P"),$A258,IF(AND(O258<>"",OR($C259=N$7,$C259=P$7)),"P",IF(AND($C259=O$7,OR(N258<>"",P258<>"")),"P",IF($C259=O$7,$A259,O258))))))))))) | P259: =IF($A260="","",IF(AND($T$2="No",P258<>"",$D258=$I$3,COUNTIF(OFFSET(P258,-($D258-1),0,1,1):P258,"R")=0,COUNTIF(OFFSET(P258,-($D258-1),0,1,1):P258,"")=0),"",IF(AND(P258<>"",$D258=$I$3,COUNTIF(OFFSET(P258,-($D258-1),0,1,1):P258,P258)=$I$3),"",IF(AND($C259="",$C258<>"",COUNTIF(P$8:P258,"R")>0),COUNTIF(P$8:P258,"R")&"R",IF($C259="","",IF(AND($C259=P$7,P258<>"",COUNTIF(OFFSET($C258,-$D258,0,1,1):$C258,P$7)>0),"R",IF(AND(P258="P",$C258<>P$7),P257,IF(OR(P258="R",P258="P"),$A258,IF(AND(P258<>"",OR($C259=O$7,$C259=Q$7)),"P",IF(AND($C259=P$7,OR(O258<>"",Q258<>"")),"P",IF($C259=P$7,$A259,P258))))))))))) | ... AR259: =IF($A260="","",IF(AND($T$2="No",AR258<>"",$D258=$I$3,COUNTIF(OFFSET(AR258,-($D258-1),0,1,1):AR258,"R")=0,COUNTIF(OFFSET(AR258,-($D258-1),0,1,1):AR258,"")=0),"",IF(AND(AR258<>"",$D258=$I$3,COUNTIF(OFFSET(AR258,-($D258-1),0,1,1):AR258,AR258)=$I$3),"",IF(AND($C259="",$C258<>"",COUNTIF(AR$8:AR258,"R")>0),COUNTIF(AR$8:AR258,"R")&"R",IF($C259="","",IF(AND($C259=AR$7,AR258<>"",COUNTIF(OFFSET($C258,-$D258,0,1,1):$C258,AR$7)>0),"R",IF(AND(AR258="P",$C258<>AR$7),AR257,IF(OR(AR258="R",AR258="P"),$A258,IF(AND(AR258<>"",OR($C259=AQ$7,$C259=AS$7)),"P",IF(AND($C259=AR$7,OR(AQ258<>"",AS258<>"")),"P",IF($C259=AR$7,$A259,AR258))))))))))) | AS259: =IF($A260="","",IF(AND($T$2="No",AS258<>"",$D258=$I$3,COUNTIF(OFFSET(AS258,-($D258-1),0,1,1):AS258,"R")=0,COUNTIF(OFFSET(AS258,-($D258-1),0,1,1):AS258,"")=0),"",IF(AND(AS258<>"",$D258=$I$3,COUNTIF(OFFSET($H258,-$D258,0,1,1):AS258,AS258)=$I$3),"",IF(AND($C259="",$C258<>"",COUNTIF(AS$8:AS258,"R")>0),COUNTIF(AS$8:AS258,"R")&"R",IF($C259="","",IF(AND($C259=AS$7,AS258<>"",COUNTIF(OFFSET($C258,$D258,0,1,1):$C258,AS$7)>0),"R",IF(AS258="R",$A258,IF($C259=AS$7,$A259,AS258))))))))
C260: =IF(I$2="American",RANDBETWEEN(0,37),RANDBETWEEN(0,36)) -> 19 | H260: =IF($A261="","",IF(AND($T$2="No",H259<>"",$D259=$I$3,COUNTIF(OFFSET(H259,-($D259-1),0,1,1):H259,"R")=0,COUNTIF(OFFSET(H259,-($D259-1),0,1,1):H259,"")=0),"",IF(AND(H259<>"",$D259=$I$3,COUNTIF(OFFSET(H259,-($D259-1),0,1,1):H259,H259)=$I$3),"",IF(AND($C260="",$C259<>"",COUNTIF(H$8:H259,"R")>0),COUNTIF(H$8:H259,"R")&"R",IF($C260="","",IF(AND($C260=H$7,H259<>"",COUNTIF(OFFSET($C259,-$D259,0,1,1):$C259,H$7)>0),"R",IF(AND(H259="P",$C259<>H$7),H258,IF(OR(H259="R",H259="P"),$A259,IF(AND(H259<>"",OR($C260=I$7,$C260=AR$7)),"P",IF(AND($C260=H$7,OR(I259<>"",AR259<>"")),"P",IF($C260=H$7,$A260,H259))))))))))) | I260: =IF($A261="","",IF(AND($T$2="No",I259<>"",$D259=$I$3,COUNTIF(OFFSET(I259,-($D259-1),0,1,1):I259,"R")=0,COUNTIF(OFFSET(I259,-($D259-1),0,1,1):I259,"")=0),"",IF(AND(I259<>"",$D259=$I$3,COUNTIF(OFFSET(I259,-($D259-1),0,1,1):I259,I259)=$I$3),"",IF(AND($C260="",$C259<>"",COUNTIF(I$8:I259,"R")>0),COUNTIF(I$8:I259,"R")&"R",IF($C260="","",IF(AND($C260=I$7,I259<>"",COUNTIF(OFFSET($C259,-$D259,0,1,1):$C259,I$7)>0),"R",IF(AND(I259="P",$C259<>I$7),I258,IF(OR(I259="R",I259="P"),$A259,IF(AND(I259<>"",OR($C260=H$7,$C260=J$7)),"P",IF(AND($C260=I$7,OR(H259<>"",J259<>"")),"P",IF($C260=I$7,$A260,I259))))))))))) | J260: =IF($A261="","",IF(AND($T$2="No",J259<>"",$D259=$I$3,COUNTIF(OFFSET(J259,-($D259-1),0,1,1):J259,"R")=0,COUNTIF(OFFSET(J259,-($D259-1),0,1,1):J259,"")=0),"",IF(AND(J259<>"",$D259=$I$3,COUNTIF(OFFSET(J259,-($D259-1),0,1,1):J259,J259)=$I$3),"",IF(AND($C260="",$C259<>"",COUNTIF(J$8:J259,"R")>0),COUNTIF(J$8:J259,"R")&"R",IF($C260="","",IF(AND($C260=J$7,J259<>"",COUNTIF(OFFSET($C259,-$D259,0,1,1):$C259,J$7)>0),"R",IF(AND(J259="P",$C259<>J$7),J258,IF(OR(J259="R",J259="P"),$A259,IF(AND(J259<>"",OR($C260=I$7,$C260=K$7)),"P",IF(AND($C260=J$7,OR(I259<>"",K259<>"")),"P",IF($C260=J$7,$A260,J259))))))))))) | K260: =IF($A261="","",IF(AND($T$2="No",K259<>"",$D259=$I$3,COUNTIF(OFFSET(K259,-($D259-1),0,1,1):K259,"R")=0,COUNTIF(OFFSET(K259,-($D259-1),0,1,1):K259,"")=0),"",IF(AND(K259<>"",$D259=$I$3,COUNTIF(OFFSET(K259,-($D259-1),0,1,1):K259,K259)=$I$3),"",IF(AND($C260="",$C259<>"",COUNTIF(K$8:K259,"R")>0),COUNTIF(K$8:K259,"R")&"R",IF($C260="","",IF(AND($C260=K$7,K259<>"",COUNTIF(OFFSET($C259,-$D259,0,1,1):$C259,K$7)>0),"R",IF(AND(K259="P",$C259<>K$7),K258,IF(OR(K259="R",K259="P"),$A259,IF(AND(K259<>"",OR($C260=J$7,$C260=L$7)),"P",IF(AND($C260=K$7,OR(J259<>"",L259<>"")),"P",IF($C260=K$7,$A260,K259))))))))))) | L260: =IF($A261="","",IF(AND($T$2="No",L259<>"",$D259=$I$3,COUNTIF(OFFSET(L259,-($D259-1),0,1,1):L259,"R")=0,COUNTIF(OFFSET(L259,-($D259-1),0,1,1):L259,"")=0),"",IF(AND(L259<>"",$D259=$I$3,COUNTIF(OFFSET(L259,-($D259-1),0,1,1):L259,L259)=$I$3),"",IF(AND($C260="",$C259<>"",COUNTIF(L$8:L259,"R")>0),COUNTIF(L$8:L259,"R")&"R",IF($C260="","",IF(AND($C260=L$7,L259<>"",COUNTIF(OFFSET($C259,-$D259,0,1,1):$C259,L$7)>0),"R",IF(AND(L259="P",$C259<>L$7),L258,IF(OR(L259="R",L259="P"),$A259,IF(AND(L259<>"",OR($C260=K$7,$C260=M$7)),"P",IF(AND($C260=L$7,OR(K259<>"",M259<>"")),"P",IF($C260=L$7,$A260,L259))))))))))) | M260: =IF($A261="","",IF(AND($T$2="No",M259<>"",$D259=$I$3,COUNTIF(OFFSET(M259,-($D259-1),0,1,1):M259,"R")=0,COUNTIF(OFFSET(M259,-($D259-1),0,1,1):M259,"")=0),"",IF(AND(M259<>"",$D259=$I$3,COUNTIF(OFFSET(M259,-($D259-1),0,1,1):M259,M259)=$I$3),"",IF(AND($C260="",$C259<>"",COUNTIF(M$8:M259,"R")>0),COUNTIF(M$8:M259,"R")&"R",IF($C260="","",IF(AND($C260=M$7,M259<>"",COUNTIF(OFFSET($C259,-$D259,0,1,1):$C259,M$7)>0),"R",IF(AND(M259="P",$C259<>M$7),M258,IF(OR(M259="R",M259="P"),$A259,IF(AND(M259<>"",OR($C260=L$7,$C260=N$7)),"P",IF(AND($C260=M$7,OR(L259<>"",N259<>"")),"P",IF($C260=M$7,$A260,M259))))))))))) | N260: =IF($A261="","",IF(AND($T$2="No",N259<>"",$D259=$I$3,COUNTIF(OFFSET(N259,-($D259-1),0,1,1):N259,"R")=0,COUNTIF(OFFSET(N259,-($D259-1),0,1,1):N259,"")=0),"",IF(AND(N259<>"",$D259=$I$3,COUNTIF(OFFSET(N259,-($D259-1),0,1,1):N259,N259)=$I$3),"",IF(AND($C260="",$C259<>"",COUNTIF(N$8:N259,"R")>0),COUNTIF(N$8:N259,"R")&"R",IF($C260="","",IF(AND($C260=N$7,N259<>"",COUNTIF(OFFSET($C259,-$D259,0,1,1):$C259,N$7)>0),"R",IF(AND(N259="P",$C259<>N$7),N258,IF(OR(N259="R",N259="P"),$A259,IF(AND(N259<>"",OR($C260=M$7,$C260=O$7)),"P",IF(AND($C260=N$7,OR(M259<>"",O259<>"")),"P",IF($C260=N$7,$A260,N259))))))))))) | O260: =IF($A261="","",IF(AND($T$2="No",O259<>"",$D259=$I$3,COUNTIF(OFFSET(O259,-($D259-1),0,1,1):O259,"R")=0,COUNTIF(OFFSET(O259,-($D259-1),0,1,1):O259,"")=0),"",IF(AND(O259<>"",$D259=$I$3,COUNTIF(OFFSET(O259,-($D259-1),0,1,1):O259,O259)=$I$3),"",IF(AND($C260="",$C259<>"",COUNTIF(O$8:O259,"R")>0),COUNTIF(O$8:O259,"R")&"R",IF($C260="","",IF(AND($C260=O$7,O259<>"",COUNTIF(OFFSET($C259,-$D259,0,1,1):$C259,O$7)>0),"R",IF(AND(O259="P",$C259<>O$7),O258,IF(OR(O259="R",O259="P"),$A259,IF(AND(O259<>"",OR($C260=N$7,$C260=P$7)),"P",IF(AND($C260=O$7,OR(N259<>"",P259<>"")),"P",IF($C260=O$7,$A260,O259))))))))))) | P260: =IF($A261="","",IF(AND($T$2="No",P259<>"",$D259=$I$3,COUNTIF(OFFSET(P259,-($D259-1),0,1,1):P259,"R")=0,COUNTIF(OFFSET(P259,-($D259-1),0,1,1):P259,"")=0),"",IF(AND(P259<>"",$D259=$I$3,COUNTIF(OFFSET(P259,-($D259-1),0,1,1):P259,P259)=$I$3),"",IF(AND($C260="",$C259<>"",COUNTIF(P$8:P259,"R")>0),COUNTIF(P$8:P259,"R")&"R",IF($C260="","",IF(AND($C260=P$7,P259<>"",COUNTIF(OFFSET($C259,-$D259,0,1,1):$C259,P$7)>0),"R",IF(AND(P259="P",$C259<>P$7),P258,IF(OR(P259="R",P259="P"),$A259,IF(AND(P259<>"",OR($C260=O$7,$C260=Q$7)),"P",IF(AND($C260=P$7,OR(O259<>"",Q259<>"")),"P",IF($C260=P$7,$A260,P259))))))))))) | ... AR260: =IF($A261="","",IF(AND($T$2="No",AR259<>"",$D259=$I$3,COUNTIF(OFFSET(AR259,-($D259-1),0,1,1):AR259,"R")=0,COUNTIF(OFFSET(AR259,-($D259-1),0,1,1):AR259,"")=0),"",IF(AND(AR259<>"",$D259=$I$3,COUNTIF(OFFSET(AR259,-($D259-1),0,1,1):AR259,AR259)=$I$3),"",IF(AND($C260="",$C259<>"",COUNTIF(AR$8:AR259,"R")>0),COUNTIF(AR$8:AR259,"R")&"R",IF($C260="","",IF(AND($C260=AR$7,AR259<>"",COUNTIF(OFFSET($C259,-$D259,0,1,1):$C259,AR$7)>0),"R",IF(AND(AR259="P",$C259<>AR$7),AR258,IF(OR(AR259="R",AR259="P"),$A259,IF(AND(AR259<>"",OR($C260=AQ$7,$C260=AS$7)),"P",IF(AND($C260=AR$7,OR(AQ259<>"",AS259<>"")),"P",IF($C260=AR$7,$A260,AR259))))))))))) | AS260: =IF($A261="","",IF(AND($T$2="No",AS259<>"",$D259=$I$3,COUNTIF(OFFSET(AS259,-($D259-1),0,1,1):AS259,"R")=0,COUNTIF(OFFSET(AS259,-($D259-1),0,1,1):AS259,"")=0),"",IF(AND(AS259<>"",$D259=$I$3,COUNTIF(OFFSET($H259,-$D259,0,1,1):AS259,AS259)=$I$3),"",IF(AND($C260="",$C259<>"",COUNTIF(AS$8:AS259,"R")>0),COUNTIF(AS$8:AS259,"R")&"R",IF($C260="","",IF(AND($C260=AS$7,AS259<>"",COUNTIF(OFFSET($C259,$D259,0,1,1):$C259,AS$7)>0),"R",IF(AS259="R",$A259,IF($C260=AS$7,$A260,AS259))))))))
C261: =IF(I$2="American",RANDBETWEEN(0,37),RANDBETWEEN(0,36)) -> 7 | H261: =IF($A262="","",IF(AND($T$2="No",H260<>"",$D260=$I$3,COUNTIF(OFFSET(H260,-($D260-1),0,1,1):H260,"R")=0,COUNTIF(OFFSET(H260,-($D260-1),0,1,1):H260,"")=0),"",IF(AND(H260<>"",$D260=$I$3,COUNTIF(OFFSET(H260,-($D260-1),0,1,1):H260,H260)=$I$3),"",IF(AND($C261="",$C260<>"",COUNTIF(H$8:H260,"R")>0),COUNTIF(H$8:H260,"R")&"R",IF($C261="","",IF(AND($C261=H$7,H260<>"",COUNTIF(OFFSET($C260,-$D260,0,1,1):$C260,H$7)>0),"R",IF(AND(H260="P",$C260<>H$7),H259,IF(OR(H260="R",H260="P"),$A260,IF(AND(H260<>"",OR($C261=I$7,$C261=AR$7)),"P",IF(AND($C261=H$7,OR(I260<>"",AR260<>"")),"P",IF($C261=H$7,$A261,H260))))))))))) | I261: =IF($A262="","",IF(AND($T$2="No",I260<>"",$D260=$I$3,COUNTIF(OFFSET(I260,-($D260-1),0,1,1):I260,"R")=0,COUNTIF(OFFSET(I260,-($D260-1),0,1,1):I260,"")=0),"",IF(AND(I260<>"",$D260=$I$3,COUNTIF(OFFSET(I260,-($D260-1),0,1,1):I260,I260)=$I$3),"",IF(AND($C261="",$C260<>"",COUNTIF(I$8:I260,"R")>0),COUNTIF(I$8:I260,"R")&"R",IF($C261="","",IF(AND($C261=I$7,I260<>"",COUNTIF(OFFSET($C260,-$D260,0,1,1):$C260,I$7)>0),"R",IF(AND(I260="P",$C260<>I$7),I259,IF(OR(I260="R",I260="P"),$A260,IF(AND(I260<>"",OR($C261=H$7,$C261=J$7)),"P",IF(AND($C261=I$7,OR(H260<>"",J260<>"")),"P",IF($C261=I$7,$A261,I260))))))))))) | J261: =IF($A262="","",IF(AND($T$2="No",J260<>"",$D260=$I$3,COUNTIF(OFFSET(J260,-($D260-1),0,1,1):J260,"R")=0,COUNTIF(OFFSET(J260,-($D260-1),0,1,1):J260,"")=0),"",IF(AND(J260<>"",$D260=$I$3,COUNTIF(OFFSET(J260,-($D260-1),0,1,1):J260,J260)=$I$3),"",IF(AND($C261="",$C260<>"",COUNTIF(J$8:J260,"R")>0),COUNTIF(J$8:J260,"R")&"R",IF($C261="","",IF(AND($C261=J$7,J260<>"",COUNTIF(OFFSET($C260,-$D260,0,1,1):$C260,J$7)>0),"R",IF(AND(J260="P",$C260<>J$7),J259,IF(OR(J260="R",J260="P"),$A260,IF(AND(J260<>"",OR($C261=I$7,$C261=K$7)),"P",IF(AND($C261=J$7,OR(I260<>"",K260<>"")),"P",IF($C261=J$7,$A261,J260))))))))))) | K261: =IF($A262="","",IF(AND($T$2="No",K260<>"",$D260=$I$3,COUNTIF(OFFSET(K260,-($D260-1),0,1,1):K260,"R")=0,COUNTIF(OFFSET(K260,-($D260-1),0,1,1):K260,"")=0),"",IF(AND(K260<>"",$D260=$I$3,COUNTIF(OFFSET(K260,-($D260-1),0,1,1):K260,K260)=$I$3),"",IF(AND($C261="",$C260<>"",COUNTIF(K$8:K260,"R")>0),COUNTIF(K$8:K260,"R")&"R",IF($C261="","",IF(AND($C261=K$7,K260<>"",COUNTIF(OFFSET($C260,-$D260,0,1,1):$C260,K$7)>0),"R",IF(AND(K260="P",$C260<>K$7),K259,IF(OR(K260="R",K260="P"),$A260,IF(AND(K260<>"",OR($C261=J$7,$C261=L$7)),"P",IF(AND($C261=K$7,OR(J260<>"",L260<>"")),"P",IF($C261=K$7,$A261,K260))))))))))) | L261: =IF($A262="","",IF(AND($T$2="No",L260<>"",$D260=$I$3,COUNTIF(OFFSET(L260,-($D260-1),0,1,1):L260,"R")=0,COUNTIF(OFFSET(L260,-($D260-1),0,1,1):L260,"")=0),"",IF(AND(L260<>"",$D260=$I$3,COUNTIF(OFFSET(L260,-($D260-1),0,1,1):L260,L260)=$I$3),"",IF(AND($C261="",$C260<>"",COUNTIF(L$8:L260,"R")>0),COUNTIF(L$8:L260,"R")&"R",IF($C261="","",IF(AND($C261=L$7,L260<>"",COUNTIF(OFFSET($C260,-$D260,0,1,1):$C260,L$7)>0),"R",IF(AND(L260="P",$C260<>L$7),L259,IF(OR(L260="R",L260="P"),$A260,IF(AND(L260<>"",OR($C261=K$7,$C261=M$7)),"P",IF(AND($C261=L$7,OR(K260<>"",M260<>"")),"P",IF($C261=L$7,$A261,L260))))))))))) | M261: =IF($A262="","",IF(AND($T$2="No",M260<>"",$D260=$I$3,COUNTIF(OFFSET(M260,-($D260-1),0,1,1):M260,"R")=0,COUNTIF(OFFSET(M260,-($D260-1),0,1,1):M260,"")=0),"",IF(AND(M260<>"",$D260=$I$3,COUNTIF(OFFSET(M260,-($D260-1),0,1,1):M260,M260)=$I$3),"",IF(AND($C261="",$C260<>"",COUNTIF(M$8:M260,"R")>0),COUNTIF(M$8:M260,"R")&"R",IF($C261="","",IF(AND($C261=M$7,M260<>"",COUNTIF(OFFSET($C260,-$D260,0,1,1):$C260,M$7)>0),"R",IF(AND(M260="P",$C260<>M$7),M259,IF(OR(M260="R",M260="P"),$A260,IF(AND(M260<>"",OR($C261=L$7,$C261=N$7)),"P",IF(AND($C261=M$7,OR(L260<>"",N260<>"")),"P",IF($C261=M$7,$A261,M260))))))))))) | N261: =IF($A262="","",IF(AND($T$2="No",N260<>"",$D260=$I$3,COUNTIF(OFFSET(N260,-($D260-1),0,1,1):N260,"R")=0,COUNTIF(OFFSET(N260,-($D260-1),0,1,1):N260,"")=0),"",IF(AND(N260<>"",$D260=$I$3,COUNTIF(OFFSET(N260,-($D260-1),0,1,1):N260,N260)=$I$3),"",IF(AND($C261="",$C260<>"",COUNTIF(N$8:N260,"R")>0),COUNTIF(N$8:N260,"R")&"R",IF($C261="","",IF(AND($C261=N$7,N260<>"",COUNTIF(OFFSET($C260,-$D260,0,1,1):$C260,N$7)>0),"R",IF(AND(N260="P",$C260<>N$7),N259,IF(OR(N260="R",N260="P"),$A260,IF(AND(N260<>"",OR($C261=M$7,$C261=O$7)),"P",IF(AND($C261=N$7,OR(M260<>"",O260<>"")),"P",IF($C261=N$7,$A261,N260))))))))))) | O261: =IF($A262="","",IF(AND($T$2="No",O260<>"",$D260=$I$3,COUNTIF(OFFSET(O260,-($D260-1),0,1,1):O260,"R")=0,COUNTIF(OFFSET(O260,-($D260-1),0,1,1):O260,"")=0),"",IF(AND(O260<>"",$D260=$I$3,COUNTIF(OFFSET(O260,-($D260-1),0,1,1):O260,O260)=$I$3),"",IF(AND($C261="",$C260<>"",COUNTIF(O$8:O260,"R")>0),COUNTIF(O$8:O260,"R")&"R",IF($C261="","",IF(AND($C261=O$7,O260<>"",COUNTIF(OFFSET($C260,-$D260,0,1,1):$C260,O$7)>0),"R",IF(AND(O260="P",$C260<>O$7),O259,IF(OR(O260="R",O260="P"),$A260,IF(AND(O260<>"",OR($C261=N$7,$C261=P$7)),"P",IF(AND($C261=O$7,OR(N260<>"",P260<>"")),"P",IF($C261=O$7,$A261,O260))))))))))) | P261: =IF($A262="","",IF(AND($T$2="No",P260<>"",$D260=$I$3,COUNTIF(OFFSET(P260,-($D260-1),0,1,1):P260,"R")=0,COUNTIF(OFFSET(P260,-($D260-1),0,1,1):P260,"")=0),"",IF(AND(P260<>"",$D260=$I$3,COUNTIF(OFFSET(P260,-($D260-1),0,1,1):P260,P260)=$I$3),"",IF(AND($C261="",$C260<>"",COUNTIF(P$8:P260,"R")>0),COUNTIF(P$8:P260,"R")&"R",IF($C261="","",IF(AND($C261=P$7,P260<>"",COUNTIF(OFFSET($C260,-$D260,0,1,1):$C260,P$7)>0),"R",IF(AND(P260="P",$C260<>P$7),P259,IF(OR(P260="R",P260="P"),$A260,IF(AND(P260<>"",OR($C261=O$7,$C261=Q$7)),"P",IF(AND($C261=P$7,OR(O260<>"",Q260<>"")),"P",IF($C261=P$7,$A261,P260))))))))))) | ... AR261: =IF($A262="","",IF(AND($T$2="No",AR260<>"",$D260=$I$3,COUNTIF(OFFSET(AR260,-($D260-1),0,1,1):AR260,"R")=0,COUNTIF(OFFSET(AR260,-($D260-1),0,1,1):AR260,"")=0),"",IF(AND(AR260<>"",$D260=$I$3,COUNTIF(OFFSET(AR260,-($D260-1),0,1,1):AR260,AR260)=$I$3),"",IF(AND($C261="",$C260<>"",COUNTIF(AR$8:AR260,"R")>0),COUNTIF(AR$8:AR260,"R")&"R",IF($C261="","",IF(AND($C261=AR$7,AR260<>"",COUNTIF(OFFSET($C260,-$D260,0,1,1):$C260,AR$7)>0),"R",IF(AND(AR260="P",$C260<>AR$7),AR259,IF(OR(AR260="R",AR260="P"),$A260,IF(AND(AR260<>"",OR($C261=AQ$7,$C261=AS$7)),"P",IF(AND($C261=AR$7,OR(AQ260<>"",AS260<>"")),"P",IF($C261=AR$7,$A261,AR260))))))))))) | AS261: =IF($A262="","",IF(AND($T$2="No",AS260<>"",$D260=$I$3,COUNTIF(OFFSET(AS260,-($D260-1),0,1,1):AS260,"R")=0,COUNTIF(OFFSET(AS260,-($D260-1),0,1,1):AS260,"")=0),"",IF(AND(AS260<>"",$D260=$I$3,COUNTIF(OFFSET($H260,-$D260,0,1,1):AS260,AS260)=$I$3),"",IF(AND($C261="",$C260<>"",COUNTIF(AS$8:AS260,"R")>0),COUNTIF(AS$8:AS260,"R")&"R",IF($C261="","",IF(AND($C261=AS$7,AS260<>"",COUNTIF(OFFSET($C260,$D260,0,1,1):$C260,AS$7)>0),"R",IF(AS260="R",$A260,IF($C261=AS$7,$A261,AS260))))))))
C262: =IF(I$2="American",RANDBETWEEN(0,37),RANDBETWEEN(0,36)) -> 31 | H262: =IF($A263="","",IF(AND($T$2="No",H261<>"",$D261=$I$3,COUNTIF(OFFSET(H261,-($D261-1),0,1,1):H261,"R")=0,COUNTIF(OFFSET(H261,-($D261-1),0,1,1):H261,"")=0),"",IF(AND(H261<>"",$D261=$I$3,COUNTIF(OFFSET(H261,-($D261-1),0,1,1):H261,H261)=$I$3),"",IF(AND($C262="",$C261<>"",COUNTIF(H$8:H261,"R")>0),COUNTIF(H$8:H261,"R")&"R",IF($C262="","",IF(AND($C262=H$7,H261<>"",COUNTIF(OFFSET($C261,-$D261,0,1,1):$C261,H$7)>0),"R",IF(AND(H261="P",$C261<>H$7),H260,IF(OR(H261="R",H261="P"),$A261,IF(AND(H261<>"",OR($C262=I$7,$C262=AR$7)),"P",IF(AND($C262=H$7,OR(I261<>"",AR261<>"")),"P",IF($C262=H$7,$A262,H261))))))))))) | I262: =IF($A263="","",IF(AND($T$2="No",I261<>"",$D261=$I$3,COUNTIF(OFFSET(I261,-($D261-1),0,1,1):I261,"R")=0,COUNTIF(OFFSET(I261,-($D261-1),0,1,1):I261,"")=0),"",IF(AND(I261<>"",$D261=$I$3,COUNTIF(OFFSET(I261,-($D261-1),0,1,1):I261,I261)=$I$3),"",IF(AND($C262="",$C261<>"",COUNTIF(I$8:I261,"R")>0),COUNTIF(I$8:I261,"R")&"R",IF($C262="","",IF(AND($C262=I$7,I261<>"",COUNTIF(OFFSET($C261,-$D261,0,1,1):$C261,I$7)>0),"R",IF(AND(I261="P",$C261<>I$7),I260,IF(OR(I261="R",I261="P"),$A261,IF(AND(I261<>"",OR($C262=H$7,$C262=J$7)),"P",IF(AND($C262=I$7,OR(H261<>"",J261<>"")),"P",IF($C262=I$7,$A262,I261))))))))))) | J262: =IF($A263="","",IF(AND($T$2="No",J261<>"",$D261=$I$3,COUNTIF(OFFSET(J261,-($D261-1),0,1,1):J261,"R")=0,COUNTIF(OFFSET(J261,-($D261-1),0,1,1):J261,"")=0),"",IF(AND(J261<>"",$D261=$I$3,COUNTIF(OFFSET(J261,-($D261-1),0,1,1):J261,J261)=$I$3),"",IF(AND($C262="",$C261<>"",COUNTIF(J$8:J261,"R")>0),COUNTIF(J$8:J261,"R")&"R",IF($C262="","",IF(AND($C262=J$7,J261<>"",COUNTIF(OFFSET($C261,-$D261,0,1,1):$C261,J$7)>0),"R",IF(AND(J261="P",$C261<>J$7),J260,IF(OR(J261="R",J261="P"),$A261,IF(AND(J261<>"",OR($C262=I$7,$C262=K$7)),"P",IF(AND($C262=J$7,OR(I261<>"",K261<>"")),"P",IF($C262=J$7,$A262,J261))))))))))) | K262: =IF($A263="","",IF(AND($T$2="No",K261<>"",$D261=$I$3,COUNTIF(OFFSET(K261,-($D261-1),0,1,1):K261,"R")=0,COUNTIF(OFFSET(K261,-($D261-1),0,1,1):K261,"")=0),"",IF(AND(K261<>"",$D261=$I$3,COUNTIF(OFFSET(K261,-($D261-1),0,1,1):K261,K261)=$I$3),"",IF(AND($C262="",$C261<>"",COUNTIF(K$8:K261,"R")>0),COUNTIF(K$8:K261,"R")&"R",IF($C262="","",IF(AND($C262=K$7,K261<>"",COUNTIF(OFFSET($C261,-$D261,0,1,1):$C261,K$7)>0),"R",IF(AND(K261="P",$C261<>K$7),K260,IF(OR(K261="R",K261="P"),$A261,IF(AND(K261<>"",OR($C262=J$7,$C262=L$7)),"P",IF(AND($C262=K$7,OR(J261<>"",L261<>"")),"P",IF($C262=K$7,$A262,K261))))))))))) | L262: =IF($A263="","",IF(AND($T$2="No",L261<>"",$D261=$I$3,COUNTIF(OFFSET(L261,-($D261-1),0,1,1):L261,"R")=0,COUNTIF(OFFSET(L261,-($D261-1),0,1,1):L261,"")=0),"",IF(AND(L261<>"",$D261=$I$3,COUNTIF(OFFSET(L261,-($D261-1),0,1,1):L261,L261)=$I$3),"",IF(AND($C262="",$C261<>"",COUNTIF(L$8:L261,"R")>0),COUNTIF(L$8:L261,"R")&"R",IF($C262="","",IF(AND($C262=L$7,L261<>"",COUNTIF(OFFSET($C261,-$D261,0,1,1):$C261,L$7)>0),"R",IF(AND(L261="P",$C261<>L$7),L260,IF(OR(L261="R",L261="P"),$A261,IF(AND(L261<>"",OR($C262=K$7,$C262=M$7)),"P",IF(AND($C262=L$7,OR(K261<>"",M261<>"")),"P",IF($C262=L$7,$A262,L261))))))))))) | M262: =IF($A263="","",IF(AND($T$2="No",M261<>"",$D261=$I$3,COUNTIF(OFFSET(M261,-($D261-1),0,1,1):M261,"R")=0,COUNTIF(OFFSET(M261,-($D261-1),0,1,1):M261,"")=0),"",IF(AND(M261<>"",$D261=$I$3,COUNTIF(OFFSET(M261,-($D261-1),0,1,1):M261,M261)=$I$3),"",IF(AND($C262="",$C261<>"",COUNTIF(M$8:M261,"R")>0),COUNTIF(M$8:M261,"R")&"R",IF($C262="","",IF(AND($C262=M$7,M261<>"",COUNTIF(OFFSET($C261,-$D261,0,1,1):$C261,M$7)>0),"R",IF(AND(M261="P",$C261<>M$7),M260,IF(OR(M261="R",M261="P"),$A261,IF(AND(M261<>"",OR($C262=L$7,$C262=N$7)),"P",IF(AND($C262=M$7,OR(L261<>"",N261<>"")),"P",IF($C262=M$7,$A262,M261))))))))))) | N262: =IF($A263="","",IF(AND($T$2="No",N261<>"",$D261=$I$3,COUNTIF(OFFSET(N261,-($D261-1),0,1,1):N261,"R")=0,COUNTIF(OFFSET(N261,-($D261-1),0,1,1):N261,"")=0),"",IF(AND(N261<>"",$D261=$I$3,COUNTIF(OFFSET(N261,-($D261-1),0,1,1):N261,N261)=$I$3),"",IF(AND($C262="",$C261<>"",COUNTIF(N$8:N261,"R")>0),COUNTIF(N$8:N261,"R")&"R",IF($C262="","",IF(AND($C262=N$7,N261<>"",COUNTIF(OFFSET($C261,-$D261,0,1,1):$C261,N$7)>0),"R",IF(AND(N261="P",$C261<>N$7),N260,IF(OR(N261="R",N261="P"),$A261,IF(AND(N261<>"",OR($C262=M$7,$C262=O$7)),"P",IF(AND($C262=N$7,OR(M261<>"",O261<>"")),"P",IF($C262=N$7,$A262,N261))))))))))) | O262: =IF($A263="","",IF(AND($T$2="No",O261<>"",$D261=$I$3,COUNTIF(OFFSET(O261,-($D261-1),0,1,1):O261,"R")=0,COUNTIF(OFFSET(O261,-($D261-1),0,1,1):O261,"")=0),"",IF(AND(O261<>"",$D261=$I$3,COUNTIF(OFFSET(O261,-($D261-1),0,1,1):O261,O261)=$I$3),"",IF(AND($C262="",$C261<>"",COUNTIF(O$8:O261,"R")>0),COUNTIF(O$8:O261,"R")&"R",IF($C262="","",IF(AND($C262=O$7,O261<>"",COUNTIF(OFFSET($C261,-$D261,0,1,1):$C261,O$7)>0),"R",IF(AND(O261="P",$C261<>O$7),O260,IF(OR(O261="R",O261="P"),$A261,IF(AND(O261<>"",OR($C262=N$7,$C262=P$7)),"P",IF(AND($C262=O$7,OR(N261<>"",P261<>"")),"P",IF($C262=O$7,$A262,O261))))))))))) | P262: =IF($A263="","",IF(AND($T$2="No",P261<>"",$D261=$I$3,COUNTIF(OFFSET(P261,-($D261-1),0,1,1):P261,"R")=0,COUNTIF(OFFSET(P261,-($D261-1),0,1,1):P261,"")=0),"",IF(AND(P261<>"",$D261=$I$3,COUNTIF(OFFSET(P261,-($D261-1),0,1,1):P261,P261)=$I$3),"",IF(AND($C262="",$C261<>"",COUNTIF(P$8:P261,"R")>0),COUNTIF(P$8:P261,"R")&"R",IF($C262="","",IF(AND($C262=P$7,P261<>"",COUNTIF(OFFSET($C261,-$D261,0,1,1):$C261,P$7)>0),"R",IF(AND(P261="P",$C261<>P$7),P260,IF(OR(P261="R",P261="P"),$A261,IF(AND(P261<>"",OR($C262=O$7,$C262=Q$7)),"P",IF(AND($C262=P$7,OR(O261<>"",Q261<>"")),"P",IF($C262=P$7,$A262,P261))))))))))) | ... AR262: =IF($A263="","",IF(AND($T$2="No",AR261<>"",$D261=$I$3,COUNTIF(OFFSET(AR261,-($D261-1),0,1,1):AR261,"R")=0,COUNTIF(OFFSET(AR261,-($D261-1),0,1,1):AR261,"")=0),"",IF(AND(AR261<>"",$D261=$I$3,COUNTIF(OFFSET(AR261,-($D261-1),0,1,1):AR261,AR261)=$I$3),"",IF(AND($C262="",$C261<>"",COUNTIF(AR$8:AR261,"R")>0),COUNTIF(AR$8:AR261,"R")&"R",IF($C262="","",IF(AND($C262=AR$7,AR261<>"",COUNTIF(OFFSET($C261,-$D261,0,1,1):$C261,AR$7)>0),"R",IF(AND(AR261="P",$C261<>AR$7),AR260,IF(OR(AR261="R",AR261="P"),$A261,IF(AND(AR261<>"",OR($C262=AQ$7,$C262=AS$7)),"P",IF(AND($C262=AR$7,OR(AQ261<>"",AS261<>"")),"P",IF($C262=AR$7,$A262,AR261))))))))))) | AS262: =IF($A263="","",IF(AND($T$2="No",AS261<>"",$D261=$I$3,COUNTIF(OFFSET(AS261,-($D261-1),0,1,1):AS261,"R")=0,COUNTIF(OFFSET(AS261,-($D261-1),0,1,1):AS261,"")=0),"",IF(AND(AS261<>"",$D261=$I$3,COUNTIF(OFFSET($H261,-$D261,0,1,1):AS261,AS261)=$I$3),"",IF(AND($C262="",$C261<>"",COUNTIF(AS$8:AS261,"R")>0),COUNTIF(AS$8:AS261,"R")&"R",IF($C262="","",IF(AND($C262=AS$7,AS261<>"",COUNTIF(OFFSET($C261,$D261,0,1,1):$C261,AS$7)>0),"R",IF(AS261="R",$A261,IF($C262=AS$7,$A262,AS261))))))))

Sheet Tracker
R2: Layout
R3: European
D5: =R3 -> European
D6: 0 | E6: 1 | F6: 2 | G6: 3 | H6: 4 | I6: 5 | J6: 6 | K6: 7 | L6: 8 | M6: 9 | N6: 10 | O6: 11 | P6: 12 | Q6: 13 | R6: 14 | S6: 15 | T6: 16 | U6: 17 | V6: 18 | W6: 19 | X6: 20 | Y6: 21 | Z6: 22 | AA6: 23 | AB6: 24 | AC6: 25 | AD6: 26 | AE6: 27 | AF6: 28 | AG6: 29 | AH6: 30 | AI6: 31 | AJ6: 32 | AK6: 33 | AL6: 34 | AM6: 35 | AN6: 36 | AO6: 37
A7: Spin | B7: Nr | C7: Rep | D7: =IF($R3="Board",D6,IF($R3="European",LOOKUP(D6,Layout!$A:$A,Layout!$B:$B),IF($R3="American",LOOKUP(D6,Layout!$A:$A,Layout!$D:$D)))) -> 0 | E7: =IF($R3="Board",E6,IF($R3="European",LOOKUP(E6,Layout!$A:$A,Layout!$B:$B),IF($R3="American",LOOKUP(E6,Layout!$A:$A,Layout!$D:$D)))) -> 32 | F7: =IF($R3="Board",F6,IF($R3="European",LOOKUP(F6,Layout!$A:$A,Layout!$B:$B),IF($R3="American",LOOKUP(F6,Layout!$A:$A,Layout!$D:$D)))) -> 15 | G7: =IF($R3="Board",G6,IF($R3="European",LOOKUP(G6,Layout!$A:$A,Layout!$B:$B),IF($R3="American",LOOKUP(G6,Layout!$A:$A,Layout!$D:$D)))) -> 19 | H7: =IF($R3="Board",H6,IF($R3="European",LOOKUP(H6,Layout!$A:$A,Layout!$B:$B),IF($R3="American",LOOKUP(H6,Layout!$A:$A,Layout!$D:$D)))) -> 4 | I7: =IF($R3="Board",I6,IF($R3="European",LOOKUP(I6,Layout!$A:$A,Layout!$B:$B),IF($R3="American",LOOKUP(I6,Layout!$A:$A,Layout!$D:$D)))) -> 21 | J7: =IF($R3="Board",J6,IF($R3="European",LOOKUP(J6,Layout!$A:$A,Layout!$B:$B),IF($R3="American",LOOKUP(J6,Layout!$A:$A,Layout!$D:$D)))) -> 2 | K7: =IF($R3="Board",K6,IF($R3="European",LOOKUP(K6,Layout!$A:$A,Layout!$B:$B),IF($R3="American",LOOKUP(K6,Layout!$A:$A,Layout!$D:$D)))) -> 25 | ... AN7: =IF($R3="Board",AN6,IF($R3="European",LOOKUP(AN6,Layout!$A:$A,Layout!$B:$B),IF($R3="American",LOOKUP(AN6,Layout!$A:$A,Layout!$D:$D)))) -> 26 | AO7: =IF($R3="Board","",IF($R3="European","",IF($R3="American",LOOKUP(AO6,Layout!$A:$A,Layout!$D:$D))))
A8: 1 | B8: =IF(R$3="American",RANDBETWEEN(0,37),RANDBETWEEN(0,36)) -> 33 | D8: =IF($B8="","",IF($B8=D$7,$A8,"")) | E8: =IF($B8="","",IF($B8=E$7,$A8,"")) | F8: =IF($B8="","",IF($B8=F$7,$A8,"")) | G8: =IF($B8="","",IF($B8=G$7,$A8,"")) | H8: =IF($B8="","",IF($B8=H$7,$A8,"")) | I8: =IF($B8="","",IF($B8=I$7,$A8,"")) | J8: =IF($B8="","",IF($B8=J$7,$A8,"")) | K8: =IF($B8="","",IF($B8=K$7,$A8,"")) | ... AO8: =IF($B8="","",IF($B8=AO$7,$A8,""))
A9: 2 | B9: =IF(R$3="American",RANDBETWEEN(0,37),RANDBETWEEN(0,36)) -> 13 | C9: =IF(COUNTIF(B$8:B8,B9)=0,"",COUNTIF(B$8:B8,B9)) | D9: =IF($A9="","",IF(AND($B9="",$B8<>"",COUNTIF(D$8:D8,"R")>0),COUNTIF(D$8:D8,"R")&"R",IF($B9="","",IF(AND($B9=D$7,$C9<>""),"R",IF(D8="R",$A8,IF($B9=D$7,$A9,D8)))))) | E9: =IF($A9="","",IF(AND($B9="",$B8<>"",COUNTIF(E$8:E8,"R")>0),COUNTIF(E$8:E8,"R")&"R",IF($B9="","",IF(AND($B9=E$7,$C9<>""),"R",IF(E8="R",$A8,IF($B9=E$7,$A9,E8)))))) | F9: =IF($A9="","",IF(AND($B9="",$B8<>"",COUNTIF(F$8:F8,"R")>0),COUNTIF(F$8:F8,"R")&"R",IF($B9="","",IF(AND($B9=F$7,$C9<>""),"R",IF(F8="R",$A8,IF($B9=F$7,$A9,F8)))))) | G9: =IF($A9="","",IF(AND($B9="",$B8<>"",COUNTIF(G$8:G8,"R")>0),COUNTIF(G$8:G8,"R")&"R",IF($B9="","",IF(AND($B9=G$7,$C9<>""),"R",IF(G8="R",$A8,IF($B9=G$7,$A9,G8)))))) | H9: =IF($A9="","",IF(AND($B9="",$B8<>"",COUNTIF(H$8:H8,"R")>0),COUNTIF(H$8:H8,"R")&"R",IF($B9="","",IF(AND($B9=H$7,$C9<>""),"R",IF(H8="R",$A8,IF($B9=H$7,$A9,H8)))))) | I9: =IF($A9="","",IF(AND($B9="",$B8<>"",COUNTIF(I$8:I8,"R")>0),COUNTIF(I$8:I8,"R")&"R",IF($B9="","",IF(AND($B9=I$7,$C9<>""),"R",IF(I8="R",$A8,IF($B9=I$7,$A9,I8)))))) | J9: =IF($A9="","",IF(AND($B9="",$B8<>"",COUNTIF(J$8:J8,"R")>0),COUNTIF(J$8:J8,"R")&"R",IF($B9="","",IF(AND($B9=J$7,$C9<>""),"R",IF(J8="R",$A8,IF($B9=J$7,$A9,J8)))))) | K9: =IF($A9="","",IF(AND($B9="",$B8<>"",COUNTIF(K$8:K8,"R")>0),COUNTIF(K$8:K8,"R")&"R",IF($B9="","",IF(AND($B9=K$7,$C9<>""),"R",IF(K8="R",$A8,IF($B9=K$7,$A9,K8)))))) | ... AN9: =IF($A9="","",IF(AND($B9="",$B8<>"",COUNTIF(AN$8:AN8,"R")>0),COUNTIF(AN$8:AN8,"R")&"R",IF($B9="","",IF(AND($B9=AN$7,$C9<>""),"R",IF(AN8="R",$A8,IF($B9=AN$7,$A9,AN8)))))) | AO9: =IF($A9="","",IF(AND($B9="",$B8<>"",COUNTIF(AO$8:AO8,"R")),COUNTIF(AO$8:AO8,"R")&"R",IF($B9="","",IF(AND($B9=AO$7,$C9<>""),"R",IF(AO8="R",$A8,IF($B9=AO$7,$A9,AO8))))))
A10: 3 | B10: =IF(R$3="American",RANDBETWEEN(0,37),RANDBETWEEN(0,36)) -> 3 | C10: =IF(COUNTIF(B$8:B9,B10)=0,"",COUNTIF(B$8:B9,B10)) | D10: =IF($A10="","",IF(AND($B10="",$B9<>"",COUNTIF(D$8:D9,"R")>0),COUNTIF(D$8:D9,"R")&"R",IF($B10="","",IF(AND($B10=D$7,$C10<>""),"R",IF(D9="R",$A9,IF($B10=D$7,$A10,D9)))))) | E10: =IF($A10="","",IF(AND($B10="",$B9<>"",COUNTIF(E$8:E9,"R")>0),COUNTIF(E$8:E9,"R")&"R",IF($B10="","",IF(AND($B10=E$7,$C10<>""),"R",IF(E9="R",$A9,IF($B10=E$7,$A10,E9)))))) | F10: =IF($A10="","",IF(AND($B10="",$B9<>"",COUNTIF(F$8:F9,"R")>0),COUNTIF(F$8:F9,"R")&"R",IF($B10="","",IF(AND($B10=F$7,$C10<>""),"R",IF(F9="R",$A9,IF($B10=F$7,$A10,F9)))))) | G10: =IF($A10="","",IF(AND($B10="",$B9<>"",COUNTIF(G$8:G9,"R")>0),COUNTIF(G$8:G9,"R")&"R",IF($B10="","",IF(AND($B10=G$7,$C10<>""),"R",IF(G9="R",$A9,IF($B10=G$7,$A10,G9)))))) | H10: =IF($A10="","",IF(AND($B10="",$B9<>"",COUNTIF(H$8:H9,"R")>0),COUNTIF(H$8:H9,"R")&"R",IF($B10="","",IF(AND($B10=H$7,$C10<>""),"R",IF(H9="R",$A9,IF($B10=H$7,$A10,H9)))))) | I10: =IF($A10="","",IF(AND($B10="",$B9<>"",COUNTIF(I$8:I9,"R")>0),COUNTIF(I$8:I9,"R")&"R",IF($B10="","",IF(AND($B10=I$7,$C10<>""),"R",IF(I9="R",$A9,IF($B10=I$7,$A10,I9)))))) | J10: =IF($A10="","",IF(AND($B10="",$B9<>"",COUNTIF(J$8:J9,"R")>0),COUNTIF(J$8:J9,"R")&"R",IF($B10="","",IF(AND($B10=J$7,$C10<>""),"R",IF(J9="R",$A9,IF($B10=J$7,$A10,J9)))))) | K10: =IF($A10="","",IF(AND($B10="",$B9<>"",COUNTIF(K$8:K9,"R")>0),COUNTIF(K$8:K9,"R")&"R",IF($B10="","",IF(AND($B10=K$7,$C10<>""),"R",IF(K9="R",$A9,IF($B10=K$7,$A10,K9)))))) | ... AN10: =IF($A10="","",IF(AND($B10="",$B9<>"",COUNTIF(AN$8:AN9,"R")>0),COUNTIF(AN$8:AN9,"R")&"R",IF($B10="","",IF(AND($B10=AN$7,$C10<>""),"R",IF(AN9="R",$A9,IF($B10=AN$7,$A10,AN9)))))) | AO10: =IF($A10="","",IF(AND($B10="",$B9<>"",COUNTIF(AO$8:AO9,"R")),COUNTIF(AO$8:AO9,"R")&"R",IF($B10="","",IF(AND($B10=AO$7,$C10<>""),"R",IF(AO9="R",$A9,IF($B10=AO$7,$A10,AO9))))))
A11: 4 | B11: =IF(R$3="American",RANDBETWEEN(0,37),RANDBETWEEN(0,36)) -> 33 | C11: =IF(COUNTIF(B$8:B10,B11)=0,"",COUNTIF(B$8:B10,B11)) -> 1 | D11: =IF($A11="","",IF(AND($B11="",$B10<>"",COUNTIF(D$8:D10,"R")>0),COUNTIF(D$8:D10,"R")&"R",IF($B11="","",IF(AND($B11=D$7,$C11<>""),"R",IF(D10="R",$A10,IF($B11=D$7,$A11,D10)))))) | E11: =IF($A11="","",IF(AND($B11="",$B10<>"",COUNTIF(E$8:E10,"R")>0),COUNTIF(E$8:E10,"R")&"R",IF($B11="","",IF(AND($B11=E$7,$C11<>""),"R",IF(E10="R",$A10,IF($B11=E$7,$A11,E10)))))) | F11: =IF($A11="","",IF(AND($B11="",$B10<>"",COUNTIF(F$8:F10,"R")>0),COUNTIF(F$8:F10,"R")&"R",IF($B11="","",IF(AND($B11=F$7,$C11<>""),"R",IF(F10="R",$A10,IF($B11=F$7,$A11,F10)))))) | G11: =IF($A11="","",IF(AND($B11="",$B10<>"",COUNTIF(G$8:G10,"R")>0),COUNTIF(G$8:G10,"R")&"R",IF($B11="","",IF(AND($B11=G$7,$C11<>""),"R",IF(G10="R",$A10,IF($B11=G$7,$A11,G10)))))) | H11: =IF($A11="","",IF(AND($B11="",$B10<>"",COUNTIF(H$8:H10,"R")>0),COUNTIF(H$8:H10,"R")&"R",IF($B11="","",IF(AND($B11=H$7,$C11<>""),"R",IF(H10="R",$A10,IF($B11=H$7,$A11,H10)))))) | I11: =IF($A11="","",IF(AND($B11="",$B10<>"",COUNTIF(I$8:I10,"R")>0),COUNTIF(I$8:I10,"R")&"R",IF($B11="","",IF(AND($B11=I$7,$C11<>""),"R",IF(I10="R",$A10,IF($B11=I$7,$A11,I10)))))) | J11: =IF($A11="","",IF(AND($B11="",$B10<>"",COUNTIF(J$8:J10,"R")>0),COUNTIF(J$8:J10,"R")&"R",IF($B11="","",IF(AND($B11=J$7,$C11<>""),"R",IF(J10="R",$A10,IF($B11=J$7,$A11,J10)))))) | K11: =IF($A11="","",IF(AND($B11="",$B10<>"",COUNTIF(K$8:K10,"R")>0),COUNTIF(K$8:K10,"R")&"R",IF($B11="","",IF(AND($B11=K$7,$C11<>""),"R",IF(K10="R",$A10,IF($B11=K$7,$A11,K10)))))) | ... AN11: =IF($A11="","",IF(AND($B11="",$B10<>"",COUNTIF(AN$8:AN10,"R")>0),COUNTIF(AN$8:AN10,"R")&"R",IF($B11="","",IF(AND($B11=AN$7,$C11<>""),"R",IF(AN10="R",$A10,IF($B11=AN$7,$A11,AN10)))))) | AO11: =IF($A11="","",IF(AND($B11="",$B10<>"",COUNTIF(AO$8:AO10,"R")),COUNTIF(AO$8:AO10,"R")&"R",IF($B11="","",IF(AND($B11=AO$7,$C11<>""),"R",IF(AO10="R",$A10,IF($B11=AO$7,$A11,AO10))))))
A12: 5 | B12: =IF(R$3="American",RANDBETWEEN(0,37),RANDBETWEEN(0,36)) -> 12 | C12: =IF(COUNTIF(B$8:B11,B12)=0,"",COUNTIF(B$8:B11,B12)) | D12: =IF($A12="","",IF(AND($B12="",$B11<>"",COUNTIF(D$8:D11,"R")>0),COUNTIF(D$8:D11,"R")&"R",IF($B12="","",IF(AND($B12=D$7,$C12<>""),"R",IF(D11="R",$A11,IF($B12=D$7,$A12,D11)))))) | E12: =IF($A12="","",IF(AND($B12="",$B11<>"",COUNTIF(E$8:E11,"R")>0),COUNTIF(E$8:E11,"R")&"R",IF($B12="","",IF(AND($B12=E$7,$C12<>""),"R",IF(E11="R",$A11,IF($B12=E$7,$A12,E11)))))) | F12: =IF($A12="","",IF(AND($B12="",$B11<>"",COUNTIF(F$8:F11,"R")>0),COUNTIF(F$8:F11,"R")&"R",IF($B12="","",IF(AND($B12=F$7,$C12<>""),"R",IF(F11="R",$A11,IF($B12=F$7,$A12,F11)))))) | G12: =IF($A12="","",IF(AND($B12="",$B11<>"",COUNTIF(G$8:G11,"R")>0),COUNTIF(G$8:G11,"R")&"R",IF($B12="","",IF(AND($B12=G$7,$C12<>""),"R",IF(G11="R",$A11,IF($B12=G$7,$A12,G11)))))) | H12: =IF($A12="","",IF(AND($B12="",$B11<>"",COUNTIF(H$8:H11,"R")>0),COUNTIF(H$8:H11,"R")&"R",IF($B12="","",IF(AND($B12=H$7,$C12<>""),"R",IF(H11="R",$A11,IF($B12=H$7,$A12,H11)))))) | I12: =IF($A12="","",IF(AND($B12="",$B11<>"",COUNTIF(I$8:I11,"R")>0),COUNTIF(I$8:I11,"R")&"R",IF($B12="","",IF(AND($B12=I$7,$C12<>""),"R",IF(I11="R",$A11,IF($B12=I$7,$A12,I11)))))) | J12: =IF($A12="","",IF(AND($B12="",$B11<>"",COUNTIF(J$8:J11,"R")>0),COUNTIF(J$8:J11,"R")&"R",IF($B12="","",IF(AND($B12=J$7,$C12<>""),"R",IF(J11="R",$A11,IF($B12=J$7,$A12,J11)))))) | K12: =IF($A12="","",IF(AND($B12="",$B11<>"",COUNTIF(K$8:K11,"R")>0),COUNTIF(K$8:K11,"R")&"R",IF($B12="","",IF(AND($B12=K$7,$C12<>""),"R",IF(K11="R",$A11,IF($B12=K$7,$A12,K11)))))) | ... AN12: =IF($A12="","",IF(AND($B12="",$B11<>"",COUNTIF(AN$8:AN11,"R")>0),COUNTIF(AN$8:AN11,"R")&"R",IF($B12="","",IF(AND($B12=AN$7,$C12<>""),"R",IF(AN11="R",$A11,IF($B12=AN$7,$A12,AN11)))))) | AO12: =IF($A12="","",IF(AND($B12="",$B11<>"",COUNTIF(AO$8:AO11,"R")),COUNTIF(AO$8:AO11,"R")&"R",IF($B12="","",IF(AND($B12=AO$7,$C12<>""),"R",IF(AO11="R",$A11,IF($B12=AO$7,$A12,AO11))))))
A13: 6 | B13: =IF(R$3="American",RANDBETWEEN(0,37),RANDBETWEEN(0,36)) -> 21 | C13: =IF(COUNTIF(B$8:B12,B13)=0,"",COUNTIF(B$8:B12,B13)) | D13: =IF($A13="","",IF(AND($B13="",$B12<>"",COUNTIF(D$8:D12,"R")>0),COUNTIF(D$8:D12,"R")&"R",IF($B13="","",IF(AND($B13=D$7,$C13<>""),"R",IF(D12="R",$A12,IF($B13=D$7,$A13,D12)))))) | E13: =IF($A13="","",IF(AND($B13="",$B12<>"",COUNTIF(E$8:E12,"R")>0),COUNTIF(E$8:E12,"R")&"R",IF($B13="","",IF(AND($B13=E$7,$C13<>""),"R",IF(E12="R",$A12,IF($B13=E$7,$A13,E12)))))) | F13: =IF($A13="","",IF(AND($B13="",$B12<>"",COUNTIF(F$8:F12,"R")>0),COUNTIF(F$8:F12,"R")&"R",IF($B13="","",IF(AND($B13=F$7,$C13<>""),"R",IF(F12="R",$A12,IF($B13=F$7,$A13,F12)))))) | G13: =IF($A13="","",IF(AND($B13="",$B12<>"",COUNTIF(G$8:G12,"R")>0),COUNTIF(G$8:G12,"R")&"R",IF($B13="","",IF(AND($B13=G$7,$C13<>""),"R",IF(G12="R",$A12,IF($B13=G$7,$A13,G12)))))) | H13: =IF($A13="","",IF(AND($B13="",$B12<>"",COUNTIF(H$8:H12,"R")>0),COUNTIF(H$8:H12,"R")&"R",IF($B13="","",IF(AND($B13=H$7,$C13<>""),"R",IF(H12="R",$A12,IF($B13=H$7,$A13,H12)))))) | I13: =IF($A13="","",IF(AND($B13="",$B12<>"",COUNTIF(I$8:I12,"R")>0),COUNTIF(I$8:I12,"R")&"R",IF($B13="","",IF(AND($B13=I$7,$C13<>""),"R",IF(I12="R",$A12,IF($B13=I$7,$A13,I12)))))) -> 6 | J13: =IF($A13="","",IF(AND($B13="",$B12<>"",COUNTIF(J$8:J12,"R")>0),COUNTIF(J$8:J12,"R")&"R",IF($B13="","",IF(AND($B13=J$7,$C13<>""),"R",IF(J12="R",$A12,IF($B13=J$7,$A13,J12)))))) | K13: =IF($A13="","",IF(AND($B13="",$B12<>"",COUNTIF(K$8:K12,"R")>0),COUNTIF(K$8:K12,"R")&"R",IF($B13="","",IF(AND($B13=K$7,$C13<>""),"R",IF(K12="R",$A12,IF($B13=K$7,$A13,K12)))))) | ... AN13: =IF($A13="","",IF(AND($B13="",$B12<>"",COUNTIF(AN$8:AN12,"R")>0),COUNTIF(AN$8:AN12,"R")&"R",IF($B13="","",IF(AND($B13=AN$7,$C13<>""),"R",IF(AN12="R",$A12,IF($B13=AN$7,$A13,AN12)))))) | AO13: =IF($A13="","",IF(AND($B13="",$B12<>"",COUNTIF(AO$8:AO12,"R")),COUNTIF(AO$8:AO12,"R")&"R",IF($B13="","",IF(AND($B13=AO$7,$C13<>""),"R",IF(AO12="R",$A12,IF($B13=AO$7,$A13,AO12))))))
A14: 7 | B14: =IF(R$3="American",RANDBETWEEN(0,37),RANDBETWEEN(0,36)) -> 1 | C14: =IF(COUNTIF(B$8:B13,B14)=0,"",COUNTIF(B$8:B13,B14)) | D14: =IF($A14="","",IF(AND($B14="",$B13<>"",COUNTIF(D$8:D13,"R")>0),COUNTIF(D$8:D13,"R")&"R",IF($B14="","",IF(AND($B14=D$7,$C14<>""),"R",IF(D13="R",$A13,IF($B14=D$7,$A14,D13)))))) | E14: =IF($A14="","",IF(AND($B14="",$B13<>"",COUNTIF(E$8:E13,"R")>0),COUNTIF(E$8:E13,"R")&"R",IF($B14="","",IF(AND($B14=E$7,$C14<>""),"R",IF(E13="R",$A13,IF($B14=E$7,$A14,E13)))))) | F14: =IF($A14="","",IF(AND($B14="",$B13<>"",COUNTIF(F$8:F13,"R")>0),COUNTIF(F$8:F13,"R")&"R",IF($B14="","",IF(AND($B14=F$7,$C14<>""),"R",IF(F13="R",$A13,IF($B14=F$7,$A14,F13)))))) | G14: =IF($A14="","",IF(AND($B14="",$B13<>"",COUNTIF(G$8:G13,"R")>0),COUNTIF(G$8:G13,"R")&"R",IF($B14="","",IF(AND($B14=G$7,$C14<>""),"R",IF(G13="R",$A13,IF($B14=G$7,$A14,G13)))))) | H14: =IF($A14="","",IF(AND($B14="",$B13<>"",COUNTIF(H$8:H13,"R")>0),COUNTIF(H$8:H13,"R")&"R",IF($B14="","",IF(AND($B14=H$7,$C14<>""),"R",IF(H13="R",$A13,IF($B14=H$7,$A14,H13)))))) | I14: =IF($A14="","",IF(AND($B14="",$B13<>"",COUNTIF(I$8:I13,"R")>0),COUNTIF(I$8:I13,"R")&"R",IF($B14="","",IF(AND($B14=I$7,$C14<>""),"R",IF(I13="R",$A13,IF($B14=I$7,$A14,I13)))))) -> 6 | J14: =IF($A14="","",IF(AND($B14="",$B13<>"",COUNTIF(J$8:J13,"R")>0),COUNTIF(J$8:J13,"R")&"R",IF($B14="","",IF(AND($B14=J$7,$C14<>""),"R",IF(J13="R",$A13,IF($B14=J$7,$A14,J13)))))) | K14: =IF($A14="","",IF(AND($B14="",$B13<>"",COUNTIF(K$8:K13,"R")>0),COUNTIF(K$8:K13,"R")&"R",IF($B14="","",IF(AND($B14=K$7,$C14<>""),"R",IF(K13="R",$A13,IF($B14=K$7,$A14,K13)))))) | ... AN14: =IF($A14="","",IF(AND($B14="",$B13<>"",COUNTIF(AN$8:AN13,"R")>0),COUNTIF(AN$8:AN13,"R")&"R",IF($B14="","",IF(AND($B14=AN$7,$C14<>""),"R",IF(AN13="R",$A13,IF($B14=AN$7,$A14,AN13)))))) | AO14: =IF($A14="","",IF(AND($B14="",$B13<>"",COUNTIF(AO$8:AO13,"R")),COUNTIF(AO$8:AO13,"R")&"R",IF($B14="","",IF(AND($B14=AO$7,$C14<>""),"R",IF(AO13="R",$A13,IF($B14=AO$7,$A14,AO13))))))
A15: 8 | B15: =IF(R$3="American",RANDBETWEEN(0,37),RANDBETWEEN(0,36)) -> 4 | C15: =IF(COUNTIF(B$8:B14,B15)=0,"",COUNTIF(B$8:B14,B15)) | D15: =IF($A15="","",IF(AND($B15="",$B14<>"",COUNTIF(D$8:D14,"R")>0),COUNTIF(D$8:D14,"R")&"R",IF($B15="","",IF(AND($B15=D$7,$C15<>""),"R",IF(D14="R",$A14,IF($B15=D$7,$A15,D14)))))) | E15: =IF($A15="","",IF(AND($B15="",$B14<>"",COUNTIF(E$8:E14,"R")>0),COUNTIF(E$8:E14,"R")&"R",IF($B15="","",IF(AND($B15=E$7,$C15<>""),"R",IF(E14="R",$A14,IF($B15=E$7,$A15,E14)))))) | F15: =IF($A15="","",IF(AND($B15="",$B14<>"",COUNTIF(F$8:F14,"R")>0),COUNTIF(F$8:F14,"R")&"R",IF($B15="","",IF(AND($B15=F$7,$C15<>""),"R",IF(F14="R",$A14,IF($B15=F$7,$A15,F14)))))) | G15: =IF($A15="","",IF(AND($B15="",$B14<>"",COUNTIF(G$8:G14,"R")>0),COUNTIF(G$8:G14,"R")&"R",IF($B15="","",IF(AND($B15=G$7,$C15<>""),"R",IF(G14="R",$A14,IF($B15=G$7,$A15,G14)))))) | H15: =IF($A15="","",IF(AND($B15="",$B14<>"",COUNTIF(H$8:H14,"R")>0),COUNTIF(H$8:H14,"R")&"R",IF($B15="","",IF(AND($B15=H$7,$C15<>""),"R",IF(H14="R",$A14,IF($B15=H$7,$A15,H14)))))) -> 8 | I15: =IF($A15="","",IF(AND($B15="",$B14<>"",COUNTIF(I$8:I14,"R")>0),COUNTIF(I$8:I14,"R")&"R",IF($B15="","",IF(AND($B15=I$7,$C15<>""),"R",IF(I14="R",$A14,IF($B15=I$7,$A15,I14)))))) -> 6 | J15: =IF($A15="","",IF(AND($B15="",$B14<>"",COUNTIF(J$8:J14,"R")>0),COUNTIF(J$8:J14,"R")&"R",IF($B15="","",IF(AND($B15=J$7,$C15<>""),"R",IF(J14="R",$A14,IF($B15=J$7,$A15,J14)))))) | K15: =IF($A15="","",IF(AND($B15="",$B14<>"",COUNTIF(K$8:K14,"R")>0),COUNTIF(K$8:K14,"R")&"R",IF($B15="","",IF(AND($B15=K$7,$C15<>""),"R",IF(K14="R",$A14,IF($B15=K$7,$A15,K14)))))) | ... AN15: =IF($A15="","",IF(AND($B15="",$B14<>"",COUNTIF(AN$8:AN14,"R")>0),COUNTIF(AN$8:AN14,"R")&"R",IF($B15="","",IF(AND($B15=AN$7,$C15<>""),"R",IF(AN14="R",$A14,IF($B15=AN$7,$A15,AN14)))))) | AO15: =IF($A15="","",IF(AND($B15="",$B14<>"",COUNTIF(AO$8:AO14,"R")),COUNTIF(AO$8:AO14,"R")&"R",IF($B15="","",IF(AND($B15=AO$7,$C15<>""),"R",IF(AO14="R",$A14,IF($B15=AO$7,$A15,AO14))))))
A16: 9 | B16: =IF(R$3="American",RANDBETWEEN(0,37),RANDBETWEEN(0,36)) -> 14 | C16: =IF(COUNTIF(B$8:B15,B16)=0,"",COUNTIF(B$8:B15,B16)) | D16: =IF($A16="","",IF(AND($B16="",$B15<>"",COUNTIF(D$8:D15,"R")>0),COUNTIF(D$8:D15,"R")&"R",IF($B16="","",IF(AND($B16=D$7,$C16<>""),"R",IF(D15="R",$A15,IF($B16=D$7,$A16,D15)))))) | E16: =IF($A16="","",IF(AND($B16="",$B15<>"",COUNTIF(E$8:E15,"R")>0),COUNTIF(E$8:E15,"R")&"R",IF($B16="","",IF(AND($B16=E$7,$C16<>""),"R",IF(E15="R",$A15,IF($B16=E$7,$A16,E15)))))) | F16: =IF($A16="","",IF(AND($B16="",$B15<>"",COUNTIF(F$8:F15,"R")>0),COUNTIF(F$8:F15,"R")&"R",IF($B16="","",IF(AND($B16=F$7,$C16<>""),"R",IF(F15="R",$A15,IF($B16=F$7,$A16,F15)))))) | G16: =IF($A16="","",IF(AND($B16="",$B15<>"",COUNTIF(G$8:G15,"R")>0),COUNTIF(G$8:G15,"R")&"R",IF($B16="","",IF(AND($B16=G$7,$C16<>""),"R",IF(G15="R",$A15,IF($B16=G$7,$A16,G15)))))) | H16: =IF($A16="","",IF(AND($B16="",$B15<>"",COUNTIF(H$8:H15,"R")>0),COUNTIF(H$8:H15,"R")&"R",IF($B16="","",IF(AND($B16=H$7,$C16<>""),"R",IF(H15="R",$A15,IF($B16=H$7,$A16,H15)))))) -> 8 | I16: =IF($A16="","",IF(AND($B16="",$B15<>"",COUNTIF(I$8:I15,"R")>0),COUNTIF(I$8:I15,"R")&"R",IF($B16="","",IF(AND($B16=I$7,$C16<>""),"R",IF(I15="R",$A15,IF($B16=I$7,$A16,I15)))))) -> 6 | J16: =IF($A16="","",IF(AND($B16="",$B15<>"",COUNTIF(J$8:J15,"R")>0),COUNTIF(J$8:J15,"R")&"R",IF($B16="","",IF(AND($B16=J$7,$C16<>""),"R",IF(J15="R",$A15,IF($B16=J$7,$A16,J15)))))) | K16: =IF($A16="","",IF(AND($B16="",$B15<>"",COUNTIF(K$8:K15,"R")>0),COUNTIF(K$8:K15,"R")&"R",IF($B16="","",IF(AND($B16=K$7,$C16<>""),"R",IF(K15="R",$A15,IF($B16=K$7,$A16,K15)))))) | ... AN16: =IF($A16="","",IF(AND($B16="",$B15<>"",COUNTIF(AN$8:AN15,"R")>0),COUNTIF(AN$8:AN15,"R")&"R",IF($B16="","",IF(AND($B16=AN$7,$C16<>""),"R",IF(AN15="R",$A15,IF($B16=AN$7,$A16,AN15)))))) | AO16: =IF($A16="","",IF(AND($B16="",$B15<>"",COUNTIF(AO$8:AO15,"R")),COUNTIF(AO$8:AO15,"R")&"R",IF($B16="","",IF(AND($B16=AO$7,$C16<>""),"R",IF(AO15="R",$A15,IF($B16=AO$7,$A16,AO15))))))
A17: 10 | B17: =IF(R$3="American",RANDBETWEEN(0,37),RANDBETWEEN(0,36)) -> 3 | C17: =IF(COUNTIF(B$8:B16,B17)=0,"",COUNTIF(B$8:B16,B17)) -> 1 | D17: =IF($A17="","",IF(AND($B17="",$B16<>"",COUNTIF(D$8:D16,"R")>0),COUNTIF(D$8:D16,"R")&"R",IF($B17="","",IF(AND($B17=D$7,$C17<>""),"R",IF(D16="R",$A16,IF($B17=D$7,$A17,D16)))))) | E17: =IF($A17="","",IF(AND($B17="",$B16<>"",COUNTIF(E$8:E16,"R")>0),COUNTIF(E$8:E16,"R")&"R",IF($B17="","",IF(AND($B17=E$7,$C17<>""),"R",IF(E16="R",$A16,IF($B17=E$7,$A17,E16)))))) | F17: =IF($A17="","",IF(AND($B17="",$B16<>"",COUNTIF(F$8:F16,"R")>0),COUNTIF(F$8:F16,"R")&"R",IF($B17="","",IF(AND($B17=F$7,$C17<>""),"R",IF(F16="R",$A16,IF($B17=F$7,$A17,F16)))))) | G17: =IF($A17="","",IF(AND($B17="",$B16<>"",COUNTIF(G$8:G16,"R")>0),COUNTIF(G$8:G16,"R")&"R",IF($B17="","",IF(AND($B17=G$7,$C17<>""),"R",IF(G16="R",$A16,IF($B17=G$7,$A17,G16)))))) | H17: =IF($A17="","",IF(AND($B17="",$B16<>"",COUNTIF(H$8:H16,"R")>0),COUNTIF(H$8:H16,"R")&"R",IF($B17="","",IF(AND($B17=H$7,$C17<>""),"R",IF(H16="R",$A16,IF($B17=H$7,$A17,H16)))))) -> 8 | I17: =IF($A17="","",IF(AND($B17="",$B16<>"",COUNTIF(I$8:I16,"R")>0),COUNTIF(I$8:I16,"R")&"R",IF($B17="","",IF(AND($B17=I$7,$C17<>""),"R",IF(I16="R",$A16,IF($B17=I$7,$A17,I16)))))) -> 6 | J17: =IF($A17="","",IF(AND($B17="",$B16<>"",COUNTIF(J$8:J16,"R")>0),COUNTIF(J$8:J16,"R")&"R",IF($B17="","",IF(AND($B17=J$7,$C17<>""),"R",IF(J16="R",$A16,IF($B17=J$7,$A17,J16)))))) | K17: =IF($A17="","",IF(AND($B17="",$B16<>"",COUNTIF(K$8:K16,"R")>0),COUNTIF(K$8:K16,"R")&"R",IF($B17="","",IF(AND($B17=K$7,$C17<>""),"R",IF(K16="R",$A16,IF($B17=K$7,$A17,K16)))))) | ... AN17: =IF($A17="","",IF(AND($B17="",$B16<>"",COUNTIF(AN$8:AN16,"R")>0),COUNTIF(AN$8:AN16,"R")&"R",IF($B17="","",IF(AND($B17=AN$7,$C17<>""),"R",IF(AN16="R",$A16,IF($B17=AN$7,$A17,AN16)))))) | AO17: =IF($A17="","",IF(AND($B17="",$B16<>"",COUNTIF(AO$8:AO16,"R")),COUNTIF(AO$8:AO16,"R")&"R",IF($B17="","",IF(AND($B17=AO$7,$C17<>""),"R",IF(AO16="R",$A16,IF($B17=AO$7,$A17,AO16))))))
A18: 11 | B18: =IF(R$3="American",RANDBETWEEN(0,37),RANDBETWEEN(0,36)) -> 21 | C18: =IF(COUNTIF(B$8:B17,B18)=0,"",COUNTIF(B$8:B17,B18)) -> 1 | D18: =IF($A18="","",IF(AND($B18="",$B17<>"",COUNTIF(D$8:D17,"R")>0),COUNTIF(D$8:D17,"R")&"R",IF($B18="","",IF(AND($B18=D$7,$C18<>""),"R",IF(D17="R",$A17,IF($B18=D$7,$A18,D17)))))) | E18: =IF($A18="","",IF(AND($B18="",$B17<>"",COUNTIF(E$8:E17,"R")>0),COUNTIF(E$8:E17,"R")&"R",IF($B18="","",IF(AND($B18=E$7,$C18<>""),"R",IF(E17="R",$A17,IF($B18=E$7,$A18,E17)))))) | F18: =IF($A18="","",IF(AND($B18="",$B17<>"",COUNTIF(F$8:F17,"R")>0),COUNTIF(F$8:F17,"R")&"R",IF($B18="","",IF(AND($B18=F$7,$C18<>""),"R",IF(F17="R",$A17,IF($B18=F$7,$A18,F17)))))) | G18: =IF($A18="","",IF(AND($B18="",$B17<>"",COUNTIF(G$8:G17,"R")>0),COUNTIF(G$8:G17,"R")&"R",IF($B18="","",IF(AND($B18=G$7,$C18<>""),"R",IF(G17="R",$A17,IF($B18=G$7,$A18,G17)))))) | H18: =IF($A18="","",IF(AND($B18="",$B17<>"",COUNTIF(H$8:H17,"R")>0),COUNTIF(H$8:H17,"R")&"R",IF($B18="","",IF(AND($B18=H$7,$C18<>""),"R",IF(H17="R",$A17,IF($B18=H$7,$A18,H17)))))) -> 8 | I18: =IF($A18="","",IF(AND($B18="",$B17<>"",COUNTIF(I$8:I17,"R")>0),COUNTIF(I$8:I17,"R")&"R",IF($B18="","",IF(AND($B18=I$7,$C18<>""),"R",IF(I17="R",$A17,IF($B18=I$7,$A18,I17)))))) -> R | J18: =IF($A18="","",IF(AND($B18="",$B17<>"",COUNTIF(J$8:J17,"R")>0),COUNTIF(J$8:J17,"R")&"R",IF($B18="","",IF(AND($B18=J$7,$C18<>""),"R",IF(J17="R",$A17,IF($B18=J$7,$A18,J17)))))) | K18: =IF($A18="","",IF(AND($B18="",$B17<>"",COUNTIF(K$8:K17,"R")>0),COUNTIF(K$8:K17,"R")&"R",IF($B18="","",IF(AND($B18=K$7,$C18<>""),"R",IF(K17="R",$A17,IF($B18=K$7,$A18,K17)))))) | ... AN18: =IF($A18="","",IF(AND($B18="",$B17<>"",COUNTIF(AN$8:AN17,"R")>0),COUNTIF(AN$8:AN17,"R")&"R",IF($B18="","",IF(AND($B18=AN$7,$C18<>""),"R",IF(AN17="R",$A17,IF($B18=AN$7,$A18,AN17)))))) | AO18: =IF($A18="","",IF(AND($B18="",$B17<>"",COUNTIF(AO$8:AO17,"R")),COUNTIF(AO$8:AO17,"R")&"R",IF($B18="","",IF(AND($B18=AO$7,$C18<>""),"R",IF(AO17="R",$A17,IF($B18=AO$7,$A18,AO17))))))
A19: 12 | B19: =IF(R$3="American",RANDBETWEEN(0,37),RANDBETWEEN(0,36)) -> 33 | C19: =IF(COUNTIF(B$8:B18,B19)=0,"",COUNTIF(B$8:B18,B19)) -> 2 | D19: =IF($A19="","",IF(AND($B19="",$B18<>"",COUNTIF(D$8:D18,"R")>0),COUNTIF(D$8:D18,"R")&"R",IF($B19="","",IF(AND($B19=D$7,$C19<>""),"R",IF(D18="R",$A18,IF($B19=D$7,$A19,D18)))))) | E19: =IF($A19="","",IF(AND($B19="",$B18<>"",COUNTIF(E$8:E18,"R")>0),COUNTIF(E$8:E18,"R")&"R",IF($B19="","",IF(AND($B19=E$7,$C19<>""),"R",IF(E18="R",$A18,IF($B19=E$7,$A19,E18)))))) | F19: =IF($A19="","",IF(AND($B19="",$B18<>"",COUNTIF(F$8:F18,"R")>0),COUNTIF(F$8:F18,"R")&"R",IF($B19="","",IF(AND($B19=F$7,$C19<>""),"R",IF(F18="R",$A18,IF($B19=F$7,$A19,F18)))))) | G19: =IF($A19="","",IF(AND($B19="",$B18<>"",COUNTIF(G$8:G18,"R")>0),COUNTIF(G$8:G18,"R")&"R",IF($B19="","",IF(AND($B19=G$7,$C19<>""),"R",IF(G18="R",$A18,IF($B19=G$7,$A19,G18)))))) | H19: =IF($A19="","",IF(AND($B19="",$B18<>"",COUNTIF(H$8:H18,"R")>0),COUNTIF(H$8:H18,"R")&"R",IF($B19="","",IF(AND($B19=H$7,$C19<>""),"R",IF(H18="R",$A18,IF($B19=H$7,$A19,H18)))))) -> 8 | I19: =IF($A19="","",IF(AND($B19="",$B18<>"",COUNTIF(I$8:I18,"R")>0),COUNTIF(I$8:I18,"R")&"R",IF($B19="","",IF(AND($B19=I$7,$C19<>""),"R",IF(I18="R",$A18,IF($B19=I$7,$A19,I18)))))) -> 11 | J19: =IF($A19="","",IF(AND($B19="",$B18<>"",COUNTIF(J$8:J18,"R")>0),COUNTIF(J$8:J18,"R")&"R",IF($B19="","",IF(AND($B19=J$7,$C19<>""),"R",IF(J18="R",$A18,IF($B19=J$7,$A19,J18)))))) | K19: =IF($A19="","",IF(AND($B19="",$B18<>"",COUNTIF(K$8:K18,"R")>0),COUNTIF(K$8:K18,"R")&"R",IF($B19="","",IF(AND($B19=K$7,$C19<>""),"R",IF(K18="R",$A18,IF($B19=K$7,$A19,K18)))))) | ... AN19: =IF($A19="","",IF(AND($B19="",$B18<>"",COUNTIF(AN$8:AN18,"R")>0),COUNTIF(AN$8:AN18,"R")&"R",IF($B19="","",IF(AND($B19=AN$7,$C19<>""),"R",IF(AN18="R",$A18,IF($B19=AN$7,$A19,AN18)))))) | AO19: =IF($A19="","",IF(AND($B19="",$B18<>"",COUNTIF(AO$8:AO18,"R")),COUNTIF(AO$8:AO18,"R")&"R",IF($B19="","",IF(AND($B19=AO$7,$C19<>""),"R",IF(AO18="R",$A18,IF($B19=AO$7,$A19,AO18))))))
A20: 13 | B20: =IF(R$3="American",RANDBETWEEN(0,37),RANDBETWEEN(0,36)) -> 5 | C20: =IF(COUNTIF(B$8:B19,B20)=0,"",COUNTIF(B$8:B19,B20)) | D20: =IF($A20="","",IF(AND($B20="",$B19<>"",COUNTIF(D$8:D19,"R")>0),COUNTIF(D$8:D19,"R")&"R",IF($B20="","",IF(AND($B20=D$7,$C20<>""),"R",IF(D19="R",$A19,IF($B20=D$7,$A20,D19)))))) | E20: =IF($A20="","",IF(AND($B20="",$B19<>"",COUNTIF(E$8:E19,"R")>0),COUNTIF(E$8:E19,"R")&"R",IF($B20="","",IF(AND($B20=E$7,$C20<>""),"R",IF(E19="R",$A19,IF($B20=E$7,$A20,E19)))))) | F20: =IF($A20="","",IF(AND($B20="",$B19<>"",COUNTIF(F$8:F19,"R")>0),COUNTIF(F$8:F19,"R")&"R",IF($B20="","",IF(AND($B20=F$7,$C20<>""),"R",IF(F19="R",$A19,IF($B20=F$7,$A20,F19)))))) | G20: =IF($A20="","",IF(AND($B20="",$B19<>"",COUNTIF(G$8:G19,"R")>0),COUNTIF(G$8:G19,"R")&"R",IF($B20="","",IF(AND($B20=G$7,$C20<>""),"R",IF(G19="R",$A19,IF($B20=G$7,$A20,G19)))))) | H20: =IF($A20="","",IF(AND($B20="",$B19<>"",COUNTIF(H$8:H19,"R")>0),COUNTIF(H$8:H19,"R")&"R",IF($B20="","",IF(AND($B20=H$7,$C20<>""),"R",IF(H19="R",$A19,IF($B20=H$7,$A20,H19)))))) -> 8 | I20: =IF($A20="","",IF(AND($B20="",$B19<>"",COUNTIF(I$8:I19,"R")>0),COUNTIF(I$8:I19,"R")&"R",IF($B20="","",IF(AND($B20=I$7,$C20<>""),"R",IF(I19="R",$A19,IF($B20=I$7,$A20,I19)))))) -> 11 | J20: =IF($A20="","",IF(AND($B20="",$B19<>"",COUNTIF(J$8:J19,"R")>0),COUNTIF(J$8:J19,"R")&"R",IF($B20="","",IF(AND($B20=J$7,$C20<>""),"R",IF(J19="R",$A19,IF($B20=J$7,$A20,J19)))))) | K20: =IF($A20="","",IF(AND($B20="",$B19<>"",COUNTIF(K$8:K19,"R")>0),COUNTIF(K$8:K19,"R")&"R",IF($B20="","",IF(AND($B20=K$7,$C20<>""),"R",IF(K19="R",$A19,IF($B20=K$7,$A20,K19)))))) | ... AN20: =IF($A20="","",IF(AND($B20="",$B19<>"",COUNTIF(AN$8:AN19,"R")>0),COUNTIF(AN$8:AN19,"R")&"R",IF($B20="","",IF(AND($B20=AN$7,$C20<>""),"R",IF(AN19="R",$A19,IF($B20=AN$7,$A20,AN19)))))) | AO20: =IF($A20="","",IF(AND($B20="",$B19<>"",COUNTIF(AO$8:AO19,"R")),COUNTIF(AO$8:AO19,"R")&"R",IF($B20="","",IF(AND($B20=AO$7,$C20<>""),"R",IF(AO19="R",$A19,IF($B20=AO$7,$A20,AO19))))))
... A44: 37 | B44: =IF(R$3="American",RANDBETWEEN(0,37),RANDBETWEEN(0,36)) -> 26 | C44: =IF(COUNTIF(B$8:B43,B44)=0,"",COUNTIF(B$8:B43,B44)) -> 2 | D44: =IF($A44="","",IF(AND($B44="",$B43<>"",COUNTIF(D$8:D43,"R")>0),COUNTIF(D$8:D43,"R")&"R",IF($B44="","",IF(AND($B44=D$7,$C44<>""),"R",IF(D43="R",$A43,IF($B44=D$7,$A44,D43)))))) -> 16 | E44: =IF($A44="","",IF(AND($B44="",$B43<>"",COUNTIF(E$8:E43,"R")>0),COUNTIF(E$8:E43,"R")&"R",IF($B44="","",IF(AND($B44=E$7,$C44<>""),"R",IF(E43="R",$A43,IF($B44=E$7,$A44,E43)))))) | F44: =IF($A44="","",IF(AND($B44="",$B43<>"",COUNTIF(F$8:F43,"R")>0),COUNTIF(F$8:F43,"R")&"R",IF($B44="","",IF(AND($B44=F$7,$C44<>""),"R",IF(F43="R",$A43,IF($B44=F$7,$A44,F43)))))) -> 21 | G44: =IF($A44="","",IF(AND($B44="",$B43<>"",COUNTIF(G$8:G43,"R")>0),COUNTIF(G$8:G43,"R")&"R",IF($B44="","",IF(AND($B44=G$7,$C44<>""),"R",IF(G43="R",$A43,IF($B44=G$7,$A44,G43)))))) -> 24 | H44: =IF($A44="","",IF(AND($B44="",$B43<>"",COUNTIF(H$8:H43,"R")>0),COUNTIF(H$8:H43,"R")&"R",IF($B44="","",IF(AND($B44=H$7,$C44<>""),"R",IF(H43="R",$A43,IF($B44=H$7,$A44,H43)))))) -> 8 | I44: =IF($A44="","",IF(AND($B44="",$B43<>"",COUNTIF(I$8:I43,"R")>0),COUNTIF(I$8:I43,"R")&"R",IF($B44="","",IF(AND($B44=I$7,$C44<>""),"R",IF(I43="R",$A43,IF($B44=I$7,$A44,I43)))))) -> 11 | J44: =IF($A44="","",IF(AND($B44="",$B43<>"",COUNTIF(J$8:J43,"R")>0),COUNTIF(J$8:J43,"R")&"R",IF($B44="","",IF(AND($B44=J$7,$C44<>""),"R",IF(J43="R",$A43,IF($B44=J$7,$A44,J43)))))) -> 17 | K44: =IF($A44="","",IF(AND($B44="",$B43<>"",COUNTIF(K$8:K43,"R")>0),COUNTIF(K$8:K43,"R")&"R",IF($B44="","",IF(AND($B44=K$7,$C44<>""),"R",IF(K43="R",$A43,IF($B44=K$7,$A44,K43)))))) | ... AN44: =IF($A44="","",IF(AND($B44="",$B43<>"",COUNTIF(AN$8:AN43,"R")>0),COUNTIF(AN$8:AN43,"R")&"R",IF($B44="","",IF(AND($B44=AN$7,$C44<>""),"R",IF(AN43="R",$A43,IF($B44=AN$7,$A44,AN43)))))) -> R | AO44: =IF($A44="","",IF(AND($B44="",$B43<>"",COUNTIF(AO$8:AO43,"R")),COUNTIF(AO$8:AO43,"R")&"R",IF($B44="","",IF(AND($B44=AO$7,$C44<>""),"R",IF(AO43="R",$A43,IF($B44=AO$7,$A44,AO43))))))
A45: 38 | C45: =IF(COUNTIF(B$8:B44,B45)=0,"",COUNTIF(B$8:B44,B45)) -> 1 | D45: =IF($A45="","",IF(AND($B45="",$B44<>"",COUNTIF(D$8:D44,"R")>0),COUNTIF(D$8:D44,"R")&"R",IF($B45="","",IF(AND($B45=D$7,$C45<>""),"R",IF(D44="R",$A44,IF($B45=D$7,$A45,D44)))))) | E45: =IF($A45="","",IF(AND($B45="",$B44<>"",COUNTIF(E$8:E44,"R")>0),COUNTIF(E$8:E44,"R")&"R",IF($B45="","",IF(AND($B45=E$7,$C45<>""),"R",IF(E44="R",$A44,IF($B45=E$7,$A45,E44)))))) | F45: =IF($A45="","",IF(AND($B45="",$B44<>"",COUNTIF(F$8:F44,"R")>0),COUNTIF(F$8:F44,"R")&"R",IF($B45="","",IF(AND($B45=F$7,$C45<>""),"R",IF(F44="R",$A44,IF($B45=F$7,$A45,F44)))))) | G45: =IF($A45="","",IF(AND($B45="",$B44<>"",COUNTIF(G$8:G44,"R")>0),COUNTIF(G$8:G44,"R")&"R",IF($B45="","",IF(AND($B45=G$7,$C45<>""),"R",IF(G44="R",$A44,IF($B45=G$7,$A45,G44)))))) | H45: =IF($A45="","",IF(AND($B45="",$B44<>"",COUNTIF(H$8:H44,"R")>0),COUNTIF(H$8:H44,"R")&"R",IF($B45="","",IF(AND($B45=H$7,$C45<>""),"R",IF(H44="R",$A44,IF($B45=H$7,$A45,H44)))))) | I45: =IF($A45="","",IF(AND($B45="",$B44<>"",COUNTIF(I$8:I44,"R")>0),COUNTIF(I$8:I44,"R")&"R",IF($B45="","",IF(AND($B45=I$7,$C45<>""),"R",IF(I44="R",$A44,IF($B45=I$7,$A45,I44)))))) -> 1R | J45: =IF($A45="","",IF(AND($B45="",$B44<>"",COUNTIF(J$8:J44,"R")>0),COUNTIF(J$8:J44,"R")&"R",IF($B45="","",IF(AND($B45=J$7,$C45<>""),"R",IF(J44="R",$A44,IF($B45=J$7,$A45,J44)))))) -> 1R | K45: =IF($A45="","",IF(AND($B45="",$B44<>"",COUNTIF(K$8:K44,"R")>0),COUNTIF(K$8:K44,"R")&"R",IF($B45="","",IF(AND($B45=K$7,$C45<>""),"R",IF(K44="R",$A44,IF($B45=K$7,$A45,K44)))))) | ... AN45: =IF($A45="","",IF(AND($B45="",$B44<>"",COUNTIF(AN$8:AN44,"R")>0),COUNTIF(AN$8:AN44,"R")&"R",IF($B45="","",IF(AND($B45=AN$7,$C45<>""),"R",IF(AN44="R",$A44,IF($B45=AN$7,$A45,AN44)))))) -> 2R | AO45: =IF($A45="","",IF(AND($B45="",$B44<>"",COUNTIF(AO$8:AO44,"R")),COUNTIF(AO$8:AO44,"R")&"R",IF($B45="","",IF(AND($B45=AO$7,$C45<>""),"R",IF(AO44="R",$A44,IF($B45=AO$7,$A45,AO44))))))
A46: 39 | C46: =IF(COUNTIF(B$8:B45,B46)=0,"",COUNTIF(B$8:B45,B46)) -> 1 | D46: =IF($A46="","",IF(AND($B46="",$B45<>"",COUNTIF(D$8:D45,"R")>0),COUNTIF(D$8:D45,"R")&"R",IF($B46="","",IF(AND($B46=D$7,$C46<>""),"R",IF(D45="R",$A45,IF($B46=D$7,$A46,D45)))))) | E46: =IF($A46="","",IF(AND($B46="",$B45<>"",COUNTIF(E$8:E45,"R")>0),COUNTIF(E$8:E45,"R")&"R",IF($B46="","",IF(AND($B46=E$7,$C46<>""),"R",IF(E45="R",$A45,IF($B46=E$7,$A46,E45)))))) | F46: =IF($A46="","",IF(AND($B46="",$B45<>"",COUNTIF(F$8:F45,"R")>0),COUNTIF(F$8:F45,"R")&"R",IF($B46="","",IF(AND($B46=F$7,$C46<>""),"R",IF(F45="R",$A45,IF($B46=F$7,$A46,F45)))))) | G46: =IF($A46="","",IF(AND($B46="",$B45<>"",COUNTIF(G$8:G45,"R")>0),COUNTIF(G$8:G45,"R")&"R",IF($B46="","",IF(AND($B46=G$7,$C46<>""),"R",IF(G45="R",$A45,IF($B46=G$7,$A46,G45)))))) | H46: =IF($A46="","",IF(AND($B46="",$B45<>"",COUNTIF(H$8:H45,"R")>0),COUNTIF(H$8:H45,"R")&"R",IF($B46="","",IF(AND($B46=H$7,$C46<>""),"R",IF(H45="R",$A45,IF($B46=H$7,$A46,H45)))))) | I46: =IF($A46="","",IF(AND($B46="",$B45<>"",COUNTIF(I$8:I45,"R")>0),COUNTIF(I$8:I45,"R")&"R",IF($B46="","",IF(AND($B46=I$7,$C46<>""),"R",IF(I45="R",$A45,IF($B46=I$7,$A46,I45)))))) | J46: =IF($A46="","",IF(AND($B46="",$B45<>"",COUNTIF(J$8:J45,"R")>0),COUNTIF(J$8:J45,"R")&"R",IF($B46="","",IF(AND($B46=J$7,$C46<>""),"R",IF(J45="R",$A45,IF($B46=J$7,$A46,J45)))))) | K46: =IF($A46="","",IF(AND($B46="",$B45<>"",COUNTIF(K$8:K45,"R")>0),COUNTIF(K$8:K45,"R")&"R",IF($B46="","",IF(AND($B46=K$7,$C46<>""),"R",IF(K45="R",$A45,IF($B46=K$7,$A46,K45)))))) | ... AN46: =IF($A46="","",IF(AND($B46="",$B45<>"",COUNTIF(AN$8:AN45,"R")>0),COUNTIF(AN$8:AN45,"R")&"R",IF($B46="","",IF(AND($B46=AN$7,$C46<>""),"R",IF(AN45="R",$A45,IF($B46=AN$7,$A46,AN45)))))) | AO46: =IF($A46="","",IF(AND($B46="",$B45<>"",COUNTIF(AO$8:AO45,"R")),COUNTIF(AO$8:AO45,"R")&"R",IF($B46="","",IF(AND($B46=AO$7,$C46<>""),"R",IF(AO45="R",$A45,IF($B46=AO$7,$A46,AO45))))))
A47: 40 | C47: =IF(COUNTIF(B$8:B46,B47)=0,"",COUNTIF(B$8:B46,B47)) -> 1 | D47: =IF($A47="","",IF(AND($B47="",$B46<>"",COUNTIF(D$8:D46,"R")>0),COUNTIF(D$8:D46,"R")&"R",IF($B47="","",IF(AND($B47=D$7,$C47<>""),"R",IF(D46="R",$A46,IF($B47=D$7,$A47,D46)))))) | E47: =IF($A47="","",IF(AND($B47="",$B46<>"",COUNTIF(E$8:E46,"R")>0),COUNTIF(E$8:E46,"R")&"R",IF($B47="","",IF(AND($B47=E$7,$C47<>""),"R",IF(E46="R",$A46,IF($B47=E$7,$A47,E46)))))) | F47: =IF($A47="","",IF(AND($B47="",$B46<>"",COUNTIF(F$8:F46,"R")>0),COUNTIF(F$8:F46,"R")&"R",IF($B47="","",IF(AND($B47=F$7,$C47<>""),"R",IF(F46="R",$A46,IF($B47=F$7,$A47,F46)))))) | G47: =IF($A47="","",IF(AND($B47="",$B46<>"",COUNTIF(G$8:G46,"R")>0),COUNTIF(G$8:G46,"R")&"R",IF($B47="","",IF(AND($B47=G$7,$C47<>""),"R",IF(G46="R",$A46,IF($B47=G$7,$A47,G46)))))) | H47: =IF($A47="","",IF(AND($B47="",$B46<>"",COUNTIF(H$8:H46,"R")>0),COUNTIF(H$8:H46,"R")&"R",IF($B47="","",IF(AND($B47=H$7,$C47<>""),"R",IF(H46="R",$A46,IF($B47=H$7,$A47,H46)))))) | I47: =IF($A47="","",IF(AND($B47="",$B46<>"",COUNTIF(I$8:I46,"R")>0),COUNTIF(I$8:I46,"R")&"R",IF($B47="","",IF(AND($B47=I$7,$C47<>""),"R",IF(I46="R",$A46,IF($B47=I$7,$A47,I46)))))) | J47: =IF($A47="","",IF(AND($B47="",$B46<>"",COUNTIF(J$8:J46,"R")>0),COUNTIF(J$8:J46,"R")&"R",IF($B47="","",IF(AND($B47=J$7,$C47<>""),"R",IF(J46="R",$A46,IF($B47=J$7,$A47,J46)))))) | K47: =IF($A47="","",IF(AND($B47="",$B46<>"",COUNTIF(K$8:K46,"R")>0),COUNTIF(K$8:K46,"R")&"R",IF($B47="","",IF(AND($B47=K$7,$C47<>""),"R",IF(K46="R",$A46,IF($B47=K$7,$A47,K46)))))) | ... AN47: =IF($A47="","",IF(AND($B47="",$B46<>"",COUNTIF(AN$8:AN46,"R")>0),COUNTIF(AN$8:AN46,"R")&"R",IF($B47="","",IF(AND($B47=AN$7,$C47<>""),"R",IF(AN46="R",$A46,IF($B47=AN$7,$A47,AN46)))))) | AO47: =IF($A47="","",IF(AND($B47="",$B46<>"",COUNTIF(AO$8:AO46,"R")),COUNTIF(AO$8:AO46,"R")&"R",IF($B47="","",IF(AND($B47=AO$7,$C47<>""),"R",IF(AO46="R",$A46,IF($B47=AO$7,$A47,AO46))))))
A48: 41 | C48: =IF(COUNTIF(B$8:B47,B48)=0,"",COUNTIF(B$8:B47,B48)) -> 1 | D48: =IF($A48="","",IF(AND($B48="",$B47<>"",COUNTIF(D$8:D47,"R")>0),COUNTIF(D$8:D47,"R")&"R",IF($B48="","",IF(AND($B48=D$7,$C48<>""),"R",IF(D47="R",$A47,IF($B48=D$7,$A48,D47)))))) | E48: =IF($A48="","",IF(AND($B48="",$B47<>"",COUNTIF(E$8:E47,"R")>0),COUNTIF(E$8:E47,"R")&"R",IF($B48="","",IF(AND($B48=E$7,$C48<>""),"R",IF(E47="R",$A47,IF($B48=E$7,$A48,E47)))))) | F48: =IF($A48="","",IF(AND($B48="",$B47<>"",COUNTIF(F$8:F47,"R")>0),COUNTIF(F$8:F47,"R")&"R",IF($B48="","",IF(AND($B48=F$7,$C48<>""),"R",IF(F47="R",$A47,IF($B48=F$7,$A48,F47)))))) | G48: =IF($A48="","",IF(AND($B48="",$B47<>"",COUNTIF(G$8:G47,"R")>0),COUNTIF(G$8:G47,"R")&"R",IF($B48="","",IF(AND($B48=G$7,$C48<>""),"R",IF(G47="R",$A47,IF($B48=G$7,$A48,G47)))))) | H48: =IF($A48="","",IF(AND($B48="",$B47<>"",COUNTIF(H$8:H47,"R")>0),COUNTIF(H$8:H47,"R")&"R",IF($B48="","",IF(AND($B48=H$7,$C48<>""),"R",IF(H47="R",$A47,IF($B48=H$7,$A48,H47)))))) | I48: =IF($A48="","",IF(AND($B48="",$B47<>"",COUNTIF(I$8:I47,"R")>0),COUNTIF(I$8:I47,"R")&"R",IF($B48="","",IF(AND($B48=I$7,$C48<>""),"R",IF(I47="R",$A47,IF($B48=I$7,$A48,I47)))))) | J48: =IF($A48="","",IF(AND($B48="",$B47<>"",COUNTIF(J$8:J47,"R")>0),COUNTIF(J$8:J47,"R")&"R",IF($B48="","",IF(AND($B48=J$7,$C48<>""),"R",IF(J47="R",$A47,IF($B48=J$7,$A48,J47)))))) | K48: =IF($A48="","",IF(AND($B48="",$B47<>"",COUNTIF(K$8:K47,"R")>0),COUNTIF(K$8:K47,"R")&"R",IF($B48="","",IF(AND($B48=K$7,$C48<>""),"R",IF(K47="R",$A47,IF($B48=K$7,$A48,K47)))))) | ... AN48: =IF($A48="","",IF(AND($B48="",$B47<>"",COUNTIF(AN$8:AN47,"R")>0),COUNTIF(AN$8:AN47,"R")&"R",IF($B48="","",IF(AND($B48=AN$7,$C48<>""),"R",IF(AN47="R",$A47,IF($B48=AN$7,$A48,AN47)))))) | AO48: =IF($A48="","",IF(AND($B48="",$B47<>"",COUNTIF(AO$8:AO47,"R")),COUNTIF(AO$8:AO47,"R")&"R",IF($B48="","",IF(AND($B48=AO$7,$C48<>""),"R",IF(AO47="R",$A47,IF($B48=AO$7,$A48,AO47))))))
A49: 42 | C49: =IF(COUNTIF(B$8:B48,B49)=0,"",COUNTIF(B$8:B48,B49)) -> 1 | D49: =IF($A49="","",IF(AND($B49="",$B48<>"",COUNTIF(D$8:D48,"R")>0),COUNTIF(D$8:D48,"R")&"R",IF($B49="","",IF(AND($B49=D$7,$C49<>""),"R",IF(D48="R",$A48,IF($B49=D$7,$A49,D48)))))) | E49: =IF($A49="","",IF(AND($B49="",$B48<>"",COUNTIF(E$8:E48,"R")>0),COUNTIF(E$8:E48,"R")&"R",IF($B49="","",IF(AND($B49=E$7,$C49<>""),"R",IF(E48="R",$A48,IF($B49=E$7,$A49,E48)))))) | F49: =IF($A49="","",IF(AND($B49="",$B48<>"",COUNTIF(F$8:F48,"R")>0),COUNTIF(F$8:F48,"R")&"R",IF($B49="","",IF(AND($B49=F$7,$C49<>""),"R",IF(F48="R",$A48,IF($B49=F$7,$A49,F48)))))) | G49: =IF($A49="","",IF(AND($B49="",$B48<>"",COUNTIF(G$8:G48,"R")>0),COUNTIF(G$8:G48,"R")&"R",IF($B49="","",IF(AND($B49=G$7,$C49<>""),"R",IF(G48="R",$A48,IF($B49=G$7,$A49,G48)))))) | H49: =IF($A49="","",IF(AND($B49="",$B48<>"",COUNTIF(H$8:H48,"R")>0),COUNTIF(H$8:H48,"R")&"R",IF($B49="","",IF(AND($B49=H$7,$C49<>""),"R",IF(H48="R",$A48,IF($B49=H$7,$A49,H48)))))) | I49: =IF($A49="","",IF(AND($B49="",$B48<>"",COUNTIF(I$8:I48,"R")>0),COUNTIF(I$8:I48,"R")&"R",IF($B49="","",IF(AND($B49=I$7,$C49<>""),"R",IF(I48="R",$A48,IF($B49=I$7,$A49,I48)))))) | J49: =IF($A49="","",IF(AND($B49="",$B48<>"",COUNTIF(J$8:J48,"R")>0),COUNTIF(J$8:J48,"R")&"R",IF($B49="","",IF(AND($B49=J$7,$C49<>""),"R",IF(J48="R",$A48,IF($B49=J$7,$A49,J48)))))) | K49: =IF($A49="","",IF(AND($B49="",$B48<>"",COUNTIF(K$8:K48,"R")>0),COUNTIF(K$8:K48,"R")&"R",IF($B49="","",IF(AND($B49=K$7,$C49<>""),"R",IF(K48="R",$A48,IF($B49=K$7,$A49,K48)))))) | ... AN49: =IF($A49="","",IF(AND($B49="",$B48<>"",COUNTIF(AN$8:AN48,"R")>0),COUNTIF(AN$8:AN48,"R")&"R",IF($B49="","",IF(AND($B49=AN$7,$C49<>""),"R",IF(AN48="R",$A48,IF($B49=AN$7,$A49,AN48)))))) | AO49: =IF($A49="","",IF(AND($B49="",$B48<>"",COUNTIF(AO$8:AO48,"R")),COUNTIF(AO$8:AO48,"R")&"R",IF($B49="","",IF(AND($B49=AO$7,$C49<>""),"R",IF(AO48="R",$A48,IF($B49=AO$7,$A49,AO48))))))
A50: 43 | C50: =IF(COUNTIF(B$8:B49,B50)=0,"",COUNTIF(B$8:B49,B50)) -> 1 | D50: =IF($A50="","",IF(AND($B50="",$B49<>"",COUNTIF(D$8:D49,"R")>0),COUNTIF(D$8:D49,"R")&"R",IF($B50="","",IF(AND($B50=D$7,$C50<>""),"R",IF(D49="R",$A49,IF($B50=D$7,$A50,D49)))))) | E50: =IF($A50="","",IF(AND($B50="",$B49<>"",COUNTIF(E$8:E49,"R")>0),COUNTIF(E$8:E49,"R")&"R",IF($B50="","",IF(AND($B50=E$7,$C50<>""),"R",IF(E49="R",$A49,IF($B50=E$7,$A50,E49)))))) | F50: =IF($A50="","",IF(AND($B50="",$B49<>"",COUNTIF(F$8:F49,"R")>0),COUNTIF(F$8:F49,"R")&"R",IF($B50="","",IF(AND($B50=F$7,$C50<>""),"R",IF(F49="R",$A49,IF($B50=F$7,$A50,F49)))))) | G50: =IF($A50="","",IF(AND($B50="",$B49<>"",COUNTIF(G$8:G49,"R")>0),COUNTIF(G$8:G49,"R")&"R",IF($B50="","",IF(AND($B50=G$7,$C50<>""),"R",IF(G49="R",$A49,IF($B50=G$7,$A50,G49)))))) | H50: =IF($A50="","",IF(AND($B50="",$B49<>"",COUNTIF(H$8:H49,"R")>0),COUNTIF(H$8:H49,"R")&"R",IF($B50="","",IF(AND($B50=H$7,$C50<>""),"R",IF(H49="R",$A49,IF($B50=H$7,$A50,H49)))))) | I50: =IF($A50="","",IF(AND($B50="",$B49<>"",COUNTIF(I$8:I49,"R")>0),COUNTIF(I$8:I49,"R")&"R",IF($B50="","",IF(AND($B50=I$7,$C50<>""),"R",IF(I49="R",$A49,IF($B50=I$7,$A50,I49)))))) | J50: =IF($A50="","",IF(AND($B50="",$B49<>"",COUNTIF(J$8:J49,"R")>0),COUNTIF(J$8:J49,"R")&"R",IF($B50="","",IF(AND($B50=J$7,$C50<>""),"R",IF(J49="R",$A49,IF($B50=J$7,$A50,J49)))))) | K50: =IF($A50="","",IF(AND($B50="",$B49<>"",COUNTIF(K$8:K49,"R")>0),COUNTIF(K$8:K49,"R")&"R",IF($B50="","",IF(AND($B50=K$7,$C50<>""),"R",IF(K49="R",$A49,IF($B50=K$7,$A50,K49)))))) | ... AN50: =IF($A50="","",IF(AND($B50="",$B49<>"",COUNTIF(AN$8:AN49,"R")>0),COUNTIF(AN$8:AN49,"R")&"R",IF($B50="","",IF(AND($B50=AN$7,$C50<>""),"R",IF(AN49="R",$A49,IF($B50=AN$7,$A50,AN49)))))) | AO50: =IF($A50="","",IF(AND($B50="",$B49<>"",COUNTIF(AO$8:AO49,"R")),COUNTIF(AO$8:AO49,"R")&"R",IF($B50="","",IF(AND($B50=AO$7,$C50<>""),"R",IF(AO49="R",$A49,IF($B50=AO$7,$A50,AO49))))))
A51: 44 | C51: =IF(COUNTIF(B$8:B50,B51)=0,"",COUNTIF(B$8:B50,B51)) -> 1 | D51: =IF($A51="","",IF(AND($B51="",$B50<>"",COUNTIF(D$8:D50,"R")>0),COUNTIF(D$8:D50,"R")&"R",IF($B51="","",IF(AND($B51=D$7,$C51<>""),"R",IF(D50="R",$A50,IF($B51=D$7,$A51,D50)))))) | E51: =IF($A51="","",IF(AND($B51="",$B50<>"",COUNTIF(E$8:E50,"R")>0),COUNTIF(E$8:E50,"R")&"R",IF($B51="","",IF(AND($B51=E$7,$C51<>""),"R",IF(E50="R",$A50,IF($B51=E$7,$A51,E50)))))) | F51: =IF($A51="","",IF(AND($B51="",$B50<>"",COUNTIF(F$8:F50,"R")>0),COUNTIF(F$8:F50,"R")&"R",IF($B51="","",IF(AND($B51=F$7,$C51<>""),"R",IF(F50="R",$A50,IF($B51=F$7,$A51,F50)))))) | G51: =IF($A51="","",IF(AND($B51="",$B50<>"",COUNTIF(G$8:G50,"R")>0),COUNTIF(G$8:G50,"R")&"R",IF($B51="","",IF(AND($B51=G$7,$C51<>""),"R",IF(G50="R",$A50,IF($B51=G$7,$A51,G50)))))) | H51: =IF($A51="","",IF(AND($B51="",$B50<>"",COUNTIF(H$8:H50,"R")>0),COUNTIF(H$8:H50,"R")&"R",IF($B51="","",IF(AND($B51=H$7,$C51<>""),"R",IF(H50="R",$A50,IF($B51=H$7,$A51,H50)))))) | I51: =IF($A51="","",IF(AND($B51="",$B50<>"",COUNTIF(I$8:I50,"R")>0),COUNTIF(I$8:I50,"R")&"R",IF($B51="","",IF(AND($B51=I$7,$C51<>""),"R",IF(I50="R",$A50,IF($B51=I$7,$A51,I50)))))) | J51: =IF($A51="","",IF(AND($B51="",$B50<>"",COUNTIF(J$8:J50,"R")>0),COUNTIF(J$8:J50,"R")&"R",IF($B51="","",IF(AND($B51=J$7,$C51<>""),"R",IF(J50="R",$A50,IF($B51=J$7,$A51,J50)))))) | K51: =IF($A51="","",IF(AND($B51="",$B50<>"",COUNTIF(K$8:K50,"R")>0),COUNTIF(K$8:K50,"R")&"R",IF($B51="","",IF(AND($B51=K$7,$C51<>""),"R",IF(K50="R",$A50,IF($B51=K$7,$A51,K50)))))) | ... AN51: =IF($A51="","",IF(AND($B51="",$B50<>"",COUNTIF(AN$8:AN50,"R")>0),COUNTIF(AN$8:AN50,"R")&"R",IF($B51="","",IF(AND($B51=AN$7,$C51<>""),"R",IF(AN50="R",$A50,IF($B51=AN$7,$A51,AN50)))))) | AO51: =IF($A51="","",IF(AND($B51="",$B50<>"",COUNTIF(AO$8:AO50,"R")),COUNTIF(AO$8:AO50,"R")&"R",IF($B51="","",IF(AND($B51=AO$7,$C51<>""),"R",IF(AO50="R",$A50,IF($B51=AO$7,$A51,AO50))))))
A52: 45 | C52: =IF(COUNTIF(B$8:B51,B52)=0,"",COUNTIF(B$8:B51,B52)) -> 1 | D52: =IF($A52="","",IF(AND($B52="",$B51<>"",COUNTIF(D$8:D51,"R")>0),COUNTIF(D$8:D51,"R")&"R",IF($B52="","",IF(AND($B52=D$7,$C52<>""),"R",IF(D51="R",$A51,IF($B52=D$7,$A52,D51)))))) | E52: =IF($A52="","",IF(AND($B52="",$B51<>"",COUNTIF(E$8:E51,"R")>0),COUNTIF(E$8:E51,"R")&"R",IF($B52="","",IF(AND($B52=E$7,$C52<>""),"R",IF(E51="R",$A51,IF($B52=E$7,$A52,E51)))))) | F52: =IF($A52="","",IF(AND($B52="",$B51<>"",COUNTIF(F$8:F51,"R")>0),COUNTIF(F$8:F51,"R")&"R",IF($B52="","",IF(AND($B52=F$7,$C52<>""),"R",IF(F51="R",$A51,IF($B52=F$7,$A52,F51)))))) | G52: =IF($A52="","",IF(AND($B52="",$B51<>"",COUNTIF(G$8:G51,"R")>0),COUNTIF(G$8:G51,"R")&"R",IF($B52="","",IF(AND($B52=G$7,$C52<>""),"R",IF(G51="R",$A51,IF($B52=G$7,$A52,G51)))))) | H52: =IF($A52="","",IF(AND($B52="",$B51<>"",COUNTIF(H$8:H51,"R")>0),COUNTIF(H$8:H51,"R")&"R",IF($B52="","",IF(AND($B52=H$7,$C52<>""),"R",IF(H51="R",$A51,IF($B52=H$7,$A52,H51)))))) | I52: =IF($A52="","",IF(AND($B52="",$B51<>"",COUNTIF(I$8:I51,"R")>0),COUNTIF(I$8:I51,"R")&"R",IF($B52="","",IF(AND($B52=I$7,$C52<>""),"R",IF(I51="R",$A51,IF($B52=I$7,$A52,I51)))))) | J52: =IF($A52="","",IF(AND($B52="",$B51<>"",COUNTIF(J$8:J51,"R")>0),COUNTIF(J$8:J51,"R")&"R",IF($B52="","",IF(AND($B52=J$7,$C52<>""),"R",IF(J51="R",$A51,IF($B52=J$7,$A52,J51)))))) | K52: =IF($A52="","",IF(AND($B52="",$B51<>"",COUNTIF(K$8:K51,"R")>0),COUNTIF(K$8:K51,"R")&"R",IF($B52="","",IF(AND($B52=K$7,$C52<>""),"R",IF(K51="R",$A51,IF($B52=K$7,$A52,K51)))))) | ... AN52: =IF($A52="","",IF(AND($B52="",$B51<>"",COUNTIF(AN$8:AN51,"R")>0),COUNTIF(AN$8:AN51,"R")&"R",IF($B52="","",IF(AND($B52=AN$7,$C52<>""),"R",IF(AN51="R",$A51,IF($B52=AN$7,$A52,AN51)))))) | AO52: =IF($A52="","",IF(AND($B52="",$B51<>"",COUNTIF(AO$8:AO51,"R")),COUNTIF(AO$8:AO51,"R")&"R",IF($B52="","",IF(AND($B52=AO$7,$C52<>""),"R",IF(AO51="R",$A51,IF($B52=AO$7,$A52,AO51))))))
A53: 46 | C53: =IF(COUNTIF(B$8:B52,B53)=0,"",COUNTIF(B$8:B52,B53)) -> 1 | D53: =IF($A53="","",IF(AND($B53="",$B52<>"",COUNTIF(D$8:D52,"R")>0),COUNTIF(D$8:D52,"R")&"R",IF($B53="","",IF(AND($B53=D$7,$C53<>""),"R",IF(D52="R",$A52,IF($B53=D$7,$A53,D52)))))) | E53: =IF($A53="","",IF(AND($B53="",$B52<>"",COUNTIF(E$8:E52,"R")>0),COUNTIF(E$8:E52,"R")&"R",IF($B53="","",IF(AND($B53=E$7,$C53<>""),"R",IF(E52="R",$A52,IF($B53=E$7,$A53,E52)))))) | F53: =IF($A53="","",IF(AND($B53="",$B52<>"",COUNTIF(F$8:F52,"R")>0),COUNTIF(F$8:F52,"R")&"R",IF($B53="","",IF(AND($B53=F$7,$C53<>""),"R",IF(F52="R",$A52,IF($B53=F$7,$A53,F52)))))) | G53: =IF($A53="","",IF(AND($B53="",$B52<>"",COUNTIF(G$8:G52,"R")>0),COUNTIF(G$8:G52,"R")&"R",IF($B53="","",IF(AND($B53=G$7,$C53<>""),"R",IF(G52="R",$A52,IF($B53=G$7,$A53,G52)))))) | H53: =IF($A53="","",IF(AND($B53="",$B52<>"",COUNTIF(H$8:H52,"R")>0),COUNTIF(H$8:H52,"R")&"R",IF($B53="","",IF(AND($B53=H$7,$C53<>""),"R",IF(H52="R",$A52,IF($B53=H$7,$A53,H52)))))) | I53: =IF($A53="","",IF(AND($B53="",$B52<>"",COUNTIF(I$8:I52,"R")>0),COUNTIF(I$8:I52,"R")&"R",IF($B53="","",IF(AND($B53=I$7,$C53<>""),"R",IF(I52="R",$A52,IF($B53=I$7,$A53,I52)))))) | J53: =IF($A53="","",IF(AND($B53="",$B52<>"",COUNTIF(J$8:J52,"R")>0),COUNTIF(J$8:J52,"R")&"R",IF($B53="","",IF(AND($B53=J$7,$C53<>""),"R",IF(J52="R",$A52,IF($B53=J$7,$A53,J52)))))) | K53: =IF($A53="","",IF(AND($B53="",$B52<>"",COUNTIF(K$8:K52,"R")>0),COUNTIF(K$8:K52,"R")&"R",IF($B53="","",IF(AND($B53=K$7,$C53<>""),"R",IF(K52="R",$A52,IF($B53=K$7,$A53,K52)))))) | ... AN53: =IF($A53="","",IF(AND($B53="",$B52<>"",COUNTIF(AN$8:AN52,"R")>0),COUNTIF(AN$8:AN52,"R")&"R",IF($B53="","",IF(AND($B53=AN$7,$C53<>""),"R",IF(AN52="R",$A52,IF($B53=AN$7,$A53,AN52)))))) | AO53: =IF($A53="","",IF(AND($B53="",$B52<>"",COUNTIF(AO$8:AO52,"R")),COUNTIF(AO$8:AO52,"R")&"R",IF($B53="","",IF(AND($B53=AO$7,$C53<>""),"R",IF(AO52="R",$A52,IF($B53=AO$7,$A53,AO52))))))
A54: 47 | C54: =IF(COUNTIF(B$8:B53,B54)=0,"",COUNTIF(B$8:B53,B54)) -> 1 | D54: =IF($A54="","",IF(AND($B54="",$B53<>"",COUNTIF(D$8:D53,"R")>0),COUNTIF(D$8:D53,"R")&"R",IF($B54="","",IF(AND($B54=D$7,$C54<>""),"R",IF(D53="R",$A53,IF($B54=D$7,$A54,D53)))))) | E54: =IF($A54="","",IF(AND($B54="",$B53<>"",COUNTIF(E$8:E53,"R")>0),COUNTIF(E$8:E53,"R")&"R",IF($B54="","",IF(AND($B54=E$7,$C54<>""),"R",IF(E53="R",$A53,IF($B54=E$7,$A54,E53)))))) | F54: =IF($A54="","",IF(AND($B54="",$B53<>"",COUNTIF(F$8:F53,"R")>0),COUNTIF(F$8:F53,"R")&"R",IF($B54="","",IF(AND($B54=F$7,$C54<>""),"R",IF(F53="R",$A53,IF($B54=F$7,$A54,F53)))))) | G54: =IF($A54="","",IF(AND($B54="",$B53<>"",COUNTIF(G$8:G53,"R")>0),COUNTIF(G$8:G53,"R")&"R",IF($B54="","",IF(AND($B54=G$7,$C54<>""),"R",IF(G53="R",$A53,IF($B54=G$7,$A54,G53)))))) | H54: =IF($A54="","",IF(AND($B54="",$B53<>"",COUNTIF(H$8:H53,"R")>0),COUNTIF(H$8:H53,"R")&"R",IF($B54="","",IF(AND($B54=H$7,$C54<>""),"R",IF(H53="R",$A53,IF($B54=H$7,$A54,H53)))))) | I54: =IF($A54="","",IF(AND($B54="",$B53<>"",COUNTIF(I$8:I53,"R")>0),COUNTIF(I$8:I53,"R")&"R",IF($B54="","",IF(AND($B54=I$7,$C54<>""),"R",IF(I53="R",$A53,IF($B54=I$7,$A54,I53)))))) | J54: =IF($A54="","",IF(AND($B54="",$B53<>"",COUNTIF(J$8:J53,"R")>0),COUNTIF(J$8:J53,"R")&"R",IF($B54="","",IF(AND($B54=J$7,$C54<>""),"R",IF(J53="R",$A53,IF($B54=J$7,$A54,J53)))))) | K54: =IF($A54="","",IF(AND($B54="",$B53<>"",COUNTIF(K$8:K53,"R")>0),COUNTIF(K$8:K53,"R")&"R",IF($B54="","",IF(AND($B54=K$7,$C54<>""),"R",IF(K53="R",$A53,IF($B54=K$7,$A54,K53)))))) | ... AN54: =IF($A54="","",IF(AND($B54="",$B53<>"",COUNTIF(AN$8:AN53,"R")>0),COUNTIF(AN$8:AN53,"R")&"R",IF($B54="","",IF(AND($B54=AN$7,$C54<>""),"R",IF(AN53="R",$A53,IF($B54=AN$7,$A54,AN53)))))) | AO54: =IF($A54="","",IF(AND($B54="",$B53<>"",COUNTIF(AO$8:AO53,"R")),COUNTIF(AO$8:AO53,"R")&"R",IF($B54="","",IF(AND($B54=AO$7,$C54<>""),"R",IF(AO53="R",$A53,IF($B54=AO$7,$A54,AO53))))))
A55: 48 | C55: =IF(COUNTIF(B$8:B54,B55)=0,"",COUNTIF(B$8:B54,B55)) -> 1 | D55: =IF($A55="","",IF(AND($B55="",$B54<>"",COUNTIF(D$8:D54,"R")>0),COUNTIF(D$8:D54,"R")&"R",IF($B55="","",IF(AND($B55=D$7,$C55<>""),"R",IF(D54="R",$A54,IF($B55=D$7,$A55,D54)))))) | E55: =IF($A55="","",IF(AND($B55="",$B54<>"",COUNTIF(E$8:E54,"R")>0),COUNTIF(E$8:E54,"R")&"R",IF($B55="","",IF(AND($B55=E$7,$C55<>""),"R",IF(E54="R",$A54,IF($B55=E$7,$A55,E54)))))) | F55: =IF($A55="","",IF(AND($B55="",$B54<>"",COUNTIF(F$8:F54,"R")>0),COUNTIF(F$8:F54,"R")&"R",IF($B55="","",IF(AND($B55=F$7,$C55<>""),"R",IF(F54="R",$A54,IF($B55=F$7,$A55,F54)))))) | G55: =IF($A55="","",IF(AND($B55="",$B54<>"",COUNTIF(G$8:G54,"R")>0),COUNTIF(G$8:G54,"R")&"R",IF($B55="","",IF(AND($B55=G$7,$C55<>""),"R",IF(G54="R",$A54,IF($B55=G$7,$A55,G54)))))) | H55: =IF($A55="","",IF(AND($B55="",$B54<>"",COUNTIF(H$8:H54,"R")>0),COUNTIF(H$8:H54,"R")&"R",IF($B55="","",IF(AND($B55=H$7,$C55<>""),"R",IF(H54="R",$A54,IF($B55=H$7,$A55,H54)))))) | I55: =IF($A55="","",IF(AND($B55="",$B54<>"",COUNTIF(I$8:I54,"R")>0),COUNTIF(I$8:I54,"R")&"R",IF($B55="","",IF(AND($B55=I$7,$C55<>""),"R",IF(I54="R",$A54,IF($B55=I$7,$A55,I54)))))) | J55: =IF($A55="","",IF(AND($B55="",$B54<>"",COUNTIF(J$8:J54,"R")>0),COUNTIF(J$8:J54,"R")&"R",IF($B55="","",IF(AND($B55=J$7,$C55<>""),"R",IF(J54="R",$A54,IF($B55=J$7,$A55,J54)))))) | K55: =IF($A55="","",IF(AND($B55="",$B54<>"",COUNTIF(K$8:K54,"R")>0),COUNTIF(K$8:K54,"R")&"R",IF($B55="","",IF(AND($B55=K$7,$C55<>""),"R",IF(K54="R",$A54,IF($B55=K$7,$A55,K54)))))) | ... AN55: =IF($A55="","",IF(AND($B55="",$B54<>"",COUNTIF(AN$8:AN54,"R")>0),COUNTIF(AN$8:AN54,"R")&"R",IF($B55="","",IF(AND($B55=AN$7,$C55<>""),"R",IF(AN54="R",$A54,IF($B55=AN$7,$A55,AN54)))))) | AO55: =IF($A55="","",IF(AND($B55="",$B54<>"",COUNTIF(AO$8:AO54,"R")),COUNTIF(AO$8:AO54,"R")&"R",IF($B55="","",IF(AND($B55=AO$7,$C55<>""),"R",IF(AO54="R",$A54,IF($B55=AO$7,$A55,AO54))))))
A56: 49 | C56: =IF(COUNTIF(B$8:B55,B56)=0,"",COUNTIF(B$8:B55,B56)) -> 1 | D56: =IF($A56="","",IF(AND($B56="",$B55<>"",COUNTIF(D$8:D55,"R")>0),COUNTIF(D$8:D55,"R")&"R",IF($B56="","",IF(AND($B56=D$7,$C56<>""),"R",IF(D55="R",$A55,IF($B56=D$7,$A56,D55)))))) | E56: =IF($A56="","",IF(AND($B56="",$B55<>"",COUNTIF(E$8:E55,"R")>0),COUNTIF(E$8:E55,"R")&"R",IF($B56="","",IF(AND($B56=E$7,$C56<>""),"R",IF(E55="R",$A55,IF($B56=E$7,$A56,E55)))))) | F56: =IF($A56="","",IF(AND($B56="",$B55<>"",COUNTIF(F$8:F55,"R")>0),COUNTIF(F$8:F55,"R")&"R",IF($B56="","",IF(AND($B56=F$7,$C56<>""),"R",IF(F55="R",$A55,IF($B56=F$7,$A56,F55)))))) | G56: =IF($A56="","",IF(AND($B56="",$B55<>"",COUNTIF(G$8:G55,"R")>0),COUNTIF(G$8:G55,"R")&"R",IF($B56="","",IF(AND($B56=G$7,$C56<>""),"R",IF(G55="R",$A55,IF($B56=G$7,$A56,G55)))))) | H56: =IF($A56="","",IF(AND($B56="",$B55<>"",COUNTIF(H$8:H55,"R")>0),COUNTIF(H$8:H55,"R")&"R",IF($B56="","",IF(AND($B56=H$7,$C56<>""),"R",IF(H55="R",$A55,IF($B56=H$7,$A56,H55)))))) | I56: =IF($A56="","",IF(AND($B56="",$B55<>"",COUNTIF(I$8:I55,"R")>0),COUNTIF(I$8:I55,"R")&"R",IF($B56="","",IF(AND($B56=I$7,$C56<>""),"R",IF(I55="R",$A55,IF($B56=I$7,$A56,I55)))))) | J56: =IF($A56="","",IF(AND($B56="",$B55<>"",COUNTIF(J$8:J55,"R")>0),COUNTIF(J$8:J55,"R")&"R",IF($B56="","",IF(AND($B56=J$7,$C56<>""),"R",IF(J55="R",$A55,IF($B56=J$7,$A56,J55)))))) | K56: =IF($A56="","",IF(AND($B56="",$B55<>"",COUNTIF(K$8:K55,"R")>0),COUNTIF(K$8:K55,"R")&"R",IF($B56="","",IF(AND($B56=K$7,$C56<>""),"R",IF(K55="R",$A55,IF($B56=K$7,$A56,K55)))))) | ... AN56: =IF($A56="","",IF(AND($B56="",$B55<>"",COUNTIF(AN$8:AN55,"R")>0),COUNTIF(AN$8:AN55,"R")&"R",IF($B56="","",IF(AND($B56=AN$7,$C56<>""),"R",IF(AN55="R",$A55,IF($B56=AN$7,$A56,AN55)))))) | AO56: =IF($A56="","",IF(AND($B56="",$B55<>"",COUNTIF(AO$8:AO55,"R")),COUNTIF(AO$8:AO55,"R")&"R",IF($B56="","",IF(AND($B56=AO$7,$C56<>""),"R",IF(AO55="R",$A55,IF($B56=AO$7,$A56,AO55))))))
... A257: 250 | C257: =IF(COUNTIF(B$8:B256,B257)=0,"",COUNTIF(B$8:B256,B257)) -> 1 | D257: =IF($A257="","",IF(AND($B257="",$B256<>"",COUNTIF(D$8:D256,"R")>0),COUNTIF(D$8:D256,"R")&"R",IF($B257="","",IF(AND($B257=D$7,$C257<>""),"R",IF(D256="R",$A256,IF($B257=D$7,$A257,D256)))))) | E257: =IF($A257="","",IF(AND($B257="",$B256<>"",COUNTIF(E$8:E256,"R")>0),COUNTIF(E$8:E256,"R")&"R",IF($B257="","",IF(AND($B257=E$7,$C257<>""),"R",IF(E256="R",$A256,IF($B257=E$7,$A257,E256)))))) | F257: =IF($A257="","",IF(AND($B257="",$B256<>"",COUNTIF(F$8:F256,"R")>0),COUNTIF(F$8:F256,"R")&"R",IF($B257="","",IF(AND($B257=F$7,$C257<>""),"R",IF(F256="R",$A256,IF($B257=F$7,$A257,F256)))))) | G257: =IF($A257="","",IF(AND($B257="",$B256<>"",COUNTIF(G$8:G256,"R")>0),COUNTIF(G$8:G256,"R")&"R",IF($B257="","",IF(AND($B257=G$7,$C257<>""),"R",IF(G256="R",$A256,IF($B257=G$7,$A257,G256)))))) | H257: =IF($A257="","",IF(AND($B257="",$B256<>"",COUNTIF(H$8:H256,"R")>0),COUNTIF(H$8:H256,"R")&"R",IF($B257="","",IF(AND($B257=H$7,$C257<>""),"R",IF(H256="R",$A256,IF($B257=H$7,$A257,H256)))))) | I257: =IF($A257="","",IF(AND($B257="",$B256<>"",COUNTIF(I$8:I256,"R")>0),COUNTIF(I$8:I256,"R")&"R",IF($B257="","",IF(AND($B257=I$7,$C257<>""),"R",IF(I256="R",$A256,IF($B257=I$7,$A257,I256)))))) | J257: =IF($A257="","",IF(AND($B257="",$B256<>"",COUNTIF(J$8:J256,"R")>0),COUNTIF(J$8:J256,"R")&"R",IF($B257="","",IF(AND($B257=J$7,$C257<>""),"R",IF(J256="R",$A256,IF($B257=J$7,$A257,J256)))))) | K257: =IF($A257="","",IF(AND($B257="",$B256<>"",COUNTIF(K$8:K256,"R")>0),COUNTIF(K$8:K256,"R")&"R",IF($B257="","",IF(AND($B257=K$7,$C257<>""),"R",IF(K256="R",$A256,IF($B257=K$7,$A257,K256)))))) | ... AN257: =IF($A257="","",IF(AND($B257="",$B256<>"",COUNTIF(AN$8:AN256,"R")>0),COUNTIF(AN$8:AN256,"R")&"R",IF($B257="","",IF(AND($B257=AN$7,$C257<>""),"R",IF(AN256="R",$A256,IF($B257=AN$7,$A257,AN256)))))) | AO257: =IF($A257="","",IF(AND($B257="",$B256<>"",COUNTIF(AO$8:AO256,"R")),COUNTIF(AO$8:AO256,"R")&"R",IF($B257="","",IF(AND($B257=AO$7,$C257<>""),"R",IF(AO256="R",$A256,IF($B257=AO$7,$A257,AO256))))))

Sheet Layout
A1: Position | B1: Nr-Eur | C1: Pos | D1: Nr-Amer | F1: Board | G1: Nrs | H1: PosEur | I1: posAm
F2: European | G2: 0 | H2: 0 | I2: 0
A3: 0 | B3: 0 | C3: 1 | D3: 0 | F3: American | G3: 1 | H3: 23 | I3: 18
A4: 1 | B4: 32 | C4: 2 | D4: 28 | F4: Yes | G4: 2 | H4: 6 | I4: 37
A5: 2 | B5: 15 | C5: 3 | D5: 9 | F5: No | G5: 3 | H5: 35 | I5: 14
A6: 3 | B6: 19 | C6: 4 | D6: 26 | G6: 4 | H6: 4 | I6: 33
A7: 4 | B7: 4 | C7: 5 | D7: 30 | G7: 5 | H7: 19 | I7: 10
A8: 5 | B8: 21 | C8: 6 | D8: 11 | G8: 6 | H8: 10 | I8: 29
A9: 6 | B9: 2 | C9: 7 | D9: 7 | G9: 7 | H9: 31 | I9: 6
A10: 7 | B10: 25 | C10: 8 | D10: 20 | G10: 8 | H10: 16 | I10: 25
A11: 8 | B11: 17 | C11: 9 | D11: 32 | G11: 9 | H11: 27 | I11: 2
A12: 9 | B12: 34 | C12: 10 | D12: 17 | G12: 10 | H12: 18 | I12: 21
A13: 10 | B13: 6 | C13: 11 | D13: 5 | G13: 11 | H13: 14 | I13: 5
A14: 11 | B14: 27 | C14: 12 | D14: 22 | G14: 12 | H14: 33 | I14: 24
A15: 12 | B15: 13 | C15: 13 | D15: 34 | G15: 13 | H15: 12 | I15: 17
A16: 13 | B16: 36 | C16: 14 | D16: 15 | G16: 14 | H16: 25 | I16: 36
A17: 14 | B17: 11 | C17: 15 | D17: 3 | G17: 15 | H17: 2 | I17: 13
... A38: 35 | B38: 3 | C38: 36 | D38: 35 | G38: 36 | H38: 13 | I38: 16
A39: 36 | B39: 26 | C39: 37 | D39: 14 | G39: 37 | I39: 19
A40: 37 | C40: 38 | D40: 2
