Workbook
Name ResetProg: '[1]anti-ktf'!$AN$5:$AN$15633

Sheet Tracker-Rolling spins
F2: Layout | I2: Board | L2: Reset tracking spin on pair? | T2: No
F3: Rolling spin | I3: 8
G5: Nr State | H5: =I2 -> Board
H6: 0 | I6: 1 | J6: 2 | K6: 3 | L6: 4 | M6: 5 | N6: 6 | O6: 7 | P6: 8 | Q6: 9 | R6: 10 | S6: 11 | T6: 12 | U6: 13 | V6: 14 | W6: 15 | X6: 16 | Y6: 17 | Z6: 18 | AA6: 19 | AB6: 20 | AC6: 21 | AD6: 22 | AE6: 23 | AF6: 24 | AG6: 25 | AH6: 26 | AI6: 27 | AJ6: 28 | AK6: 29 | AL6: 30 | AM6: 31 | AN6: 32 | AO6: 33 | AP6: 34 | AQ6: 35 | AR6: 36 | AS6: 38
A7: Spin | B7: Pos | C7: Nr | D7: Offset | E7: Rep | H7: =IF($I2="Board",H6,IF($I2="European",LOOKUP(H6,Layout!$A:$A,Layout!$B:$B),IF($I2="American",LOOKUP(H6,Layout!$A:$A,Layout!$D:$D)))) -> 0 | I7: =IF($I2="Board",I6,IF($I2="European",LOOKUP(I6,Layout!$A:$A,Layout!$B:$B),IF($I2="American",LOOKUP(I6,Layout!$A:$A,Layout!$D:$D)))) -> 1 | J7: =IF($I2="Board",J6,IF($I2="European",LOOKUP(J6,Layout!$A:$A,Layout!$B:$B),IF($I2="American",LOOKUP(J6,Layout!$A:$A,Layout!$D:$D)))) -> 2 | K7: =IF($I2="Board",K6,IF($I2="European",LOOKUP(K6,Layout!$A:$A,Layout!$B:$B),IF($I2="American",LOOKUP(K6,Layout!$A:$A,Layout!$D:$D)))) -> 3 | L7: =IF($I2="Board",L6,IF($I2="European",LOOKUP(L6,Layout!$A:$A,Layout!$B:$B),IF($I2="American",LOOKUP(L6,Layout!$A:$A,Layout!$D:$D)))) -> 4 | M7: =IF($I2="Board",M6,IF($I2="European",LOOKUP(M6,Layout!$A:$A,Layout!$B:$B),IF($I2="American",LOOKUP(M6,Layout!$A:$A,Layout!$D:$D)))) -> 5 | N7: =IF($I2="Board",N6,IF($I2="European",LOOKUP(N6,Layout!$A:$A,Layout!$B:$B),IF($I2="American",LOOKUP(N6,Layout!$A:$A,Layout!$D:$D)))) -> 6 | O7: =IF($I2="Board",O6,IF($I2="European",LOOKUP(O6,Layout!$A:$A,Layout!$B:$B),IF($I2="American",LOOKUP(O6,Layout!$A:$A,Layout!$D:$D)))) -> 7 | ... AR7: =IF($I2="Board",AR6,IF($I2="European",LOOKUP(AR6,Layout!$A:$A,Layout!$B:$B),IF($I2="American",LOOKUP(AR6,Layout!$A:$A,Layout!$D:$D)))) -> 36 | AS7: =IF($I2="Board","",IF($I2="European","",IF($I2="American",LOOKUP(AS6,Layout!$A:$A,Layout!$D:$D))))
A8: 1 | B8: =IF($I$2="American",LOOKUP(C8,Layout!G:G,Layout!I:I),IF($I$2="European",LOOKUP(C8,Layout!G:G,Layout!H:H),C8)) -> 25 | C8: =IF(I$2="American",RANDBETWEEN(0,37),RANDBETWEEN(0,36)) -> 25 | D8: =IF(A8<I$3,A8,I$3) -> 1 | H8: =IF($C8="","",IF($C8=H$7,$A8,"")) | I8: =IF($C8="","",IF($C8=I$7,$A8,"")) | J8: =IF($C8="","",IF($C8=J$7,$A8,"")) | K8: =IF($C8="","",IF($C8=K$7,$A8,"")) | L8: =IF($C8="","",IF($C8=L$7,$A8,"")) | M8: =IF($C8="","",IF($C8=M$7,$A8,"")) | N8: =IF($C8="","",IF($C8=N$7,$A8,"")) | O8: =IF($C8="","",IF($C8=O$7,$A8,"")) | ... AS8: =IF($C8="","",IF($C8=AS$7,$A8,""))
A9: 2 | B9: =IF($I$2="American",LOOKUP(C9,Layout!G:G,Layout!I:I),IF($I$2="European",LOOKUP(C9,Layout!G:G,Layout!H:H),C9)) -> 26 | C9: =IF(I$2="American",RANDBETWEEN(0,37),RANDBETWEEN(0,36)) -> 26 | D9: =IF(A9<I$3,A9,I$3) -> 2 | E9: =IF(COUNTIF(C$8:C8,C9)=0,"",COUNTIF(C$8:C8,C9)) | G9: =IF(OR(LOOKUP(B9,H$6:AR$6,H9:AR9)="P",LOOKUP(B9,H$6:AR$6,H9:AR9)="R"),LOOKUP(B9,H$6:AR$6,H9:AR9),"" ) -> P | H9: =IF($A10="","",IF(AND($T$2="No",H8<>"",$D8=$I$3,COUNTIF(OFFSET(H8,-($D8-1),0,1,1):H8,"R")=0,COUNTIF(OFFSET(H8,-($D8-1),0,1,1):H8,"")=0),"",IF(AND(H8<>"",$D8=$I$3,COUNTIF(OFFSET(H8,-($D8-1),0,1,1):H8,H8)=$I$3),"",IF(AND($C9="",$C8<>"",COUNTIF(H$8:H8,"R")>0),COUNTIF(H$8:H8,"R")&"R",IF($C9="","",IF(AND($C9=H$7,H8<>"",COUNTIF(OFFSET($C8,-$D8,0,1,1):$C8,H$7)>0),"R",IF(AND(H8="P",$C8<>H$7),H7,IF(OR(H8="R",H8="P"),$A8,IF(AND(H8<>"",OR($C9=I$7,$C9=AR$7)),"P",IF(AND($C9=H$7,OR(I8<>"",AR8<>"")),"P",IF($C9=H$7,$A9,H8))))))))))) | I9: =IF($A10="","",IF(AND($T$2="No",I8<>"",$D8=$I$3,COUNTIF(OFFSET(I8,-($D8-1),0,1,1):I8,"R")=0,COUNTIF(OFFSET(I8,-($D8-1),0,1,1):I8,"")=0),"",IF(AND(I8<>"",$D8=$I$3,COUNTIF(OFFSET(I8,-($D8-1),0,1,1):I8,I8)=$I$3),"",IF(AND($C9="",$C8<>"",COUNTIF(I$8:I8,"R")>0),COUNTIF(I$8:I8,"R")&"R",IF($C9="","",IF(AND($C9=I$7,I8<>"",COUNTIF(OFFSET($C8,-$D8,0,1,1):$C8,I$7)>0),"R",IF(AND(I8="P",$C8<>I$7),I7,IF(OR(I8="R",I8="P"),$A8,IF(AND(I8<>"",OR($C9=H$7,$C9=J$7)),"P",IF(AND($C9=I$7,OR(H8<>"",J8<>"")),"P",IF($C9=I$7,$A9,I8))))))))))) | J9: =IF($A10="","",IF(AND($T$2="No",J8<>"",$D8=$I$3,COUNTIF(OFFSET(J8,-($D8-1),0,1,1):J8,"R")=0,COUNTIF(OFFSET(J8,-($D8-1),0,1,1):J8,"")=0),"",IF(AND(J8<>"",$D8=$I$3,COUNTIF(OFFSET(J8,-($D8-1),0,1,1):J8,J8)=$I$3),"",IF(AND($C9="",$C8<>"",COUNTIF(J$8:J8,"R")>0),COUNTIF(J$8:J8,"R")&"R",IF($C9="","",IF(AND($C9=J$7,J8<>"",COUNTIF(OFFSET($C8,-$D8,0,1,1):$C8,J$7)>0),"R",IF(AND(J8="P",$C8<>J$7),J7,IF(OR(J8="R",J8="P"),$A8,IF(AND(J8<>"",OR($C9=I$7,$C9=K$7)),"P",IF(AND($C9=J$7,OR(I8<>"",K8<>"")),"P",IF($C9=J$7,$A9,J8))))))))))) | K9: =IF($A10="","",IF(AND($T$2="No",K8<>"",$D8=$I$3,COUNTIF(OFFSET(K8,-($D8-1),0,1,1):K8,"R")=0,COUNTIF(OFFSET(K8,-($D8-1),0,1,1):K8,"")=0),"",IF(AND(K8<>"",$D8=$I$3,COUNTIF(OFFSET(K8,-($D8-1),0,1,1):K8,K8)=$I$3),"",IF(AND($C9="",$C8<>"",COUNTIF(K$8:K8,"R")>0),COUNTIF(K$8:K8,"R")&"R",IF($C9="","",IF(AND($C9=K$7,K8<>"",COUNTIF(OFFSET($C8,-$D8,0,1,1):$C8,K$7)>0),"R",IF(AND(K8="P",$C8<>K$7),K7,IF(OR(K8="R",K8="P"),$A8,IF(AND(K8<>"",OR($C9=J$7,$C9=L$7)),"P",IF(AND($C9=K$7,OR(J8<>"",L8<>"")),"P",IF($C9=K$7,$A9,K8))))))))))) | L9: =IF($A10="","",IF(AND($T$2="No",L8<>"",$D8=$I$3,COUNTIF(OFFSET(L8,-($D8-1),0,1,1):L8,"R")=0,COUNTIF(OFFSET(L8,-($D8-1),0,1,1):L8,"")=0),"",IF(AND(L8<>"",$D8=$I$3,COUNTIF(OFFSET(L8,-($D8-1),0,1,1):L8,L8)=$I$3),"",IF(AND($C9="",$C8<>"",COUNTIF(L$8:L8,"R")>0),COUNTIF(L$8:L8,"R")&"R",IF($C9="","",IF(AND($C9=L$7,L8<>"",COUNTIF(OFFSET($C8,-$D8,0,1,1):$C8,L$7)>0),"R",IF(AND(L8="P",$C8<>L$7),L7,IF(OR(L8="R",L8="P"),$A8,IF(AND(L8<>"",OR($C9=K$7,$C9=M$7)),"P",IF(AND($C9=L$7,OR(K8<>"",M8<>"")),"P",IF($C9=L$7,$A9,L8))))))))))) | M9: =IF($A10="","",IF(AND($T$2="No",M8<>"",$D8=$I$3,COUNTIF(OFFSET(M8,-($D8-1),0,1,1):M8,"R")=0,COUNTIF(OFFSET(M8,-($D8-1),0,1,1):M8,"")=0),"",IF(AND(M8<>"",$D8=$I$3,COUNTIF(OFFSET(M8,-($D8-1),0,1,1):M8,M8)=$I$3),"",IF(AND($C9="",$C8<>"",COUNTIF(M$8:M8,"R")>0),COUNTIF(M$8:M8,"R")&"R",IF($C9="","",IF(AND($C9=M$7,M8<>"",COUNTIF(OFFSET($C8,-$D8,0,1,1):$C8,M$7)>0),"R",IF(AND(M8="P",$C8<>M$7),M7,IF(OR(M8="R",M8="P"),$A8,IF(AND(M8<>"",OR($C9=L$7,$C9=N$7)),"P",IF(AND($C9=M$7,OR(L8<>"",N8<>"")),"P",IF($C9=M$7,$A9,M8))))))))))) | N9: =IF($A10="","",IF(AND($T$2="No",N8<>"",$D8=$I$3,COUNTIF(OFFSET(N8,-($D8-1),0,1,1):N8,"R")=0,COUNTIF(OFFSET(N8,-($D8-1),0,1,1):N8,"")=0),"",IF(AND(N8<>"",$D8=$I$3,COUNTIF(OFFSET(N8,-($D8-1),0,1,1):N8,N8)=$I$3),"",IF(AND($C9="",$C8<>"",COUNTIF(N$8:N8,"R")>0),COUNTIF(N$8:N8,"R")&"R",IF($C9="","",IF(AND($C9=N$7,N8<>"",COUNTIF(OFFSET($C8,-$D8,0,1,1):$C8,N$7)>0),"R",IF(AND(N8="P",$C8<>N$7),N7,IF(OR(N8="R",N8="P"),$A8,IF(AND(N8<>"",OR($C9=M$7,$C9=O$7)),"P",IF(AND($C9=N$7,OR(M8<>"",O8<>"")),"P",IF($C9=N$7,$A9,N8))))))))))) | O9: =IF($A10="","",IF(AND($T$2="No",O8<>"",$D8=$I$3,COUNTIF(OFFSET(O8,-($D8-1),0,1,1):O8,"R")=0,COUNTIF(OFFSET(O8,-($D8-1),0,1,1):O8,"")=0),"",IF(AND(O8<>"",$D8=$I$3,COUNTIF(OFFSET(O8,-($D8-1),0,1,1):O8,O8)=$I$3),"",IF(AND($C9="",$C8<>"",COUNTIF(O$8:O8,"R")>0),COUNTIF(O$8:O8,"R")&"R",IF($C9="","",IF(AND($C9=O$7,O8<>"",COUNTIF(OFFSET($C8,-$D8,0,1,1):$C8,O$7)>0),"R",IF(AND(O8="P",$C8<>O$7),O7,IF(OR(O8="R",O8="P"),$A8,IF(AND(O8<>"",OR($C9=N$7,$C9=P$7)),"P",IF(AND($C9=O$7,OR(N8<>"",P8<>"")),"P",IF($C9=O$7,$A9,O8))))))))))) | P9: =IF($A10="","",IF(AND($T$2="No",P8<>"",$D8=$I$3,COUNTIF(OFFSET(P8,-($D8-1),0,1,1):P8,"R")=0,COUNTIF(OFFSET(P8,-($D8-1),0,1,1):P8,"")=0),"",IF(AND(P8<>"",$D8=$I$3,COUNTIF(OFFSET(P8,-($D8-1),0,1,1):P8,P8)=$I$3),"",IF(AND($C9="",$C8<>"",COUNTIF(P$8:P8,"R")>0),COUNTIF(P$8:P8,"R")&"R",IF($C9="","",IF(AND($C9=P$7,P8<>"",COUNTIF(OFFSET($C8,-$D8,0,1,1):$C8,P$7)>0),"R",IF(AND(P8="P",$C8<>P$7),P7,IF(OR(P8="R",P8="P"),$A8,IF(AND(P8<>"",OR($C9=O$7,$C9=Q$7)),"P",IF(AND($C9=P$7,OR(O8<>"",Q8<>"")),"P",IF($C9=P$7,$A9,P8))))))))))) | ... AR9: =IF($A10="","",IF(AND($T$2="No",AR8<>"",$D8=$I$3,COUNTIF(OFFSET(AR8,-($D8-1),0,1,1):AR8,"R")=0,COUNTIF(OFFSET(AR8,-($D8-1),0,1,1):AR8,"")=0),"",IF(AND(AR8<>"",$D8=$I$3,COUNTIF(OFFSET(AR8,-($D8-1),0,1,1):AR8,AR8)=$I$3),"",IF(AND($C9="",$C8<>"",COUNTIF(AR$8:AR8,"R")>0),COUNTIF(AR$8:AR8,"R")&"R",IF($C9="","",IF(AND($C9=AR$7,AR8<>"",COUNTIF(OFFSET($C8,-$D8,0,1,1):$C8,AR$7)>0),"R",IF(AND(AR8="P",$C8<>AR$7),AR7,IF(OR(AR8="R",AR8="P"),$A8,IF(AND(AR8<>"",OR($C9=AQ$7,$C9=AS$7)),"P",IF(AND($C9=AR$7,OR(AQ8<>"",AS8<>"")),"P",IF($C9=AR$7,$A9,AR8))))))))))) | AS9: =IF($A10="","",IF(AND($T$2="No",AS8<>"",$D8=$I$3,COUNTIF(OFFSET(AS8,-($D8-1),0,1,1):AS8,"R")=0,COUNTIF(OFFSET(AS8,-($D8-1),0,1,1):AS8,"")=0),"",IF(AND(AS8<>"",$D8=$I$3,COUNTIF(OFFSET($H8,-$D8,0,1,1):AS8,AS8)=$I$3),"",IF(AND($C9="",$C8<>"",COUNTIF(AS$8:AS8,"R")>0),COUNTIF(AS$8:AS8,"R")&"R",IF($C9="","",IF(AND($C9=AS$7,AS8<>"",COUNTIF(OFFSET($C8,$D8,0,1,1):$C8,AS$7)>0),"R",IF(AS8="R",$A8,IF($C9=AS$7,$A9,AS8))))))))
A10: 3 | B10: =IF($I$2="American",LOOKUP(C10,Layout!G:G,Layout!I:I),IF($I$2="European",LOOKUP(C10,Layout!G:G,Layout!H:H),C10)) -> 34 | C10: =IF(I$2="American",RANDBETWEEN(0,37),RANDBETWEEN(0,36)) -> 34 | D10: =IF(A10<I$3,A10,I$3) -> 3 | E10: =IF(COUNTIF(C$8:C9,C10)=0,"",COUNTIF(C$8:C9,C10)) | G10: =IF(OR(LOOKUP(B10,H$6:AR$6,H10:AR10)="P",LOOKUP(B10,H$6:AR$6,H10:AR10)="R"),LOOKUP(B10,H$6:AR$6,H10:AR10),"" ) | H10: =IF($A11="","",IF(AND($T$2="No",H9<>"",$D9=$I$3,COUNTIF(OFFSET(H9,-($D9-1),0,1,1):H9,"R")=0,COUNTIF(OFFSET(H9,-($D9-1),0,1,1):H9,"")=0),"",IF(AND(H9<>"",$D9=$I$3,COUNTIF(OFFSET(H9,-($D9-1),0,1,1):H9,H9)=$I$3),"",IF(AND($C10="",$C9<>"",COUNTIF(H$8:H9,"R")>0),COUNTIF(H$8:H9,"R")&"R",IF($C10="","",IF(AND($C10=H$7,H9<>"",COUNTIF(OFFSET($C9,-$D9,0,1,1):$C9,H$7)>0),"R",IF(AND(H9="P",$C9<>H$7),H8,IF(OR(H9="R",H9="P"),$A9,IF(AND(H9<>"",OR($C10=I$7,$C10=AR$7)),"P",IF(AND($C10=H$7,OR(I9<>"",AR9<>"")),"P",IF($C10=H$7,$A10,H9))))))))))) | I10: =IF($A11="","",IF(AND($T$2="No",I9<>"",$D9=$I$3,COUNTIF(OFFSET(I9,-($D9-1),0,1,1):I9,"R")=0,COUNTIF(OFFSET(I9,-($D9-1),0,1,1):I9,"")=0),"",IF(AND(I9<>"",$D9=$I$3,COUNTIF(OFFSET(I9,-($D9-1),0,1,1):I9,I9)=$I$3),"",IF(AND($C10="",$C9<>"",COUNTIF(I$8:I9,"R")>0),COUNTIF(I$8:I9,"R")&"R",IF($C10="","",IF(AND($C10=I$7,I9<>"",COUNTIF(OFFSET($C9,-$D9,0,1,1):$C9,I$7)>0),"R",IF(AND(I9="P",$C9<>I$7),I8,IF(OR(I9="R",I9="P"),$A9,IF(AND(I9<>"",OR($C10=H$7,$C10=J$7)),"P",IF(AND($C10=I$7,OR(H9<>"",J9<>"")),"P",IF($C10=I$7,$A10,I9))))))))))) | J10: =IF($A11="","",IF(AND($T$2="No",J9<>"",$D9=$I$3,COUNTIF(OFFSET(J9,-($D9-1),0,1,1):J9,"R")=0,COUNTIF(OFFSET(J9,-($D9-1),0,1,1):J9,"")=0),"",IF(AND(J9<>"",$D9=$I$3,COUNTIF(OFFSET(J9,-($D9-1),0,1,1):J9,J9)=$I$3),"",IF(AND($C10="",$C9<>"",COUNTIF(J$8:J9,"R")>0),COUNTIF(J$8:J9,"R")&"R",IF($C10="","",IF(AND($C10=J$7,J9<>"",COUNTIF(OFFSET($C9,-$D9,0,1,1):$C9,J$7)>0),"R",IF(AND(J9="P",$C9<>J$7),J8,IF(OR(J9="R",J9="P"),$A9,IF(AND(J9<>"",OR($C10=I$7,$C10=K$7)),"P",IF(AND($C10=J$7,OR(I9<>"",K9<>"")),"P",IF($C10=J$7,$A10,J9))))))))))) | K10: =IF($A11="","",IF(AND($T$2="No",K9<>"",$D9=$I$3,COUNTIF(OFFSET(K9,-($D9-1),0,1,1):K9,"R")=0,COUNTIF(OFFSET(K9,-($D9-1),0,1,1):K9,"")=0),"",IF(AND(K9<>"",$D9=$I$3,COUNTIF(OFFSET(K9,-($D9-1),0,1,1):K9,K9)=$I$3),"",IF(AND($C10="",$C9<>"",COUNTIF(K$8:K9,"R")>0),COUNTIF(K$8:K9,"R")&"R",IF($C10="","",IF(AND($C10=K$7,K9<>"",COUNTIF(OFFSET($C9,-$D9,0,1,1):$C9,K$7)>0),"R",IF(AND(K9="P",$C9<>K$7),K8,IF(OR(K9="R",K9="P"),$A9,IF(AND(K9<>"",OR($C10=J$7,$C10=L$7)),"P",IF(AND($C10=K$7,OR(J9<>"",L9<>"")),"P",IF($C10=K$7,$A10,K9))))))))))) | L10: =IF($A11="","",IF(AND($T$2="No",L9<>"",$D9=$I$3,COUNTIF(OFFSET(L9,-($D9-1),0,1,1):L9,"R")=0,COUNTIF(OFFSET(L9,-($D9-1),0,1,1):L9,"")=0),"",IF(AND(L9<>"",$D9=$I$3,COUNTIF(OFFSET(L9,-($D9-1),0,1,1):L9,L9)=$I$3),"",IF(AND($C10="",$C9<>"",COUNTIF(L$8:L9,"R")>0),COUNTIF(L$8:L9,"R")&"R",IF($C10="","",IF(AND($C10=L$7,L9<>"",COUNTIF(OFFSET($C9,-$D9,0,1,1):$C9,L$7)>0),"R",IF(AND(L9="P",$C9<>L$7),L8,IF(OR(L9="R",L9="P"),$A9,IF(AND(L9<>"",OR($C10=K$7,$C10=M$7)),"P",IF(AND($C10=L$7,OR(K9<>"",M9<>"")),"P",IF($C10=L$7,$A10,L9))))))))))) | M10: =IF($A11="","",IF(AND($T$2="No",M9<>"",$D9=$I$3,COUNTIF(OFFSET(M9,-($D9-1),0,1,1):M9,"R")=0,COUNTIF(OFFSET(M9,-($D9-1),0,1,1):M9,"")=0),"",IF(AND(M9<>"",$D9=$I$3,COUNTIF(OFFSET(M9,-($D9-1),0,1,1):M9,M9)=$I$3),"",IF(AND($C10="",$C9<>"",COUNTIF(M$8:M9,"R")>0),COUNTIF(M$8:M9,"R")&"R",IF($C10="","",IF(AND($C10=M$7,M9<>"",COUNTIF(OFFSET($C9,-$D9,0,1,1):$C9,M$7)>0),"R",IF(AND(M9="P",$C9<>M$7),M8,IF(OR(M9="R",M9="P"),$A9,IF(AND(M9<>"",OR($C10=L$7,$C10=N$7)),"P",IF(AND($C10=M$7,OR(L9<>"",N9<>"")),"P",IF($C10=M$7,$A10,M9))))))))))) | N10: =IF($A11="","",IF(AND($T$2="No",N9<>"",$D9=$I$3,COUNTIF(OFFSET(N9,-($D9-1),0,1,1):N9,"R")=0,COUNTIF(OFFSET(N9,-($D9-1),0,1,1):N9,"")=0),"",IF(AND(N9<>"",$D9=$I$3,COUNTIF(OFFSET(N9,-($D9-1),0,1,1):N9,N9)=$I$3),"",IF(AND($C10="",$C9<>"",COUNTIF(N$8:N9,"R")>0),COUNTIF(N$8:N9,"R")&"R",IF($C10="","",IF(AND($C10=N$7,N9<>"",COUNTIF(OFFSET($C9,-$D9,0,1,1):$C9,N$7)>0),"R",IF(AND(N9="P",$C9<>N$7),N8,IF(OR(N9="R",N9="P"),$A9,IF(AND(N9<>"",OR($C10=M$7,$C10=O$7)),"P",IF(AND($C10=N$7,OR(M9<>"",O9<>"")),"P",IF($C10=N$7,$A10,N9))))))))))) | O10: =IF($A11="","",IF(AND($T$2="No",O9<>"",$D9=$I$3,COUNTIF(OFFSET(O9,-($D9-1),0,1,1):O9,"R")=0,COUNTIF(OFFSET(O9,-($D9-1),0,1,1):O9,"")=0),"",IF(AND(O9<>"",$D9=$I$3,COUNTIF(OFFSET(O9,-($D9-1),0,1,1):O9,O9)=$I$3),"",IF(AND($C10="",$C9<>"",COUNTIF(O$8:O9,"R")>0),COUNTIF(O$8:O9,"R")&"R",IF($C10="","",IF(AND($C10=O$7,O9<>"",COUNTIF(OFFSET($C9,-$D9,0,1,1):$C9,O$7)>0),"R",IF(AND(O9="P",$C9<>O$7),O8,IF(OR(O9="R",O9="P"),$A9,IF(AND(O9<>"",OR($C10=N$7,$C10=P$7)),"P",IF(AND($C10=O$7,OR(N9<>"",P9<>"")),"P",IF($C10=O$7,$A10,O9))))))))))) | P10: =IF($A11="","",IF(AND($T$2="No",P9<>"",$D9=$I$3,COUNTIF(OFFSET(P9,-($D9-1),0,1,1):P9,"R")=0,COUNTIF(OFFSET(P9,-($D9-1),0,1,1):P9,"")=0),"",IF(AND(P9<>"",$D9=$I$3,COUNTIF(OFFSET(P9,-($D9-1),0,1,1):P9,P9)=$I$3),"",IF(AND($C10="",$C9<>"",COUNTIF(P$8:P9,"R")>0),COUNTIF(P$8:P9,"R")&"R",IF($C10="","",IF(AND($C10=P$7,P9<>"",COUNTIF(OFFSET($C9,-$D9,0,1,1):$C9,P$7)>0),"R",IF(AND(P9="P",$C9<>P$7),P8,IF(OR(P9="R",P9="P"),$A9,IF(AND(P9<>"",OR($C10=O$7,$C10=Q$7)),"P",IF(AND($C10=P$7,OR(O9<>"",Q9<>"")),"P",IF($C10=P$7,$A10,P9))))))))))) | ... AR10: =IF($A11="","",IF(AND($T$2="No",AR9<>"",$D9=$I$3,COUNTIF(OFFSET(AR9,-($D9-1),0,1,1):AR9,"R")=0,COUNTIF(OFFSET(AR9,-($D9-1),0,1,1):AR9,"")=0),"",IF(AND(AR9<>"",$D9=$I$3,COUNTIF(OFFSET(AR9,-($D9-1),0,1,1):AR9,AR9)=$I$3),"",IF(AND($C10="",$C9<>"",COUNTIF(AR$8:AR9,"R")>0),COUNTIF(AR$8:AR9,"R")&"R",IF($C10="","",IF(AND($C10=AR$7,AR9<>"",COUNTIF(OFFSET($C9,-$D9,0,1,1):$C9,AR$7)>0),"R",IF(AND(AR9="P",$C9<>AR$7),AR8,IF(OR(AR9="R",AR9="P"),$A9,IF(AND(AR9<>"",OR($C10=AQ$7,$C10=AS$7)),"P",IF(AND($C10=AR$7,OR(AQ9<>"",AS9<>"")),"P",IF($C10=AR$7,$A10,AR9))))))))))) | AS10: =IF($A11="","",IF(AND($T$2="No",AS9<>"",$D9=$I$3,COUNTIF(OFFSET(AS9,-($D9-1),0,1,1):AS9,"R")=0,COUNTIF(OFFSET(AS9,-($D9-1),0,1,1):AS9,"")=0),"",IF(AND(AS9<>"",$D9=$I$3,COUNTIF(OFFSET($H9,-$D9,0,1,1):AS9,AS9)=$I$3),"",IF(AND($C10="",$C9<>"",COUNTIF(AS$8:AS9,"R")>0),COUNTIF(AS$8:AS9,"R")&"R",IF($C10="","",IF(AND($C10=AS$7,AS9<>"",COUNTIF(OFFSET($C9,$D9,0,1,1):$C9,AS$7)>0),"R",IF(AS9="R",$A9,IF($C10=AS$7,$A10,AS9))))))))
A11: 4 | B11: =IF($I$2="American",LOOKUP(C11,Layout!G:G,Layout!I:I),IF($I$2="European",LOOKUP(C11,Layout!G:G,Layout!H:H),C11)) -> 15 | C11: =IF(I$2="American",RANDBETWEEN(0,37),RANDBETWEEN(0,36)) -> 15 | D11: =IF(A11<I$3,A11,I$3) -> 4 | E11: =IF(COUNTIF(C$8:C10,C11)=0,"",COUNTIF(C$8:C10,C11)) | G11: =IF(OR(LOOKUP(B11,H$6:AR$6,H11:AR11)="P",LOOKUP(B11,H$6:AR$6,H11:AR11)="R"),LOOKUP(B11,H$6:AR$6,H11:AR11),"" ) | H11: =IF($A12="","",IF(AND($T$2="No",H10<>"",$D10=$I$3,COUNTIF(OFFSET(H10,-($D10-1),0,1,1):H10,"R")=0,COUNTIF(OFFSET(H10,-($D10-1),0,1,1):H10,"")=0),"",IF(AND(H10<>"",$D10=$I$3,COUNTIF(OFFSET(H10,-($D10-1),0,1,1):H10,H10)=$I$3),"",IF(AND($C11="",$C10<>"",COUNTIF(H$8:H10,"R")>0),COUNTIF(H$8:H10,"R")&"R",IF($C11="","",IF(AND($C11=H$7,H10<>"",COUNTIF(OFFSET($C10,-$D10,0,1,1):$C10,H$7)>0),"R",IF(AND(H10="P",$C10<>H$7),H9,IF(OR(H10="R",H10="P"),$A10,IF(AND(H10<>"",OR($C11=I$7,$C11=AR$7)),"P",IF(AND($C11=H$7,OR(I10<>"",AR10<>"")),"P",IF($C11=H$7,$A11,H10))))))))))) | I11: =IF($A12="","",IF(AND($T$2="No",I10<>"",$D10=$I$3,COUNTIF(OFFSET(I10,-($D10-1),0,1,1):I10,"R")=0,COUNTIF(OFFSET(I10,-($D10-1),0,1,1):I10,"")=0),"",IF(AND(I10<>"",$D10=$I$3,COUNTIF(OFFSET(I10,-($D10-1),0,1,1):I10,I10)=$I$3),"",IF(AND($C11="",$C10<>"",COUNTIF(I$8:I10,"R")>0),COUNTIF(I$8:I10,"R")&"R",IF($C11="","",IF(AND($C11=I$7,I10<>"",COUNTIF(OFFSET($C10,-$D10,0,1,1):$C10,I$7)>0),"R",IF(AND(I10="P",$C10<>I$7),I9,IF(OR(I10="R",I10="P"),$A10,IF(AND(I10<>"",OR($C11=H$7,$C11=J$7)),"P",IF(AND($C11=I$7,OR(H10<>"",J10<>"")),"P",IF($C11=I$7,$A11,I10))))))))))) | J11: =IF($A12="","",IF(AND($T$2="No",J10<>"",$D10=$I$3,COUNTIF(OFFSET(J10,-($D10-1),0,1,1):J10,"R")=0,COUNTIF(OFFSET(J10,-($D10-1),0,1,1):J10,"")=0),"",IF(AND(J10<>"",$D10=$I$3,COUNTIF(OFFSET(J10,-($D10-1),0,1,1):J10,J10)=$I$3),"",IF(AND($C11="",$C10<>"",COUNTIF(J$8:J10,"R")>0),COUNTIF(J$8:J10,"R")&"R",IF($C11="","",IF(AND($C11=J$7,J10<>"",COUNTIF(OFFSET($C10,-$D10,0,1,1):$C10,J$7)>0),"R",IF(AND(J10="P",$C10<>J$7),J9,IF(OR(J10="R",J10="P"),$A10,IF(AND(J10<>"",OR($C11=I$7,$C11=K$7)),"P",IF(AND($C11=J$7,OR(I10<>"",K10<>"")),"P",IF($C11=J$7,$A11,J10))))))))))) | K11: =IF($A12="","",IF(AND($T$2="No",K10<>"",$D10=$I$3,COUNTIF(OFFSET(K10,-($D10-1),0,1,1):K10,"R")=0,COUNTIF(OFFSET(K10,-($D10-1),0,1,1):K10,"")=0),"",IF(AND(K10<>"",$D10=$I$3,COUNTIF(OFFSET(K10,-($D10-1),0,1,1):K10,K10)=$I$3),"",IF(AND($C11="",$C10<>"",COUNTIF(K$8:K10,"R")>0),COUNTIF(K$8:K10,"R")&"R",IF($C11="","",IF(AND($C11=K$7,K10<>"",COUNTIF(OFFSET($C10,-$D10,0,1,1):$C10,K$7)>0),"R",IF(AND(K10="P",$C10<>K$7),K9,IF(OR(K10="R",K10="P"),$A10,IF(AND(K10<>"",OR($C11=J$7,$C11=L$7)),"P",IF(AND($C11=K$7,OR(J10<>"",L10<>"")),"P",IF($C11=K$7,$A11,K10))))))))))) | L11: =IF($A12="","",IF(AND($T$2="No",L10<>"",$D10=$I$3,COUNTIF(OFFSET(L10,-($D10-1),0,1,1):L10,"R")=0,COUNTIF(OFFSET(L10,-($D10-1),0,1,1):L10,"")=0),"",IF(AND(L10<>"",$D10=$I$3,COUNTIF(OFFSET(L10,-($D10-1),0,1,1):L10,L10)=$I$3),"",IF(AND($C11="",$C10<>"",COUNTIF(L$8:L10,"R")>0),COUNTIF(L$8:L10,"R")&"R",IF($C11="","",IF(AND($C11=L$7,L10<>"",COUNTIF(OFFSET($C10,-$D10,0,1,1):$C10,L$7)>0),"R",IF(AND(L10="P",$C10<>L$7),L9,IF(OR(L10="R",L10="P"),$A10,IF(AND(L10<>"",OR($C11=K$7,$C11=M$7)),"P",IF(AND($C11=L$7,OR(K10<>"",M10<>"")),"P",IF($C11=L$7,$A11,L10))))))))))) | M11: =IF($A12="","",IF(AND($T$2="No",M10<>"",$D10=$I$3,COUNTIF(OFFSET(M10,-($D10-1),0,1,1):M10,"R")=0,COUNTIF(OFFSET(M10,-($D10-1),0,1,1):M10,"")=0),"",IF(AND(M10<>"",$D10=$I$3,COUNTIF(OFFSET(M10,-($D10-1),0,1,1):M10,M10)=$I$3),"",IF(AND($C11="",$C10<>"",COUNTIF(M$8:M10,"R")>0),COUNTIF(M$8:M10,"R")&"R",IF($C11="","",IF(AND($C11=M$7,M10<>"",COUNTIF(OFFSET($C10,-$D10,0,1,1):$C10,M$7)>0),"R",IF(AND(M10="P",$C10<>M$7),M9,IF(OR(M10="R",M10="P"),$A10,IF(AND(M10<>"",OR($C11=L$7,$C11=N$7)),"P",IF(AND($C11=M$7,OR(L10<>"",N10<>"")),"P",IF($C11=M$7,$A11,M10))))))))))) | N11: =IF($A12="","",IF(AND($T$2="No",N10<>"",$D10=$I$3,COUNTIF(OFFSET(N10,-($D10-1),0,1,1):N10,"R")=0,COUNTIF(OFFSET(N10,-($D10-1),0,1,1):N10,"")=0),"",IF(AND(N10<>"",$D10=$I$3,COUNTIF(OFFSET(N10,-($D10-1),0,1,1):N10,N10)=$I$3),"",IF(AND($C11="",$C10<>"",COUNTIF(N$8:N10,"R")>0),COUNTIF(N$8:N10,"R")&"R",IF($C11="","",IF(AND($C11=N$7,N10<>"",COUNTIF(OFFSET($C10,-$D10,0,1,1):$C10,N$7)>0),"R",IF(AND(N10="P",$C10<>N$7),N9,IF(OR(N10="R",N10="P"),$A10,IF(AND(N10<>"",OR($C11=M$7,$C11=O$7)),"P",IF(AND($C11=N$7,OR(M10<>"",O10<>"")),"P",IF($C11=N$7,$A11,N10))))))))))) | O11: =IF($A12="","",IF(AND($T$2="No",O10<>"",$D10=$I$3,COUNTIF(OFFSET(O10,-($D10-1),0,1,1):O10,"R")=0,COUNTIF(OFFSET(O10,-($D10-1),0,1,1):O10,"")=0),"",IF(AND(O10<>"",$D10=$I$3,COUNTIF(OFFSET(O10,-($D10-1),0,1,1):O10,O10)=$I$3),"",IF(AND($C11="",$C10<>"",COUNTIF(O$8:O10,"R")>0),COUNTIF(O$8:O10,"R")&"R",IF($C11="","",IF(AND($C11=O$7,O10<>"",COUNTIF(OFFSET($C10,-$D10,0,1,1):$C10,O$7)>0),"R",IF(AND(O10="P",$C10<>O$7),O9,IF(OR(O10="R",O10="P"),$A10,IF(AND(O10<>"",OR($C11=N$7,$C11=P$7)),"P",IF(AND($C11=O$7,OR(N10<>"",P10<>"")),"P",IF($C11=O$7,$A11,O10))))))))))) | P11: =IF($A12="","",IF(AND($T$2="No",P10<>"",$D10=$I$3,COUNTIF(OFFSET(P10,-($D10-1),0,1,1):P10,"R")=0,COUNTIF(OFFSET(P10,-($D10-1),0,1,1):P10,"")=0),"",IF(AND(P10<>"",$D10=$I$3,COUNTIF(OFFSET(P10,-($D10-1),0,1,1):P10,P10)=$I$3),"",IF(AND($C11="",$C10<>"",COUNTIF(P$8:P10,"R")>0),COUNTIF(P$8:P10,"R")&"R",IF($C11="","",IF(AND($C11=P$7,P10<>"",COUNTIF(OFFSET($C10,-$D10,0,1,1):$C10,P$7)>0),"R",IF(AND(P10="P",$C10<>P$7),P9,IF(OR(P10="R",P10="P"),$A10,IF(AND(P10<>"",OR($C11=O$7,$C11=Q$7)),"P",IF(AND($C11=P$7,OR(O10<>"",Q10<>"")),"P",IF($C11=P$7,$A11,P10))))))))))) | ... AR11: =IF($A12="","",IF(AND($T$2="No",AR10<>"",$D10=$I$3,COUNTIF(OFFSET(AR10,-($D10-1),0,1,1):AR10,"R")=0,COUNTIF(OFFSET(AR10,-($D10-1),0,1,1):AR10,"")=0),"",IF(AND(AR10<>"",$D10=$I$3,COUNTIF(OFFSET(AR10,-($D10-1),0,1,1):AR10,AR10)=$I$3),"",IF(AND($C11="",$C10<>"",COUNTIF(AR$8:AR10,"R")>0),COUNTIF(AR$8:AR10,"R")&"R",IF($C11="","",IF(AND($C11=AR$7,AR10<>"",COUNTIF(OFFSET($C10,-$D10,0,1,1):$C10,AR$7)>0),"R",IF(AND(AR10="P",$C10<>AR$7),AR9,IF(OR(AR10="R",AR10="P"),$A10,IF(AND(AR10<>"",OR($C11=AQ$7,$C11=AS$7)),"P",IF(AND($C11=AR$7,OR(AQ10<>"",AS10<>"")),"P",IF($C11=AR$7,$A11,AR10))))))))))) | AS11: =IF($A12="","",IF(AND($T$2="No",AS10<>"",$D10=$I$3,COUNTIF(OFFSET(AS10,-($D10-1),0,1,1):AS10,"R")=0,COUNTIF(OFFSET(AS10,-($D10-1),0,1,1):AS10,"")=0),"",IF(AND(AS10<>"",$D10=$I$3,COUNTIF(OFFSET($H10,-$D10,0,1,1):AS10,AS10)=$I$3),"",IF(AND($C11="",$C10<>"",COUNTIF(AS$8:AS10,"R")>0),COUNTIF(AS$8:AS10,"R")&"R",IF($C11="","",IF(AND($C11=AS$7,AS10<>"",COUNTIF(OFFSET($C10,$D10,0,1,1):$C10,AS$7)>0),"R",IF(AS10="R",$A10,IF($C11=AS$7,$A11,AS10))))))))
A12: 5 | B12: =IF($I$2="American",LOOKUP(C12,Layout!G:G,Layout!I:I),IF($I$2="European",LOOKUP(C12,Layout!G:G,Layout!H:H),C12)) -> 28 | C12: =IF(I$2="American",RANDBETWEEN(0,37),RANDBETWEEN(0,36)) -> 28 | D12: =IF(A12<I$3,A12,I$3) -> 5 | E12: =IF(COUNTIF(C$8:C11,C12)=0,"",COUNTIF(C$8:C11,C12)) | G12: =IF(OR(LOOKUP(B12,H$6:AR$6,H12:AR12)="P",LOOKUP(B12,H$6:AR$6,H12:AR12)="R"),LOOKUP(B12,H$6:AR$6,H12:AR12),"" ) | H12: =IF($A13="","",IF(AND($T$2="No",H11<>"",$D11=$I$3,COUNTIF(OFFSET(H11,-($D11-1),0,1,1):H11,"R")=0,COUNTIF(OFFSET(H11,-($D11-1),0,1,1):H11,"")=0),"",IF(AND(H11<>"",$D11=$I$3,COUNTIF(OFFSET(H11,-($D11-1),0,1,1):H11,H11)=$I$3),"",IF(AND($C12="",$C11<>"",COUNTIF(H$8:H11,"R")>0),COUNTIF(H$8:H11,"R")&"R",IF($C12="","",IF(AND($C12=H$7,H11<>"",COUNTIF(OFFSET($C11,-$D11,0,1,1):$C11,H$7)>0),"R",IF(AND(H11="P",$C11<>H$7),H10,IF(OR(H11="R",H11="P"),$A11,IF(AND(H11<>"",OR($C12=I$7,$C12=AR$7)),"P",IF(AND($C12=H$7,OR(I11<>"",AR11<>"")),"P",IF($C12=H$7,$A12,H11))))))))))) | I12: =IF($A13="","",IF(AND($T$2="No",I11<>"",$D11=$I$3,COUNTIF(OFFSET(I11,-($D11-1),0,1,1):I11,"R")=0,COUNTIF(OFFSET(I11,-($D11-1),0,1,1):I11,"")=0),"",IF(AND(I11<>"",$D11=$I$3,COUNTIF(OFFSET(I11,-($D11-1),0,1,1):I11,I11)=$I$3),"",IF(AND($C12="",$C11<>"",COUNTIF(I$8:I11,"R")>0),COUNTIF(I$8:I11,"R")&"R",IF($C12="","",IF(AND($C12=I$7,I11<>"",COUNTIF(OFFSET($C11,-$D11,0,1,1):$C11,I$7)>0),"R",IF(AND(I11="P",$C11<>I$7),I10,IF(OR(I11="R",I11="P"),$A11,IF(AND(I11<>"",OR($C12=H$7,$C12=J$7)),"P",IF(AND($C12=I$7,OR(H11<>"",J11<>"")),"P",IF($C12=I$7,$A12,I11))))))))))) | J12: =IF($A13="","",IF(AND($T$2="No",J11<>"",$D11=$I$3,COUNTIF(OFFSET(J11,-($D11-1),0,1,1):J11,"R")=0,COUNTIF(OFFSET(J11,-($D11-1),0,1,1):J11,"")=0),"",IF(AND(J11<>"",$D11=$I$3,COUNTIF(OFFSET(J11,-($D11-1),0,1,1):J11,J11)=$I$3),"",IF(AND($C12="",$C11<>"",COUNTIF(J$8:J11,"R")>0),COUNTIF(J$8:J11,"R")&"R",IF($C12="","",IF(AND($C12=J$7,J11<>"",COUNTIF(OFFSET($C11,-$D11,0,1,1):$C11,J$7)>0),"R",IF(AND(J11="P",$C11<>J$7),J10,IF(OR(J11="R",J11="P"),$A11,IF(AND(J11<>"",OR($C12=I$7,$C12=K$7)),"P",IF(AND($C12=J$7,OR(I11<>"",K11<>"")),"P",IF($C12=J$7,$A12,J11))))))))))) | K12: =IF($A13="","",IF(AND($T$2="No",K11<>"",$D11=$I$3,COUNTIF(OFFSET(K11,-($D11-1),0,1,1):K11,"R")=0,COUNTIF(OFFSET(K11,-($D11-1),0,1,1):K11,"")=0),"",IF(AND(K11<>"",$D11=$I$3,COUNTIF(OFFSET(K11,-($D11-1),0,1,1):K11,K11)=$I$3),"",IF(AND($C12="",$C11<>"",COUNTIF(K$8:K11,"R")>0),COUNTIF(K$8:K11,"R")&"R",IF($C12="","",IF(AND($C12=K$7,K11<>"",COUNTIF(OFFSET($C11,-$D11,0,1,1):$C11,K$7)>0),"R",IF(AND(K11="P",$C11<>K$7),K10,IF(OR(K11="R",K11="P"),$A11,IF(AND(K11<>"",OR($C12=J$7,$C12=L$7)),"P",IF(AND($C12=K$7,OR(J11<>"",L11<>"")),"P",IF($C12=K$7,$A12,K11))))))))))) | L12: =IF($A13="","",IF(AND($T$2="No",L11<>"",$D11=$I$3,COUNTIF(OFFSET(L11,-($D11-1),0,1,1):L11,"R")=0,COUNTIF(OFFSET(L11,-($D11-1),0,1,1):L11,"")=0),"",IF(AND(L11<>"",$D11=$I$3,COUNTIF(OFFSET(L11,-($D11-1),0,1,1):L11,L11)=$I$3),"",IF(AND($C12="",$C11<>"",COUNTIF(L$8:L11,"R")>0),COUNTIF(L$8:L11,"R")&"R",IF($C12="","",IF(AND($C12=L$7,L11<>"",COUNTIF(OFFSET($C11,-$D11,0,1,1):$C11,L$7)>0),"R",IF(AND(L11="P",$C11<>L$7),L10,IF(OR(L11="R",L11="P"),$A11,IF(AND(L11<>"",OR($C12=K$7,$C12=M$7)),"P",IF(AND($C12=L$7,OR(K11<>"",M11<>"")),"P",IF($C12=L$7,$A12,L11))))))))))) | M12: =IF($A13="","",IF(AND($T$2="No",M11<>"",$D11=$I$3,COUNTIF(OFFSET(M11,-($D11-1),0,1,1):M11,"R")=0,COUNTIF(OFFSET(M11,-($D11-1),0,1,1):M11,"")=0),"",IF(AND(M11<>"",$D11=$I$3,COUNTIF(OFFSET(M11,-($D11-1),0,1,1):M11,M11)=$I$3),"",IF(AND($C12="",$C11<>"",COUNTIF(M$8:M11,"R")>0),COUNTIF(M$8:M11,"R")&"R",IF($C12="","",IF(AND($C12=M$7,M11<>"",COUNTIF(OFFSET($C11,-$D11,0,1,1):$C11,M$7)>0),"R",IF(AND(M11="P",$C11<>M$7),M10,IF(OR(M11="R",M11="P"),$A11,IF(AND(M11<>"",OR($C12=L$7,$C12=N$7)),"P",IF(AND($C12=M$7,OR(L11<>"",N11<>"")),"P",IF($C12=M$7,$A12,M11))))))))))) | N12: =IF($A13="","",IF(AND($T$2="No",N11<>"",$D11=$I$3,COUNTIF(OFFSET(N11,-($D11-1),0,1,1):N11,"R")=0,COUNTIF(OFFSET(N11,-($D11-1),0,1,1):N11,"")=0),"",IF(AND(N11<>"",$D11=$I$3,COUNTIF(OFFSET(N11,-($D11-1),0,1,1):N11,N11)=$I$3),"",IF(AND($C12="",$C11<>"",COUNTIF(N$8:N11,"R")>0),COUNTIF(N$8:N11,"R")&"R",IF($C12="","",IF(AND($C12=N$7,N11<>"",COUNTIF(OFFSET($C11,-$D11,0,1,1):$C11,N$7)>0),"R",IF(AND(N11="P",$C11<>N$7),N10,IF(OR(N11="R",N11="P"),$A11,IF(AND(N11<>"",OR($C12=M$7,$C12=O$7)),"P",IF(AND($C12=N$7,OR(M11<>"",O11<>"")),"P",IF($C12=N$7,$A12,N11))))))))))) | O12: =IF($A13="","",IF(AND($T$2="No",O11<>"",$D11=$I$3,COUNTIF(OFFSET(O11,-($D11-1),0,1,1):O11,"R")=0,COUNTIF(OFFSET(O11,-($D11-1),0,1,1):O11,"")=0),"",IF(AND(O11<>"",$D11=$I$3,COUNTIF(OFFSET(O11,-($D11-1),0,1,1):O11,O11)=$I$3),"",IF(AND($C12="",$C11<>"",COUNTIF(O$8:O11,"R")>0),COUNTIF(O$8:O11,"R")&"R",IF($C12="","",IF(AND($C12=O$7,O11<>"",COUNTIF(OFFSET($C11,-$D11,0,1,1):$C11,O$7)>0),"R",IF(AND(O11="P",$C11<>O$7),O10,IF(OR(O11="R",O11="P"),$A11,IF(AND(O11<>"",OR($C12=N$7,$C12=P$7)),"P",IF(AND($C12=O$7,OR(N11<>"",P11<>"")),"P",IF($C12=O$7,$A12,O11))))))))))) | P12: =IF($A13="","",IF(AND($T$2="No",P11<>"",$D11=$I$3,COUNTIF(OFFSET(P11,-($D11-1),0,1,1):P11,"R")=0,COUNTIF(OFFSET(P11,-($D11-1),0,1,1):P11,"")=0),"",IF(AND(P11<>"",$D11=$I$3,COUNTIF(OFFSET(P11,-($D11-1),0,1,1):P11,P11)=$I$3),"",IF(AND($C12="",$C11<>"",COUNTIF(P$8:P11,"R")>0),COUNTIF(P$8:P11,"R")&"R",IF($C12="","",IF(AND($C12=P$7,P11<>"",COUNTIF(OFFSET($C11,-$D11,0,1,1):$C11,P$7)>0),"R",IF(AND(P11="P",$C11<>P$7),P10,IF(OR(P11="R",P11="P"),$A11,IF(AND(P11<>"",OR($C12=O$7,$C12=Q$7)),"P",IF(AND($C12=P$7,OR(O11<>"",Q11<>"")),"P",IF($C12=P$7,$A12,P11))))))))))) | ... AR12: =IF($A13="","",IF(AND($T$2="No",AR11<>"",$D11=$I$3,COUNTIF(OFFSET(AR11,-($D11-1),0,1,1):AR11,"R")=0,COUNTIF(OFFSET(AR11,-($D11-1),0,1,1):AR11,"")=0),"",IF(AND(AR11<>"",$D11=$I$3,COUNTIF(OFFSET(AR11,-($D11-1),0,1,1):AR11,AR11)=$I$3),"",IF(AND($C12="",$C11<>"",COUNTIF(AR$8:AR11,"R")>0),COUNTIF(AR$8:AR11,"R")&"R",IF($C12="","",IF(AND($C12=AR$7,AR11<>"",COUNTIF(OFFSET($C11,-$D11,0,1,1):$C11,AR$7)>0),"R",IF(AND(AR11="P",$C11<>AR$7),AR10,IF(OR(AR11="R",AR11="P"),$A11,IF(AND(AR11<>"",OR($C12=AQ$7,$C12=AS$7)),"P",IF(AND($C12=AR$7,OR(AQ11<>"",AS11<>"")),"P",IF($C12=AR$7,$A12,AR11))))))))))) | AS12: =IF($A13="","",IF(AND($T$2="No",AS11<>"",$D11=$I$3,COUNTIF(OFFSET(AS11,-($D11-1),0,1,1):AS11,"R")=0,COUNTIF(OFFSET(AS11,-($D11-1),0,1,1):AS11,"")=0),"",IF(AND(AS11<>"",$D11=$I$3,COUNTIF(OFFSET($H11,-$D11,0,1,1):AS11,AS11)=$I$3),"",IF(AND($C12="",$C11<>"",COUNTIF(AS$8:AS11,"R")>0),COUNTIF(AS$8:AS11,"R")&"R",IF($C12="","",IF(AND($C12=AS$7,AS11<>"",COUNTIF(OFFSET($C11,$D11,0,1,1):$C11,AS$7)>0),"R",IF(AS11="R",$A11,IF($C12=AS$7,$A12,AS11))))))))
A13: 6 | B13: =IF($I$2="American",LOOKUP(C13,Layout!G:G,Layout!I:I),IF($I$2="European",LOOKUP(C13,Layout!G:G,Layout!H:H),C13)) -> 31 | C13: =IF(I$2="American",RANDBETWEEN(0,37),RANDBETWEEN(0,36)) -> 31 | D13: =IF(A13<I$3,A13,I$3) -> 6 | E13: =IF(COUNTIF(C$8:C12,C13)=0,"",COUNTIF(C$8:C12,C13)) | G13: =IF(OR(LOOKUP(B13,H$6:AR$6,H13:AR13)="P",LOOKUP(B13,H$6:AR$6,H13:AR13)="R"),LOOKUP(B13,H$6:AR$6,H13:AR13),"" ) | H13: =IF($A14="","",IF(AND($T$2="No",H12<>"",$D12=$I$3,COUNTIF(OFFSET(H12,-($D12-1),0,1,1):H12,"R")=0,COUNTIF(OFFSET(H12,-($D12-1),0,1,1):H12,"")=0),"",IF(AND(H12<>"",$D12=$I$3,COUNTIF(OFFSET(H12,-($D12-1),0,1,1):H12,H12)=$I$3),"",IF(AND($C13="",$C12<>"",COUNTIF(H$8:H12,"R")>0),COUNTIF(H$8:H12,"R")&"R",IF($C13="","",IF(AND($C13=H$7,H12<>"",COUNTIF(OFFSET($C12,-$D12,0,1,1):$C12,H$7)>0),"R",IF(AND(H12="P",$C12<>H$7),H11,IF(OR(H12="R",H12="P"),$A12,IF(AND(H12<>"",OR($C13=I$7,$C13=AR$7)),"P",IF(AND($C13=H$7,OR(I12<>"",AR12<>"")),"P",IF($C13=H$7,$A13,H12))))))))))) | I13: =IF($A14="","",IF(AND($T$2="No",I12<>"",$D12=$I$3,COUNTIF(OFFSET(I12,-($D12-1),0,1,1):I12,"R")=0,COUNTIF(OFFSET(I12,-($D12-1),0,1,1):I12,"")=0),"",IF(AND(I12<>"",$D12=$I$3,COUNTIF(OFFSET(I12,-($D12-1),0,1,1):I12,I12)=$I$3),"",IF(AND($C13="",$C12<>"",COUNTIF(I$8:I12,"R")>0),COUNTIF(I$8:I12,"R")&"R",IF($C13="","",IF(AND($C13=I$7,I12<>"",COUNTIF(OFFSET($C12,-$D12,0,1,1):$C12,I$7)>0),"R",IF(AND(I12="P",$C12<>I$7),I11,IF(OR(I12="R",I12="P"),$A12,IF(AND(I12<>"",OR($C13=H$7,$C13=J$7)),"P",IF(AND($C13=I$7,OR(H12<>"",J12<>"")),"P",IF($C13=I$7,$A13,I12))))))))))) | J13: =IF($A14="","",IF(AND($T$2="No",J12<>"",$D12=$I$3,COUNTIF(OFFSET(J12,-($D12-1),0,1,1):J12,"R")=0,COUNTIF(OFFSET(J12,-($D12-1),0,1,1):J12,"")=0),"",IF(AND(J12<>"",$D12=$I$3,COUNTIF(OFFSET(J12,-($D12-1),0,1,1):J12,J12)=$I$3),"",IF(AND($C13="",$C12<>"",COUNTIF(J$8:J12,"R")>0),COUNTIF(J$8:J12,"R")&"R",IF($C13="","",IF(AND($C13=J$7,J12<>"",COUNTIF(OFFSET($C12,-$D12,0,1,1):$C12,J$7)>0),"R",IF(AND(J12="P",$C12<>J$7),J11,IF(OR(J12="R",J12="P"),$A12,IF(AND(J12<>"",OR($C13=I$7,$C13=K$7)),"P",IF(AND($C13=J$7,OR(I12<>"",K12<>"")),"P",IF($C13=J$7,$A13,J12))))))))))) | K13: =IF($A14="","",IF(AND($T$2="No",K12<>"",$D12=$I$3,COUNTIF(OFFSET(K12,-($D12-1),0,1,1):K12,"R")=0,COUNTIF(OFFSET(K12,-($D12-1),0,1,1):K12,"")=0),"",IF(AND(K12<>"",$D12=$I$3,COUNTIF(OFFSET(K12,-($D12-1),0,1,1):K12,K12)=$I$3),"",IF(AND($C13="",$C12<>"",COUNTIF(K$8:K12,"R")>0),COUNTIF(K$8:K12,"R")&"R",IF($C13="","",IF(AND($C13=K$7,K12<>"",COUNTIF(OFFSET($C12,-$D12,0,1,1):$C12,K$7)>0),"R",IF(AND(K12="P",$C12<>K$7),K11,IF(OR(K12="R",K12="P"),$A12,IF(AND(K12<>"",OR($C13=J$7,$C13=L$7)),"P",IF(AND($C13=K$7,OR(J12<>"",L12<>"")),"P",IF($C13=K$7,$A13,K12))))))))))) | L13: =IF($A14="","",IF(AND($T$2="No",L12<>"",$D12=$I$3,COUNTIF(OFFSET(L12,-($D12-1),0,1,1):L12,"R")=0,COUNTIF(OFFSET(L12,-($D12-1),0,1,1):L12,"")=0),"",IF(AND(L12<>"",$D12=$I$3,COUNTIF(OFFSET(L12,-($D12-1),0,1,1):L12,L12)=$I$3),"",IF(AND($C13="",$C12<>"",COUNTIF(L$8:L12,"R")>0),COUNTIF(L$8:L12,"R")&"R",IF($C13="","",IF(AND($C13=L$7,L12<>"",COUNTIF(OFFSET($C12,-$D12,0,1,1):$C12,L$7)>0),"R",IF(AND(L12="P",$C12<>L$7),L11,IF(OR(L12="R",L12="P"),$A12,IF(AND(L12<>"",OR($C13=K$7,$C13=M$7)),"P",IF(AND($C13=L$7,OR(K12<>"",M12<>"")),"P",IF($C13=L$7,$A13,L12))))))))))) | M13: =IF($A14="","",IF(AND($T$2="No",M12<>"",$D12=$I$3,COUNTIF(OFFSET(M12,-($D12-1),0,1,1):M12,"R")=0,COUNTIF(OFFSET(M12,-($D12-1),0,1,1):M12,"")=0),"",IF(AND(M12<>"",$D12=$I$3,COUNTIF(OFFSET(M12,-($D12-1),0,1,1):M12,M12)=$I$3),"",IF(AND($C13="",$C12<>"",COUNTIF(M$8:M12,"R")>0),COUNTIF(M$8:M12,"R")&"R",IF($C13="","",IF(AND($C13=M$7,M12<>"",COUNTIF(OFFSET($C12,-$D12,0,1,1):$C12,M$7)>0),"R",IF(AND(M12="P",$C12<>M$7),M11,IF(OR(M12="R",M12="P"),$A12,IF(AND(M12<>"",OR($C13=L$7,$C13=N$7)),"P",IF(AND($C13=M$7,OR(L12<>"",N12<>"")),"P",IF($C13=M$7,$A13,M12))))))))))) | N13: =IF($A14="","",IF(AND($T$2="No",N12<>"",$D12=$I$3,COUNTIF(OFFSET(N12,-($D12-1),0,1,1):N12,"R")=0,COUNTIF(OFFSET(N12,-($D12-1),0,1,1):N12,"")=0),"",IF(AND(N12<>"",$D12=$I$3,COUNTIF(OFFSET(N12,-($D12-1),0,1,1):N12,N12)=$I$3),"",IF(AND($C13="",$C12<>"",COUNTIF(N$8:N12,"R")>0),COUNTIF(N$8:N12,"R")&"R",IF($C13="","",IF(AND($C13=N$7,N12<>"",COUNTIF(OFFSET($C12,-$D12,0,1,1):$C12,N$7)>0),"R",IF(AND(N12="P",$C12<>N$7),N11,IF(OR(N12="R",N12="P"),$A12,IF(AND(N12<>"",OR($C13=M$7,$C13=O$7)),"P",IF(AND($C13=N$7,OR(M12<>"",O12<>"")),"P",IF($C13=N$7,$A13,N12))))))))))) | O13: =IF($A14="","",IF(AND($T$2="No",O12<>"",$D12=$I$3,COUNTIF(OFFSET(O12,-($D12-1),0,1,1):O12,"R")=0,COUNTIF(OFFSET(O12,-($D12-1),0,1,1):O12,"")=0),"",IF(AND(O12<>"",$D12=$I$3,COUNTIF(OFFSET(O12,-($D12-1),0,1,1):O12,O12)=$I$3),"",IF(AND($C13="",$C12<>"",COUNTIF(O$8:O12,"R")>0),COUNTIF(O$8:O12,"R")&"R",IF($C13="","",IF(AND($C13=O$7,O12<>"",COUNTIF(OFFSET($C12,-$D12,0,1,1):$C12,O$7)>0),"R",IF(AND(O12="P",$C12<>O$7),O11,IF(OR(O12="R",O12="P"),$A12,IF(AND(O12<>"",OR($C13=N$7,$C13=P$7)),"P",IF(AND($C13=O$7,OR(N12<>"",P12<>"")),"P",IF($C13=O$7,$A13,O12))))))))))) | P13: =IF($A14="","",IF(AND($T$2="No",P12<>"",$D12=$I$3,COUNTIF(OFFSET(P12,-($D12-1),0,1,1):P12,"R")=0,COUNTIF(OFFSET(P12,-($D12-1),0,1,1):P12,"")=0),"",IF(AND(P12<>"",$D12=$I$3,COUNTIF(OFFSET(P12,-($D12-1),0,1,1):P12,P12)=$I$3),"",IF(AND($C13="",$C12<>"",COUNTIF(P$8:P12,"R")>0),COUNTIF(P$8:P12,"R")&"R",IF($C13="","",IF(AND($C13=P$7,P12<>"",COUNTIF(OFFSET($C12,-$D12,0,1,1):$C12,P$7)>0),"R",IF(AND(P12="P",$C12<>P$7),P11,IF(OR(P12="R",P12="P"),$A12,IF(AND(P12<>"",OR($C13=O$7,$C13=Q$7)),"P",IF(AND($C13=P$7,OR(O12<>"",Q12<>"")),"P",IF($C13=P$7,$A13,P12))))))))))) | ... AR13: =IF($A14="","",IF(AND($T$2="No",AR12<>"",$D12=$I$3,COUNTIF(OFFSET(AR12,-($D12-1),0,1,1):AR12,"R")=0,COUNTIF(OFFSET(AR12,-($D12-1),0,1,1):AR12,"")=0),"",IF(AND(AR12<>"",$D12=$I$3,COUNTIF(OFFSET(AR12,-($D12-1),0,1,1):AR12,AR12)=$I$3),"",IF(AND($C13="",$C12<>"",COUNTIF(AR$8:AR12,"R")>0),COUNTIF(AR$8:AR12,"R")&"R",IF($C13="","",IF(AND($C13=AR$7,AR12<>"",COUNTIF(OFFSET($C12,-$D12,0,1,1):$C12,AR$7)>0),"R",IF(AND(AR12="P",$C12<>AR$7),AR11,IF(OR(AR12="R",AR12="P"),$A12,IF(AND(AR12<>"",OR($C13=AQ$7,$C13=AS$7)),"P",IF(AND($C13=AR$7,OR(AQ12<>"",AS12<>"")),"P",IF($C13=AR$7,$A13,AR12))))))))))) | AS13: =IF($A14="","",IF(AND($T$2="No",AS12<>"",$D12=$I$3,COUNTIF(OFFSET(AS12,-($D12-1),0,1,1):AS12,"R")=0,COUNTIF(OFFSET(AS12,-($D12-1),0,1,1):AS12,"")=0),"",IF(AND(AS12<>"",$D12=$I$3,COUNTIF(OFFSET($H12,-$D12,0,1,1):AS12,AS12)=$I$3),"",IF(AND($C13="",$C12<>"",COUNTIF(AS$8:AS12,"R")>0),COUNTIF(AS$8:AS12,"R")&"R",IF($C13="","",IF(AND($C13=AS$7,AS12<>"",COUNTIF(OFFSET($C12,$D12,0,1,1):$C12,AS$7)>0),"R",IF(AS12="R",$A12,IF($C13=AS$7,$A13,AS12))))))))
A14: 7 | B14: =IF($I$2="American",LOOKUP(C14,Layout!G:G,Layout!I:I),IF($I$2="European",LOOKUP(C14,Layout!G:G,Layout!H:H),C14)) -> 24 | C14: =IF(I$2="American",RANDBETWEEN(0,37),RANDBETWEEN(0,36)) -> 24 | D14: =IF(A14<I$3,A14,I$3) -> 7 | E14: =IF(COUNTIF(C$8:C13,C14)=0,"",COUNTIF(C$8:C13,C14)) | G14: =IF(OR(LOOKUP(B14,H$6:AR$6,H14:AR14)="P",LOOKUP(B14,H$6:AR$6,H14:AR14)="R"),LOOKUP(B14,H$6:AR$6,H14:AR14),"" ) -> P | H14: =IF($A15="","",IF(AND($T$2="No",H13<>"",$D13=$I$3,COUNTIF(OFFSET(H13,-($D13-1),0,1,1):H13,"R")=0,COUNTIF(OFFSET(H13,-($D13-1),0,1,1):H13,"")=0),"",IF(AND(H13<>"",$D13=$I$3,COUNTIF(OFFSET(H13,-($D13-1),0,1,1):H13,H13)=$I$3),"",IF(AND($C14="",$C13<>"",COUNTIF(H$8:H13,"R")>0),COUNTIF(H$8:H13,"R")&"R",IF($C14="","",IF(AND($C14=H$7,H13<>"",COUNTIF(OFFSET($C13,-$D13,0,1,1):$C13,H$7)>0),"R",IF(AND(H13="P",$C13<>H$7),H12,IF(OR(H13="R",H13="P"),$A13,IF(AND(H13<>"",OR($C14=I$7,$C14=AR$7)),"P",IF(AND($C14=H$7,OR(I13<>"",AR13<>"")),"P",IF($C14=H$7,$A14,H13))))))))))) | I14: =IF($A15="","",IF(AND($T$2="No",I13<>"",$D13=$I$3,COUNTIF(OFFSET(I13,-($D13-1),0,1,1):I13,"R")=0,COUNTIF(OFFSET(I13,-($D13-1),0,1,1):I13,"")=0),"",IF(AND(I13<>"",$D13=$I$3,COUNTIF(OFFSET(I13,-($D13-1),0,1,1):I13,I13)=$I$3),"",IF(AND($C14="",$C13<>"",COUNTIF(I$8:I13,"R")>0),COUNTIF(I$8:I13,"R")&"R",IF($C14="","",IF(AND($C14=I$7,I13<>"",COUNTIF(OFFSET($C13,-$D13,0,1,1):$C13,I$7)>0),"R",IF(AND(I13="P",$C13<>I$7),I12,IF(OR(I13="R",I13="P"),$A13,IF(AND(I13<>"",OR($C14=H$7,$C14=J$7)),"P",IF(AND($C14=I$7,OR(H13<>"",J13<>"")),"P",IF($C14=I$7,$A14,I13))))))))))) | J14: =IF($A15="","",IF(AND($T$2="No",J13<>"",$D13=$I$3,COUNTIF(OFFSET(J13,-($D13-1),0,1,1):J13,"R")=0,COUNTIF(OFFSET(J13,-($D13-1),0,1,1):J13,"")=0),"",IF(AND(J13<>"",$D13=$I$3,COUNTIF(OFFSET(J13,-($D13-1),0,1,1):J13,J13)=$I$3),"",IF(AND($C14="",$C13<>"",COUNTIF(J$8:J13,"R")>0),COUNTIF(J$8:J13,"R")&"R",IF($C14="","",IF(AND($C14=J$7,J13<>"",COUNTIF(OFFSET($C13,-$D13,0,1,1):$C13,J$7)>0),"R",IF(AND(J13="P",$C13<>J$7),J12,IF(OR(J13="R",J13="P"),$A13,IF(AND(J13<>"",OR($C14=I$7,$C14=K$7)),"P",IF(AND($C14=J$7,OR(I13<>"",K13<>"")),"P",IF($C14=J$7,$A14,J13))))))))))) | K14: =IF($A15="","",IF(AND($T$2="No",K13<>"",$D13=$I$3,COUNTIF(OFFSET(K13,-($D13-1),0,1,1):K13,"R")=0,COUNTIF(OFFSET(K13,-($D13-1),0,1,1):K13,"")=0),"",IF(AND(K13<>"",$D13=$I$3,COUNTIF(OFFSET(K13,-($D13-1),0,1,1):K13,K13)=$I$3),"",IF(AND($C14="",$C13<>"",COUNTIF(K$8:K13,"R")>0),COUNTIF(K$8:K13,"R")&"R",IF($C14="","",IF(AND($C14=K$7,K13<>"",COUNTIF(OFFSET($C13,-$D13,0,1,1):$C13,K$7)>0),"R",IF(AND(K13="P",$C13<>K$7),K12,IF(OR(K13="R",K13="P"),$A13,IF(AND(K13<>"",OR($C14=J$7,$C14=L$7)),"P",IF(AND($C14=K$7,OR(J13<>"",L13<>"")),"P",IF($C14=K$7,$A14,K13))))))))))) | L14: =IF($A15="","",IF(AND($T$2="No",L13<>"",$D13=$I$3,COUNTIF(OFFSET(L13,-($D13-1),0,1,1):L13,"R")=0,COUNTIF(OFFSET(L13,-($D13-1),0,1,1):L13,"")=0),"",IF(AND(L13<>"",$D13=$I$3,COUNTIF(OFFSET(L13,-($D13-1),0,1,1):L13,L13)=$I$3),"",IF(AND($C14="",$C13<>"",COUNTIF(L$8:L13,"R")>0),COUNTIF(L$8:L13,"R")&"R",IF($C14="","",IF(AND($C14=L$7,L13<>"",COUNTIF(OFFSET($C13,-$D13,0,1,1):$C13,L$7)>0),"R",IF(AND(L13="P",$C13<>L$7),L12,IF(OR(L13="R",L13="P"),$A13,IF(AND(L13<>"",OR($C14=K$7,$C14=M$7)),"P",IF(AND($C14=L$7,OR(K13<>"",M13<>"")),"P",IF($C14=L$7,$A14,L13))))))))))) | M14: =IF($A15="","",IF(AND($T$2="No",M13<>"",$D13=$I$3,COUNTIF(OFFSET(M13,-($D13-1),0,1,1):M13,"R")=0,COUNTIF(OFFSET(M13,-($D13-1),0,1,1):M13,"")=0),"",IF(AND(M13<>"",$D13=$I$3,COUNTIF(OFFSET(M13,-($D13-1),0,1,1):M13,M13)=$I$3),"",IF(AND($C14="",$C13<>"",COUNTIF(M$8:M13,"R")>0),COUNTIF(M$8:M13,"R")&"R",IF($C14="","",IF(AND($C14=M$7,M13<>"",COUNTIF(OFFSET($C13,-$D13,0,1,1):$C13,M$7)>0),"R",IF(AND(M13="P",$C13<>M$7),M12,IF(OR(M13="R",M13="P"),$A13,IF(AND(M13<>"",OR($C14=L$7,$C14=N$7)),"P",IF(AND($C14=M$7,OR(L13<>"",N13<>"")),"P",IF($C14=M$7,$A14,M13))))))))))) | N14: =IF($A15="","",IF(AND($T$2="No",N13<>"",$D13=$I$3,COUNTIF(OFFSET(N13,-($D13-1),0,1,1):N13,"R")=0,COUNTIF(OFFSET(N13,-($D13-1),0,1,1):N13,"")=0),"",IF(AND(N13<>"",$D13=$I$3,COUNTIF(OFFSET(N13,-($D13-1),0,1,1):N13,N13)=$I$3),"",IF(AND($C14="",$C13<>"",COUNTIF(N$8:N13,"R")>0),COUNTIF(N$8:N13,"R")&"R",IF($C14="","",IF(AND($C14=N$7,N13<>"",COUNTIF(OFFSET($C13,-$D13,0,1,1):$C13,N$7)>0),"R",IF(AND(N13="P",$C13<>N$7),N12,IF(OR(N13="R",N13="P"),$A13,IF(AND(N13<>"",OR($C14=M$7,$C14=O$7)),"P",IF(AND($C14=N$7,OR(M13<>"",O13<>"")),"P",IF($C14=N$7,$A14,N13))))))))))) | O14: =IF($A15="","",IF(AND($T$2="No",O13<>"",$D13=$I$3,COUNTIF(OFFSET(O13,-($D13-1),0,1,1):O13,"R")=0,COUNTIF(OFFSET(O13,-($D13-1),0,1,1):O13,"")=0),"",IF(AND(O13<>"",$D13=$I$3,COUNTIF(OFFSET(O13,-($D13-1),0,1,1):O13,O13)=$I$3),"",IF(AND($C14="",$C13<>"",COUNTIF(O$8:O13,"R")>0),COUNTIF(O$8:O13,"R")&"R",IF($C14="","",IF(AND($C14=O$7,O13<>"",COUNTIF(OFFSET($C13,-$D13,0,1,1):$C13,O$7)>0),"R",IF(AND(O13="P",$C13<>O$7),O12,IF(OR(O13="R",O13="P"),$A13,IF(AND(O13<>"",OR($C14=N$7,$C14=P$7)),"P",IF(AND($C14=O$7,OR(N13<>"",P13<>"")),"P",IF($C14=O$7,$A14,O13))))))))))) | P14: =IF($A15="","",IF(AND($T$2="No",P13<>"",$D13=$I$3,COUNTIF(OFFSET(P13,-($D13-1),0,1,1):P13,"R")=0,COUNTIF(OFFSET(P13,-($D13-1),0,1,1):P13,"")=0),"",IF(AND(P13<>"",$D13=$I$3,COUNTIF(OFFSET(P13,-($D13-1),0,1,1):P13,P13)=$I$3),"",IF(AND($C14="",$C13<>"",COUNTIF(P$8:P13,"R")>0),COUNTIF(P$8:P13,"R")&"R",IF($C14="","",IF(AND($C14=P$7,P13<>"",COUNTIF(OFFSET($C13,-$D13,0,1,1):$C13,P$7)>0),"R",IF(AND(P13="P",$C13<>P$7),P12,IF(OR(P13="R",P13="P"),$A13,IF(AND(P13<>"",OR($C14=O$7,$C14=Q$7)),"P",IF(AND($C14=P$7,OR(O13<>"",Q13<>"")),"P",IF($C14=P$7,$A14,P13))))))))))) | ... AR14: =IF($A15="","",IF(AND($T$2="No",AR13<>"",$D13=$I$3,COUNTIF(OFFSET(AR13,-($D13-1),0,1,1):AR13,"R")=0,COUNTIF(OFFSET(AR13,-($D13-1),0,1,1):AR13,"")=0),"",IF(AND(AR13<>"",$D13=$I$3,COUNTIF(OFFSET(AR13,-($D13-1),0,1,1):AR13,AR13)=$I$3),"",IF(AND($C14="",$C13<>"",COUNTIF(AR$8:AR13,"R")>0),COUNTIF(AR$8:AR13,"R")&"R",IF($C14="","",IF(AND($C14=AR$7,AR13<>"",COUNTIF(OFFSET($C13,-$D13,0,1,1):$C13,AR$7)>0),"R",IF(AND(AR13="P",$C13<>AR$7),AR12,IF(OR(AR13="R",AR13="P"),$A13,IF(AND(AR13<>"",OR($C14=AQ$7,$C14=AS$7)),"P",IF(AND($C14=AR$7,OR(AQ13<>"",AS13<>"")),"P",IF($C14=AR$7,$A14,AR13))))))))))) | AS14: =IF($A15="","",IF(AND($T$2="No",AS13<>"",$D13=$I$3,COUNTIF(OFFSET(AS13,-($D13-1),0,1,1):AS13,"R")=0,COUNTIF(OFFSET(AS13,-($D13-1),0,1,1):AS13,"")=0),"",IF(AND(AS13<>"",$D13=$I$3,COUNTIF(OFFSET($H13,-$D13,0,1,1):AS13,AS13)=$I$3),"",IF(AND($C14="",$C13<>"",COUNTIF(AS$8:AS13,"R")>0),COUNTIF(AS$8:AS13,"R")&"R",IF($C14="","",IF(AND($C14=AS$7,AS13<>"",COUNTIF(OFFSET($C13,$D13,0,1,1):$C13,AS$7)>0),"R",IF(AS13="R",$A13,IF($C14=AS$7,$A14,AS13))))))))
A15: 8 | B15: =IF($I$2="American",LOOKUP(C15,Layout!G:G,Layout!I:I),IF($I$2="European",LOOKUP(C15,Layout!G:G,Layout!H:H),C15)) -> 0 | C15: =IF(I$2="American",RANDBETWEEN(0,37),RANDBETWEEN(0,36)) -> 0 | D15: =IF(A15<I$3,A15,I$3) -> 8 | E15: =IF(COUNTIF(C$8:C14,C15)=0,"",COUNTIF(C$8:C14,C15)) | G15: =IF(OR(LOOKUP(B15,H$6:AR$6,H15:AR15)="P",LOOKUP(B15,H$6:AR$6,H15:AR15)="R"),LOOKUP(B15,H$6:AR$6,H15:AR15),"" ) | H15: =IF($A16="","",IF(AND($T$2="No",H14<>"",$D14=$I$3,COUNTIF(OFFSET(H14,-($D14-1),0,1,1):H14,"R")=0,COUNTIF(OFFSET(H14,-($D14-1),0,1,1):H14,"")=0),"",IF(AND(H14<>"",$D14=$I$3,COUNTIF(OFFSET(H14,-($D14-1),0,1,1):H14,H14)=$I$3),"",IF(AND($C15="",$C14<>"",COUNTIF(H$8:H14,"R")>0),COUNTIF(H$8:H14,"R")&"R",IF($C15="","",IF(AND($C15=H$7,H14<>"",COUNTIF(OFFSET($C14,-$D14,0,1,1):$C14,H$7)>0),"R",IF(AND(H14="P",$C14<>H$7),H13,IF(OR(H14="R",H14="P"),$A14,IF(AND(H14<>"",OR($C15=I$7,$C15=AR$7)),"P",IF(AND($C15=H$7,OR(I14<>"",AR14<>"")),"P",IF($C15=H$7,$A15,H14))))))))))) -> 8 | I15: =IF($A16="","",IF(AND($T$2="No",I14<>"",$D14=$I$3,COUNTIF(OFFSET(I14,-($D14-1),0,1,1):I14,"R")=0,COUNTIF(OFFSET(I14,-($D14-1),0,1,1):I14,"")=0),"",IF(AND(I14<>"",$D14=$I$3,COUNTIF(OFFSET(I14,-($D14-1),0,1,1):I14,I14)=$I$3),"",IF(AND($C15="",$C14<>"",COUNTIF(I$8:I14,"R")>0),COUNTIF(I$8:I14,"R")&"R",IF($C15="","",IF(AND($C15=I$7,I14<>"",COUNTIF(OFFSET($C14,-$D14,0,1,1):$C14,I$7)>0),"R",IF(AND(I14="P",$C14<>I$7),I13,IF(OR(I14="R",I14="P"),$A14,IF(AND(I14<>"",OR($C15=H$7,$C15=J$7)),"P",IF(AND($C15=I$7,OR(H14<>"",J14<>"")),"P",IF($C15=I$7,$A15,I14))))))))))) | J15: =IF($A16="","",IF(AND($T$2="No",J14<>"",$D14=$I$3,COUNTIF(OFFSET(J14,-($D14-1),0,1,1):J14,"R")=0,COUNTIF(OFFSET(J14,-($D14-1),0,1,1):J14,"")=0),"",IF(AND(J14<>"",$D14=$I$3,COUNTIF(OFFSET(J14,-($D14-1),0,1,1):J14,J14)=$I$3),"",IF(AND($C15="",$C14<>"",COUNTIF(J$8:J14,"R")>0),COUNTIF(J$8:J14,"R")&"R",IF($C15="","",IF(AND($C15=J$7,J14<>"",COUNTIF(OFFSET($C14,-$D14,0,1,1):$C14,J$7)>0),"R",IF(AND(J14="P",$C14<>J$7),J13,IF(OR(J14="R",J14="P"),$A14,IF(AND(J14<>"",OR($C15=I$7,$C15=K$7)),"P",IF(AND($C15=J$7,OR(I14<>"",K14<>"")),"P",IF($C15=J$7,$A15,J14))))))))))) | K15: =IF($A16="","",IF(AND($T$2="No",K14<>"",$D14=$I$3,COUNTIF(OFFSET(K14,-($D14-1),0,1,1):K14,"R")=0,COUNTIF(OFFSET(K14,-($D14-1),0,1,1):K14,"")=0),"",IF(AND(K14<>"",$D14=$I$3,COUNTIF(OFFSET(K14,-($D14-1),0,1,1):K14,K14)=$I$3),"",IF(AND($C15="",$C14<>"",COUNTIF(K$8:K14,"R")>0),COUNTIF(K$8:K14,"R")&"R",IF($C15="","",IF(AND($C15=K$7,K14<>"",COUNTIF(OFFSET($C14,-$D14,0,1,1):$C14,K$7)>0),"R",IF(AND(K14="P",$C14<>K$7),K13,IF(OR(K14="R",K14="P"),$A14,IF(AND(K14<>"",OR($C15=J$7,$C15=L$7)),"P",IF(AND($C15=K$7,OR(J14<>"",L14<>"")),"P",IF($C15=K$7,$A15,K14))))))))))) | L15: =IF($A16="","",IF(AND($T$2="No",L14<>"",$D14=$I$3,COUNTIF(OFFSET(L14,-($D14-1),0,1,1):L14,"R")=0,COUNTIF(OFFSET(L14,-($D14-1),0,1,1):L14,"")=0),"",IF(AND(L14<>"",$D14=$I$3,COUNTIF(OFFSET(L14,-($D14-1),0,1,1):L14,L14)=$I$3),"",IF(AND($C15="",$C14<>"",COUNTIF(L$8:L14,"R")>0),COUNTIF(L$8:L14,"R")&"R",IF($C15="","",IF(AND($C15=L$7,L14<>"",COUNTIF(OFFSET($C14,-$D14,0,1,1):$C14,L$7)>0),"R",IF(AND(L14="P",$C14<>L$7),L13,IF(OR(L14="R",L14="P"),$A14,IF(AND(L14<>"",OR($C15=K$7,$C15=M$7)),"P",IF(AND($C15=L$7,OR(K14<>"",M14<>"")),"P",IF($C15=L$7,$A15,L14))))))))))) | M15: =IF($A16="","",IF(AND($T$2="No",M14<>"",$D14=$I$3,COUNTIF(OFFSET(M14,-($D14-1),0,1,1):M14,"R")=0,COUNTIF(OFFSET(M14,-($D14-1),0,1,1):M14,"")=0),"",IF(AND(M14<>"",$D14=$I$3,COUNTIF(OFFSET(M14,-($D14-1),0,1,1):M14,M14)=$I$3),"",IF(AND($C15="",$C14<>"",COUNTIF(M$8:M14,"R")>0),COUNTIF(M$8:M14,"R")&"R",IF($C15="","",IF(AND($C15=M$7,M14<>"",COUNTIF(OFFSET($C14,-$D14,0,1,1):$C14,M$7)>0),"R",IF(AND(M14="P",$C14<>M$7),M13,IF(OR(M14="R",M14="P"),$A14,IF(AND(M14<>"",OR($C15=L$7,$C15=N$7)),"P",IF(AND($C15=M$7,OR(L14<>"",N14<>"")),"P",IF($C15=M$7,$A15,M14))))))))))) | N15: =IF($A16="","",IF(AND($T$2="No",N14<>"",$D14=$I$3,COUNTIF(OFFSET(N14,-($D14-1),0,1,1):N14,"R")=0,COUNTIF(OFFSET(N14,-($D14-1),0,1,1):N14,"")=0),"",IF(AND(N14<>"",$D14=$I$3,COUNTIF(OFFSET(N14,-($D14-1),0,1,1):N14,N14)=$I$3),"",IF(AND($C15="",$C14<>"",COUNTIF(N$8:N14,"R")>0),COUNTIF(N$8:N14,"R")&"R",IF($C15="","",IF(AND($C15=N$7,N14<>"",COUNTIF(OFFSET($C14,-$D14,0,1,1):$C14,N$7)>0),"R",IF(AND(N14="P",$C14<>N$7),N13,IF(OR(N14="R",N14="P"),$A14,IF(AND(N14<>"",OR($C15=M$7,$C15=O$7)),"P",IF(AND($C15=N$7,OR(M14<>"",O14<>"")),"P",IF($C15=N$7,$A15,N14))))))))))) | O15: =IF($A16="","",IF(AND($T$2="No",O14<>"",$D14=$I$3,COUNTIF(OFFSET(O14,-($D14-1),0,1,1):O14,"R")=0,COUNTIF(OFFSET(O14,-($D14-1),0,1,1):O14,"")=0),"",IF(AND(O14<>"",$D14=$I$3,COUNTIF(OFFSET(O14,-($D14-1),0,1,1):O14,O14)=$I$3),"",IF(AND($C15="",$C14<>"",COUNTIF(O$8:O14,"R")>0),COUNTIF(O$8:O14,"R")&"R",IF($C15="","",IF(AND($C15=O$7,O14<>"",COUNTIF(OFFSET($C14,-$D14,0,1,1):$C14,O$7)>0),"R",IF(AND(O14="P",$C14<>O$7),O13,IF(OR(O14="R",O14="P"),$A14,IF(AND(O14<>"",OR($C15=N$7,$C15=P$7)),"P",IF(AND($C15=O$7,OR(N14<>"",P14<>"")),"P",IF($C15=O$7,$A15,O14))))))))))) | P15: =IF($A16="","",IF(AND($T$2="No",P14<>"",$D14=$I$3,COUNTIF(OFFSET(P14,-($D14-1),0,1,1):P14,"R")=0,COUNTIF(OFFSET(P14,-($D14-1),0,1,1):P14,"")=0),"",IF(AND(P14<>"",$D14=$I$3,COUNTIF(OFFSET(P14,-($D14-1),0,1,1):P14,P14)=$I$3),"",IF(AND($C15="",$C14<>"",COUNTIF(P$8:P14,"R")>0),COUNTIF(P$8:P14,"R")&"R",IF($C15="","",IF(AND($C15=P$7,P14<>"",COUNTIF(OFFSET($C14,-$D14,0,1,1):$C14,P$7)>0),"R",IF(AND(P14="P",$C14<>P$7),P13,IF(OR(P14="R",P14="P"),$A14,IF(AND(P14<>"",OR($C15=O$7,$C15=Q$7)),"P",IF(AND($C15=P$7,OR(O14<>"",Q14<>"")),"P",IF($C15=P$7,$A15,P14))))))))))) | ... AR15: =IF($A16="","",IF(AND($T$2="No",AR14<>"",$D14=$I$3,COUNTIF(OFFSET(AR14,-($D14-1),0,1,1):AR14,"R")=0,COUNTIF(OFFSET(AR14,-($D14-1),0,1,1):AR14,"")=0),"",IF(AND(AR14<>"",$D14=$I$3,COUNTIF(OFFSET(AR14,-($D14-1),0,1,1):AR14,AR14)=$I$3),"",IF(AND($C15="",$C14<>"",COUNTIF(AR$8:AR14,"R")>0),COUNTIF(AR$8:AR14,"R")&"R",IF($C15="","",IF(AND($C15=AR$7,AR14<>"",COUNTIF(OFFSET($C14,-$D14,0,1,1):$C14,AR$7)>0),"R",IF(AND(AR14="P",$C14<>AR$7),AR13,IF(OR(AR14="R",AR14="P"),$A14,IF(AND(AR14<>"",OR($C15=AQ$7,$C15=AS$7)),"P",IF(AND($C15=AR$7,OR(AQ14<>"",AS14<>"")),"P",IF($C15=AR$7,$A15,AR14))))))))))) | AS15: =IF($A16="","",IF(AND($T$2="No",AS14<>"",$D14=$I$3,COUNTIF(OFFSET(AS14,-($D14-1),0,1,1):AS14,"R")=0,COUNTIF(OFFSET(AS14,-($D14-1),0,1,1):AS14,"")=0),"",IF(AND(AS14<>"",$D14=$I$3,COUNTIF(OFFSET($H14,-$D14,0,1,1):AS14,AS14)=$I$3),"",IF(AND($C15="",$C14<>"",COUNTIF(AS$8:AS14,"R")>0),COUNTIF(AS$8:AS14,"R")&"R",IF($C15="","",IF(AND($C15=AS$7,AS14<>"",COUNTIF(OFFSET($C14,$D14,0,1,1):$C14,AS$7)>0),"R",IF(AS14="R",$A14,IF($C15=AS$7,$A15,AS14))))))))
A16: 9 | B16: =IF($I$2="American",LOOKUP(C16,Layout!G:G,Layout!I:I),IF($I$2="European",LOOKUP(C16,Layout!G:G,Layout!H:H),C16)) -> 17 | C16: =IF(I$2="American",RANDBETWEEN(0,37),RANDBETWEEN(0,36)) -> 17 | D16: =IF(A16<I$3,A16,I$3) -> 8 | E16: =IF(COUNTIF(C$8:C15,C16)=0,"",COUNTIF(C$8:C15,C16)) | G16: =IF(OR(LOOKUP(B16,H$6:AR$6,H16:AR16)="P",LOOKUP(B16,H$6:AR$6,H16:AR16)="R"),LOOKUP(B16,H$6:AR$6,H16:AR16),"" ) | H16: =IF($A17="","",IF(AND($T$2="No",H15<>"",$D15=$I$3,COUNTIF(OFFSET(H15,-($D15-1),0,1,1):H15,"R")=0,COUNTIF(OFFSET(H15,-($D15-1),0,1,1):H15,"")=0),"",IF(AND(H15<>"",$D15=$I$3,COUNTIF(OFFSET(H15,-($D15-1),0,1,1):H15,H15)=$I$3),"",IF(AND($C16="",$C15<>"",COUNTIF(H$8:H15,"R")>0),COUNTIF(H$8:H15,"R")&"R",IF($C16="","",IF(AND($C16=H$7,H15<>"",COUNTIF(OFFSET($C15,-$D15,0,1,1):$C15,H$7)>0),"R",IF(AND(H15="P",$C15<>H$7),H14,IF(OR(H15="R",H15="P"),$A15,IF(AND(H15<>"",OR($C16=I$7,$C16=AR$7)),"P",IF(AND($C16=H$7,OR(I15<>"",AR15<>"")),"P",IF($C16=H$7,$A16,H15))))))))))) -> 8 | I16: =IF($A17="","",IF(AND($T$2="No",I15<>"",$D15=$I$3,COUNTIF(OFFSET(I15,-($D15-1),0,1,1):I15,"R")=0,COUNTIF(OFFSET(I15,-($D15-1),0,1,1):I15,"")=0),"",IF(AND(I15<>"",$D15=$I$3,COUNTIF(OFFSET(I15,-($D15-1),0,1,1):I15,I15)=$I$3),"",IF(AND($C16="",$C15<>"",COUNTIF(I$8:I15,"R")>0),COUNTIF(I$8:I15,"R")&"R",IF($C16="","",IF(AND($C16=I$7,I15<>"",COUNTIF(OFFSET($C15,-$D15,0,1,1):$C15,I$7)>0),"R",IF(AND(I15="P",$C15<>I$7),I14,IF(OR(I15="R",I15="P"),$A15,IF(AND(I15<>"",OR($C16=H$7,$C16=J$7)),"P",IF(AND($C16=I$7,OR(H15<>"",J15<>"")),"P",IF($C16=I$7,$A16,I15))))))))))) | J16: =IF($A17="","",IF(AND($T$2="No",J15<>"",$D15=$I$3,COUNTIF(OFFSET(J15,-($D15-1),0,1,1):J15,"R")=0,COUNTIF(OFFSET(J15,-($D15-1),0,1,1):J15,"")=0),"",IF(AND(J15<>"",$D15=$I$3,COUNTIF(OFFSET(J15,-($D15-1),0,1,1):J15,J15)=$I$3),"",IF(AND($C16="",$C15<>"",COUNTIF(J$8:J15,"R")>0),COUNTIF(J$8:J15,"R")&"R",IF($C16="","",IF(AND($C16=J$7,J15<>"",COUNTIF(OFFSET($C15,-$D15,0,1,1):$C15,J$7)>0),"R",IF(AND(J15="P",$C15<>J$7),J14,IF(OR(J15="R",J15="P"),$A15,IF(AND(J15<>"",OR($C16=I$7,$C16=K$7)),"P",IF(AND($C16=J$7,OR(I15<>"",K15<>"")),"P",IF($C16=J$7,$A16,J15))))))))))) | K16: =IF($A17="","",IF(AND($T$2="No",K15<>"",$D15=$I$3,COUNTIF(OFFSET(K15,-($D15-1),0,1,1):K15,"R")=0,COUNTIF(OFFSET(K15,-($D15-1),0,1,1):K15,"")=0),"",IF(AND(K15<>"",$D15=$I$3,COUNTIF(OFFSET(K15,-($D15-1),0,1,1):K15,K15)=$I$3),"",IF(AND($C16="",$C15<>"",COUNTIF(K$8:K15,"R")>0),COUNTIF(K$8:K15,"R")&"R",IF($C16="","",IF(AND($C16=K$7,K15<>"",COUNTIF(OFFSET($C15,-$D15,0,1,1):$C15,K$7)>0),"R",IF(AND(K15="P",$C15<>K$7),K14,IF(OR(K15="R",K15="P"),$A15,IF(AND(K15<>"",OR($C16=J$7,$C16=L$7)),"P",IF(AND($C16=K$7,OR(J15<>"",L15<>"")),"P",IF($C16=K$7,$A16,K15))))))))))) | L16: =IF($A17="","",IF(AND($T$2="No",L15<>"",$D15=$I$3,COUNTIF(OFFSET(L15,-($D15-1),0,1,1):L15,"R")=0,COUNTIF(OFFSET(L15,-($D15-1),0,1,1):L15,"")=0),"",IF(AND(L15<>"",$D15=$I$3,COUNTIF(OFFSET(L15,-($D15-1),0,1,1):L15,L15)=$I$3),"",IF(AND($C16="",$C15<>"",COUNTIF(L$8:L15,"R")>0),COUNTIF(L$8:L15,"R")&"R",IF($C16="","",IF(AND($C16=L$7,L15<>"",COUNTIF(OFFSET($C15,-$D15,0,1,1):$C15,L$7)>0),"R",IF(AND(L15="P",$C15<>L$7),L14,IF(OR(L15="R",L15="P"),$A15,IF(AND(L15<>"",OR($C16=K$7,$C16=M$7)),"P",IF(AND($C16=L$7,OR(K15<>"",M15<>"")),"P",IF($C16=L$7,$A16,L15))))))))))) | M16: =IF($A17="","",IF(AND($T$2="No",M15<>"",$D15=$I$3,COUNTIF(OFFSET(M15,-($D15-1),0,1,1):M15,"R")=0,COUNTIF(OFFSET(M15,-($D15-1),0,1,1):M15,"")=0),"",IF(AND(M15<>"",$D15=$I$3,COUNTIF(OFFSET(M15,-($D15-1),0,1,1):M15,M15)=$I$3),"",IF(AND($C16="",$C15<>"",COUNTIF(M$8:M15,"R")>0),COUNTIF(M$8:M15,"R")&"R",IF($C16="","",IF(AND($C16=M$7,M15<>"",COUNTIF(OFFSET($C15,-$D15,0,1,1):$C15,M$7)>0),"R",IF(AND(M15="P",$C15<>M$7),M14,IF(OR(M15="R",M15="P"),$A15,IF(AND(M15<>"",OR($C16=L$7,$C16=N$7)),"P",IF(AND($C16=M$7,OR(L15<>"",N15<>"")),"P",IF($C16=M$7,$A16,M15))))))))))) | N16: =IF($A17="","",IF(AND($T$2="No",N15<>"",$D15=$I$3,COUNTIF(OFFSET(N15,-($D15-1),0,1,1):N15,"R")=0,COUNTIF(OFFSET(N15,-($D15-1),0,1,1):N15,"")=0),"",IF(AND(N15<>"",$D15=$I$3,COUNTIF(OFFSET(N15,-($D15-1),0,1,1):N15,N15)=$I$3),"",IF(AND($C16="",$C15<>"",COUNTIF(N$8:N15,"R")>0),COUNTIF(N$8:N15,"R")&"R",IF($C16="","",IF(AND($C16=N$7,N15<>"",COUNTIF(OFFSET($C15,-$D15,0,1,1):$C15,N$7)>0),"R",IF(AND(N15="P",$C15<>N$7),N14,IF(OR(N15="R",N15="P"),$A15,IF(AND(N15<>"",OR($C16=M$7,$C16=O$7)),"P",IF(AND($C16=N$7,OR(M15<>"",O15<>"")),"P",IF($C16=N$7,$A16,N15))))))))))) | O16: =IF($A17="","",IF(AND($T$2="No",O15<>"",$D15=$I$3,COUNTIF(OFFSET(O15,-($D15-1),0,1,1):O15,"R")=0,COUNTIF(OFFSET(O15,-($D15-1),0,1,1):O15,"")=0),"",IF(AND(O15<>"",$D15=$I$3,COUNTIF(OFFSET(O15,-($D15-1),0,1,1):O15,O15)=$I$3),"",IF(AND($C16="",$C15<>"",COUNTIF(O$8:O15,"R")>0),COUNTIF(O$8:O15,"R")&"R",IF($C16="","",IF(AND($C16=O$7,O15<>"",COUNTIF(OFFSET($C15,-$D15,0,1,1):$C15,O$7)>0),"R",IF(AND(O15="P",$C15<>O$7),O14,IF(OR(O15="R",O15="P"),$A15,IF(AND(O15<>"",OR($C16=N$7,$C16=P$7)),"P",IF(AND($C16=O$7,OR(N15<>"",P15<>"")),"P",IF($C16=O$7,$A16,O15))))))))))) | P16: =IF($A17="","",IF(AND($T$2="No",P15<>"",$D15=$I$3,COUNTIF(OFFSET(P15,-($D15-1),0,1,1):P15,"R")=0,COUNTIF(OFFSET(P15,-($D15-1),0,1,1):P15,"")=0),"",IF(AND(P15<>"",$D15=$I$3,COUNTIF(OFFSET(P15,-($D15-1),0,1,1):P15,P15)=$I$3),"",IF(AND($C16="",$C15<>"",COUNTIF(P$8:P15,"R")>0),COUNTIF(P$8:P15,"R")&"R",IF($C16="","",IF(AND($C16=P$7,P15<>"",COUNTIF(OFFSET($C15,-$D15,0,1,1):$C15,P$7)>0),"R",IF(AND(P15="P",$C15<>P$7),P14,IF(OR(P15="R",P15="P"),$A15,IF(AND(P15<>"",OR($C16=O$7,$C16=Q$7)),"P",IF(AND($C16=P$7,OR(O15<>"",Q15<>"")),"P",IF($C16=P$7,$A16,P15))))))))))) | ... AR16: =IF($A17="","",IF(AND($T$2="No",AR15<>"",$D15=$I$3,COUNTIF(OFFSET(AR15,-($D15-1),0,1,1):AR15,"R")=0,COUNTIF(OFFSET(AR15,-($D15-1),0,1,1):AR15,"")=0),"",IF(AND(AR15<>"",$D15=$I$3,COUNTIF(OFFSET(AR15,-($D15-1),0,1,1):AR15,AR15)=$I$3),"",IF(AND($C16="",$C15<>"",COUNTIF(AR$8:AR15,"R")>0),COUNTIF(AR$8:AR15,"R")&"R",IF($C16="","",IF(AND($C16=AR$7,AR15<>"",COUNTIF(OFFSET($C15,-$D15,0,1,1):$C15,AR$7)>0),"R",IF(AND(AR15="P",$C15<>AR$7),AR14,IF(OR(AR15="R",AR15="P"),$A15,IF(AND(AR15<>"",OR($C16=AQ$7,$C16=AS$7)),"P",IF(AND($C16=AR$7,OR(AQ15<>"",AS15<>"")),"P",IF($C16=AR$7,$A16,AR15))))))))))) | AS16: =IF($A17="","",IF(AND($T$2="No",AS15<>"",$D15=$I$3,COUNTIF(OFFSET(AS15,-($D15-1),0,1,1):AS15,"R")=0,COUNTIF(OFFSET(AS15,-($D15-1),0,1,1):AS15,"")=0),"",IF(AND(AS15<>"",$D15=$I$3,COUNTIF(OFFSET($H15,-$D15,0,1,1):AS15,AS15)=$I$3),"",IF(AND($C16="",$C15<>"",COUNTIF(AS$8:AS15,"R")>0),COUNTIF(AS$8:AS15,"R")&"R",IF($C16="","",IF(AND($C16=AS$7,AS15<>"",COUNTIF(OFFSET($C15,$D15,0,1,1):$C15,AS$7)>0),"R",IF(AS15="R",$A15,IF($C16=AS$7,$A16,AS15))))))))
