Workbook

Sheet Sheet1
A1: Random stream | B1: H/L | E1: H
A2: 30 | B2: =IF(A2>18,"H",IF(A2=0,0,"L")) -> H | E2: H | F2: =IF(E2=E1,1,-1) -> 1
A3: 13 | B3: =IF(A3>18,"H",IF(A3=0,0,"L")) -> L | E3: H | F3: =IF(E3=E2,1,-1) -> 1 | G3: =SUM($F$2:F3) -> 2
A4: 20 | B4: =IF(A4>18,"H",IF(A4=0,0,"L")) -> H | E4: 0 | F4: =IF(E4=E3,1,-1) -> -1 | G4: =SUM($F$2:F4) -> 1
A5: 34 | B5: =IF(A5>18,"H",IF(A5=0,0,"L")) -> H | E5: L | F5: =IF(E5=E4,1,-1) -> -1 | G5: =SUM($F$2:F5) -> 0
A6: 6 | B6: =IF(A6>18,"H",IF(A6=0,0,"L")) -> L | E6: H | F6: =IF(E6=E5,1,-1) -> -1 | G6: =SUM($F$2:F6) -> -1
A7: 22 | B7: =IF(A7>18,"H",IF(A7=0,0,"L")) -> H | E7: H | F7: =IF(E7=E6,1,-1) -> 1 | G7: =SUM($F$2:F7) -> 0
A8: 26 | B8: =IF(A8>18,"H",IF(A8=0,0,"L")) -> H | E8: L | F8: =IF(E8=E7,1,-1) -> -1 | G8: =SUM($F$2:F8) -> -1
A9: 32 | B9: =IF(A9>18,"H",IF(A9=0,0,"L")) -> H | E9: L | F9: =IF(E9=E8,1,-1) -> 1 | G9: =SUM($F$2:F9) -> 0
A10: 22 | B10: =IF(A10>18,"H",IF(A10=0,0,"L")) -> H | E10: L | F10: =IF(E10=E9,1,-1) -> 1 | G10: =SUM($F$2:F10) -> 1
A11: 12 | B11: =IF(A11>18,"H",IF(A11=0,0,"L")) -> L | E11: L | F11: =IF(E11=E10,1,-1) -> 1 | G11: =SUM($F$2:F11) -> 2
A12: 5 | B12: =IF(A12>18,"H",IF(A12=0,0,"L")) -> L | E12: H | F12: =IF(E12=E11,1,-1) -> -1 | G12: =SUM($F$2:F12) -> 1
A13: 33 | B13: =IF(A13>18,"H",IF(A13=0,0,"L")) -> H | E13: L | F13: =IF(E13=E12,1,-1) -> -1 | G13: =SUM($F$2:F13) -> 0
A14: 19 | B14: =IF(A14>18,"H",IF(A14=0,0,"L")) -> H | E14: L | F14: =IF(E14=E13,1,-1) -> 1 | G14: =SUM($F$2:F14) -> 1
A15: 32 | B15: =IF(A15>18,"H",IF(A15=0,0,"L")) -> H | E15: L | F15: =IF(E15=E14,1,-1) -> 1 | G15: =SUM($F$2:F15) -> 2
A16: 35 | B16: =IF(A16>18,"H",IF(A16=0,0,"L")) -> H | E16: H | F16: =IF(E16=E15,1,-1) -> -1 | G16: =SUM($F$2:F16) -> 1
... A67: 20 | B67: =IF(A67>18,"H",IF(A67=0,0,"L")) -> H | E67: L | F67: =IF(E67=E66,1,-1) -> 1 | G67: =SUM($F$2:F67) -> 18
A68: 28 | B68: =IF(A68>18,"H",IF(A68=0,0,"L")) -> H | E68: 0 | F68: =IF(E68=E67,1,-1) -> -1 | G68: =SUM($F$2:F68) -> 17
A69: 6 | B69: =IF(A69>18,"H",IF(A69=0,0,"L")) -> L | E69: L | F69: =IF(E69=E68,1,-1) -> -1 | G69: =SUM($F$2:F69) -> 16
A70: 11 | B70: =IF(A70>18,"H",IF(A70=0,0,"L")) -> L | E70: L | F70: =IF(E70=E69,1,-1) -> 1 | G70: =SUM($F$2:F70) -> 17
A71: 15 | B71: =IF(A71>18,"H",IF(A71=0,0,"L")) -> L | E71: H | F71: =IF(E71=E70,1,-1) -> -1 | G71: =SUM($F$2:F71) -> 16
A72: 17 | B72: =IF(A72>18,"H",IF(A72=0,0,"L")) -> L | E72: L | F72: =IF(E72=E71,1,-1) -> -1 | G72: =SUM($F$2:F72) -> 15
A73: 3 | B73: =IF(A73>18,"H",IF(A73=0,0,"L")) -> L | E73: L | F73: =IF(E73=E72,1,-1) -> 1 | G73: =SUM($F$2:F73) -> 16
A74: 7 | B74: =IF(A74>18,"H",IF(A74=0,0,"L")) -> L | E74: L | F74: =IF(E74=E73,1,-1) -> 1 | G74: =SUM($F$2:F74) -> 17
A75: 30 | B75: =IF(A75>18,"H",IF(A75=0,0,"L")) -> H | E75: L | F75: =IF(E75=E74,1,-1) -> 1 | G75: =SUM($F$2:F75) -> 18
A76: 11 | B76: =IF(A76>18,"H",IF(A76=0,0,"L")) -> L | E76: L | F76: =IF(E76=E75,1,-1) -> 1 | G76: =SUM($F$2:F76) -> 19
A77: 15 | B77: =IF(A77>18,"H",IF(A77=0,0,"L")) -> L | E77: L | F77: =IF(E77=E76,1,-1) -> 1 | G77: =SUM($F$2:F77) -> 20
A78: 27 | B78: =IF(A78>18,"H",IF(A78=0,0,"L")) -> H | E78: H | F78: =IF(E78=E77,1,-1) -> -1 | G78: =SUM($F$2:F78) -> 19
A79: 22 | B79: =IF(A79>18,"H",IF(A79=0,0,"L")) -> H | E79: H | F79: =IF(E79=E78,1,-1) -> 1 | G79: =SUM($F$2:F79) -> 20
A80: 2 | B80: =IF(A80>18,"H",IF(A80=0,0,"L")) -> L | E80: H | F80: =IF(E80=E79,1,-1) -> 1 | G80: =SUM($F$2:F80) -> 21
... A113: 25 | B113: =IF(A113>18,"H",IF(A113=0,0,"L")) -> H | E113: L | F113: =IF(E113=E112,1,-1) -> 1 | G113: =SUM($F$2:F113) -> 24
A114: 1 | B114: =IF(A114>18,"H",IF(A114=0,0,"L")) -> L | E114: 0 | F114: =IF(E114=E113,1,-1) -> -1 | G114: =SUM($F$2:F114) -> 23
A115: 5 | B115: =IF(A115>18,"H",IF(A115=0,0,"L")) -> L | E115: L | F115: =IF(E115=E114,1,-1) -> -1 | G115: =SUM($F$2:F115) -> 22
A116: 23 | B116: =IF(A116>18,"H",IF(A116=0,0,"L")) -> H | E116: L | F116: =IF(E116=E115,1,-1) -> 1 | G116: =SUM($F$2:F116) -> 23
A117: 17 | B117: =IF(A117>18,"H",IF(A117=0,0,"L")) -> L | E117: H | F117: =IF(E117=E116,1,-1) -> -1 | G117: =SUM($F$2:F117) -> 22
A118: 34 | B118: =IF(A118>18,"H",IF(A118=0,0,"L")) -> H | E118: L | F118: =IF(E118=E117,1,-1) -> -1 | G118: =SUM($F$2:F118) -> 21
A119: 9 | B119: =IF(A119>18,"H",IF(A119=0,0,"L")) -> L | E119: L | F119: =IF(E119=E118,1,-1) -> 1 | G119: =SUM($F$2:F119) -> 22
A120: 33 | B120: =IF(A120>18,"H",IF(A120=0,0,"L")) -> H | E120: L | F120: =IF(E120=E119,1,-1) -> 1 | G120: =SUM($F$2:F120) -> 23
A121: 1 | B121: =IF(A121>18,"H",IF(A121=0,0,"L")) -> L | E121: L | F121: =IF(E121=E120,1,-1) -> 1 | G121: =SUM($F$2:F121) -> 24
A122: 28 | B122: =IF(A122>18,"H",IF(A122=0,0,"L")) -> H | E122: L | F122: =IF(E122=E121,1,-1) -> 1 | G122: =SUM($F$2:F122) -> 25
...

Sheet Sheet2

Sheet Sheet3

Sheet .
A1: =TEXT(Sheet1!A2,"#00") -> 30 | B1: =A1 -> 30 | C1: =LEN(B1) -> 2 | D1: =IF(C1=2,":)","") -> :)
A2: =TEXT(Sheet1!A3,"#00") -> 13 | B2: =IF(ISNUMBER(FIND(A2,B1)),A2,A2&","&B1) -> 13,30 | C2: =LEN(B2) -> 5 | D2: =IF(C2=2,":)","")
A3: =TEXT(Sheet1!A4,"#00") -> 20 | B3: =IF(ISNUMBER(FIND(A3,B2)),A3,A3&","&B2) -> 20,13,30 | C3: =LEN(B3) -> 8 | D3: =IF(C3=2,":)","")
A4: =TEXT(Sheet1!A5,"#00") -> 34 | B4: =IF(ISNUMBER(FIND(A4,B3)),A4,A4&","&B3) -> 34,20,13,30 | C4: =LEN(B4) -> 11 | D4: =IF(C4=2,":)","")
A5: =TEXT(Sheet1!A6,"#00") -> 06 | B5: =IF(ISNUMBER(FIND(A5,B4)),A5,A5&","&B4) -> 06,34,20,13,30 | C5: =LEN(B5) -> 14 | D5: =IF(C5=2,":)","")
A6: =TEXT(Sheet1!A7,"#00") -> 22 | B6: =IF(ISNUMBER(FIND(A6,B5)),A6,A6&","&B5) -> 22,06,34,20,13,30 | C6: =LEN(B6) -> 17 | D6: =IF(C6=2,":)","")
A7: =TEXT(Sheet1!A8,"#00") -> 26 | B7: =IF(ISNUMBER(FIND(A7,B6)),A7,A7&","&B6) -> 26,22,06,34,20,13,30 | C7: =LEN(B7) -> 20 | D7: =IF(C7=2,":)","")
A8: =TEXT(Sheet1!A9,"#00") -> 32 | B8: =IF(ISNUMBER(FIND(A8,B7)),A8,A8&","&B7) -> 32,26,22,06,34,20,13,30 | C8: =LEN(B8) -> 23 | D8: =IF(C8=2,":)","")
A9: =TEXT(Sheet1!A10,"#00") -> 22 | B9: =IF(ISNUMBER(FIND(A9,B8)),A9,A9&","&B8) -> 22 | C9: =LEN(B9) -> 2 | D9: =IF(C9=2,":)","") -> :)
A10: =TEXT(Sheet1!A11,"#00") -> 12 | B10: =IF(ISNUMBER(FIND(A10,B9)),A10,A10&","&B9) -> 12,22 | C10: =LEN(B10) -> 5 | D10: =IF(C10=2,":)","")
A11: =TEXT(Sheet1!A12,"#00") -> 05 | B11: =IF(ISNUMBER(FIND(A11,B10)),A11,A11&","&B10) -> 05,12,22 | C11: =LEN(B11) -> 8 | D11: =IF(C11=2,":)","")
A12: =TEXT(Sheet1!A13,"#00") -> 33 | B12: =IF(ISNUMBER(FIND(A12,B11)),A12,A12&","&B11) -> 33,05,12,22 | C12: =LEN(B12) -> 11 | D12: =IF(C12=2,":)","")
A13: =TEXT(Sheet1!A14,"#00") -> 19 | B13: =IF(ISNUMBER(FIND(A13,B12)),A13,A13&","&B12) -> 19,33,05,12,22 | C13: =LEN(B13) -> 14 | D13: =IF(C13=2,":)","")
... A20201: =TEXT(Sheet1!A20202,"#00") -> 00 | B20201: =IF(ISNUMBER(FIND(A20201,B20200)),A20201,A20201&","&B20200) -> 00 | C20201: =LEN(B20201) -> 2 | D20201: =IF(C20201=2,":)","") -> :)
