Workbook

Sheet Sheet1
A1: Random stream | B1: H/L | E1: H
A2: 30 | B2: =IF(A2>18,"H",IF(A2=0,0,"L")) -> H | E2: H | F2: =IF(E2=E1,1,-1) -> 1
A3: 13 | B3: =IF(A3>18,"H",IF(A3=0,0,"L")) -> L | E3: H | F3: =IF(E3=E2,1,-1) -> 1 | G3: =SUM($F$2:F3) -> 2
A4: 20 | B4: =IF(A4>18,"H",IF(A4=0,0,"L")) -> H | E4: 0 | F4: =IF(E4=E3,1,-1) -> -1 | G4: =SUM($F$2:F4) -> 1
A5: 34 | B5: =IF(A5>18,"H",IF(A5=0,0,"L")) -> H | E5: L | F5: =IF(E5=E4,1,-1) -> -1 | G5: =SUM($F$2:F5) -> 0
A6: 6 | B6: =IF(A6>18,"H",IF(A6=0,0,"L")) -> L | E6: H | F6: =IF(E6=E5,1,-1) -> -1 | G6: =SUM($F$2:F6) -> -1
A7: 22 | B7: =IF(A7>18,"H",IF(A7=0,0,"L")) -> H | E7: H | F7: =IF(E7=E6,1,-1) -> 1 | G7: =SUM($F$2:F7) -> 0
A8: 26 | B8: =IF(A8>18,"H",IF(A8=0,0,"L")) -> H | E8: L | F8: =IF(E8=E7,1,-1) -> -1 | G8: =SUM($F$2:F8) -> -1
A9: 32 | B9: =IF(A9>18,"H",IF(A9=0,0,"L")) -> H | E9: L | F9: =IF(E9=E8,1,-1) -> 1 | G9: =SUM($F$2:F9) -> 0
A10: 22 | B10: =IF(A10>18,"H",IF(A10=0,0,"L")) -> H | E10: L | F10: =IF(E10=E9,1,-1) -> 1 | G10: =SUM($F$2:F10) -> 1
A11: 12 | B11: =IF(A11>18,"H",IF(A11=0,0,"L")) -> L | E11: L | F11: =IF(E11=E10,1,-1) -> 1 | G11: =SUM($F$2:F11) -> 2
A12: 5 | B12: =IF(A12>18,"H",IF(A12=0,0,"L")) -> L | E12: H | F12: =IF(E12=E11,1,-1) -> -1 | G12: =SUM($F$2:F12) -> 1
A13: 33 | B13: =IF(A13>18,"H",IF(A13=0,0,"L")) -> H | E13: L | F13: =IF(E13=E12,1,-1) -> -1 | G13: =SUM($F$2:F13) -> 0
A14: 19 | B14: =IF(A14>18,"H",IF(A14=0,0,"L")) -> H | E14: L | F14: =IF(E14=E13,1,-1) -> 1 | G14: =SUM($F$2:F14) -> 1
A15: 32 | B15: =IF(A15>18,"H",IF(A15=0,0,"L")) -> H | E15: L | F15: =IF(E15=E14,1,-1) -> 1 | G15: =SUM($F$2:F15) -> 2
A16: 35 | B16: =IF(A16>18,"H",IF(A16=0,0,"L")) -> H | E16: H | F16: =IF(E16=E15,1,-1) -> -1 | G16: =SUM($F$2:F16) -> 1
... A67: 20 | B67: =IF(A67>18,"H",IF(A67=0,0,"L")) -> H | E67: L | F67: =IF(E67=E66,1,-1) -> 1 | G67: =SUM($F$2:F67) -> 18
A68: 28 | B68: =IF(A68>18,"H",IF(A68=0,0,"L")) -> H | E68: 0 | F68: =IF(E68=E67,1,-1) -> -1 | G68: =SUM($F$2:F68) -> 17
A69: 6 | B69: =IF(A69>18,"H",IF(A69=0,0,"L")) -> L | E69: L | F69: =IF(E69=E68,1,-1) -> -1 | G69: =SUM($F$2:F69) -> 16
A70: 11 | B70: =IF(A70>18,"H",IF(A70=0,0,"L")) -> L | E70: L | F70: =IF(E70=E69,1,-1) -> 1 | G70: =SUM($F$2:F70) -> 17
A71: 15 | B71: =IF(A71>18,"H",IF(A71=0,0,"L")) -> L | E71: H | F71: =IF(E71=E70,1,-1) -> -1 | G71: =SUM($F$2:F71) -> 16
A72: 17 | B72: =IF(A72>18,"H",IF(A72=0,0,"L")) -> L | E72: L | F72: =IF(E72=E71,1,-1) -> -1 | G72: =SUM($F$2:F72) -> 15
A73: 3 | B73: =IF(A73>18,"H",IF(A73=0,0,"L")) -> L | E73: L | F73: =IF(E73=E72,1,-1) -> 1 | G73: =SUM($F$2:F73) -> 16
A74: 7 | B74: =IF(A74>18,"H",IF(A74=0,0,"L")) -> L | E74: L | F74: =IF(E74=E73,1,-1) -> 1 | G74: =SUM($F$2:F74) -> 17
A75: 30 | B75: =IF(A75>18,"H",IF(A75=0,0,"L")) -> H | E75: L | F75: =IF(E75=E74,1,-1) -> 1 | G75: =SUM($F$2:F75) -> 18
A76: 11 | B76: =IF(A76>18,"H",IF(A76=0,0,"L")) -> L | E76: L | F76: =IF(E76=E75,1,-1) -> 1 | G76: =SUM($F$2:F76) -> 19
A77: 15 | B77: =IF(A77>18,"H",IF(A77=0,0,"L")) -> L | E77: L | F77: =IF(E77=E76,1,-1) -> 1 | G77: =SUM($F$2:F77) -> 20
A78: 27 | B78: =IF(A78>18,"H",IF(A78=0,0,"L")) -> H | E78: H | F78: =IF(E78=E77,1,-1) -> -1 | G78: =SUM($F$2:F78) -> 19
A79: 22 | B79: =IF(A79>18,"H",IF(A79=0,0,"L")) -> H | E79: H | F79: =IF(E79=E78,1,-1) -> 1 | G79: =SUM($F$2:F79) -> 20
A80: 2 | B80: =IF(A80>18,"H",IF(A80=0,0,"L")) -> L | E80: H | F80: =IF(E80=E79,1,-1) -> 1 | G80: =SUM($F$2:F80) -> 21
... A113: 25 | B113: =IF(A113>18,"H",IF(A113=0,0,"L")) -> H | E113: L | F113: =IF(E113=E112,1,-1) -> 1 | G113: =SUM($F$2:F113) -> 24
A114: 1 | B114: =IF(A114>18,"H",IF(A114=0,0,"L")) -> L | E114: 0 | F114: =IF(E114=E113,1,-1) -> -1 | G114: =SUM($F$2:F114) -> 23
A115: 5 | B115: =IF(A115>18,"H",IF(A115=0,0,"L")) -> L | E115: L | F115: =IF(E115=E114,1,-1) -> -1 | G115: =SUM($F$2:F115) -> 22
A116: 23 | B116: =IF(A116>18,"H",IF(A116=0,0,"L")) -> H | E116: L | F116: =IF(E116=E115,1,-1) -> 1 | G116: =SUM($F$2:F116) -> 23
A117: 17 | B117: =IF(A117>18,"H",IF(A117=0,0,"L")) -> L | E117: H | F117: =IF(E117=E116,1,-1) -> -1 | G117: =SUM($F$2:F117) -> 22
A118: 34 | B118: =IF(A118>18,"H",IF(A118=0,0,"L")) -> H | E118: L | F118: =IF(E118=E117,1,-1) -> -1 | G118: =SUM($F$2:F118) -> 21
A119: 9 | B119: =IF(A119>18,"H",IF(A119=0,0,"L")) -> L | E119: L | F119: =IF(E119=E118,1,-1) -> 1 | G119: =SUM($F$2:F119) -> 22
A120: 33 | B120: =IF(A120>18,"H",IF(A120=0,0,"L")) -> H | E120: L | F120: =IF(E120=E119,1,-1) -> 1 | G120: =SUM($F$2:F120) -> 23
A121: 1 | B121: =IF(A121>18,"H",IF(A121=0,0,"L")) -> L | E121: L | F121: =IF(E121=E120,1,-1) -> 1 | G121: =SUM($F$2:F121) -> 24
A122: 28 | B122: =IF(A122>18,"H",IF(A122=0,0,"L")) -> H | E122: L | F122: =IF(E122=E121,1,-1) -> 1 | G122: =SUM($F$2:F122) -> 25
A123: 6 | B123: =IF(A123>18,"H",IF(A123=0,0,"L")) -> L | E123: H | F123: =IF(E123=E122,1,-1) -> -1 | G123: =SUM($F$2:F123) -> 24
A124: 11 | B124: =IF(A124>18,"H",IF(A124=0,0,"L")) -> L | E124: L | F124: =IF(E124=E123,1,-1) -> -1 | G124: =SUM($F$2:F124) -> 23
A125: 8 | B125: =IF(A125>18,"H",IF(A125=0,0,"L")) -> L | E125: H | F125: =IF(E125=E124,1,-1) -> -1 | G125: =SUM($F$2:F125) -> 22
A126: 4 | B126: =IF(A126>18,"H",IF(A126=0,0,"L")) -> L | E126: H | F126: =IF(E126=E125,1,-1) -> 1 | G126: =SUM($F$2:F126) -> 23
... A206: 26 | B206: =IF(A206>18,"H",IF(A206=0,0,"L")) -> H | E206: L | F206: =IF(E206=E205,1,-1) -> 1 | G206: =SUM($F$2:F206) -> 41
A207: 7 | B207: =IF(A207>18,"H",IF(A207=0,0,"L")) -> L | E207: 0 | F207: =IF(E207=E206,1,-1) -> -1 | G207: =SUM($F$2:F207) -> 40
A208: 23 | B208: =IF(A208>18,"H",IF(A208=0,0,"L")) -> H | E208: L | F208: =IF(E208=E207,1,-1) -> -1 | G208: =SUM($F$2:F208) -> 39
A209: 32 | B209: =IF(A209>18,"H",IF(A209=0,0,"L")) -> H | E209: H | F209: =IF(E209=E208,1,-1) -> -1 | G209: =SUM($F$2:F209) -> 38
A210: 21 | B210: =IF(A210>18,"H",IF(A210=0,0,"L")) -> H | E210: H | F210: =IF(E210=E209,1,-1) -> 1 | G210: =SUM($F$2:F210) -> 39
A211: 28 | B211: =IF(A211>18,"H",IF(A211=0,0,"L")) -> H | E211: L | F211: =IF(E211=E210,1,-1) -> -1 | G211: =SUM($F$2:F211) -> 38
A212: 10 | B212: =IF(A212>18,"H",IF(A212=0,0,"L")) -> L | E212: L | F212: =IF(E212=E211,1,-1) -> 1 | G212: =SUM($F$2:F212) -> 39
A213: 4 | B213: =IF(A213>18,"H",IF(A213=0,0,"L")) -> L | E213: H | F213: =IF(E213=E212,1,-1) -> -1 | G213: =SUM($F$2:F213) -> 38
A214: 16 | B214: =IF(A214>18,"H",IF(A214=0,0,"L")) -> L | E214: H | F214: =IF(E214=E213,1,-1) -> 1 | G214: =SUM($F$2:F214) -> 39
A215: 10 | B215: =IF(A215>18,"H",IF(A215=0,0,"L")) -> L | E215: H | F215: =IF(E215=E214,1,-1) -> 1 | G215: =SUM($F$2:F215) -> 40
A216: 16 | B216: =IF(A216>18,"H",IF(A216=0,0,"L")) -> L | E216: H | F216: =IF(E216=E215,1,-1) -> 1 | G216: =SUM($F$2:F216) -> 41
A217: 19 | B217: =IF(A217>18,"H",IF(A217=0,0,"L")) -> H | E217: L | F217: =IF(E217=E216,1,-1) -> -1 | G217: =SUM($F$2:F217) -> 40
A218: 8 | B218: =IF(A218>18,"H",IF(A218=0,0,"L")) -> L | E218: H | F218: =IF(E218=E217,1,-1) -> -1 | G218: =SUM($F$2:F218) -> 39
A219: 28 | B219: =IF(A219>18,"H",IF(A219=0,0,"L")) -> H | E219: H | F219: =IF(E219=E218,1,-1) -> 1 | G219: =SUM($F$2:F219) -> 40
... A228: 12 | B228: =IF(A228>18,"H",IF(A228=0,0,"L")) -> L | E228: H | F228: =IF(E228=E227,1,-1) -> 1 | G228: =SUM($F$2:F228) -> 49
A229: 32 | B229: =IF(A229>18,"H",IF(A229=0,0,"L")) -> H | E229: 0 | F229: =IF(E229=E228,1,-1) -> -1 | G229: =SUM($F$2:F229) -> 48
A230: 6 | B230: =IF(A230>18,"H",IF(A230=0,0,"L")) -> L | E230: H | F230: =IF(E230=E229,1,-1) -> -1 | G230: =SUM($F$2:F230) -> 47
A231: 22 | B231: =IF(A231>18,"H",IF(A231=0,0,"L")) -> H | E231: L | F231: =IF(E231=E230,1,-1) -> -1 | G231: =SUM($F$2:F231) -> 46
A232: 9 | B232: =IF(A232>18,"H",IF(A232=0,0,"L")) -> L | E232: L | F232: =IF(E232=E231,1,-1) -> 1 | G232: =SUM($F$2:F232) -> 47
A233: 36 | B233: =IF(A233>18,"H",IF(A233=0,0,"L")) -> H | E233: L | F233: =IF(E233=E232,1,-1) -> 1 | G233: =SUM($F$2:F233) -> 48
A234: 23 | B234: =IF(A234>18,"H",IF(A234=0,0,"L")) -> H | E234: H | F234: =IF(E234=E233,1,-1) -> -1 | G234: =SUM($F$2:F234) -> 47
A235: 12 | B235: =IF(A235>18,"H",IF(A235=0,0,"L")) -> L | E235: L | F235: =IF(E235=E234,1,-1) -> -1 | G235: =SUM($F$2:F235) -> 46
A236: 33 | B236: =IF(A236>18,"H",IF(A236=0,0,"L")) -> H | E236: L | F236: =IF(E236=E235,1,-1) -> 1 | G236: =SUM($F$2:F236) -> 47
A237: 8 | B237: =IF(A237>18,"H",IF(A237=0,0,"L")) -> L | E237: H | F237: =IF(E237=E236,1,-1) -> -1 | G237: =SUM($F$2:F237) -> 46
A238: 18 | B238: =IF(A238>18,"H",IF(A238=0,0,"L")) -> L | E238: H | F238: =IF(E238=E237,1,-1) -> 1 | G238: =SUM($F$2:F238) -> 47
A239: 29 | B239: =IF(A239>18,"H",IF(A239=0,0,"L")) -> H | E239: H | F239: =IF(E239=E238,1,-1) -> 1 | G239: =SUM($F$2:F239) -> 48
A240: 36 | B240: =IF(A240>18,"H",IF(A240=0,0,"L")) -> H | E240: L | F240: =IF(E240=E239,1,-1) -> -1 | G240: =SUM($F$2:F240) -> 47
A241: 30 | B241: =IF(A241>18,"H",IF(A241=0,0,"L")) -> H | E241: L | F241: =IF(E241=E240,1,-1) -> 1 | G241: =SUM($F$2:F241) -> 48
... A467: 12 | B467: =IF(A467>18,"H",IF(A467=0,0,"L")) -> L | E467: H | F467: =IF(E467=E466,1,-1) -> 1 | G467: =SUM($F$2:F467) -> 96
A468: 27 | B468: =IF(A468>18,"H",IF(A468=0,0,"L")) -> H | E468: 0 | F468: =IF(E468=E467,1,-1) -> -1 | G468: =SUM($F$2:F468) -> 95
A469: 13 | B469: =IF(A469>18,"H",IF(A469=0,0,"L")) -> L | E469: H | F469: =IF(E469=E468,1,-1) -> -1 | G469: =SUM($F$2:F469) -> 94
A470: 26 | B470: =IF(A470>18,"H",IF(A470=0,0,"L")) -> H | E470: H | F470: =IF(E470=E469,1,-1) -> 1 | G470: =SUM($F$2:F470) -> 95
A471: 7 | B471: =IF(A471>18,"H",IF(A471=0,0,"L")) -> L | E471: H | F471: =IF(E471=E470,1,-1) -> 1 | G471: =SUM($F$2:F471) -> 96
A472: 6 | B472: =IF(A472>18,"H",IF(A472=0,0,"L")) -> L | E472: H | F472: =IF(E472=E471,1,-1) -> 1 | G472: =SUM($F$2:F472) -> 97
A473: 31 | B473: =IF(A473>18,"H",IF(A473=0,0,"L")) -> H | E473: L | F473: =IF(E473=E472,1,-1) -> -1 | G473: =SUM($F$2:F473) -> 96
A474: 36 | B474: =IF(A474>18,"H",IF(A474=0,0,"L")) -> H | E474: H | F474: =IF(E474=E473,1,-1) -> -1 | G474: =SUM($F$2:F474) -> 95
A475: 13 | B475: =IF(A475>18,"H",IF(A475=0,0,"L")) -> L | E475: L | F475: =IF(E475=E474,1,-1) -> -1 | G475: =SUM($F$2:F475) -> 94
A476: 13 | B476: =IF(A476>18,"H",IF(A476=0,0,"L")) -> L | E476: 0 | F476: =IF(E476=E475,1,-1) -> -1 | G476: =SUM($F$2:F476) -> 93
A477: 17 | B477: =IF(A477>18,"H",IF(A477=0,0,"L")) -> L | E477: H | F477: =IF(E477=E476,1,-1) -> -1 | G477: =SUM($F$2:F477) -> 92
A478: 8 | B478: =IF(A478>18,"H",IF(A478=0,0,"L")) -> L | E478: H | F478: =IF(E478=E477,1,-1) -> 1 | G478: =SUM($F$2:F478) -> 93
A479: 16 | B479: =IF(A479>18,"H",IF(A479=0,0,"L")) -> L | E479: L | F479: =IF(E479=E478,1,-1) -> -1 | G479: =SUM($F$2:F479) -> 92
A480: 32 | B480: =IF(A480>18,"H",IF(A480=0,0,"L")) -> H | E480: H | F480: =IF(E480=E479,1,-1) -> -1 | G480: =SUM($F$2:F480) -> 91
A481: 22 | B481: =IF(A481>18,"H",IF(A481=0,0,"L")) -> H | E481: H | F481: =IF(E481=E480,1,-1) -> 1 | G481: =SUM($F$2:F481) -> 92
A482: 35 | B482: =IF(A482>18,"H",IF(A482=0,0,"L")) -> H | E482: L | F482: =IF(E482=E481,1,-1) -> -1 | G482: =SUM($F$2:F482) -> 91
A483: 13 | B483: =IF(A483>18,"H",IF(A483=0,0,"L")) -> L | E483: L | F483: =IF(E483=E482,1,-1) -> 1 | G483: =SUM($F$2:F483) -> 92
A484: 9 | B484: =IF(A484>18,"H",IF(A484=0,0,"L")) -> L | E484: L | F484: =IF(E484=E483,1,-1) -> 1 | G484: =SUM($F$2:F484) -> 93
A485: 11 | B485: =IF(A485>18,"H",IF(A485=0,0,"L")) -> L | E485: L | F485: =IF(E485=E484,1,-1) -> 1 | G485: =SUM($F$2:F485) -> 94
A486: 1 | B486: =IF(A486>18,"H",IF(A486=0,0,"L")) -> L | E486: L | F486: =IF(E486=E485,1,-1) -> 1 | G486: =SUM($F$2:F486) -> 95
A487: 34 | B487: =IF(A487>18,"H",IF(A487=0,0,"L")) -> H | E487: L | F487: =IF(E487=E486,1,-1) -> 1 | G487: =SUM($F$2:F487) -> 96
A488: 1 | B488: =IF(A488>18,"H",IF(A488=0,0,"L")) -> L | E488: H | F488: =IF(E488=E487,1,-1) -> -1 | G488: =SUM($F$2:F488) -> 95
... A496: 21 | B496: =IF(A496>18,"H",IF(A496=0,0,"L")) -> H | E496: L | F496: =IF(E496=E495,1,-1) -> -1 | G496: =SUM($F$2:F496) -> 97
A497: 7 | B497: =IF(A497>18,"H",IF(A497=0,0,"L")) -> L | E497: 0 | F497: =IF(E497=E496,1,-1) -> -1 | G497: =SUM($F$2:F497) -> 96
A498: 16 | B498: =IF(A498>18,"H",IF(A498=0,0,"L")) -> L | E498: H | F498: =IF(E498=E497,1,-1) -> -1 | G498: =SUM($F$2:F498) -> 95
A499: 0 | B499: =IF(A499>18,"H",IF(A499=0,0,"L")) -> 0 | E499: L | F499: =IF(E499=E498,1,-1) -> -1 | G499: =SUM($F$2:F499) -> 94
A500: 0 | B500: =IF(A500>18,"H",IF(A500=0,0,"L")) -> 0 | E500: L | F500: =IF(E500=E499,1,-1) -> 1 | G500: =SUM($F$2:F500) -> 95
A501: 10 | B501: =IF(A501>18,"H",IF(A501=0,0,"L")) -> L | E501: H | F501: =IF(E501=E500,1,-1) -> -1 | G501: =SUM($F$2:F501) -> 94
...

Sheet Sheet2

Sheet Sheet3

Sheet .
A1: =TEXT(Sheet1!A2,"#00") -> 30 | B1: =A1 -> 30 | C1: =LEN(B1) -> 2 | D1: =IF(C1=2,":)","") -> :)
A2: =TEXT(Sheet1!A3,"#00") -> 13 | B2: =IF(ISNUMBER(FIND(A2,B1)),A2,A2&","&B1) -> 13,30 | C2: =LEN(B2) -> 5 | D2: =IF(C2=2,":)","")
A3: =TEXT(Sheet1!A4,"#00") -> 20 | B3: =IF(ISNUMBER(FIND(A3,B2)),A3,A3&","&B2) -> 20,13,30 | C3: =LEN(B3) -> 8 | D3: =IF(C3=2,":)","")
A4: =TEXT(Sheet1!A5,"#00") -> 34 | B4: =IF(ISNUMBER(FIND(A4,B3)),A4,A4&","&B3) -> 34,20,13,30 | C4: =LEN(B4) -> 11 | D4: =IF(C4=2,":)","")
A5: =TEXT(Sheet1!A6,"#00") -> 06 | B5: =IF(ISNUMBER(FIND(A5,B4)),A5,A5&","&B4) -> 06,34,20,13,30 | C5: =LEN(B5) -> 14 | D5: =IF(C5=2,":)","")
A6: =TEXT(Sheet1!A7,"#00") -> 22 | B6: =IF(ISNUMBER(FIND(A6,B5)),A6,A6&","&B5) -> 22,06,34,20,13,30 | C6: =LEN(B6) -> 17 | D6: =IF(C6=2,":)","")
A7: =TEXT(Sheet1!A8,"#00") -> 26 | B7: =IF(ISNUMBER(FIND(A7,B6)),A7,A7&","&B6) -> 26,22,06,34,20,13,30 | C7: =LEN(B7) -> 20 | D7: =IF(C7=2,":)","")
A8: =TEXT(Sheet1!A9,"#00") -> 32 | B8: =IF(ISNUMBER(FIND(A8,B7)),A8,A8&","&B7) -> 32,26,22,06,34,20,13,30 | C8: =LEN(B8) -> 23 | D8: =IF(C8=2,":)","")
A9: =TEXT(Sheet1!A10,"#00") -> 22 | B9: =IF(ISNUMBER(FIND(A9,B8)),A9,A9&","&B8) -> 22 | C9: =LEN(B9) -> 2 | D9: =IF(C9=2,":)","") -> :)
A10: =TEXT(Sheet1!A11,"#00") -> 12 | B10: =IF(ISNUMBER(FIND(A10,B9)),A10,A10&","&B9) -> 12,22 | C10: =LEN(B10) -> 5 | D10: =IF(C10=2,":)","")
A11: =TEXT(Sheet1!A12,"#00") -> 05 | B11: =IF(ISNUMBER(FIND(A11,B10)),A11,A11&","&B10) -> 05,12,22 | C11: =LEN(B11) -> 8 | D11: =IF(C11=2,":)","")
A12: =TEXT(Sheet1!A13,"#00") -> 33 | B12: =IF(ISNUMBER(FIND(A12,B11)),A12,A12&","&B11) -> 33,05,12,22 | C12: =LEN(B12) -> 11 | D12: =IF(C12=2,":)","")
A13: =TEXT(Sheet1!A14,"#00") -> 19 | B13: =IF(ISNUMBER(FIND(A13,B12)),A13,A13&","&B12) -> 19,33,05,12,22 | C13: =LEN(B13) -> 14 | D13: =IF(C13=2,":)","")
... A20201: =TEXT(Sheet1!A20202,"#00") -> 00 | B20201: =IF(ISNUMBER(FIND(A20201,B20200)),A20201,A20201&","&B20200) -> 00 | C20201: =LEN(B20201) -> 2 | D20201: =IF(C20201=2,":)","") -> :)
