Workbook

Sheet Dozen
A1: # | C1: 3T | E1: 9T
A2: 1 | B2: =IF(B1="no",INT(RAND()*36+1),INT(RAND()*37)) -> 27 | C2: =IF(G2=TRUE,VLOOKUP(B2,Partition!$C$2:$D$38,2),"") -> 9 | D2: =COUNTIF(INDEX(C2:INDEX(C2,IFERROR(LOOKUP(2,1/($D$1:D1=2),ROW($D$1:D1)-MIN(ROW($D$1:D1)-1)),1),),),C2) -> 1 | E2: =Sector!C2 -> 9 | F2: =COUNTIF(INDEX(E2:INDEX(E2,IFERROR(LOOKUP(2,1/($F$1:F1=2),ROW($F$1:F1)-MIN(ROW($F$1:F1)-1)),1),),),E2) -> 1 | G2: =ISNUMBER(B2) -> TRUE
A3: =1+A2 -> 2 | B3: =IF(B2="no",INT(RAND()*36+1),INT(RAND()*37)) -> 31 | C3: =IF(G3=TRUE,VLOOKUP(B3,Partition!$C$2:$D$38,2),"") -> 3 | D3: =COUNTIF(INDEX(C3:INDEX($C$1:C3,IFERROR(LOOKUP(2,1/($D$1:D2=2),ROW($D$1:D2)-MIN(ROW($D$1:D2)-1)),1),),),C3) -> 1 | E3: =Sector!C3 -> 4 | F3: =COUNTIF(INDEX(E3:INDEX(E3,IFERROR(LOOKUP(2,1/($F$1:F2=2),ROW($F$1:F2)-MIN(ROW($F$1:F2)-1)),1),),),E3) -> 1 | G3: =ISNUMBER(B3) -> TRUE
A4: =1+A3 -> 3 | B4: =IF(B3="no",INT(RAND()*36+1),INT(RAND()*37)) -> 34 | C4: =IF(G4=TRUE,VLOOKUP(B4,Partition!$C$2:$D$38,2),"") -> 6 | D4: =COUNTIF(INDEX(C4:INDEX($C$1:C4,IFERROR(LOOKUP(2,1/($D$1:D3=2),ROW($D$1:D3)-MIN(ROW($D$1:D3)-1)),1),),),C4) -> 1 | E4: =Sector!C4 -> 7 | F4: =COUNTIF(INDEX(E4:INDEX(E4,IFERROR(LOOKUP(2,1/($F$1:F3=2),ROW($F$1:F3)-MIN(ROW($F$1:F3)-1)),1),),),E4) -> 1 | G4: =ISNUMBER(B4) -> TRUE
A5: =1+A4 -> 4 | B5: =IF(B4="no",INT(RAND()*36+1),INT(RAND()*37)) -> 19 | C5: =IF(G5=TRUE,VLOOKUP(B5,Partition!$C$2:$D$38,2),"") -> 9 | D5: =COUNTIF(INDEX(C5:INDEX($C$1:C5,IFERROR(LOOKUP(2,1/($D$1:D4=2),ROW($D$1:D4)-MIN(ROW($D$1:D4)-1)),1),),),C5) -> 2 | E5: =Sector!C5 -> 1 | F5: =COUNTIF(INDEX(E5:INDEX(E5,IFERROR(LOOKUP(2,1/($F$1:F4=2),ROW($F$1:F4)-MIN(ROW($F$1:F4)-1)),1),),),E5) -> 1 | G5: =ISNUMBER(B5) -> TRUE
A6: =1+A5 -> 5 | B6: =IF(B5="no",INT(RAND()*36+1),INT(RAND()*37)) -> 29 | C6: =IF(G6=TRUE,VLOOKUP(B6,Partition!$C$2:$D$38,2),"") -> 3 | D6: =COUNTIF(INDEX(C6:INDEX($C$1:C6,IFERROR(LOOKUP(2,1/($D$1:D5=2),ROW($D$1:D5)-MIN(ROW($D$1:D5)-1)),1),),),C6) -> 1 | E6: =Sector!C6 -> 2 | F6: =COUNTIF(INDEX(E6:INDEX(E6,IFERROR(LOOKUP(2,1/($F$1:F5=2),ROW($F$1:F5)-MIN(ROW($F$1:F5)-1)),1),),),E6) -> 1 | G6: =ISNUMBER(B6) -> TRUE
A7: =1+A6 -> 6 | B7: =IF(B6="no",INT(RAND()*36+1),INT(RAND()*37)) -> 34 | C7: =IF(G7=TRUE,VLOOKUP(B7,Partition!$C$2:$D$38,2),"") -> 6 | D7: =COUNTIF(INDEX(C7:INDEX($C$1:C7,IFERROR(LOOKUP(2,1/($D$1:D6=2),ROW($D$1:D6)-MIN(ROW($D$1:D6)-1)),1),),),C7) -> 1 | E7: =Sector!C7 -> 7 | F7: =COUNTIF(INDEX(E7:INDEX(E7,IFERROR(LOOKUP(2,1/($F$1:F6=2),ROW($F$1:F6)-MIN(ROW($F$1:F6)-1)),1),),),E7) -> 1 | G7: =ISNUMBER(B7) -> TRUE
A8: =1+A7 -> 7 | B8: =IF(B7="no",INT(RAND()*36+1),INT(RAND()*37)) -> 33 | C8: =IF(G8=TRUE,VLOOKUP(B8,Partition!$C$2:$D$38,2),"") -> 6 | D8: =COUNTIF(INDEX(C8:INDEX($C$1:C8,IFERROR(LOOKUP(2,1/($D$1:D7=2),ROW($D$1:D7)-MIN(ROW($D$1:D7)-1)),1),),),C8) -> 2 | E8: =Sector!C8 -> 6 | F8: =COUNTIF(INDEX(E8:INDEX(E8,IFERROR(LOOKUP(2,1/($F$1:F7=2),ROW($F$1:F7)-MIN(ROW($F$1:F7)-1)),1),),),E8) -> 1 | G8: =ISNUMBER(B8) -> TRUE
A9: =1+A8 -> 8 | B9: =IF(B8="no",INT(RAND()*36+1),INT(RAND()*37)) -> 18 | C9: =IF(G9=TRUE,VLOOKUP(B9,Partition!$C$2:$D$38,2),"") -> 9 | D9: =COUNTIF(INDEX(C9:INDEX($C$1:C9,IFERROR(LOOKUP(2,1/($D$1:D8=2),ROW($D$1:D8)-MIN(ROW($D$1:D8)-1)),1),),),C9) -> 1 | E9: =Sector!C9 -> 9 | F9: =COUNTIF(INDEX(E9:INDEX(E9,IFERROR(LOOKUP(2,1/($F$1:F8=2),ROW($F$1:F8)-MIN(ROW($F$1:F8)-1)),1),),),E9) -> 1 | G9: =ISNUMBER(B9) -> TRUE
A10: =1+A9 -> 9 | B10: =IF(B9="no",INT(RAND()*36+1),INT(RAND()*37)) -> 21 | C10: =IF(G10=TRUE,VLOOKUP(B10,Partition!$C$2:$D$38,2),"") -> 3 | D10: =COUNTIF(INDEX(C10:INDEX($C$1:C10,IFERROR(LOOKUP(2,1/($D$1:D9=2),ROW($D$1:D9)-MIN(ROW($D$1:D9)-1)),1),),),C10) -> 1 | E10: =Sector!C10 -> 3 | F10: =COUNTIF(INDEX(E10:INDEX(E10,IFERROR(LOOKUP(2,1/($F$1:F9=2),ROW($F$1:F9)-MIN(ROW($F$1:F9)-1)),1),),),E10) -> 1 | G10: =ISNUMBER(B10) -> TRUE
A11: =1+A10 -> 10 | B11: =IF(B10="no",INT(RAND()*36+1),INT(RAND()*37)) -> 10 | C11: =IF(G11=TRUE,VLOOKUP(B11,Partition!$C$2:$D$38,2),"") -> 9 | D11: =COUNTIF(INDEX(C11:INDEX($C$1:C11,IFERROR(LOOKUP(2,1/($D$1:D10=2),ROW($D$1:D10)-MIN(ROW($D$1:D10)-1)),1),),),C11) -> 2 | E11: =Sector!C11 -> 1 | F11: =COUNTIF(INDEX(E11:INDEX(E11,IFERROR(LOOKUP(2,1/($F$1:F10=2),ROW($F$1:F10)-MIN(ROW($F$1:F10)-1)),1),),),E11) -> 1 | G11: =ISNUMBER(B11) -> TRUE
A12: =1+A11 -> 11 | B12: =IF(B11="no",INT(RAND()*36+1),INT(RAND()*37)) -> 19 | C12: =IF(G12=TRUE,VLOOKUP(B12,Partition!$C$2:$D$38,2),"") -> 9 | D12: =COUNTIF(INDEX(C12:INDEX($C$1:C12,IFERROR(LOOKUP(2,1/($D$1:D11=2),ROW($D$1:D11)-MIN(ROW($D$1:D11)-1)),1),),),C12) -> 2 | E12: =Sector!C12 -> 1 | F12: =COUNTIF(INDEX(E12:INDEX(E12,IFERROR(LOOKUP(2,1/($F$1:F11=2),ROW($F$1:F11)-MIN(ROW($F$1:F11)-1)),1),),),E12) -> 1 | G12: =ISNUMBER(B12) -> TRUE
A13: =1+A12 -> 12 | B13: =IF(B12="no",INT(RAND()*36+1),INT(RAND()*37)) -> 11 | C13: =IF(G13=TRUE,VLOOKUP(B13,Partition!$C$2:$D$38,2),"") -> 3 | D13: =COUNTIF(INDEX(C13:INDEX($C$1:C13,IFERROR(LOOKUP(2,1/($D$1:D12=2),ROW($D$1:D12)-MIN(ROW($D$1:D12)-1)),1),),),C13) -> 1 | E13: =Sector!C13 -> 2 | F13: =COUNTIF(INDEX(E13:INDEX(E13,IFERROR(LOOKUP(2,1/($F$1:F12=2),ROW($F$1:F12)-MIN(ROW($F$1:F12)-1)),1),),),E13) -> 1 | G13: =ISNUMBER(B13) -> TRUE
A14: =1+A13 -> 13 | B14: =IF(B13="no",INT(RAND()*36+1),INT(RAND()*37)) -> 28 | C14: =IF(G14=TRUE,VLOOKUP(B14,Partition!$C$2:$D$38,2),"") -> 9 | D14: =COUNTIF(INDEX(C14:INDEX($C$1:C14,IFERROR(LOOKUP(2,1/($D$1:D13=2),ROW($D$1:D13)-MIN(ROW($D$1:D13)-1)),1),),),C14) -> 2 | E14: =Sector!C14 -> 1 | F14: =COUNTIF(INDEX(E14:INDEX(E14,IFERROR(LOOKUP(2,1/($F$1:F13=2),ROW($F$1:F13)-MIN(ROW($F$1:F13)-1)),1),),),E14) -> 1 | G14: =ISNUMBER(B14) -> TRUE
... A501: =1+A500 -> 500 | B501: =IF(B500="no",INT(RAND()*36+1),INT(RAND()*37)) -> 26 | C501: =IF(G501=TRUE,VLOOKUP(B501,Partition!$C$2:$D$38,2),"") -> 9 | D501: =COUNTIF(INDEX(C501:INDEX($C$1:C501,IFERROR(LOOKUP(2,1/($D$1:D500=2),ROW($D$1:D500)-MIN(ROW($D$1:D500)-1)),1),),),C501) -> 1 | E501: =Sector!C501 -> 8 | F501: =COUNTIF(INDEX(E501:INDEX(E501,IFERROR(LOOKUP(2,1/($F$1:F500=2),ROW($F$1:F500)-MIN(ROW($F$1:F500)-1)),1),),),E501) -> 1 | G501: =ISNUMBER(B501) -> TRUE
E502: win
E503: loss
E504: net

Sheet Sector
A1: # | C1: 9S
A2: 1 | B2: =Dozen!B2 -> 27 | C2: =VLOOKUP(B2,Partition!$A$2:$B$38,2) -> 9 | D2: =COUNTIF(INDEX(C2:INDEX(C2,IFERROR(LOOKUP(2,1/($D$1:D1=2),ROW($D$1:D1)-MIN(ROW($D$1:D1)-1)),1),),),C2) -> 1
A3: =1+A2 -> 2 | B3: =Dozen!B3 -> 31 | C3: =VLOOKUP(B3,Partition!$A$2:$B$38,2) -> 4 | D3: =COUNTIF(INDEX(C3:INDEX($C$1:C3,IFERROR(LOOKUP(2,1/($D$1:D2=2),ROW($D$1:D2)-MIN(ROW($D$1:D2)-1)),1),),),C3) -> 1
A4: =1+A3 -> 3 | B4: =Dozen!B4 -> 34 | C4: =VLOOKUP(B4,Partition!$A$2:$B$38,2) -> 7 | D4: =COUNTIF(INDEX(C4:INDEX($C$1:C4,IFERROR(LOOKUP(2,1/($D$1:D3=2),ROW($D$1:D3)-MIN(ROW($D$1:D3)-1)),1),),),C4) -> 1
A5: =1+A4 -> 4 | B5: =Dozen!B5 -> 19 | C5: =VLOOKUP(B5,Partition!$A$2:$B$38,2) -> 1 | D5: =COUNTIF(INDEX(C5:INDEX($C$1:C5,IFERROR(LOOKUP(2,1/($D$1:D4=2),ROW($D$1:D4)-MIN(ROW($D$1:D4)-1)),1),),),C5) -> 1
A6: =1+A5 -> 5 | B6: =Dozen!B6 -> 29 | C6: =VLOOKUP(B6,Partition!$A$2:$B$38,2) -> 2 | D6: =COUNTIF(INDEX(C6:INDEX($C$1:C6,IFERROR(LOOKUP(2,1/($D$1:D5=2),ROW($D$1:D5)-MIN(ROW($D$1:D5)-1)),1),),),C6) -> 1
A7: =1+A6 -> 6 | B7: =Dozen!B7 -> 34 | C7: =VLOOKUP(B7,Partition!$A$2:$B$38,2) -> 7 | D7: =COUNTIF(INDEX(C7:INDEX($C$1:C7,IFERROR(LOOKUP(2,1/($D$1:D6=2),ROW($D$1:D6)-MIN(ROW($D$1:D6)-1)),1),),),C7) -> 2
A8: =1+A7 -> 7 | B8: =Dozen!B8 -> 33 | C8: =VLOOKUP(B8,Partition!$A$2:$B$38,2) -> 6 | D8: =COUNTIF(INDEX(C8:INDEX($C$1:C8,IFERROR(LOOKUP(2,1/($D$1:D7=2),ROW($D$1:D7)-MIN(ROW($D$1:D7)-1)),1),),),C8) -> 1
A9: =1+A8 -> 8 | B9: =Dozen!B9 -> 18 | C9: =VLOOKUP(B9,Partition!$A$2:$B$38,2) -> 9 | D9: =COUNTIF(INDEX(C9:INDEX($C$1:C9,IFERROR(LOOKUP(2,1/($D$1:D8=2),ROW($D$1:D8)-MIN(ROW($D$1:D8)-1)),1),),),C9) -> 1
A10: =1+A9 -> 9 | B10: =Dozen!B10 -> 21 | C10: =VLOOKUP(B10,Partition!$A$2:$B$38,2) -> 3 | D10: =COUNTIF(INDEX(C10:INDEX($C$1:C10,IFERROR(LOOKUP(2,1/($D$1:D9=2),ROW($D$1:D9)-MIN(ROW($D$1:D9)-1)),1),),),C10) -> 1
A11: =1+A10 -> 10 | B11: =Dozen!B11 -> 10 | C11: =VLOOKUP(B11,Partition!$A$2:$B$38,2) -> 1 | D11: =COUNTIF(INDEX(C11:INDEX($C$1:C11,IFERROR(LOOKUP(2,1/($D$1:D10=2),ROW($D$1:D10)-MIN(ROW($D$1:D10)-1)),1),),),C11) -> 1
A12: =1+A11 -> 11 | B12: =Dozen!B12 -> 19 | C12: =VLOOKUP(B12,Partition!$A$2:$B$38,2) -> 1 | D12: =COUNTIF(INDEX(C12:INDEX($C$1:C12,IFERROR(LOOKUP(2,1/($D$1:D11=2),ROW($D$1:D11)-MIN(ROW($D$1:D11)-1)),1),),),C12) -> 2
A13: =1+A12 -> 12 | B13: =Dozen!B13 -> 11 | C13: =VLOOKUP(B13,Partition!$A$2:$B$38,2) -> 2 | D13: =COUNTIF(INDEX(C13:INDEX($C$1:C13,IFERROR(LOOKUP(2,1/($D$1:D12=2),ROW($D$1:D12)-MIN(ROW($D$1:D12)-1)),1),),),C13) -> 1
A14: =1+A13 -> 13 | B14: =Dozen!B14 -> 28 | C14: =VLOOKUP(B14,Partition!$A$2:$B$38,2) -> 1 | D14: =COUNTIF(INDEX(C14:INDEX($C$1:C14,IFERROR(LOOKUP(2,1/($D$1:D13=2),ROW($D$1:D13)-MIN(ROW($D$1:D13)-1)),1),),),C14) -> 2
... A501: =1+A500 -> 500 | B501: =Dozen!B501 -> 26 | C501: =VLOOKUP(B501,Partition!$A$2:$B$38,2) -> 8 | D501: =COUNTIF(INDEX(C501:INDEX($C$1:C501,IFERROR(LOOKUP(2,1/($D$1:D500=2),ROW($D$1:D500)-MIN(ROW($D$1:D500)-1)),1),),),C501) -> 1

Sheet Partition
A1: Sector | C1: DozenT
A2: 0 | B2: 0 | C2: 0 | D2: 9
A3: =1+A2 -> 1 | B3: =1+B2 -> 1 | C3: =1+C2 -> 1 | D3: 9
A4: =1+A3 -> 2 | B4: =1+B3 -> 2 | C4: =1+C3 -> 2 | D4: 3
A5: =1+A4 -> 3 | B5: =1+B4 -> 3 | C5: =1+C4 -> 3 | D5: 3
A6: =1+A5 -> 4 | B6: =1+B5 -> 4 | C6: =1+C5 -> 4 | D6: 3
A7: =1+A6 -> 5 | B7: =1+B6 -> 5 | C7: =1+C6 -> 5 | D7: 6
A8: =1+A7 -> 6 | B8: =1+B7 -> 6 | C8: =1+C7 -> 6 | D8: 6
A9: =1+A8 -> 7 | B9: =1+B8 -> 7 | C9: =1+C8 -> 7 | D9: 6
A10: =1+A9 -> 8 | B10: =1+B9 -> 8 | C10: =1+C9 -> 8 | D10: 9
A11: =1+A10 -> 9 | B11: =1+B10 -> 9 | C11: =1+C10 -> 9 | D11: 9
A12: =1+A11 -> 10 | B12: 1 | C12: =1+C11 -> 10 | D12: 9
A13: =1+A12 -> 11 | B13: =1+B12 -> 2 | C13: =1+C12 -> 11 | D13: 3
A14: =1+A13 -> 12 | B14: =1+B13 -> 3 | C14: =1+C13 -> 12 | D14: 3
A15: =1+A14 -> 13 | B15: =1+B14 -> 4 | C15: =1+C14 -> 13 | D15: 3
A16: =1+A15 -> 14 | B16: =1+B15 -> 5 | C16: =1+C15 -> 14 | D16: 6
A17: =1+A16 -> 15 | B17: =1+B16 -> 6 | C17: =1+C16 -> 15 | D17: 6
A18: =1+A17 -> 16 | B18: =1+B17 -> 7 | C18: =1+C17 -> 16 | D18: 6
A19: =1+A18 -> 17 | B19: =1+B18 -> 8 | C19: =1+C18 -> 17 | D19: 9
A20: =1+A19 -> 18 | B20: =1+B19 -> 9 | C20: =1+C19 -> 18 | D20: 9
A21: =1+A20 -> 19 | B21: 1 | C21: =1+C20 -> 19 | D21: 9
A22: =1+A21 -> 20 | B22: =1+B21 -> 2 | C22: =1+C21 -> 20 | D22: 3
A23: =1+A22 -> 21 | B23: =1+B22 -> 3 | C23: =1+C22 -> 21 | D23: 3
A24: =1+A23 -> 22 | B24: =1+B23 -> 4 | C24: =1+C23 -> 22 | D24: 3
A25: =1+A24 -> 23 | B25: =1+B24 -> 5 | C25: =1+C24 -> 23 | D25: 6
A26: =1+A25 -> 24 | B26: =1+B25 -> 6 | C26: =1+C25 -> 24 | D26: 6
A27: =1+A26 -> 25 | B27: =1+B26 -> 7 | C27: =1+C26 -> 25 | D27: 6
A28: =1+A27 -> 26 | B28: =1+B27 -> 8 | C28: =1+C27 -> 26 | D28: 9
A29: =1+A28 -> 27 | B29: =1+B28 -> 9 | C29: =1+C28 -> 27 | D29: 9
A30: =1+A29 -> 28 | B30: 1 | C30: =1+C29 -> 28 | D30: 9
A31: =1+A30 -> 29 | B31: =1+B30 -> 2 | C31: =1+C30 -> 29 | D31: 3
A32: =1+A31 -> 30 | B32: =1+B31 -> 3 | C32: =1+C31 -> 30 | D32: 3
A33: =1+A32 -> 31 | B33: =1+B32 -> 4 | C33: =1+C32 -> 31 | D33: 3
A34: =1+A33 -> 32 | B34: =1+B33 -> 5 | C34: =1+C33 -> 32 | D34: 6
A35: =1+A34 -> 33 | B35: =1+B34 -> 6 | C35: =1+C34 -> 33 | D35: 6
A36: =1+A35 -> 34 | B36: =1+B35 -> 7 | C36: =1+C35 -> 34 | D36: 6
A37: =1+A36 -> 35 | B37: =1+B36 -> 8 | C37: =1+C36 -> 35 | D37: 9
A38: =1+A37 -> 36 | B38: =1+B37 -> 9 | C38: =1+C37 -> 36 | D38: 9
