Workbook

Sheet RevLab
A2: EC | B2: High/Low | D2: Wins | E2: =COUNTIF(I11:I210,"1") -> 102
A3: Play type | B3: Low | D3: Losses | E3: =COUNTIF(I11:I210,"-1") -> 98
A4: Max Bet | B4: 20 | D4: End | E4: =OFFSET(L10,MAX(D:D),0,1,1) -> 15
A5: Reset new high? | D5: Max | E5: =MAX(L:L) -> 15
A6: No | D6: Max Bet | E6: =MAX(J11:J210) -> 20
A7: Reset on max bet?
A8: Yes | O8: 1st bet | P8: 2nd bet | Q8: Stelle | R8: Unit bank, end of spin
A9: Seq length | B9: =COUNTIF(B12:B111,">0") -> 4 | O9: Min | P9: Max | Q9: cntf | R9: 1 | S9: 2 | T9: 3 | U9: 4 | V9: 5 | W9: 6 | X9: 7 | Y9: 8 | Z9: 9 | AA9: 10 | AB9: 11 | AC9: 12 | AD9: 13 | AE9: 14 | AF9: 15 | AG9: 16 | AH9: 17 | AI9: 18 | AJ9: 19 | AK9: 20 | AL9: 21 | AM9: 22 | AN9: 23 | AO9: 24 | AP9: 25 | AQ9: 26 | AR9: 27 | AS9: 28 | AT9: 29 | AU9: 30 | AV9: 31 | AW9: 32 | AX9: 33 | AY9: 34 | AZ9: 35 | BA9: 36 | BB9: 37 | BC9: 38 | BD9: 39 | BE9: 40 | BF9: 41 | BG9: 42 | BH9: 43 | BI9: 44 | BJ9: 45 | BK9: 46 | BL9: 47 | BM9: 48 | BN9: 49 | BO9: 50
A10: Starting sequence | D10: Spin | E10: Nr | F10: Custom | G10: Decision | H10: Result | I10: WL | J10: Bet | K10: Net | L10: Total | M10: Max | N10: Rst | O10: =IF(E10="","",R10) -> 1 | P10: =IF(E10="","",MAX(R10:DM10)) -> 4 | Q10: =IF(E10="","",COUNTIF(R10:DM10,">0")) -> 4 | R10: =IF(R9>$B$9,"",IF($D11=1,LOOKUP(R9,$A12:$A111,$B12:$B111),"")) -> 1 | S10: =IF(S9>$B$9,"",IF($D11=1,LOOKUP(S9,$A12:$A111,$B12:$B111),"")) -> 2 | T10: =IF(T9>$B$9,"",IF($D11=1,LOOKUP(T9,$A12:$A111,$B12:$B111),"")) -> 3 | U10: =IF(U9>$B$9,"",IF($D11=1,LOOKUP(U9,$A12:$A111,$B12:$B111),"")) -> 4 | V10: =IF(V9>$B$9,"",IF($D11=1,LOOKUP(V9,$A12:$A111,$B12:$B111),"")) | W10: =IF(W9>$B$9,"",IF($D11=1,LOOKUP(W9,$A12:$A111,$B12:$B111),"")) | X10: =IF(X9>$B$9,"",IF($D11=1,LOOKUP(X9,$A12:$A111,$B12:$B111),"")) | Y10: =IF(Y9>$B$9,"",IF($D11=1,LOOKUP(Y9,$A12:$A111,$B12:$B111),"")) | ... BO10: =IF(BO9>$B$9,"",IF($D11=1,LOOKUP(BO9,$A12:$A111,$B12:$B111),""))
A11: Seq.Nr | B11: Units | D11: 1 | E11: =RANDBETWEEN(0,36) -> 16 | G11: =IF(E10="","",IF($B$3=Refs!$B$17,RevLab!F11,IF(COUNTIF(Refs!$E$5:$I$6,B$3)=1,RevLab!B$3,""))) -> Low | H11: =IF(E11="","",IF(B$2="Red/Black",LOOKUP(E11,Refs!D:D,Refs!F:F),IF(B$2="High/Low",LOOKUP(E11,Refs!D:D,Refs!H:H),IF(B$2="Odd/Even",LOOKUP(E11,Refs!D:D,Refs!J:J),"")))) -> Low | I11: =IF(E11="","",IF(G11="","",IF(H11=G11,1,-1))) -> 1 | J11: =IF(E10="","",IF(G11="","",IF(AND(Q10>1,O10+P10>=$B$4),$B$4,IF(Q10=1,O10,O10+P10)))) -> 5 | K11: =IF(E11="","",IF(G11="","",IF(I11=1,J11,-J11))) -> 5 | L11: =IF(E11="","",IF(G11="",0,K11)) -> 5 | N11: =IF(E10="","",IF(OR(AND($A$6="Yes",$M11>$M10),AND($A$8="Yes",$O10+$P10>=$B$4),AND($Q10<=2,$I11=-1)),1,0)) -> 0 | O11: =IF(E11="","",R11) -> 1 | P11: =IF(E11="","",MAX(R11:DM11)) -> 5 | Q11: =IF(E11="","",COUNTIF(R11:DM11,">0")) -> 5 | R11: =IF(E10="","",IF($G11="",R10,IF($N11=1,LOOKUP(R$9,$A$12:$A$111,$B$12:$B$111),IF(AND($I11=-1,S$9=$Q10),"",IF($I11=-1,S10,IF($I11=1,R10)))))) -> 1 | S11: =IF($E10="","",IF($G11="",S10,IF(AND($N11=1,S$9>$B$9),"",IF(AND($N11=1,S$9<=$B$9),LOOKUP(S$9,$A$12:$A$111,$B$12:$B$111),IF(AND($I11=-1,T$9=$Q10),"",IF($I11=-1,T10,IF(AND($I11=1,R$9=$Q10),$K11,IF($I11=1,S10,"")))))))) -> 2 | T11: =IF($E10="","",IF($G11="",T10,IF(AND($N11=1,T$9>$B$9),"",IF(AND($N11=1,T$9<=$B$9),LOOKUP(T$9,$A$12:$A$111,$B$12:$B$111),IF(AND($I11=-1,U$9=$Q10),"",IF($I11=-1,U10,IF(AND($I11=1,S$9=$Q10),$K11,IF($I11=1,T10,"")))))))) -> 3 | U11: =IF($E10="","",IF($G11="",U10,IF(AND($N11=1,U$9>$B$9),"",IF(AND($N11=1,U$9<=$B$9),LOOKUP(U$9,$A$12:$A$111,$B$12:$B$111),IF(AND($I11=-1,V$9=$Q10),"",IF($I11=-1,V10,IF(AND($I11=1,T$9=$Q10),$K11,IF($I11=1,U10,"")))))))) -> 4 | V11: =IF($E10="","",IF($G11="",V10,IF(AND($N11=1,V$9>$B$9),"",IF(AND($N11=1,V$9<=$B$9),LOOKUP(V$9,$A$12:$A$111,$B$12:$B$111),IF(AND($I11=-1,W$9=$Q10),"",IF($I11=-1,W10,IF(AND($I11=1,U$9=$Q10),$K11,IF($I11=1,V10,"")))))))) -> 5 | W11: =IF($E10="","",IF($G11="",W10,IF(AND($N11=1,W$9>$B$9),"",IF(AND($N11=1,W$9<=$B$9),LOOKUP(W$9,$A$12:$A$111,$B$12:$B$111),IF(AND($I11=-1,X$9=$Q10),"",IF($I11=-1,X10,IF(AND($I11=1,V$9=$Q10),$K11,IF($I11=1,W10,"")))))))) | X11: =IF($E10="","",IF($G11="",X10,IF(AND($N11=1,X$9>$B$9),"",IF(AND($N11=1,X$9<=$B$9),LOOKUP(X$9,$A$12:$A$111,$B$12:$B$111),IF(AND($I11=-1,Y$9=$Q10),"",IF($I11=-1,Y10,IF(AND($I11=1,W$9=$Q10),$K11,IF($I11=1,X10,"")))))))) | Y11: =IF($E10="","",IF($G11="",Y10,IF(AND($N11=1,Y$9>$B$9),"",IF(AND($N11=1,Y$9<=$B$9),LOOKUP(Y$9,$A$12:$A$111,$B$12:$B$111),IF(AND($I11=-1,Z$9=$Q10),"",IF($I11=-1,Z10,IF(AND($I11=1,X$9=$Q10),$K11,IF($I11=1,Y10,"")))))))) | Z11: =IF($E10="","",IF($G11="",Z10,IF(AND($N11=1,Z$9>$B$9),"",IF(AND($N11=1,Z$9<=$B$9),LOOKUP(Z$9,$A$12:$A$111,$B$12:$B$111),IF(AND($I11=-1,AA$9=$Q10),"",IF($I11=-1,AA10,IF(AND($I11=1,Y$9=$Q10),$K11,IF($I11=1,Z10,"")))))))) | ... BO11: =IF($E10="","",IF($G11="",BO10,IF(AND($N11=1,BO$9>$B$9),"",IF(AND($N11=1,BO$9<=$B$9),LOOKUP(BO$9,$A$12:$A$111,$B$12:$B$111),IF(AND($I11=-1,BP$9=$Q10),"",IF($I11=-1,BP10,IF(AND($I11=1,BN$9=$Q10),$K11,IF($I11=1,BO10,""))))))))
A12: 1 | B12: 1 | D12: 2 | E12: =RANDBETWEEN(0,36) -> 31 | G12: =IF(E11="","",IF($B$3=Refs!$B$17,RevLab!F12,IF(AND(B$3="Last",H11="Zero"),G11,IF(B$3="Last",H11,IF(B$3="2nd last","",IF(AND(B$3="Opposite",H11="Zero"),G11,IF(AND(B$3="Opposite",H11="Red"),"Black",IF(AND(B$3="Opposite",H11="Black"),"Red",IF(AND(B$3="Opposite",H11="Odd"),"Even",IF(AND(B$3="Opposite",H11="Even"),"Odd",IF(AND(B$3="Opposite",H11="High"),"Low",IF(AND(B$3="Opposite",H11="Low"),"High",IF(COUNTIF(Refs!$E$5:$I$6,B$3)=1,RevLab!B$3,""))))))))))))) -> Low | H12: =IF(E12="","",IF(B$2="Red/Black",LOOKUP(E12,Refs!D:D,Refs!F:F),IF(B$2="High/Low",LOOKUP(E12,Refs!D:D,Refs!H:H),IF(B$2="Odd/Even",LOOKUP(E12,Refs!D:D,Refs!J:J),"")))) -> High | I12: =IF(E12="","",IF(G12="","",IF(H12=G12,1,-1))) -> -1 | J12: =IF(E11="","",IF(G12="","",IF(AND(Q11>1,O11+P11>=$B$4),$B$4,IF(Q11=1,O11,O11+P11)))) -> 6 | K12: =IF(E12="","",IF(G12="","",IF(I12=1,J12,-J12))) -> -6 | L12: =IF(E12="","",IF(G12="",L11,K12+L11)) -> -1 | M12: =IF(E12="","",IF(L12>M11,L12,M11)) -> 0 | N12: =IF(E11="","",IF(OR(AND($A$6="Yes",$M12>$M11),AND($A$8="Yes",$O11+$P11>=$B$4),AND($Q11<=2,$I12=-1)),1,0)) -> 0 | O12: =IF(E12="","",R12) -> 2 | P12: =IF(E12="","",MAX(R12:DM12)) -> 4 | Q12: =IF(E12="","",COUNTIF(R12:DM12,">0")) -> 3 | R12: =IF(E11="","",IF($G12="",R11,IF($N12=1,LOOKUP(R$9,$A$12:$A$111,$B$12:$B$111),IF(AND($I12=-1,S$9=$Q11),"",IF($I12=-1,S11,IF($I12=1,R11)))))) -> 2 | S12: =IF($E11="","",IF($G12="",S11,IF(AND($N12=1,S$9>$B$9),"",IF(AND($N12=1,S$9<=$B$9),LOOKUP(S$9,$A$12:$A$111,$B$12:$B$111),IF(AND($I12=-1,T$9=$Q11),"",IF($I12=-1,T11,IF(AND($I12=1,R$9=$Q11),$K12,IF($I12=1,S11,"")))))))) -> 3 | T12: =IF($E11="","",IF($G12="",T11,IF(AND($N12=1,T$9>$B$9),"",IF(AND($N12=1,T$9<=$B$9),LOOKUP(T$9,$A$12:$A$111,$B$12:$B$111),IF(AND($I12=-1,U$9=$Q11),"",IF($I12=-1,U11,IF(AND($I12=1,S$9=$Q11),$K12,IF($I12=1,T11,"")))))))) -> 4 | U12: =IF($E11="","",IF($G12="",U11,IF(AND($N12=1,U$9>$B$9),"",IF(AND($N12=1,U$9<=$B$9),LOOKUP(U$9,$A$12:$A$111,$B$12:$B$111),IF(AND($I12=-1,V$9=$Q11),"",IF($I12=-1,V11,IF(AND($I12=1,T$9=$Q11),$K12,IF($I12=1,U11,"")))))))) | V12: =IF($E11="","",IF($G12="",V11,IF(AND($N12=1,V$9>$B$9),"",IF(AND($N12=1,V$9<=$B$9),LOOKUP(V$9,$A$12:$A$111,$B$12:$B$111),IF(AND($I12=-1,W$9=$Q11),"",IF($I12=-1,W11,IF(AND($I12=1,U$9=$Q11),$K12,IF($I12=1,V11,"")))))))) | W12: =IF($E11="","",IF($G12="",W11,IF(AND($N12=1,W$9>$B$9),"",IF(AND($N12=1,W$9<=$B$9),LOOKUP(W$9,$A$12:$A$111,$B$12:$B$111),IF(AND($I12=-1,X$9=$Q11),"",IF($I12=-1,X11,IF(AND($I12=1,V$9=$Q11),$K12,IF($I12=1,W11,"")))))))) | X12: =IF($E11="","",IF($G12="",X11,IF(AND($N12=1,X$9>$B$9),"",IF(AND($N12=1,X$9<=$B$9),LOOKUP(X$9,$A$12:$A$111,$B$12:$B$111),IF(AND($I12=-1,Y$9=$Q11),"",IF($I12=-1,Y11,IF(AND($I12=1,W$9=$Q11),$K12,IF($I12=1,X11,"")))))))) | Y12: =IF($E11="","",IF($G12="",Y11,IF(AND($N12=1,Y$9>$B$9),"",IF(AND($N12=1,Y$9<=$B$9),LOOKUP(Y$9,$A$12:$A$111,$B$12:$B$111),IF(AND($I12=-1,Z$9=$Q11),"",IF($I12=-1,Z11,IF(AND($I12=1,X$9=$Q11),$K12,IF($I12=1,Y11,"")))))))) | Z12: =IF($E11="","",IF($G12="",Z11,IF(AND($N12=1,Z$9>$B$9),"",IF(AND($N12=1,Z$9<=$B$9),LOOKUP(Z$9,$A$12:$A$111,$B$12:$B$111),IF(AND($I12=-1,AA$9=$Q11),"",IF($I12=-1,AA11,IF(AND($I12=1,Y$9=$Q11),$K12,IF($I12=1,Z11,"")))))))) | ... BO12: =IF($E11="","",IF($G12="",BO11,IF(AND($N12=1,BO$9>$B$9),"",IF(AND($N12=1,BO$9<=$B$9),LOOKUP(BO$9,$A$12:$A$111,$B$12:$B$111),IF(AND($I12=-1,BP$9=$Q11),"",IF($I12=-1,BP11,IF(AND($I12=1,BN$9=$Q11),$K12,IF($I12=1,BO11,"")))))))) -> 0
A13: 2 | B13: 2 | D13: 3 | E13: =RANDBETWEEN(0,36) -> 26 | G13: =IF(E12="","",IF($B$3=Refs!$B$17,RevLab!F13,IF(AND(B$3="Last",H12="Zero"),G12,IF(B$3="Last",H12,IF(B$3="2nd last","",IF(AND(B$3="Opposite",H12="Zero"),G12,IF(AND(B$3="Opposite",H12="Red"),"Black",IF(AND(B$3="Opposite",H12="Black"),"Red",IF(AND(B$3="Opposite",H12="Odd"),"Even",IF(AND(B$3="Opposite",H12="Even"),"Odd",IF(AND(B$3="Opposite",H12="High"),"Low",IF(AND(B$3="Opposite",H12="Low"),"High",IF(COUNTIF(Refs!$E$5:$I$6,B$3)=1,RevLab!B$3,""))))))))))))) -> Low | H13: =IF(E13="","",IF(B$2="Red/Black",LOOKUP(E13,Refs!D:D,Refs!F:F),IF(B$2="High/Low",LOOKUP(E13,Refs!D:D,Refs!H:H),IF(B$2="Odd/Even",LOOKUP(E13,Refs!D:D,Refs!J:J),"")))) -> High | I13: =IF(E13="","",IF(G13="","",IF(H13=G13,1,-1))) -> -1 | J13: =IF(E12="","",IF(G13="","",IF(AND(Q12>1,O12+P12>=$B$4),$B$4,IF(Q12=1,O12,O12+P12)))) -> 6 | K13: =IF(E13="","",IF(G13="","",IF(I13=1,J13,-J13))) -> -6 | L13: =IF(E13="","",IF(G13="",L12,K13+L12)) -> -7 | M13: =IF(E13="","",IF(L13>M12,L13,M12)) -> 0 | N13: =IF(E12="","",IF(OR(AND($A$6="Yes",$M13>$M12),AND($A$8="Yes",$O12+$P12>=$B$4),AND($Q12<=2,$I13=-1)),1,0)) -> 0 | O13: =IF(E13="","",R13) -> 3 | P13: =IF(E13="","",MAX(R13:DM13)) -> 3 | Q13: =IF(E13="","",COUNTIF(R13:DM13,">0")) -> 1 | R13: =IF(E12="","",IF($G13="",R12,IF($N13=1,LOOKUP(R$9,$A$12:$A$111,$B$12:$B$111),IF(AND($I13=-1,S$9=$Q12),"",IF($I13=-1,S12,IF($I13=1,R12)))))) -> 3 | S13: =IF($E12="","",IF($G13="",S12,IF(AND($N13=1,S$9>$B$9),"",IF(AND($N13=1,S$9<=$B$9),LOOKUP(S$9,$A$12:$A$111,$B$12:$B$111),IF(AND($I13=-1,T$9=$Q12),"",IF($I13=-1,T12,IF(AND($I13=1,R$9=$Q12),$K13,IF($I13=1,S12,"")))))))) | T13: =IF($E12="","",IF($G13="",T12,IF(AND($N13=1,T$9>$B$9),"",IF(AND($N13=1,T$9<=$B$9),LOOKUP(T$9,$A$12:$A$111,$B$12:$B$111),IF(AND($I13=-1,U$9=$Q12),"",IF($I13=-1,U12,IF(AND($I13=1,S$9=$Q12),$K13,IF($I13=1,T12,"")))))))) | U13: =IF($E12="","",IF($G13="",U12,IF(AND($N13=1,U$9>$B$9),"",IF(AND($N13=1,U$9<=$B$9),LOOKUP(U$9,$A$12:$A$111,$B$12:$B$111),IF(AND($I13=-1,V$9=$Q12),"",IF($I13=-1,V12,IF(AND($I13=1,T$9=$Q12),$K13,IF($I13=1,U12,"")))))))) | V13: =IF($E12="","",IF($G13="",V12,IF(AND($N13=1,V$9>$B$9),"",IF(AND($N13=1,V$9<=$B$9),LOOKUP(V$9,$A$12:$A$111,$B$12:$B$111),IF(AND($I13=-1,W$9=$Q12),"",IF($I13=-1,W12,IF(AND($I13=1,U$9=$Q12),$K13,IF($I13=1,V12,"")))))))) | W13: =IF($E12="","",IF($G13="",W12,IF(AND($N13=1,W$9>$B$9),"",IF(AND($N13=1,W$9<=$B$9),LOOKUP(W$9,$A$12:$A$111,$B$12:$B$111),IF(AND($I13=-1,X$9=$Q12),"",IF($I13=-1,X12,IF(AND($I13=1,V$9=$Q12),$K13,IF($I13=1,W12,"")))))))) | X13: =IF($E12="","",IF($G13="",X12,IF(AND($N13=1,X$9>$B$9),"",IF(AND($N13=1,X$9<=$B$9),LOOKUP(X$9,$A$12:$A$111,$B$12:$B$111),IF(AND($I13=-1,Y$9=$Q12),"",IF($I13=-1,Y12,IF(AND($I13=1,W$9=$Q12),$K13,IF($I13=1,X12,"")))))))) | Y13: =IF($E12="","",IF($G13="",Y12,IF(AND($N13=1,Y$9>$B$9),"",IF(AND($N13=1,Y$9<=$B$9),LOOKUP(Y$9,$A$12:$A$111,$B$12:$B$111),IF(AND($I13=-1,Z$9=$Q12),"",IF($I13=-1,Z12,IF(AND($I13=1,X$9=$Q12),$K13,IF($I13=1,Y12,"")))))))) | Z13: =IF($E12="","",IF($G13="",Z12,IF(AND($N13=1,Z$9>$B$9),"",IF(AND($N13=1,Z$9<=$B$9),LOOKUP(Z$9,$A$12:$A$111,$B$12:$B$111),IF(AND($I13=-1,AA$9=$Q12),"",IF($I13=-1,AA12,IF(AND($I13=1,Y$9=$Q12),$K13,IF($I13=1,Z12,"")))))))) | ... BO13: =IF($E12="","",IF($G13="",BO12,IF(AND($N13=1,BO$9>$B$9),"",IF(AND($N13=1,BO$9<=$B$9),LOOKUP(BO$9,$A$12:$A$111,$B$12:$B$111),IF(AND($I13=-1,BP$9=$Q12),"",IF($I13=-1,BP12,IF(AND($I13=1,BN$9=$Q12),$K13,IF($I13=1,BO12,"")))))))) -> 0
A14: 3 | B14: 3 | D14: 4 | E14: =RANDBETWEEN(0,36) -> 11 | G14: =IF(E13="","",IF($B$3=Refs!$B$17,RevLab!F14,IF(AND(B$3="Last",H13="Zero"),G13,IF(B$3="Last",H13,IF(B$3="2nd last","",IF(AND(B$3="Opposite",H13="Zero"),G13,IF(AND(B$3="Opposite",H13="Red"),"Black",IF(AND(B$3="Opposite",H13="Black"),"Red",IF(AND(B$3="Opposite",H13="Odd"),"Even",IF(AND(B$3="Opposite",H13="Even"),"Odd",IF(AND(B$3="Opposite",H13="High"),"Low",IF(AND(B$3="Opposite",H13="Low"),"High",IF(COUNTIF(Refs!$E$5:$I$6,B$3)=1,RevLab!B$3,""))))))))))))) -> Low | H14: =IF(E14="","",IF(B$2="Red/Black",LOOKUP(E14,Refs!D:D,Refs!F:F),IF(B$2="High/Low",LOOKUP(E14,Refs!D:D,Refs!H:H),IF(B$2="Odd/Even",LOOKUP(E14,Refs!D:D,Refs!J:J),"")))) -> Low | I14: =IF(E14="","",IF(G14="","",IF(H14=G14,1,-1))) -> 1 | J14: =IF(E13="","",IF(G14="","",IF(AND(Q13>1,O13+P13>=$B$4),$B$4,IF(Q13=1,O13,O13+P13)))) -> 3 | K14: =IF(E14="","",IF(G14="","",IF(I14=1,J14,-J14))) -> 3 | L14: =IF(E14="","",IF(G14="",L13,K14+L13)) -> -4 | M14: =IF(E14="","",IF(L14>M13,L14,M13)) -> 0 | N14: =IF(E13="","",IF(OR(AND($A$6="Yes",$M14>$M13),AND($A$8="Yes",$O13+$P13>=$B$4),AND($Q13<=2,$I14=-1)),1,0)) -> 0 | O14: =IF(E14="","",R14) -> 3 | P14: =IF(E14="","",MAX(R14:DM14)) -> 3 | Q14: =IF(E14="","",COUNTIF(R14:DM14,">0")) -> 2 | R14: =IF(E13="","",IF($G14="",R13,IF($N14=1,LOOKUP(R$9,$A$12:$A$111,$B$12:$B$111),IF(AND($I14=-1,S$9=$Q13),"",IF($I14=-1,S13,IF($I14=1,R13)))))) -> 3 | S14: =IF($E13="","",IF($G14="",S13,IF(AND($N14=1,S$9>$B$9),"",IF(AND($N14=1,S$9<=$B$9),LOOKUP(S$9,$A$12:$A$111,$B$12:$B$111),IF(AND($I14=-1,T$9=$Q13),"",IF($I14=-1,T13,IF(AND($I14=1,R$9=$Q13),$K14,IF($I14=1,S13,"")))))))) -> 3 | T14: =IF($E13="","",IF($G14="",T13,IF(AND($N14=1,T$9>$B$9),"",IF(AND($N14=1,T$9<=$B$9),LOOKUP(T$9,$A$12:$A$111,$B$12:$B$111),IF(AND($I14=-1,U$9=$Q13),"",IF($I14=-1,U13,IF(AND($I14=1,S$9=$Q13),$K14,IF($I14=1,T13,"")))))))) | U14: =IF($E13="","",IF($G14="",U13,IF(AND($N14=1,U$9>$B$9),"",IF(AND($N14=1,U$9<=$B$9),LOOKUP(U$9,$A$12:$A$111,$B$12:$B$111),IF(AND($I14=-1,V$9=$Q13),"",IF($I14=-1,V13,IF(AND($I14=1,T$9=$Q13),$K14,IF($I14=1,U13,"")))))))) | V14: =IF($E13="","",IF($G14="",V13,IF(AND($N14=1,V$9>$B$9),"",IF(AND($N14=1,V$9<=$B$9),LOOKUP(V$9,$A$12:$A$111,$B$12:$B$111),IF(AND($I14=-1,W$9=$Q13),"",IF($I14=-1,W13,IF(AND($I14=1,U$9=$Q13),$K14,IF($I14=1,V13,"")))))))) | W14: =IF($E13="","",IF($G14="",W13,IF(AND($N14=1,W$9>$B$9),"",IF(AND($N14=1,W$9<=$B$9),LOOKUP(W$9,$A$12:$A$111,$B$12:$B$111),IF(AND($I14=-1,X$9=$Q13),"",IF($I14=-1,X13,IF(AND($I14=1,V$9=$Q13),$K14,IF($I14=1,W13,"")))))))) | X14: =IF($E13="","",IF($G14="",X13,IF(AND($N14=1,X$9>$B$9),"",IF(AND($N14=1,X$9<=$B$9),LOOKUP(X$9,$A$12:$A$111,$B$12:$B$111),IF(AND($I14=-1,Y$9=$Q13),"",IF($I14=-1,Y13,IF(AND($I14=1,W$9=$Q13),$K14,IF($I14=1,X13,"")))))))) | Y14: =IF($E13="","",IF($G14="",Y13,IF(AND($N14=1,Y$9>$B$9),"",IF(AND($N14=1,Y$9<=$B$9),LOOKUP(Y$9,$A$12:$A$111,$B$12:$B$111),IF(AND($I14=-1,Z$9=$Q13),"",IF($I14=-1,Z13,IF(AND($I14=1,X$9=$Q13),$K14,IF($I14=1,Y13,"")))))))) | Z14: =IF($E13="","",IF($G14="",Z13,IF(AND($N14=1,Z$9>$B$9),"",IF(AND($N14=1,Z$9<=$B$9),LOOKUP(Z$9,$A$12:$A$111,$B$12:$B$111),IF(AND($I14=-1,AA$9=$Q13),"",IF($I14=-1,AA13,IF(AND($I14=1,Y$9=$Q13),$K14,IF($I14=1,Z13,"")))))))) | ... BO14: =IF($E13="","",IF($G14="",BO13,IF(AND($N14=1,BO$9>$B$9),"",IF(AND($N14=1,BO$9<=$B$9),LOOKUP(BO$9,$A$12:$A$111,$B$12:$B$111),IF(AND($I14=-1,BP$9=$Q13),"",IF($I14=-1,BP13,IF(AND($I14=1,BN$9=$Q13),$K14,IF($I14=1,BO13,"")))))))) -> 0
A15: 4 | B15: 4 | D15: 5 | E15: =RANDBETWEEN(0,36) -> 19 | G15: =IF(E14="","",IF($B$3=Refs!$B$17,RevLab!F15,IF(AND(B$3="Last",H14="Zero"),G14,IF(B$3="Last",H14,IF(B$3="2nd last","",IF(AND(B$3="Opposite",H14="Zero"),G14,IF(AND(B$3="Opposite",H14="Red"),"Black",IF(AND(B$3="Opposite",H14="Black"),"Red",IF(AND(B$3="Opposite",H14="Odd"),"Even",IF(AND(B$3="Opposite",H14="Even"),"Odd",IF(AND(B$3="Opposite",H14="High"),"Low",IF(AND(B$3="Opposite",H14="Low"),"High",IF(COUNTIF(Refs!$E$5:$I$6,B$3)=1,RevLab!B$3,""))))))))))))) -> Low | H15: =IF(E15="","",IF(B$2="Red/Black",LOOKUP(E15,Refs!D:D,Refs!F:F),IF(B$2="High/Low",LOOKUP(E15,Refs!D:D,Refs!H:H),IF(B$2="Odd/Even",LOOKUP(E15,Refs!D:D,Refs!J:J),"")))) -> High | I15: =IF(E15="","",IF(G15="","",IF(H15=G15,1,-1))) -> -1 | J15: =IF(E14="","",IF(G15="","",IF(AND(Q14>1,O14+P14>=$B$4),$B$4,IF(Q14=1,O14,O14+P14)))) -> 6 | K15: =IF(E15="","",IF(G15="","",IF(I15=1,J15,-J15))) -> -6 | L15: =IF(E15="","",IF(G15="",L14,K15+L14)) -> -10 | M15: =IF(E15="","",IF(L15>M14,L15,M14)) -> 0 | N15: =IF(E14="","",IF(OR(AND($A$6="Yes",$M15>$M14),AND($A$8="Yes",$O14+$P14>=$B$4),AND($Q14<=2,$I15=-1)),1,0)) -> 1 | O15: =IF(E15="","",R15) -> 1 | P15: =IF(E15="","",MAX(R15:DM15)) -> 4 | Q15: =IF(E15="","",COUNTIF(R15:DM15,">0")) -> 4 | R15: =IF(E14="","",IF($G15="",R14,IF($N15=1,LOOKUP(R$9,$A$12:$A$111,$B$12:$B$111),IF(AND($I15=-1,S$9=$Q14),"",IF($I15=-1,S14,IF($I15=1,R14)))))) -> 1 | S15: =IF($E14="","",IF($G15="",S14,IF(AND($N15=1,S$9>$B$9),"",IF(AND($N15=1,S$9<=$B$9),LOOKUP(S$9,$A$12:$A$111,$B$12:$B$111),IF(AND($I15=-1,T$9=$Q14),"",IF($I15=-1,T14,IF(AND($I15=1,R$9=$Q14),$K15,IF($I15=1,S14,"")))))))) -> 2 | T15: =IF($E14="","",IF($G15="",T14,IF(AND($N15=1,T$9>$B$9),"",IF(AND($N15=1,T$9<=$B$9),LOOKUP(T$9,$A$12:$A$111,$B$12:$B$111),IF(AND($I15=-1,U$9=$Q14),"",IF($I15=-1,U14,IF(AND($I15=1,S$9=$Q14),$K15,IF($I15=1,T14,"")))))))) -> 3 | U15: =IF($E14="","",IF($G15="",U14,IF(AND($N15=1,U$9>$B$9),"",IF(AND($N15=1,U$9<=$B$9),LOOKUP(U$9,$A$12:$A$111,$B$12:$B$111),IF(AND($I15=-1,V$9=$Q14),"",IF($I15=-1,V14,IF(AND($I15=1,T$9=$Q14),$K15,IF($I15=1,U14,"")))))))) -> 4 | V15: =IF($E14="","",IF($G15="",V14,IF(AND($N15=1,V$9>$B$9),"",IF(AND($N15=1,V$9<=$B$9),LOOKUP(V$9,$A$12:$A$111,$B$12:$B$111),IF(AND($I15=-1,W$9=$Q14),"",IF($I15=-1,W14,IF(AND($I15=1,U$9=$Q14),$K15,IF($I15=1,V14,"")))))))) | W15: =IF($E14="","",IF($G15="",W14,IF(AND($N15=1,W$9>$B$9),"",IF(AND($N15=1,W$9<=$B$9),LOOKUP(W$9,$A$12:$A$111,$B$12:$B$111),IF(AND($I15=-1,X$9=$Q14),"",IF($I15=-1,X14,IF(AND($I15=1,V$9=$Q14),$K15,IF($I15=1,W14,"")))))))) | X15: =IF($E14="","",IF($G15="",X14,IF(AND($N15=1,X$9>$B$9),"",IF(AND($N15=1,X$9<=$B$9),LOOKUP(X$9,$A$12:$A$111,$B$12:$B$111),IF(AND($I15=-1,Y$9=$Q14),"",IF($I15=-1,Y14,IF(AND($I15=1,W$9=$Q14),$K15,IF($I15=1,X14,"")))))))) | Y15: =IF($E14="","",IF($G15="",Y14,IF(AND($N15=1,Y$9>$B$9),"",IF(AND($N15=1,Y$9<=$B$9),LOOKUP(Y$9,$A$12:$A$111,$B$12:$B$111),IF(AND($I15=-1,Z$9=$Q14),"",IF($I15=-1,Z14,IF(AND($I15=1,X$9=$Q14),$K15,IF($I15=1,Y14,"")))))))) | Z15: =IF($E14="","",IF($G15="",Z14,IF(AND($N15=1,Z$9>$B$9),"",IF(AND($N15=1,Z$9<=$B$9),LOOKUP(Z$9,$A$12:$A$111,$B$12:$B$111),IF(AND($I15=-1,AA$9=$Q14),"",IF($I15=-1,AA14,IF(AND($I15=1,Y$9=$Q14),$K15,IF($I15=1,Z14,"")))))))) | ... BO15: =IF($E14="","",IF($G15="",BO14,IF(AND($N15=1,BO$9>$B$9),"",IF(AND($N15=1,BO$9<=$B$9),LOOKUP(BO$9,$A$12:$A$111,$B$12:$B$111),IF(AND($I15=-1,BP$9=$Q14),"",IF($I15=-1,BP14,IF(AND($I15=1,BN$9=$Q14),$K15,IF($I15=1,BO14,""))))))))
A16: 5 | D16: 6 | E16: =RANDBETWEEN(0,36) -> 14 | G16: =IF(E15="","",IF($B$3=Refs!$B$17,RevLab!F16,IF(AND(B$3="Last",H15="Zero"),G15,IF(B$3="Last",H15,IF(B$3="2nd last","",IF(AND(B$3="Opposite",H15="Zero"),G15,IF(AND(B$3="Opposite",H15="Red"),"Black",IF(AND(B$3="Opposite",H15="Black"),"Red",IF(AND(B$3="Opposite",H15="Odd"),"Even",IF(AND(B$3="Opposite",H15="Even"),"Odd",IF(AND(B$3="Opposite",H15="High"),"Low",IF(AND(B$3="Opposite",H15="Low"),"High",IF(COUNTIF(Refs!$E$5:$I$6,B$3)=1,RevLab!B$3,""))))))))))))) -> Low | H16: =IF(E16="","",IF(B$2="Red/Black",LOOKUP(E16,Refs!D:D,Refs!F:F),IF(B$2="High/Low",LOOKUP(E16,Refs!D:D,Refs!H:H),IF(B$2="Odd/Even",LOOKUP(E16,Refs!D:D,Refs!J:J),"")))) -> Low | I16: =IF(E16="","",IF(G16="","",IF(H16=G16,1,-1))) -> 1 | J16: =IF(E15="","",IF(G16="","",IF(AND(Q15>1,O15+P15>=$B$4),$B$4,IF(Q15=1,O15,O15+P15)))) -> 5 | K16: =IF(E16="","",IF(G16="","",IF(I16=1,J16,-J16))) -> 5 | L16: =IF(E16="","",IF(G16="",L15,K16+L15)) -> -5 | M16: =IF(E16="","",IF(L16>M15,L16,M15)) -> 0 | N16: =IF(E15="","",IF(OR(AND($A$6="Yes",$M16>$M15),AND($A$8="Yes",$O15+$P15>=$B$4),AND($Q15<=2,$I16=-1)),1,0)) -> 0 | O16: =IF(E16="","",R16) -> 1 | P16: =IF(E16="","",MAX(R16:DM16)) -> 5 | Q16: =IF(E16="","",COUNTIF(R16:DM16,">0")) -> 5 | R16: =IF(E15="","",IF($G16="",R15,IF($N16=1,LOOKUP(R$9,$A$12:$A$111,$B$12:$B$111),IF(AND($I16=-1,S$9=$Q15),"",IF($I16=-1,S15,IF($I16=1,R15)))))) -> 1 | S16: =IF($E15="","",IF($G16="",S15,IF(AND($N16=1,S$9>$B$9),"",IF(AND($N16=1,S$9<=$B$9),LOOKUP(S$9,$A$12:$A$111,$B$12:$B$111),IF(AND($I16=-1,T$9=$Q15),"",IF($I16=-1,T15,IF(AND($I16=1,R$9=$Q15),$K16,IF($I16=1,S15,"")))))))) -> 2 | T16: =IF($E15="","",IF($G16="",T15,IF(AND($N16=1,T$9>$B$9),"",IF(AND($N16=1,T$9<=$B$9),LOOKUP(T$9,$A$12:$A$111,$B$12:$B$111),IF(AND($I16=-1,U$9=$Q15),"",IF($I16=-1,U15,IF(AND($I16=1,S$9=$Q15),$K16,IF($I16=1,T15,"")))))))) -> 3 | U16: =IF($E15="","",IF($G16="",U15,IF(AND($N16=1,U$9>$B$9),"",IF(AND($N16=1,U$9<=$B$9),LOOKUP(U$9,$A$12:$A$111,$B$12:$B$111),IF(AND($I16=-1,V$9=$Q15),"",IF($I16=-1,V15,IF(AND($I16=1,T$9=$Q15),$K16,IF($I16=1,U15,"")))))))) -> 4 | V16: =IF($E15="","",IF($G16="",V15,IF(AND($N16=1,V$9>$B$9),"",IF(AND($N16=1,V$9<=$B$9),LOOKUP(V$9,$A$12:$A$111,$B$12:$B$111),IF(AND($I16=-1,W$9=$Q15),"",IF($I16=-1,W15,IF(AND($I16=1,U$9=$Q15),$K16,IF($I16=1,V15,"")))))))) -> 5 | W16: =IF($E15="","",IF($G16="",W15,IF(AND($N16=1,W$9>$B$9),"",IF(AND($N16=1,W$9<=$B$9),LOOKUP(W$9,$A$12:$A$111,$B$12:$B$111),IF(AND($I16=-1,X$9=$Q15),"",IF($I16=-1,X15,IF(AND($I16=1,V$9=$Q15),$K16,IF($I16=1,W15,"")))))))) | X16: =IF($E15="","",IF($G16="",X15,IF(AND($N16=1,X$9>$B$9),"",IF(AND($N16=1,X$9<=$B$9),LOOKUP(X$9,$A$12:$A$111,$B$12:$B$111),IF(AND($I16=-1,Y$9=$Q15),"",IF($I16=-1,Y15,IF(AND($I16=1,W$9=$Q15),$K16,IF($I16=1,X15,"")))))))) | Y16: =IF($E15="","",IF($G16="",Y15,IF(AND($N16=1,Y$9>$B$9),"",IF(AND($N16=1,Y$9<=$B$9),LOOKUP(Y$9,$A$12:$A$111,$B$12:$B$111),IF(AND($I16=-1,Z$9=$Q15),"",IF($I16=-1,Z15,IF(AND($I16=1,X$9=$Q15),$K16,IF($I16=1,Y15,"")))))))) | Z16: =IF($E15="","",IF($G16="",Z15,IF(AND($N16=1,Z$9>$B$9),"",IF(AND($N16=1,Z$9<=$B$9),LOOKUP(Z$9,$A$12:$A$111,$B$12:$B$111),IF(AND($I16=-1,AA$9=$Q15),"",IF($I16=-1,AA15,IF(AND($I16=1,Y$9=$Q15),$K16,IF($I16=1,Z15,"")))))))) | ... BO16: =IF($E15="","",IF($G16="",BO15,IF(AND($N16=1,BO$9>$B$9),"",IF(AND($N16=1,BO$9<=$B$9),LOOKUP(BO$9,$A$12:$A$111,$B$12:$B$111),IF(AND($I16=-1,BP$9=$Q15),"",IF($I16=-1,BP15,IF(AND($I16=1,BN$9=$Q15),$K16,IF($I16=1,BO15,""))))))))
A17: 6 | D17: 7 | E17: =RANDBETWEEN(0,36) -> 22 | G17: =IF(E16="","",IF($B$3=Refs!$B$17,RevLab!F17,IF(AND(B$3="Last",H16="Zero"),G16,IF(B$3="Last",H16,IF(B$3="2nd last","",IF(AND(B$3="Opposite",H16="Zero"),G16,IF(AND(B$3="Opposite",H16="Red"),"Black",IF(AND(B$3="Opposite",H16="Black"),"Red",IF(AND(B$3="Opposite",H16="Odd"),"Even",IF(AND(B$3="Opposite",H16="Even"),"Odd",IF(AND(B$3="Opposite",H16="High"),"Low",IF(AND(B$3="Opposite",H16="Low"),"High",IF(COUNTIF(Refs!$E$5:$I$6,B$3)=1,RevLab!B$3,""))))))))))))) -> Low | H17: =IF(E17="","",IF(B$2="Red/Black",LOOKUP(E17,Refs!D:D,Refs!F:F),IF(B$2="High/Low",LOOKUP(E17,Refs!D:D,Refs!H:H),IF(B$2="Odd/Even",LOOKUP(E17,Refs!D:D,Refs!J:J),"")))) -> High | I17: =IF(E17="","",IF(G17="","",IF(H17=G17,1,-1))) -> -1 | J17: =IF(E16="","",IF(G17="","",IF(AND(Q16>1,O16+P16>=$B$4),$B$4,IF(Q16=1,O16,O16+P16)))) -> 6 | K17: =IF(E17="","",IF(G17="","",IF(I17=1,J17,-J17))) -> -6 | L17: =IF(E17="","",IF(G17="",L16,K17+L16)) -> -11 | M17: =IF(E17="","",IF(L17>M16,L17,M16)) -> 0 | N17: =IF(E16="","",IF(OR(AND($A$6="Yes",$M17>$M16),AND($A$8="Yes",$O16+$P16>=$B$4),AND($Q16<=2,$I17=-1)),1,0)) -> 0 | O17: =IF(E17="","",R17) -> 2 | P17: =IF(E17="","",MAX(R17:DM17)) -> 4 | Q17: =IF(E17="","",COUNTIF(R17:DM17,">0")) -> 3 | R17: =IF(E16="","",IF($G17="",R16,IF($N17=1,LOOKUP(R$9,$A$12:$A$111,$B$12:$B$111),IF(AND($I17=-1,S$9=$Q16),"",IF($I17=-1,S16,IF($I17=1,R16)))))) -> 2 | S17: =IF($E16="","",IF($G17="",S16,IF(AND($N17=1,S$9>$B$9),"",IF(AND($N17=1,S$9<=$B$9),LOOKUP(S$9,$A$12:$A$111,$B$12:$B$111),IF(AND($I17=-1,T$9=$Q16),"",IF($I17=-1,T16,IF(AND($I17=1,R$9=$Q16),$K17,IF($I17=1,S16,"")))))))) -> 3 | T17: =IF($E16="","",IF($G17="",T16,IF(AND($N17=1,T$9>$B$9),"",IF(AND($N17=1,T$9<=$B$9),LOOKUP(T$9,$A$12:$A$111,$B$12:$B$111),IF(AND($I17=-1,U$9=$Q16),"",IF($I17=-1,U16,IF(AND($I17=1,S$9=$Q16),$K17,IF($I17=1,T16,"")))))))) -> 4 | U17: =IF($E16="","",IF($G17="",U16,IF(AND($N17=1,U$9>$B$9),"",IF(AND($N17=1,U$9<=$B$9),LOOKUP(U$9,$A$12:$A$111,$B$12:$B$111),IF(AND($I17=-1,V$9=$Q16),"",IF($I17=-1,V16,IF(AND($I17=1,T$9=$Q16),$K17,IF($I17=1,U16,"")))))))) | V17: =IF($E16="","",IF($G17="",V16,IF(AND($N17=1,V$9>$B$9),"",IF(AND($N17=1,V$9<=$B$9),LOOKUP(V$9,$A$12:$A$111,$B$12:$B$111),IF(AND($I17=-1,W$9=$Q16),"",IF($I17=-1,W16,IF(AND($I17=1,U$9=$Q16),$K17,IF($I17=1,V16,"")))))))) | W17: =IF($E16="","",IF($G17="",W16,IF(AND($N17=1,W$9>$B$9),"",IF(AND($N17=1,W$9<=$B$9),LOOKUP(W$9,$A$12:$A$111,$B$12:$B$111),IF(AND($I17=-1,X$9=$Q16),"",IF($I17=-1,X16,IF(AND($I17=1,V$9=$Q16),$K17,IF($I17=1,W16,"")))))))) | X17: =IF($E16="","",IF($G17="",X16,IF(AND($N17=1,X$9>$B$9),"",IF(AND($N17=1,X$9<=$B$9),LOOKUP(X$9,$A$12:$A$111,$B$12:$B$111),IF(AND($I17=-1,Y$9=$Q16),"",IF($I17=-1,Y16,IF(AND($I17=1,W$9=$Q16),$K17,IF($I17=1,X16,"")))))))) | Y17: =IF($E16="","",IF($G17="",Y16,IF(AND($N17=1,Y$9>$B$9),"",IF(AND($N17=1,Y$9<=$B$9),LOOKUP(Y$9,$A$12:$A$111,$B$12:$B$111),IF(AND($I17=-1,Z$9=$Q16),"",IF($I17=-1,Z16,IF(AND($I17=1,X$9=$Q16),$K17,IF($I17=1,Y16,"")))))))) | Z17: =IF($E16="","",IF($G17="",Z16,IF(AND($N17=1,Z$9>$B$9),"",IF(AND($N17=1,Z$9<=$B$9),LOOKUP(Z$9,$A$12:$A$111,$B$12:$B$111),IF(AND($I17=-1,AA$9=$Q16),"",IF($I17=-1,AA16,IF(AND($I17=1,Y$9=$Q16),$K17,IF($I17=1,Z16,"")))))))) | ... BO17: =IF($E16="","",IF($G17="",BO16,IF(AND($N17=1,BO$9>$B$9),"",IF(AND($N17=1,BO$9<=$B$9),LOOKUP(BO$9,$A$12:$A$111,$B$12:$B$111),IF(AND($I17=-1,BP$9=$Q16),"",IF($I17=-1,BP16,IF(AND($I17=1,BN$9=$Q16),$K17,IF($I17=1,BO16,"")))))))) -> 0
A18: 7 | D18: 8 | E18: =RANDBETWEEN(0,36) -> 7 | G18: =IF(E17="","",IF($B$3=Refs!$B$17,RevLab!F18,IF(AND(B$3="Last",H17="Zero"),G17,IF(B$3="Last",H17,IF(B$3="2nd last","",IF(AND(B$3="Opposite",H17="Zero"),G17,IF(AND(B$3="Opposite",H17="Red"),"Black",IF(AND(B$3="Opposite",H17="Black"),"Red",IF(AND(B$3="Opposite",H17="Odd"),"Even",IF(AND(B$3="Opposite",H17="Even"),"Odd",IF(AND(B$3="Opposite",H17="High"),"Low",IF(AND(B$3="Opposite",H17="Low"),"High",IF(COUNTIF(Refs!$E$5:$I$6,B$3)=1,RevLab!B$3,""))))))))))))) -> Low | H18: =IF(E18="","",IF(B$2="Red/Black",LOOKUP(E18,Refs!D:D,Refs!F:F),IF(B$2="High/Low",LOOKUP(E18,Refs!D:D,Refs!H:H),IF(B$2="Odd/Even",LOOKUP(E18,Refs!D:D,Refs!J:J),"")))) -> Low | I18: =IF(E18="","",IF(G18="","",IF(H18=G18,1,-1))) -> 1 | J18: =IF(E17="","",IF(G18="","",IF(AND(Q17>1,O17+P17>=$B$4),$B$4,IF(Q17=1,O17,O17+P17)))) -> 6 | K18: =IF(E18="","",IF(G18="","",IF(I18=1,J18,-J18))) -> 6 | L18: =IF(E18="","",IF(G18="",L17,K18+L17)) -> -5 | M18: =IF(E18="","",IF(L18>M17,L18,M17)) -> 0 | N18: =IF(E17="","",IF(OR(AND($A$6="Yes",$M18>$M17),AND($A$8="Yes",$O17+$P17>=$B$4),AND($Q17<=2,$I18=-1)),1,0)) -> 0 | O18: =IF(E18="","",R18) -> 2 | P18: =IF(E18="","",MAX(R18:DM18)) -> 6 | Q18: =IF(E18="","",COUNTIF(R18:DM18,">0")) -> 4 | R18: =IF(E17="","",IF($G18="",R17,IF($N18=1,LOOKUP(R$9,$A$12:$A$111,$B$12:$B$111),IF(AND($I18=-1,S$9=$Q17),"",IF($I18=-1,S17,IF($I18=1,R17)))))) -> 2 | S18: =IF($E17="","",IF($G18="",S17,IF(AND($N18=1,S$9>$B$9),"",IF(AND($N18=1,S$9<=$B$9),LOOKUP(S$9,$A$12:$A$111,$B$12:$B$111),IF(AND($I18=-1,T$9=$Q17),"",IF($I18=-1,T17,IF(AND($I18=1,R$9=$Q17),$K18,IF($I18=1,S17,"")))))))) -> 3 | T18: =IF($E17="","",IF($G18="",T17,IF(AND($N18=1,T$9>$B$9),"",IF(AND($N18=1,T$9<=$B$9),LOOKUP(T$9,$A$12:$A$111,$B$12:$B$111),IF(AND($I18=-1,U$9=$Q17),"",IF($I18=-1,U17,IF(AND($I18=1,S$9=$Q17),$K18,IF($I18=1,T17,"")))))))) -> 4 | U18: =IF($E17="","",IF($G18="",U17,IF(AND($N18=1,U$9>$B$9),"",IF(AND($N18=1,U$9<=$B$9),LOOKUP(U$9,$A$12:$A$111,$B$12:$B$111),IF(AND($I18=-1,V$9=$Q17),"",IF($I18=-1,V17,IF(AND($I18=1,T$9=$Q17),$K18,IF($I18=1,U17,"")))))))) -> 6 | V18: =IF($E17="","",IF($G18="",V17,IF(AND($N18=1,V$9>$B$9),"",IF(AND($N18=1,V$9<=$B$9),LOOKUP(V$9,$A$12:$A$111,$B$12:$B$111),IF(AND($I18=-1,W$9=$Q17),"",IF($I18=-1,W17,IF(AND($I18=1,U$9=$Q17),$K18,IF($I18=1,V17,"")))))))) | W18: =IF($E17="","",IF($G18="",W17,IF(AND($N18=1,W$9>$B$9),"",IF(AND($N18=1,W$9<=$B$9),LOOKUP(W$9,$A$12:$A$111,$B$12:$B$111),IF(AND($I18=-1,X$9=$Q17),"",IF($I18=-1,X17,IF(AND($I18=1,V$9=$Q17),$K18,IF($I18=1,W17,"")))))))) | X18: =IF($E17="","",IF($G18="",X17,IF(AND($N18=1,X$9>$B$9),"",IF(AND($N18=1,X$9<=$B$9),LOOKUP(X$9,$A$12:$A$111,$B$12:$B$111),IF(AND($I18=-1,Y$9=$Q17),"",IF($I18=-1,Y17,IF(AND($I18=1,W$9=$Q17),$K18,IF($I18=1,X17,"")))))))) | Y18: =IF($E17="","",IF($G18="",Y17,IF(AND($N18=1,Y$9>$B$9),"",IF(AND($N18=1,Y$9<=$B$9),LOOKUP(Y$9,$A$12:$A$111,$B$12:$B$111),IF(AND($I18=-1,Z$9=$Q17),"",IF($I18=-1,Z17,IF(AND($I18=1,X$9=$Q17),$K18,IF($I18=1,Y17,"")))))))) | Z18: =IF($E17="","",IF($G18="",Z17,IF(AND($N18=1,Z$9>$B$9),"",IF(AND($N18=1,Z$9<=$B$9),LOOKUP(Z$9,$A$12:$A$111,$B$12:$B$111),IF(AND($I18=-1,AA$9=$Q17),"",IF($I18=-1,AA17,IF(AND($I18=1,Y$9=$Q17),$K18,IF($I18=1,Z17,"")))))))) | ... BO18: =IF($E17="","",IF($G18="",BO17,IF(AND($N18=1,BO$9>$B$9),"",IF(AND($N18=1,BO$9<=$B$9),LOOKUP(BO$9,$A$12:$A$111,$B$12:$B$111),IF(AND($I18=-1,BP$9=$Q17),"",IF($I18=-1,BP17,IF(AND($I18=1,BN$9=$Q17),$K18,IF($I18=1,BO17,"")))))))) -> 0
A19: 8 | D19: 9 | E19: =RANDBETWEEN(0,36) -> 15 | G19: =IF(E18="","",IF($B$3=Refs!$B$17,RevLab!F19,IF(AND(B$3="Last",H18="Zero"),G18,IF(B$3="Last",H18,IF(B$3="2nd last","",IF(AND(B$3="Opposite",H18="Zero"),G18,IF(AND(B$3="Opposite",H18="Red"),"Black",IF(AND(B$3="Opposite",H18="Black"),"Red",IF(AND(B$3="Opposite",H18="Odd"),"Even",IF(AND(B$3="Opposite",H18="Even"),"Odd",IF(AND(B$3="Opposite",H18="High"),"Low",IF(AND(B$3="Opposite",H18="Low"),"High",IF(COUNTIF(Refs!$E$5:$I$6,B$3)=1,RevLab!B$3,""))))))))))))) -> Low | H19: =IF(E19="","",IF(B$2="Red/Black",LOOKUP(E19,Refs!D:D,Refs!F:F),IF(B$2="High/Low",LOOKUP(E19,Refs!D:D,Refs!H:H),IF(B$2="Odd/Even",LOOKUP(E19,Refs!D:D,Refs!J:J),"")))) -> Low | I19: =IF(E19="","",IF(G19="","",IF(H19=G19,1,-1))) -> 1 | J19: =IF(E18="","",IF(G19="","",IF(AND(Q18>1,O18+P18>=$B$4),$B$4,IF(Q18=1,O18,O18+P18)))) -> 8 | K19: =IF(E19="","",IF(G19="","",IF(I19=1,J19,-J19))) -> 8 | L19: =IF(E19="","",IF(G19="",L18,K19+L18)) -> 3 | M19: =IF(E19="","",IF(L19>M18,L19,M18)) -> 3 | N19: =IF(E18="","",IF(OR(AND($A$6="Yes",$M19>$M18),AND($A$8="Yes",$O18+$P18>=$B$4),AND($Q18<=2,$I19=-1)),1,0)) -> 0 | O19: =IF(E19="","",R19) -> 2 | P19: =IF(E19="","",MAX(R19:DM19)) -> 8 | Q19: =IF(E19="","",COUNTIF(R19:DM19,">0")) -> 5 | R19: =IF(E18="","",IF($G19="",R18,IF($N19=1,LOOKUP(R$9,$A$12:$A$111,$B$12:$B$111),IF(AND($I19=-1,S$9=$Q18),"",IF($I19=-1,S18,IF($I19=1,R18)))))) -> 2 | S19: =IF($E18="","",IF($G19="",S18,IF(AND($N19=1,S$9>$B$9),"",IF(AND($N19=1,S$9<=$B$9),LOOKUP(S$9,$A$12:$A$111,$B$12:$B$111),IF(AND($I19=-1,T$9=$Q18),"",IF($I19=-1,T18,IF(AND($I19=1,R$9=$Q18),$K19,IF($I19=1,S18,"")))))))) -> 3 | T19: =IF($E18="","",IF($G19="",T18,IF(AND($N19=1,T$9>$B$9),"",IF(AND($N19=1,T$9<=$B$9),LOOKUP(T$9,$A$12:$A$111,$B$12:$B$111),IF(AND($I19=-1,U$9=$Q18),"",IF($I19=-1,U18,IF(AND($I19=1,S$9=$Q18),$K19,IF($I19=1,T18,"")))))))) -> 4 | U19: =IF($E18="","",IF($G19="",U18,IF(AND($N19=1,U$9>$B$9),"",IF(AND($N19=1,U$9<=$B$9),LOOKUP(U$9,$A$12:$A$111,$B$12:$B$111),IF(AND($I19=-1,V$9=$Q18),"",IF($I19=-1,V18,IF(AND($I19=1,T$9=$Q18),$K19,IF($I19=1,U18,"")))))))) -> 6 | V19: =IF($E18="","",IF($G19="",V18,IF(AND($N19=1,V$9>$B$9),"",IF(AND($N19=1,V$9<=$B$9),LOOKUP(V$9,$A$12:$A$111,$B$12:$B$111),IF(AND($I19=-1,W$9=$Q18),"",IF($I19=-1,W18,IF(AND($I19=1,U$9=$Q18),$K19,IF($I19=1,V18,"")))))))) -> 8 | W19: =IF($E18="","",IF($G19="",W18,IF(AND($N19=1,W$9>$B$9),"",IF(AND($N19=1,W$9<=$B$9),LOOKUP(W$9,$A$12:$A$111,$B$12:$B$111),IF(AND($I19=-1,X$9=$Q18),"",IF($I19=-1,X18,IF(AND($I19=1,V$9=$Q18),$K19,IF($I19=1,W18,"")))))))) | X19: =IF($E18="","",IF($G19="",X18,IF(AND($N19=1,X$9>$B$9),"",IF(AND($N19=1,X$9<=$B$9),LOOKUP(X$9,$A$12:$A$111,$B$12:$B$111),IF(AND($I19=-1,Y$9=$Q18),"",IF($I19=-1,Y18,IF(AND($I19=1,W$9=$Q18),$K19,IF($I19=1,X18,"")))))))) | Y19: =IF($E18="","",IF($G19="",Y18,IF(AND($N19=1,Y$9>$B$9),"",IF(AND($N19=1,Y$9<=$B$9),LOOKUP(Y$9,$A$12:$A$111,$B$12:$B$111),IF(AND($I19=-1,Z$9=$Q18),"",IF($I19=-1,Z18,IF(AND($I19=1,X$9=$Q18),$K19,IF($I19=1,Y18,"")))))))) | Z19: =IF($E18="","",IF($G19="",Z18,IF(AND($N19=1,Z$9>$B$9),"",IF(AND($N19=1,Z$9<=$B$9),LOOKUP(Z$9,$A$12:$A$111,$B$12:$B$111),IF(AND($I19=-1,AA$9=$Q18),"",IF($I19=-1,AA18,IF(AND($I19=1,Y$9=$Q18),$K19,IF($I19=1,Z18,"")))))))) | ... BO19: =IF($E18="","",IF($G19="",BO18,IF(AND($N19=1,BO$9>$B$9),"",IF(AND($N19=1,BO$9<=$B$9),LOOKUP(BO$9,$A$12:$A$111,$B$12:$B$111),IF(AND($I19=-1,BP$9=$Q18),"",IF($I19=-1,BP18,IF(AND($I19=1,BN$9=$Q18),$K19,IF($I19=1,BO18,"")))))))) -> 0
A20: 9 | D20: 10 | E20: =RANDBETWEEN(0,36) -> 28 | G20: =IF(E19="","",IF($B$3=Refs!$B$17,RevLab!F20,IF(AND(B$3="Last",H19="Zero"),G19,IF(B$3="Last",H19,IF(B$3="2nd last","",IF(AND(B$3="Opposite",H19="Zero"),G19,IF(AND(B$3="Opposite",H19="Red"),"Black",IF(AND(B$3="Opposite",H19="Black"),"Red",IF(AND(B$3="Opposite",H19="Odd"),"Even",IF(AND(B$3="Opposite",H19="Even"),"Odd",IF(AND(B$3="Opposite",H19="High"),"Low",IF(AND(B$3="Opposite",H19="Low"),"High",IF(COUNTIF(Refs!$E$5:$I$6,B$3)=1,RevLab!B$3,""))))))))))))) -> Low | H20: =IF(E20="","",IF(B$2="Red/Black",LOOKUP(E20,Refs!D:D,Refs!F:F),IF(B$2="High/Low",LOOKUP(E20,Refs!D:D,Refs!H:H),IF(B$2="Odd/Even",LOOKUP(E20,Refs!D:D,Refs!J:J),"")))) -> High | I20: =IF(E20="","",IF(G20="","",IF(H20=G20,1,-1))) -> -1 | J20: =IF(E19="","",IF(G20="","",IF(AND(Q19>1,O19+P19>=$B$4),$B$4,IF(Q19=1,O19,O19+P19)))) -> 10 | K20: =IF(E20="","",IF(G20="","",IF(I20=1,J20,-J20))) -> -10 | L20: =IF(E20="","",IF(G20="",L19,K20+L19)) -> -7 | M20: =IF(E20="","",IF(L20>M19,L20,M19)) -> 3 | N20: =IF(E19="","",IF(OR(AND($A$6="Yes",$M20>$M19),AND($A$8="Yes",$O19+$P19>=$B$4),AND($Q19<=2,$I20=-1)),1,0)) -> 0 | O20: =IF(E20="","",R20) -> 3 | P20: =IF(E20="","",MAX(R20:DM20)) -> 6 | Q20: =IF(E20="","",COUNTIF(R20:DM20,">0")) -> 3 | R20: =IF(E19="","",IF($G20="",R19,IF($N20=1,LOOKUP(R$9,$A$12:$A$111,$B$12:$B$111),IF(AND($I20=-1,S$9=$Q19),"",IF($I20=-1,S19,IF($I20=1,R19)))))) -> 3 | S20: =IF($E19="","",IF($G20="",S19,IF(AND($N20=1,S$9>$B$9),"",IF(AND($N20=1,S$9<=$B$9),LOOKUP(S$9,$A$12:$A$111,$B$12:$B$111),IF(AND($I20=-1,T$9=$Q19),"",IF($I20=-1,T19,IF(AND($I20=1,R$9=$Q19),$K20,IF($I20=1,S19,"")))))))) -> 4 | T20: =IF($E19="","",IF($G20="",T19,IF(AND($N20=1,T$9>$B$9),"",IF(AND($N20=1,T$9<=$B$9),LOOKUP(T$9,$A$12:$A$111,$B$12:$B$111),IF(AND($I20=-1,U$9=$Q19),"",IF($I20=-1,U19,IF(AND($I20=1,S$9=$Q19),$K20,IF($I20=1,T19,"")))))))) -> 6 | U20: =IF($E19="","",IF($G20="",U19,IF(AND($N20=1,U$9>$B$9),"",IF(AND($N20=1,U$9<=$B$9),LOOKUP(U$9,$A$12:$A$111,$B$12:$B$111),IF(AND($I20=-1,V$9=$Q19),"",IF($I20=-1,V19,IF(AND($I20=1,T$9=$Q19),$K20,IF($I20=1,U19,"")))))))) | V20: =IF($E19="","",IF($G20="",V19,IF(AND($N20=1,V$9>$B$9),"",IF(AND($N20=1,V$9<=$B$9),LOOKUP(V$9,$A$12:$A$111,$B$12:$B$111),IF(AND($I20=-1,W$9=$Q19),"",IF($I20=-1,W19,IF(AND($I20=1,U$9=$Q19),$K20,IF($I20=1,V19,"")))))))) | W20: =IF($E19="","",IF($G20="",W19,IF(AND($N20=1,W$9>$B$9),"",IF(AND($N20=1,W$9<=$B$9),LOOKUP(W$9,$A$12:$A$111,$B$12:$B$111),IF(AND($I20=-1,X$9=$Q19),"",IF($I20=-1,X19,IF(AND($I20=1,V$9=$Q19),$K20,IF($I20=1,W19,"")))))))) | X20: =IF($E19="","",IF($G20="",X19,IF(AND($N20=1,X$9>$B$9),"",IF(AND($N20=1,X$9<=$B$9),LOOKUP(X$9,$A$12:$A$111,$B$12:$B$111),IF(AND($I20=-1,Y$9=$Q19),"",IF($I20=-1,Y19,IF(AND($I20=1,W$9=$Q19),$K20,IF($I20=1,X19,"")))))))) | Y20: =IF($E19="","",IF($G20="",Y19,IF(AND($N20=1,Y$9>$B$9),"",IF(AND($N20=1,Y$9<=$B$9),LOOKUP(Y$9,$A$12:$A$111,$B$12:$B$111),IF(AND($I20=-1,Z$9=$Q19),"",IF($I20=-1,Z19,IF(AND($I20=1,X$9=$Q19),$K20,IF($I20=1,Y19,"")))))))) | Z20: =IF($E19="","",IF($G20="",Z19,IF(AND($N20=1,Z$9>$B$9),"",IF(AND($N20=1,Z$9<=$B$9),LOOKUP(Z$9,$A$12:$A$111,$B$12:$B$111),IF(AND($I20=-1,AA$9=$Q19),"",IF($I20=-1,AA19,IF(AND($I20=1,Y$9=$Q19),$K20,IF($I20=1,Z19,"")))))))) | ... BO20: =IF($E19="","",IF($G20="",BO19,IF(AND($N20=1,BO$9>$B$9),"",IF(AND($N20=1,BO$9<=$B$9),LOOKUP(BO$9,$A$12:$A$111,$B$12:$B$111),IF(AND($I20=-1,BP$9=$Q19),"",IF($I20=-1,BP19,IF(AND($I20=1,BN$9=$Q19),$K20,IF($I20=1,BO19,"")))))))) -> 0
A21: 10 | D21: 11 | E21: =RANDBETWEEN(0,36) -> 2 | G21: =IF(E20="","",IF($B$3=Refs!$B$17,RevLab!F21,IF(AND(B$3="Last",H20="Zero"),G20,IF(B$3="Last",H20,IF(B$3="2nd last","",IF(AND(B$3="Opposite",H20="Zero"),G20,IF(AND(B$3="Opposite",H20="Red"),"Black",IF(AND(B$3="Opposite",H20="Black"),"Red",IF(AND(B$3="Opposite",H20="Odd"),"Even",IF(AND(B$3="Opposite",H20="Even"),"Odd",IF(AND(B$3="Opposite",H20="High"),"Low",IF(AND(B$3="Opposite",H20="Low"),"High",IF(COUNTIF(Refs!$E$5:$I$6,B$3)=1,RevLab!B$3,""))))))))))))) -> Low | H21: =IF(E21="","",IF(B$2="Red/Black",LOOKUP(E21,Refs!D:D,Refs!F:F),IF(B$2="High/Low",LOOKUP(E21,Refs!D:D,Refs!H:H),IF(B$2="Odd/Even",LOOKUP(E21,Refs!D:D,Refs!J:J),"")))) -> Low | I21: =IF(E21="","",IF(G21="","",IF(H21=G21,1,-1))) -> 1 | J21: =IF(E20="","",IF(G21="","",IF(AND(Q20>1,O20+P20>=$B$4),$B$4,IF(Q20=1,O20,O20+P20)))) -> 9 | K21: =IF(E21="","",IF(G21="","",IF(I21=1,J21,-J21))) -> 9 | L21: =IF(E21="","",IF(G21="",L20,K21+L20)) -> 2 | M21: =IF(E21="","",IF(L21>M20,L21,M20)) -> 3 | N21: =IF(E20="","",IF(OR(AND($A$6="Yes",$M21>$M20),AND($A$8="Yes",$O20+$P20>=$B$4),AND($Q20<=2,$I21=-1)),1,0)) -> 0 | O21: =IF(E21="","",R21) -> 3 | P21: =IF(E21="","",MAX(R21:DM21)) -> 9 | Q21: =IF(E21="","",COUNTIF(R21:DM21,">0")) -> 4 | R21: =IF(E20="","",IF($G21="",R20,IF($N21=1,LOOKUP(R$9,$A$12:$A$111,$B$12:$B$111),IF(AND($I21=-1,S$9=$Q20),"",IF($I21=-1,S20,IF($I21=1,R20)))))) -> 3 | S21: =IF($E20="","",IF($G21="",S20,IF(AND($N21=1,S$9>$B$9),"",IF(AND($N21=1,S$9<=$B$9),LOOKUP(S$9,$A$12:$A$111,$B$12:$B$111),IF(AND($I21=-1,T$9=$Q20),"",IF($I21=-1,T20,IF(AND($I21=1,R$9=$Q20),$K21,IF($I21=1,S20,"")))))))) -> 4 | T21: =IF($E20="","",IF($G21="",T20,IF(AND($N21=1,T$9>$B$9),"",IF(AND($N21=1,T$9<=$B$9),LOOKUP(T$9,$A$12:$A$111,$B$12:$B$111),IF(AND($I21=-1,U$9=$Q20),"",IF($I21=-1,U20,IF(AND($I21=1,S$9=$Q20),$K21,IF($I21=1,T20,"")))))))) -> 6 | U21: =IF($E20="","",IF($G21="",U20,IF(AND($N21=1,U$9>$B$9),"",IF(AND($N21=1,U$9<=$B$9),LOOKUP(U$9,$A$12:$A$111,$B$12:$B$111),IF(AND($I21=-1,V$9=$Q20),"",IF($I21=-1,V20,IF(AND($I21=1,T$9=$Q20),$K21,IF($I21=1,U20,"")))))))) -> 9 | V21: =IF($E20="","",IF($G21="",V20,IF(AND($N21=1,V$9>$B$9),"",IF(AND($N21=1,V$9<=$B$9),LOOKUP(V$9,$A$12:$A$111,$B$12:$B$111),IF(AND($I21=-1,W$9=$Q20),"",IF($I21=-1,W20,IF(AND($I21=1,U$9=$Q20),$K21,IF($I21=1,V20,"")))))))) | W21: =IF($E20="","",IF($G21="",W20,IF(AND($N21=1,W$9>$B$9),"",IF(AND($N21=1,W$9<=$B$9),LOOKUP(W$9,$A$12:$A$111,$B$12:$B$111),IF(AND($I21=-1,X$9=$Q20),"",IF($I21=-1,X20,IF(AND($I21=1,V$9=$Q20),$K21,IF($I21=1,W20,"")))))))) | X21: =IF($E20="","",IF($G21="",X20,IF(AND($N21=1,X$9>$B$9),"",IF(AND($N21=1,X$9<=$B$9),LOOKUP(X$9,$A$12:$A$111,$B$12:$B$111),IF(AND($I21=-1,Y$9=$Q20),"",IF($I21=-1,Y20,IF(AND($I21=1,W$9=$Q20),$K21,IF($I21=1,X20,"")))))))) | Y21: =IF($E20="","",IF($G21="",Y20,IF(AND($N21=1,Y$9>$B$9),"",IF(AND($N21=1,Y$9<=$B$9),LOOKUP(Y$9,$A$12:$A$111,$B$12:$B$111),IF(AND($I21=-1,Z$9=$Q20),"",IF($I21=-1,Z20,IF(AND($I21=1,X$9=$Q20),$K21,IF($I21=1,Y20,"")))))))) | Z21: =IF($E20="","",IF($G21="",Z20,IF(AND($N21=1,Z$9>$B$9),"",IF(AND($N21=1,Z$9<=$B$9),LOOKUP(Z$9,$A$12:$A$111,$B$12:$B$111),IF(AND($I21=-1,AA$9=$Q20),"",IF($I21=-1,AA20,IF(AND($I21=1,Y$9=$Q20),$K21,IF($I21=1,Z20,"")))))))) | ... BO21: =IF($E20="","",IF($G21="",BO20,IF(AND($N21=1,BO$9>$B$9),"",IF(AND($N21=1,BO$9<=$B$9),LOOKUP(BO$9,$A$12:$A$111,$B$12:$B$111),IF(AND($I21=-1,BP$9=$Q20),"",IF($I21=-1,BP20,IF(AND($I21=1,BN$9=$Q20),$K21,IF($I21=1,BO20,"")))))))) -> 0
D22: 12 | E22: =RANDBETWEEN(0,36) -> 10 | G22: =IF(E21="","",IF($B$3=Refs!$B$17,RevLab!F22,IF(AND(B$3="Last",H21="Zero"),G21,IF(B$3="Last",H21,IF(B$3="2nd last","",IF(AND(B$3="Opposite",H21="Zero"),G21,IF(AND(B$3="Opposite",H21="Red"),"Black",IF(AND(B$3="Opposite",H21="Black"),"Red",IF(AND(B$3="Opposite",H21="Odd"),"Even",IF(AND(B$3="Opposite",H21="Even"),"Odd",IF(AND(B$3="Opposite",H21="High"),"Low",IF(AND(B$3="Opposite",H21="Low"),"High",IF(COUNTIF(Refs!$E$5:$I$6,B$3)=1,RevLab!B$3,""))))))))))))) -> Low | H22: =IF(E22="","",IF(B$2="Red/Black",LOOKUP(E22,Refs!D:D,Refs!F:F),IF(B$2="High/Low",LOOKUP(E22,Refs!D:D,Refs!H:H),IF(B$2="Odd/Even",LOOKUP(E22,Refs!D:D,Refs!J:J),"")))) -> Low | I22: =IF(E22="","",IF(G22="","",IF(H22=G22,1,-1))) -> 1 | J22: =IF(E21="","",IF(G22="","",IF(AND(Q21>1,O21+P21>=$B$4),$B$4,IF(Q21=1,O21,O21+P21)))) -> 12 | K22: =IF(E22="","",IF(G22="","",IF(I22=1,J22,-J22))) -> 12 | L22: =IF(E22="","",IF(G22="",L21,K22+L21)) -> 14 | M22: =IF(E22="","",IF(L22>M21,L22,M21)) -> 14 | N22: =IF(E21="","",IF(OR(AND($A$6="Yes",$M22>$M21),AND($A$8="Yes",$O21+$P21>=$B$4),AND($Q21<=2,$I22=-1)),1,0)) -> 0 | O22: =IF(E22="","",R22) -> 3 | P22: =IF(E22="","",MAX(R22:DM22)) -> 12 | Q22: =IF(E22="","",COUNTIF(R22:DM22,">0")) -> 5 | R22: =IF(E21="","",IF($G22="",R21,IF($N22=1,LOOKUP(R$9,$A$12:$A$111,$B$12:$B$111),IF(AND($I22=-1,S$9=$Q21),"",IF($I22=-1,S21,IF($I22=1,R21)))))) -> 3 | S22: =IF($E21="","",IF($G22="",S21,IF(AND($N22=1,S$9>$B$9),"",IF(AND($N22=1,S$9<=$B$9),LOOKUP(S$9,$A$12:$A$111,$B$12:$B$111),IF(AND($I22=-1,T$9=$Q21),"",IF($I22=-1,T21,IF(AND($I22=1,R$9=$Q21),$K22,IF($I22=1,S21,"")))))))) -> 4 | T22: =IF($E21="","",IF($G22="",T21,IF(AND($N22=1,T$9>$B$9),"",IF(AND($N22=1,T$9<=$B$9),LOOKUP(T$9,$A$12:$A$111,$B$12:$B$111),IF(AND($I22=-1,U$9=$Q21),"",IF($I22=-1,U21,IF(AND($I22=1,S$9=$Q21),$K22,IF($I22=1,T21,"")))))))) -> 6 | U22: =IF($E21="","",IF($G22="",U21,IF(AND($N22=1,U$9>$B$9),"",IF(AND($N22=1,U$9<=$B$9),LOOKUP(U$9,$A$12:$A$111,$B$12:$B$111),IF(AND($I22=-1,V$9=$Q21),"",IF($I22=-1,V21,IF(AND($I22=1,T$9=$Q21),$K22,IF($I22=1,U21,"")))))))) -> 9 | V22: =IF($E21="","",IF($G22="",V21,IF(AND($N22=1,V$9>$B$9),"",IF(AND($N22=1,V$9<=$B$9),LOOKUP(V$9,$A$12:$A$111,$B$12:$B$111),IF(AND($I22=-1,W$9=$Q21),"",IF($I22=-1,W21,IF(AND($I22=1,U$9=$Q21),$K22,IF($I22=1,V21,"")))))))) -> 12 | W22: =IF($E21="","",IF($G22="",W21,IF(AND($N22=1,W$9>$B$9),"",IF(AND($N22=1,W$9<=$B$9),LOOKUP(W$9,$A$12:$A$111,$B$12:$B$111),IF(AND($I22=-1,X$9=$Q21),"",IF($I22=-1,X21,IF(AND($I22=1,V$9=$Q21),$K22,IF($I22=1,W21,"")))))))) | X22: =IF($E21="","",IF($G22="",X21,IF(AND($N22=1,X$9>$B$9),"",IF(AND($N22=1,X$9<=$B$9),LOOKUP(X$9,$A$12:$A$111,$B$12:$B$111),IF(AND($I22=-1,Y$9=$Q21),"",IF($I22=-1,Y21,IF(AND($I22=1,W$9=$Q21),$K22,IF($I22=1,X21,"")))))))) | Y22: =IF($E21="","",IF($G22="",Y21,IF(AND($N22=1,Y$9>$B$9),"",IF(AND($N22=1,Y$9<=$B$9),LOOKUP(Y$9,$A$12:$A$111,$B$12:$B$111),IF(AND($I22=-1,Z$9=$Q21),"",IF($I22=-1,Z21,IF(AND($I22=1,X$9=$Q21),$K22,IF($I22=1,Y21,"")))))))) | Z22: =IF($E21="","",IF($G22="",Z21,IF(AND($N22=1,Z$9>$B$9),"",IF(AND($N22=1,Z$9<=$B$9),LOOKUP(Z$9,$A$12:$A$111,$B$12:$B$111),IF(AND($I22=-1,AA$9=$Q21),"",IF($I22=-1,AA21,IF(AND($I22=1,Y$9=$Q21),$K22,IF($I22=1,Z21,"")))))))) | ... BO22: =IF($E21="","",IF($G22="",BO21,IF(AND($N22=1,BO$9>$B$9),"",IF(AND($N22=1,BO$9<=$B$9),LOOKUP(BO$9,$A$12:$A$111,$B$12:$B$111),IF(AND($I22=-1,BP$9=$Q21),"",IF($I22=-1,BP21,IF(AND($I22=1,BN$9=$Q21),$K22,IF($I22=1,BO21,"")))))))) -> 0
D23: 13 | E23: =RANDBETWEEN(0,36) -> 33 | G23: =IF(E22="","",IF($B$3=Refs!$B$17,RevLab!F23,IF(AND(B$3="Last",H22="Zero"),G22,IF(B$3="Last",H22,IF(B$3="2nd last","",IF(AND(B$3="Opposite",H22="Zero"),G22,IF(AND(B$3="Opposite",H22="Red"),"Black",IF(AND(B$3="Opposite",H22="Black"),"Red",IF(AND(B$3="Opposite",H22="Odd"),"Even",IF(AND(B$3="Opposite",H22="Even"),"Odd",IF(AND(B$3="Opposite",H22="High"),"Low",IF(AND(B$3="Opposite",H22="Low"),"High",IF(COUNTIF(Refs!$E$5:$I$6,B$3)=1,RevLab!B$3,""))))))))))))) -> Low | H23: =IF(E23="","",IF(B$2="Red/Black",LOOKUP(E23,Refs!D:D,Refs!F:F),IF(B$2="High/Low",LOOKUP(E23,Refs!D:D,Refs!H:H),IF(B$2="Odd/Even",LOOKUP(E23,Refs!D:D,Refs!J:J),"")))) -> High | I23: =IF(E23="","",IF(G23="","",IF(H23=G23,1,-1))) -> -1 | J23: =IF(E22="","",IF(G23="","",IF(AND(Q22>1,O22+P22>=$B$4),$B$4,IF(Q22=1,O22,O22+P22)))) -> 15 | K23: =IF(E23="","",IF(G23="","",IF(I23=1,J23,-J23))) -> -15 | L23: =IF(E23="","",IF(G23="",L22,K23+L22)) -> -1 | M23: =IF(E23="","",IF(L23>M22,L23,M22)) -> 14 | N23: =IF(E22="","",IF(OR(AND($A$6="Yes",$M23>$M22),AND($A$8="Yes",$O22+$P22>=$B$4),AND($Q22<=2,$I23=-1)),1,0)) -> 0 | O23: =IF(E23="","",R23) -> 4 | P23: =IF(E23="","",MAX(R23:DM23)) -> 9 | Q23: =IF(E23="","",COUNTIF(R23:DM23,">0")) -> 3 | R23: =IF(E22="","",IF($G23="",R22,IF($N23=1,LOOKUP(R$9,$A$12:$A$111,$B$12:$B$111),IF(AND($I23=-1,S$9=$Q22),"",IF($I23=-1,S22,IF($I23=1,R22)))))) -> 4 | S23: =IF($E22="","",IF($G23="",S22,IF(AND($N23=1,S$9>$B$9),"",IF(AND($N23=1,S$9<=$B$9),LOOKUP(S$9,$A$12:$A$111,$B$12:$B$111),IF(AND($I23=-1,T$9=$Q22),"",IF($I23=-1,T22,IF(AND($I23=1,R$9=$Q22),$K23,IF($I23=1,S22,"")))))))) -> 6 | T23: =IF($E22="","",IF($G23="",T22,IF(AND($N23=1,T$9>$B$9),"",IF(AND($N23=1,T$9<=$B$9),LOOKUP(T$9,$A$12:$A$111,$B$12:$B$111),IF(AND($I23=-1,U$9=$Q22),"",IF($I23=-1,U22,IF(AND($I23=1,S$9=$Q22),$K23,IF($I23=1,T22,"")))))))) -> 9 | U23: =IF($E22="","",IF($G23="",U22,IF(AND($N23=1,U$9>$B$9),"",IF(AND($N23=1,U$9<=$B$9),LOOKUP(U$9,$A$12:$A$111,$B$12:$B$111),IF(AND($I23=-1,V$9=$Q22),"",IF($I23=-1,V22,IF(AND($I23=1,T$9=$Q22),$K23,IF($I23=1,U22,"")))))))) | V23: =IF($E22="","",IF($G23="",V22,IF(AND($N23=1,V$9>$B$9),"",IF(AND($N23=1,V$9<=$B$9),LOOKUP(V$9,$A$12:$A$111,$B$12:$B$111),IF(AND($I23=-1,W$9=$Q22),"",IF($I23=-1,W22,IF(AND($I23=1,U$9=$Q22),$K23,IF($I23=1,V22,"")))))))) | W23: =IF($E22="","",IF($G23="",W22,IF(AND($N23=1,W$9>$B$9),"",IF(AND($N23=1,W$9<=$B$9),LOOKUP(W$9,$A$12:$A$111,$B$12:$B$111),IF(AND($I23=-1,X$9=$Q22),"",IF($I23=-1,X22,IF(AND($I23=1,V$9=$Q22),$K23,IF($I23=1,W22,"")))))))) | X23: =IF($E22="","",IF($G23="",X22,IF(AND($N23=1,X$9>$B$9),"",IF(AND($N23=1,X$9<=$B$9),LOOKUP(X$9,$A$12:$A$111,$B$12:$B$111),IF(AND($I23=-1,Y$9=$Q22),"",IF($I23=-1,Y22,IF(AND($I23=1,W$9=$Q22),$K23,IF($I23=1,X22,"")))))))) | Y23: =IF($E22="","",IF($G23="",Y22,IF(AND($N23=1,Y$9>$B$9),"",IF(AND($N23=1,Y$9<=$B$9),LOOKUP(Y$9,$A$12:$A$111,$B$12:$B$111),IF(AND($I23=-1,Z$9=$Q22),"",IF($I23=-1,Z22,IF(AND($I23=1,X$9=$Q22),$K23,IF($I23=1,Y22,"")))))))) | Z23: =IF($E22="","",IF($G23="",Z22,IF(AND($N23=1,Z$9>$B$9),"",IF(AND($N23=1,Z$9<=$B$9),LOOKUP(Z$9,$A$12:$A$111,$B$12:$B$111),IF(AND($I23=-1,AA$9=$Q22),"",IF($I23=-1,AA22,IF(AND($I23=1,Y$9=$Q22),$K23,IF($I23=1,Z22,"")))))))) | ... BO23: =IF($E22="","",IF($G23="",BO22,IF(AND($N23=1,BO$9>$B$9),"",IF(AND($N23=1,BO$9<=$B$9),LOOKUP(BO$9,$A$12:$A$111,$B$12:$B$111),IF(AND($I23=-1,BP$9=$Q22),"",IF($I23=-1,BP22,IF(AND($I23=1,BN$9=$Q22),$K23,IF($I23=1,BO22,"")))))))) -> 0
D24: 14 | E24: =RANDBETWEEN(0,36) -> 0 | G24: =IF(E23="","",IF($B$3=Refs!$B$17,RevLab!F24,IF(AND(B$3="Last",H23="Zero"),G23,IF(B$3="Last",H23,IF(B$3="2nd last","",IF(AND(B$3="Opposite",H23="Zero"),G23,IF(AND(B$3="Opposite",H23="Red"),"Black",IF(AND(B$3="Opposite",H23="Black"),"Red",IF(AND(B$3="Opposite",H23="Odd"),"Even",IF(AND(B$3="Opposite",H23="Even"),"Odd",IF(AND(B$3="Opposite",H23="High"),"Low",IF(AND(B$3="Opposite",H23="Low"),"High",IF(COUNTIF(Refs!$E$5:$I$6,B$3)=1,RevLab!B$3,""))))))))))))) -> Low | H24: =IF(E24="","",IF(B$2="Red/Black",LOOKUP(E24,Refs!D:D,Refs!F:F),IF(B$2="High/Low",LOOKUP(E24,Refs!D:D,Refs!H:H),IF(B$2="Odd/Even",LOOKUP(E24,Refs!D:D,Refs!J:J),"")))) -> Zero | I24: =IF(E24="","",IF(G24="","",IF(H24=G24,1,-1))) -> -1 | J24: =IF(E23="","",IF(G24="","",IF(AND(Q23>1,O23+P23>=$B$4),$B$4,IF(Q23=1,O23,O23+P23)))) -> 13 | K24: =IF(E24="","",IF(G24="","",IF(I24=1,J24,-J24))) -> -13 | L24: =IF(E24="","",IF(G24="",L23,K24+L23)) -> -14 | M24: =IF(E24="","",IF(L24>M23,L24,M23)) -> 14 | N24: =IF(E23="","",IF(OR(AND($A$6="Yes",$M24>$M23),AND($A$8="Yes",$O23+$P23>=$B$4),AND($Q23<=2,$I24=-1)),1,0)) -> 0 | O24: =IF(E24="","",R24) -> 6 | P24: =IF(E24="","",MAX(R24:DM24)) -> 6 | Q24: =IF(E24="","",COUNTIF(R24:DM24,">0")) -> 1 | R24: =IF(E23="","",IF($G24="",R23,IF($N24=1,LOOKUP(R$9,$A$12:$A$111,$B$12:$B$111),IF(AND($I24=-1,S$9=$Q23),"",IF($I24=-1,S23,IF($I24=1,R23)))))) -> 6 | S24: =IF($E23="","",IF($G24="",S23,IF(AND($N24=1,S$9>$B$9),"",IF(AND($N24=1,S$9<=$B$9),LOOKUP(S$9,$A$12:$A$111,$B$12:$B$111),IF(AND($I24=-1,T$9=$Q23),"",IF($I24=-1,T23,IF(AND($I24=1,R$9=$Q23),$K24,IF($I24=1,S23,"")))))))) | T24: =IF($E23="","",IF($G24="",T23,IF(AND($N24=1,T$9>$B$9),"",IF(AND($N24=1,T$9<=$B$9),LOOKUP(T$9,$A$12:$A$111,$B$12:$B$111),IF(AND($I24=-1,U$9=$Q23),"",IF($I24=-1,U23,IF(AND($I24=1,S$9=$Q23),$K24,IF($I24=1,T23,"")))))))) | U24: =IF($E23="","",IF($G24="",U23,IF(AND($N24=1,U$9>$B$9),"",IF(AND($N24=1,U$9<=$B$9),LOOKUP(U$9,$A$12:$A$111,$B$12:$B$111),IF(AND($I24=-1,V$9=$Q23),"",IF($I24=-1,V23,IF(AND($I24=1,T$9=$Q23),$K24,IF($I24=1,U23,"")))))))) | V24: =IF($E23="","",IF($G24="",V23,IF(AND($N24=1,V$9>$B$9),"",IF(AND($N24=1,V$9<=$B$9),LOOKUP(V$9,$A$12:$A$111,$B$12:$B$111),IF(AND($I24=-1,W$9=$Q23),"",IF($I24=-1,W23,IF(AND($I24=1,U$9=$Q23),$K24,IF($I24=1,V23,"")))))))) | W24: =IF($E23="","",IF($G24="",W23,IF(AND($N24=1,W$9>$B$9),"",IF(AND($N24=1,W$9<=$B$9),LOOKUP(W$9,$A$12:$A$111,$B$12:$B$111),IF(AND($I24=-1,X$9=$Q23),"",IF($I24=-1,X23,IF(AND($I24=1,V$9=$Q23),$K24,IF($I24=1,W23,"")))))))) | X24: =IF($E23="","",IF($G24="",X23,IF(AND($N24=1,X$9>$B$9),"",IF(AND($N24=1,X$9<=$B$9),LOOKUP(X$9,$A$12:$A$111,$B$12:$B$111),IF(AND($I24=-1,Y$9=$Q23),"",IF($I24=-1,Y23,IF(AND($I24=1,W$9=$Q23),$K24,IF($I24=1,X23,"")))))))) | Y24: =IF($E23="","",IF($G24="",Y23,IF(AND($N24=1,Y$9>$B$9),"",IF(AND($N24=1,Y$9<=$B$9),LOOKUP(Y$9,$A$12:$A$111,$B$12:$B$111),IF(AND($I24=-1,Z$9=$Q23),"",IF($I24=-1,Z23,IF(AND($I24=1,X$9=$Q23),$K24,IF($I24=1,Y23,"")))))))) | Z24: =IF($E23="","",IF($G24="",Z23,IF(AND($N24=1,Z$9>$B$9),"",IF(AND($N24=1,Z$9<=$B$9),LOOKUP(Z$9,$A$12:$A$111,$B$12:$B$111),IF(AND($I24=-1,AA$9=$Q23),"",IF($I24=-1,AA23,IF(AND($I24=1,Y$9=$Q23),$K24,IF($I24=1,Z23,"")))))))) | ... BO24: =IF($E23="","",IF($G24="",BO23,IF(AND($N24=1,BO$9>$B$9),"",IF(AND($N24=1,BO$9<=$B$9),LOOKUP(BO$9,$A$12:$A$111,$B$12:$B$111),IF(AND($I24=-1,BP$9=$Q23),"",IF($I24=-1,BP23,IF(AND($I24=1,BN$9=$Q23),$K24,IF($I24=1,BO23,"")))))))) -> 0
D25: 15 | E25: =RANDBETWEEN(0,36) -> 10 | G25: =IF(E24="","",IF($B$3=Refs!$B$17,RevLab!F25,IF(AND(B$3="Last",H24="Zero"),G24,IF(B$3="Last",H24,IF(B$3="2nd last","",IF(AND(B$3="Opposite",H24="Zero"),G24,IF(AND(B$3="Opposite",H24="Red"),"Black",IF(AND(B$3="Opposite",H24="Black"),"Red",IF(AND(B$3="Opposite",H24="Odd"),"Even",IF(AND(B$3="Opposite",H24="Even"),"Odd",IF(AND(B$3="Opposite",H24="High"),"Low",IF(AND(B$3="Opposite",H24="Low"),"High",IF(COUNTIF(Refs!$E$5:$I$6,B$3)=1,RevLab!B$3,""))))))))))))) -> Low | H25: =IF(E25="","",IF(B$2="Red/Black",LOOKUP(E25,Refs!D:D,Refs!F:F),IF(B$2="High/Low",LOOKUP(E25,Refs!D:D,Refs!H:H),IF(B$2="Odd/Even",LOOKUP(E25,Refs!D:D,Refs!J:J),"")))) -> Low | I25: =IF(E25="","",IF(G25="","",IF(H25=G25,1,-1))) -> 1 | J25: =IF(E24="","",IF(G25="","",IF(AND(Q24>1,O24+P24>=$B$4),$B$4,IF(Q24=1,O24,O24+P24)))) -> 6 | K25: =IF(E25="","",IF(G25="","",IF(I25=1,J25,-J25))) -> 6 | L25: =IF(E25="","",IF(G25="",L24,K25+L24)) -> -8 | M25: =IF(E25="","",IF(L25>M24,L25,M24)) -> 14 | N25: =IF(E24="","",IF(OR(AND($A$6="Yes",$M25>$M24),AND($A$8="Yes",$O24+$P24>=$B$4),AND($Q24<=2,$I25=-1)),1,0)) -> 0 | O25: =IF(E25="","",R25) -> 6 | P25: =IF(E25="","",MAX(R25:DM25)) -> 6 | Q25: =IF(E25="","",COUNTIF(R25:DM25,">0")) -> 2 | R25: =IF(E24="","",IF($G25="",R24,IF($N25=1,LOOKUP(R$9,$A$12:$A$111,$B$12:$B$111),IF(AND($I25=-1,S$9=$Q24),"",IF($I25=-1,S24,IF($I25=1,R24)))))) -> 6 | S25: =IF($E24="","",IF($G25="",S24,IF(AND($N25=1,S$9>$B$9),"",IF(AND($N25=1,S$9<=$B$9),LOOKUP(S$9,$A$12:$A$111,$B$12:$B$111),IF(AND($I25=-1,T$9=$Q24),"",IF($I25=-1,T24,IF(AND($I25=1,R$9=$Q24),$K25,IF($I25=1,S24,"")))))))) -> 6 | T25: =IF($E24="","",IF($G25="",T24,IF(AND($N25=1,T$9>$B$9),"",IF(AND($N25=1,T$9<=$B$9),LOOKUP(T$9,$A$12:$A$111,$B$12:$B$111),IF(AND($I25=-1,U$9=$Q24),"",IF($I25=-1,U24,IF(AND($I25=1,S$9=$Q24),$K25,IF($I25=1,T24,"")))))))) | U25: =IF($E24="","",IF($G25="",U24,IF(AND($N25=1,U$9>$B$9),"",IF(AND($N25=1,U$9<=$B$9),LOOKUP(U$9,$A$12:$A$111,$B$12:$B$111),IF(AND($I25=-1,V$9=$Q24),"",IF($I25=-1,V24,IF(AND($I25=1,T$9=$Q24),$K25,IF($I25=1,U24,"")))))))) | V25: =IF($E24="","",IF($G25="",V24,IF(AND($N25=1,V$9>$B$9),"",IF(AND($N25=1,V$9<=$B$9),LOOKUP(V$9,$A$12:$A$111,$B$12:$B$111),IF(AND($I25=-1,W$9=$Q24),"",IF($I25=-1,W24,IF(AND($I25=1,U$9=$Q24),$K25,IF($I25=1,V24,"")))))))) | W25: =IF($E24="","",IF($G25="",W24,IF(AND($N25=1,W$9>$B$9),"",IF(AND($N25=1,W$9<=$B$9),LOOKUP(W$9,$A$12:$A$111,$B$12:$B$111),IF(AND($I25=-1,X$9=$Q24),"",IF($I25=-1,X24,IF(AND($I25=1,V$9=$Q24),$K25,IF($I25=1,W24,"")))))))) | X25: =IF($E24="","",IF($G25="",X24,IF(AND($N25=1,X$9>$B$9),"",IF(AND($N25=1,X$9<=$B$9),LOOKUP(X$9,$A$12:$A$111,$B$12:$B$111),IF(AND($I25=-1,Y$9=$Q24),"",IF($I25=-1,Y24,IF(AND($I25=1,W$9=$Q24),$K25,IF($I25=1,X24,"")))))))) | Y25: =IF($E24="","",IF($G25="",Y24,IF(AND($N25=1,Y$9>$B$9),"",IF(AND($N25=1,Y$9<=$B$9),LOOKUP(Y$9,$A$12:$A$111,$B$12:$B$111),IF(AND($I25=-1,Z$9=$Q24),"",IF($I25=-1,Z24,IF(AND($I25=1,X$9=$Q24),$K25,IF($I25=1,Y24,"")))))))) | Z25: =IF($E24="","",IF($G25="",Z24,IF(AND($N25=1,Z$9>$B$9),"",IF(AND($N25=1,Z$9<=$B$9),LOOKUP(Z$9,$A$12:$A$111,$B$12:$B$111),IF(AND($I25=-1,AA$9=$Q24),"",IF($I25=-1,AA24,IF(AND($I25=1,Y$9=$Q24),$K25,IF($I25=1,Z24,"")))))))) | ... BO25: =IF($E24="","",IF($G25="",BO24,IF(AND($N25=1,BO$9>$B$9),"",IF(AND($N25=1,BO$9<=$B$9),LOOKUP(BO$9,$A$12:$A$111,$B$12:$B$111),IF(AND($I25=-1,BP$9=$Q24),"",IF($I25=-1,BP24,IF(AND($I25=1,BN$9=$Q24),$K25,IF($I25=1,BO24,"")))))))) -> 0
D26: 16 | E26: =RANDBETWEEN(0,36) -> 27 | G26: =IF(E25="","",IF($B$3=Refs!$B$17,RevLab!F26,IF(AND(B$3="Last",H25="Zero"),G25,IF(B$3="Last",H25,IF(B$3="2nd last","",IF(AND(B$3="Opposite",H25="Zero"),G25,IF(AND(B$3="Opposite",H25="Red"),"Black",IF(AND(B$3="Opposite",H25="Black"),"Red",IF(AND(B$3="Opposite",H25="Odd"),"Even",IF(AND(B$3="Opposite",H25="Even"),"Odd",IF(AND(B$3="Opposite",H25="High"),"Low",IF(AND(B$3="Opposite",H25="Low"),"High",IF(COUNTIF(Refs!$E$5:$I$6,B$3)=1,RevLab!B$3,""))))))))))))) -> Low | H26: =IF(E26="","",IF(B$2="Red/Black",LOOKUP(E26,Refs!D:D,Refs!F:F),IF(B$2="High/Low",LOOKUP(E26,Refs!D:D,Refs!H:H),IF(B$2="Odd/Even",LOOKUP(E26,Refs!D:D,Refs!J:J),"")))) -> High | I26: =IF(E26="","",IF(G26="","",IF(H26=G26,1,-1))) -> -1 | J26: =IF(E25="","",IF(G26="","",IF(AND(Q25>1,O25+P25>=$B$4),$B$4,IF(Q25=1,O25,O25+P25)))) -> 12 | K26: =IF(E26="","",IF(G26="","",IF(I26=1,J26,-J26))) -> -12 | L26: =IF(E26="","",IF(G26="",L25,K26+L25)) -> -20 | M26: =IF(E26="","",IF(L26>M25,L26,M25)) -> 14 | N26: =IF(E25="","",IF(OR(AND($A$6="Yes",$M26>$M25),AND($A$8="Yes",$O25+$P25>=$B$4),AND($Q25<=2,$I26=-1)),1,0)) -> 1 | O26: =IF(E26="","",R26) -> 1 | P26: =IF(E26="","",MAX(R26:DM26)) -> 4 | Q26: =IF(E26="","",COUNTIF(R26:DM26,">0")) -> 4 | R26: =IF(E25="","",IF($G26="",R25,IF($N26=1,LOOKUP(R$9,$A$12:$A$111,$B$12:$B$111),IF(AND($I26=-1,S$9=$Q25),"",IF($I26=-1,S25,IF($I26=1,R25)))))) -> 1 | S26: =IF($E25="","",IF($G26="",S25,IF(AND($N26=1,S$9>$B$9),"",IF(AND($N26=1,S$9<=$B$9),LOOKUP(S$9,$A$12:$A$111,$B$12:$B$111),IF(AND($I26=-1,T$9=$Q25),"",IF($I26=-1,T25,IF(AND($I26=1,R$9=$Q25),$K26,IF($I26=1,S25,"")))))))) -> 2 | T26: =IF($E25="","",IF($G26="",T25,IF(AND($N26=1,T$9>$B$9),"",IF(AND($N26=1,T$9<=$B$9),LOOKUP(T$9,$A$12:$A$111,$B$12:$B$111),IF(AND($I26=-1,U$9=$Q25),"",IF($I26=-1,U25,IF(AND($I26=1,S$9=$Q25),$K26,IF($I26=1,T25,"")))))))) -> 3 | U26: =IF($E25="","",IF($G26="",U25,IF(AND($N26=1,U$9>$B$9),"",IF(AND($N26=1,U$9<=$B$9),LOOKUP(U$9,$A$12:$A$111,$B$12:$B$111),IF(AND($I26=-1,V$9=$Q25),"",IF($I26=-1,V25,IF(AND($I26=1,T$9=$Q25),$K26,IF($I26=1,U25,"")))))))) -> 4 | V26: =IF($E25="","",IF($G26="",V25,IF(AND($N26=1,V$9>$B$9),"",IF(AND($N26=1,V$9<=$B$9),LOOKUP(V$9,$A$12:$A$111,$B$12:$B$111),IF(AND($I26=-1,W$9=$Q25),"",IF($I26=-1,W25,IF(AND($I26=1,U$9=$Q25),$K26,IF($I26=1,V25,"")))))))) | W26: =IF($E25="","",IF($G26="",W25,IF(AND($N26=1,W$9>$B$9),"",IF(AND($N26=1,W$9<=$B$9),LOOKUP(W$9,$A$12:$A$111,$B$12:$B$111),IF(AND($I26=-1,X$9=$Q25),"",IF($I26=-1,X25,IF(AND($I26=1,V$9=$Q25),$K26,IF($I26=1,W25,"")))))))) | X26: =IF($E25="","",IF($G26="",X25,IF(AND($N26=1,X$9>$B$9),"",IF(AND($N26=1,X$9<=$B$9),LOOKUP(X$9,$A$12:$A$111,$B$12:$B$111),IF(AND($I26=-1,Y$9=$Q25),"",IF($I26=-1,Y25,IF(AND($I26=1,W$9=$Q25),$K26,IF($I26=1,X25,"")))))))) | Y26: =IF($E25="","",IF($G26="",Y25,IF(AND($N26=1,Y$9>$B$9),"",IF(AND($N26=1,Y$9<=$B$9),LOOKUP(Y$9,$A$12:$A$111,$B$12:$B$111),IF(AND($I26=-1,Z$9=$Q25),"",IF($I26=-1,Z25,IF(AND($I26=1,X$9=$Q25),$K26,IF($I26=1,Y25,"")))))))) | Z26: =IF($E25="","",IF($G26="",Z25,IF(AND($N26=1,Z$9>$B$9),"",IF(AND($N26=1,Z$9<=$B$9),LOOKUP(Z$9,$A$12:$A$111,$B$12:$B$111),IF(AND($I26=-1,AA$9=$Q25),"",IF($I26=-1,AA25,IF(AND($I26=1,Y$9=$Q25),$K26,IF($I26=1,Z25,"")))))))) | ... BO26: =IF($E25="","",IF($G26="",BO25,IF(AND($N26=1,BO$9>$B$9),"",IF(AND($N26=1,BO$9<=$B$9),LOOKUP(BO$9,$A$12:$A$111,$B$12:$B$111),IF(AND($I26=-1,BP$9=$Q25),"",IF($I26=-1,BP25,IF(AND($I26=1,BN$9=$Q25),$K26,IF($I26=1,BO25,""))))))))
