Workbook

Sheet RevLab
A2: EC | B2: High/Low | D2: Wins | E2: =COUNTIF(I11:I210,"1") -> 102
A3: Play type | B3: Low | D3: Losses | E3: =COUNTIF(I11:I210,"-1") -> 98
A4: Max Bet | B4: 20 | D4: End | E4: =OFFSET(L10,MAX(D:D),0,1,1) -> 15
A5: Reset new high? | D5: Max | E5: =MAX(L:L) -> 15
A6: No | D6: Max Bet | E6: =MAX(J11:J210) -> 20
A7: Reset on max bet?
A8: Yes | O8: 1st bet | P8: 2nd bet | Q8: Stelle | R8: Unit bank, end of spin
A9: Seq length | B9: =COUNTIF(B12:B111,">0") -> 4 | O9: Min | P9: Max | Q9: cntf | R9: 1 | S9: 2 | T9: 3 | U9: 4 | V9: 5 | W9: 6 | X9: 7 | Y9: 8 | Z9: 9 | AA9: 10 | AB9: 11 | AC9: 12 | AD9: 13 | AE9: 14 | AF9: 15 | AG9: 16 | AH9: 17 | AI9: 18 | AJ9: 19 | AK9: 20 | AL9: 21 | AM9: 22 | AN9: 23 | AO9: 24 | AP9: 25 | AQ9: 26 | AR9: 27 | AS9: 28 | AT9: 29 | AU9: 30 | AV9: 31 | AW9: 32 | AX9: 33 | AY9: 34 | AZ9: 35 | BA9: 36 | BB9: 37 | BC9: 38 | BD9: 39 | BE9: 40 | BF9: 41 | BG9: 42 | BH9: 43 | BI9: 44 | BJ9: 45 | BK9: 46 | BL9: 47 | BM9: 48 | BN9: 49 | BO9: 50
A10: Starting sequence | D10: Spin | E10: Nr | F10: Custom | G10: Decision | H10: Result | I10: WL | J10: Bet | K10: Net | L10: Total | M10: Max | N10: Rst | O10: =IF(E10="","",R10) -> 1 | P10: =IF(E10="","",MAX(R10:DM10)) -> 4 | Q10: =IF(E10="","",COUNTIF(R10:DM10,">0")) -> 4 | R10: =IF(R9>$B$9,"",IF($D11=1,LOOKUP(R9,$A12:$A111,$B12:$B111),"")) -> 1 | S10: =IF(S9>$B$9,"",IF($D11=1,LOOKUP(S9,$A12:$A111,$B12:$B111),"")) -> 2 | T10: =IF(T9>$B$9,"",IF($D11=1,LOOKUP(T9,$A12:$A111,$B12:$B111),"")) -> 3 | U10: =IF(U9>$B$9,"",IF($D11=1,LOOKUP(U9,$A12:$A111,$B12:$B111),"")) -> 4 | V10: =IF(V9>$B$9,"",IF($D11=1,LOOKUP(V9,$A12:$A111,$B12:$B111),"")) | W10: =IF(W9>$B$9,"",IF($D11=1,LOOKUP(W9,$A12:$A111,$B12:$B111),"")) | X10: =IF(X9>$B$9,"",IF($D11=1,LOOKUP(X9,$A12:$A111,$B12:$B111),"")) | Y10: =IF(Y9>$B$9,"",IF($D11=1,LOOKUP(Y9,$A12:$A111,$B12:$B111),"")) | ... BO10: =IF(BO9>$B$9,"",IF($D11=1,LOOKUP(BO9,$A12:$A111,$B12:$B111),""))
A11: Seq.Nr | B11: Units | D11: 1 | E11: =RANDBETWEEN(0,36) -> 16 | G11: =IF(E10="","",IF($B$3=Refs!$B$17,RevLab!F11,IF(COUNTIF(Refs!$E$5:$I$6,B$3)=1,RevLab!B$3,""))) -> Low | H11: =IF(E11="","",IF(B$2="Red/Black",LOOKUP(E11,Refs!D:D,Refs!F:F),IF(B$2="High/Low",LOOKUP(E11,Refs!D:D,Refs!H:H),IF(B$2="Odd/Even",LOOKUP(E11,Refs!D:D,Refs!J:J),"")))) -> Low | I11: =IF(E11="","",IF(G11="","",IF(H11=G11,1,-1))) -> 1 | J11: =IF(E10="","",IF(G11="","",IF(AND(Q10>1,O10+P10>=$B$4),$B$4,IF(Q10=1,O10,O10+P10)))) -> 5 | K11: =IF(E11="","",IF(G11="","",IF(I11=1,J11,-J11))) -> 5 | L11: =IF(E11="","",IF(G11="",0,K11)) -> 5 | N11: =IF(E10="","",IF(OR(AND($A$6="Yes",$M11>$M10),AND($A$8="Yes",$O10+$P10>=$B$4),AND($Q10<=2,$I11=-1)),1,0)) -> 0 | O11: =IF(E11="","",R11) -> 1 | P11: =IF(E11="","",MAX(R11:DM11)) -> 5 | Q11: =IF(E11="","",COUNTIF(R11:DM11,">0")) -> 5 | R11: =IF(E10="","",IF($G11="",R10,IF($N11=1,LOOKUP(R$9,$A$12:$A$111,$B$12:$B$111),IF(AND($I11=-1,S$9=$Q10),"",IF($I11=-1,S10,IF($I11=1,R10)))))) -> 1 | S11: =IF($E10="","",IF($G11="",S10,IF(AND($N11=1,S$9>$B$9),"",IF(AND($N11=1,S$9<=$B$9),LOOKUP(S$9,$A$12:$A$111,$B$12:$B$111),IF(AND($I11=-1,T$9=$Q10),"",IF($I11=-1,T10,IF(AND($I11=1,R$9=$Q10),$K11,IF($I11=1,S10,"")))))))) -> 2 | T11: =IF($E10="","",IF($G11="",T10,IF(AND($N11=1,T$9>$B$9),"",IF(AND($N11=1,T$9<=$B$9),LOOKUP(T$9,$A$12:$A$111,$B$12:$B$111),IF(AND($I11=-1,U$9=$Q10),"",IF($I11=-1,U10,IF(AND($I11=1,S$9=$Q10),$K11,IF($I11=1,T10,"")))))))) -> 3 | U11: =IF($E10="","",IF($G11="",U10,IF(AND($N11=1,U$9>$B$9),"",IF(AND($N11=1,U$9<=$B$9),LOOKUP(U$9,$A$12:$A$111,$B$12:$B$111),IF(AND($I11=-1,V$9=$Q10),"",IF($I11=-1,V10,IF(AND($I11=1,T$9=$Q10),$K11,IF($I11=1,U10,"")))))))) -> 4 | V11: =IF($E10="","",IF($G11="",V10,IF(AND($N11=1,V$9>$B$9),"",IF(AND($N11=1,V$9<=$B$9),LOOKUP(V$9,$A$12:$A$111,$B$12:$B$111),IF(AND($I11=-1,W$9=$Q10),"",IF($I11=-1,W10,IF(AND($I11=1,U$9=$Q10),$K11,IF($I11=1,V10,"")))))))) -> 5 | W11: =IF($E10="","",IF($G11="",W10,IF(AND($N11=1,W$9>$B$9),"",IF(AND($N11=1,W$9<=$B$9),LOOKUP(W$9,$A$12:$A$111,$B$12:$B$111),IF(AND($I11=-1,X$9=$Q10),"",IF($I11=-1,X10,IF(AND($I11=1,V$9=$Q10),$K11,IF($I11=1,W10,"")))))))) | X11: =IF($E10="","",IF($G11="",X10,IF(AND($N11=1,X$9>$B$9),"",IF(AND($N11=1,X$9<=$B$9),LOOKUP(X$9,$A$12:$A$111,$B$12:$B$111),IF(AND($I11=-1,Y$9=$Q10),"",IF($I11=-1,Y10,IF(AND($I11=1,W$9=$Q10),$K11,IF($I11=1,X10,"")))))))) | Y11: =IF($E10="","",IF($G11="",Y10,IF(AND($N11=1,Y$9>$B$9),"",IF(AND($N11=1,Y$9<=$B$9),LOOKUP(Y$9,$A$12:$A$111,$B$12:$B$111),IF(AND($I11=-1,Z$9=$Q10),"",IF($I11=-1,Z10,IF(AND($I11=1,X$9=$Q10),$K11,IF($I11=1,Y10,"")))))))) | Z11: =IF($E10="","",IF($G11="",Z10,IF(AND($N11=1,Z$9>$B$9),"",IF(AND($N11=1,Z$9<=$B$9),LOOKUP(Z$9,$A$12:$A$111,$B$12:$B$111),IF(AND($I11=-1,AA$9=$Q10),"",IF($I11=-1,AA10,IF(AND($I11=1,Y$9=$Q10),$K11,IF($I11=1,Z10,"")))))))) | ... BO11: =IF($E10="","",IF($G11="",BO10,IF(AND($N11=1,BO$9>$B$9),"",IF(AND($N11=1,BO$9<=$B$9),LOOKUP(BO$9,$A$12:$A$111,$B$12:$B$111),IF(AND($I11=-1,BP$9=$Q10),"",IF($I11=-1,BP10,IF(AND($I11=1,BN$9=$Q10),$K11,IF($I11=1,BO10,""))))))))
A12: 1 | B12: 1 | D12: 2 | E12: =RANDBETWEEN(0,36) -> 31 | G12: =IF(E11="","",IF($B$3=Refs!$B$17,RevLab!F12,IF(AND(B$3="Last",H11="Zero"),G11,IF(B$3="Last",H11,IF(B$3="2nd last","",IF(AND(B$3="Opposite",H11="Zero"),G11,IF(AND(B$3="Opposite",H11="Red"),"Black",IF(AND(B$3="Opposite",H11="Black"),"Red",IF(AND(B$3="Opposite",H11="Odd"),"Even",IF(AND(B$3="Opposite",H11="Even"),"Odd",IF(AND(B$3="Opposite",H11="High"),"Low",IF(AND(B$3="Opposite",H11="Low"),"High",IF(COUNTIF(Refs!$E$5:$I$6,B$3)=1,RevLab!B$3,""))))))))))))) -> Low | H12: =IF(E12="","",IF(B$2="Red/Black",LOOKUP(E12,Refs!D:D,Refs!F:F),IF(B$2="High/Low",LOOKUP(E12,Refs!D:D,Refs!H:H),IF(B$2="Odd/Even",LOOKUP(E12,Refs!D:D,Refs!J:J),"")))) -> High | I12: =IF(E12="","",IF(G12="","",IF(H12=G12,1,-1))) -> -1 | J12: =IF(E11="","",IF(G12="","",IF(AND(Q11>1,O11+P11>=$B$4),$B$4,IF(Q11=1,O11,O11+P11)))) -> 6 | K12: =IF(E12="","",IF(G12="","",IF(I12=1,J12,-J12))) -> -6 | L12: =IF(E12="","",IF(G12="",L11,K12+L11)) -> -1 | M12: =IF(E12="","",IF(L12>M11,L12,M11)) -> 0 | N12: =IF(E11="","",IF(OR(AND($A$6="Yes",$M12>$M11),AND($A$8="Yes",$O11+$P11>=$B$4),AND($Q11<=2,$I12=-1)),1,0)) -> 0 | O12: =IF(E12="","",R12) -> 2 | P12: =IF(E12="","",MAX(R12:DM12)) -> 4 | Q12: =IF(E12="","",COUNTIF(R12:DM12,">0")) -> 3 | R12: =IF(E11="","",IF($G12="",R11,IF($N12=1,LOOKUP(R$9,$A$12:$A$111,$B$12:$B$111),IF(AND($I12=-1,S$9=$Q11),"",IF($I12=-1,S11,IF($I12=1,R11)))))) -> 2 | S12: =IF($E11="","",IF($G12="",S11,IF(AND($N12=1,S$9>$B$9),"",IF(AND($N12=1,S$9<=$B$9),LOOKUP(S$9,$A$12:$A$111,$B$12:$B$111),IF(AND($I12=-1,T$9=$Q11),"",IF($I12=-1,T11,IF(AND($I12=1,R$9=$Q11),$K12,IF($I12=1,S11,"")))))))) -> 3 | T12: =IF($E11="","",IF($G12="",T11,IF(AND($N12=1,T$9>$B$9),"",IF(AND($N12=1,T$9<=$B$9),LOOKUP(T$9,$A$12:$A$111,$B$12:$B$111),IF(AND($I12=-1,U$9=$Q11),"",IF($I12=-1,U11,IF(AND($I12=1,S$9=$Q11),$K12,IF($I12=1,T11,"")))))))) -> 4 | U12: =IF($E11="","",IF($G12="",U11,IF(AND($N12=1,U$9>$B$9),"",IF(AND($N12=1,U$9<=$B$9),LOOKUP(U$9,$A$12:$A$111,$B$12:$B$111),IF(AND($I12=-1,V$9=$Q11),"",IF($I12=-1,V11,IF(AND($I12=1,T$9=$Q11),$K12,IF($I12=1,U11,"")))))))) | V12: =IF($E11="","",IF($G12="",V11,IF(AND($N12=1,V$9>$B$9),"",IF(AND($N12=1,V$9<=$B$9),LOOKUP(V$9,$A$12:$A$111,$B$12:$B$111),IF(AND($I12=-1,W$9=$Q11),"",IF($I12=-1,W11,IF(AND($I12=1,U$9=$Q11),$K12,IF($I12=1,V11,"")))))))) | W12: =IF($E11="","",IF($G12="",W11,IF(AND($N12=1,W$9>$B$9),"",IF(AND($N12=1,W$9<=$B$9),LOOKUP(W$9,$A$12:$A$111,$B$12:$B$111),IF(AND($I12=-1,X$9=$Q11),"",IF($I12=-1,X11,IF(AND($I12=1,V$9=$Q11),$K12,IF($I12=1,W11,"")))))))) | X12: =IF($E11="","",IF($G12="",X11,IF(AND($N12=1,X$9>$B$9),"",IF(AND($N12=1,X$9<=$B$9),LOOKUP(X$9,$A$12:$A$111,$B$12:$B$111),IF(AND($I12=-1,Y$9=$Q11),"",IF($I12=-1,Y11,IF(AND($I12=1,W$9=$Q11),$K12,IF($I12=1,X11,"")))))))) | Y12: =IF($E11="","",IF($G12="",Y11,IF(AND($N12=1,Y$9>$B$9),"",IF(AND($N12=1,Y$9<=$B$9),LOOKUP(Y$9,$A$12:$A$111,$B$12:$B$111),IF(AND($I12=-1,Z$9=$Q11),"",IF($I12=-1,Z11,IF(AND($I12=1,X$9=$Q11),$K12,IF($I12=1,Y11,"")))))))) | Z12: =IF($E11="","",IF($G12="",Z11,IF(AND($N12=1,Z$9>$B$9),"",IF(AND($N12=1,Z$9<=$B$9),LOOKUP(Z$9,$A$12:$A$111,$B$12:$B$111),IF(AND($I12=-1,AA$9=$Q11),"",IF($I12=-1,AA11,IF(AND($I12=1,Y$9=$Q11),$K12,IF($I12=1,Z11,"")))))))) | ... BO12: =IF($E11="","",IF($G12="",BO11,IF(AND($N12=1,BO$9>$B$9),"",IF(AND($N12=1,BO$9<=$B$9),LOOKUP(BO$9,$A$12:$A$111,$B$12:$B$111),IF(AND($I12=-1,BP$9=$Q11),"",IF($I12=-1,BP11,IF(AND($I12=1,BN$9=$Q11),$K12,IF($I12=1,BO11,"")))))))) -> 0
A13: 2 | B13: 2 | D13: 3 | E13: =RANDBETWEEN(0,36) -> 26 | G13: =IF(E12="","",IF($B$3=Refs!$B$17,RevLab!F13,IF(AND(B$3="Last",H12="Zero"),G12,IF(B$3="Last",H12,IF(B$3="2nd last","",IF(AND(B$3="Opposite",H12="Zero"),G12,IF(AND(B$3="Opposite",H12="Red"),"Black",IF(AND(B$3="Opposite",H12="Black"),"Red",IF(AND(B$3="Opposite",H12="Odd"),"Even",IF(AND(B$3="Opposite",H12="Even"),"Odd",IF(AND(B$3="Opposite",H12="High"),"Low",IF(AND(B$3="Opposite",H12="Low"),"High",IF(COUNTIF(Refs!$E$5:$I$6,B$3)=1,RevLab!B$3,""))))))))))))) -> Low | H13: =IF(E13="","",IF(B$2="Red/Black",LOOKUP(E13,Refs!D:D,Refs!F:F),IF(B$2="High/Low",LOOKUP(E13,Refs!D:D,Refs!H:H),IF(B$2="Odd/Even",LOOKUP(E13,Refs!D:D,Refs!J:J),"")))) -> High | I13: =IF(E13="","",IF(G13="","",IF(H13=G13,1,-1))) -> -1 | J13: =IF(E12="","",IF(G13="","",IF(AND(Q12>1,O12+P12>=$B$4),$B$4,IF(Q12=1,O12,O12+P12)))) -> 6 | K13: =IF(E13="","",IF(G13="","",IF(I13=1,J13,-J13))) -> -6 | L13: =IF(E13="","",IF(G13="",L12,K13+L12)) -> -7 | M13: =IF(E13="","",IF(L13>M12,L13,M12)) -> 0 | N13: =IF(E12="","",IF(OR(AND($A$6="Yes",$M13>$M12),AND($A$8="Yes",$O12+$P12>=$B$4),AND($Q12<=2,$I13=-1)),1,0)) -> 0 | O13: =IF(E13="","",R13) -> 3 | P13: =IF(E13="","",MAX(R13:DM13)) -> 3 | Q13: =IF(E13="","",COUNTIF(R13:DM13,">0")) -> 1 | R13: =IF(E12="","",IF($G13="",R12,IF($N13=1,LOOKUP(R$9,$A$12:$A$111,$B$12:$B$111),IF(AND($I13=-1,S$9=$Q12),"",IF($I13=-1,S12,IF($I13=1,R12)))))) -> 3 | S13: =IF($E12="","",IF($G13="",S12,IF(AND($N13=1,S$9>$B$9),"",IF(AND($N13=1,S$9<=$B$9),LOOKUP(S$9,$A$12:$A$111,$B$12:$B$111),IF(AND($I13=-1,T$9=$Q12),"",IF($I13=-1,T12,IF(AND($I13=1,R$9=$Q12),$K13,IF($I13=1,S12,"")))))))) | T13: =IF($E12="","",IF($G13="",T12,IF(AND($N13=1,T$9>$B$9),"",IF(AND($N13=1,T$9<=$B$9),LOOKUP(T$9,$A$12:$A$111,$B$12:$B$111),IF(AND($I13=-1,U$9=$Q12),"",IF($I13=-1,U12,IF(AND($I13=1,S$9=$Q12),$K13,IF($I13=1,T12,"")))))))) | U13: =IF($E12="","",IF($G13="",U12,IF(AND($N13=1,U$9>$B$9),"",IF(AND($N13=1,U$9<=$B$9),LOOKUP(U$9,$A$12:$A$111,$B$12:$B$111),IF(AND($I13=-1,V$9=$Q12),"",IF($I13=-1,V12,IF(AND($I13=1,T$9=$Q12),$K13,IF($I13=1,U12,"")))))))) | V13: =IF($E12="","",IF($G13="",V12,IF(AND($N13=1,V$9>$B$9),"",IF(AND($N13=1,V$9<=$B$9),LOOKUP(V$9,$A$12:$A$111,$B$12:$B$111),IF(AND($I13=-1,W$9=$Q12),"",IF($I13=-1,W12,IF(AND($I13=1,U$9=$Q12),$K13,IF($I13=1,V12,"")))))))) | W13: =IF($E12="","",IF($G13="",W12,IF(AND($N13=1,W$9>$B$9),"",IF(AND($N13=1,W$9<=$B$9),LOOKUP(W$9,$A$12:$A$111,$B$12:$B$111),IF(AND($I13=-1,X$9=$Q12),"",IF($I13=-1,X12,IF(AND($I13=1,V$9=$Q12),$K13,IF($I13=1,W12,"")))))))) | X13: =IF($E12="","",IF($G13="",X12,IF(AND($N13=1,X$9>$B$9),"",IF(AND($N13=1,X$9<=$B$9),LOOKUP(X$9,$A$12:$A$111,$B$12:$B$111),IF(AND($I13=-1,Y$9=$Q12),"",IF($I13=-1,Y12,IF(AND($I13=1,W$9=$Q12),$K13,IF($I13=1,X12,"")))))))) | Y13: =IF($E12="","",IF($G13="",Y12,IF(AND($N13=1,Y$9>$B$9),"",IF(AND($N13=1,Y$9<=$B$9),LOOKUP(Y$9,$A$12:$A$111,$B$12:$B$111),IF(AND($I13=-1,Z$9=$Q12),"",IF($I13=-1,Z12,IF(AND($I13=1,X$9=$Q12),$K13,IF($I13=1,Y12,"")))))))) | Z13: =IF($E12="","",IF($G13="",Z12,IF(AND($N13=1,Z$9>$B$9),"",IF(AND($N13=1,Z$9<=$B$9),LOOKUP(Z$9,$A$12:$A$111,$B$12:$B$111),IF(AND($I13=-1,AA$9=$Q12),"",IF($I13=-1,AA12,IF(AND($I13=1,Y$9=$Q12),$K13,IF($I13=1,Z12,"")))))))) | ... BO13: =IF($E12="","",IF($G13="",BO12,IF(AND($N13=1,BO$9>$B$9),"",IF(AND($N13=1,BO$9<=$B$9),LOOKUP(BO$9,$A$12:$A$111,$B$12:$B$111),IF(AND($I13=-1,BP$9=$Q12),"",IF($I13=-1,BP12,IF(AND($I13=1,BN$9=$Q12),$K13,IF($I13=1,BO12,"")))))))) -> 0
A14: 3 | B14: 3 | D14: 4 | E14: =RANDBETWEEN(0,36) -> 11 | G14: =IF(E13="","",IF($B$3=Refs!$B$17,RevLab!F14,IF(AND(B$3="Last",H13="Zero"),G13,IF(B$3="Last",H13,IF(B$3="2nd last","",IF(AND(B$3="Opposite",H13="Zero"),G13,IF(AND(B$3="Opposite",H13="Red"),"Black",IF(AND(B$3="Opposite",H13="Black"),"Red",IF(AND(B$3="Opposite",H13="Odd"),"Even",IF(AND(B$3="Opposite",H13="Even"),"Odd",IF(AND(B$3="Opposite",H13="High"),"Low",IF(AND(B$3="Opposite",H13="Low"),"High",IF(COUNTIF(Refs!$E$5:$I$6,B$3)=1,RevLab!B$3,""))))))))))))) -> Low | H14: =IF(E14="","",IF(B$2="Red/Black",LOOKUP(E14,Refs!D:D,Refs!F:F),IF(B$2="High/Low",LOOKUP(E14,Refs!D:D,Refs!H:H),IF(B$2="Odd/Even",LOOKUP(E14,Refs!D:D,Refs!J:J),"")))) -> Low | I14: =IF(E14="","",IF(G14="","",IF(H14=G14,1,-1))) -> 1 | J14: =IF(E13="","",IF(G14="","",IF(AND(Q13>1,O13+P13>=$B$4),$B$4,IF(Q13=1,O13,O13+P13)))) -> 3 | K14: =IF(E14="","",IF(G14="","",IF(I14=1,J14,-J14))) -> 3 | L14: =IF(E14="","",IF(G14="",L13,K14+L13)) -> -4 | M14: =IF(E14="","",IF(L14>M13,L14,M13)) -> 0 | N14: =IF(E13="","",IF(OR(AND($A$6="Yes",$M14>$M13),AND($A$8="Yes",$O13+$P13>=$B$4),AND($Q13<=2,$I14=-1)),1,0)) -> 0 | O14: =IF(E14="","",R14) -> 3 | P14: =IF(E14="","",MAX(R14:DM14)) -> 3 | Q14: =IF(E14="","",COUNTIF(R14:DM14,">0")) -> 2 | R14: =IF(E13="","",IF($G14="",R13,IF($N14=1,LOOKUP(R$9,$A$12:$A$111,$B$12:$B$111),IF(AND($I14=-1,S$9=$Q13),"",IF($I14=-1,S13,IF($I14=1,R13)))))) -> 3 | S14: =IF($E13="","",IF($G14="",S13,IF(AND($N14=1,S$9>$B$9),"",IF(AND($N14=1,S$9<=$B$9),LOOKUP(S$9,$A$12:$A$111,$B$12:$B$111),IF(AND($I14=-1,T$9=$Q13),"",IF($I14=-1,T13,IF(AND($I14=1,R$9=$Q13),$K14,IF($I14=1,S13,"")))))))) -> 3 | T14: =IF($E13="","",IF($G14="",T13,IF(AND($N14=1,T$9>$B$9),"",IF(AND($N14=1,T$9<=$B$9),LOOKUP(T$9,$A$12:$A$111,$B$12:$B$111),IF(AND($I14=-1,U$9=$Q13),"",IF($I14=-1,U13,IF(AND($I14=1,S$9=$Q13),$K14,IF($I14=1,T13,"")))))))) | U14: =IF($E13="","",IF($G14="",U13,IF(AND($N14=1,U$9>$B$9),"",IF(AND($N14=1,U$9<=$B$9),LOOKUP(U$9,$A$12:$A$111,$B$12:$B$111),IF(AND($I14=-1,V$9=$Q13),"",IF($I14=-1,V13,IF(AND($I14=1,T$9=$Q13),$K14,IF($I14=1,U13,"")))))))) | V14: =IF($E13="","",IF($G14="",V13,IF(AND($N14=1,V$9>$B$9),"",IF(AND($N14=1,V$9<=$B$9),LOOKUP(V$9,$A$12:$A$111,$B$12:$B$111),IF(AND($I14=-1,W$9=$Q13),"",IF($I14=-1,W13,IF(AND($I14=1,U$9=$Q13),$K14,IF($I14=1,V13,"")))))))) | W14: =IF($E13="","",IF($G14="",W13,IF(AND($N14=1,W$9>$B$9),"",IF(AND($N14=1,W$9<=$B$9),LOOKUP(W$9,$A$12:$A$111,$B$12:$B$111),IF(AND($I14=-1,X$9=$Q13),"",IF($I14=-1,X13,IF(AND($I14=1,V$9=$Q13),$K14,IF($I14=1,W13,"")))))))) | X14: =IF($E13="","",IF($G14="",X13,IF(AND($N14=1,X$9>$B$9),"",IF(AND($N14=1,X$9<=$B$9),LOOKUP(X$9,$A$12:$A$111,$B$12:$B$111),IF(AND($I14=-1,Y$9=$Q13),"",IF($I14=-1,Y13,IF(AND($I14=1,W$9=$Q13),$K14,IF($I14=1,X13,"")))))))) | Y14: =IF($E13="","",IF($G14="",Y13,IF(AND($N14=1,Y$9>$B$9),"",IF(AND($N14=1,Y$9<=$B$9),LOOKUP(Y$9,$A$12:$A$111,$B$12:$B$111),IF(AND($I14=-1,Z$9=$Q13),"",IF($I14=-1,Z13,IF(AND($I14=1,X$9=$Q13),$K14,IF($I14=1,Y13,"")))))))) | Z14: =IF($E13="","",IF($G14="",Z13,IF(AND($N14=1,Z$9>$B$9),"",IF(AND($N14=1,Z$9<=$B$9),LOOKUP(Z$9,$A$12:$A$111,$B$12:$B$111),IF(AND($I14=-1,AA$9=$Q13),"",IF($I14=-1,AA13,IF(AND($I14=1,Y$9=$Q13),$K14,IF($I14=1,Z13,"")))))))) | ... BO14: =IF($E13="","",IF($G14="",BO13,IF(AND($N14=1,BO$9>$B$9),"",IF(AND($N14=1,BO$9<=$B$9),LOOKUP(BO$9,$A$12:$A$111,$B$12:$B$111),IF(AND($I14=-1,BP$9=$Q13),"",IF($I14=-1,BP13,IF(AND($I14=1,BN$9=$Q13),$K14,IF($I14=1,BO13,"")))))))) -> 0
A15: 4 | B15: 4 | D15: 5 | E15: =RANDBETWEEN(0,36) -> 19 | G15: =IF(E14="","",IF($B$3=Refs!$B$17,RevLab!F15,IF(AND(B$3="Last",H14="Zero"),G14,IF(B$3="Last",H14,IF(B$3="2nd last","",IF(AND(B$3="Opposite",H14="Zero"),G14,IF(AND(B$3="Opposite",H14="Red"),"Black",IF(AND(B$3="Opposite",H14="Black"),"Red",IF(AND(B$3="Opposite",H14="Odd"),"Even",IF(AND(B$3="Opposite",H14="Even"),"Odd",IF(AND(B$3="Opposite",H14="High"),"Low",IF(AND(B$3="Opposite",H14="Low"),"High",IF(COUNTIF(Refs!$E$5:$I$6,B$3)=1,RevLab!B$3,""))))))))))))) -> Low | H15: =IF(E15="","",IF(B$2="Red/Black",LOOKUP(E15,Refs!D:D,Refs!F:F),IF(B$2="High/Low",LOOKUP(E15,Refs!D:D,Refs!H:H),IF(B$2="Odd/Even",LOOKUP(E15,Refs!D:D,Refs!J:J),"")))) -> High | I15: =IF(E15="","",IF(G15="","",IF(H15=G15,1,-1))) -> -1 | J15: =IF(E14="","",IF(G15="","",IF(AND(Q14>1,O14+P14>=$B$4),$B$4,IF(Q14=1,O14,O14+P14)))) -> 6 | K15: =IF(E15="","",IF(G15="","",IF(I15=1,J15,-J15))) -> -6 | L15: =IF(E15="","",IF(G15="",L14,K15+L14)) -> -10 | M15: =IF(E15="","",IF(L15>M14,L15,M14)) -> 0 | N15: =IF(E14="","",IF(OR(AND($A$6="Yes",$M15>$M14),AND($A$8="Yes",$O14+$P14>=$B$4),AND($Q14<=2,$I15=-1)),1,0)) -> 1 | O15: =IF(E15="","",R15) -> 1 | P15: =IF(E15="","",MAX(R15:DM15)) -> 4 | Q15: =IF(E15="","",COUNTIF(R15:DM15,">0")) -> 4 | R15: =IF(E14="","",IF($G15="",R14,IF($N15=1,LOOKUP(R$9,$A$12:$A$111,$B$12:$B$111),IF(AND($I15=-1,S$9=$Q14),"",IF($I15=-1,S14,IF($I15=1,R14)))))) -> 1 | S15: =IF($E14="","",IF($G15="",S14,IF(AND($N15=1,S$9>$B$9),"",IF(AND($N15=1,S$9<=$B$9),LOOKUP(S$9,$A$12:$A$111,$B$12:$B$111),IF(AND($I15=-1,T$9=$Q14),"",IF($I15=-1,T14,IF(AND($I15=1,R$9=$Q14),$K15,IF($I15=1,S14,"")))))))) -> 2 | T15: =IF($E14="","",IF($G15="",T14,IF(AND($N15=1,T$9>$B$9),"",IF(AND($N15=1,T$9<=$B$9),LOOKUP(T$9,$A$12:$A$111,$B$12:$B$111),IF(AND($I15=-1,U$9=$Q14),"",IF($I15=-1,U14,IF(AND($I15=1,S$9=$Q14),$K15,IF($I15=1,T14,"")))))))) -> 3 | U15: =IF($E14="","",IF($G15="",U14,IF(AND($N15=1,U$9>$B$9),"",IF(AND($N15=1,U$9<=$B$9),LOOKUP(U$9,$A$12:$A$111,$B$12:$B$111),IF(AND($I15=-1,V$9=$Q14),"",IF($I15=-1,V14,IF(AND($I15=1,T$9=$Q14),$K15,IF($I15=1,U14,"")))))))) -> 4 | V15: =IF($E14="","",IF($G15="",V14,IF(AND($N15=1,V$9>$B$9),"",IF(AND($N15=1,V$9<=$B$9),LOOKUP(V$9,$A$12:$A$111,$B$12:$B$111),IF(AND($I15=-1,W$9=$Q14),"",IF($I15=-1,W14,IF(AND($I15=1,U$9=$Q14),$K15,IF($I15=1,V14,"")))))))) | W15: =IF($E14="","",IF($G15="",W14,IF(AND($N15=1,W$9>$B$9),"",IF(AND($N15=1,W$9<=$B$9),LOOKUP(W$9,$A$12:$A$111,$B$12:$B$111),IF(AND($I15=-1,X$9=$Q14),"",IF($I15=-1,X14,IF(AND($I15=1,V$9=$Q14),$K15,IF($I15=1,W14,"")))))))) | X15: =IF($E14="","",IF($G15="",X14,IF(AND($N15=1,X$9>$B$9),"",IF(AND($N15=1,X$9<=$B$9),LOOKUP(X$9,$A$12:$A$111,$B$12:$B$111),IF(AND($I15=-1,Y$9=$Q14),"",IF($I15=-1,Y14,IF(AND($I15=1,W$9=$Q14),$K15,IF($I15=1,X14,"")))))))) | Y15: =IF($E14="","",IF($G15="",Y14,IF(AND($N15=1,Y$9>$B$9),"",IF(AND($N15=1,Y$9<=$B$9),LOOKUP(Y$9,$A$12:$A$111,$B$12:$B$111),IF(AND($I15=-1,Z$9=$Q14),"",IF($I15=-1,Z14,IF(AND($I15=1,X$9=$Q14),$K15,IF($I15=1,Y14,"")))))))) | Z15: =IF($E14="","",IF($G15="",Z14,IF(AND($N15=1,Z$9>$B$9),"",IF(AND($N15=1,Z$9<=$B$9),LOOKUP(Z$9,$A$12:$A$111,$B$12:$B$111),IF(AND($I15=-1,AA$9=$Q14),"",IF($I15=-1,AA14,IF(AND($I15=1,Y$9=$Q14),$K15,IF($I15=1,Z14,"")))))))) | ... BO15: =IF($E14="","",IF($G15="",BO14,IF(AND($N15=1,BO$9>$B$9),"",IF(AND($N15=1,BO$9<=$B$9),LOOKUP(BO$9,$A$12:$A$111,$B$12:$B$111),IF(AND($I15=-1,BP$9=$Q14),"",IF($I15=-1,BP14,IF(AND($I15=1,BN$9=$Q14),$K15,IF($I15=1,BO14,""))))))))
A16: 5 | D16: 6 | E16: =RANDBETWEEN(0,36) -> 14 | G16: =IF(E15="","",IF($B$3=Refs!$B$17,RevLab!F16,IF(AND(B$3="Last",H15="Zero"),G15,IF(B$3="Last",H15,IF(B$3="2nd last","",IF(AND(B$3="Opposite",H15="Zero"),G15,IF(AND(B$3="Opposite",H15="Red"),"Black",IF(AND(B$3="Opposite",H15="Black"),"Red",IF(AND(B$3="Opposite",H15="Odd"),"Even",IF(AND(B$3="Opposite",H15="Even"),"Odd",IF(AND(B$3="Opposite",H15="High"),"Low",IF(AND(B$3="Opposite",H15="Low"),"High",IF(COUNTIF(Refs!$E$5:$I$6,B$3)=1,RevLab!B$3,""))))))))))))) -> Low | H16: =IF(E16="","",IF(B$2="Red/Black",LOOKUP(E16,Refs!D:D,Refs!F:F),IF(B$2="High/Low",LOOKUP(E16,Refs!D:D,Refs!H:H),IF(B$2="Odd/Even",LOOKUP(E16,Refs!D:D,Refs!J:J),"")))) -> Low | I16: =IF(E16="","",IF(G16="","",IF(H16=G16,1,-1))) -> 1 | J16: =IF(E15="","",IF(G16="","",IF(AND(Q15>1,O15+P15>=$B$4),$B$4,IF(Q15=1,O15,O15+P15)))) -> 5 | K16: =IF(E16="","",IF(G16="","",IF(I16=1,J16,-J16))) -> 5 | L16: =IF(E16="","",IF(G16="",L15,K16+L15)) -> -5 | M16: =IF(E16="","",IF(L16>M15,L16,M15)) -> 0 | N16: =IF(E15="","",IF(OR(AND($A$6="Yes",$M16>$M15),AND($A$8="Yes",$O15+$P15>=$B$4),AND($Q15<=2,$I16=-1)),1,0)) -> 0 | O16: =IF(E16="","",R16) -> 1 | P16: =IF(E16="","",MAX(R16:DM16)) -> 5 | Q16: =IF(E16="","",COUNTIF(R16:DM16,">0")) -> 5 | R16: =IF(E15="","",IF($G16="",R15,IF($N16=1,LOOKUP(R$9,$A$12:$A$111,$B$12:$B$111),IF(AND($I16=-1,S$9=$Q15),"",IF($I16=-1,S15,IF($I16=1,R15)))))) -> 1 | S16: =IF($E15="","",IF($G16="",S15,IF(AND($N16=1,S$9>$B$9),"",IF(AND($N16=1,S$9<=$B$9),LOOKUP(S$9,$A$12:$A$111,$B$12:$B$111),IF(AND($I16=-1,T$9=$Q15),"",IF($I16=-1,T15,IF(AND($I16=1,R$9=$Q15),$K16,IF($I16=1,S15,"")))))))) -> 2 | T16: =IF($E15="","",IF($G16="",T15,IF(AND($N16=1,T$9>$B$9),"",IF(AND($N16=1,T$9<=$B$9),LOOKUP(T$9,$A$12:$A$111,$B$12:$B$111),IF(AND($I16=-1,U$9=$Q15),"",IF($I16=-1,U15,IF(AND($I16=1,S$9=$Q15),$K16,IF($I16=1,T15,"")))))))) -> 3 | U16: =IF($E15="","",IF($G16="",U15,IF(AND($N16=1,U$9>$B$9),"",IF(AND($N16=1,U$9<=$B$9),LOOKUP(U$9,$A$12:$A$111,$B$12:$B$111),IF(AND($I16=-1,V$9=$Q15),"",IF($I16=-1,V15,IF(AND($I16=1,T$9=$Q15),$K16,IF($I16=1,U15,"")))))))) -> 4 | V16: =IF($E15="","",IF($G16="",V15,IF(AND($N16=1,V$9>$B$9),"",IF(AND($N16=1,V$9<=$B$9),LOOKUP(V$9,$A$12:$A$111,$B$12:$B$111),IF(AND($I16=-1,W$9=$Q15),"",IF($I16=-1,W15,IF(AND($I16=1,U$9=$Q15),$K16,IF($I16=1,V15,"")))))))) -> 5 | W16: =IF($E15="","",IF($G16="",W15,IF(AND($N16=1,W$9>$B$9),"",IF(AND($N16=1,W$9<=$B$9),LOOKUP(W$9,$A$12:$A$111,$B$12:$B$111),IF(AND($I16=-1,X$9=$Q15),"",IF($I16=-1,X15,IF(AND($I16=1,V$9=$Q15),$K16,IF($I16=1,W15,"")))))))) | X16: =IF($E15="","",IF($G16="",X15,IF(AND($N16=1,X$9>$B$9),"",IF(AND($N16=1,X$9<=$B$9),LOOKUP(X$9,$A$12:$A$111,$B$12:$B$111),IF(AND($I16=-1,Y$9=$Q15),"",IF($I16=-1,Y15,IF(AND($I16=1,W$9=$Q15),$K16,IF($I16=1,X15,"")))))))) | Y16: =IF($E15="","",IF($G16="",Y15,IF(AND($N16=1,Y$9>$B$9),"",IF(AND($N16=1,Y$9<=$B$9),LOOKUP(Y$9,$A$12:$A$111,$B$12:$B$111),IF(AND($I16=-1,Z$9=$Q15),"",IF($I16=-1,Z15,IF(AND($I16=1,X$9=$Q15),$K16,IF($I16=1,Y15,"")))))))) | Z16: =IF($E15="","",IF($G16="",Z15,IF(AND($N16=1,Z$9>$B$9),"",IF(AND($N16=1,Z$9<=$B$9),LOOKUP(Z$9,$A$12:$A$111,$B$12:$B$111),IF(AND($I16=-1,AA$9=$Q15),"",IF($I16=-1,AA15,IF(AND($I16=1,Y$9=$Q15),$K16,IF($I16=1,Z15,"")))))))) | ... BO16: =IF($E15="","",IF($G16="",BO15,IF(AND($N16=1,BO$9>$B$9),"",IF(AND($N16=1,BO$9<=$B$9),LOOKUP(BO$9,$A$12:$A$111,$B$12:$B$111),IF(AND($I16=-1,BP$9=$Q15),"",IF($I16=-1,BP15,IF(AND($I16=1,BN$9=$Q15),$K16,IF($I16=1,BO15,""))))))))
A17: 6 | D17: 7 | E17: =RANDBETWEEN(0,36) -> 22 | G17: =IF(E16="","",IF($B$3=Refs!$B$17,RevLab!F17,IF(AND(B$3="Last",H16="Zero"),G16,IF(B$3="Last",H16,IF(B$3="2nd last","",IF(AND(B$3="Opposite",H16="Zero"),G16,IF(AND(B$3="Opposite",H16="Red"),"Black",IF(AND(B$3="Opposite",H16="Black"),"Red",IF(AND(B$3="Opposite",H16="Odd"),"Even",IF(AND(B$3="Opposite",H16="Even"),"Odd",IF(AND(B$3="Opposite",H16="High"),"Low",IF(AND(B$3="Opposite",H16="Low"),"High",IF(COUNTIF(Refs!$E$5:$I$6,B$3)=1,RevLab!B$3,""))))))))))))) -> Low | H17: =IF(E17="","",IF(B$2="Red/Black",LOOKUP(E17,Refs!D:D,Refs!F:F),IF(B$2="High/Low",LOOKUP(E17,Refs!D:D,Refs!H:H),IF(B$2="Odd/Even",LOOKUP(E17,Refs!D:D,Refs!J:J),"")))) -> High | I17: =IF(E17="","",IF(G17="","",IF(H17=G17,1,-1))) -> -1 | J17: =IF(E16="","",IF(G17="","",IF(AND(Q16>1,O16+P16>=$B$4),$B$4,IF(Q16=1,O16,O16+P16)))) -> 6 | K17: =IF(E17="","",IF(G17="","",IF(I17=1,J17,-J17))) -> -6 | L17: =IF(E17="","",IF(G17="",L16,K17+L16)) -> -11 | M17: =IF(E17="","",IF(L17>M16,L17,M16)) -> 0 | N17: =IF(E16="","",IF(OR(AND($A$6="Yes",$M17>$M16),AND($A$8="Yes",$O16+$P16>=$B$4),AND($Q16<=2,$I17=-1)),1,0)) -> 0 | O17: =IF(E17="","",R17) -> 2 | P17: =IF(E17="","",MAX(R17:DM17)) -> 4 | Q17: =IF(E17="","",COUNTIF(R17:DM17,">0")) -> 3 | R17: =IF(E16="","",IF($G17="",R16,IF($N17=1,LOOKUP(R$9,$A$12:$A$111,$B$12:$B$111),IF(AND($I17=-1,S$9=$Q16),"",IF($I17=-1,S16,IF($I17=1,R16)))))) -> 2 | S17: =IF($E16="","",IF($G17="",S16,IF(AND($N17=1,S$9>$B$9),"",IF(AND($N17=1,S$9<=$B$9),LOOKUP(S$9,$A$12:$A$111,$B$12:$B$111),IF(AND($I17=-1,T$9=$Q16),"",IF($I17=-1,T16,IF(AND($I17=1,R$9=$Q16),$K17,IF($I17=1,S16,"")))))))) -> 3 | T17: =IF($E16="","",IF($G17="",T16,IF(AND($N17=1,T$9>$B$9),"",IF(AND($N17=1,T$9<=$B$9),LOOKUP(T$9,$A$12:$A$111,$B$12:$B$111),IF(AND($I17=-1,U$9=$Q16),"",IF($I17=-1,U16,IF(AND($I17=1,S$9=$Q16),$K17,IF($I17=1,T16,"")))))))) -> 4 | U17: =IF($E16="","",IF($G17="",U16,IF(AND($N17=1,U$9>$B$9),"",IF(AND($N17=1,U$9<=$B$9),LOOKUP(U$9,$A$12:$A$111,$B$12:$B$111),IF(AND($I17=-1,V$9=$Q16),"",IF($I17=-1,V16,IF(AND($I17=1,T$9=$Q16),$K17,IF($I17=1,U16,"")))))))) | V17: =IF($E16="","",IF($G17="",V16,IF(AND($N17=1,V$9>$B$9),"",IF(AND($N17=1,V$9<=$B$9),LOOKUP(V$9,$A$12:$A$111,$B$12:$B$111),IF(AND($I17=-1,W$9=$Q16),"",IF($I17=-1,W16,IF(AND($I17=1,U$9=$Q16),$K17,IF($I17=1,V16,"")))))))) | W17: =IF($E16="","",IF($G17="",W16,IF(AND($N17=1,W$9>$B$9),"",IF(AND($N17=1,W$9<=$B$9),LOOKUP(W$9,$A$12:$A$111,$B$12:$B$111),IF(AND($I17=-1,X$9=$Q16),"",IF($I17=-1,X16,IF(AND($I17=1,V$9=$Q16),$K17,IF($I17=1,W16,"")))))))) | X17: =IF($E16="","",IF($G17="",X16,IF(AND($N17=1,X$9>$B$9),"",IF(AND($N17=1,X$9<=$B$9),LOOKUP(X$9,$A$12:$A$111,$B$12:$B$111),IF(AND($I17=-1,Y$9=$Q16),"",IF($I17=-1,Y16,IF(AND($I17=1,W$9=$Q16),$K17,IF($I17=1,X16,"")))))))) | Y17: =IF($E16="","",IF($G17="",Y16,IF(AND($N17=1,Y$9>$B$9),"",IF(AND($N17=1,Y$9<=$B$9),LOOKUP(Y$9,$A$12:$A$111,$B$12:$B$111),IF(AND($I17=-1,Z$9=$Q16),"",IF($I17=-1,Z16,IF(AND($I17=1,X$9=$Q16),$K17,IF($I17=1,Y16,"")))))))) | Z17: =IF($E16="","",IF($G17="",Z16,IF(AND($N17=1,Z$9>$B$9),"",IF(AND($N17=1,Z$9<=$B$9),LOOKUP(Z$9,$A$12:$A$111,$B$12:$B$111),IF(AND($I17=-1,AA$9=$Q16),"",IF($I17=-1,AA16,IF(AND($I17=1,Y$9=$Q16),$K17,IF($I17=1,Z16,"")))))))) | ... BO17: =IF($E16="","",IF($G17="",BO16,IF(AND($N17=1,BO$9>$B$9),"",IF(AND($N17=1,BO$9<=$B$9),LOOKUP(BO$9,$A$12:$A$111,$B$12:$B$111),IF(AND($I17=-1,BP$9=$Q16),"",IF($I17=-1,BP16,IF(AND($I17=1,BN$9=$Q16),$K17,IF($I17=1,BO16,"")))))))) -> 0
A18: 7 | D18: 8 | E18: =RANDBETWEEN(0,36) -> 7 | G18: =IF(E17="","",IF($B$3=Refs!$B$17,RevLab!F18,IF(AND(B$3="Last",H17="Zero"),G17,IF(B$3="Last",H17,IF(B$3="2nd last","",IF(AND(B$3="Opposite",H17="Zero"),G17,IF(AND(B$3="Opposite",H17="Red"),"Black",IF(AND(B$3="Opposite",H17="Black"),"Red",IF(AND(B$3="Opposite",H17="Odd"),"Even",IF(AND(B$3="Opposite",H17="Even"),"Odd",IF(AND(B$3="Opposite",H17="High"),"Low",IF(AND(B$3="Opposite",H17="Low"),"High",IF(COUNTIF(Refs!$E$5:$I$6,B$3)=1,RevLab!B$3,""))))))))))))) -> Low | H18: =IF(E18="","",IF(B$2="Red/Black",LOOKUP(E18,Refs!D:D,Refs!F:F),IF(B$2="High/Low",LOOKUP(E18,Refs!D:D,Refs!H:H),IF(B$2="Odd/Even",LOOKUP(E18,Refs!D:D,Refs!J:J),"")))) -> Low | I18: =IF(E18="","",IF(G18="","",IF(H18=G18,1,-1))) -> 1 | J18: =IF(E17="","",IF(G18="","",IF(AND(Q17>1,O17+P17>=$B$4),$B$4,IF(Q17=1,O17,O17+P17)))) -> 6 | K18: =IF(E18="","",IF(G18="","",IF(I18=1,J18,-J18))) -> 6 | L18: =IF(E18="","",IF(G18="",L17,K18+L17)) -> -5 | M18: =IF(E18="","",IF(L18>M17,L18,M17)) -> 0 | N18: =IF(E17="","",IF(OR(AND($A$6="Yes",$M18>$M17),AND($A$8="Yes",$O17+$P17>=$B$4),AND($Q17<=2,$I18=-1)),1,0)) -> 0 | O18: =IF(E18="","",R18) -> 2 | P18: =IF(E18="","",MAX(R18:DM18)) -> 6 | Q18: =IF(E18="","",COUNTIF(R18:DM18,">0")) -> 4 | R18: =IF(E17="","",IF($G18="",R17,IF($N18=1,LOOKUP(R$9,$A$12:$A$111,$B$12:$B$111),IF(AND($I18=-1,S$9=$Q17),"",IF($I18=-1,S17,IF($I18=1,R17)))))) -> 2 | S18: =IF($E17="","",IF($G18="",S17,IF(AND($N18=1,S$9>$B$9),"",IF(AND($N18=1,S$9<=$B$9),LOOKUP(S$9,$A$12:$A$111,$B$12:$B$111),IF(AND($I18=-1,T$9=$Q17),"",IF($I18=-1,T17,IF(AND($I18=1,R$9=$Q17),$K18,IF($I18=1,S17,"")))))))) -> 3 | T18: =IF($E17="","",IF($G18="",T17,IF(AND($N18=1,T$9>$B$9),"",IF(AND($N18=1,T$9<=$B$9),LOOKUP(T$9,$A$12:$A$111,$B$12:$B$111),IF(AND($I18=-1,U$9=$Q17),"",IF($I18=-1,U17,IF(AND($I18=1,S$9=$Q17),$K18,IF($I18=1,T17,"")))))))) -> 4 | U18: =IF($E17="","",IF($G18="",U17,IF(AND($N18=1,U$9>$B$9),"",IF(AND($N18=1,U$9<=$B$9),LOOKUP(U$9,$A$12:$A$111,$B$12:$B$111),IF(AND($I18=-1,V$9=$Q17),"",IF($I18=-1,V17,IF(AND($I18=1,T$9=$Q17),$K18,IF($I18=1,U17,"")))))))) -> 6 | V18: =IF($E17="","",IF($G18="",V17,IF(AND($N18=1,V$9>$B$9),"",IF(AND($N18=1,V$9<=$B$9),LOOKUP(V$9,$A$12:$A$111,$B$12:$B$111),IF(AND($I18=-1,W$9=$Q17),"",IF($I18=-1,W17,IF(AND($I18=1,U$9=$Q17),$K18,IF($I18=1,V17,"")))))))) | W18: =IF($E17="","",IF($G18="",W17,IF(AND($N18=1,W$9>$B$9),"",IF(AND($N18=1,W$9<=$B$9),LOOKUP(W$9,$A$12:$A$111,$B$12:$B$111),IF(AND($I18=-1,X$9=$Q17),"",IF($I18=-1,X17,IF(AND($I18=1,V$9=$Q17),$K18,IF($I18=1,W17,"")))))))) | X18: =IF($E17="","",IF($G18="",X17,IF(AND($N18=1,X$9>$B$9),"",IF(AND($N18=1,X$9<=$B$9),LOOKUP(X$9,$A$12:$A$111,$B$12:$B$111),IF(AND($I18=-1,Y$9=$Q17),"",IF($I18=-1,Y17,IF(AND($I18=1,W$9=$Q17),$K18,IF($I18=1,X17,"")))))))) | Y18: =IF($E17="","",IF($G18="",Y17,IF(AND($N18=1,Y$9>$B$9),"",IF(AND($N18=1,Y$9<=$B$9),LOOKUP(Y$9,$A$12:$A$111,$B$12:$B$111),IF(AND($I18=-1,Z$9=$Q17),"",IF($I18=-1,Z17,IF(AND($I18=1,X$9=$Q17),$K18,IF($I18=1,Y17,"")))))))) | Z18: =IF($E17="","",IF($G18="",Z17,IF(AND($N18=1,Z$9>$B$9),"",IF(AND($N18=1,Z$9<=$B$9),LOOKUP(Z$9,$A$12:$A$111,$B$12:$B$111),IF(AND($I18=-1,AA$9=$Q17),"",IF($I18=-1,AA17,IF(AND($I18=1,Y$9=$Q17),$K18,IF($I18=1,Z17,"")))))))) | ... BO18: =IF($E17="","",IF($G18="",BO17,IF(AND($N18=1,BO$9>$B$9),"",IF(AND($N18=1,BO$9<=$B$9),LOOKUP(BO$9,$A$12:$A$111,$B$12:$B$111),IF(AND($I18=-1,BP$9=$Q17),"",IF($I18=-1,BP17,IF(AND($I18=1,BN$9=$Q17),$K18,IF($I18=1,BO17,"")))))))) -> 0
A19: 8 | D19: 9 | E19: =RANDBETWEEN(0,36) -> 15 | G19: =IF(E18="","",IF($B$3=Refs!$B$17,RevLab!F19,IF(AND(B$3="Last",H18="Zero"),G18,IF(B$3="Last",H18,IF(B$3="2nd last","",IF(AND(B$3="Opposite",H18="Zero"),G18,IF(AND(B$3="Opposite",H18="Red"),"Black",IF(AND(B$3="Opposite",H18="Black"),"Red",IF(AND(B$3="Opposite",H18="Odd"),"Even",IF(AND(B$3="Opposite",H18="Even"),"Odd",IF(AND(B$3="Opposite",H18="High"),"Low",IF(AND(B$3="Opposite",H18="Low"),"High",IF(COUNTIF(Refs!$E$5:$I$6,B$3)=1,RevLab!B$3,""))))))))))))) -> Low | H19: =IF(E19="","",IF(B$2="Red/Black",LOOKUP(E19,Refs!D:D,Refs!F:F),IF(B$2="High/Low",LOOKUP(E19,Refs!D:D,Refs!H:H),IF(B$2="Odd/Even",LOOKUP(E19,Refs!D:D,Refs!J:J),"")))) -> Low | I19: =IF(E19="","",IF(G19="","",IF(H19=G19,1,-1))) -> 1 | J19: =IF(E18="","",IF(G19="","",IF(AND(Q18>1,O18+P18>=$B$4),$B$4,IF(Q18=1,O18,O18+P18)))) -> 8 | K19: =IF(E19="","",IF(G19="","",IF(I19=1,J19,-J19))) -> 8 | L19: =IF(E19="","",IF(G19="",L18,K19+L18)) -> 3 | M19: =IF(E19="","",IF(L19>M18,L19,M18)) -> 3 | N19: =IF(E18="","",IF(OR(AND($A$6="Yes",$M19>$M18),AND($A$8="Yes",$O18+$P18>=$B$4),AND($Q18<=2,$I19=-1)),1,0)) -> 0 | O19: =IF(E19="","",R19) -> 2 | P19: =IF(E19="","",MAX(R19:DM19)) -> 8 | Q19: =IF(E19="","",COUNTIF(R19:DM19,">0")) -> 5 | R19: =IF(E18="","",IF($G19="",R18,IF($N19=1,LOOKUP(R$9,$A$12:$A$111,$B$12:$B$111),IF(AND($I19=-1,S$9=$Q18),"",IF($I19=-1,S18,IF($I19=1,R18)))))) -> 2 | S19: =IF($E18="","",IF($G19="",S18,IF(AND($N19=1,S$9>$B$9),"",IF(AND($N19=1,S$9<=$B$9),LOOKUP(S$9,$A$12:$A$111,$B$12:$B$111),IF(AND($I19=-1,T$9=$Q18),"",IF($I19=-1,T18,IF(AND($I19=1,R$9=$Q18),$K19,IF($I19=1,S18,"")))))))) -> 3 | T19: =IF($E18="","",IF($G19="",T18,IF(AND($N19=1,T$9>$B$9),"",IF(AND($N19=1,T$9<=$B$9),LOOKUP(T$9,$A$12:$A$111,$B$12:$B$111),IF(AND($I19=-1,U$9=$Q18),"",IF($I19=-1,U18,IF(AND($I19=1,S$9=$Q18),$K19,IF($I19=1,T18,"")))))))) -> 4 | U19: =IF($E18="","",IF($G19="",U18,IF(AND($N19=1,U$9>$B$9),"",IF(AND($N19=1,U$9<=$B$9),LOOKUP(U$9,$A$12:$A$111,$B$12:$B$111),IF(AND($I19=-1,V$9=$Q18),"",IF($I19=-1,V18,IF(AND($I19=1,T$9=$Q18),$K19,IF($I19=1,U18,"")))))))) -> 6 | V19: =IF($E18="","",IF($G19="",V18,IF(AND($N19=1,V$9>$B$9),"",IF(AND($N19=1,V$9<=$B$9),LOOKUP(V$9,$A$12:$A$111,$B$12:$B$111),IF(AND($I19=-1,W$9=$Q18),"",IF($I19=-1,W18,IF(AND($I19=1,U$9=$Q18),$K19,IF($I19=1,V18,"")))))))) -> 8 | W19: =IF($E18="","",IF($G19="",W18,IF(AND($N19=1,W$9>$B$9),"",IF(AND($N19=1,W$9<=$B$9),LOOKUP(W$9,$A$12:$A$111,$B$12:$B$111),IF(AND($I19=-1,X$9=$Q18),"",IF($I19=-1,X18,IF(AND($I19=1,V$9=$Q18),$K19,IF($I19=1,W18,"")))))))) | X19: =IF($E18="","",IF($G19="",X18,IF(AND($N19=1,X$9>$B$9),"",IF(AND($N19=1,X$9<=$B$9),LOOKUP(X$9,$A$12:$A$111,$B$12:$B$111),IF(AND($I19=-1,Y$9=$Q18),"",IF($I19=-1,Y18,IF(AND($I19=1,W$9=$Q18),$K19,IF($I19=1,X18,"")))))))) | Y19: =IF($E18="","",IF($G19="",Y18,IF(AND($N19=1,Y$9>$B$9),"",IF(AND($N19=1,Y$9<=$B$9),LOOKUP(Y$9,$A$12:$A$111,$B$12:$B$111),IF(AND($I19=-1,Z$9=$Q18),"",IF($I19=-1,Z18,IF(AND($I19=1,X$9=$Q18),$K19,IF($I19=1,Y18,"")))))))) | Z19: =IF($E18="","",IF($G19="",Z18,IF(AND($N19=1,Z$9>$B$9),"",IF(AND($N19=1,Z$9<=$B$9),LOOKUP(Z$9,$A$12:$A$111,$B$12:$B$111),IF(AND($I19=-1,AA$9=$Q18),"",IF($I19=-1,AA18,IF(AND($I19=1,Y$9=$Q18),$K19,IF($I19=1,Z18,"")))))))) | ... BO19: =IF($E18="","",IF($G19="",BO18,IF(AND($N19=1,BO$9>$B$9),"",IF(AND($N19=1,BO$9<=$B$9),LOOKUP(BO$9,$A$12:$A$111,$B$12:$B$111),IF(AND($I19=-1,BP$9=$Q18),"",IF($I19=-1,BP18,IF(AND($I19=1,BN$9=$Q18),$K19,IF($I19=1,BO18,"")))))))) -> 0
A20: 9 | D20: 10 | E20: =RANDBETWEEN(0,36) -> 28 | G20: =IF(E19="","",IF($B$3=Refs!$B$17,RevLab!F20,IF(AND(B$3="Last",H19="Zero"),G19,IF(B$3="Last",H19,IF(B$3="2nd last","",IF(AND(B$3="Opposite",H19="Zero"),G19,IF(AND(B$3="Opposite",H19="Red"),"Black",IF(AND(B$3="Opposite",H19="Black"),"Red",IF(AND(B$3="Opposite",H19="Odd"),"Even",IF(AND(B$3="Opposite",H19="Even"),"Odd",IF(AND(B$3="Opposite",H19="High"),"Low",IF(AND(B$3="Opposite",H19="Low"),"High",IF(COUNTIF(Refs!$E$5:$I$6,B$3)=1,RevLab!B$3,""))))))))))))) -> Low | H20: =IF(E20="","",IF(B$2="Red/Black",LOOKUP(E20,Refs!D:D,Refs!F:F),IF(B$2="High/Low",LOOKUP(E20,Refs!D:D,Refs!H:H),IF(B$2="Odd/Even",LOOKUP(E20,Refs!D:D,Refs!J:J),"")))) -> High | I20: =IF(E20="","",IF(G20="","",IF(H20=G20,1,-1))) -> -1 | J20: =IF(E19="","",IF(G20="","",IF(AND(Q19>1,O19+P19>=$B$4),$B$4,IF(Q19=1,O19,O19+P19)))) -> 10 | K20: =IF(E20="","",IF(G20="","",IF(I20=1,J20,-J20))) -> -10 | L20: =IF(E20="","",IF(G20="",L19,K20+L19)) -> -7 | M20: =IF(E20="","",IF(L20>M19,L20,M19)) -> 3 | N20: =IF(E19="","",IF(OR(AND($A$6="Yes",$M20>$M19),AND($A$8="Yes",$O19+$P19>=$B$4),AND($Q19<=2,$I20=-1)),1,0)) -> 0 | O20: =IF(E20="","",R20) -> 3 | P20: =IF(E20="","",MAX(R20:DM20)) -> 6 | Q20: =IF(E20="","",COUNTIF(R20:DM20,">0")) -> 3 | R20: =IF(E19="","",IF($G20="",R19,IF($N20=1,LOOKUP(R$9,$A$12:$A$111,$B$12:$B$111),IF(AND($I20=-1,S$9=$Q19),"",IF($I20=-1,S19,IF($I20=1,R19)))))) -> 3 | S20: =IF($E19="","",IF($G20="",S19,IF(AND($N20=1,S$9>$B$9),"",IF(AND($N20=1,S$9<=$B$9),LOOKUP(S$9,$A$12:$A$111,$B$12:$B$111),IF(AND($I20=-1,T$9=$Q19),"",IF($I20=-1,T19,IF(AND($I20=1,R$9=$Q19),$K20,IF($I20=1,S19,"")))))))) -> 4 | T20: =IF($E19="","",IF($G20="",T19,IF(AND($N20=1,T$9>$B$9),"",IF(AND($N20=1,T$9<=$B$9),LOOKUP(T$9,$A$12:$A$111,$B$12:$B$111),IF(AND($I20=-1,U$9=$Q19),"",IF($I20=-1,U19,IF(AND($I20=1,S$9=$Q19),$K20,IF($I20=1,T19,"")))))))) -> 6 | U20: =IF($E19="","",IF($G20="",U19,IF(AND($N20=1,U$9>$B$9),"",IF(AND($N20=1,U$9<=$B$9),LOOKUP(U$9,$A$12:$A$111,$B$12:$B$111),IF(AND($I20=-1,V$9=$Q19),"",IF($I20=-1,V19,IF(AND($I20=1,T$9=$Q19),$K20,IF($I20=1,U19,"")))))))) | V20: =IF($E19="","",IF($G20="",V19,IF(AND($N20=1,V$9>$B$9),"",IF(AND($N20=1,V$9<=$B$9),LOOKUP(V$9,$A$12:$A$111,$B$12:$B$111),IF(AND($I20=-1,W$9=$Q19),"",IF($I20=-1,W19,IF(AND($I20=1,U$9=$Q19),$K20,IF($I20=1,V19,"")))))))) | W20: =IF($E19="","",IF($G20="",W19,IF(AND($N20=1,W$9>$B$9),"",IF(AND($N20=1,W$9<=$B$9),LOOKUP(W$9,$A$12:$A$111,$B$12:$B$111),IF(AND($I20=-1,X$9=$Q19),"",IF($I20=-1,X19,IF(AND($I20=1,V$9=$Q19),$K20,IF($I20=1,W19,"")))))))) | X20: =IF($E19="","",IF($G20="",X19,IF(AND($N20=1,X$9>$B$9),"",IF(AND($N20=1,X$9<=$B$9),LOOKUP(X$9,$A$12:$A$111,$B$12:$B$111),IF(AND($I20=-1,Y$9=$Q19),"",IF($I20=-1,Y19,IF(AND($I20=1,W$9=$Q19),$K20,IF($I20=1,X19,"")))))))) | Y20: =IF($E19="","",IF($G20="",Y19,IF(AND($N20=1,Y$9>$B$9),"",IF(AND($N20=1,Y$9<=$B$9),LOOKUP(Y$9,$A$12:$A$111,$B$12:$B$111),IF(AND($I20=-1,Z$9=$Q19),"",IF($I20=-1,Z19,IF(AND($I20=1,X$9=$Q19),$K20,IF($I20=1,Y19,"")))))))) | Z20: =IF($E19="","",IF($G20="",Z19,IF(AND($N20=1,Z$9>$B$9),"",IF(AND($N20=1,Z$9<=$B$9),LOOKUP(Z$9,$A$12:$A$111,$B$12:$B$111),IF(AND($I20=-1,AA$9=$Q19),"",IF($I20=-1,AA19,IF(AND($I20=1,Y$9=$Q19),$K20,IF($I20=1,Z19,"")))))))) | ... BO20: =IF($E19="","",IF($G20="",BO19,IF(AND($N20=1,BO$9>$B$9),"",IF(AND($N20=1,BO$9<=$B$9),LOOKUP(BO$9,$A$12:$A$111,$B$12:$B$111),IF(AND($I20=-1,BP$9=$Q19),"",IF($I20=-1,BP19,IF(AND($I20=1,BN$9=$Q19),$K20,IF($I20=1,BO19,"")))))))) -> 0
A21: 10 | D21: 11 | E21: =RANDBETWEEN(0,36) -> 2 | G21: =IF(E20="","",IF($B$3=Refs!$B$17,RevLab!F21,IF(AND(B$3="Last",H20="Zero"),G20,IF(B$3="Last",H20,IF(B$3="2nd last","",IF(AND(B$3="Opposite",H20="Zero"),G20,IF(AND(B$3="Opposite",H20="Red"),"Black",IF(AND(B$3="Opposite",H20="Black"),"Red",IF(AND(B$3="Opposite",H20="Odd"),"Even",IF(AND(B$3="Opposite",H20="Even"),"Odd",IF(AND(B$3="Opposite",H20="High"),"Low",IF(AND(B$3="Opposite",H20="Low"),"High",IF(COUNTIF(Refs!$E$5:$I$6,B$3)=1,RevLab!B$3,""))))))))))))) -> Low | H21: =IF(E21="","",IF(B$2="Red/Black",LOOKUP(E21,Refs!D:D,Refs!F:F),IF(B$2="High/Low",LOOKUP(E21,Refs!D:D,Refs!H:H),IF(B$2="Odd/Even",LOOKUP(E21,Refs!D:D,Refs!J:J),"")))) -> Low | I21: =IF(E21="","",IF(G21="","",IF(H21=G21,1,-1))) -> 1 | J21: =IF(E20="","",IF(G21="","",IF(AND(Q20>1,O20+P20>=$B$4),$B$4,IF(Q20=1,O20,O20+P20)))) -> 9 | K21: =IF(E21="","",IF(G21="","",IF(I21=1,J21,-J21))) -> 9 | L21: =IF(E21="","",IF(G21="",L20,K21+L20)) -> 2 | M21: =IF(E21="","",IF(L21>M20,L21,M20)) -> 3 | N21: =IF(E20="","",IF(OR(AND($A$6="Yes",$M21>$M20),AND($A$8="Yes",$O20+$P20>=$B$4),AND($Q20<=2,$I21=-1)),1,0)) -> 0 | O21: =IF(E21="","",R21) -> 3 | P21: =IF(E21="","",MAX(R21:DM21)) -> 9 | Q21: =IF(E21="","",COUNTIF(R21:DM21,">0")) -> 4 | R21: =IF(E20="","",IF($G21="",R20,IF($N21=1,LOOKUP(R$9,$A$12:$A$111,$B$12:$B$111),IF(AND($I21=-1,S$9=$Q20),"",IF($I21=-1,S20,IF($I21=1,R20)))))) -> 3 | S21: =IF($E20="","",IF($G21="",S20,IF(AND($N21=1,S$9>$B$9),"",IF(AND($N21=1,S$9<=$B$9),LOOKUP(S$9,$A$12:$A$111,$B$12:$B$111),IF(AND($I21=-1,T$9=$Q20),"",IF($I21=-1,T20,IF(AND($I21=1,R$9=$Q20),$K21,IF($I21=1,S20,"")))))))) -> 4 | T21: =IF($E20="","",IF($G21="",T20,IF(AND($N21=1,T$9>$B$9),"",IF(AND($N21=1,T$9<=$B$9),LOOKUP(T$9,$A$12:$A$111,$B$12:$B$111),IF(AND($I21=-1,U$9=$Q20),"",IF($I21=-1,U20,IF(AND($I21=1,S$9=$Q20),$K21,IF($I21=1,T20,"")))))))) -> 6 | U21: =IF($E20="","",IF($G21="",U20,IF(AND($N21=1,U$9>$B$9),"",IF(AND($N21=1,U$9<=$B$9),LOOKUP(U$9,$A$12:$A$111,$B$12:$B$111),IF(AND($I21=-1,V$9=$Q20),"",IF($I21=-1,V20,IF(AND($I21=1,T$9=$Q20),$K21,IF($I21=1,U20,"")))))))) -> 9 | V21: =IF($E20="","",IF($G21="",V20,IF(AND($N21=1,V$9>$B$9),"",IF(AND($N21=1,V$9<=$B$9),LOOKUP(V$9,$A$12:$A$111,$B$12:$B$111),IF(AND($I21=-1,W$9=$Q20),"",IF($I21=-1,W20,IF(AND($I21=1,U$9=$Q20),$K21,IF($I21=1,V20,"")))))))) | W21: =IF($E20="","",IF($G21="",W20,IF(AND($N21=1,W$9>$B$9),"",IF(AND($N21=1,W$9<=$B$9),LOOKUP(W$9,$A$12:$A$111,$B$12:$B$111),IF(AND($I21=-1,X$9=$Q20),"",IF($I21=-1,X20,IF(AND($I21=1,V$9=$Q20),$K21,IF($I21=1,W20,"")))))))) | X21: =IF($E20="","",IF($G21="",X20,IF(AND($N21=1,X$9>$B$9),"",IF(AND($N21=1,X$9<=$B$9),LOOKUP(X$9,$A$12:$A$111,$B$12:$B$111),IF(AND($I21=-1,Y$9=$Q20),"",IF($I21=-1,Y20,IF(AND($I21=1,W$9=$Q20),$K21,IF($I21=1,X20,"")))))))) | Y21: =IF($E20="","",IF($G21="",Y20,IF(AND($N21=1,Y$9>$B$9),"",IF(AND($N21=1,Y$9<=$B$9),LOOKUP(Y$9,$A$12:$A$111,$B$12:$B$111),IF(AND($I21=-1,Z$9=$Q20),"",IF($I21=-1,Z20,IF(AND($I21=1,X$9=$Q20),$K21,IF($I21=1,Y20,"")))))))) | Z21: =IF($E20="","",IF($G21="",Z20,IF(AND($N21=1,Z$9>$B$9),"",IF(AND($N21=1,Z$9<=$B$9),LOOKUP(Z$9,$A$12:$A$111,$B$12:$B$111),IF(AND($I21=-1,AA$9=$Q20),"",IF($I21=-1,AA20,IF(AND($I21=1,Y$9=$Q20),$K21,IF($I21=1,Z20,"")))))))) | ... BO21: =IF($E20="","",IF($G21="",BO20,IF(AND($N21=1,BO$9>$B$9),"",IF(AND($N21=1,BO$9<=$B$9),LOOKUP(BO$9,$A$12:$A$111,$B$12:$B$111),IF(AND($I21=-1,BP$9=$Q20),"",IF($I21=-1,BP20,IF(AND($I21=1,BN$9=$Q20),$K21,IF($I21=1,BO20,"")))))))) -> 0
D22: 12 | E22: =RANDBETWEEN(0,36) -> 10 | G22: =IF(E21="","",IF($B$3=Refs!$B$17,RevLab!F22,IF(AND(B$3="Last",H21="Zero"),G21,IF(B$3="Last",H21,IF(B$3="2nd last","",IF(AND(B$3="Opposite",H21="Zero"),G21,IF(AND(B$3="Opposite",H21="Red"),"Black",IF(AND(B$3="Opposite",H21="Black"),"Red",IF(AND(B$3="Opposite",H21="Odd"),"Even",IF(AND(B$3="Opposite",H21="Even"),"Odd",IF(AND(B$3="Opposite",H21="High"),"Low",IF(AND(B$3="Opposite",H21="Low"),"High",IF(COUNTIF(Refs!$E$5:$I$6,B$3)=1,RevLab!B$3,""))))))))))))) -> Low | H22: =IF(E22="","",IF(B$2="Red/Black",LOOKUP(E22,Refs!D:D,Refs!F:F),IF(B$2="High/Low",LOOKUP(E22,Refs!D:D,Refs!H:H),IF(B$2="Odd/Even",LOOKUP(E22,Refs!D:D,Refs!J:J),"")))) -> Low | I22: =IF(E22="","",IF(G22="","",IF(H22=G22,1,-1))) -> 1 | J22: =IF(E21="","",IF(G22="","",IF(AND(Q21>1,O21+P21>=$B$4),$B$4,IF(Q21=1,O21,O21+P21)))) -> 12 | K22: =IF(E22="","",IF(G22="","",IF(I22=1,J22,-J22))) -> 12 | L22: =IF(E22="","",IF(G22="",L21,K22+L21)) -> 14 | M22: =IF(E22="","",IF(L22>M21,L22,M21)) -> 14 | N22: =IF(E21="","",IF(OR(AND($A$6="Yes",$M22>$M21),AND($A$8="Yes",$O21+$P21>=$B$4),AND($Q21<=2,$I22=-1)),1,0)) -> 0 | O22: =IF(E22="","",R22) -> 3 | P22: =IF(E22="","",MAX(R22:DM22)) -> 12 | Q22: =IF(E22="","",COUNTIF(R22:DM22,">0")) -> 5 | R22: =IF(E21="","",IF($G22="",R21,IF($N22=1,LOOKUP(R$9,$A$12:$A$111,$B$12:$B$111),IF(AND($I22=-1,S$9=$Q21),"",IF($I22=-1,S21,IF($I22=1,R21)))))) -> 3 | S22: =IF($E21="","",IF($G22="",S21,IF(AND($N22=1,S$9>$B$9),"",IF(AND($N22=1,S$9<=$B$9),LOOKUP(S$9,$A$12:$A$111,$B$12:$B$111),IF(AND($I22=-1,T$9=$Q21),"",IF($I22=-1,T21,IF(AND($I22=1,R$9=$Q21),$K22,IF($I22=1,S21,"")))))))) -> 4 | T22: =IF($E21="","",IF($G22="",T21,IF(AND($N22=1,T$9>$B$9),"",IF(AND($N22=1,T$9<=$B$9),LOOKUP(T$9,$A$12:$A$111,$B$12:$B$111),IF(AND($I22=-1,U$9=$Q21),"",IF($I22=-1,U21,IF(AND($I22=1,S$9=$Q21),$K22,IF($I22=1,T21,"")))))))) -> 6 | U22: =IF($E21="","",IF($G22="",U21,IF(AND($N22=1,U$9>$B$9),"",IF(AND($N22=1,U$9<=$B$9),LOOKUP(U$9,$A$12:$A$111,$B$12:$B$111),IF(AND($I22=-1,V$9=$Q21),"",IF($I22=-1,V21,IF(AND($I22=1,T$9=$Q21),$K22,IF($I22=1,U21,"")))))))) -> 9 | V22: =IF($E21="","",IF($G22="",V21,IF(AND($N22=1,V$9>$B$9),"",IF(AND($N22=1,V$9<=$B$9),LOOKUP(V$9,$A$12:$A$111,$B$12:$B$111),IF(AND($I22=-1,W$9=$Q21),"",IF($I22=-1,W21,IF(AND($I22=1,U$9=$Q21),$K22,IF($I22=1,V21,"")))))))) -> 12 | W22: =IF($E21="","",IF($G22="",W21,IF(AND($N22=1,W$9>$B$9),"",IF(AND($N22=1,W$9<=$B$9),LOOKUP(W$9,$A$12:$A$111,$B$12:$B$111),IF(AND($I22=-1,X$9=$Q21),"",IF($I22=-1,X21,IF(AND($I22=1,V$9=$Q21),$K22,IF($I22=1,W21,"")))))))) | X22: =IF($E21="","",IF($G22="",X21,IF(AND($N22=1,X$9>$B$9),"",IF(AND($N22=1,X$9<=$B$9),LOOKUP(X$9,$A$12:$A$111,$B$12:$B$111),IF(AND($I22=-1,Y$9=$Q21),"",IF($I22=-1,Y21,IF(AND($I22=1,W$9=$Q21),$K22,IF($I22=1,X21,"")))))))) | Y22: =IF($E21="","",IF($G22="",Y21,IF(AND($N22=1,Y$9>$B$9),"",IF(AND($N22=1,Y$9<=$B$9),LOOKUP(Y$9,$A$12:$A$111,$B$12:$B$111),IF(AND($I22=-1,Z$9=$Q21),"",IF($I22=-1,Z21,IF(AND($I22=1,X$9=$Q21),$K22,IF($I22=1,Y21,"")))))))) | Z22: =IF($E21="","",IF($G22="",Z21,IF(AND($N22=1,Z$9>$B$9),"",IF(AND($N22=1,Z$9<=$B$9),LOOKUP(Z$9,$A$12:$A$111,$B$12:$B$111),IF(AND($I22=-1,AA$9=$Q21),"",IF($I22=-1,AA21,IF(AND($I22=1,Y$9=$Q21),$K22,IF($I22=1,Z21,"")))))))) | ... BO22: =IF($E21="","",IF($G22="",BO21,IF(AND($N22=1,BO$9>$B$9),"",IF(AND($N22=1,BO$9<=$B$9),LOOKUP(BO$9,$A$12:$A$111,$B$12:$B$111),IF(AND($I22=-1,BP$9=$Q21),"",IF($I22=-1,BP21,IF(AND($I22=1,BN$9=$Q21),$K22,IF($I22=1,BO21,"")))))))) -> 0
D23: 13 | E23: =RANDBETWEEN(0,36) -> 33 | G23: =IF(E22="","",IF($B$3=Refs!$B$17,RevLab!F23,IF(AND(B$3="Last",H22="Zero"),G22,IF(B$3="Last",H22,IF(B$3="2nd last","",IF(AND(B$3="Opposite",H22="Zero"),G22,IF(AND(B$3="Opposite",H22="Red"),"Black",IF(AND(B$3="Opposite",H22="Black"),"Red",IF(AND(B$3="Opposite",H22="Odd"),"Even",IF(AND(B$3="Opposite",H22="Even"),"Odd",IF(AND(B$3="Opposite",H22="High"),"Low",IF(AND(B$3="Opposite",H22="Low"),"High",IF(COUNTIF(Refs!$E$5:$I$6,B$3)=1,RevLab!B$3,""))))))))))))) -> Low | H23: =IF(E23="","",IF(B$2="Red/Black",LOOKUP(E23,Refs!D:D,Refs!F:F),IF(B$2="High/Low",LOOKUP(E23,Refs!D:D,Refs!H:H),IF(B$2="Odd/Even",LOOKUP(E23,Refs!D:D,Refs!J:J),"")))) -> High | I23: =IF(E23="","",IF(G23="","",IF(H23=G23,1,-1))) -> -1 | J23: =IF(E22="","",IF(G23="","",IF(AND(Q22>1,O22+P22>=$B$4),$B$4,IF(Q22=1,O22,O22+P22)))) -> 15 | K23: =IF(E23="","",IF(G23="","",IF(I23=1,J23,-J23))) -> -15 | L23: =IF(E23="","",IF(G23="",L22,K23+L22)) -> -1 | M23: =IF(E23="","",IF(L23>M22,L23,M22)) -> 14 | N23: =IF(E22="","",IF(OR(AND($A$6="Yes",$M23>$M22),AND($A$8="Yes",$O22+$P22>=$B$4),AND($Q22<=2,$I23=-1)),1,0)) -> 0 | O23: =IF(E23="","",R23) -> 4 | P23: =IF(E23="","",MAX(R23:DM23)) -> 9 | Q23: =IF(E23="","",COUNTIF(R23:DM23,">0")) -> 3 | R23: =IF(E22="","",IF($G23="",R22,IF($N23=1,LOOKUP(R$9,$A$12:$A$111,$B$12:$B$111),IF(AND($I23=-1,S$9=$Q22),"",IF($I23=-1,S22,IF($I23=1,R22)))))) -> 4 | S23: =IF($E22="","",IF($G23="",S22,IF(AND($N23=1,S$9>$B$9),"",IF(AND($N23=1,S$9<=$B$9),LOOKUP(S$9,$A$12:$A$111,$B$12:$B$111),IF(AND($I23=-1,T$9=$Q22),"",IF($I23=-1,T22,IF(AND($I23=1,R$9=$Q22),$K23,IF($I23=1,S22,"")))))))) -> 6 | T23: =IF($E22="","",IF($G23="",T22,IF(AND($N23=1,T$9>$B$9),"",IF(AND($N23=1,T$9<=$B$9),LOOKUP(T$9,$A$12:$A$111,$B$12:$B$111),IF(AND($I23=-1,U$9=$Q22),"",IF($I23=-1,U22,IF(AND($I23=1,S$9=$Q22),$K23,IF($I23=1,T22,"")))))))) -> 9 | U23: =IF($E22="","",IF($G23="",U22,IF(AND($N23=1,U$9>$B$9),"",IF(AND($N23=1,U$9<=$B$9),LOOKUP(U$9,$A$12:$A$111,$B$12:$B$111),IF(AND($I23=-1,V$9=$Q22),"",IF($I23=-1,V22,IF(AND($I23=1,T$9=$Q22),$K23,IF($I23=1,U22,"")))))))) | V23: =IF($E22="","",IF($G23="",V22,IF(AND($N23=1,V$9>$B$9),"",IF(AND($N23=1,V$9<=$B$9),LOOKUP(V$9,$A$12:$A$111,$B$12:$B$111),IF(AND($I23=-1,W$9=$Q22),"",IF($I23=-1,W22,IF(AND($I23=1,U$9=$Q22),$K23,IF($I23=1,V22,"")))))))) | W23: =IF($E22="","",IF($G23="",W22,IF(AND($N23=1,W$9>$B$9),"",IF(AND($N23=1,W$9<=$B$9),LOOKUP(W$9,$A$12:$A$111,$B$12:$B$111),IF(AND($I23=-1,X$9=$Q22),"",IF($I23=-1,X22,IF(AND($I23=1,V$9=$Q22),$K23,IF($I23=1,W22,"")))))))) | X23: =IF($E22="","",IF($G23="",X22,IF(AND($N23=1,X$9>$B$9),"",IF(AND($N23=1,X$9<=$B$9),LOOKUP(X$9,$A$12:$A$111,$B$12:$B$111),IF(AND($I23=-1,Y$9=$Q22),"",IF($I23=-1,Y22,IF(AND($I23=1,W$9=$Q22),$K23,IF($I23=1,X22,"")))))))) | Y23: =IF($E22="","",IF($G23="",Y22,IF(AND($N23=1,Y$9>$B$9),"",IF(AND($N23=1,Y$9<=$B$9),LOOKUP(Y$9,$A$12:$A$111,$B$12:$B$111),IF(AND($I23=-1,Z$9=$Q22),"",IF($I23=-1,Z22,IF(AND($I23=1,X$9=$Q22),$K23,IF($I23=1,Y22,"")))))))) | Z23: =IF($E22="","",IF($G23="",Z22,IF(AND($N23=1,Z$9>$B$9),"",IF(AND($N23=1,Z$9<=$B$9),LOOKUP(Z$9,$A$12:$A$111,$B$12:$B$111),IF(AND($I23=-1,AA$9=$Q22),"",IF($I23=-1,AA22,IF(AND($I23=1,Y$9=$Q22),$K23,IF($I23=1,Z22,"")))))))) | ... BO23: =IF($E22="","",IF($G23="",BO22,IF(AND($N23=1,BO$9>$B$9),"",IF(AND($N23=1,BO$9<=$B$9),LOOKUP(BO$9,$A$12:$A$111,$B$12:$B$111),IF(AND($I23=-1,BP$9=$Q22),"",IF($I23=-1,BP22,IF(AND($I23=1,BN$9=$Q22),$K23,IF($I23=1,BO22,"")))))))) -> 0
D24: 14 | E24: =RANDBETWEEN(0,36) -> 0 | G24: =IF(E23="","",IF($B$3=Refs!$B$17,RevLab!F24,IF(AND(B$3="Last",H23="Zero"),G23,IF(B$3="Last",H23,IF(B$3="2nd last","",IF(AND(B$3="Opposite",H23="Zero"),G23,IF(AND(B$3="Opposite",H23="Red"),"Black",IF(AND(B$3="Opposite",H23="Black"),"Red",IF(AND(B$3="Opposite",H23="Odd"),"Even",IF(AND(B$3="Opposite",H23="Even"),"Odd",IF(AND(B$3="Opposite",H23="High"),"Low",IF(AND(B$3="Opposite",H23="Low"),"High",IF(COUNTIF(Refs!$E$5:$I$6,B$3)=1,RevLab!B$3,""))))))))))))) -> Low | H24: =IF(E24="","",IF(B$2="Red/Black",LOOKUP(E24,Refs!D:D,Refs!F:F),IF(B$2="High/Low",LOOKUP(E24,Refs!D:D,Refs!H:H),IF(B$2="Odd/Even",LOOKUP(E24,Refs!D:D,Refs!J:J),"")))) -> Zero | I24: =IF(E24="","",IF(G24="","",IF(H24=G24,1,-1))) -> -1 | J24: =IF(E23="","",IF(G24="","",IF(AND(Q23>1,O23+P23>=$B$4),$B$4,IF(Q23=1,O23,O23+P23)))) -> 13 | K24: =IF(E24="","",IF(G24="","",IF(I24=1,J24,-J24))) -> -13 | L24: =IF(E24="","",IF(G24="",L23,K24+L23)) -> -14 | M24: =IF(E24="","",IF(L24>M23,L24,M23)) -> 14 | N24: =IF(E23="","",IF(OR(AND($A$6="Yes",$M24>$M23),AND($A$8="Yes",$O23+$P23>=$B$4),AND($Q23<=2,$I24=-1)),1,0)) -> 0 | O24: =IF(E24="","",R24) -> 6 | P24: =IF(E24="","",MAX(R24:DM24)) -> 6 | Q24: =IF(E24="","",COUNTIF(R24:DM24,">0")) -> 1 | R24: =IF(E23="","",IF($G24="",R23,IF($N24=1,LOOKUP(R$9,$A$12:$A$111,$B$12:$B$111),IF(AND($I24=-1,S$9=$Q23),"",IF($I24=-1,S23,IF($I24=1,R23)))))) -> 6 | S24: =IF($E23="","",IF($G24="",S23,IF(AND($N24=1,S$9>$B$9),"",IF(AND($N24=1,S$9<=$B$9),LOOKUP(S$9,$A$12:$A$111,$B$12:$B$111),IF(AND($I24=-1,T$9=$Q23),"",IF($I24=-1,T23,IF(AND($I24=1,R$9=$Q23),$K24,IF($I24=1,S23,"")))))))) | T24: =IF($E23="","",IF($G24="",T23,IF(AND($N24=1,T$9>$B$9),"",IF(AND($N24=1,T$9<=$B$9),LOOKUP(T$9,$A$12:$A$111,$B$12:$B$111),IF(AND($I24=-1,U$9=$Q23),"",IF($I24=-1,U23,IF(AND($I24=1,S$9=$Q23),$K24,IF($I24=1,T23,"")))))))) | U24: =IF($E23="","",IF($G24="",U23,IF(AND($N24=1,U$9>$B$9),"",IF(AND($N24=1,U$9<=$B$9),LOOKUP(U$9,$A$12:$A$111,$B$12:$B$111),IF(AND($I24=-1,V$9=$Q23),"",IF($I24=-1,V23,IF(AND($I24=1,T$9=$Q23),$K24,IF($I24=1,U23,"")))))))) | V24: =IF($E23="","",IF($G24="",V23,IF(AND($N24=1,V$9>$B$9),"",IF(AND($N24=1,V$9<=$B$9),LOOKUP(V$9,$A$12:$A$111,$B$12:$B$111),IF(AND($I24=-1,W$9=$Q23),"",IF($I24=-1,W23,IF(AND($I24=1,U$9=$Q23),$K24,IF($I24=1,V23,"")))))))) | W24: =IF($E23="","",IF($G24="",W23,IF(AND($N24=1,W$9>$B$9),"",IF(AND($N24=1,W$9<=$B$9),LOOKUP(W$9,$A$12:$A$111,$B$12:$B$111),IF(AND($I24=-1,X$9=$Q23),"",IF($I24=-1,X23,IF(AND($I24=1,V$9=$Q23),$K24,IF($I24=1,W23,"")))))))) | X24: =IF($E23="","",IF($G24="",X23,IF(AND($N24=1,X$9>$B$9),"",IF(AND($N24=1,X$9<=$B$9),LOOKUP(X$9,$A$12:$A$111,$B$12:$B$111),IF(AND($I24=-1,Y$9=$Q23),"",IF($I24=-1,Y23,IF(AND($I24=1,W$9=$Q23),$K24,IF($I24=1,X23,"")))))))) | Y24: =IF($E23="","",IF($G24="",Y23,IF(AND($N24=1,Y$9>$B$9),"",IF(AND($N24=1,Y$9<=$B$9),LOOKUP(Y$9,$A$12:$A$111,$B$12:$B$111),IF(AND($I24=-1,Z$9=$Q23),"",IF($I24=-1,Z23,IF(AND($I24=1,X$9=$Q23),$K24,IF($I24=1,Y23,"")))))))) | Z24: =IF($E23="","",IF($G24="",Z23,IF(AND($N24=1,Z$9>$B$9),"",IF(AND($N24=1,Z$9<=$B$9),LOOKUP(Z$9,$A$12:$A$111,$B$12:$B$111),IF(AND($I24=-1,AA$9=$Q23),"",IF($I24=-1,AA23,IF(AND($I24=1,Y$9=$Q23),$K24,IF($I24=1,Z23,"")))))))) | ... BO24: =IF($E23="","",IF($G24="",BO23,IF(AND($N24=1,BO$9>$B$9),"",IF(AND($N24=1,BO$9<=$B$9),LOOKUP(BO$9,$A$12:$A$111,$B$12:$B$111),IF(AND($I24=-1,BP$9=$Q23),"",IF($I24=-1,BP23,IF(AND($I24=1,BN$9=$Q23),$K24,IF($I24=1,BO23,"")))))))) -> 0
D25: 15 | E25: =RANDBETWEEN(0,36) -> 10 | G25: =IF(E24="","",IF($B$3=Refs!$B$17,RevLab!F25,IF(AND(B$3="Last",H24="Zero"),G24,IF(B$3="Last",H24,IF(B$3="2nd last","",IF(AND(B$3="Opposite",H24="Zero"),G24,IF(AND(B$3="Opposite",H24="Red"),"Black",IF(AND(B$3="Opposite",H24="Black"),"Red",IF(AND(B$3="Opposite",H24="Odd"),"Even",IF(AND(B$3="Opposite",H24="Even"),"Odd",IF(AND(B$3="Opposite",H24="High"),"Low",IF(AND(B$3="Opposite",H24="Low"),"High",IF(COUNTIF(Refs!$E$5:$I$6,B$3)=1,RevLab!B$3,""))))))))))))) -> Low | H25: =IF(E25="","",IF(B$2="Red/Black",LOOKUP(E25,Refs!D:D,Refs!F:F),IF(B$2="High/Low",LOOKUP(E25,Refs!D:D,Refs!H:H),IF(B$2="Odd/Even",LOOKUP(E25,Refs!D:D,Refs!J:J),"")))) -> Low | I25: =IF(E25="","",IF(G25="","",IF(H25=G25,1,-1))) -> 1 | J25: =IF(E24="","",IF(G25="","",IF(AND(Q24>1,O24+P24>=$B$4),$B$4,IF(Q24=1,O24,O24+P24)))) -> 6 | K25: =IF(E25="","",IF(G25="","",IF(I25=1,J25,-J25))) -> 6 | L25: =IF(E25="","",IF(G25="",L24,K25+L24)) -> -8 | M25: =IF(E25="","",IF(L25>M24,L25,M24)) -> 14 | N25: =IF(E24="","",IF(OR(AND($A$6="Yes",$M25>$M24),AND($A$8="Yes",$O24+$P24>=$B$4),AND($Q24<=2,$I25=-1)),1,0)) -> 0 | O25: =IF(E25="","",R25) -> 6 | P25: =IF(E25="","",MAX(R25:DM25)) -> 6 | Q25: =IF(E25="","",COUNTIF(R25:DM25,">0")) -> 2 | R25: =IF(E24="","",IF($G25="",R24,IF($N25=1,LOOKUP(R$9,$A$12:$A$111,$B$12:$B$111),IF(AND($I25=-1,S$9=$Q24),"",IF($I25=-1,S24,IF($I25=1,R24)))))) -> 6 | S25: =IF($E24="","",IF($G25="",S24,IF(AND($N25=1,S$9>$B$9),"",IF(AND($N25=1,S$9<=$B$9),LOOKUP(S$9,$A$12:$A$111,$B$12:$B$111),IF(AND($I25=-1,T$9=$Q24),"",IF($I25=-1,T24,IF(AND($I25=1,R$9=$Q24),$K25,IF($I25=1,S24,"")))))))) -> 6 | T25: =IF($E24="","",IF($G25="",T24,IF(AND($N25=1,T$9>$B$9),"",IF(AND($N25=1,T$9<=$B$9),LOOKUP(T$9,$A$12:$A$111,$B$12:$B$111),IF(AND($I25=-1,U$9=$Q24),"",IF($I25=-1,U24,IF(AND($I25=1,S$9=$Q24),$K25,IF($I25=1,T24,"")))))))) | U25: =IF($E24="","",IF($G25="",U24,IF(AND($N25=1,U$9>$B$9),"",IF(AND($N25=1,U$9<=$B$9),LOOKUP(U$9,$A$12:$A$111,$B$12:$B$111),IF(AND($I25=-1,V$9=$Q24),"",IF($I25=-1,V24,IF(AND($I25=1,T$9=$Q24),$K25,IF($I25=1,U24,"")))))))) | V25: =IF($E24="","",IF($G25="",V24,IF(AND($N25=1,V$9>$B$9),"",IF(AND($N25=1,V$9<=$B$9),LOOKUP(V$9,$A$12:$A$111,$B$12:$B$111),IF(AND($I25=-1,W$9=$Q24),"",IF($I25=-1,W24,IF(AND($I25=1,U$9=$Q24),$K25,IF($I25=1,V24,"")))))))) | W25: =IF($E24="","",IF($G25="",W24,IF(AND($N25=1,W$9>$B$9),"",IF(AND($N25=1,W$9<=$B$9),LOOKUP(W$9,$A$12:$A$111,$B$12:$B$111),IF(AND($I25=-1,X$9=$Q24),"",IF($I25=-1,X24,IF(AND($I25=1,V$9=$Q24),$K25,IF($I25=1,W24,"")))))))) | X25: =IF($E24="","",IF($G25="",X24,IF(AND($N25=1,X$9>$B$9),"",IF(AND($N25=1,X$9<=$B$9),LOOKUP(X$9,$A$12:$A$111,$B$12:$B$111),IF(AND($I25=-1,Y$9=$Q24),"",IF($I25=-1,Y24,IF(AND($I25=1,W$9=$Q24),$K25,IF($I25=1,X24,"")))))))) | Y25: =IF($E24="","",IF($G25="",Y24,IF(AND($N25=1,Y$9>$B$9),"",IF(AND($N25=1,Y$9<=$B$9),LOOKUP(Y$9,$A$12:$A$111,$B$12:$B$111),IF(AND($I25=-1,Z$9=$Q24),"",IF($I25=-1,Z24,IF(AND($I25=1,X$9=$Q24),$K25,IF($I25=1,Y24,"")))))))) | Z25: =IF($E24="","",IF($G25="",Z24,IF(AND($N25=1,Z$9>$B$9),"",IF(AND($N25=1,Z$9<=$B$9),LOOKUP(Z$9,$A$12:$A$111,$B$12:$B$111),IF(AND($I25=-1,AA$9=$Q24),"",IF($I25=-1,AA24,IF(AND($I25=1,Y$9=$Q24),$K25,IF($I25=1,Z24,"")))))))) | ... BO25: =IF($E24="","",IF($G25="",BO24,IF(AND($N25=1,BO$9>$B$9),"",IF(AND($N25=1,BO$9<=$B$9),LOOKUP(BO$9,$A$12:$A$111,$B$12:$B$111),IF(AND($I25=-1,BP$9=$Q24),"",IF($I25=-1,BP24,IF(AND($I25=1,BN$9=$Q24),$K25,IF($I25=1,BO24,"")))))))) -> 0
D26: 16 | E26: =RANDBETWEEN(0,36) -> 27 | G26: =IF(E25="","",IF($B$3=Refs!$B$17,RevLab!F26,IF(AND(B$3="Last",H25="Zero"),G25,IF(B$3="Last",H25,IF(B$3="2nd last","",IF(AND(B$3="Opposite",H25="Zero"),G25,IF(AND(B$3="Opposite",H25="Red"),"Black",IF(AND(B$3="Opposite",H25="Black"),"Red",IF(AND(B$3="Opposite",H25="Odd"),"Even",IF(AND(B$3="Opposite",H25="Even"),"Odd",IF(AND(B$3="Opposite",H25="High"),"Low",IF(AND(B$3="Opposite",H25="Low"),"High",IF(COUNTIF(Refs!$E$5:$I$6,B$3)=1,RevLab!B$3,""))))))))))))) -> Low | H26: =IF(E26="","",IF(B$2="Red/Black",LOOKUP(E26,Refs!D:D,Refs!F:F),IF(B$2="High/Low",LOOKUP(E26,Refs!D:D,Refs!H:H),IF(B$2="Odd/Even",LOOKUP(E26,Refs!D:D,Refs!J:J),"")))) -> High | I26: =IF(E26="","",IF(G26="","",IF(H26=G26,1,-1))) -> -1 | J26: =IF(E25="","",IF(G26="","",IF(AND(Q25>1,O25+P25>=$B$4),$B$4,IF(Q25=1,O25,O25+P25)))) -> 12 | K26: =IF(E26="","",IF(G26="","",IF(I26=1,J26,-J26))) -> -12 | L26: =IF(E26="","",IF(G26="",L25,K26+L25)) -> -20 | M26: =IF(E26="","",IF(L26>M25,L26,M25)) -> 14 | N26: =IF(E25="","",IF(OR(AND($A$6="Yes",$M26>$M25),AND($A$8="Yes",$O25+$P25>=$B$4),AND($Q25<=2,$I26=-1)),1,0)) -> 1 | O26: =IF(E26="","",R26) -> 1 | P26: =IF(E26="","",MAX(R26:DM26)) -> 4 | Q26: =IF(E26="","",COUNTIF(R26:DM26,">0")) -> 4 | R26: =IF(E25="","",IF($G26="",R25,IF($N26=1,LOOKUP(R$9,$A$12:$A$111,$B$12:$B$111),IF(AND($I26=-1,S$9=$Q25),"",IF($I26=-1,S25,IF($I26=1,R25)))))) -> 1 | S26: =IF($E25="","",IF($G26="",S25,IF(AND($N26=1,S$9>$B$9),"",IF(AND($N26=1,S$9<=$B$9),LOOKUP(S$9,$A$12:$A$111,$B$12:$B$111),IF(AND($I26=-1,T$9=$Q25),"",IF($I26=-1,T25,IF(AND($I26=1,R$9=$Q25),$K26,IF($I26=1,S25,"")))))))) -> 2 | T26: =IF($E25="","",IF($G26="",T25,IF(AND($N26=1,T$9>$B$9),"",IF(AND($N26=1,T$9<=$B$9),LOOKUP(T$9,$A$12:$A$111,$B$12:$B$111),IF(AND($I26=-1,U$9=$Q25),"",IF($I26=-1,U25,IF(AND($I26=1,S$9=$Q25),$K26,IF($I26=1,T25,"")))))))) -> 3 | U26: =IF($E25="","",IF($G26="",U25,IF(AND($N26=1,U$9>$B$9),"",IF(AND($N26=1,U$9<=$B$9),LOOKUP(U$9,$A$12:$A$111,$B$12:$B$111),IF(AND($I26=-1,V$9=$Q25),"",IF($I26=-1,V25,IF(AND($I26=1,T$9=$Q25),$K26,IF($I26=1,U25,"")))))))) -> 4 | V26: =IF($E25="","",IF($G26="",V25,IF(AND($N26=1,V$9>$B$9),"",IF(AND($N26=1,V$9<=$B$9),LOOKUP(V$9,$A$12:$A$111,$B$12:$B$111),IF(AND($I26=-1,W$9=$Q25),"",IF($I26=-1,W25,IF(AND($I26=1,U$9=$Q25),$K26,IF($I26=1,V25,"")))))))) | W26: =IF($E25="","",IF($G26="",W25,IF(AND($N26=1,W$9>$B$9),"",IF(AND($N26=1,W$9<=$B$9),LOOKUP(W$9,$A$12:$A$111,$B$12:$B$111),IF(AND($I26=-1,X$9=$Q25),"",IF($I26=-1,X25,IF(AND($I26=1,V$9=$Q25),$K26,IF($I26=1,W25,"")))))))) | X26: =IF($E25="","",IF($G26="",X25,IF(AND($N26=1,X$9>$B$9),"",IF(AND($N26=1,X$9<=$B$9),LOOKUP(X$9,$A$12:$A$111,$B$12:$B$111),IF(AND($I26=-1,Y$9=$Q25),"",IF($I26=-1,Y25,IF(AND($I26=1,W$9=$Q25),$K26,IF($I26=1,X25,"")))))))) | Y26: =IF($E25="","",IF($G26="",Y25,IF(AND($N26=1,Y$9>$B$9),"",IF(AND($N26=1,Y$9<=$B$9),LOOKUP(Y$9,$A$12:$A$111,$B$12:$B$111),IF(AND($I26=-1,Z$9=$Q25),"",IF($I26=-1,Z25,IF(AND($I26=1,X$9=$Q25),$K26,IF($I26=1,Y25,"")))))))) | Z26: =IF($E25="","",IF($G26="",Z25,IF(AND($N26=1,Z$9>$B$9),"",IF(AND($N26=1,Z$9<=$B$9),LOOKUP(Z$9,$A$12:$A$111,$B$12:$B$111),IF(AND($I26=-1,AA$9=$Q25),"",IF($I26=-1,AA25,IF(AND($I26=1,Y$9=$Q25),$K26,IF($I26=1,Z25,"")))))))) | ... BO26: =IF($E25="","",IF($G26="",BO25,IF(AND($N26=1,BO$9>$B$9),"",IF(AND($N26=1,BO$9<=$B$9),LOOKUP(BO$9,$A$12:$A$111,$B$12:$B$111),IF(AND($I26=-1,BP$9=$Q25),"",IF($I26=-1,BP25,IF(AND($I26=1,BN$9=$Q25),$K26,IF($I26=1,BO25,""))))))))
D27: 17 | E27: =RANDBETWEEN(0,36) -> 8 | G27: =IF(E26="","",IF($B$3=Refs!$B$17,RevLab!F27,IF(AND(B$3="Last",H26="Zero"),G26,IF(B$3="Last",H26,IF(B$3="2nd last","",IF(AND(B$3="Opposite",H26="Zero"),G26,IF(AND(B$3="Opposite",H26="Red"),"Black",IF(AND(B$3="Opposite",H26="Black"),"Red",IF(AND(B$3="Opposite",H26="Odd"),"Even",IF(AND(B$3="Opposite",H26="Even"),"Odd",IF(AND(B$3="Opposite",H26="High"),"Low",IF(AND(B$3="Opposite",H26="Low"),"High",IF(COUNTIF(Refs!$E$5:$I$6,B$3)=1,RevLab!B$3,""))))))))))))) -> Low | H27: =IF(E27="","",IF(B$2="Red/Black",LOOKUP(E27,Refs!D:D,Refs!F:F),IF(B$2="High/Low",LOOKUP(E27,Refs!D:D,Refs!H:H),IF(B$2="Odd/Even",LOOKUP(E27,Refs!D:D,Refs!J:J),"")))) -> Low | I27: =IF(E27="","",IF(G27="","",IF(H27=G27,1,-1))) -> 1 | J27: =IF(E26="","",IF(G27="","",IF(AND(Q26>1,O26+P26>=$B$4),$B$4,IF(Q26=1,O26,O26+P26)))) -> 5 | K27: =IF(E27="","",IF(G27="","",IF(I27=1,J27,-J27))) -> 5 | L27: =IF(E27="","",IF(G27="",L26,K27+L26)) -> -15 | M27: =IF(E27="","",IF(L27>M26,L27,M26)) -> 14 | N27: =IF(E26="","",IF(OR(AND($A$6="Yes",$M27>$M26),AND($A$8="Yes",$O26+$P26>=$B$4),AND($Q26<=2,$I27=-1)),1,0)) -> 0 | O27: =IF(E27="","",R27) -> 1 | P27: =IF(E27="","",MAX(R27:DM27)) -> 5 | Q27: =IF(E27="","",COUNTIF(R27:DM27,">0")) -> 5 | R27: =IF(E26="","",IF($G27="",R26,IF($N27=1,LOOKUP(R$9,$A$12:$A$111,$B$12:$B$111),IF(AND($I27=-1,S$9=$Q26),"",IF($I27=-1,S26,IF($I27=1,R26)))))) -> 1 | S27: =IF($E26="","",IF($G27="",S26,IF(AND($N27=1,S$9>$B$9),"",IF(AND($N27=1,S$9<=$B$9),LOOKUP(S$9,$A$12:$A$111,$B$12:$B$111),IF(AND($I27=-1,T$9=$Q26),"",IF($I27=-1,T26,IF(AND($I27=1,R$9=$Q26),$K27,IF($I27=1,S26,"")))))))) -> 2 | T27: =IF($E26="","",IF($G27="",T26,IF(AND($N27=1,T$9>$B$9),"",IF(AND($N27=1,T$9<=$B$9),LOOKUP(T$9,$A$12:$A$111,$B$12:$B$111),IF(AND($I27=-1,U$9=$Q26),"",IF($I27=-1,U26,IF(AND($I27=1,S$9=$Q26),$K27,IF($I27=1,T26,"")))))))) -> 3 | U27: =IF($E26="","",IF($G27="",U26,IF(AND($N27=1,U$9>$B$9),"",IF(AND($N27=1,U$9<=$B$9),LOOKUP(U$9,$A$12:$A$111,$B$12:$B$111),IF(AND($I27=-1,V$9=$Q26),"",IF($I27=-1,V26,IF(AND($I27=1,T$9=$Q26),$K27,IF($I27=1,U26,"")))))))) -> 4 | V27: =IF($E26="","",IF($G27="",V26,IF(AND($N27=1,V$9>$B$9),"",IF(AND($N27=1,V$9<=$B$9),LOOKUP(V$9,$A$12:$A$111,$B$12:$B$111),IF(AND($I27=-1,W$9=$Q26),"",IF($I27=-1,W26,IF(AND($I27=1,U$9=$Q26),$K27,IF($I27=1,V26,"")))))))) -> 5 | W27: =IF($E26="","",IF($G27="",W26,IF(AND($N27=1,W$9>$B$9),"",IF(AND($N27=1,W$9<=$B$9),LOOKUP(W$9,$A$12:$A$111,$B$12:$B$111),IF(AND($I27=-1,X$9=$Q26),"",IF($I27=-1,X26,IF(AND($I27=1,V$9=$Q26),$K27,IF($I27=1,W26,"")))))))) | X27: =IF($E26="","",IF($G27="",X26,IF(AND($N27=1,X$9>$B$9),"",IF(AND($N27=1,X$9<=$B$9),LOOKUP(X$9,$A$12:$A$111,$B$12:$B$111),IF(AND($I27=-1,Y$9=$Q26),"",IF($I27=-1,Y26,IF(AND($I27=1,W$9=$Q26),$K27,IF($I27=1,X26,"")))))))) | Y27: =IF($E26="","",IF($G27="",Y26,IF(AND($N27=1,Y$9>$B$9),"",IF(AND($N27=1,Y$9<=$B$9),LOOKUP(Y$9,$A$12:$A$111,$B$12:$B$111),IF(AND($I27=-1,Z$9=$Q26),"",IF($I27=-1,Z26,IF(AND($I27=1,X$9=$Q26),$K27,IF($I27=1,Y26,"")))))))) | Z27: =IF($E26="","",IF($G27="",Z26,IF(AND($N27=1,Z$9>$B$9),"",IF(AND($N27=1,Z$9<=$B$9),LOOKUP(Z$9,$A$12:$A$111,$B$12:$B$111),IF(AND($I27=-1,AA$9=$Q26),"",IF($I27=-1,AA26,IF(AND($I27=1,Y$9=$Q26),$K27,IF($I27=1,Z26,"")))))))) | ... BO27: =IF($E26="","",IF($G27="",BO26,IF(AND($N27=1,BO$9>$B$9),"",IF(AND($N27=1,BO$9<=$B$9),LOOKUP(BO$9,$A$12:$A$111,$B$12:$B$111),IF(AND($I27=-1,BP$9=$Q26),"",IF($I27=-1,BP26,IF(AND($I27=1,BN$9=$Q26),$K27,IF($I27=1,BO26,""))))))))
D28: 18 | E28: =RANDBETWEEN(0,36) -> 31 | G28: =IF(E27="","",IF($B$3=Refs!$B$17,RevLab!F28,IF(AND(B$3="Last",H27="Zero"),G27,IF(B$3="Last",H27,IF(B$3="2nd last","",IF(AND(B$3="Opposite",H27="Zero"),G27,IF(AND(B$3="Opposite",H27="Red"),"Black",IF(AND(B$3="Opposite",H27="Black"),"Red",IF(AND(B$3="Opposite",H27="Odd"),"Even",IF(AND(B$3="Opposite",H27="Even"),"Odd",IF(AND(B$3="Opposite",H27="High"),"Low",IF(AND(B$3="Opposite",H27="Low"),"High",IF(COUNTIF(Refs!$E$5:$I$6,B$3)=1,RevLab!B$3,""))))))))))))) -> Low | H28: =IF(E28="","",IF(B$2="Red/Black",LOOKUP(E28,Refs!D:D,Refs!F:F),IF(B$2="High/Low",LOOKUP(E28,Refs!D:D,Refs!H:H),IF(B$2="Odd/Even",LOOKUP(E28,Refs!D:D,Refs!J:J),"")))) -> High | I28: =IF(E28="","",IF(G28="","",IF(H28=G28,1,-1))) -> -1 | J28: =IF(E27="","",IF(G28="","",IF(AND(Q27>1,O27+P27>=$B$4),$B$4,IF(Q27=1,O27,O27+P27)))) -> 6 | K28: =IF(E28="","",IF(G28="","",IF(I28=1,J28,-J28))) -> -6 | L28: =IF(E28="","",IF(G28="",L27,K28+L27)) -> -21 | M28: =IF(E28="","",IF(L28>M27,L28,M27)) -> 14 | N28: =IF(E27="","",IF(OR(AND($A$6="Yes",$M28>$M27),AND($A$8="Yes",$O27+$P27>=$B$4),AND($Q27<=2,$I28=-1)),1,0)) -> 0 | O28: =IF(E28="","",R28) -> 2 | P28: =IF(E28="","",MAX(R28:DM28)) -> 4 | Q28: =IF(E28="","",COUNTIF(R28:DM28,">0")) -> 3 | R28: =IF(E27="","",IF($G28="",R27,IF($N28=1,LOOKUP(R$9,$A$12:$A$111,$B$12:$B$111),IF(AND($I28=-1,S$9=$Q27),"",IF($I28=-1,S27,IF($I28=1,R27)))))) -> 2 | S28: =IF($E27="","",IF($G28="",S27,IF(AND($N28=1,S$9>$B$9),"",IF(AND($N28=1,S$9<=$B$9),LOOKUP(S$9,$A$12:$A$111,$B$12:$B$111),IF(AND($I28=-1,T$9=$Q27),"",IF($I28=-1,T27,IF(AND($I28=1,R$9=$Q27),$K28,IF($I28=1,S27,"")))))))) -> 3 | T28: =IF($E27="","",IF($G28="",T27,IF(AND($N28=1,T$9>$B$9),"",IF(AND($N28=1,T$9<=$B$9),LOOKUP(T$9,$A$12:$A$111,$B$12:$B$111),IF(AND($I28=-1,U$9=$Q27),"",IF($I28=-1,U27,IF(AND($I28=1,S$9=$Q27),$K28,IF($I28=1,T27,"")))))))) -> 4 | U28: =IF($E27="","",IF($G28="",U27,IF(AND($N28=1,U$9>$B$9),"",IF(AND($N28=1,U$9<=$B$9),LOOKUP(U$9,$A$12:$A$111,$B$12:$B$111),IF(AND($I28=-1,V$9=$Q27),"",IF($I28=-1,V27,IF(AND($I28=1,T$9=$Q27),$K28,IF($I28=1,U27,"")))))))) | V28: =IF($E27="","",IF($G28="",V27,IF(AND($N28=1,V$9>$B$9),"",IF(AND($N28=1,V$9<=$B$9),LOOKUP(V$9,$A$12:$A$111,$B$12:$B$111),IF(AND($I28=-1,W$9=$Q27),"",IF($I28=-1,W27,IF(AND($I28=1,U$9=$Q27),$K28,IF($I28=1,V27,"")))))))) | W28: =IF($E27="","",IF($G28="",W27,IF(AND($N28=1,W$9>$B$9),"",IF(AND($N28=1,W$9<=$B$9),LOOKUP(W$9,$A$12:$A$111,$B$12:$B$111),IF(AND($I28=-1,X$9=$Q27),"",IF($I28=-1,X27,IF(AND($I28=1,V$9=$Q27),$K28,IF($I28=1,W27,"")))))))) | X28: =IF($E27="","",IF($G28="",X27,IF(AND($N28=1,X$9>$B$9),"",IF(AND($N28=1,X$9<=$B$9),LOOKUP(X$9,$A$12:$A$111,$B$12:$B$111),IF(AND($I28=-1,Y$9=$Q27),"",IF($I28=-1,Y27,IF(AND($I28=1,W$9=$Q27),$K28,IF($I28=1,X27,"")))))))) | Y28: =IF($E27="","",IF($G28="",Y27,IF(AND($N28=1,Y$9>$B$9),"",IF(AND($N28=1,Y$9<=$B$9),LOOKUP(Y$9,$A$12:$A$111,$B$12:$B$111),IF(AND($I28=-1,Z$9=$Q27),"",IF($I28=-1,Z27,IF(AND($I28=1,X$9=$Q27),$K28,IF($I28=1,Y27,"")))))))) | Z28: =IF($E27="","",IF($G28="",Z27,IF(AND($N28=1,Z$9>$B$9),"",IF(AND($N28=1,Z$9<=$B$9),LOOKUP(Z$9,$A$12:$A$111,$B$12:$B$111),IF(AND($I28=-1,AA$9=$Q27),"",IF($I28=-1,AA27,IF(AND($I28=1,Y$9=$Q27),$K28,IF($I28=1,Z27,"")))))))) | ... BO28: =IF($E27="","",IF($G28="",BO27,IF(AND($N28=1,BO$9>$B$9),"",IF(AND($N28=1,BO$9<=$B$9),LOOKUP(BO$9,$A$12:$A$111,$B$12:$B$111),IF(AND($I28=-1,BP$9=$Q27),"",IF($I28=-1,BP27,IF(AND($I28=1,BN$9=$Q27),$K28,IF($I28=1,BO27,"")))))))) -> 0
D29: 19 | E29: =RANDBETWEEN(0,36) -> 15 | G29: =IF(E28="","",IF($B$3=Refs!$B$17,RevLab!F29,IF(AND(B$3="Last",H28="Zero"),G28,IF(B$3="Last",H28,IF(B$3="2nd last","",IF(AND(B$3="Opposite",H28="Zero"),G28,IF(AND(B$3="Opposite",H28="Red"),"Black",IF(AND(B$3="Opposite",H28="Black"),"Red",IF(AND(B$3="Opposite",H28="Odd"),"Even",IF(AND(B$3="Opposite",H28="Even"),"Odd",IF(AND(B$3="Opposite",H28="High"),"Low",IF(AND(B$3="Opposite",H28="Low"),"High",IF(COUNTIF(Refs!$E$5:$I$6,B$3)=1,RevLab!B$3,""))))))))))))) -> Low | H29: =IF(E29="","",IF(B$2="Red/Black",LOOKUP(E29,Refs!D:D,Refs!F:F),IF(B$2="High/Low",LOOKUP(E29,Refs!D:D,Refs!H:H),IF(B$2="Odd/Even",LOOKUP(E29,Refs!D:D,Refs!J:J),"")))) -> Low | I29: =IF(E29="","",IF(G29="","",IF(H29=G29,1,-1))) -> 1 | J29: =IF(E28="","",IF(G29="","",IF(AND(Q28>1,O28+P28>=$B$4),$B$4,IF(Q28=1,O28,O28+P28)))) -> 6 | K29: =IF(E29="","",IF(G29="","",IF(I29=1,J29,-J29))) -> 6 | L29: =IF(E29="","",IF(G29="",L28,K29+L28)) -> -15 | M29: =IF(E29="","",IF(L29>M28,L29,M28)) -> 14 | N29: =IF(E28="","",IF(OR(AND($A$6="Yes",$M29>$M28),AND($A$8="Yes",$O28+$P28>=$B$4),AND($Q28<=2,$I29=-1)),1,0)) -> 0 | O29: =IF(E29="","",R29) -> 2 | P29: =IF(E29="","",MAX(R29:DM29)) -> 6 | Q29: =IF(E29="","",COUNTIF(R29:DM29,">0")) -> 4 | R29: =IF(E28="","",IF($G29="",R28,IF($N29=1,LOOKUP(R$9,$A$12:$A$111,$B$12:$B$111),IF(AND($I29=-1,S$9=$Q28),"",IF($I29=-1,S28,IF($I29=1,R28)))))) -> 2 | S29: =IF($E28="","",IF($G29="",S28,IF(AND($N29=1,S$9>$B$9),"",IF(AND($N29=1,S$9<=$B$9),LOOKUP(S$9,$A$12:$A$111,$B$12:$B$111),IF(AND($I29=-1,T$9=$Q28),"",IF($I29=-1,T28,IF(AND($I29=1,R$9=$Q28),$K29,IF($I29=1,S28,"")))))))) -> 3 | T29: =IF($E28="","",IF($G29="",T28,IF(AND($N29=1,T$9>$B$9),"",IF(AND($N29=1,T$9<=$B$9),LOOKUP(T$9,$A$12:$A$111,$B$12:$B$111),IF(AND($I29=-1,U$9=$Q28),"",IF($I29=-1,U28,IF(AND($I29=1,S$9=$Q28),$K29,IF($I29=1,T28,"")))))))) -> 4 | U29: =IF($E28="","",IF($G29="",U28,IF(AND($N29=1,U$9>$B$9),"",IF(AND($N29=1,U$9<=$B$9),LOOKUP(U$9,$A$12:$A$111,$B$12:$B$111),IF(AND($I29=-1,V$9=$Q28),"",IF($I29=-1,V28,IF(AND($I29=1,T$9=$Q28),$K29,IF($I29=1,U28,"")))))))) -> 6 | V29: =IF($E28="","",IF($G29="",V28,IF(AND($N29=1,V$9>$B$9),"",IF(AND($N29=1,V$9<=$B$9),LOOKUP(V$9,$A$12:$A$111,$B$12:$B$111),IF(AND($I29=-1,W$9=$Q28),"",IF($I29=-1,W28,IF(AND($I29=1,U$9=$Q28),$K29,IF($I29=1,V28,"")))))))) | W29: =IF($E28="","",IF($G29="",W28,IF(AND($N29=1,W$9>$B$9),"",IF(AND($N29=1,W$9<=$B$9),LOOKUP(W$9,$A$12:$A$111,$B$12:$B$111),IF(AND($I29=-1,X$9=$Q28),"",IF($I29=-1,X28,IF(AND($I29=1,V$9=$Q28),$K29,IF($I29=1,W28,"")))))))) | X29: =IF($E28="","",IF($G29="",X28,IF(AND($N29=1,X$9>$B$9),"",IF(AND($N29=1,X$9<=$B$9),LOOKUP(X$9,$A$12:$A$111,$B$12:$B$111),IF(AND($I29=-1,Y$9=$Q28),"",IF($I29=-1,Y28,IF(AND($I29=1,W$9=$Q28),$K29,IF($I29=1,X28,"")))))))) | Y29: =IF($E28="","",IF($G29="",Y28,IF(AND($N29=1,Y$9>$B$9),"",IF(AND($N29=1,Y$9<=$B$9),LOOKUP(Y$9,$A$12:$A$111,$B$12:$B$111),IF(AND($I29=-1,Z$9=$Q28),"",IF($I29=-1,Z28,IF(AND($I29=1,X$9=$Q28),$K29,IF($I29=1,Y28,"")))))))) | Z29: =IF($E28="","",IF($G29="",Z28,IF(AND($N29=1,Z$9>$B$9),"",IF(AND($N29=1,Z$9<=$B$9),LOOKUP(Z$9,$A$12:$A$111,$B$12:$B$111),IF(AND($I29=-1,AA$9=$Q28),"",IF($I29=-1,AA28,IF(AND($I29=1,Y$9=$Q28),$K29,IF($I29=1,Z28,"")))))))) | ... BO29: =IF($E28="","",IF($G29="",BO28,IF(AND($N29=1,BO$9>$B$9),"",IF(AND($N29=1,BO$9<=$B$9),LOOKUP(BO$9,$A$12:$A$111,$B$12:$B$111),IF(AND($I29=-1,BP$9=$Q28),"",IF($I29=-1,BP28,IF(AND($I29=1,BN$9=$Q28),$K29,IF($I29=1,BO28,"")))))))) -> 0
D30: 20 | E30: =RANDBETWEEN(0,36) -> 27 | G30: =IF(E29="","",IF($B$3=Refs!$B$17,RevLab!F30,IF(AND(B$3="Last",H29="Zero"),G29,IF(B$3="Last",H29,IF(B$3="2nd last","",IF(AND(B$3="Opposite",H29="Zero"),G29,IF(AND(B$3="Opposite",H29="Red"),"Black",IF(AND(B$3="Opposite",H29="Black"),"Red",IF(AND(B$3="Opposite",H29="Odd"),"Even",IF(AND(B$3="Opposite",H29="Even"),"Odd",IF(AND(B$3="Opposite",H29="High"),"Low",IF(AND(B$3="Opposite",H29="Low"),"High",IF(COUNTIF(Refs!$E$5:$I$6,B$3)=1,RevLab!B$3,""))))))))))))) -> Low | H30: =IF(E30="","",IF(B$2="Red/Black",LOOKUP(E30,Refs!D:D,Refs!F:F),IF(B$2="High/Low",LOOKUP(E30,Refs!D:D,Refs!H:H),IF(B$2="Odd/Even",LOOKUP(E30,Refs!D:D,Refs!J:J),"")))) -> High | I30: =IF(E30="","",IF(G30="","",IF(H30=G30,1,-1))) -> -1 | J30: =IF(E29="","",IF(G30="","",IF(AND(Q29>1,O29+P29>=$B$4),$B$4,IF(Q29=1,O29,O29+P29)))) -> 8 | K30: =IF(E30="","",IF(G30="","",IF(I30=1,J30,-J30))) -> -8 | L30: =IF(E30="","",IF(G30="",L29,K30+L29)) -> -23 | M30: =IF(E30="","",IF(L30>M29,L30,M29)) -> 14 | N30: =IF(E29="","",IF(OR(AND($A$6="Yes",$M30>$M29),AND($A$8="Yes",$O29+$P29>=$B$4),AND($Q29<=2,$I30=-1)),1,0)) -> 0 | O30: =IF(E30="","",R30) -> 3 | P30: =IF(E30="","",MAX(R30:DM30)) -> 4 | Q30: =IF(E30="","",COUNTIF(R30:DM30,">0")) -> 2 | R30: =IF(E29="","",IF($G30="",R29,IF($N30=1,LOOKUP(R$9,$A$12:$A$111,$B$12:$B$111),IF(AND($I30=-1,S$9=$Q29),"",IF($I30=-1,S29,IF($I30=1,R29)))))) -> 3 | S30: =IF($E29="","",IF($G30="",S29,IF(AND($N30=1,S$9>$B$9),"",IF(AND($N30=1,S$9<=$B$9),LOOKUP(S$9,$A$12:$A$111,$B$12:$B$111),IF(AND($I30=-1,T$9=$Q29),"",IF($I30=-1,T29,IF(AND($I30=1,R$9=$Q29),$K30,IF($I30=1,S29,"")))))))) -> 4 | T30: =IF($E29="","",IF($G30="",T29,IF(AND($N30=1,T$9>$B$9),"",IF(AND($N30=1,T$9<=$B$9),LOOKUP(T$9,$A$12:$A$111,$B$12:$B$111),IF(AND($I30=-1,U$9=$Q29),"",IF($I30=-1,U29,IF(AND($I30=1,S$9=$Q29),$K30,IF($I30=1,T29,"")))))))) | U30: =IF($E29="","",IF($G30="",U29,IF(AND($N30=1,U$9>$B$9),"",IF(AND($N30=1,U$9<=$B$9),LOOKUP(U$9,$A$12:$A$111,$B$12:$B$111),IF(AND($I30=-1,V$9=$Q29),"",IF($I30=-1,V29,IF(AND($I30=1,T$9=$Q29),$K30,IF($I30=1,U29,"")))))))) | V30: =IF($E29="","",IF($G30="",V29,IF(AND($N30=1,V$9>$B$9),"",IF(AND($N30=1,V$9<=$B$9),LOOKUP(V$9,$A$12:$A$111,$B$12:$B$111),IF(AND($I30=-1,W$9=$Q29),"",IF($I30=-1,W29,IF(AND($I30=1,U$9=$Q29),$K30,IF($I30=1,V29,"")))))))) | W30: =IF($E29="","",IF($G30="",W29,IF(AND($N30=1,W$9>$B$9),"",IF(AND($N30=1,W$9<=$B$9),LOOKUP(W$9,$A$12:$A$111,$B$12:$B$111),IF(AND($I30=-1,X$9=$Q29),"",IF($I30=-1,X29,IF(AND($I30=1,V$9=$Q29),$K30,IF($I30=1,W29,"")))))))) | X30: =IF($E29="","",IF($G30="",X29,IF(AND($N30=1,X$9>$B$9),"",IF(AND($N30=1,X$9<=$B$9),LOOKUP(X$9,$A$12:$A$111,$B$12:$B$111),IF(AND($I30=-1,Y$9=$Q29),"",IF($I30=-1,Y29,IF(AND($I30=1,W$9=$Q29),$K30,IF($I30=1,X29,"")))))))) | Y30: =IF($E29="","",IF($G30="",Y29,IF(AND($N30=1,Y$9>$B$9),"",IF(AND($N30=1,Y$9<=$B$9),LOOKUP(Y$9,$A$12:$A$111,$B$12:$B$111),IF(AND($I30=-1,Z$9=$Q29),"",IF($I30=-1,Z29,IF(AND($I30=1,X$9=$Q29),$K30,IF($I30=1,Y29,"")))))))) | Z30: =IF($E29="","",IF($G30="",Z29,IF(AND($N30=1,Z$9>$B$9),"",IF(AND($N30=1,Z$9<=$B$9),LOOKUP(Z$9,$A$12:$A$111,$B$12:$B$111),IF(AND($I30=-1,AA$9=$Q29),"",IF($I30=-1,AA29,IF(AND($I30=1,Y$9=$Q29),$K30,IF($I30=1,Z29,"")))))))) | ... BO30: =IF($E29="","",IF($G30="",BO29,IF(AND($N30=1,BO$9>$B$9),"",IF(AND($N30=1,BO$9<=$B$9),LOOKUP(BO$9,$A$12:$A$111,$B$12:$B$111),IF(AND($I30=-1,BP$9=$Q29),"",IF($I30=-1,BP29,IF(AND($I30=1,BN$9=$Q29),$K30,IF($I30=1,BO29,"")))))))) -> 0
D31: 21 | E31: =RANDBETWEEN(0,36) -> 7 | G31: =IF(E30="","",IF($B$3=Refs!$B$17,RevLab!F31,IF(AND(B$3="Last",H30="Zero"),G30,IF(B$3="Last",H30,IF(B$3="2nd last","",IF(AND(B$3="Opposite",H30="Zero"),G30,IF(AND(B$3="Opposite",H30="Red"),"Black",IF(AND(B$3="Opposite",H30="Black"),"Red",IF(AND(B$3="Opposite",H30="Odd"),"Even",IF(AND(B$3="Opposite",H30="Even"),"Odd",IF(AND(B$3="Opposite",H30="High"),"Low",IF(AND(B$3="Opposite",H30="Low"),"High",IF(COUNTIF(Refs!$E$5:$I$6,B$3)=1,RevLab!B$3,""))))))))))))) -> Low | H31: =IF(E31="","",IF(B$2="Red/Black",LOOKUP(E31,Refs!D:D,Refs!F:F),IF(B$2="High/Low",LOOKUP(E31,Refs!D:D,Refs!H:H),IF(B$2="Odd/Even",LOOKUP(E31,Refs!D:D,Refs!J:J),"")))) -> Low | I31: =IF(E31="","",IF(G31="","",IF(H31=G31,1,-1))) -> 1 | J31: =IF(E30="","",IF(G31="","",IF(AND(Q30>1,O30+P30>=$B$4),$B$4,IF(Q30=1,O30,O30+P30)))) -> 7 | K31: =IF(E31="","",IF(G31="","",IF(I31=1,J31,-J31))) -> 7 | L31: =IF(E31="","",IF(G31="",L30,K31+L30)) -> -16 | M31: =IF(E31="","",IF(L31>M30,L31,M30)) -> 14 | N31: =IF(E30="","",IF(OR(AND($A$6="Yes",$M31>$M30),AND($A$8="Yes",$O30+$P30>=$B$4),AND($Q30<=2,$I31=-1)),1,0)) -> 0 | O31: =IF(E31="","",R31) -> 3 | P31: =IF(E31="","",MAX(R31:DM31)) -> 7 | Q31: =IF(E31="","",COUNTIF(R31:DM31,">0")) -> 3 | R31: =IF(E30="","",IF($G31="",R30,IF($N31=1,LOOKUP(R$9,$A$12:$A$111,$B$12:$B$111),IF(AND($I31=-1,S$9=$Q30),"",IF($I31=-1,S30,IF($I31=1,R30)))))) -> 3 | S31: =IF($E30="","",IF($G31="",S30,IF(AND($N31=1,S$9>$B$9),"",IF(AND($N31=1,S$9<=$B$9),LOOKUP(S$9,$A$12:$A$111,$B$12:$B$111),IF(AND($I31=-1,T$9=$Q30),"",IF($I31=-1,T30,IF(AND($I31=1,R$9=$Q30),$K31,IF($I31=1,S30,"")))))))) -> 4 | T31: =IF($E30="","",IF($G31="",T30,IF(AND($N31=1,T$9>$B$9),"",IF(AND($N31=1,T$9<=$B$9),LOOKUP(T$9,$A$12:$A$111,$B$12:$B$111),IF(AND($I31=-1,U$9=$Q30),"",IF($I31=-1,U30,IF(AND($I31=1,S$9=$Q30),$K31,IF($I31=1,T30,"")))))))) -> 7 | U31: =IF($E30="","",IF($G31="",U30,IF(AND($N31=1,U$9>$B$9),"",IF(AND($N31=1,U$9<=$B$9),LOOKUP(U$9,$A$12:$A$111,$B$12:$B$111),IF(AND($I31=-1,V$9=$Q30),"",IF($I31=-1,V30,IF(AND($I31=1,T$9=$Q30),$K31,IF($I31=1,U30,"")))))))) | V31: =IF($E30="","",IF($G31="",V30,IF(AND($N31=1,V$9>$B$9),"",IF(AND($N31=1,V$9<=$B$9),LOOKUP(V$9,$A$12:$A$111,$B$12:$B$111),IF(AND($I31=-1,W$9=$Q30),"",IF($I31=-1,W30,IF(AND($I31=1,U$9=$Q30),$K31,IF($I31=1,V30,"")))))))) | W31: =IF($E30="","",IF($G31="",W30,IF(AND($N31=1,W$9>$B$9),"",IF(AND($N31=1,W$9<=$B$9),LOOKUP(W$9,$A$12:$A$111,$B$12:$B$111),IF(AND($I31=-1,X$9=$Q30),"",IF($I31=-1,X30,IF(AND($I31=1,V$9=$Q30),$K31,IF($I31=1,W30,"")))))))) | X31: =IF($E30="","",IF($G31="",X30,IF(AND($N31=1,X$9>$B$9),"",IF(AND($N31=1,X$9<=$B$9),LOOKUP(X$9,$A$12:$A$111,$B$12:$B$111),IF(AND($I31=-1,Y$9=$Q30),"",IF($I31=-1,Y30,IF(AND($I31=1,W$9=$Q30),$K31,IF($I31=1,X30,"")))))))) | Y31: =IF($E30="","",IF($G31="",Y30,IF(AND($N31=1,Y$9>$B$9),"",IF(AND($N31=1,Y$9<=$B$9),LOOKUP(Y$9,$A$12:$A$111,$B$12:$B$111),IF(AND($I31=-1,Z$9=$Q30),"",IF($I31=-1,Z30,IF(AND($I31=1,X$9=$Q30),$K31,IF($I31=1,Y30,"")))))))) | Z31: =IF($E30="","",IF($G31="",Z30,IF(AND($N31=1,Z$9>$B$9),"",IF(AND($N31=1,Z$9<=$B$9),LOOKUP(Z$9,$A$12:$A$111,$B$12:$B$111),IF(AND($I31=-1,AA$9=$Q30),"",IF($I31=-1,AA30,IF(AND($I31=1,Y$9=$Q30),$K31,IF($I31=1,Z30,"")))))))) | ... BO31: =IF($E30="","",IF($G31="",BO30,IF(AND($N31=1,BO$9>$B$9),"",IF(AND($N31=1,BO$9<=$B$9),LOOKUP(BO$9,$A$12:$A$111,$B$12:$B$111),IF(AND($I31=-1,BP$9=$Q30),"",IF($I31=-1,BP30,IF(AND($I31=1,BN$9=$Q30),$K31,IF($I31=1,BO30,"")))))))) -> 0
D32: 22 | E32: =RANDBETWEEN(0,36) -> 28 | G32: =IF(E31="","",IF($B$3=Refs!$B$17,RevLab!F32,IF(AND(B$3="Last",H31="Zero"),G31,IF(B$3="Last",H31,IF(B$3="2nd last","",IF(AND(B$3="Opposite",H31="Zero"),G31,IF(AND(B$3="Opposite",H31="Red"),"Black",IF(AND(B$3="Opposite",H31="Black"),"Red",IF(AND(B$3="Opposite",H31="Odd"),"Even",IF(AND(B$3="Opposite",H31="Even"),"Odd",IF(AND(B$3="Opposite",H31="High"),"Low",IF(AND(B$3="Opposite",H31="Low"),"High",IF(COUNTIF(Refs!$E$5:$I$6,B$3)=1,RevLab!B$3,""))))))))))))) -> Low | H32: =IF(E32="","",IF(B$2="Red/Black",LOOKUP(E32,Refs!D:D,Refs!F:F),IF(B$2="High/Low",LOOKUP(E32,Refs!D:D,Refs!H:H),IF(B$2="Odd/Even",LOOKUP(E32,Refs!D:D,Refs!J:J),"")))) -> High | I32: =IF(E32="","",IF(G32="","",IF(H32=G32,1,-1))) -> -1 | J32: =IF(E31="","",IF(G32="","",IF(AND(Q31>1,O31+P31>=$B$4),$B$4,IF(Q31=1,O31,O31+P31)))) -> 10 | K32: =IF(E32="","",IF(G32="","",IF(I32=1,J32,-J32))) -> -10 | L32: =IF(E32="","",IF(G32="",L31,K32+L31)) -> -26 | M32: =IF(E32="","",IF(L32>M31,L32,M31)) -> 14 | N32: =IF(E31="","",IF(OR(AND($A$6="Yes",$M32>$M31),AND($A$8="Yes",$O31+$P31>=$B$4),AND($Q31<=2,$I32=-1)),1,0)) -> 0 | O32: =IF(E32="","",R32) -> 4 | P32: =IF(E32="","",MAX(R32:DM32)) -> 4 | Q32: =IF(E32="","",COUNTIF(R32:DM32,">0")) -> 1 | R32: =IF(E31="","",IF($G32="",R31,IF($N32=1,LOOKUP(R$9,$A$12:$A$111,$B$12:$B$111),IF(AND($I32=-1,S$9=$Q31),"",IF($I32=-1,S31,IF($I32=1,R31)))))) -> 4 | S32: =IF($E31="","",IF($G32="",S31,IF(AND($N32=1,S$9>$B$9),"",IF(AND($N32=1,S$9<=$B$9),LOOKUP(S$9,$A$12:$A$111,$B$12:$B$111),IF(AND($I32=-1,T$9=$Q31),"",IF($I32=-1,T31,IF(AND($I32=1,R$9=$Q31),$K32,IF($I32=1,S31,"")))))))) | T32: =IF($E31="","",IF($G32="",T31,IF(AND($N32=1,T$9>$B$9),"",IF(AND($N32=1,T$9<=$B$9),LOOKUP(T$9,$A$12:$A$111,$B$12:$B$111),IF(AND($I32=-1,U$9=$Q31),"",IF($I32=-1,U31,IF(AND($I32=1,S$9=$Q31),$K32,IF($I32=1,T31,"")))))))) | U32: =IF($E31="","",IF($G32="",U31,IF(AND($N32=1,U$9>$B$9),"",IF(AND($N32=1,U$9<=$B$9),LOOKUP(U$9,$A$12:$A$111,$B$12:$B$111),IF(AND($I32=-1,V$9=$Q31),"",IF($I32=-1,V31,IF(AND($I32=1,T$9=$Q31),$K32,IF($I32=1,U31,"")))))))) | V32: =IF($E31="","",IF($G32="",V31,IF(AND($N32=1,V$9>$B$9),"",IF(AND($N32=1,V$9<=$B$9),LOOKUP(V$9,$A$12:$A$111,$B$12:$B$111),IF(AND($I32=-1,W$9=$Q31),"",IF($I32=-1,W31,IF(AND($I32=1,U$9=$Q31),$K32,IF($I32=1,V31,"")))))))) | W32: =IF($E31="","",IF($G32="",W31,IF(AND($N32=1,W$9>$B$9),"",IF(AND($N32=1,W$9<=$B$9),LOOKUP(W$9,$A$12:$A$111,$B$12:$B$111),IF(AND($I32=-1,X$9=$Q31),"",IF($I32=-1,X31,IF(AND($I32=1,V$9=$Q31),$K32,IF($I32=1,W31,"")))))))) | X32: =IF($E31="","",IF($G32="",X31,IF(AND($N32=1,X$9>$B$9),"",IF(AND($N32=1,X$9<=$B$9),LOOKUP(X$9,$A$12:$A$111,$B$12:$B$111),IF(AND($I32=-1,Y$9=$Q31),"",IF($I32=-1,Y31,IF(AND($I32=1,W$9=$Q31),$K32,IF($I32=1,X31,"")))))))) | Y32: =IF($E31="","",IF($G32="",Y31,IF(AND($N32=1,Y$9>$B$9),"",IF(AND($N32=1,Y$9<=$B$9),LOOKUP(Y$9,$A$12:$A$111,$B$12:$B$111),IF(AND($I32=-1,Z$9=$Q31),"",IF($I32=-1,Z31,IF(AND($I32=1,X$9=$Q31),$K32,IF($I32=1,Y31,"")))))))) | Z32: =IF($E31="","",IF($G32="",Z31,IF(AND($N32=1,Z$9>$B$9),"",IF(AND($N32=1,Z$9<=$B$9),LOOKUP(Z$9,$A$12:$A$111,$B$12:$B$111),IF(AND($I32=-1,AA$9=$Q31),"",IF($I32=-1,AA31,IF(AND($I32=1,Y$9=$Q31),$K32,IF($I32=1,Z31,"")))))))) | ... BO32: =IF($E31="","",IF($G32="",BO31,IF(AND($N32=1,BO$9>$B$9),"",IF(AND($N32=1,BO$9<=$B$9),LOOKUP(BO$9,$A$12:$A$111,$B$12:$B$111),IF(AND($I32=-1,BP$9=$Q31),"",IF($I32=-1,BP31,IF(AND($I32=1,BN$9=$Q31),$K32,IF($I32=1,BO31,"")))))))) -> 0
D33: 23 | E33: =RANDBETWEEN(0,36) -> 10 | G33: =IF(E32="","",IF($B$3=Refs!$B$17,RevLab!F33,IF(AND(B$3="Last",H32="Zero"),G32,IF(B$3="Last",H32,IF(B$3="2nd last","",IF(AND(B$3="Opposite",H32="Zero"),G32,IF(AND(B$3="Opposite",H32="Red"),"Black",IF(AND(B$3="Opposite",H32="Black"),"Red",IF(AND(B$3="Opposite",H32="Odd"),"Even",IF(AND(B$3="Opposite",H32="Even"),"Odd",IF(AND(B$3="Opposite",H32="High"),"Low",IF(AND(B$3="Opposite",H32="Low"),"High",IF(COUNTIF(Refs!$E$5:$I$6,B$3)=1,RevLab!B$3,""))))))))))))) -> Low | H33: =IF(E33="","",IF(B$2="Red/Black",LOOKUP(E33,Refs!D:D,Refs!F:F),IF(B$2="High/Low",LOOKUP(E33,Refs!D:D,Refs!H:H),IF(B$2="Odd/Even",LOOKUP(E33,Refs!D:D,Refs!J:J),"")))) -> Low | I33: =IF(E33="","",IF(G33="","",IF(H33=G33,1,-1))) -> 1 | J33: =IF(E32="","",IF(G33="","",IF(AND(Q32>1,O32+P32>=$B$4),$B$4,IF(Q32=1,O32,O32+P32)))) -> 4 | K33: =IF(E33="","",IF(G33="","",IF(I33=1,J33,-J33))) -> 4 | L33: =IF(E33="","",IF(G33="",L32,K33+L32)) -> -22 | M33: =IF(E33="","",IF(L33>M32,L33,M32)) -> 14 | N33: =IF(E32="","",IF(OR(AND($A$6="Yes",$M33>$M32),AND($A$8="Yes",$O32+$P32>=$B$4),AND($Q32<=2,$I33=-1)),1,0)) -> 0 | O33: =IF(E33="","",R33) -> 4 | P33: =IF(E33="","",MAX(R33:DM33)) -> 4 | Q33: =IF(E33="","",COUNTIF(R33:DM33,">0")) -> 2 | R33: =IF(E32="","",IF($G33="",R32,IF($N33=1,LOOKUP(R$9,$A$12:$A$111,$B$12:$B$111),IF(AND($I33=-1,S$9=$Q32),"",IF($I33=-1,S32,IF($I33=1,R32)))))) -> 4 | S33: =IF($E32="","",IF($G33="",S32,IF(AND($N33=1,S$9>$B$9),"",IF(AND($N33=1,S$9<=$B$9),LOOKUP(S$9,$A$12:$A$111,$B$12:$B$111),IF(AND($I33=-1,T$9=$Q32),"",IF($I33=-1,T32,IF(AND($I33=1,R$9=$Q32),$K33,IF($I33=1,S32,"")))))))) -> 4 | T33: =IF($E32="","",IF($G33="",T32,IF(AND($N33=1,T$9>$B$9),"",IF(AND($N33=1,T$9<=$B$9),LOOKUP(T$9,$A$12:$A$111,$B$12:$B$111),IF(AND($I33=-1,U$9=$Q32),"",IF($I33=-1,U32,IF(AND($I33=1,S$9=$Q32),$K33,IF($I33=1,T32,"")))))))) | U33: =IF($E32="","",IF($G33="",U32,IF(AND($N33=1,U$9>$B$9),"",IF(AND($N33=1,U$9<=$B$9),LOOKUP(U$9,$A$12:$A$111,$B$12:$B$111),IF(AND($I33=-1,V$9=$Q32),"",IF($I33=-1,V32,IF(AND($I33=1,T$9=$Q32),$K33,IF($I33=1,U32,"")))))))) | V33: =IF($E32="","",IF($G33="",V32,IF(AND($N33=1,V$9>$B$9),"",IF(AND($N33=1,V$9<=$B$9),LOOKUP(V$9,$A$12:$A$111,$B$12:$B$111),IF(AND($I33=-1,W$9=$Q32),"",IF($I33=-1,W32,IF(AND($I33=1,U$9=$Q32),$K33,IF($I33=1,V32,"")))))))) | W33: =IF($E32="","",IF($G33="",W32,IF(AND($N33=1,W$9>$B$9),"",IF(AND($N33=1,W$9<=$B$9),LOOKUP(W$9,$A$12:$A$111,$B$12:$B$111),IF(AND($I33=-1,X$9=$Q32),"",IF($I33=-1,X32,IF(AND($I33=1,V$9=$Q32),$K33,IF($I33=1,W32,"")))))))) | X33: =IF($E32="","",IF($G33="",X32,IF(AND($N33=1,X$9>$B$9),"",IF(AND($N33=1,X$9<=$B$9),LOOKUP(X$9,$A$12:$A$111,$B$12:$B$111),IF(AND($I33=-1,Y$9=$Q32),"",IF($I33=-1,Y32,IF(AND($I33=1,W$9=$Q32),$K33,IF($I33=1,X32,"")))))))) | Y33: =IF($E32="","",IF($G33="",Y32,IF(AND($N33=1,Y$9>$B$9),"",IF(AND($N33=1,Y$9<=$B$9),LOOKUP(Y$9,$A$12:$A$111,$B$12:$B$111),IF(AND($I33=-1,Z$9=$Q32),"",IF($I33=-1,Z32,IF(AND($I33=1,X$9=$Q32),$K33,IF($I33=1,Y32,"")))))))) | Z33: =IF($E32="","",IF($G33="",Z32,IF(AND($N33=1,Z$9>$B$9),"",IF(AND($N33=1,Z$9<=$B$9),LOOKUP(Z$9,$A$12:$A$111,$B$12:$B$111),IF(AND($I33=-1,AA$9=$Q32),"",IF($I33=-1,AA32,IF(AND($I33=1,Y$9=$Q32),$K33,IF($I33=1,Z32,"")))))))) | ... BO33: =IF($E32="","",IF($G33="",BO32,IF(AND($N33=1,BO$9>$B$9),"",IF(AND($N33=1,BO$9<=$B$9),LOOKUP(BO$9,$A$12:$A$111,$B$12:$B$111),IF(AND($I33=-1,BP$9=$Q32),"",IF($I33=-1,BP32,IF(AND($I33=1,BN$9=$Q32),$K33,IF($I33=1,BO32,"")))))))) -> 0
... D210: 200 | E210: =RANDBETWEEN(0,36) -> 1 | G210: =IF(E209="","",IF($B$3=Refs!$B$17,RevLab!F210,IF(AND(B$3="Last",H209="Zero"),G209,IF(B$3="Last",H209,IF(B$3="2nd last","",IF(AND(B$3="Opposite",H209="Zero"),G209,IF(AND(B$3="Opposite",H209="Red"),"Black",IF(AND(B$3="Opposite",H209="Black"),"Red",IF(AND(B$3="Opposite",H209="Odd"),"Even",IF(AND(B$3="Opposite",H209="Even"),"Odd",IF(AND(B$3="Opposite",H209="High"),"Low",IF(AND(B$3="Opposite",H209="Low"),"High",IF(COUNTIF(Refs!$E$5:$I$6,B$3)=1,RevLab!B$3,""))))))))))))) -> Low | H210: =IF(E210="","",IF(B$2="Red/Black",LOOKUP(E210,Refs!D:D,Refs!F:F),IF(B$2="High/Low",LOOKUP(E210,Refs!D:D,Refs!H:H),IF(B$2="Odd/Even",LOOKUP(E210,Refs!D:D,Refs!J:J),"")))) -> Low | I210: =IF(E210="","",IF(G210="","",IF(H210=G210,1,-1))) -> 1 | J210: =IF(E209="","",IF(G210="","",IF(AND(Q209>1,O209+P209>=$B$4),$B$4,IF(Q209=1,O209,O209+P209)))) -> 11 | K210: =IF(E210="","",IF(G210="","",IF(I210=1,J210,-J210))) -> 11 | L210: =IF(E210="","",IF(G210="",L209,K210+L209)) -> 15 | M210: =IF(E210="","",IF(L210>M209,L210,M209)) -> 15 | N210: =IF(E209="","",IF(OR(AND($A$6="Yes",$M210>$M209),AND($A$8="Yes",$O209+$P209>=$B$4),AND($Q209<=2,$I210=-1)),1,0)) -> 0 | O210: =IF(E210="","",R210) -> 2 | P210: =IF(E210="","",MAX(R210:DM210)) -> 11 | Q210: =IF(E210="","",COUNTIF(R210:DM210,">0")) -> 6 | R210: =IF(E209="","",IF($G210="",R209,IF($N210=1,LOOKUP(R$9,$A$12:$A$111,$B$12:$B$111),IF(AND($I210=-1,S$9=$Q209),"",IF($I210=-1,S209,IF($I210=1,R209)))))) -> 2 | S210: =IF($E209="","",IF($G210="",S209,IF(AND($N210=1,S$9>$B$9),"",IF(AND($N210=1,S$9<=$B$9),LOOKUP(S$9,$A$12:$A$111,$B$12:$B$111),IF(AND($I210=-1,T$9=$Q209),"",IF($I210=-1,T209,IF(AND($I210=1,R$9=$Q209),$K210,IF($I210=1,S209,"")))))))) -> 3 | T210: =IF($E209="","",IF($G210="",T209,IF(AND($N210=1,T$9>$B$9),"",IF(AND($N210=1,T$9<=$B$9),LOOKUP(T$9,$A$12:$A$111,$B$12:$B$111),IF(AND($I210=-1,U$9=$Q209),"",IF($I210=-1,U209,IF(AND($I210=1,S$9=$Q209),$K210,IF($I210=1,T209,"")))))))) -> 5 | U210: =IF($E209="","",IF($G210="",U209,IF(AND($N210=1,U$9>$B$9),"",IF(AND($N210=1,U$9<=$B$9),LOOKUP(U$9,$A$12:$A$111,$B$12:$B$111),IF(AND($I210=-1,V$9=$Q209),"",IF($I210=-1,V209,IF(AND($I210=1,T$9=$Q209),$K210,IF($I210=1,U209,"")))))))) -> 7 | V210: =IF($E209="","",IF($G210="",V209,IF(AND($N210=1,V$9>$B$9),"",IF(AND($N210=1,V$9<=$B$9),LOOKUP(V$9,$A$12:$A$111,$B$12:$B$111),IF(AND($I210=-1,W$9=$Q209),"",IF($I210=-1,W209,IF(AND($I210=1,U$9=$Q209),$K210,IF($I210=1,V209,"")))))))) -> 9 | W210: =IF($E209="","",IF($G210="",W209,IF(AND($N210=1,W$9>$B$9),"",IF(AND($N210=1,W$9<=$B$9),LOOKUP(W$9,$A$12:$A$111,$B$12:$B$111),IF(AND($I210=-1,X$9=$Q209),"",IF($I210=-1,X209,IF(AND($I210=1,V$9=$Q209),$K210,IF($I210=1,W209,"")))))))) -> 11 | X210: =IF($E209="","",IF($G210="",X209,IF(AND($N210=1,X$9>$B$9),"",IF(AND($N210=1,X$9<=$B$9),LOOKUP(X$9,$A$12:$A$111,$B$12:$B$111),IF(AND($I210=-1,Y$9=$Q209),"",IF($I210=-1,Y209,IF(AND($I210=1,W$9=$Q209),$K210,IF($I210=1,X209,"")))))))) | Y210: =IF($E209="","",IF($G210="",Y209,IF(AND($N210=1,Y$9>$B$9),"",IF(AND($N210=1,Y$9<=$B$9),LOOKUP(Y$9,$A$12:$A$111,$B$12:$B$111),IF(AND($I210=-1,Z$9=$Q209),"",IF($I210=-1,Z209,IF(AND($I210=1,X$9=$Q209),$K210,IF($I210=1,Y209,"")))))))) | Z210: =IF($E209="","",IF($G210="",Z209,IF(AND($N210=1,Z$9>$B$9),"",IF(AND($N210=1,Z$9<=$B$9),LOOKUP(Z$9,$A$12:$A$111,$B$12:$B$111),IF(AND($I210=-1,AA$9=$Q209),"",IF($I210=-1,AA209,IF(AND($I210=1,Y$9=$Q209),$K210,IF($I210=1,Z209,"")))))))) | ... BO210: =IF($E209="","",IF($G210="",BO209,IF(AND($N210=1,BO$9>$B$9),"",IF(AND($N210=1,BO$9<=$B$9),LOOKUP(BO$9,$A$12:$A$111,$B$12:$B$111),IF(AND($I210=-1,BP$9=$Q209),"",IF($I210=-1,BP209,IF(AND($I210=1,BN$9=$Q209),$K210,IF($I210=1,BO209,"")))))))) -> 0

Sheet Labouchere
A2: EC | B2: High/Low | D2: Wins | E2: =COUNTIF(I11:I210,"1") -> 86
A3: Play type | B3: High | D3: Losses | E3: =COUNTIF(I11:I210,"-1") -> 114
A4: Max Bet | B4: 100 | D4: End | E4: =OFFSET(L10,MAX(D:D),0,1,1) -> -75
A5: Reset new high? | D5: Max | E5: =MAX(L:L) -> 20
A6: No | D6: Max Bet | E6: =MAX(J11:J210) -> 100
A7: Reset on max bet?
A8: Yes | O8: 1st bet | P8: 2nd bet | Q8: Stelle | R8: Unit bank, end of spin
A9: Seq length | B9: =COUNTIF(B12:B111,">0") -> 4 | O9: Min | P9: Max | Q9: cntf | R9: 1 | S9: 2 | T9: 3 | U9: 4 | V9: 5 | W9: 6 | X9: 7 | Y9: 8 | Z9: 9 | AA9: 10 | AB9: 11 | AC9: 12 | AD9: 13 | AE9: 14 | AF9: 15 | AG9: 16 | AH9: 17 | AI9: 18 | AJ9: 19 | AK9: 20 | AL9: 21 | AM9: 22 | AN9: 23 | AO9: 24 | AP9: 25 | AQ9: 26 | AR9: 27 | AS9: 28 | AT9: 29 | AU9: 30 | AV9: 31 | AW9: 32 | AX9: 33 | AY9: 34 | AZ9: 35 | BA9: 36 | BB9: 37 | BC9: 38 | BD9: 39 | BE9: 40 | BF9: 41 | BG9: 42 | BH9: 43 | BI9: 44 | BJ9: 45 | BK9: 46 | BL9: 47 | BM9: 48 | BN9: 49 | BO9: 50
A10: Starting sequence | D10: Spin | E10: Nr | F10: Custom | G10: Decision | H10: Result | I10: WL | J10: Bet | K10: Net | L10: Total | M10: Max | N10: Rst | O10: =IF(E10="","",R10) -> 1 | P10: =IF(E10="","",MAX(R10:DM10)) -> 4 | Q10: =IF(E10="","",COUNTIF(R10:DM10,">0")) -> 4 | R10: =IF(R9>$B$9,"",IF($D11=1,LOOKUP(R9,$A12:$A111,$B12:$B111),"")) -> 1 | S10: =IF(S9>$B$9,"",IF($D11=1,LOOKUP(S9,$A12:$A111,$B12:$B111),"")) -> 2 | T10: =IF(T9>$B$9,"",IF($D11=1,LOOKUP(T9,$A12:$A111,$B12:$B111),"")) -> 3 | U10: =IF(U9>$B$9,"",IF($D11=1,LOOKUP(U9,$A12:$A111,$B12:$B111),"")) -> 4 | V10: =IF(V9>$B$9,"",IF($D11=1,LOOKUP(V9,$A12:$A111,$B12:$B111),"")) | W10: =IF(W9>$B$9,"",IF($D11=1,LOOKUP(W9,$A12:$A111,$B12:$B111),"")) | X10: =IF(X9>$B$9,"",IF($D11=1,LOOKUP(X9,$A12:$A111,$B12:$B111),"")) | Y10: =IF(Y9>$B$9,"",IF($D11=1,LOOKUP(Y9,$A12:$A111,$B12:$B111),"")) | ... BO10: =IF(BO9>$B$9,"",IF($D11=1,LOOKUP(BO9,$A12:$A111,$B12:$B111),""))
A11: Seq.Nr | B11: Units | D11: 1 | E11: =RANDBETWEEN(0,36) -> 15 | G11: =IF(E10="","",IF($B$3=Refs!$B$11,Labouchere!F11,IF(COUNTIF(Refs!$E$5:$I$6,B$3)=1,Labouchere!B$3,""))) -> High | H11: =IF(E11="","",IF(B$2="Red/Black",LOOKUP(E11,Refs!D:D,Refs!F:F),IF(B$2="High/Low",LOOKUP(E11,Refs!D:D,Refs!H:H),IF(B$2="Odd/Even",LOOKUP(E11,Refs!D:D,Refs!J:J),"")))) -> Low | I11: =IF(E11="","",IF(G11="","",IF(H11=G11,1,-1))) -> -1 | J11: =IF(E10="","",IF(G11="","",IF(AND(Q10>1,O10+P10>=$B$4),$B$4,IF(Q10=1,O10,O10+P10)))) -> 5 | K11: =IF(E11="","",IF(G11="","",IF(I11=1,J11,-J11))) -> -5 | L11: =IF(E11="","",IF(G11="",0,K11)) -> -5 | N11: =IF(E10="","",IF(OR(AND($A$6="Yes",$M11>$M10),AND($A$8="Yes",$O10+$P10>=$B$4),AND($Q10<=2,$I11=1)),1,0)) -> 0 | O11: =IF(E11="","",R11) -> 1 | P11: =IF(E11="","",MAX(R11:DM11)) -> 5 | Q11: =IF(E11="","",COUNTIF(R11:DM11,">0")) -> 5 | R11: =IF(E10="","",IF($G11="",R10,IF($N11=1,LOOKUP(R$9,$A$12:$A$111,$B$12:$B$111),IF(AND($I11=1,S$9=$Q10),"",IF($I11=1,S10,IF($I11=-1,R10)))))) -> 1 | S11: =IF($E10="","",IF($G11="",S10,IF(AND($N11=1,S$9>$B$9),"",IF(AND($N11=1,S$9<=$B$9),LOOKUP(S$9,$A$12:$A$111,$B$12:$B$111),IF(AND($I11=1,T$9=$Q10),"",IF($I11=1,T10,IF(AND($I11=-1,R$9=$Q10),$J11,IF($I11=-1,S10,"")))))))) -> 2 | T11: =IF($E10="","",IF($G11="",T10,IF(AND($N11=1,T$9>$B$9),"",IF(AND($N11=1,T$9<=$B$9),LOOKUP(T$9,$A$12:$A$111,$B$12:$B$111),IF(AND($I11=1,U$9=$Q10),"",IF($I11=1,U10,IF(AND($I11=-1,S$9=$Q10),$J11,IF($I11=-1,T10,"")))))))) -> 3 | U11: =IF($E10="","",IF($G11="",U10,IF(AND($N11=1,U$9>$B$9),"",IF(AND($N11=1,U$9<=$B$9),LOOKUP(U$9,$A$12:$A$111,$B$12:$B$111),IF(AND($I11=1,V$9=$Q10),"",IF($I11=1,V10,IF(AND($I11=-1,T$9=$Q10),$J11,IF($I11=-1,U10,"")))))))) -> 4 | V11: =IF($E10="","",IF($G11="",V10,IF(AND($N11=1,V$9>$B$9),"",IF(AND($N11=1,V$9<=$B$9),LOOKUP(V$9,$A$12:$A$111,$B$12:$B$111),IF(AND($I11=1,W$9=$Q10),"",IF($I11=1,W10,IF(AND($I11=-1,U$9=$Q10),$J11,IF($I11=-1,V10,"")))))))) -> 5 | W11: =IF($E10="","",IF($G11="",W10,IF(AND($N11=1,W$9>$B$9),"",IF(AND($N11=1,W$9<=$B$9),LOOKUP(W$9,$A$12:$A$111,$B$12:$B$111),IF(AND($I11=1,X$9=$Q10),"",IF($I11=1,X10,IF(AND($I11=-1,V$9=$Q10),$J11,IF($I11=-1,W10,"")))))))) | X11: =IF($E10="","",IF($G11="",X10,IF(AND($N11=1,X$9>$B$9),"",IF(AND($N11=1,X$9<=$B$9),LOOKUP(X$9,$A$12:$A$111,$B$12:$B$111),IF(AND($I11=1,Y$9=$Q10),"",IF($I11=1,Y10,IF(AND($I11=-1,W$9=$Q10),$J11,IF($I11=-1,X10,"")))))))) | Y11: =IF($E10="","",IF($G11="",Y10,IF(AND($N11=1,Y$9>$B$9),"",IF(AND($N11=1,Y$9<=$B$9),LOOKUP(Y$9,$A$12:$A$111,$B$12:$B$111),IF(AND($I11=1,Z$9=$Q10),"",IF($I11=1,Z10,IF(AND($I11=-1,X$9=$Q10),$J11,IF($I11=-1,Y10,"")))))))) | Z11: =IF($E10="","",IF($G11="",Z10,IF(AND($N11=1,Z$9>$B$9),"",IF(AND($N11=1,Z$9<=$B$9),LOOKUP(Z$9,$A$12:$A$111,$B$12:$B$111),IF(AND($I11=1,AA$9=$Q10),"",IF($I11=1,AA10,IF(AND($I11=-1,Y$9=$Q10),$J11,IF($I11=-1,Z10,"")))))))) | ... BO11: =IF($E10="","",IF($G11="",BO10,IF(AND($N11=1,BO$9>$B$9),"",IF(AND($N11=1,BO$9<=$B$9),LOOKUP(BO$9,$A$12:$A$111,$B$12:$B$111),IF(AND($I11=1,BP$9=$Q10),"",IF($I11=1,BP10,IF(AND($I11=-1,BN$9=$Q10),$J11,IF($I11=-1,BO10,""))))))))
A12: 1 | B12: 1 | D12: 2 | E12: =RANDBETWEEN(0,36) -> 2 | G12: =IF(E11="","",IF($B$3=Refs!$B$11,Labouchere!F12,IF(AND(B$3="Last",H11="Zero"),G11,IF(B$3="Last",H11,IF(B$3="2nd last","",IF(AND(B$3="Opposite",H11="Zero"),G11,IF(AND(B$3="Opposite",H11="Red"),"Black",IF(AND(B$3="Opposite",H11="Black"),"Red",IF(AND(B$3="Opposite",H11="Odd"),"Even",IF(AND(B$3="Opposite",H11="Even"),"Odd",IF(AND(B$3="Opposite",H11="High"),"Low",IF(AND(B$3="Opposite",H11="Low"),"High",IF(COUNTIF(Refs!$E$5:$I$6,B$3)=1,Labouchere!B$3,""))))))))))))) -> High | H12: =IF(E12="","",IF(B$2="Red/Black",LOOKUP(E12,Refs!D:D,Refs!F:F),IF(B$2="High/Low",LOOKUP(E12,Refs!D:D,Refs!H:H),IF(B$2="Odd/Even",LOOKUP(E12,Refs!D:D,Refs!J:J),"")))) -> Low | I12: =IF(E12="","",IF(G12="","",IF(H12=G12,1,-1))) -> -1 | J12: =IF(E11="","",IF(G12="","",IF(AND(Q11>1,O11+P11>=$B$4),$B$4,IF(Q11=1,O11,O11+P11)))) -> 6 | K12: =IF(E12="","",IF(G12="","",IF(I12=1,J12,-J12))) -> -6 | L12: =IF(E12="","",IF(G12="",L11,K12+L11)) -> -11 | M12: =IF(E12="","",IF(L12>M11,L12,M11)) -> 0 | N12: =IF(E11="","",IF(OR(AND($A$6="Yes",$M12>$M11),AND($A$8="Yes",$O11+$P11>=$B$4),AND($Q11<=2,$I12=1)),1,0)) -> 0 | O12: =IF(E12="","",R12) -> 1 | P12: =IF(E12="","",MAX(R12:DM12)) -> 6 | Q12: =IF(E12="","",COUNTIF(R12:DM12,">0")) -> 6 | R12: =IF(E11="","",IF($G12="",R11,IF($N12=1,LOOKUP(R$9,$A$12:$A$111,$B$12:$B$111),IF(AND($I12=1,S$9=$Q11),"",IF($I12=1,S11,IF($I12=-1,R11)))))) -> 1 | S12: =IF($E11="","",IF($G12="",S11,IF(AND($N12=1,S$9>$B$9),"",IF(AND($N12=1,S$9<=$B$9),LOOKUP(S$9,$A$12:$A$111,$B$12:$B$111),IF(AND($I12=1,T$9=$Q11),"",IF($I12=1,T11,IF(AND($I12=-1,R$9=$Q11),$J12,IF($I12=-1,S11,"")))))))) -> 2 | T12: =IF($E11="","",IF($G12="",T11,IF(AND($N12=1,T$9>$B$9),"",IF(AND($N12=1,T$9<=$B$9),LOOKUP(T$9,$A$12:$A$111,$B$12:$B$111),IF(AND($I12=1,U$9=$Q11),"",IF($I12=1,U11,IF(AND($I12=-1,S$9=$Q11),$J12,IF($I12=-1,T11,"")))))))) -> 3 | U12: =IF($E11="","",IF($G12="",U11,IF(AND($N12=1,U$9>$B$9),"",IF(AND($N12=1,U$9<=$B$9),LOOKUP(U$9,$A$12:$A$111,$B$12:$B$111),IF(AND($I12=1,V$9=$Q11),"",IF($I12=1,V11,IF(AND($I12=-1,T$9=$Q11),$J12,IF($I12=-1,U11,"")))))))) -> 4 | V12: =IF($E11="","",IF($G12="",V11,IF(AND($N12=1,V$9>$B$9),"",IF(AND($N12=1,V$9<=$B$9),LOOKUP(V$9,$A$12:$A$111,$B$12:$B$111),IF(AND($I12=1,W$9=$Q11),"",IF($I12=1,W11,IF(AND($I12=-1,U$9=$Q11),$J12,IF($I12=-1,V11,"")))))))) -> 5 | W12: =IF($E11="","",IF($G12="",W11,IF(AND($N12=1,W$9>$B$9),"",IF(AND($N12=1,W$9<=$B$9),LOOKUP(W$9,$A$12:$A$111,$B$12:$B$111),IF(AND($I12=1,X$9=$Q11),"",IF($I12=1,X11,IF(AND($I12=-1,V$9=$Q11),$J12,IF($I12=-1,W11,"")))))))) -> 6 | X12: =IF($E11="","",IF($G12="",X11,IF(AND($N12=1,X$9>$B$9),"",IF(AND($N12=1,X$9<=$B$9),LOOKUP(X$9,$A$12:$A$111,$B$12:$B$111),IF(AND($I12=1,Y$9=$Q11),"",IF($I12=1,Y11,IF(AND($I12=-1,W$9=$Q11),$J12,IF($I12=-1,X11,"")))))))) | Y12: =IF($E11="","",IF($G12="",Y11,IF(AND($N12=1,Y$9>$B$9),"",IF(AND($N12=1,Y$9<=$B$9),LOOKUP(Y$9,$A$12:$A$111,$B$12:$B$111),IF(AND($I12=1,Z$9=$Q11),"",IF($I12=1,Z11,IF(AND($I12=-1,X$9=$Q11),$J12,IF($I12=-1,Y11,"")))))))) | Z12: =IF($E11="","",IF($G12="",Z11,IF(AND($N12=1,Z$9>$B$9),"",IF(AND($N12=1,Z$9<=$B$9),LOOKUP(Z$9,$A$12:$A$111,$B$12:$B$111),IF(AND($I12=1,AA$9=$Q11),"",IF($I12=1,AA11,IF(AND($I12=-1,Y$9=$Q11),$J12,IF($I12=-1,Z11,"")))))))) | ... BO12: =IF($E11="","",IF($G12="",BO11,IF(AND($N12=1,BO$9>$B$9),"",IF(AND($N12=1,BO$9<=$B$9),LOOKUP(BO$9,$A$12:$A$111,$B$12:$B$111),IF(AND($I12=1,BP$9=$Q11),"",IF($I12=1,BP11,IF(AND($I12=-1,BN$9=$Q11),$J12,IF($I12=-1,BO11,""))))))))
A13: 2 | B13: 2 | D13: 3 | E13: =RANDBETWEEN(0,36) -> 13 | G13: =IF(E12="","",IF($B$3=Refs!$B$11,Labouchere!F13,IF(AND(B$3="Last",H12="Zero"),G12,IF(B$3="Last",H12,IF(B$3="2nd last","",IF(AND(B$3="Opposite",H12="Zero"),G12,IF(AND(B$3="Opposite",H12="Red"),"Black",IF(AND(B$3="Opposite",H12="Black"),"Red",IF(AND(B$3="Opposite",H12="Odd"),"Even",IF(AND(B$3="Opposite",H12="Even"),"Odd",IF(AND(B$3="Opposite",H12="High"),"Low",IF(AND(B$3="Opposite",H12="Low"),"High",IF(COUNTIF(Refs!$E$5:$I$6,B$3)=1,Labouchere!B$3,""))))))))))))) -> High | H13: =IF(E13="","",IF(B$2="Red/Black",LOOKUP(E13,Refs!D:D,Refs!F:F),IF(B$2="High/Low",LOOKUP(E13,Refs!D:D,Refs!H:H),IF(B$2="Odd/Even",LOOKUP(E13,Refs!D:D,Refs!J:J),"")))) -> Low | I13: =IF(E13="","",IF(G13="","",IF(H13=G13,1,-1))) -> -1 | J13: =IF(E12="","",IF(G13="","",IF(AND(Q12>1,O12+P12>=$B$4),$B$4,IF(Q12=1,O12,O12+P12)))) -> 7 | K13: =IF(E13="","",IF(G13="","",IF(I13=1,J13,-J13))) -> -7 | L13: =IF(E13="","",IF(G13="",L12,K13+L12)) -> -18 | M13: =IF(E13="","",IF(L13>M12,L13,M12)) -> 0 | N13: =IF(E12="","",IF(OR(AND($A$6="Yes",$M13>$M12),AND($A$8="Yes",$O12+$P12>=$B$4),AND($Q12<=2,$I13=1)),1,0)) -> 0 | O13: =IF(E13="","",R13) -> 1 | P13: =IF(E13="","",MAX(R13:DM13)) -> 7 | Q13: =IF(E13="","",COUNTIF(R13:DM13,">0")) -> 7 | R13: =IF(E12="","",IF($G13="",R12,IF($N13=1,LOOKUP(R$9,$A$12:$A$111,$B$12:$B$111),IF(AND($I13=1,S$9=$Q12),"",IF($I13=1,S12,IF($I13=-1,R12)))))) -> 1 | S13: =IF($E12="","",IF($G13="",S12,IF(AND($N13=1,S$9>$B$9),"",IF(AND($N13=1,S$9<=$B$9),LOOKUP(S$9,$A$12:$A$111,$B$12:$B$111),IF(AND($I13=1,T$9=$Q12),"",IF($I13=1,T12,IF(AND($I13=-1,R$9=$Q12),$J13,IF($I13=-1,S12,"")))))))) -> 2 | T13: =IF($E12="","",IF($G13="",T12,IF(AND($N13=1,T$9>$B$9),"",IF(AND($N13=1,T$9<=$B$9),LOOKUP(T$9,$A$12:$A$111,$B$12:$B$111),IF(AND($I13=1,U$9=$Q12),"",IF($I13=1,U12,IF(AND($I13=-1,S$9=$Q12),$J13,IF($I13=-1,T12,"")))))))) -> 3 | U13: =IF($E12="","",IF($G13="",U12,IF(AND($N13=1,U$9>$B$9),"",IF(AND($N13=1,U$9<=$B$9),LOOKUP(U$9,$A$12:$A$111,$B$12:$B$111),IF(AND($I13=1,V$9=$Q12),"",IF($I13=1,V12,IF(AND($I13=-1,T$9=$Q12),$J13,IF($I13=-1,U12,"")))))))) -> 4 | V13: =IF($E12="","",IF($G13="",V12,IF(AND($N13=1,V$9>$B$9),"",IF(AND($N13=1,V$9<=$B$9),LOOKUP(V$9,$A$12:$A$111,$B$12:$B$111),IF(AND($I13=1,W$9=$Q12),"",IF($I13=1,W12,IF(AND($I13=-1,U$9=$Q12),$J13,IF($I13=-1,V12,"")))))))) -> 5 | W13: =IF($E12="","",IF($G13="",W12,IF(AND($N13=1,W$9>$B$9),"",IF(AND($N13=1,W$9<=$B$9),LOOKUP(W$9,$A$12:$A$111,$B$12:$B$111),IF(AND($I13=1,X$9=$Q12),"",IF($I13=1,X12,IF(AND($I13=-1,V$9=$Q12),$J13,IF($I13=-1,W12,"")))))))) -> 6 | X13: =IF($E12="","",IF($G13="",X12,IF(AND($N13=1,X$9>$B$9),"",IF(AND($N13=1,X$9<=$B$9),LOOKUP(X$9,$A$12:$A$111,$B$12:$B$111),IF(AND($I13=1,Y$9=$Q12),"",IF($I13=1,Y12,IF(AND($I13=-1,W$9=$Q12),$J13,IF($I13=-1,X12,"")))))))) -> 7 | Y13: =IF($E12="","",IF($G13="",Y12,IF(AND($N13=1,Y$9>$B$9),"",IF(AND($N13=1,Y$9<=$B$9),LOOKUP(Y$9,$A$12:$A$111,$B$12:$B$111),IF(AND($I13=1,Z$9=$Q12),"",IF($I13=1,Z12,IF(AND($I13=-1,X$9=$Q12),$J13,IF($I13=-1,Y12,"")))))))) | Z13: =IF($E12="","",IF($G13="",Z12,IF(AND($N13=1,Z$9>$B$9),"",IF(AND($N13=1,Z$9<=$B$9),LOOKUP(Z$9,$A$12:$A$111,$B$12:$B$111),IF(AND($I13=1,AA$9=$Q12),"",IF($I13=1,AA12,IF(AND($I13=-1,Y$9=$Q12),$J13,IF($I13=-1,Z12,"")))))))) | ... BO13: =IF($E12="","",IF($G13="",BO12,IF(AND($N13=1,BO$9>$B$9),"",IF(AND($N13=1,BO$9<=$B$9),LOOKUP(BO$9,$A$12:$A$111,$B$12:$B$111),IF(AND($I13=1,BP$9=$Q12),"",IF($I13=1,BP12,IF(AND($I13=-1,BN$9=$Q12),$J13,IF($I13=-1,BO12,""))))))))
A14: 3 | B14: 3 | D14: 4 | E14: =RANDBETWEEN(0,36) -> 22 | G14: =IF(E13="","",IF($B$3=Refs!$B$11,Labouchere!F14,IF(AND(B$3="Last",H13="Zero"),G13,IF(B$3="Last",H13,IF(B$3="2nd last","",IF(AND(B$3="Opposite",H13="Zero"),G13,IF(AND(B$3="Opposite",H13="Red"),"Black",IF(AND(B$3="Opposite",H13="Black"),"Red",IF(AND(B$3="Opposite",H13="Odd"),"Even",IF(AND(B$3="Opposite",H13="Even"),"Odd",IF(AND(B$3="Opposite",H13="High"),"Low",IF(AND(B$3="Opposite",H13="Low"),"High",IF(COUNTIF(Refs!$E$5:$I$6,B$3)=1,Labouchere!B$3,""))))))))))))) -> High | H14: =IF(E14="","",IF(B$2="Red/Black",LOOKUP(E14,Refs!D:D,Refs!F:F),IF(B$2="High/Low",LOOKUP(E14,Refs!D:D,Refs!H:H),IF(B$2="Odd/Even",LOOKUP(E14,Refs!D:D,Refs!J:J),"")))) -> High | I14: =IF(E14="","",IF(G14="","",IF(H14=G14,1,-1))) -> 1 | J14: =IF(E13="","",IF(G14="","",IF(AND(Q13>1,O13+P13>=$B$4),$B$4,IF(Q13=1,O13,O13+P13)))) -> 8 | K14: =IF(E14="","",IF(G14="","",IF(I14=1,J14,-J14))) -> 8 | L14: =IF(E14="","",IF(G14="",L13,K14+L13)) -> -10 | M14: =IF(E14="","",IF(L14>M13,L14,M13)) -> 0 | N14: =IF(E13="","",IF(OR(AND($A$6="Yes",$M14>$M13),AND($A$8="Yes",$O13+$P13>=$B$4),AND($Q13<=2,$I14=1)),1,0)) -> 0 | O14: =IF(E14="","",R14) -> 2 | P14: =IF(E14="","",MAX(R14:DM14)) -> 6 | Q14: =IF(E14="","",COUNTIF(R14:DM14,">0")) -> 5 | R14: =IF(E13="","",IF($G14="",R13,IF($N14=1,LOOKUP(R$9,$A$12:$A$111,$B$12:$B$111),IF(AND($I14=1,S$9=$Q13),"",IF($I14=1,S13,IF($I14=-1,R13)))))) -> 2 | S14: =IF($E13="","",IF($G14="",S13,IF(AND($N14=1,S$9>$B$9),"",IF(AND($N14=1,S$9<=$B$9),LOOKUP(S$9,$A$12:$A$111,$B$12:$B$111),IF(AND($I14=1,T$9=$Q13),"",IF($I14=1,T13,IF(AND($I14=-1,R$9=$Q13),$J14,IF($I14=-1,S13,"")))))))) -> 3 | T14: =IF($E13="","",IF($G14="",T13,IF(AND($N14=1,T$9>$B$9),"",IF(AND($N14=1,T$9<=$B$9),LOOKUP(T$9,$A$12:$A$111,$B$12:$B$111),IF(AND($I14=1,U$9=$Q13),"",IF($I14=1,U13,IF(AND($I14=-1,S$9=$Q13),$J14,IF($I14=-1,T13,"")))))))) -> 4 | U14: =IF($E13="","",IF($G14="",U13,IF(AND($N14=1,U$9>$B$9),"",IF(AND($N14=1,U$9<=$B$9),LOOKUP(U$9,$A$12:$A$111,$B$12:$B$111),IF(AND($I14=1,V$9=$Q13),"",IF($I14=1,V13,IF(AND($I14=-1,T$9=$Q13),$J14,IF($I14=-1,U13,"")))))))) -> 5 | V14: =IF($E13="","",IF($G14="",V13,IF(AND($N14=1,V$9>$B$9),"",IF(AND($N14=1,V$9<=$B$9),LOOKUP(V$9,$A$12:$A$111,$B$12:$B$111),IF(AND($I14=1,W$9=$Q13),"",IF($I14=1,W13,IF(AND($I14=-1,U$9=$Q13),$J14,IF($I14=-1,V13,"")))))))) -> 6 | W14: =IF($E13="","",IF($G14="",W13,IF(AND($N14=1,W$9>$B$9),"",IF(AND($N14=1,W$9<=$B$9),LOOKUP(W$9,$A$12:$A$111,$B$12:$B$111),IF(AND($I14=1,X$9=$Q13),"",IF($I14=1,X13,IF(AND($I14=-1,V$9=$Q13),$J14,IF($I14=-1,W13,"")))))))) | X14: =IF($E13="","",IF($G14="",X13,IF(AND($N14=1,X$9>$B$9),"",IF(AND($N14=1,X$9<=$B$9),LOOKUP(X$9,$A$12:$A$111,$B$12:$B$111),IF(AND($I14=1,Y$9=$Q13),"",IF($I14=1,Y13,IF(AND($I14=-1,W$9=$Q13),$J14,IF($I14=-1,X13,"")))))))) | Y14: =IF($E13="","",IF($G14="",Y13,IF(AND($N14=1,Y$9>$B$9),"",IF(AND($N14=1,Y$9<=$B$9),LOOKUP(Y$9,$A$12:$A$111,$B$12:$B$111),IF(AND($I14=1,Z$9=$Q13),"",IF($I14=1,Z13,IF(AND($I14=-1,X$9=$Q13),$J14,IF($I14=-1,Y13,"")))))))) | Z14: =IF($E13="","",IF($G14="",Z13,IF(AND($N14=1,Z$9>$B$9),"",IF(AND($N14=1,Z$9<=$B$9),LOOKUP(Z$9,$A$12:$A$111,$B$12:$B$111),IF(AND($I14=1,AA$9=$Q13),"",IF($I14=1,AA13,IF(AND($I14=-1,Y$9=$Q13),$J14,IF($I14=-1,Z13,"")))))))) | ... BO14: =IF($E13="","",IF($G14="",BO13,IF(AND($N14=1,BO$9>$B$9),"",IF(AND($N14=1,BO$9<=$B$9),LOOKUP(BO$9,$A$12:$A$111,$B$12:$B$111),IF(AND($I14=1,BP$9=$Q13),"",IF($I14=1,BP13,IF(AND($I14=-1,BN$9=$Q13),$J14,IF($I14=-1,BO13,"")))))))) -> 0
A15: 4 | B15: 4 | D15: 5 | E15: =RANDBETWEEN(0,36) -> 7 | G15: =IF(E14="","",IF($B$3=Refs!$B$11,Labouchere!F15,IF(AND(B$3="Last",H14="Zero"),G14,IF(B$3="Last",H14,IF(B$3="2nd last","",IF(AND(B$3="Opposite",H14="Zero"),G14,IF(AND(B$3="Opposite",H14="Red"),"Black",IF(AND(B$3="Opposite",H14="Black"),"Red",IF(AND(B$3="Opposite",H14="Odd"),"Even",IF(AND(B$3="Opposite",H14="Even"),"Odd",IF(AND(B$3="Opposite",H14="High"),"Low",IF(AND(B$3="Opposite",H14="Low"),"High",IF(COUNTIF(Refs!$E$5:$I$6,B$3)=1,Labouchere!B$3,""))))))))))))) -> High | H15: =IF(E15="","",IF(B$2="Red/Black",LOOKUP(E15,Refs!D:D,Refs!F:F),IF(B$2="High/Low",LOOKUP(E15,Refs!D:D,Refs!H:H),IF(B$2="Odd/Even",LOOKUP(E15,Refs!D:D,Refs!J:J),"")))) -> Low | I15: =IF(E15="","",IF(G15="","",IF(H15=G15,1,-1))) -> -1 | J15: =IF(E14="","",IF(G15="","",IF(AND(Q14>1,O14+P14>=$B$4),$B$4,IF(Q14=1,O14,O14+P14)))) -> 8 | K15: =IF(E15="","",IF(G15="","",IF(I15=1,J15,-J15))) -> -8 | L15: =IF(E15="","",IF(G15="",L14,K15+L14)) -> -18 | M15: =IF(E15="","",IF(L15>M14,L15,M14)) -> 0 | N15: =IF(E14="","",IF(OR(AND($A$6="Yes",$M15>$M14),AND($A$8="Yes",$O14+$P14>=$B$4),AND($Q14<=2,$I15=1)),1,0)) -> 0 | O15: =IF(E15="","",R15) -> 2 | P15: =IF(E15="","",MAX(R15:DM15)) -> 8 | Q15: =IF(E15="","",COUNTIF(R15:DM15,">0")) -> 6 | R15: =IF(E14="","",IF($G15="",R14,IF($N15=1,LOOKUP(R$9,$A$12:$A$111,$B$12:$B$111),IF(AND($I15=1,S$9=$Q14),"",IF($I15=1,S14,IF($I15=-1,R14)))))) -> 2 | S15: =IF($E14="","",IF($G15="",S14,IF(AND($N15=1,S$9>$B$9),"",IF(AND($N15=1,S$9<=$B$9),LOOKUP(S$9,$A$12:$A$111,$B$12:$B$111),IF(AND($I15=1,T$9=$Q14),"",IF($I15=1,T14,IF(AND($I15=-1,R$9=$Q14),$J15,IF($I15=-1,S14,"")))))))) -> 3 | T15: =IF($E14="","",IF($G15="",T14,IF(AND($N15=1,T$9>$B$9),"",IF(AND($N15=1,T$9<=$B$9),LOOKUP(T$9,$A$12:$A$111,$B$12:$B$111),IF(AND($I15=1,U$9=$Q14),"",IF($I15=1,U14,IF(AND($I15=-1,S$9=$Q14),$J15,IF($I15=-1,T14,"")))))))) -> 4 | U15: =IF($E14="","",IF($G15="",U14,IF(AND($N15=1,U$9>$B$9),"",IF(AND($N15=1,U$9<=$B$9),LOOKUP(U$9,$A$12:$A$111,$B$12:$B$111),IF(AND($I15=1,V$9=$Q14),"",IF($I15=1,V14,IF(AND($I15=-1,T$9=$Q14),$J15,IF($I15=-1,U14,"")))))))) -> 5 | V15: =IF($E14="","",IF($G15="",V14,IF(AND($N15=1,V$9>$B$9),"",IF(AND($N15=1,V$9<=$B$9),LOOKUP(V$9,$A$12:$A$111,$B$12:$B$111),IF(AND($I15=1,W$9=$Q14),"",IF($I15=1,W14,IF(AND($I15=-1,U$9=$Q14),$J15,IF($I15=-1,V14,"")))))))) -> 6 | W15: =IF($E14="","",IF($G15="",W14,IF(AND($N15=1,W$9>$B$9),"",IF(AND($N15=1,W$9<=$B$9),LOOKUP(W$9,$A$12:$A$111,$B$12:$B$111),IF(AND($I15=1,X$9=$Q14),"",IF($I15=1,X14,IF(AND($I15=-1,V$9=$Q14),$J15,IF($I15=-1,W14,"")))))))) -> 8 | X15: =IF($E14="","",IF($G15="",X14,IF(AND($N15=1,X$9>$B$9),"",IF(AND($N15=1,X$9<=$B$9),LOOKUP(X$9,$A$12:$A$111,$B$12:$B$111),IF(AND($I15=1,Y$9=$Q14),"",IF($I15=1,Y14,IF(AND($I15=-1,W$9=$Q14),$J15,IF($I15=-1,X14,"")))))))) | Y15: =IF($E14="","",IF($G15="",Y14,IF(AND($N15=1,Y$9>$B$9),"",IF(AND($N15=1,Y$9<=$B$9),LOOKUP(Y$9,$A$12:$A$111,$B$12:$B$111),IF(AND($I15=1,Z$9=$Q14),"",IF($I15=1,Z14,IF(AND($I15=-1,X$9=$Q14),$J15,IF($I15=-1,Y14,"")))))))) | Z15: =IF($E14="","",IF($G15="",Z14,IF(AND($N15=1,Z$9>$B$9),"",IF(AND($N15=1,Z$9<=$B$9),LOOKUP(Z$9,$A$12:$A$111,$B$12:$B$111),IF(AND($I15=1,AA$9=$Q14),"",IF($I15=1,AA14,IF(AND($I15=-1,Y$9=$Q14),$J15,IF($I15=-1,Z14,"")))))))) | ... BO15: =IF($E14="","",IF($G15="",BO14,IF(AND($N15=1,BO$9>$B$9),"",IF(AND($N15=1,BO$9<=$B$9),LOOKUP(BO$9,$A$12:$A$111,$B$12:$B$111),IF(AND($I15=1,BP$9=$Q14),"",IF($I15=1,BP14,IF(AND($I15=-1,BN$9=$Q14),$J15,IF($I15=-1,BO14,"")))))))) -> 0
A16: 5 | D16: 6 | E16: =RANDBETWEEN(0,36) -> 11 | G16: =IF(E15="","",IF($B$3=Refs!$B$11,Labouchere!F16,IF(AND(B$3="Last",H15="Zero"),G15,IF(B$3="Last",H15,IF(B$3="2nd last","",IF(AND(B$3="Opposite",H15="Zero"),G15,IF(AND(B$3="Opposite",H15="Red"),"Black",IF(AND(B$3="Opposite",H15="Black"),"Red",IF(AND(B$3="Opposite",H15="Odd"),"Even",IF(AND(B$3="Opposite",H15="Even"),"Odd",IF(AND(B$3="Opposite",H15="High"),"Low",IF(AND(B$3="Opposite",H15="Low"),"High",IF(COUNTIF(Refs!$E$5:$I$6,B$3)=1,Labouchere!B$3,""))))))))))))) -> High | H16: =IF(E16="","",IF(B$2="Red/Black",LOOKUP(E16,Refs!D:D,Refs!F:F),IF(B$2="High/Low",LOOKUP(E16,Refs!D:D,Refs!H:H),IF(B$2="Odd/Even",LOOKUP(E16,Refs!D:D,Refs!J:J),"")))) -> Low | I16: =IF(E16="","",IF(G16="","",IF(H16=G16,1,-1))) -> -1 | J16: =IF(E15="","",IF(G16="","",IF(AND(Q15>1,O15+P15>=$B$4),$B$4,IF(Q15=1,O15,O15+P15)))) -> 10 | K16: =IF(E16="","",IF(G16="","",IF(I16=1,J16,-J16))) -> -10 | L16: =IF(E16="","",IF(G16="",L15,K16+L15)) -> -28 | M16: =IF(E16="","",IF(L16>M15,L16,M15)) -> 0 | N16: =IF(E15="","",IF(OR(AND($A$6="Yes",$M16>$M15),AND($A$8="Yes",$O15+$P15>=$B$4),AND($Q15<=2,$I16=1)),1,0)) -> 0 | O16: =IF(E16="","",R16) -> 2 | P16: =IF(E16="","",MAX(R16:DM16)) -> 10 | Q16: =IF(E16="","",COUNTIF(R16:DM16,">0")) -> 7 | R16: =IF(E15="","",IF($G16="",R15,IF($N16=1,LOOKUP(R$9,$A$12:$A$111,$B$12:$B$111),IF(AND($I16=1,S$9=$Q15),"",IF($I16=1,S15,IF($I16=-1,R15)))))) -> 2 | S16: =IF($E15="","",IF($G16="",S15,IF(AND($N16=1,S$9>$B$9),"",IF(AND($N16=1,S$9<=$B$9),LOOKUP(S$9,$A$12:$A$111,$B$12:$B$111),IF(AND($I16=1,T$9=$Q15),"",IF($I16=1,T15,IF(AND($I16=-1,R$9=$Q15),$J16,IF($I16=-1,S15,"")))))))) -> 3 | T16: =IF($E15="","",IF($G16="",T15,IF(AND($N16=1,T$9>$B$9),"",IF(AND($N16=1,T$9<=$B$9),LOOKUP(T$9,$A$12:$A$111,$B$12:$B$111),IF(AND($I16=1,U$9=$Q15),"",IF($I16=1,U15,IF(AND($I16=-1,S$9=$Q15),$J16,IF($I16=-1,T15,"")))))))) -> 4 | U16: =IF($E15="","",IF($G16="",U15,IF(AND($N16=1,U$9>$B$9),"",IF(AND($N16=1,U$9<=$B$9),LOOKUP(U$9,$A$12:$A$111,$B$12:$B$111),IF(AND($I16=1,V$9=$Q15),"",IF($I16=1,V15,IF(AND($I16=-1,T$9=$Q15),$J16,IF($I16=-1,U15,"")))))))) -> 5 | V16: =IF($E15="","",IF($G16="",V15,IF(AND($N16=1,V$9>$B$9),"",IF(AND($N16=1,V$9<=$B$9),LOOKUP(V$9,$A$12:$A$111,$B$12:$B$111),IF(AND($I16=1,W$9=$Q15),"",IF($I16=1,W15,IF(AND($I16=-1,U$9=$Q15),$J16,IF($I16=-1,V15,"")))))))) -> 6 | W16: =IF($E15="","",IF($G16="",W15,IF(AND($N16=1,W$9>$B$9),"",IF(AND($N16=1,W$9<=$B$9),LOOKUP(W$9,$A$12:$A$111,$B$12:$B$111),IF(AND($I16=1,X$9=$Q15),"",IF($I16=1,X15,IF(AND($I16=-1,V$9=$Q15),$J16,IF($I16=-1,W15,"")))))))) -> 8 | X16: =IF($E15="","",IF($G16="",X15,IF(AND($N16=1,X$9>$B$9),"",IF(AND($N16=1,X$9<=$B$9),LOOKUP(X$9,$A$12:$A$111,$B$12:$B$111),IF(AND($I16=1,Y$9=$Q15),"",IF($I16=1,Y15,IF(AND($I16=-1,W$9=$Q15),$J16,IF($I16=-1,X15,"")))))))) -> 10 | Y16: =IF($E15="","",IF($G16="",Y15,IF(AND($N16=1,Y$9>$B$9),"",IF(AND($N16=1,Y$9<=$B$9),LOOKUP(Y$9,$A$12:$A$111,$B$12:$B$111),IF(AND($I16=1,Z$9=$Q15),"",IF($I16=1,Z15,IF(AND($I16=-1,X$9=$Q15),$J16,IF($I16=-1,Y15,"")))))))) | Z16: =IF($E15="","",IF($G16="",Z15,IF(AND($N16=1,Z$9>$B$9),"",IF(AND($N16=1,Z$9<=$B$9),LOOKUP(Z$9,$A$12:$A$111,$B$12:$B$111),IF(AND($I16=1,AA$9=$Q15),"",IF($I16=1,AA15,IF(AND($I16=-1,Y$9=$Q15),$J16,IF($I16=-1,Z15,"")))))))) | ... BO16: =IF($E15="","",IF($G16="",BO15,IF(AND($N16=1,BO$9>$B$9),"",IF(AND($N16=1,BO$9<=$B$9),LOOKUP(BO$9,$A$12:$A$111,$B$12:$B$111),IF(AND($I16=1,BP$9=$Q15),"",IF($I16=1,BP15,IF(AND($I16=-1,BN$9=$Q15),$J16,IF($I16=-1,BO15,"")))))))) -> 0
A17: 6 | D17: 7 | E17: =RANDBETWEEN(0,36) -> 16 | G17: =IF(E16="","",IF($B$3=Refs!$B$11,Labouchere!F17,IF(AND(B$3="Last",H16="Zero"),G16,IF(B$3="Last",H16,IF(B$3="2nd last","",IF(AND(B$3="Opposite",H16="Zero"),G16,IF(AND(B$3="Opposite",H16="Red"),"Black",IF(AND(B$3="Opposite",H16="Black"),"Red",IF(AND(B$3="Opposite",H16="Odd"),"Even",IF(AND(B$3="Opposite",H16="Even"),"Odd",IF(AND(B$3="Opposite",H16="High"),"Low",IF(AND(B$3="Opposite",H16="Low"),"High",IF(COUNTIF(Refs!$E$5:$I$6,B$3)=1,Labouchere!B$3,""))))))))))))) -> High | H17: =IF(E17="","",IF(B$2="Red/Black",LOOKUP(E17,Refs!D:D,Refs!F:F),IF(B$2="High/Low",LOOKUP(E17,Refs!D:D,Refs!H:H),IF(B$2="Odd/Even",LOOKUP(E17,Refs!D:D,Refs!J:J),"")))) -> Low | I17: =IF(E17="","",IF(G17="","",IF(H17=G17,1,-1))) -> -1 | J17: =IF(E16="","",IF(G17="","",IF(AND(Q16>1,O16+P16>=$B$4),$B$4,IF(Q16=1,O16,O16+P16)))) -> 12 | K17: =IF(E17="","",IF(G17="","",IF(I17=1,J17,-J17))) -> -12 | L17: =IF(E17="","",IF(G17="",L16,K17+L16)) -> -40 | M17: =IF(E17="","",IF(L17>M16,L17,M16)) -> 0 | N17: =IF(E16="","",IF(OR(AND($A$6="Yes",$M17>$M16),AND($A$8="Yes",$O16+$P16>=$B$4),AND($Q16<=2,$I17=1)),1,0)) -> 0 | O17: =IF(E17="","",R17) -> 2 | P17: =IF(E17="","",MAX(R17:DM17)) -> 12 | Q17: =IF(E17="","",COUNTIF(R17:DM17,">0")) -> 8 | R17: =IF(E16="","",IF($G17="",R16,IF($N17=1,LOOKUP(R$9,$A$12:$A$111,$B$12:$B$111),IF(AND($I17=1,S$9=$Q16),"",IF($I17=1,S16,IF($I17=-1,R16)))))) -> 2 | S17: =IF($E16="","",IF($G17="",S16,IF(AND($N17=1,S$9>$B$9),"",IF(AND($N17=1,S$9<=$B$9),LOOKUP(S$9,$A$12:$A$111,$B$12:$B$111),IF(AND($I17=1,T$9=$Q16),"",IF($I17=1,T16,IF(AND($I17=-1,R$9=$Q16),$J17,IF($I17=-1,S16,"")))))))) -> 3 | T17: =IF($E16="","",IF($G17="",T16,IF(AND($N17=1,T$9>$B$9),"",IF(AND($N17=1,T$9<=$B$9),LOOKUP(T$9,$A$12:$A$111,$B$12:$B$111),IF(AND($I17=1,U$9=$Q16),"",IF($I17=1,U16,IF(AND($I17=-1,S$9=$Q16),$J17,IF($I17=-1,T16,"")))))))) -> 4 | U17: =IF($E16="","",IF($G17="",U16,IF(AND($N17=1,U$9>$B$9),"",IF(AND($N17=1,U$9<=$B$9),LOOKUP(U$9,$A$12:$A$111,$B$12:$B$111),IF(AND($I17=1,V$9=$Q16),"",IF($I17=1,V16,IF(AND($I17=-1,T$9=$Q16),$J17,IF($I17=-1,U16,"")))))))) -> 5 | V17: =IF($E16="","",IF($G17="",V16,IF(AND($N17=1,V$9>$B$9),"",IF(AND($N17=1,V$9<=$B$9),LOOKUP(V$9,$A$12:$A$111,$B$12:$B$111),IF(AND($I17=1,W$9=$Q16),"",IF($I17=1,W16,IF(AND($I17=-1,U$9=$Q16),$J17,IF($I17=-1,V16,"")))))))) -> 6 | W17: =IF($E16="","",IF($G17="",W16,IF(AND($N17=1,W$9>$B$9),"",IF(AND($N17=1,W$9<=$B$9),LOOKUP(W$9,$A$12:$A$111,$B$12:$B$111),IF(AND($I17=1,X$9=$Q16),"",IF($I17=1,X16,IF(AND($I17=-1,V$9=$Q16),$J17,IF($I17=-1,W16,"")))))))) -> 8 | X17: =IF($E16="","",IF($G17="",X16,IF(AND($N17=1,X$9>$B$9),"",IF(AND($N17=1,X$9<=$B$9),LOOKUP(X$9,$A$12:$A$111,$B$12:$B$111),IF(AND($I17=1,Y$9=$Q16),"",IF($I17=1,Y16,IF(AND($I17=-1,W$9=$Q16),$J17,IF($I17=-1,X16,"")))))))) -> 10 | Y17: =IF($E16="","",IF($G17="",Y16,IF(AND($N17=1,Y$9>$B$9),"",IF(AND($N17=1,Y$9<=$B$9),LOOKUP(Y$9,$A$12:$A$111,$B$12:$B$111),IF(AND($I17=1,Z$9=$Q16),"",IF($I17=1,Z16,IF(AND($I17=-1,X$9=$Q16),$J17,IF($I17=-1,Y16,"")))))))) -> 12 | Z17: =IF($E16="","",IF($G17="",Z16,IF(AND($N17=1,Z$9>$B$9),"",IF(AND($N17=1,Z$9<=$B$9),LOOKUP(Z$9,$A$12:$A$111,$B$12:$B$111),IF(AND($I17=1,AA$9=$Q16),"",IF($I17=1,AA16,IF(AND($I17=-1,Y$9=$Q16),$J17,IF($I17=-1,Z16,"")))))))) | ... BO17: =IF($E16="","",IF($G17="",BO16,IF(AND($N17=1,BO$9>$B$9),"",IF(AND($N17=1,BO$9<=$B$9),LOOKUP(BO$9,$A$12:$A$111,$B$12:$B$111),IF(AND($I17=1,BP$9=$Q16),"",IF($I17=1,BP16,IF(AND($I17=-1,BN$9=$Q16),$J17,IF($I17=-1,BO16,"")))))))) -> 0
A18: 7 | D18: 8 | E18: =RANDBETWEEN(0,36) -> 32 | G18: =IF(E17="","",IF($B$3=Refs!$B$11,Labouchere!F18,IF(AND(B$3="Last",H17="Zero"),G17,IF(B$3="Last",H17,IF(B$3="2nd last","",IF(AND(B$3="Opposite",H17="Zero"),G17,IF(AND(B$3="Opposite",H17="Red"),"Black",IF(AND(B$3="Opposite",H17="Black"),"Red",IF(AND(B$3="Opposite",H17="Odd"),"Even",IF(AND(B$3="Opposite",H17="Even"),"Odd",IF(AND(B$3="Opposite",H17="High"),"Low",IF(AND(B$3="Opposite",H17="Low"),"High",IF(COUNTIF(Refs!$E$5:$I$6,B$3)=1,Labouchere!B$3,""))))))))))))) -> High | H18: =IF(E18="","",IF(B$2="Red/Black",LOOKUP(E18,Refs!D:D,Refs!F:F),IF(B$2="High/Low",LOOKUP(E18,Refs!D:D,Refs!H:H),IF(B$2="Odd/Even",LOOKUP(E18,Refs!D:D,Refs!J:J),"")))) -> High | I18: =IF(E18="","",IF(G18="","",IF(H18=G18,1,-1))) -> 1 | J18: =IF(E17="","",IF(G18="","",IF(AND(Q17>1,O17+P17>=$B$4),$B$4,IF(Q17=1,O17,O17+P17)))) -> 14 | K18: =IF(E18="","",IF(G18="","",IF(I18=1,J18,-J18))) -> 14 | L18: =IF(E18="","",IF(G18="",L17,K18+L17)) -> -26 | M18: =IF(E18="","",IF(L18>M17,L18,M17)) -> 0 | N18: =IF(E17="","",IF(OR(AND($A$6="Yes",$M18>$M17),AND($A$8="Yes",$O17+$P17>=$B$4),AND($Q17<=2,$I18=1)),1,0)) -> 0 | O18: =IF(E18="","",R18) -> 3 | P18: =IF(E18="","",MAX(R18:DM18)) -> 10 | Q18: =IF(E18="","",COUNTIF(R18:DM18,">0")) -> 6 | R18: =IF(E17="","",IF($G18="",R17,IF($N18=1,LOOKUP(R$9,$A$12:$A$111,$B$12:$B$111),IF(AND($I18=1,S$9=$Q17),"",IF($I18=1,S17,IF($I18=-1,R17)))))) -> 3 | S18: =IF($E17="","",IF($G18="",S17,IF(AND($N18=1,S$9>$B$9),"",IF(AND($N18=1,S$9<=$B$9),LOOKUP(S$9,$A$12:$A$111,$B$12:$B$111),IF(AND($I18=1,T$9=$Q17),"",IF($I18=1,T17,IF(AND($I18=-1,R$9=$Q17),$J18,IF($I18=-1,S17,"")))))))) -> 4 | T18: =IF($E17="","",IF($G18="",T17,IF(AND($N18=1,T$9>$B$9),"",IF(AND($N18=1,T$9<=$B$9),LOOKUP(T$9,$A$12:$A$111,$B$12:$B$111),IF(AND($I18=1,U$9=$Q17),"",IF($I18=1,U17,IF(AND($I18=-1,S$9=$Q17),$J18,IF($I18=-1,T17,"")))))))) -> 5 | U18: =IF($E17="","",IF($G18="",U17,IF(AND($N18=1,U$9>$B$9),"",IF(AND($N18=1,U$9<=$B$9),LOOKUP(U$9,$A$12:$A$111,$B$12:$B$111),IF(AND($I18=1,V$9=$Q17),"",IF($I18=1,V17,IF(AND($I18=-1,T$9=$Q17),$J18,IF($I18=-1,U17,"")))))))) -> 6 | V18: =IF($E17="","",IF($G18="",V17,IF(AND($N18=1,V$9>$B$9),"",IF(AND($N18=1,V$9<=$B$9),LOOKUP(V$9,$A$12:$A$111,$B$12:$B$111),IF(AND($I18=1,W$9=$Q17),"",IF($I18=1,W17,IF(AND($I18=-1,U$9=$Q17),$J18,IF($I18=-1,V17,"")))))))) -> 8 | W18: =IF($E17="","",IF($G18="",W17,IF(AND($N18=1,W$9>$B$9),"",IF(AND($N18=1,W$9<=$B$9),LOOKUP(W$9,$A$12:$A$111,$B$12:$B$111),IF(AND($I18=1,X$9=$Q17),"",IF($I18=1,X17,IF(AND($I18=-1,V$9=$Q17),$J18,IF($I18=-1,W17,"")))))))) -> 10 | X18: =IF($E17="","",IF($G18="",X17,IF(AND($N18=1,X$9>$B$9),"",IF(AND($N18=1,X$9<=$B$9),LOOKUP(X$9,$A$12:$A$111,$B$12:$B$111),IF(AND($I18=1,Y$9=$Q17),"",IF($I18=1,Y17,IF(AND($I18=-1,W$9=$Q17),$J18,IF($I18=-1,X17,"")))))))) | Y18: =IF($E17="","",IF($G18="",Y17,IF(AND($N18=1,Y$9>$B$9),"",IF(AND($N18=1,Y$9<=$B$9),LOOKUP(Y$9,$A$12:$A$111,$B$12:$B$111),IF(AND($I18=1,Z$9=$Q17),"",IF($I18=1,Z17,IF(AND($I18=-1,X$9=$Q17),$J18,IF($I18=-1,Y17,"")))))))) | Z18: =IF($E17="","",IF($G18="",Z17,IF(AND($N18=1,Z$9>$B$9),"",IF(AND($N18=1,Z$9<=$B$9),LOOKUP(Z$9,$A$12:$A$111,$B$12:$B$111),IF(AND($I18=1,AA$9=$Q17),"",IF($I18=1,AA17,IF(AND($I18=-1,Y$9=$Q17),$J18,IF($I18=-1,Z17,"")))))))) | ... BO18: =IF($E17="","",IF($G18="",BO17,IF(AND($N18=1,BO$9>$B$9),"",IF(AND($N18=1,BO$9<=$B$9),LOOKUP(BO$9,$A$12:$A$111,$B$12:$B$111),IF(AND($I18=1,BP$9=$Q17),"",IF($I18=1,BP17,IF(AND($I18=-1,BN$9=$Q17),$J18,IF($I18=-1,BO17,"")))))))) -> 0
A19: 8 | D19: 9 | E19: =RANDBETWEEN(0,36) -> 12 | G19: =IF(E18="","",IF($B$3=Refs!$B$11,Labouchere!F19,IF(AND(B$3="Last",H18="Zero"),G18,IF(B$3="Last",H18,IF(B$3="2nd last","",IF(AND(B$3="Opposite",H18="Zero"),G18,IF(AND(B$3="Opposite",H18="Red"),"Black",IF(AND(B$3="Opposite",H18="Black"),"Red",IF(AND(B$3="Opposite",H18="Odd"),"Even",IF(AND(B$3="Opposite",H18="Even"),"Odd",IF(AND(B$3="Opposite",H18="High"),"Low",IF(AND(B$3="Opposite",H18="Low"),"High",IF(COUNTIF(Refs!$E$5:$I$6,B$3)=1,Labouchere!B$3,""))))))))))))) -> High | H19: =IF(E19="","",IF(B$2="Red/Black",LOOKUP(E19,Refs!D:D,Refs!F:F),IF(B$2="High/Low",LOOKUP(E19,Refs!D:D,Refs!H:H),IF(B$2="Odd/Even",LOOKUP(E19,Refs!D:D,Refs!J:J),"")))) -> Low | I19: =IF(E19="","",IF(G19="","",IF(H19=G19,1,-1))) -> -1 | J19: =IF(E18="","",IF(G19="","",IF(AND(Q18>1,O18+P18>=$B$4),$B$4,IF(Q18=1,O18,O18+P18)))) -> 13 | K19: =IF(E19="","",IF(G19="","",IF(I19=1,J19,-J19))) -> -13 | L19: =IF(E19="","",IF(G19="",L18,K19+L18)) -> -39 | M19: =IF(E19="","",IF(L19>M18,L19,M18)) -> 0 | N19: =IF(E18="","",IF(OR(AND($A$6="Yes",$M19>$M18),AND($A$8="Yes",$O18+$P18>=$B$4),AND($Q18<=2,$I19=1)),1,0)) -> 0 | O19: =IF(E19="","",R19) -> 3 | P19: =IF(E19="","",MAX(R19:DM19)) -> 13 | Q19: =IF(E19="","",COUNTIF(R19:DM19,">0")) -> 7 | R19: =IF(E18="","",IF($G19="",R18,IF($N19=1,LOOKUP(R$9,$A$12:$A$111,$B$12:$B$111),IF(AND($I19=1,S$9=$Q18),"",IF($I19=1,S18,IF($I19=-1,R18)))))) -> 3 | S19: =IF($E18="","",IF($G19="",S18,IF(AND($N19=1,S$9>$B$9),"",IF(AND($N19=1,S$9<=$B$9),LOOKUP(S$9,$A$12:$A$111,$B$12:$B$111),IF(AND($I19=1,T$9=$Q18),"",IF($I19=1,T18,IF(AND($I19=-1,R$9=$Q18),$J19,IF($I19=-1,S18,"")))))))) -> 4 | T19: =IF($E18="","",IF($G19="",T18,IF(AND($N19=1,T$9>$B$9),"",IF(AND($N19=1,T$9<=$B$9),LOOKUP(T$9,$A$12:$A$111,$B$12:$B$111),IF(AND($I19=1,U$9=$Q18),"",IF($I19=1,U18,IF(AND($I19=-1,S$9=$Q18),$J19,IF($I19=-1,T18,"")))))))) -> 5 | U19: =IF($E18="","",IF($G19="",U18,IF(AND($N19=1,U$9>$B$9),"",IF(AND($N19=1,U$9<=$B$9),LOOKUP(U$9,$A$12:$A$111,$B$12:$B$111),IF(AND($I19=1,V$9=$Q18),"",IF($I19=1,V18,IF(AND($I19=-1,T$9=$Q18),$J19,IF($I19=-1,U18,"")))))))) -> 6 | V19: =IF($E18="","",IF($G19="",V18,IF(AND($N19=1,V$9>$B$9),"",IF(AND($N19=1,V$9<=$B$9),LOOKUP(V$9,$A$12:$A$111,$B$12:$B$111),IF(AND($I19=1,W$9=$Q18),"",IF($I19=1,W18,IF(AND($I19=-1,U$9=$Q18),$J19,IF($I19=-1,V18,"")))))))) -> 8 | W19: =IF($E18="","",IF($G19="",W18,IF(AND($N19=1,W$9>$B$9),"",IF(AND($N19=1,W$9<=$B$9),LOOKUP(W$9,$A$12:$A$111,$B$12:$B$111),IF(AND($I19=1,X$9=$Q18),"",IF($I19=1,X18,IF(AND($I19=-1,V$9=$Q18),$J19,IF($I19=-1,W18,"")))))))) -> 10 | X19: =IF($E18="","",IF($G19="",X18,IF(AND($N19=1,X$9>$B$9),"",IF(AND($N19=1,X$9<=$B$9),LOOKUP(X$9,$A$12:$A$111,$B$12:$B$111),IF(AND($I19=1,Y$9=$Q18),"",IF($I19=1,Y18,IF(AND($I19=-1,W$9=$Q18),$J19,IF($I19=-1,X18,"")))))))) -> 13 | Y19: =IF($E18="","",IF($G19="",Y18,IF(AND($N19=1,Y$9>$B$9),"",IF(AND($N19=1,Y$9<=$B$9),LOOKUP(Y$9,$A$12:$A$111,$B$12:$B$111),IF(AND($I19=1,Z$9=$Q18),"",IF($I19=1,Z18,IF(AND($I19=-1,X$9=$Q18),$J19,IF($I19=-1,Y18,"")))))))) | Z19: =IF($E18="","",IF($G19="",Z18,IF(AND($N19=1,Z$9>$B$9),"",IF(AND($N19=1,Z$9<=$B$9),LOOKUP(Z$9,$A$12:$A$111,$B$12:$B$111),IF(AND($I19=1,AA$9=$Q18),"",IF($I19=1,AA18,IF(AND($I19=-1,Y$9=$Q18),$J19,IF($I19=-1,Z18,"")))))))) | ... BO19: =IF($E18="","",IF($G19="",BO18,IF(AND($N19=1,BO$9>$B$9),"",IF(AND($N19=1,BO$9<=$B$9),LOOKUP(BO$9,$A$12:$A$111,$B$12:$B$111),IF(AND($I19=1,BP$9=$Q18),"",IF($I19=1,BP18,IF(AND($I19=-1,BN$9=$Q18),$J19,IF($I19=-1,BO18,"")))))))) -> 0
A20: 9 | D20: 10 | E20: =RANDBETWEEN(0,36) -> 29 | G20: =IF(E19="","",IF($B$3=Refs!$B$11,Labouchere!F20,IF(AND(B$3="Last",H19="Zero"),G19,IF(B$3="Last",H19,IF(B$3="2nd last","",IF(AND(B$3="Opposite",H19="Zero"),G19,IF(AND(B$3="Opposite",H19="Red"),"Black",IF(AND(B$3="Opposite",H19="Black"),"Red",IF(AND(B$3="Opposite",H19="Odd"),"Even",IF(AND(B$3="Opposite",H19="Even"),"Odd",IF(AND(B$3="Opposite",H19="High"),"Low",IF(AND(B$3="Opposite",H19="Low"),"High",IF(COUNTIF(Refs!$E$5:$I$6,B$3)=1,Labouchere!B$3,""))))))))))))) -> High | H20: =IF(E20="","",IF(B$2="Red/Black",LOOKUP(E20,Refs!D:D,Refs!F:F),IF(B$2="High/Low",LOOKUP(E20,Refs!D:D,Refs!H:H),IF(B$2="Odd/Even",LOOKUP(E20,Refs!D:D,Refs!J:J),"")))) -> High | I20: =IF(E20="","",IF(G20="","",IF(H20=G20,1,-1))) -> 1 | J20: =IF(E19="","",IF(G20="","",IF(AND(Q19>1,O19+P19>=$B$4),$B$4,IF(Q19=1,O19,O19+P19)))) -> 16 | K20: =IF(E20="","",IF(G20="","",IF(I20=1,J20,-J20))) -> 16 | L20: =IF(E20="","",IF(G20="",L19,K20+L19)) -> -23 | M20: =IF(E20="","",IF(L20>M19,L20,M19)) -> 0 | N20: =IF(E19="","",IF(OR(AND($A$6="Yes",$M20>$M19),AND($A$8="Yes",$O19+$P19>=$B$4),AND($Q19<=2,$I20=1)),1,0)) -> 0 | O20: =IF(E20="","",R20) -> 4 | P20: =IF(E20="","",MAX(R20:DM20)) -> 10 | Q20: =IF(E20="","",COUNTIF(R20:DM20,">0")) -> 5 | R20: =IF(E19="","",IF($G20="",R19,IF($N20=1,LOOKUP(R$9,$A$12:$A$111,$B$12:$B$111),IF(AND($I20=1,S$9=$Q19),"",IF($I20=1,S19,IF($I20=-1,R19)))))) -> 4 | S20: =IF($E19="","",IF($G20="",S19,IF(AND($N20=1,S$9>$B$9),"",IF(AND($N20=1,S$9<=$B$9),LOOKUP(S$9,$A$12:$A$111,$B$12:$B$111),IF(AND($I20=1,T$9=$Q19),"",IF($I20=1,T19,IF(AND($I20=-1,R$9=$Q19),$J20,IF($I20=-1,S19,"")))))))) -> 5 | T20: =IF($E19="","",IF($G20="",T19,IF(AND($N20=1,T$9>$B$9),"",IF(AND($N20=1,T$9<=$B$9),LOOKUP(T$9,$A$12:$A$111,$B$12:$B$111),IF(AND($I20=1,U$9=$Q19),"",IF($I20=1,U19,IF(AND($I20=-1,S$9=$Q19),$J20,IF($I20=-1,T19,"")))))))) -> 6 | U20: =IF($E19="","",IF($G20="",U19,IF(AND($N20=1,U$9>$B$9),"",IF(AND($N20=1,U$9<=$B$9),LOOKUP(U$9,$A$12:$A$111,$B$12:$B$111),IF(AND($I20=1,V$9=$Q19),"",IF($I20=1,V19,IF(AND($I20=-1,T$9=$Q19),$J20,IF($I20=-1,U19,"")))))))) -> 8 | V20: =IF($E19="","",IF($G20="",V19,IF(AND($N20=1,V$9>$B$9),"",IF(AND($N20=1,V$9<=$B$9),LOOKUP(V$9,$A$12:$A$111,$B$12:$B$111),IF(AND($I20=1,W$9=$Q19),"",IF($I20=1,W19,IF(AND($I20=-1,U$9=$Q19),$J20,IF($I20=-1,V19,"")))))))) -> 10 | W20: =IF($E19="","",IF($G20="",W19,IF(AND($N20=1,W$9>$B$9),"",IF(AND($N20=1,W$9<=$B$9),LOOKUP(W$9,$A$12:$A$111,$B$12:$B$111),IF(AND($I20=1,X$9=$Q19),"",IF($I20=1,X19,IF(AND($I20=-1,V$9=$Q19),$J20,IF($I20=-1,W19,"")))))))) | X20: =IF($E19="","",IF($G20="",X19,IF(AND($N20=1,X$9>$B$9),"",IF(AND($N20=1,X$9<=$B$9),LOOKUP(X$9,$A$12:$A$111,$B$12:$B$111),IF(AND($I20=1,Y$9=$Q19),"",IF($I20=1,Y19,IF(AND($I20=-1,W$9=$Q19),$J20,IF($I20=-1,X19,"")))))))) | Y20: =IF($E19="","",IF($G20="",Y19,IF(AND($N20=1,Y$9>$B$9),"",IF(AND($N20=1,Y$9<=$B$9),LOOKUP(Y$9,$A$12:$A$111,$B$12:$B$111),IF(AND($I20=1,Z$9=$Q19),"",IF($I20=1,Z19,IF(AND($I20=-1,X$9=$Q19),$J20,IF($I20=-1,Y19,"")))))))) | Z20: =IF($E19="","",IF($G20="",Z19,IF(AND($N20=1,Z$9>$B$9),"",IF(AND($N20=1,Z$9<=$B$9),LOOKUP(Z$9,$A$12:$A$111,$B$12:$B$111),IF(AND($I20=1,AA$9=$Q19),"",IF($I20=1,AA19,IF(AND($I20=-1,Y$9=$Q19),$J20,IF($I20=-1,Z19,"")))))))) | ... BO20: =IF($E19="","",IF($G20="",BO19,IF(AND($N20=1,BO$9>$B$9),"",IF(AND($N20=1,BO$9<=$B$9),LOOKUP(BO$9,$A$12:$A$111,$B$12:$B$111),IF(AND($I20=1,BP$9=$Q19),"",IF($I20=1,BP19,IF(AND($I20=-1,BN$9=$Q19),$J20,IF($I20=-1,BO19,"")))))))) -> 0
A21: 10 | D21: 11 | E21: =RANDBETWEEN(0,36) -> 30 | G21: =IF(E20="","",IF($B$3=Refs!$B$11,Labouchere!F21,IF(AND(B$3="Last",H20="Zero"),G20,IF(B$3="Last",H20,IF(B$3="2nd last","",IF(AND(B$3="Opposite",H20="Zero"),G20,IF(AND(B$3="Opposite",H20="Red"),"Black",IF(AND(B$3="Opposite",H20="Black"),"Red",IF(AND(B$3="Opposite",H20="Odd"),"Even",IF(AND(B$3="Opposite",H20="Even"),"Odd",IF(AND(B$3="Opposite",H20="High"),"Low",IF(AND(B$3="Opposite",H20="Low"),"High",IF(COUNTIF(Refs!$E$5:$I$6,B$3)=1,Labouchere!B$3,""))))))))))))) -> High | H21: =IF(E21="","",IF(B$2="Red/Black",LOOKUP(E21,Refs!D:D,Refs!F:F),IF(B$2="High/Low",LOOKUP(E21,Refs!D:D,Refs!H:H),IF(B$2="Odd/Even",LOOKUP(E21,Refs!D:D,Refs!J:J),"")))) -> High | I21: =IF(E21="","",IF(G21="","",IF(H21=G21,1,-1))) -> 1 | J21: =IF(E20="","",IF(G21="","",IF(AND(Q20>1,O20+P20>=$B$4),$B$4,IF(Q20=1,O20,O20+P20)))) -> 14 | K21: =IF(E21="","",IF(G21="","",IF(I21=1,J21,-J21))) -> 14 | L21: =IF(E21="","",IF(G21="",L20,K21+L20)) -> -9 | M21: =IF(E21="","",IF(L21>M20,L21,M20)) -> 0 | N21: =IF(E20="","",IF(OR(AND($A$6="Yes",$M21>$M20),AND($A$8="Yes",$O20+$P20>=$B$4),AND($Q20<=2,$I21=1)),1,0)) -> 0 | O21: =IF(E21="","",R21) -> 5 | P21: =IF(E21="","",MAX(R21:DM21)) -> 8 | Q21: =IF(E21="","",COUNTIF(R21:DM21,">0")) -> 3 | R21: =IF(E20="","",IF($G21="",R20,IF($N21=1,LOOKUP(R$9,$A$12:$A$111,$B$12:$B$111),IF(AND($I21=1,S$9=$Q20),"",IF($I21=1,S20,IF($I21=-1,R20)))))) -> 5 | S21: =IF($E20="","",IF($G21="",S20,IF(AND($N21=1,S$9>$B$9),"",IF(AND($N21=1,S$9<=$B$9),LOOKUP(S$9,$A$12:$A$111,$B$12:$B$111),IF(AND($I21=1,T$9=$Q20),"",IF($I21=1,T20,IF(AND($I21=-1,R$9=$Q20),$J21,IF($I21=-1,S20,"")))))))) -> 6 | T21: =IF($E20="","",IF($G21="",T20,IF(AND($N21=1,T$9>$B$9),"",IF(AND($N21=1,T$9<=$B$9),LOOKUP(T$9,$A$12:$A$111,$B$12:$B$111),IF(AND($I21=1,U$9=$Q20),"",IF($I21=1,U20,IF(AND($I21=-1,S$9=$Q20),$J21,IF($I21=-1,T20,"")))))))) -> 8 | U21: =IF($E20="","",IF($G21="",U20,IF(AND($N21=1,U$9>$B$9),"",IF(AND($N21=1,U$9<=$B$9),LOOKUP(U$9,$A$12:$A$111,$B$12:$B$111),IF(AND($I21=1,V$9=$Q20),"",IF($I21=1,V20,IF(AND($I21=-1,T$9=$Q20),$J21,IF($I21=-1,U20,"")))))))) | V21: =IF($E20="","",IF($G21="",V20,IF(AND($N21=1,V$9>$B$9),"",IF(AND($N21=1,V$9<=$B$9),LOOKUP(V$9,$A$12:$A$111,$B$12:$B$111),IF(AND($I21=1,W$9=$Q20),"",IF($I21=1,W20,IF(AND($I21=-1,U$9=$Q20),$J21,IF($I21=-1,V20,"")))))))) | W21: =IF($E20="","",IF($G21="",W20,IF(AND($N21=1,W$9>$B$9),"",IF(AND($N21=1,W$9<=$B$9),LOOKUP(W$9,$A$12:$A$111,$B$12:$B$111),IF(AND($I21=1,X$9=$Q20),"",IF($I21=1,X20,IF(AND($I21=-1,V$9=$Q20),$J21,IF($I21=-1,W20,"")))))))) | X21: =IF($E20="","",IF($G21="",X20,IF(AND($N21=1,X$9>$B$9),"",IF(AND($N21=1,X$9<=$B$9),LOOKUP(X$9,$A$12:$A$111,$B$12:$B$111),IF(AND($I21=1,Y$9=$Q20),"",IF($I21=1,Y20,IF(AND($I21=-1,W$9=$Q20),$J21,IF($I21=-1,X20,"")))))))) | Y21: =IF($E20="","",IF($G21="",Y20,IF(AND($N21=1,Y$9>$B$9),"",IF(AND($N21=1,Y$9<=$B$9),LOOKUP(Y$9,$A$12:$A$111,$B$12:$B$111),IF(AND($I21=1,Z$9=$Q20),"",IF($I21=1,Z20,IF(AND($I21=-1,X$9=$Q20),$J21,IF($I21=-1,Y20,"")))))))) | Z21: =IF($E20="","",IF($G21="",Z20,IF(AND($N21=1,Z$9>$B$9),"",IF(AND($N21=1,Z$9<=$B$9),LOOKUP(Z$9,$A$12:$A$111,$B$12:$B$111),IF(AND($I21=1,AA$9=$Q20),"",IF($I21=1,AA20,IF(AND($I21=-1,Y$9=$Q20),$J21,IF($I21=-1,Z20,"")))))))) | ... BO21: =IF($E20="","",IF($G21="",BO20,IF(AND($N21=1,BO$9>$B$9),"",IF(AND($N21=1,BO$9<=$B$9),LOOKUP(BO$9,$A$12:$A$111,$B$12:$B$111),IF(AND($I21=1,BP$9=$Q20),"",IF($I21=1,BP20,IF(AND($I21=-1,BN$9=$Q20),$J21,IF($I21=-1,BO20,"")))))))) -> 0
D22: 12 | E22: =RANDBETWEEN(0,36) -> 7 | G22: =IF(E21="","",IF($B$3=Refs!$B$11,Labouchere!F22,IF(AND(B$3="Last",H21="Zero"),G21,IF(B$3="Last",H21,IF(B$3="2nd last","",IF(AND(B$3="Opposite",H21="Zero"),G21,IF(AND(B$3="Opposite",H21="Red"),"Black",IF(AND(B$3="Opposite",H21="Black"),"Red",IF(AND(B$3="Opposite",H21="Odd"),"Even",IF(AND(B$3="Opposite",H21="Even"),"Odd",IF(AND(B$3="Opposite",H21="High"),"Low",IF(AND(B$3="Opposite",H21="Low"),"High",IF(COUNTIF(Refs!$E$5:$I$6,B$3)=1,Labouchere!B$3,""))))))))))))) -> High | H22: =IF(E22="","",IF(B$2="Red/Black",LOOKUP(E22,Refs!D:D,Refs!F:F),IF(B$2="High/Low",LOOKUP(E22,Refs!D:D,Refs!H:H),IF(B$2="Odd/Even",LOOKUP(E22,Refs!D:D,Refs!J:J),"")))) -> Low | I22: =IF(E22="","",IF(G22="","",IF(H22=G22,1,-1))) -> -1 | J22: =IF(E21="","",IF(G22="","",IF(AND(Q21>1,O21+P21>=$B$4),$B$4,IF(Q21=1,O21,O21+P21)))) -> 13 | K22: =IF(E22="","",IF(G22="","",IF(I22=1,J22,-J22))) -> -13 | L22: =IF(E22="","",IF(G22="",L21,K22+L21)) -> -22 | M22: =IF(E22="","",IF(L22>M21,L22,M21)) -> 0 | N22: =IF(E21="","",IF(OR(AND($A$6="Yes",$M22>$M21),AND($A$8="Yes",$O21+$P21>=$B$4),AND($Q21<=2,$I22=1)),1,0)) -> 0 | O22: =IF(E22="","",R22) -> 5 | P22: =IF(E22="","",MAX(R22:DM22)) -> 13 | Q22: =IF(E22="","",COUNTIF(R22:DM22,">0")) -> 4 | R22: =IF(E21="","",IF($G22="",R21,IF($N22=1,LOOKUP(R$9,$A$12:$A$111,$B$12:$B$111),IF(AND($I22=1,S$9=$Q21),"",IF($I22=1,S21,IF($I22=-1,R21)))))) -> 5 | S22: =IF($E21="","",IF($G22="",S21,IF(AND($N22=1,S$9>$B$9),"",IF(AND($N22=1,S$9<=$B$9),LOOKUP(S$9,$A$12:$A$111,$B$12:$B$111),IF(AND($I22=1,T$9=$Q21),"",IF($I22=1,T21,IF(AND($I22=-1,R$9=$Q21),$J22,IF($I22=-1,S21,"")))))))) -> 6 | T22: =IF($E21="","",IF($G22="",T21,IF(AND($N22=1,T$9>$B$9),"",IF(AND($N22=1,T$9<=$B$9),LOOKUP(T$9,$A$12:$A$111,$B$12:$B$111),IF(AND($I22=1,U$9=$Q21),"",IF($I22=1,U21,IF(AND($I22=-1,S$9=$Q21),$J22,IF($I22=-1,T21,"")))))))) -> 8 | U22: =IF($E21="","",IF($G22="",U21,IF(AND($N22=1,U$9>$B$9),"",IF(AND($N22=1,U$9<=$B$9),LOOKUP(U$9,$A$12:$A$111,$B$12:$B$111),IF(AND($I22=1,V$9=$Q21),"",IF($I22=1,V21,IF(AND($I22=-1,T$9=$Q21),$J22,IF($I22=-1,U21,"")))))))) -> 13 | V22: =IF($E21="","",IF($G22="",V21,IF(AND($N22=1,V$9>$B$9),"",IF(AND($N22=1,V$9<=$B$9),LOOKUP(V$9,$A$12:$A$111,$B$12:$B$111),IF(AND($I22=1,W$9=$Q21),"",IF($I22=1,W21,IF(AND($I22=-1,U$9=$Q21),$J22,IF($I22=-1,V21,"")))))))) | W22: =IF($E21="","",IF($G22="",W21,IF(AND($N22=1,W$9>$B$9),"",IF(AND($N22=1,W$9<=$B$9),LOOKUP(W$9,$A$12:$A$111,$B$12:$B$111),IF(AND($I22=1,X$9=$Q21),"",IF($I22=1,X21,IF(AND($I22=-1,V$9=$Q21),$J22,IF($I22=-1,W21,"")))))))) | X22: =IF($E21="","",IF($G22="",X21,IF(AND($N22=1,X$9>$B$9),"",IF(AND($N22=1,X$9<=$B$9),LOOKUP(X$9,$A$12:$A$111,$B$12:$B$111),IF(AND($I22=1,Y$9=$Q21),"",IF($I22=1,Y21,IF(AND($I22=-1,W$9=$Q21),$J22,IF($I22=-1,X21,"")))))))) | Y22: =IF($E21="","",IF($G22="",Y21,IF(AND($N22=1,Y$9>$B$9),"",IF(AND($N22=1,Y$9<=$B$9),LOOKUP(Y$9,$A$12:$A$111,$B$12:$B$111),IF(AND($I22=1,Z$9=$Q21),"",IF($I22=1,Z21,IF(AND($I22=-1,X$9=$Q21),$J22,IF($I22=-1,Y21,"")))))))) | Z22: =IF($E21="","",IF($G22="",Z21,IF(AND($N22=1,Z$9>$B$9),"",IF(AND($N22=1,Z$9<=$B$9),LOOKUP(Z$9,$A$12:$A$111,$B$12:$B$111),IF(AND($I22=1,AA$9=$Q21),"",IF($I22=1,AA21,IF(AND($I22=-1,Y$9=$Q21),$J22,IF($I22=-1,Z21,"")))))))) | ... BO22: =IF($E21="","",IF($G22="",BO21,IF(AND($N22=1,BO$9>$B$9),"",IF(AND($N22=1,BO$9<=$B$9),LOOKUP(BO$9,$A$12:$A$111,$B$12:$B$111),IF(AND($I22=1,BP$9=$Q21),"",IF($I22=1,BP21,IF(AND($I22=-1,BN$9=$Q21),$J22,IF($I22=-1,BO21,"")))))))) -> 0
D23: 13 | E23: =RANDBETWEEN(0,36) -> 35 | G23: =IF(E22="","",IF($B$3=Refs!$B$11,Labouchere!F23,IF(AND(B$3="Last",H22="Zero"),G22,IF(B$3="Last",H22,IF(B$3="2nd last","",IF(AND(B$3="Opposite",H22="Zero"),G22,IF(AND(B$3="Opposite",H22="Red"),"Black",IF(AND(B$3="Opposite",H22="Black"),"Red",IF(AND(B$3="Opposite",H22="Odd"),"Even",IF(AND(B$3="Opposite",H22="Even"),"Odd",IF(AND(B$3="Opposite",H22="High"),"Low",IF(AND(B$3="Opposite",H22="Low"),"High",IF(COUNTIF(Refs!$E$5:$I$6,B$3)=1,Labouchere!B$3,""))))))))))))) -> High | H23: =IF(E23="","",IF(B$2="Red/Black",LOOKUP(E23,Refs!D:D,Refs!F:F),IF(B$2="High/Low",LOOKUP(E23,Refs!D:D,Refs!H:H),IF(B$2="Odd/Even",LOOKUP(E23,Refs!D:D,Refs!J:J),"")))) -> High | I23: =IF(E23="","",IF(G23="","",IF(H23=G23,1,-1))) -> 1 | J23: =IF(E22="","",IF(G23="","",IF(AND(Q22>1,O22+P22>=$B$4),$B$4,IF(Q22=1,O22,O22+P22)))) -> 18 | K23: =IF(E23="","",IF(G23="","",IF(I23=1,J23,-J23))) -> 18 | L23: =IF(E23="","",IF(G23="",L22,K23+L22)) -> -4 | M23: =IF(E23="","",IF(L23>M22,L23,M22)) -> 0 | N23: =IF(E22="","",IF(OR(AND($A$6="Yes",$M23>$M22),AND($A$8="Yes",$O22+$P22>=$B$4),AND($Q22<=2,$I23=1)),1,0)) -> 0 | O23: =IF(E23="","",R23) -> 6 | P23: =IF(E23="","",MAX(R23:DM23)) -> 8 | Q23: =IF(E23="","",COUNTIF(R23:DM23,">0")) -> 2 | R23: =IF(E22="","",IF($G23="",R22,IF($N23=1,LOOKUP(R$9,$A$12:$A$111,$B$12:$B$111),IF(AND($I23=1,S$9=$Q22),"",IF($I23=1,S22,IF($I23=-1,R22)))))) -> 6 | S23: =IF($E22="","",IF($G23="",S22,IF(AND($N23=1,S$9>$B$9),"",IF(AND($N23=1,S$9<=$B$9),LOOKUP(S$9,$A$12:$A$111,$B$12:$B$111),IF(AND($I23=1,T$9=$Q22),"",IF($I23=1,T22,IF(AND($I23=-1,R$9=$Q22),$J23,IF($I23=-1,S22,"")))))))) -> 8 | T23: =IF($E22="","",IF($G23="",T22,IF(AND($N23=1,T$9>$B$9),"",IF(AND($N23=1,T$9<=$B$9),LOOKUP(T$9,$A$12:$A$111,$B$12:$B$111),IF(AND($I23=1,U$9=$Q22),"",IF($I23=1,U22,IF(AND($I23=-1,S$9=$Q22),$J23,IF($I23=-1,T22,"")))))))) | U23: =IF($E22="","",IF($G23="",U22,IF(AND($N23=1,U$9>$B$9),"",IF(AND($N23=1,U$9<=$B$9),LOOKUP(U$9,$A$12:$A$111,$B$12:$B$111),IF(AND($I23=1,V$9=$Q22),"",IF($I23=1,V22,IF(AND($I23=-1,T$9=$Q22),$J23,IF($I23=-1,U22,"")))))))) | V23: =IF($E22="","",IF($G23="",V22,IF(AND($N23=1,V$9>$B$9),"",IF(AND($N23=1,V$9<=$B$9),LOOKUP(V$9,$A$12:$A$111,$B$12:$B$111),IF(AND($I23=1,W$9=$Q22),"",IF($I23=1,W22,IF(AND($I23=-1,U$9=$Q22),$J23,IF($I23=-1,V22,"")))))))) | W23: =IF($E22="","",IF($G23="",W22,IF(AND($N23=1,W$9>$B$9),"",IF(AND($N23=1,W$9<=$B$9),LOOKUP(W$9,$A$12:$A$111,$B$12:$B$111),IF(AND($I23=1,X$9=$Q22),"",IF($I23=1,X22,IF(AND($I23=-1,V$9=$Q22),$J23,IF($I23=-1,W22,"")))))))) | X23: =IF($E22="","",IF($G23="",X22,IF(AND($N23=1,X$9>$B$9),"",IF(AND($N23=1,X$9<=$B$9),LOOKUP(X$9,$A$12:$A$111,$B$12:$B$111),IF(AND($I23=1,Y$9=$Q22),"",IF($I23=1,Y22,IF(AND($I23=-1,W$9=$Q22),$J23,IF($I23=-1,X22,"")))))))) | Y23: =IF($E22="","",IF($G23="",Y22,IF(AND($N23=1,Y$9>$B$9),"",IF(AND($N23=1,Y$9<=$B$9),LOOKUP(Y$9,$A$12:$A$111,$B$12:$B$111),IF(AND($I23=1,Z$9=$Q22),"",IF($I23=1,Z22,IF(AND($I23=-1,X$9=$Q22),$J23,IF($I23=-1,Y22,"")))))))) | Z23: =IF($E22="","",IF($G23="",Z22,IF(AND($N23=1,Z$9>$B$9),"",IF(AND($N23=1,Z$9<=$B$9),LOOKUP(Z$9,$A$12:$A$111,$B$12:$B$111),IF(AND($I23=1,AA$9=$Q22),"",IF($I23=1,AA22,IF(AND($I23=-1,Y$9=$Q22),$J23,IF($I23=-1,Z22,"")))))))) | ... BO23: =IF($E22="","",IF($G23="",BO22,IF(AND($N23=1,BO$9>$B$9),"",IF(AND($N23=1,BO$9<=$B$9),LOOKUP(BO$9,$A$12:$A$111,$B$12:$B$111),IF(AND($I23=1,BP$9=$Q22),"",IF($I23=1,BP22,IF(AND($I23=-1,BN$9=$Q22),$J23,IF($I23=-1,BO22,"")))))))) -> 0
D24: 14 | E24: =RANDBETWEEN(0,36) -> 5 | G24: =IF(E23="","",IF($B$3=Refs!$B$11,Labouchere!F24,IF(AND(B$3="Last",H23="Zero"),G23,IF(B$3="Last",H23,IF(B$3="2nd last","",IF(AND(B$3="Opposite",H23="Zero"),G23,IF(AND(B$3="Opposite",H23="Red"),"Black",IF(AND(B$3="Opposite",H23="Black"),"Red",IF(AND(B$3="Opposite",H23="Odd"),"Even",IF(AND(B$3="Opposite",H23="Even"),"Odd",IF(AND(B$3="Opposite",H23="High"),"Low",IF(AND(B$3="Opposite",H23="Low"),"High",IF(COUNTIF(Refs!$E$5:$I$6,B$3)=1,Labouchere!B$3,""))))))))))))) -> High | H24: =IF(E24="","",IF(B$2="Red/Black",LOOKUP(E24,Refs!D:D,Refs!F:F),IF(B$2="High/Low",LOOKUP(E24,Refs!D:D,Refs!H:H),IF(B$2="Odd/Even",LOOKUP(E24,Refs!D:D,Refs!J:J),"")))) -> Low | I24: =IF(E24="","",IF(G24="","",IF(H24=G24,1,-1))) -> -1 | J24: =IF(E23="","",IF(G24="","",IF(AND(Q23>1,O23+P23>=$B$4),$B$4,IF(Q23=1,O23,O23+P23)))) -> 14 | K24: =IF(E24="","",IF(G24="","",IF(I24=1,J24,-J24))) -> -14 | L24: =IF(E24="","",IF(G24="",L23,K24+L23)) -> -18 | M24: =IF(E24="","",IF(L24>M23,L24,M23)) -> 0 | N24: =IF(E23="","",IF(OR(AND($A$6="Yes",$M24>$M23),AND($A$8="Yes",$O23+$P23>=$B$4),AND($Q23<=2,$I24=1)),1,0)) -> 0 | O24: =IF(E24="","",R24) -> 6 | P24: =IF(E24="","",MAX(R24:DM24)) -> 14 | Q24: =IF(E24="","",COUNTIF(R24:DM24,">0")) -> 3 | R24: =IF(E23="","",IF($G24="",R23,IF($N24=1,LOOKUP(R$9,$A$12:$A$111,$B$12:$B$111),IF(AND($I24=1,S$9=$Q23),"",IF($I24=1,S23,IF($I24=-1,R23)))))) -> 6 | S24: =IF($E23="","",IF($G24="",S23,IF(AND($N24=1,S$9>$B$9),"",IF(AND($N24=1,S$9<=$B$9),LOOKUP(S$9,$A$12:$A$111,$B$12:$B$111),IF(AND($I24=1,T$9=$Q23),"",IF($I24=1,T23,IF(AND($I24=-1,R$9=$Q23),$J24,IF($I24=-1,S23,"")))))))) -> 8 | T24: =IF($E23="","",IF($G24="",T23,IF(AND($N24=1,T$9>$B$9),"",IF(AND($N24=1,T$9<=$B$9),LOOKUP(T$9,$A$12:$A$111,$B$12:$B$111),IF(AND($I24=1,U$9=$Q23),"",IF($I24=1,U23,IF(AND($I24=-1,S$9=$Q23),$J24,IF($I24=-1,T23,"")))))))) -> 14 | U24: =IF($E23="","",IF($G24="",U23,IF(AND($N24=1,U$9>$B$9),"",IF(AND($N24=1,U$9<=$B$9),LOOKUP(U$9,$A$12:$A$111,$B$12:$B$111),IF(AND($I24=1,V$9=$Q23),"",IF($I24=1,V23,IF(AND($I24=-1,T$9=$Q23),$J24,IF($I24=-1,U23,"")))))))) | V24: =IF($E23="","",IF($G24="",V23,IF(AND($N24=1,V$9>$B$9),"",IF(AND($N24=1,V$9<=$B$9),LOOKUP(V$9,$A$12:$A$111,$B$12:$B$111),IF(AND($I24=1,W$9=$Q23),"",IF($I24=1,W23,IF(AND($I24=-1,U$9=$Q23),$J24,IF($I24=-1,V23,"")))))))) | W24: =IF($E23="","",IF($G24="",W23,IF(AND($N24=1,W$9>$B$9),"",IF(AND($N24=1,W$9<=$B$9),LOOKUP(W$9,$A$12:$A$111,$B$12:$B$111),IF(AND($I24=1,X$9=$Q23),"",IF($I24=1,X23,IF(AND($I24=-1,V$9=$Q23),$J24,IF($I24=-1,W23,"")))))))) | X24: =IF($E23="","",IF($G24="",X23,IF(AND($N24=1,X$9>$B$9),"",IF(AND($N24=1,X$9<=$B$9),LOOKUP(X$9,$A$12:$A$111,$B$12:$B$111),IF(AND($I24=1,Y$9=$Q23),"",IF($I24=1,Y23,IF(AND($I24=-1,W$9=$Q23),$J24,IF($I24=-1,X23,"")))))))) | Y24: =IF($E23="","",IF($G24="",Y23,IF(AND($N24=1,Y$9>$B$9),"",IF(AND($N24=1,Y$9<=$B$9),LOOKUP(Y$9,$A$12:$A$111,$B$12:$B$111),IF(AND($I24=1,Z$9=$Q23),"",IF($I24=1,Z23,IF(AND($I24=-1,X$9=$Q23),$J24,IF($I24=-1,Y23,"")))))))) | Z24: =IF($E23="","",IF($G24="",Z23,IF(AND($N24=1,Z$9>$B$9),"",IF(AND($N24=1,Z$9<=$B$9),LOOKUP(Z$9,$A$12:$A$111,$B$12:$B$111),IF(AND($I24=1,AA$9=$Q23),"",IF($I24=1,AA23,IF(AND($I24=-1,Y$9=$Q23),$J24,IF($I24=-1,Z23,"")))))))) | ... BO24: =IF($E23="","",IF($G24="",BO23,IF(AND($N24=1,BO$9>$B$9),"",IF(AND($N24=1,BO$9<=$B$9),LOOKUP(BO$9,$A$12:$A$111,$B$12:$B$111),IF(AND($I24=1,BP$9=$Q23),"",IF($I24=1,BP23,IF(AND($I24=-1,BN$9=$Q23),$J24,IF($I24=-1,BO23,"")))))))) -> 0
D25: 15 | E25: =RANDBETWEEN(0,36) -> 25 | G25: =IF(E24="","",IF($B$3=Refs!$B$11,Labouchere!F25,IF(AND(B$3="Last",H24="Zero"),G24,IF(B$3="Last",H24,IF(B$3="2nd last","",IF(AND(B$3="Opposite",H24="Zero"),G24,IF(AND(B$3="Opposite",H24="Red"),"Black",IF(AND(B$3="Opposite",H24="Black"),"Red",IF(AND(B$3="Opposite",H24="Odd"),"Even",IF(AND(B$3="Opposite",H24="Even"),"Odd",IF(AND(B$3="Opposite",H24="High"),"Low",IF(AND(B$3="Opposite",H24="Low"),"High",IF(COUNTIF(Refs!$E$5:$I$6,B$3)=1,Labouchere!B$3,""))))))))))))) -> High | H25: =IF(E25="","",IF(B$2="Red/Black",LOOKUP(E25,Refs!D:D,Refs!F:F),IF(B$2="High/Low",LOOKUP(E25,Refs!D:D,Refs!H:H),IF(B$2="Odd/Even",LOOKUP(E25,Refs!D:D,Refs!J:J),"")))) -> High | I25: =IF(E25="","",IF(G25="","",IF(H25=G25,1,-1))) -> 1 | J25: =IF(E24="","",IF(G25="","",IF(AND(Q24>1,O24+P24>=$B$4),$B$4,IF(Q24=1,O24,O24+P24)))) -> 20 | K25: =IF(E25="","",IF(G25="","",IF(I25=1,J25,-J25))) -> 20 | L25: =IF(E25="","",IF(G25="",L24,K25+L24)) -> 2 | M25: =IF(E25="","",IF(L25>M24,L25,M24)) -> 2 | N25: =IF(E24="","",IF(OR(AND($A$6="Yes",$M25>$M24),AND($A$8="Yes",$O24+$P24>=$B$4),AND($Q24<=2,$I25=1)),1,0)) -> 0 | O25: =IF(E25="","",R25) -> 8 | P25: =IF(E25="","",MAX(R25:DM25)) -> 8 | Q25: =IF(E25="","",COUNTIF(R25:DM25,">0")) -> 1 | R25: =IF(E24="","",IF($G25="",R24,IF($N25=1,LOOKUP(R$9,$A$12:$A$111,$B$12:$B$111),IF(AND($I25=1,S$9=$Q24),"",IF($I25=1,S24,IF($I25=-1,R24)))))) -> 8 | S25: =IF($E24="","",IF($G25="",S24,IF(AND($N25=1,S$9>$B$9),"",IF(AND($N25=1,S$9<=$B$9),LOOKUP(S$9,$A$12:$A$111,$B$12:$B$111),IF(AND($I25=1,T$9=$Q24),"",IF($I25=1,T24,IF(AND($I25=-1,R$9=$Q24),$J25,IF($I25=-1,S24,"")))))))) | T25: =IF($E24="","",IF($G25="",T24,IF(AND($N25=1,T$9>$B$9),"",IF(AND($N25=1,T$9<=$B$9),LOOKUP(T$9,$A$12:$A$111,$B$12:$B$111),IF(AND($I25=1,U$9=$Q24),"",IF($I25=1,U24,IF(AND($I25=-1,S$9=$Q24),$J25,IF($I25=-1,T24,"")))))))) | U25: =IF($E24="","",IF($G25="",U24,IF(AND($N25=1,U$9>$B$9),"",IF(AND($N25=1,U$9<=$B$9),LOOKUP(U$9,$A$12:$A$111,$B$12:$B$111),IF(AND($I25=1,V$9=$Q24),"",IF($I25=1,V24,IF(AND($I25=-1,T$9=$Q24),$J25,IF($I25=-1,U24,"")))))))) | V25: =IF($E24="","",IF($G25="",V24,IF(AND($N25=1,V$9>$B$9),"",IF(AND($N25=1,V$9<=$B$9),LOOKUP(V$9,$A$12:$A$111,$B$12:$B$111),IF(AND($I25=1,W$9=$Q24),"",IF($I25=1,W24,IF(AND($I25=-1,U$9=$Q24),$J25,IF($I25=-1,V24,"")))))))) | W25: =IF($E24="","",IF($G25="",W24,IF(AND($N25=1,W$9>$B$9),"",IF(AND($N25=1,W$9<=$B$9),LOOKUP(W$9,$A$12:$A$111,$B$12:$B$111),IF(AND($I25=1,X$9=$Q24),"",IF($I25=1,X24,IF(AND($I25=-1,V$9=$Q24),$J25,IF($I25=-1,W24,"")))))))) | X25: =IF($E24="","",IF($G25="",X24,IF(AND($N25=1,X$9>$B$9),"",IF(AND($N25=1,X$9<=$B$9),LOOKUP(X$9,$A$12:$A$111,$B$12:$B$111),IF(AND($I25=1,Y$9=$Q24),"",IF($I25=1,Y24,IF(AND($I25=-1,W$9=$Q24),$J25,IF($I25=-1,X24,"")))))))) | Y25: =IF($E24="","",IF($G25="",Y24,IF(AND($N25=1,Y$9>$B$9),"",IF(AND($N25=1,Y$9<=$B$9),LOOKUP(Y$9,$A$12:$A$111,$B$12:$B$111),IF(AND($I25=1,Z$9=$Q24),"",IF($I25=1,Z24,IF(AND($I25=-1,X$9=$Q24),$J25,IF($I25=-1,Y24,"")))))))) | Z25: =IF($E24="","",IF($G25="",Z24,IF(AND($N25=1,Z$9>$B$9),"",IF(AND($N25=1,Z$9<=$B$9),LOOKUP(Z$9,$A$12:$A$111,$B$12:$B$111),IF(AND($I25=1,AA$9=$Q24),"",IF($I25=1,AA24,IF(AND($I25=-1,Y$9=$Q24),$J25,IF($I25=-1,Z24,"")))))))) | ... BO25: =IF($E24="","",IF($G25="",BO24,IF(AND($N25=1,BO$9>$B$9),"",IF(AND($N25=1,BO$9<=$B$9),LOOKUP(BO$9,$A$12:$A$111,$B$12:$B$111),IF(AND($I25=1,BP$9=$Q24),"",IF($I25=1,BP24,IF(AND($I25=-1,BN$9=$Q24),$J25,IF($I25=-1,BO24,"")))))))) -> 0
D26: 16 | E26: =RANDBETWEEN(0,36) -> 20 | G26: =IF(E25="","",IF($B$3=Refs!$B$11,Labouchere!F26,IF(AND(B$3="Last",H25="Zero"),G25,IF(B$3="Last",H25,IF(B$3="2nd last","",IF(AND(B$3="Opposite",H25="Zero"),G25,IF(AND(B$3="Opposite",H25="Red"),"Black",IF(AND(B$3="Opposite",H25="Black"),"Red",IF(AND(B$3="Opposite",H25="Odd"),"Even",IF(AND(B$3="Opposite",H25="Even"),"Odd",IF(AND(B$3="Opposite",H25="High"),"Low",IF(AND(B$3="Opposite",H25="Low"),"High",IF(COUNTIF(Refs!$E$5:$I$6,B$3)=1,Labouchere!B$3,""))))))))))))) -> High | H26: =IF(E26="","",IF(B$2="Red/Black",LOOKUP(E26,Refs!D:D,Refs!F:F),IF(B$2="High/Low",LOOKUP(E26,Refs!D:D,Refs!H:H),IF(B$2="Odd/Even",LOOKUP(E26,Refs!D:D,Refs!J:J),"")))) -> High | I26: =IF(E26="","",IF(G26="","",IF(H26=G26,1,-1))) -> 1 | J26: =IF(E25="","",IF(G26="","",IF(AND(Q25>1,O25+P25>=$B$4),$B$4,IF(Q25=1,O25,O25+P25)))) -> 8 | K26: =IF(E26="","",IF(G26="","",IF(I26=1,J26,-J26))) -> 8 | L26: =IF(E26="","",IF(G26="",L25,K26+L25)) -> 10 | M26: =IF(E26="","",IF(L26>M25,L26,M25)) -> 10 | N26: =IF(E25="","",IF(OR(AND($A$6="Yes",$M26>$M25),AND($A$8="Yes",$O25+$P25>=$B$4),AND($Q25<=2,$I26=1)),1,0)) -> 1 | O26: =IF(E26="","",R26) -> 1 | P26: =IF(E26="","",MAX(R26:DM26)) -> 4 | Q26: =IF(E26="","",COUNTIF(R26:DM26,">0")) -> 4 | R26: =IF(E25="","",IF($G26="",R25,IF($N26=1,LOOKUP(R$9,$A$12:$A$111,$B$12:$B$111),IF(AND($I26=1,S$9=$Q25),"",IF($I26=1,S25,IF($I26=-1,R25)))))) -> 1 | S26: =IF($E25="","",IF($G26="",S25,IF(AND($N26=1,S$9>$B$9),"",IF(AND($N26=1,S$9<=$B$9),LOOKUP(S$9,$A$12:$A$111,$B$12:$B$111),IF(AND($I26=1,T$9=$Q25),"",IF($I26=1,T25,IF(AND($I26=-1,R$9=$Q25),$J26,IF($I26=-1,S25,"")))))))) -> 2 | T26: =IF($E25="","",IF($G26="",T25,IF(AND($N26=1,T$9>$B$9),"",IF(AND($N26=1,T$9<=$B$9),LOOKUP(T$9,$A$12:$A$111,$B$12:$B$111),IF(AND($I26=1,U$9=$Q25),"",IF($I26=1,U25,IF(AND($I26=-1,S$9=$Q25),$J26,IF($I26=-1,T25,"")))))))) -> 3 | U26: =IF($E25="","",IF($G26="",U25,IF(AND($N26=1,U$9>$B$9),"",IF(AND($N26=1,U$9<=$B$9),LOOKUP(U$9,$A$12:$A$111,$B$12:$B$111),IF(AND($I26=1,V$9=$Q25),"",IF($I26=1,V25,IF(AND($I26=-1,T$9=$Q25),$J26,IF($I26=-1,U25,"")))))))) -> 4 | V26: =IF($E25="","",IF($G26="",V25,IF(AND($N26=1,V$9>$B$9),"",IF(AND($N26=1,V$9<=$B$9),LOOKUP(V$9,$A$12:$A$111,$B$12:$B$111),IF(AND($I26=1,W$9=$Q25),"",IF($I26=1,W25,IF(AND($I26=-1,U$9=$Q25),$J26,IF($I26=-1,V25,"")))))))) | W26: =IF($E25="","",IF($G26="",W25,IF(AND($N26=1,W$9>$B$9),"",IF(AND($N26=1,W$9<=$B$9),LOOKUP(W$9,$A$12:$A$111,$B$12:$B$111),IF(AND($I26=1,X$9=$Q25),"",IF($I26=1,X25,IF(AND($I26=-1,V$9=$Q25),$J26,IF($I26=-1,W25,"")))))))) | X26: =IF($E25="","",IF($G26="",X25,IF(AND($N26=1,X$9>$B$9),"",IF(AND($N26=1,X$9<=$B$9),LOOKUP(X$9,$A$12:$A$111,$B$12:$B$111),IF(AND($I26=1,Y$9=$Q25),"",IF($I26=1,Y25,IF(AND($I26=-1,W$9=$Q25),$J26,IF($I26=-1,X25,"")))))))) | Y26: =IF($E25="","",IF($G26="",Y25,IF(AND($N26=1,Y$9>$B$9),"",IF(AND($N26=1,Y$9<=$B$9),LOOKUP(Y$9,$A$12:$A$111,$B$12:$B$111),IF(AND($I26=1,Z$9=$Q25),"",IF($I26=1,Z25,IF(AND($I26=-1,X$9=$Q25),$J26,IF($I26=-1,Y25,"")))))))) | Z26: =IF($E25="","",IF($G26="",Z25,IF(AND($N26=1,Z$9>$B$9),"",IF(AND($N26=1,Z$9<=$B$9),LOOKUP(Z$9,$A$12:$A$111,$B$12:$B$111),IF(AND($I26=1,AA$9=$Q25),"",IF($I26=1,AA25,IF(AND($I26=-1,Y$9=$Q25),$J26,IF($I26=-1,Z25,"")))))))) | ... BO26: =IF($E25="","",IF($G26="",BO25,IF(AND($N26=1,BO$9>$B$9),"",IF(AND($N26=1,BO$9<=$B$9),LOOKUP(BO$9,$A$12:$A$111,$B$12:$B$111),IF(AND($I26=1,BP$9=$Q25),"",IF($I26=1,BP25,IF(AND($I26=-1,BN$9=$Q25),$J26,IF($I26=-1,BO25,""))))))))
D27: 17 | E27: =RANDBETWEEN(0,36) -> 17 | G27: =IF(E26="","",IF($B$3=Refs!$B$11,Labouchere!F27,IF(AND(B$3="Last",H26="Zero"),G26,IF(B$3="Last",H26,IF(B$3="2nd last","",IF(AND(B$3="Opposite",H26="Zero"),G26,IF(AND(B$3="Opposite",H26="Red"),"Black",IF(AND(B$3="Opposite",H26="Black"),"Red",IF(AND(B$3="Opposite",H26="Odd"),"Even",IF(AND(B$3="Opposite",H26="Even"),"Odd",IF(AND(B$3="Opposite",H26="High"),"Low",IF(AND(B$3="Opposite",H26="Low"),"High",IF(COUNTIF(Refs!$E$5:$I$6,B$3)=1,Labouchere!B$3,""))))))))))))) -> High | H27: =IF(E27="","",IF(B$2="Red/Black",LOOKUP(E27,Refs!D:D,Refs!F:F),IF(B$2="High/Low",LOOKUP(E27,Refs!D:D,Refs!H:H),IF(B$2="Odd/Even",LOOKUP(E27,Refs!D:D,Refs!J:J),"")))) -> Low | I27: =IF(E27="","",IF(G27="","",IF(H27=G27,1,-1))) -> -1 | J27: =IF(E26="","",IF(G27="","",IF(AND(Q26>1,O26+P26>=$B$4),$B$4,IF(Q26=1,O26,O26+P26)))) -> 5 | K27: =IF(E27="","",IF(G27="","",IF(I27=1,J27,-J27))) -> -5 | L27: =IF(E27="","",IF(G27="",L26,K27+L26)) -> 5 | M27: =IF(E27="","",IF(L27>M26,L27,M26)) -> 10 | N27: =IF(E26="","",IF(OR(AND($A$6="Yes",$M27>$M26),AND($A$8="Yes",$O26+$P26>=$B$4),AND($Q26<=2,$I27=1)),1,0)) -> 0 | O27: =IF(E27="","",R27) -> 1 | P27: =IF(E27="","",MAX(R27:DM27)) -> 5 | Q27: =IF(E27="","",COUNTIF(R27:DM27,">0")) -> 5 | R27: =IF(E26="","",IF($G27="",R26,IF($N27=1,LOOKUP(R$9,$A$12:$A$111,$B$12:$B$111),IF(AND($I27=1,S$9=$Q26),"",IF($I27=1,S26,IF($I27=-1,R26)))))) -> 1 | S27: =IF($E26="","",IF($G27="",S26,IF(AND($N27=1,S$9>$B$9),"",IF(AND($N27=1,S$9<=$B$9),LOOKUP(S$9,$A$12:$A$111,$B$12:$B$111),IF(AND($I27=1,T$9=$Q26),"",IF($I27=1,T26,IF(AND($I27=-1,R$9=$Q26),$J27,IF($I27=-1,S26,"")))))))) -> 2 | T27: =IF($E26="","",IF($G27="",T26,IF(AND($N27=1,T$9>$B$9),"",IF(AND($N27=1,T$9<=$B$9),LOOKUP(T$9,$A$12:$A$111,$B$12:$B$111),IF(AND($I27=1,U$9=$Q26),"",IF($I27=1,U26,IF(AND($I27=-1,S$9=$Q26),$J27,IF($I27=-1,T26,"")))))))) -> 3 | U27: =IF($E26="","",IF($G27="",U26,IF(AND($N27=1,U$9>$B$9),"",IF(AND($N27=1,U$9<=$B$9),LOOKUP(U$9,$A$12:$A$111,$B$12:$B$111),IF(AND($I27=1,V$9=$Q26),"",IF($I27=1,V26,IF(AND($I27=-1,T$9=$Q26),$J27,IF($I27=-1,U26,"")))))))) -> 4 | V27: =IF($E26="","",IF($G27="",V26,IF(AND($N27=1,V$9>$B$9),"",IF(AND($N27=1,V$9<=$B$9),LOOKUP(V$9,$A$12:$A$111,$B$12:$B$111),IF(AND($I27=1,W$9=$Q26),"",IF($I27=1,W26,IF(AND($I27=-1,U$9=$Q26),$J27,IF($I27=-1,V26,"")))))))) -> 5 | W27: =IF($E26="","",IF($G27="",W26,IF(AND($N27=1,W$9>$B$9),"",IF(AND($N27=1,W$9<=$B$9),LOOKUP(W$9,$A$12:$A$111,$B$12:$B$111),IF(AND($I27=1,X$9=$Q26),"",IF($I27=1,X26,IF(AND($I27=-1,V$9=$Q26),$J27,IF($I27=-1,W26,"")))))))) | X27: =IF($E26="","",IF($G27="",X26,IF(AND($N27=1,X$9>$B$9),"",IF(AND($N27=1,X$9<=$B$9),LOOKUP(X$9,$A$12:$A$111,$B$12:$B$111),IF(AND($I27=1,Y$9=$Q26),"",IF($I27=1,Y26,IF(AND($I27=-1,W$9=$Q26),$J27,IF($I27=-1,X26,"")))))))) | Y27: =IF($E26="","",IF($G27="",Y26,IF(AND($N27=1,Y$9>$B$9),"",IF(AND($N27=1,Y$9<=$B$9),LOOKUP(Y$9,$A$12:$A$111,$B$12:$B$111),IF(AND($I27=1,Z$9=$Q26),"",IF($I27=1,Z26,IF(AND($I27=-1,X$9=$Q26),$J27,IF($I27=-1,Y26,"")))))))) | Z27: =IF($E26="","",IF($G27="",Z26,IF(AND($N27=1,Z$9>$B$9),"",IF(AND($N27=1,Z$9<=$B$9),LOOKUP(Z$9,$A$12:$A$111,$B$12:$B$111),IF(AND($I27=1,AA$9=$Q26),"",IF($I27=1,AA26,IF(AND($I27=-1,Y$9=$Q26),$J27,IF($I27=-1,Z26,"")))))))) | ... BO27: =IF($E26="","",IF($G27="",BO26,IF(AND($N27=1,BO$9>$B$9),"",IF(AND($N27=1,BO$9<=$B$9),LOOKUP(BO$9,$A$12:$A$111,$B$12:$B$111),IF(AND($I27=1,BP$9=$Q26),"",IF($I27=1,BP26,IF(AND($I27=-1,BN$9=$Q26),$J27,IF($I27=-1,BO26,""))))))))
D28: 18 | E28: =RANDBETWEEN(0,36) -> 32 | G28: =IF(E27="","",IF($B$3=Refs!$B$11,Labouchere!F28,IF(AND(B$3="Last",H27="Zero"),G27,IF(B$3="Last",H27,IF(B$3="2nd last","",IF(AND(B$3="Opposite",H27="Zero"),G27,IF(AND(B$3="Opposite",H27="Red"),"Black",IF(AND(B$3="Opposite",H27="Black"),"Red",IF(AND(B$3="Opposite",H27="Odd"),"Even",IF(AND(B$3="Opposite",H27="Even"),"Odd",IF(AND(B$3="Opposite",H27="High"),"Low",IF(AND(B$3="Opposite",H27="Low"),"High",IF(COUNTIF(Refs!$E$5:$I$6,B$3)=1,Labouchere!B$3,""))))))))))))) -> High | H28: =IF(E28="","",IF(B$2="Red/Black",LOOKUP(E28,Refs!D:D,Refs!F:F),IF(B$2="High/Low",LOOKUP(E28,Refs!D:D,Refs!H:H),IF(B$2="Odd/Even",LOOKUP(E28,Refs!D:D,Refs!J:J),"")))) -> High | I28: =IF(E28="","",IF(G28="","",IF(H28=G28,1,-1))) -> 1 | J28: =IF(E27="","",IF(G28="","",IF(AND(Q27>1,O27+P27>=$B$4),$B$4,IF(Q27=1,O27,O27+P27)))) -> 6 | K28: =IF(E28="","",IF(G28="","",IF(I28=1,J28,-J28))) -> 6 | L28: =IF(E28="","",IF(G28="",L27,K28+L27)) -> 11 | M28: =IF(E28="","",IF(L28>M27,L28,M27)) -> 11 | N28: =IF(E27="","",IF(OR(AND($A$6="Yes",$M28>$M27),AND($A$8="Yes",$O27+$P27>=$B$4),AND($Q27<=2,$I28=1)),1,0)) -> 0 | O28: =IF(E28="","",R28) -> 2 | P28: =IF(E28="","",MAX(R28:DM28)) -> 4 | Q28: =IF(E28="","",COUNTIF(R28:DM28,">0")) -> 3 | R28: =IF(E27="","",IF($G28="",R27,IF($N28=1,LOOKUP(R$9,$A$12:$A$111,$B$12:$B$111),IF(AND($I28=1,S$9=$Q27),"",IF($I28=1,S27,IF($I28=-1,R27)))))) -> 2 | S28: =IF($E27="","",IF($G28="",S27,IF(AND($N28=1,S$9>$B$9),"",IF(AND($N28=1,S$9<=$B$9),LOOKUP(S$9,$A$12:$A$111,$B$12:$B$111),IF(AND($I28=1,T$9=$Q27),"",IF($I28=1,T27,IF(AND($I28=-1,R$9=$Q27),$J28,IF($I28=-1,S27,"")))))))) -> 3 | T28: =IF($E27="","",IF($G28="",T27,IF(AND($N28=1,T$9>$B$9),"",IF(AND($N28=1,T$9<=$B$9),LOOKUP(T$9,$A$12:$A$111,$B$12:$B$111),IF(AND($I28=1,U$9=$Q27),"",IF($I28=1,U27,IF(AND($I28=-1,S$9=$Q27),$J28,IF($I28=-1,T27,"")))))))) -> 4 | U28: =IF($E27="","",IF($G28="",U27,IF(AND($N28=1,U$9>$B$9),"",IF(AND($N28=1,U$9<=$B$9),LOOKUP(U$9,$A$12:$A$111,$B$12:$B$111),IF(AND($I28=1,V$9=$Q27),"",IF($I28=1,V27,IF(AND($I28=-1,T$9=$Q27),$J28,IF($I28=-1,U27,"")))))))) | V28: =IF($E27="","",IF($G28="",V27,IF(AND($N28=1,V$9>$B$9),"",IF(AND($N28=1,V$9<=$B$9),LOOKUP(V$9,$A$12:$A$111,$B$12:$B$111),IF(AND($I28=1,W$9=$Q27),"",IF($I28=1,W27,IF(AND($I28=-1,U$9=$Q27),$J28,IF($I28=-1,V27,"")))))))) | W28: =IF($E27="","",IF($G28="",W27,IF(AND($N28=1,W$9>$B$9),"",IF(AND($N28=1,W$9<=$B$9),LOOKUP(W$9,$A$12:$A$111,$B$12:$B$111),IF(AND($I28=1,X$9=$Q27),"",IF($I28=1,X27,IF(AND($I28=-1,V$9=$Q27),$J28,IF($I28=-1,W27,"")))))))) | X28: =IF($E27="","",IF($G28="",X27,IF(AND($N28=1,X$9>$B$9),"",IF(AND($N28=1,X$9<=$B$9),LOOKUP(X$9,$A$12:$A$111,$B$12:$B$111),IF(AND($I28=1,Y$9=$Q27),"",IF($I28=1,Y27,IF(AND($I28=-1,W$9=$Q27),$J28,IF($I28=-1,X27,"")))))))) | Y28: =IF($E27="","",IF($G28="",Y27,IF(AND($N28=1,Y$9>$B$9),"",IF(AND($N28=1,Y$9<=$B$9),LOOKUP(Y$9,$A$12:$A$111,$B$12:$B$111),IF(AND($I28=1,Z$9=$Q27),"",IF($I28=1,Z27,IF(AND($I28=-1,X$9=$Q27),$J28,IF($I28=-1,Y27,"")))))))) | Z28: =IF($E27="","",IF($G28="",Z27,IF(AND($N28=1,Z$9>$B$9),"",IF(AND($N28=1,Z$9<=$B$9),LOOKUP(Z$9,$A$12:$A$111,$B$12:$B$111),IF(AND($I28=1,AA$9=$Q27),"",IF($I28=1,AA27,IF(AND($I28=-1,Y$9=$Q27),$J28,IF($I28=-1,Z27,"")))))))) | ... BO28: =IF($E27="","",IF($G28="",BO27,IF(AND($N28=1,BO$9>$B$9),"",IF(AND($N28=1,BO$9<=$B$9),LOOKUP(BO$9,$A$12:$A$111,$B$12:$B$111),IF(AND($I28=1,BP$9=$Q27),"",IF($I28=1,BP27,IF(AND($I28=-1,BN$9=$Q27),$J28,IF($I28=-1,BO27,"")))))))) -> 0
D29: 19 | E29: =RANDBETWEEN(0,36) -> 33 | G29: =IF(E28="","",IF($B$3=Refs!$B$11,Labouchere!F29,IF(AND(B$3="Last",H28="Zero"),G28,IF(B$3="Last",H28,IF(B$3="2nd last","",IF(AND(B$3="Opposite",H28="Zero"),G28,IF(AND(B$3="Opposite",H28="Red"),"Black",IF(AND(B$3="Opposite",H28="Black"),"Red",IF(AND(B$3="Opposite",H28="Odd"),"Even",IF(AND(B$3="Opposite",H28="Even"),"Odd",IF(AND(B$3="Opposite",H28="High"),"Low",IF(AND(B$3="Opposite",H28="Low"),"High",IF(COUNTIF(Refs!$E$5:$I$6,B$3)=1,Labouchere!B$3,""))))))))))))) -> High | H29: =IF(E29="","",IF(B$2="Red/Black",LOOKUP(E29,Refs!D:D,Refs!F:F),IF(B$2="High/Low",LOOKUP(E29,Refs!D:D,Refs!H:H),IF(B$2="Odd/Even",LOOKUP(E29,Refs!D:D,Refs!J:J),"")))) -> High | I29: =IF(E29="","",IF(G29="","",IF(H29=G29,1,-1))) -> 1 | J29: =IF(E28="","",IF(G29="","",IF(AND(Q28>1,O28+P28>=$B$4),$B$4,IF(Q28=1,O28,O28+P28)))) -> 6 | K29: =IF(E29="","",IF(G29="","",IF(I29=1,J29,-J29))) -> 6 | L29: =IF(E29="","",IF(G29="",L28,K29+L28)) -> 17 | M29: =IF(E29="","",IF(L29>M28,L29,M28)) -> 17 | N29: =IF(E28="","",IF(OR(AND($A$6="Yes",$M29>$M28),AND($A$8="Yes",$O28+$P28>=$B$4),AND($Q28<=2,$I29=1)),1,0)) -> 0 | O29: =IF(E29="","",R29) -> 3 | P29: =IF(E29="","",MAX(R29:DM29)) -> 3 | Q29: =IF(E29="","",COUNTIF(R29:DM29,">0")) -> 1 | R29: =IF(E28="","",IF($G29="",R28,IF($N29=1,LOOKUP(R$9,$A$12:$A$111,$B$12:$B$111),IF(AND($I29=1,S$9=$Q28),"",IF($I29=1,S28,IF($I29=-1,R28)))))) -> 3 | S29: =IF($E28="","",IF($G29="",S28,IF(AND($N29=1,S$9>$B$9),"",IF(AND($N29=1,S$9<=$B$9),LOOKUP(S$9,$A$12:$A$111,$B$12:$B$111),IF(AND($I29=1,T$9=$Q28),"",IF($I29=1,T28,IF(AND($I29=-1,R$9=$Q28),$J29,IF($I29=-1,S28,"")))))))) | T29: =IF($E28="","",IF($G29="",T28,IF(AND($N29=1,T$9>$B$9),"",IF(AND($N29=1,T$9<=$B$9),LOOKUP(T$9,$A$12:$A$111,$B$12:$B$111),IF(AND($I29=1,U$9=$Q28),"",IF($I29=1,U28,IF(AND($I29=-1,S$9=$Q28),$J29,IF($I29=-1,T28,"")))))))) | U29: =IF($E28="","",IF($G29="",U28,IF(AND($N29=1,U$9>$B$9),"",IF(AND($N29=1,U$9<=$B$9),LOOKUP(U$9,$A$12:$A$111,$B$12:$B$111),IF(AND($I29=1,V$9=$Q28),"",IF($I29=1,V28,IF(AND($I29=-1,T$9=$Q28),$J29,IF($I29=-1,U28,"")))))))) | V29: =IF($E28="","",IF($G29="",V28,IF(AND($N29=1,V$9>$B$9),"",IF(AND($N29=1,V$9<=$B$9),LOOKUP(V$9,$A$12:$A$111,$B$12:$B$111),IF(AND($I29=1,W$9=$Q28),"",IF($I29=1,W28,IF(AND($I29=-1,U$9=$Q28),$J29,IF($I29=-1,V28,"")))))))) | W29: =IF($E28="","",IF($G29="",W28,IF(AND($N29=1,W$9>$B$9),"",IF(AND($N29=1,W$9<=$B$9),LOOKUP(W$9,$A$12:$A$111,$B$12:$B$111),IF(AND($I29=1,X$9=$Q28),"",IF($I29=1,X28,IF(AND($I29=-1,V$9=$Q28),$J29,IF($I29=-1,W28,"")))))))) | X29: =IF($E28="","",IF($G29="",X28,IF(AND($N29=1,X$9>$B$9),"",IF(AND($N29=1,X$9<=$B$9),LOOKUP(X$9,$A$12:$A$111,$B$12:$B$111),IF(AND($I29=1,Y$9=$Q28),"",IF($I29=1,Y28,IF(AND($I29=-1,W$9=$Q28),$J29,IF($I29=-1,X28,"")))))))) | Y29: =IF($E28="","",IF($G29="",Y28,IF(AND($N29=1,Y$9>$B$9),"",IF(AND($N29=1,Y$9<=$B$9),LOOKUP(Y$9,$A$12:$A$111,$B$12:$B$111),IF(AND($I29=1,Z$9=$Q28),"",IF($I29=1,Z28,IF(AND($I29=-1,X$9=$Q28),$J29,IF($I29=-1,Y28,"")))))))) | Z29: =IF($E28="","",IF($G29="",Z28,IF(AND($N29=1,Z$9>$B$9),"",IF(AND($N29=1,Z$9<=$B$9),LOOKUP(Z$9,$A$12:$A$111,$B$12:$B$111),IF(AND($I29=1,AA$9=$Q28),"",IF($I29=1,AA28,IF(AND($I29=-1,Y$9=$Q28),$J29,IF($I29=-1,Z28,"")))))))) | ... BO29: =IF($E28="","",IF($G29="",BO28,IF(AND($N29=1,BO$9>$B$9),"",IF(AND($N29=1,BO$9<=$B$9),LOOKUP(BO$9,$A$12:$A$111,$B$12:$B$111),IF(AND($I29=1,BP$9=$Q28),"",IF($I29=1,BP28,IF(AND($I29=-1,BN$9=$Q28),$J29,IF($I29=-1,BO28,"")))))))) -> 0
D30: 20 | E30: =RANDBETWEEN(0,36) -> 2 | G30: =IF(E29="","",IF($B$3=Refs!$B$11,Labouchere!F30,IF(AND(B$3="Last",H29="Zero"),G29,IF(B$3="Last",H29,IF(B$3="2nd last","",IF(AND(B$3="Opposite",H29="Zero"),G29,IF(AND(B$3="Opposite",H29="Red"),"Black",IF(AND(B$3="Opposite",H29="Black"),"Red",IF(AND(B$3="Opposite",H29="Odd"),"Even",IF(AND(B$3="Opposite",H29="Even"),"Odd",IF(AND(B$3="Opposite",H29="High"),"Low",IF(AND(B$3="Opposite",H29="Low"),"High",IF(COUNTIF(Refs!$E$5:$I$6,B$3)=1,Labouchere!B$3,""))))))))))))) -> High | H30: =IF(E30="","",IF(B$2="Red/Black",LOOKUP(E30,Refs!D:D,Refs!F:F),IF(B$2="High/Low",LOOKUP(E30,Refs!D:D,Refs!H:H),IF(B$2="Odd/Even",LOOKUP(E30,Refs!D:D,Refs!J:J),"")))) -> Low | I30: =IF(E30="","",IF(G30="","",IF(H30=G30,1,-1))) -> -1 | J30: =IF(E29="","",IF(G30="","",IF(AND(Q29>1,O29+P29>=$B$4),$B$4,IF(Q29=1,O29,O29+P29)))) -> 3 | K30: =IF(E30="","",IF(G30="","",IF(I30=1,J30,-J30))) -> -3 | L30: =IF(E30="","",IF(G30="",L29,K30+L29)) -> 14 | M30: =IF(E30="","",IF(L30>M29,L30,M29)) -> 17 | N30: =IF(E29="","",IF(OR(AND($A$6="Yes",$M30>$M29),AND($A$8="Yes",$O29+$P29>=$B$4),AND($Q29<=2,$I30=1)),1,0)) -> 0 | O30: =IF(E30="","",R30) -> 3 | P30: =IF(E30="","",MAX(R30:DM30)) -> 3 | Q30: =IF(E30="","",COUNTIF(R30:DM30,">0")) -> 2 | R30: =IF(E29="","",IF($G30="",R29,IF($N30=1,LOOKUP(R$9,$A$12:$A$111,$B$12:$B$111),IF(AND($I30=1,S$9=$Q29),"",IF($I30=1,S29,IF($I30=-1,R29)))))) -> 3 | S30: =IF($E29="","",IF($G30="",S29,IF(AND($N30=1,S$9>$B$9),"",IF(AND($N30=1,S$9<=$B$9),LOOKUP(S$9,$A$12:$A$111,$B$12:$B$111),IF(AND($I30=1,T$9=$Q29),"",IF($I30=1,T29,IF(AND($I30=-1,R$9=$Q29),$J30,IF($I30=-1,S29,"")))))))) -> 3 | T30: =IF($E29="","",IF($G30="",T29,IF(AND($N30=1,T$9>$B$9),"",IF(AND($N30=1,T$9<=$B$9),LOOKUP(T$9,$A$12:$A$111,$B$12:$B$111),IF(AND($I30=1,U$9=$Q29),"",IF($I30=1,U29,IF(AND($I30=-1,S$9=$Q29),$J30,IF($I30=-1,T29,"")))))))) | U30: =IF($E29="","",IF($G30="",U29,IF(AND($N30=1,U$9>$B$9),"",IF(AND($N30=1,U$9<=$B$9),LOOKUP(U$9,$A$12:$A$111,$B$12:$B$111),IF(AND($I30=1,V$9=$Q29),"",IF($I30=1,V29,IF(AND($I30=-1,T$9=$Q29),$J30,IF($I30=-1,U29,"")))))))) | V30: =IF($E29="","",IF($G30="",V29,IF(AND($N30=1,V$9>$B$9),"",IF(AND($N30=1,V$9<=$B$9),LOOKUP(V$9,$A$12:$A$111,$B$12:$B$111),IF(AND($I30=1,W$9=$Q29),"",IF($I30=1,W29,IF(AND($I30=-1,U$9=$Q29),$J30,IF($I30=-1,V29,"")))))))) | W30: =IF($E29="","",IF($G30="",W29,IF(AND($N30=1,W$9>$B$9),"",IF(AND($N30=1,W$9<=$B$9),LOOKUP(W$9,$A$12:$A$111,$B$12:$B$111),IF(AND($I30=1,X$9=$Q29),"",IF($I30=1,X29,IF(AND($I30=-1,V$9=$Q29),$J30,IF($I30=-1,W29,"")))))))) | X30: =IF($E29="","",IF($G30="",X29,IF(AND($N30=1,X$9>$B$9),"",IF(AND($N30=1,X$9<=$B$9),LOOKUP(X$9,$A$12:$A$111,$B$12:$B$111),IF(AND($I30=1,Y$9=$Q29),"",IF($I30=1,Y29,IF(AND($I30=-1,W$9=$Q29),$J30,IF($I30=-1,X29,"")))))))) | Y30: =IF($E29="","",IF($G30="",Y29,IF(AND($N30=1,Y$9>$B$9),"",IF(AND($N30=1,Y$9<=$B$9),LOOKUP(Y$9,$A$12:$A$111,$B$12:$B$111),IF(AND($I30=1,Z$9=$Q29),"",IF($I30=1,Z29,IF(AND($I30=-1,X$9=$Q29),$J30,IF($I30=-1,Y29,"")))))))) | Z30: =IF($E29="","",IF($G30="",Z29,IF(AND($N30=1,Z$9>$B$9),"",IF(AND($N30=1,Z$9<=$B$9),LOOKUP(Z$9,$A$12:$A$111,$B$12:$B$111),IF(AND($I30=1,AA$9=$Q29),"",IF($I30=1,AA29,IF(AND($I30=-1,Y$9=$Q29),$J30,IF($I30=-1,Z29,"")))))))) | ... BO30: =IF($E29="","",IF($G30="",BO29,IF(AND($N30=1,BO$9>$B$9),"",IF(AND($N30=1,BO$9<=$B$9),LOOKUP(BO$9,$A$12:$A$111,$B$12:$B$111),IF(AND($I30=1,BP$9=$Q29),"",IF($I30=1,BP29,IF(AND($I30=-1,BN$9=$Q29),$J30,IF($I30=-1,BO29,"")))))))) -> 0
D31: 21 | E31: =RANDBETWEEN(0,36) -> 3 | G31: =IF(E30="","",IF($B$3=Refs!$B$11,Labouchere!F31,IF(AND(B$3="Last",H30="Zero"),G30,IF(B$3="Last",H30,IF(B$3="2nd last","",IF(AND(B$3="Opposite",H30="Zero"),G30,IF(AND(B$3="Opposite",H30="Red"),"Black",IF(AND(B$3="Opposite",H30="Black"),"Red",IF(AND(B$3="Opposite",H30="Odd"),"Even",IF(AND(B$3="Opposite",H30="Even"),"Odd",IF(AND(B$3="Opposite",H30="High"),"Low",IF(AND(B$3="Opposite",H30="Low"),"High",IF(COUNTIF(Refs!$E$5:$I$6,B$3)=1,Labouchere!B$3,""))))))))))))) -> High | H31: =IF(E31="","",IF(B$2="Red/Black",LOOKUP(E31,Refs!D:D,Refs!F:F),IF(B$2="High/Low",LOOKUP(E31,Refs!D:D,Refs!H:H),IF(B$2="Odd/Even",LOOKUP(E31,Refs!D:D,Refs!J:J),"")))) -> Low | I31: =IF(E31="","",IF(G31="","",IF(H31=G31,1,-1))) -> -1 | J31: =IF(E30="","",IF(G31="","",IF(AND(Q30>1,O30+P30>=$B$4),$B$4,IF(Q30=1,O30,O30+P30)))) -> 6 | K31: =IF(E31="","",IF(G31="","",IF(I31=1,J31,-J31))) -> -6 | L31: =IF(E31="","",IF(G31="",L30,K31+L30)) -> 8 | M31: =IF(E31="","",IF(L31>M30,L31,M30)) -> 17 | N31: =IF(E30="","",IF(OR(AND($A$6="Yes",$M31>$M30),AND($A$8="Yes",$O30+$P30>=$B$4),AND($Q30<=2,$I31=1)),1,0)) -> 0 | O31: =IF(E31="","",R31) -> 3 | P31: =IF(E31="","",MAX(R31:DM31)) -> 6 | Q31: =IF(E31="","",COUNTIF(R31:DM31,">0")) -> 3 | R31: =IF(E30="","",IF($G31="",R30,IF($N31=1,LOOKUP(R$9,$A$12:$A$111,$B$12:$B$111),IF(AND($I31=1,S$9=$Q30),"",IF($I31=1,S30,IF($I31=-1,R30)))))) -> 3 | S31: =IF($E30="","",IF($G31="",S30,IF(AND($N31=1,S$9>$B$9),"",IF(AND($N31=1,S$9<=$B$9),LOOKUP(S$9,$A$12:$A$111,$B$12:$B$111),IF(AND($I31=1,T$9=$Q30),"",IF($I31=1,T30,IF(AND($I31=-1,R$9=$Q30),$J31,IF($I31=-1,S30,"")))))))) -> 3 | T31: =IF($E30="","",IF($G31="",T30,IF(AND($N31=1,T$9>$B$9),"",IF(AND($N31=1,T$9<=$B$9),LOOKUP(T$9,$A$12:$A$111,$B$12:$B$111),IF(AND($I31=1,U$9=$Q30),"",IF($I31=1,U30,IF(AND($I31=-1,S$9=$Q30),$J31,IF($I31=-1,T30,"")))))))) -> 6 | U31: =IF($E30="","",IF($G31="",U30,IF(AND($N31=1,U$9>$B$9),"",IF(AND($N31=1,U$9<=$B$9),LOOKUP(U$9,$A$12:$A$111,$B$12:$B$111),IF(AND($I31=1,V$9=$Q30),"",IF($I31=1,V30,IF(AND($I31=-1,T$9=$Q30),$J31,IF($I31=-1,U30,"")))))))) | V31: =IF($E30="","",IF($G31="",V30,IF(AND($N31=1,V$9>$B$9),"",IF(AND($N31=1,V$9<=$B$9),LOOKUP(V$9,$A$12:$A$111,$B$12:$B$111),IF(AND($I31=1,W$9=$Q30),"",IF($I31=1,W30,IF(AND($I31=-1,U$9=$Q30),$J31,IF($I31=-1,V30,"")))))))) | W31: =IF($E30="","",IF($G31="",W30,IF(AND($N31=1,W$9>$B$9),"",IF(AND($N31=1,W$9<=$B$9),LOOKUP(W$9,$A$12:$A$111,$B$12:$B$111),IF(AND($I31=1,X$9=$Q30),"",IF($I31=1,X30,IF(AND($I31=-1,V$9=$Q30),$J31,IF($I31=-1,W30,"")))))))) | X31: =IF($E30="","",IF($G31="",X30,IF(AND($N31=1,X$9>$B$9),"",IF(AND($N31=1,X$9<=$B$9),LOOKUP(X$9,$A$12:$A$111,$B$12:$B$111),IF(AND($I31=1,Y$9=$Q30),"",IF($I31=1,Y30,IF(AND($I31=-1,W$9=$Q30),$J31,IF($I31=-1,X30,"")))))))) | Y31: =IF($E30="","",IF($G31="",Y30,IF(AND($N31=1,Y$9>$B$9),"",IF(AND($N31=1,Y$9<=$B$9),LOOKUP(Y$9,$A$12:$A$111,$B$12:$B$111),IF(AND($I31=1,Z$9=$Q30),"",IF($I31=1,Z30,IF(AND($I31=-1,X$9=$Q30),$J31,IF($I31=-1,Y30,"")))))))) | Z31: =IF($E30="","",IF($G31="",Z30,IF(AND($N31=1,Z$9>$B$9),"",IF(AND($N31=1,Z$9<=$B$9),LOOKUP(Z$9,$A$12:$A$111,$B$12:$B$111),IF(AND($I31=1,AA$9=$Q30),"",IF($I31=1,AA30,IF(AND($I31=-1,Y$9=$Q30),$J31,IF($I31=-1,Z30,"")))))))) | ... BO31: =IF($E30="","",IF($G31="",BO30,IF(AND($N31=1,BO$9>$B$9),"",IF(AND($N31=1,BO$9<=$B$9),LOOKUP(BO$9,$A$12:$A$111,$B$12:$B$111),IF(AND($I31=1,BP$9=$Q30),"",IF($I31=1,BP30,IF(AND($I31=-1,BN$9=$Q30),$J31,IF($I31=-1,BO30,"")))))))) -> 0
D32: 22 | E32: =RANDBETWEEN(0,36) -> 21 | G32: =IF(E31="","",IF($B$3=Refs!$B$11,Labouchere!F32,IF(AND(B$3="Last",H31="Zero"),G31,IF(B$3="Last",H31,IF(B$3="2nd last","",IF(AND(B$3="Opposite",H31="Zero"),G31,IF(AND(B$3="Opposite",H31="Red"),"Black",IF(AND(B$3="Opposite",H31="Black"),"Red",IF(AND(B$3="Opposite",H31="Odd"),"Even",IF(AND(B$3="Opposite",H31="Even"),"Odd",IF(AND(B$3="Opposite",H31="High"),"Low",IF(AND(B$3="Opposite",H31="Low"),"High",IF(COUNTIF(Refs!$E$5:$I$6,B$3)=1,Labouchere!B$3,""))))))))))))) -> High | H32: =IF(E32="","",IF(B$2="Red/Black",LOOKUP(E32,Refs!D:D,Refs!F:F),IF(B$2="High/Low",LOOKUP(E32,Refs!D:D,Refs!H:H),IF(B$2="Odd/Even",LOOKUP(E32,Refs!D:D,Refs!J:J),"")))) -> High | I32: =IF(E32="","",IF(G32="","",IF(H32=G32,1,-1))) -> 1 | J32: =IF(E31="","",IF(G32="","",IF(AND(Q31>1,O31+P31>=$B$4),$B$4,IF(Q31=1,O31,O31+P31)))) -> 9 | K32: =IF(E32="","",IF(G32="","",IF(I32=1,J32,-J32))) -> 9 | L32: =IF(E32="","",IF(G32="",L31,K32+L31)) -> 17 | M32: =IF(E32="","",IF(L32>M31,L32,M31)) -> 17 | N32: =IF(E31="","",IF(OR(AND($A$6="Yes",$M32>$M31),AND($A$8="Yes",$O31+$P31>=$B$4),AND($Q31<=2,$I32=1)),1,0)) -> 0 | O32: =IF(E32="","",R32) -> 3 | P32: =IF(E32="","",MAX(R32:DM32)) -> 3 | Q32: =IF(E32="","",COUNTIF(R32:DM32,">0")) -> 1 | R32: =IF(E31="","",IF($G32="",R31,IF($N32=1,LOOKUP(R$9,$A$12:$A$111,$B$12:$B$111),IF(AND($I32=1,S$9=$Q31),"",IF($I32=1,S31,IF($I32=-1,R31)))))) -> 3 | S32: =IF($E31="","",IF($G32="",S31,IF(AND($N32=1,S$9>$B$9),"",IF(AND($N32=1,S$9<=$B$9),LOOKUP(S$9,$A$12:$A$111,$B$12:$B$111),IF(AND($I32=1,T$9=$Q31),"",IF($I32=1,T31,IF(AND($I32=-1,R$9=$Q31),$J32,IF($I32=-1,S31,"")))))))) | T32: =IF($E31="","",IF($G32="",T31,IF(AND($N32=1,T$9>$B$9),"",IF(AND($N32=1,T$9<=$B$9),LOOKUP(T$9,$A$12:$A$111,$B$12:$B$111),IF(AND($I32=1,U$9=$Q31),"",IF($I32=1,U31,IF(AND($I32=-1,S$9=$Q31),$J32,IF($I32=-1,T31,"")))))))) | U32: =IF($E31="","",IF($G32="",U31,IF(AND($N32=1,U$9>$B$9),"",IF(AND($N32=1,U$9<=$B$9),LOOKUP(U$9,$A$12:$A$111,$B$12:$B$111),IF(AND($I32=1,V$9=$Q31),"",IF($I32=1,V31,IF(AND($I32=-1,T$9=$Q31),$J32,IF($I32=-1,U31,"")))))))) | V32: =IF($E31="","",IF($G32="",V31,IF(AND($N32=1,V$9>$B$9),"",IF(AND($N32=1,V$9<=$B$9),LOOKUP(V$9,$A$12:$A$111,$B$12:$B$111),IF(AND($I32=1,W$9=$Q31),"",IF($I32=1,W31,IF(AND($I32=-1,U$9=$Q31),$J32,IF($I32=-1,V31,"")))))))) | W32: =IF($E31="","",IF($G32="",W31,IF(AND($N32=1,W$9>$B$9),"",IF(AND($N32=1,W$9<=$B$9),LOOKUP(W$9,$A$12:$A$111,$B$12:$B$111),IF(AND($I32=1,X$9=$Q31),"",IF($I32=1,X31,IF(AND($I32=-1,V$9=$Q31),$J32,IF($I32=-1,W31,"")))))))) | X32: =IF($E31="","",IF($G32="",X31,IF(AND($N32=1,X$9>$B$9),"",IF(AND($N32=1,X$9<=$B$9),LOOKUP(X$9,$A$12:$A$111,$B$12:$B$111),IF(AND($I32=1,Y$9=$Q31),"",IF($I32=1,Y31,IF(AND($I32=-1,W$9=$Q31),$J32,IF($I32=-1,X31,"")))))))) | Y32: =IF($E31="","",IF($G32="",Y31,IF(AND($N32=1,Y$9>$B$9),"",IF(AND($N32=1,Y$9<=$B$9),LOOKUP(Y$9,$A$12:$A$111,$B$12:$B$111),IF(AND($I32=1,Z$9=$Q31),"",IF($I32=1,Z31,IF(AND($I32=-1,X$9=$Q31),$J32,IF($I32=-1,Y31,"")))))))) | Z32: =IF($E31="","",IF($G32="",Z31,IF(AND($N32=1,Z$9>$B$9),"",IF(AND($N32=1,Z$9<=$B$9),LOOKUP(Z$9,$A$12:$A$111,$B$12:$B$111),IF(AND($I32=1,AA$9=$Q31),"",IF($I32=1,AA31,IF(AND($I32=-1,Y$9=$Q31),$J32,IF($I32=-1,Z31,"")))))))) | ... BO32: =IF($E31="","",IF($G32="",BO31,IF(AND($N32=1,BO$9>$B$9),"",IF(AND($N32=1,BO$9<=$B$9),LOOKUP(BO$9,$A$12:$A$111,$B$12:$B$111),IF(AND($I32=1,BP$9=$Q31),"",IF($I32=1,BP31,IF(AND($I32=-1,BN$9=$Q31),$J32,IF($I32=-1,BO31,"")))))))) -> 0
D33: 23 | E33: =RANDBETWEEN(0,36) -> 12 | G33: =IF(E32="","",IF($B$3=Refs!$B$11,Labouchere!F33,IF(AND(B$3="Last",H32="Zero"),G32,IF(B$3="Last",H32,IF(B$3="2nd last","",IF(AND(B$3="Opposite",H32="Zero"),G32,IF(AND(B$3="Opposite",H32="Red"),"Black",IF(AND(B$3="Opposite",H32="Black"),"Red",IF(AND(B$3="Opposite",H32="Odd"),"Even",IF(AND(B$3="Opposite",H32="Even"),"Odd",IF(AND(B$3="Opposite",H32="High"),"Low",IF(AND(B$3="Opposite",H32="Low"),"High",IF(COUNTIF(Refs!$E$5:$I$6,B$3)=1,Labouchere!B$3,""))))))))))))) -> High | H33: =IF(E33="","",IF(B$2="Red/Black",LOOKUP(E33,Refs!D:D,Refs!F:F),IF(B$2="High/Low",LOOKUP(E33,Refs!D:D,Refs!H:H),IF(B$2="Odd/Even",LOOKUP(E33,Refs!D:D,Refs!J:J),"")))) -> Low | I33: =IF(E33="","",IF(G33="","",IF(H33=G33,1,-1))) -> -1 | J33: =IF(E32="","",IF(G33="","",IF(AND(Q32>1,O32+P32>=$B$4),$B$4,IF(Q32=1,O32,O32+P32)))) -> 3 | K33: =IF(E33="","",IF(G33="","",IF(I33=1,J33,-J33))) -> -3 | L33: =IF(E33="","",IF(G33="",L32,K33+L32)) -> 14 | M33: =IF(E33="","",IF(L33>M32,L33,M32)) -> 17 | N33: =IF(E32="","",IF(OR(AND($A$6="Yes",$M33>$M32),AND($A$8="Yes",$O32+$P32>=$B$4),AND($Q32<=2,$I33=1)),1,0)) -> 0 | O33: =IF(E33="","",R33) -> 3 | P33: =IF(E33="","",MAX(R33:DM33)) -> 3 | Q33: =IF(E33="","",COUNTIF(R33:DM33,">0")) -> 2 | R33: =IF(E32="","",IF($G33="",R32,IF($N33=1,LOOKUP(R$9,$A$12:$A$111,$B$12:$B$111),IF(AND($I33=1,S$9=$Q32),"",IF($I33=1,S32,IF($I33=-1,R32)))))) -> 3 | S33: =IF($E32="","",IF($G33="",S32,IF(AND($N33=1,S$9>$B$9),"",IF(AND($N33=1,S$9<=$B$9),LOOKUP(S$9,$A$12:$A$111,$B$12:$B$111),IF(AND($I33=1,T$9=$Q32),"",IF($I33=1,T32,IF(AND($I33=-1,R$9=$Q32),$J33,IF($I33=-1,S32,"")))))))) -> 3 | T33: =IF($E32="","",IF($G33="",T32,IF(AND($N33=1,T$9>$B$9),"",IF(AND($N33=1,T$9<=$B$9),LOOKUP(T$9,$A$12:$A$111,$B$12:$B$111),IF(AND($I33=1,U$9=$Q32),"",IF($I33=1,U32,IF(AND($I33=-1,S$9=$Q32),$J33,IF($I33=-1,T32,"")))))))) | U33: =IF($E32="","",IF($G33="",U32,IF(AND($N33=1,U$9>$B$9),"",IF(AND($N33=1,U$9<=$B$9),LOOKUP(U$9,$A$12:$A$111,$B$12:$B$111),IF(AND($I33=1,V$9=$Q32),"",IF($I33=1,V32,IF(AND($I33=-1,T$9=$Q32),$J33,IF($I33=-1,U32,"")))))))) | V33: =IF($E32="","",IF($G33="",V32,IF(AND($N33=1,V$9>$B$9),"",IF(AND($N33=1,V$9<=$B$9),LOOKUP(V$9,$A$12:$A$111,$B$12:$B$111),IF(AND($I33=1,W$9=$Q32),"",IF($I33=1,W32,IF(AND($I33=-1,U$9=$Q32),$J33,IF($I33=-1,V32,"")))))))) | W33: =IF($E32="","",IF($G33="",W32,IF(AND($N33=1,W$9>$B$9),"",IF(AND($N33=1,W$9<=$B$9),LOOKUP(W$9,$A$12:$A$111,$B$12:$B$111),IF(AND($I33=1,X$9=$Q32),"",IF($I33=1,X32,IF(AND($I33=-1,V$9=$Q32),$J33,IF($I33=-1,W32,"")))))))) | X33: =IF($E32="","",IF($G33="",X32,IF(AND($N33=1,X$9>$B$9),"",IF(AND($N33=1,X$9<=$B$9),LOOKUP(X$9,$A$12:$A$111,$B$12:$B$111),IF(AND($I33=1,Y$9=$Q32),"",IF($I33=1,Y32,IF(AND($I33=-1,W$9=$Q32),$J33,IF($I33=-1,X32,"")))))))) | Y33: =IF($E32="","",IF($G33="",Y32,IF(AND($N33=1,Y$9>$B$9),"",IF(AND($N33=1,Y$9<=$B$9),LOOKUP(Y$9,$A$12:$A$111,$B$12:$B$111),IF(AND($I33=1,Z$9=$Q32),"",IF($I33=1,Z32,IF(AND($I33=-1,X$9=$Q32),$J33,IF($I33=-1,Y32,"")))))))) | Z33: =IF($E32="","",IF($G33="",Z32,IF(AND($N33=1,Z$9>$B$9),"",IF(AND($N33=1,Z$9<=$B$9),LOOKUP(Z$9,$A$12:$A$111,$B$12:$B$111),IF(AND($I33=1,AA$9=$Q32),"",IF($I33=1,AA32,IF(AND($I33=-1,Y$9=$Q32),$J33,IF($I33=-1,Z32,"")))))))) | ... BO33: =IF($E32="","",IF($G33="",BO32,IF(AND($N33=1,BO$9>$B$9),"",IF(AND($N33=1,BO$9<=$B$9),LOOKUP(BO$9,$A$12:$A$111,$B$12:$B$111),IF(AND($I33=1,BP$9=$Q32),"",IF($I33=1,BP32,IF(AND($I33=-1,BN$9=$Q32),$J33,IF($I33=-1,BO32,"")))))))) -> 0
... D210: 200 | E210: =RANDBETWEEN(0,36) -> 17 | G210: =IF(E209="","",IF($B$3=Refs!$B$11,Labouchere!F210,IF(AND(B$3="Last",H209="Zero"),G209,IF(B$3="Last",H209,IF(B$3="2nd last","",IF(AND(B$3="Opposite",H209="Zero"),G209,IF(AND(B$3="Opposite",H209="Red"),"Black",IF(AND(B$3="Opposite",H209="Black"),"Red",IF(AND(B$3="Opposite",H209="Odd"),"Even",IF(AND(B$3="Opposite",H209="Even"),"Odd",IF(AND(B$3="Opposite",H209="High"),"Low",IF(AND(B$3="Opposite",H209="Low"),"High",IF(COUNTIF(Refs!$E$5:$I$6,B$3)=1,Labouchere!B$3,""))))))))))))) -> High | H210: =IF(E210="","",IF(B$2="Red/Black",LOOKUP(E210,Refs!D:D,Refs!F:F),IF(B$2="High/Low",LOOKUP(E210,Refs!D:D,Refs!H:H),IF(B$2="Odd/Even",LOOKUP(E210,Refs!D:D,Refs!J:J),"")))) -> Low | I210: =IF(E210="","",IF(G210="","",IF(H210=G210,1,-1))) -> -1 | J210: =IF(E209="","",IF(G210="","",IF(AND(Q209>1,O209+P209>=$B$4),$B$4,IF(Q209=1,O209,O209+P209)))) -> 12 | K210: =IF(E210="","",IF(G210="","",IF(I210=1,J210,-J210))) -> -12 | L210: =IF(E210="","",IF(G210="",L209,K210+L209)) -> -75 | M210: =IF(E210="","",IF(L210>M209,L210,M209)) -> 20 | N210: =IF(E209="","",IF(OR(AND($A$6="Yes",$M210>$M209),AND($A$8="Yes",$O209+$P209>=$B$4),AND($Q209<=2,$I210=1)),1,0)) -> 0 | O210: =IF(E210="","",R210) -> 2 | P210: =IF(E210="","",MAX(R210:DM210)) -> 12 | Q210: =IF(E210="","",COUNTIF(R210:DM210,">0")) -> 9 | R210: =IF(E209="","",IF($G210="",R209,IF($N210=1,LOOKUP(R$9,$A$12:$A$111,$B$12:$B$111),IF(AND($I210=1,S$9=$Q209),"",IF($I210=1,S209,IF($I210=-1,R209)))))) -> 2 | S210: =IF($E209="","",IF($G210="",S209,IF(AND($N210=1,S$9>$B$9),"",IF(AND($N210=1,S$9<=$B$9),LOOKUP(S$9,$A$12:$A$111,$B$12:$B$111),IF(AND($I210=1,T$9=$Q209),"",IF($I210=1,T209,IF(AND($I210=-1,R$9=$Q209),$J210,IF($I210=-1,S209,"")))))))) -> 3 | T210: =IF($E209="","",IF($G210="",T209,IF(AND($N210=1,T$9>$B$9),"",IF(AND($N210=1,T$9<=$B$9),LOOKUP(T$9,$A$12:$A$111,$B$12:$B$111),IF(AND($I210=1,U$9=$Q209),"",IF($I210=1,U209,IF(AND($I210=-1,S$9=$Q209),$J210,IF($I210=-1,T209,"")))))))) -> 4 | U210: =IF($E209="","",IF($G210="",U209,IF(AND($N210=1,U$9>$B$9),"",IF(AND($N210=1,U$9<=$B$9),LOOKUP(U$9,$A$12:$A$111,$B$12:$B$111),IF(AND($I210=1,V$9=$Q209),"",IF($I210=1,V209,IF(AND($I210=-1,T$9=$Q209),$J210,IF($I210=-1,U209,"")))))))) -> 5 | V210: =IF($E209="","",IF($G210="",V209,IF(AND($N210=1,V$9>$B$9),"",IF(AND($N210=1,V$9<=$B$9),LOOKUP(V$9,$A$12:$A$111,$B$12:$B$111),IF(AND($I210=1,W$9=$Q209),"",IF($I210=1,W209,IF(AND($I210=-1,U$9=$Q209),$J210,IF($I210=-1,V209,"")))))))) -> 6 | W210: =IF($E209="","",IF($G210="",W209,IF(AND($N210=1,W$9>$B$9),"",IF(AND($N210=1,W$9<=$B$9),LOOKUP(W$9,$A$12:$A$111,$B$12:$B$111),IF(AND($I210=1,X$9=$Q209),"",IF($I210=1,X209,IF(AND($I210=-1,V$9=$Q209),$J210,IF($I210=-1,W209,"")))))))) -> 7 | X210: =IF($E209="","",IF($G210="",X209,IF(AND($N210=1,X$9>$B$9),"",IF(AND($N210=1,X$9<=$B$9),LOOKUP(X$9,$A$12:$A$111,$B$12:$B$111),IF(AND($I210=1,Y$9=$Q209),"",IF($I210=1,Y209,IF(AND($I210=-1,W$9=$Q209),$J210,IF($I210=-1,X209,"")))))))) -> 8 | Y210: =IF($E209="","",IF($G210="",Y209,IF(AND($N210=1,Y$9>$B$9),"",IF(AND($N210=1,Y$9<=$B$9),LOOKUP(Y$9,$A$12:$A$111,$B$12:$B$111),IF(AND($I210=1,Z$9=$Q209),"",IF($I210=1,Z209,IF(AND($I210=-1,X$9=$Q209),$J210,IF($I210=-1,Y209,"")))))))) -> 10 | Z210: =IF($E209="","",IF($G210="",Z209,IF(AND($N210=1,Z$9>$B$9),"",IF(AND($N210=1,Z$9<=$B$9),LOOKUP(Z$9,$A$12:$A$111,$B$12:$B$111),IF(AND($I210=1,AA$9=$Q209),"",IF($I210=1,AA209,IF(AND($I210=-1,Y$9=$Q209),$J210,IF($I210=-1,Z209,"")))))))) -> 12 | ... BO210: =IF($E209="","",IF($G210="",BO209,IF(AND($N210=1,BO$9>$B$9),"",IF(AND($N210=1,BO$9<=$B$9),LOOKUP(BO$9,$A$12:$A$111,$B$12:$B$111),IF(AND($I210=1,BP$9=$Q209),"",IF($I210=1,BP209,IF(AND($I210=-1,BN$9=$Q209),$J210,IF($I210=-1,BO209,"")))))))) -> 0

Sheet Refs
B2: High/Low | C2: Yes | D2: 1
B3: Odd/Even | C3: No | D3: 2
B4: Red/Black | D4: 3
E5: Red | G5: High | I5: Odd
B6: =IF(RevLab!B$2="Red/Black","Red",IF(RevLab!B$2="Odd/Even","Odd",IF(RevLab!B$2="High/Low","High",""))) -> High | C6: 1 | E6: Black | G6: Low | I6: Even
B7: =IF(RevLab!B$2="Red/Black","Black",IF(RevLab!B$2="Odd/Even","Even",IF(RevLab!B$2="High/Low","Low",""))) -> Low | C7: 2 | D7: Nr | E7: R/B | G7: H/L | I7: Odd/Even
B8: Last | C8: 3 | D8: 0 | E8: 0 | F8: Zero | G8: 0 | H8: Zero | I8: 0 | J8: Zero | L8: 1 | M8: =L8+M7 -> 1
B9: Opposite | C9: 4 | D9: 1 | E9: 1 | F9: Red | G9: 1 | H9: Low | I9: 1 | J9: Odd | L9: 2 | M9: =L9+M8 -> 3
B10: 2nd last | C10: 5 | D10: 2 | E10: 2 | F10: Black | G10: =G9 -> 1 | H10: Low | I10: 2 | J10: Even | L10: 3 | M10: =L10+M9 -> 6
B11: Custom | D11: 3 | E11: 1 | F11: Red | G11: =G10 -> 1 | H11: Low | I11: 1 | J11: Odd | L11: 4 | M11: =L11+M10 -> 10
B12: =IF(Labouchere!B$2="Red/Black","Red",IF(Labouchere!B$2="Odd/Even","Odd",IF(Labouchere!B$2="High/Low","High",""))) -> High | D12: 4 | E12: 2 | F12: Black | G12: =G11 -> 1 | H12: Low | I12: 2 | J12: Even | L12: 5 | M12: =L12+M11 -> 15
B13: =IF(Labouchere!B$2="Red/Black","Black",IF(Labouchere!B$2="Odd/Even","Even",IF(Labouchere!B$2="High/Low","Low",""))) -> Low | D13: 5 | E13: 1 | F13: Red | G13: =G12 -> 1 | H13: Low | I13: 1 | J13: Odd | L13: 6 | M13: =L13+M12 -> 21
B14: Last | D14: 6 | E14: 2 | F14: Black | G14: =G13 -> 1 | H14: Low | I14: 2 | J14: Even | L14: 7 | M14: =L14+M13 -> 28
B15: Opposite | D15: 7 | E15: 1 | F15: Red | G15: =G14 -> 1 | H15: Low | I15: 1 | J15: Odd | L15: 8 | M15: =L15+M14 -> 36
B16: 2nd last | D16: 8 | E16: 2 | F16: Black | G16: =G15 -> 1 | H16: Low | I16: 2 | J16: Even | L16: 9 | M16: =L16+M15 -> 45
B17: Custom | D17: 9 | E17: 1 | F17: Red | G17: =G16 -> 1 | H17: Low | I17: 1 | J17: Odd | L17: 10 | M17: =L17+M16 -> 55
D18: 10 | E18: 2 | F18: Black | G18: =G17 -> 1 | H18: Low | I18: 2 | J18: Even | L18: 11 | M18: =L18+M17 -> 66
D19: 11 | E19: 2 | F19: Black | G19: =G18 -> 1 | H19: Low | I19: 1 | J19: Odd | L19: 12 | M19: =L19+M18 -> 78
D20: 12 | E20: 1 | F20: Red | G20: =G19 -> 1 | H20: Low | I20: 2 | J20: Even | L20: 13 | M20: =L20+M19 -> 91
D21: 13 | E21: 2 | F21: Black | G21: =G20 -> 1 | H21: Low | I21: 1 | J21: Odd | L21: 14 | M21: =L21+M20 -> 105
D22: 14 | E22: 1 | F22: Red | G22: =G21 -> 1 | H22: Low | I22: 2 | J22: Even | L22: 15 | M22: =L22+M21 -> 120
D23: 15 | E23: 2 | F23: Black | G23: =G22 -> 1 | H23: Low | I23: 1 | J23: Odd | L23: 16 | M23: =L23+M22 -> 136
D24: 16 | E24: 1 | F24: Red | G24: =G23 -> 1 | H24: Low | I24: 2 | J24: Even | L24: 17 | M24: =L24+M23 -> 153
D25: 17 | E25: 2 | F25: Black | G25: =G24 -> 1 | H25: Low | I25: 1 | J25: Odd | L25: 18 | M25: =L25+M24 -> 171
D26: 18 | E26: 1 | F26: Red | G26: =G25 -> 1 | H26: Low | I26: 2 | J26: Even | L26: 19 | M26: =L26+M25 -> 190
D27: 19 | E27: 1 | F27: Red | G27: 2 | H27: High | I27: 1 | J27: Odd | L27: 20 | M27: =L27+M26 -> 210
D28: 20 | E28: 2 | F28: Black | G28: =G27 -> 2 | H28: High | I28: 2 | J28: Even | L28: 21 | M28: =L28+M27 -> 231
D29: 21 | E29: 1 | F29: Red | G29: =G28 -> 2 | H29: High | I29: 1 | J29: Odd | L29: 22 | M29: =L29+M28 -> 253
D30: 22 | E30: 2 | F30: Black | G30: =G29 -> 2 | H30: High | I30: 2 | J30: Even | L30: 23 | M30: =L30+M29 -> 276
D31: 23 | E31: 1 | F31: Red | G31: =G30 -> 2 | H31: High | I31: 1 | J31: Odd | L31: 24 | M31: =L31+M30 -> 300
D32: 24 | E32: 2 | F32: Black | G32: =G31 -> 2 | H32: High | I32: 2 | J32: Even | L32: 25 | M32: =L32+M31 -> 325
D33: 25 | E33: 1 | F33: Red | G33: =G32 -> 2 | H33: High | I33: 1 | J33: Odd | L33: 26 | M33: =L33+M32 -> 351
D34: 26 | E34: 2 | F34: Black | G34: =G33 -> 2 | H34: High | I34: 2 | J34: Even | L34: 27 | M34: =L34+M33 -> 378
D35: 27 | E35: 1 | F35: Red | G35: =G34 -> 2 | H35: High | I35: 1 | J35: Odd | L35: 28 | M35: =L35+M34 -> 406
D36: 28 | E36: 2 | F36: Black | G36: =G35 -> 2 | H36: High | I36: 2 | J36: Even | L36: 29 | M36: =L36+M35 -> 435
D37: 29 | E37: 2 | F37: Black | G37: =G36 -> 2 | H37: High | I37: 1 | J37: Odd | L37: 30 | M37: =L37+M36 -> 465
D38: 30 | E38: 1 | F38: Red | G38: =G37 -> 2 | H38: High | I38: 2 | J38: Even | L38: 31 | M38: =L38+M37 -> 496
D39: 31 | E39: 2 | F39: Black | G39: =G38 -> 2 | H39: High | I39: 1 | J39: Odd | L39: 32 | M39: =L39+M38 -> 528
... D44: 36 | E44: 1 | F44: Red | G44: =G43 -> 2 | H44: High | I44: 2 | J44: Even | L44: 37 | M44: =L44+M43 -> 703
L45: 38 | M45: =L45+M44 -> 741
L46: 39 | M46: =L46+M45 -> 780
L47: 40 | M47: =L47+M46 -> 820
L48: 41 | M48: =L48+M47 -> 861
L49: 42 | M49: =L49+M48 -> 903
L50: 43 | M50: =L50+M49 -> 946
L51: 44 | M51: =L51+M50 -> 990
L52: 45 | M52: =L52+M51 -> 1035
L53: 46 | M53: =L53+M52 -> 1081
L54: 47 | M54: =L54+M53 -> 1128
L55: 48 | M55: =L55+M54 -> 1176
L56: 49 | M56: =L56+M55 -> 1225
... L66: 59 | M66: =L66+M65 -> 1770
