Workbook

Sheet Sheet1
I1: Parameters | N1: Stats
I2: Track | J2: 20 | N2: Attempts | P2: =COUNTIF(F:F,">0") -> 65 | Q2: End | S2: =J508 -> 10
I3: Hit | J3: 2 | N3: Hits | P3: =COUNTIF(G:G,1) -> 4 | Q3: Minimum | S3: =MIN(J10:J508) -> -4
N4: Max nrs | P4: =MAX(F:F) -> 4 | Q4: Maximum | S4: =MAX(J10:J508) -> 56
Y6: Hits in tracking length | BJ6: Play/ no play | CU6: Lookup source
N7: 1 | O7: 2 | P7: 3 | Q7: 4 | R7: 5 | S7: 6 | T7: 7 | U7: 8 | X7: Pos | Y7: 1 | Z7: 2 | AA7: 3 | AB7: 4 | AC7: 5 | AD7: 6 | AE7: 7 | AF7: 8 | AG7: 9 | AH7: 10 | AI7: 11 | AJ7: 12 | AK7: 13 | AL7: 14 | AM7: 15 | AN7: 16 | AO7: 17 | AP7: 18 | AQ7: 19 | AR7: 20 | AS7: 21 | AT7: 22 | AU7: 23 | AV7: 24 | AW7: 25 | AX7: 26 | AY7: 27 | AZ7: 28 | BA7: 29 | BB7: 30 | BC7: 31 | BD7: 32 | BE7: 33 | BF7: 34 | BG7: 35 | BH7: 36 | BI7: 37 | BJ7: 1 | BK7: 2 | BL7: 3 | BM7: 4 | BN7: 5 | BO7: 6 | BP7: 7 | BQ7: 8 | BR7: 9 | BS7: 10 | BT7: 11 | BU7: 12 | BV7: 13 | BW7: 14 | BX7: 15 | BY7: 16 | BZ7: 17 | CA7: 18 | CB7: 19 | CC7: 20 | CD7: 21 | CE7: 22 | CF7: 23 | CG7: 24 | CH7: 25 | CI7: 26 | CJ7: 27 | CK7: 28 | CL7: 29 | CM7: 30 | CN7: 31 | CO7: 32 | CP7: 33 | CQ7: 34 | CR7: 35 | CS7: 36 | CT7: 37 | CU7: 1 | CV7: 2 | CW7: 3 | CX7: 4 | CY7: 5 | CZ7: 6 | DA7: 7 | DB7: 8 | DC7: 9 | DD7: 10 | DE7: 11 | DF7: 12 | DG7: 13 | DH7: 14 | DI7: 15 | DJ7: 16 | DK7: 17 | DL7: 18 | DM7: 19 | DN7: 20 | DO7: 21 | DP7: 22 | DQ7: 23 | DR7: 24 | DS7: 25 | DT7: 26 | DU7: 27 | DV7: 28 | DW7: 29 | DX7: 30 | DY7: 31 | DZ7: 32 | EA7: 33 | EB7: 34 | EC7: 35 | ED7: 36 | EE7: 37
C8: Spin | D8: Nr | E8: Position | F8: Nrs | G8: WL | H8: WL | I8: Net | J8: Total | N8: Play nrs | X8: Nr | Y8: =LOOKUP(Y7,Sheet2!$D:$D,Sheet2!$E:$E) -> 0 | Z8: =LOOKUP(Z7,Sheet2!$D:$D,Sheet2!$E:$E) -> 32 | AA8: =LOOKUP(AA7,Sheet2!$D:$D,Sheet2!$E:$E) -> 15 | AB8: =LOOKUP(AB7,Sheet2!$D:$D,Sheet2!$E:$E) -> 19 | AC8: =LOOKUP(AC7,Sheet2!$D:$D,Sheet2!$E:$E) -> 4 | AD8: =LOOKUP(AD7,Sheet2!$D:$D,Sheet2!$E:$E) -> 21 | AE8: =LOOKUP(AE7,Sheet2!$D:$D,Sheet2!$E:$E) -> 2 | AF8: =LOOKUP(AF7,Sheet2!$D:$D,Sheet2!$E:$E) -> 25 | ... EE8: =LOOKUP(EE7,Sheet2!$D:$D,Sheet2!$E:$E) -> 26
C9: 1 | D9: =RANDBETWEEN(0,36) -> 21 | E9: =IF(D9="","",LOOKUP(D9,Sheet2!B:B,Sheet2!C:C)) -> 6
C10: 2 | D10: =RANDBETWEEN(0,36) -> 4 | E10: =IF(D10="","",LOOKUP(D10,Sheet2!B:B,Sheet2!C:C)) -> 5 | F10: =IF(D9="","",COUNTIF(BJ10:CT10,1)) -> 0 | G10: =IF(D10="","",LOOKUP(E10,$BJ$7:$CT$7,$BJ10:$CT10)) -> 0 | H10: =IF(D10="","",IF(F10=0,"",IF(G10=1,"W",IF(G10=0,"L")))) | I10: =IF(D10="","",36*G10-F10) -> 0 | J10: =IF(D10="",J9,I10+J9) -> 0 | N10: =IF($D9="","",IF(N$7>=$EF10,"",LOOKUP(N$7,$CU10:$EF10,$CU$8:$EE$8))) | O10: =IF($D9="","",IF(O$7>=$EF10,"",LOOKUP(O$7,$CU10:$EF10,$CU$8:$EE$8))) | P10: =IF($D9="","",IF(P$7>=$EF10,"",LOOKUP(P$7,$CU10:$EF10,$CU$8:$EE$8))) | Q10: =IF($D9="","",IF(Q$7>=$EF10,"",LOOKUP(Q$7,$CU10:$EF10,$CU$8:$EE$8))) | R10: =IF($D9="","",IF(R$7>=$EF10,"",LOOKUP(R$7,$CU10:$EF10,$CU$8:$EE$8))) | S10: =IF($D9="","",IF(S$7>=$EF10,"",LOOKUP(S$7,$CU10:$EF10,$CU$8:$EE$8))) | T10: =IF($D9="","",IF(T$7>=$EF10,"",LOOKUP(T$7,$CU10:$EF10,$CU$8:$EE$8))) | U10: =IF($D9="","",IF(U$7>=$EF10,"",LOOKUP(U$7,$CU10:$EF10,$CU$8:$EE$8))) | Y10: =IF($D9="","",COUNTIF(OFFSET($D9,-(MIN($C9,$J$2)-1),0,1,1):$D9,Y$8)) -> 0 | Z10: =IF($D9="","",COUNTIF(OFFSET($D9,-(MIN($C9,$J$2)-1),0,1,1):$D9,Z$8)) -> 0 | AA10: =IF($D9="","",COUNTIF(OFFSET($D9,-(MIN($C9,$J$2)-1),0,1,1):$D9,AA$8)) -> 0 | AB10: =IF($D9="","",COUNTIF(OFFSET($D9,-(MIN($C9,$J$2)-1),0,1,1):$D9,AB$8)) -> 0 | AC10: =IF($D9="","",COUNTIF(OFFSET($D9,-(MIN($C9,$J$2)-1),0,1,1):$D9,AC$8)) -> 0 | AD10: =IF($D9="","",COUNTIF(OFFSET($D9,-(MIN($C9,$J$2)-1),0,1,1):$D9,AD$8)) -> 1 | AE10: =IF($D9="","",COUNTIF(OFFSET($D9,-(MIN($C9,$J$2)-1),0,1,1):$D9,AE$8)) -> 0 | AF10: =IF($D9="","",COUNTIF(OFFSET($D9,-(MIN($C9,$J$2)-1),0,1,1):$D9,AF$8)) -> 0 | ... BI10: =IF($D9="","",COUNTIF(OFFSET($D9,-(MIN($C9,$J$2)-1),0,1,1):$D9,BI$8)) -> 0 | BJ10: =IF(D9="","",IF(OR(AND(Y10=$J$3,BI10=$J$3),AND(Y10=$J$3,Z10=$J$3)),1,0)) -> 0 | BK10: =IF($D9="","",IF(OR(AND(Z10=$J$3,Y10=$J$3),AND(Z10=$J$3,AA10=$J$3)),1,0)) -> 0 | BL10: =IF($D9="","",IF(OR(AND(AA10=$J$3,Z10=$J$3),AND(AA10=$J$3,AB10=$J$3)),1,0)) -> 0 | BM10: =IF($D9="","",IF(OR(AND(AB10=$J$3,AA10=$J$3),AND(AB10=$J$3,AC10=$J$3)),1,0)) -> 0 | BN10: =IF($D9="","",IF(OR(AND(AC10=$J$3,AB10=$J$3),AND(AC10=$J$3,AD10=$J$3)),1,0)) -> 0 | BO10: =IF($D9="","",IF(OR(AND(AD10=$J$3,AC10=$J$3),AND(AD10=$J$3,AE10=$J$3)),1,0)) -> 0 | BP10: =IF($D9="","",IF(OR(AND(AE10=$J$3,AD10=$J$3),AND(AE10=$J$3,AF10=$J$3)),1,0)) -> 0 | BQ10: =IF($D9="","",IF(OR(AND(AF10=$J$3,AE10=$J$3),AND(AF10=$J$3,AG10=$J$3)),1,0)) -> 0 | BR10: =IF($D9="","",IF(OR(AND(AG10=$J$3,AF10=$J$3),AND(AG10=$J$3,AH10=$J$3)),1,0)) -> 0 | ... CS10: =IF($D9="","",IF(OR(AND(BH10=$J$3,BG10=$J$3),AND(BH10=$J$3,BI10=$J$3)),1,0)) -> 0 | CT10: =IF(D9="","",IF(OR(AND(BI10=$J$3,BH10=$J$3),AND(BI10=$J$3,Y10=$J$3)),1,0)) -> 0 | CU10: =IF(D9="","",1) -> 1 | CV10: =IF($D9="","",CU10+BJ10) -> 1 | CW10: =IF($D9="","",CV10+BK10) -> 1 | CX10: =IF($D9="","",CW10+BL10) -> 1 | CY10: =IF($D9="","",CX10+BM10) -> 1 | CZ10: =IF($D9="","",CY10+BN10) -> 1 | DA10: =IF($D9="","",CZ10+BO10) -> 1 | DB10: =IF($D9="","",DA10+BP10) -> 1 | DC10: =IF($D9="","",DB10+BQ10) -> 1 | ... EF10: =IF($D9="","",EE10+CT10) -> 1
C11: 3 | D11: =RANDBETWEEN(0,36) -> 27 | E11: =IF(D11="","",LOOKUP(D11,Sheet2!B:B,Sheet2!C:C)) -> 12 | F11: =IF(D10="","",COUNTIF(BJ11:CT11,1)) -> 0 | G11: =IF(D11="","",LOOKUP(E11,$BJ$7:$CT$7,$BJ11:$CT11)) -> 0 | H11: =IF(D11="","",IF(F11=0,"",IF(G11=1,"W",IF(G11=0,"L")))) | I11: =IF(D11="","",36*G11-F11) -> 0 | J11: =IF(D11="",J10,I11+J10) -> 0 | N11: =IF($D10="","",IF(N$7>=$EF11,"",LOOKUP(N$7,$CU11:$EF11,$CU$8:$EE$8))) | O11: =IF($D10="","",IF(O$7>=$EF11,"",LOOKUP(O$7,$CU11:$EF11,$CU$8:$EE$8))) | P11: =IF($D10="","",IF(P$7>=$EF11,"",LOOKUP(P$7,$CU11:$EF11,$CU$8:$EE$8))) | Q11: =IF($D10="","",IF(Q$7>=$EF11,"",LOOKUP(Q$7,$CU11:$EF11,$CU$8:$EE$8))) | R11: =IF($D10="","",IF(R$7>=$EF11,"",LOOKUP(R$7,$CU11:$EF11,$CU$8:$EE$8))) | S11: =IF($D10="","",IF(S$7>=$EF11,"",LOOKUP(S$7,$CU11:$EF11,$CU$8:$EE$8))) | T11: =IF($D10="","",IF(T$7>=$EF11,"",LOOKUP(T$7,$CU11:$EF11,$CU$8:$EE$8))) | U11: =IF($D10="","",IF(U$7>=$EF11,"",LOOKUP(U$7,$CU11:$EF11,$CU$8:$EE$8))) | Y11: =IF($D10="","",COUNTIF(OFFSET($D10,-(MIN($C10,$J$2)-1),0,1,1):$D10,Y$8)) -> 0 | Z11: =IF($D10="","",COUNTIF(OFFSET($D10,-(MIN($C10,$J$2)-1),0,1,1):$D10,Z$8)) -> 0 | AA11: =IF($D10="","",COUNTIF(OFFSET($D10,-(MIN($C10,$J$2)-1),0,1,1):$D10,AA$8)) -> 0 | AB11: =IF($D10="","",COUNTIF(OFFSET($D10,-(MIN($C10,$J$2)-1),0,1,1):$D10,AB$8)) -> 0 | AC11: =IF($D10="","",COUNTIF(OFFSET($D10,-(MIN($C10,$J$2)-1),0,1,1):$D10,AC$8)) -> 1 | AD11: =IF($D10="","",COUNTIF(OFFSET($D10,-(MIN($C10,$J$2)-1),0,1,1):$D10,AD$8)) -> 1 | AE11: =IF($D10="","",COUNTIF(OFFSET($D10,-(MIN($C10,$J$2)-1),0,1,1):$D10,AE$8)) -> 0 | AF11: =IF($D10="","",COUNTIF(OFFSET($D10,-(MIN($C10,$J$2)-1),0,1,1):$D10,AF$8)) -> 0 | ... BI11: =IF($D10="","",COUNTIF(OFFSET($D10,-(MIN($C10,$J$2)-1),0,1,1):$D10,BI$8)) -> 0 | BJ11: =IF(D10="","",IF(OR(AND(Y11=$J$3,BI11=$J$3),AND(Y11=$J$3,Z11=$J$3)),1,0)) -> 0 | BK11: =IF($D10="","",IF(OR(AND(Z11=$J$3,Y11=$J$3),AND(Z11=$J$3,AA11=$J$3)),1,0)) -> 0 | BL11: =IF($D10="","",IF(OR(AND(AA11=$J$3,Z11=$J$3),AND(AA11=$J$3,AB11=$J$3)),1,0)) -> 0 | BM11: =IF($D10="","",IF(OR(AND(AB11=$J$3,AA11=$J$3),AND(AB11=$J$3,AC11=$J$3)),1,0)) -> 0 | BN11: =IF($D10="","",IF(OR(AND(AC11=$J$3,AB11=$J$3),AND(AC11=$J$3,AD11=$J$3)),1,0)) -> 0 | BO11: =IF($D10="","",IF(OR(AND(AD11=$J$3,AC11=$J$3),AND(AD11=$J$3,AE11=$J$3)),1,0)) -> 0 | BP11: =IF($D10="","",IF(OR(AND(AE11=$J$3,AD11=$J$3),AND(AE11=$J$3,AF11=$J$3)),1,0)) -> 0 | BQ11: =IF($D10="","",IF(OR(AND(AF11=$J$3,AE11=$J$3),AND(AF11=$J$3,AG11=$J$3)),1,0)) -> 0 | BR11: =IF($D10="","",IF(OR(AND(AG11=$J$3,AF11=$J$3),AND(AG11=$J$3,AH11=$J$3)),1,0)) -> 0 | ... CS11: =IF($D10="","",IF(OR(AND(BH11=$J$3,BG11=$J$3),AND(BH11=$J$3,BI11=$J$3)),1,0)) -> 0 | CT11: =IF(D10="","",IF(OR(AND(BI11=$J$3,BH11=$J$3),AND(BI11=$J$3,Y11=$J$3)),1,0)) -> 0 | CU11: =IF(D10="","",1) -> 1 | CV11: =IF($D10="","",CU11+BJ11) -> 1 | CW11: =IF($D10="","",CV11+BK11) -> 1 | CX11: =IF($D10="","",CW11+BL11) -> 1 | CY11: =IF($D10="","",CX11+BM11) -> 1 | CZ11: =IF($D10="","",CY11+BN11) -> 1 | DA11: =IF($D10="","",CZ11+BO11) -> 1 | DB11: =IF($D10="","",DA11+BP11) -> 1 | DC11: =IF($D10="","",DB11+BQ11) -> 1 | ... EF11: =IF($D10="","",EE11+CT11) -> 1
C12: 4 | D12: =RANDBETWEEN(0,36) -> 7 | E12: =IF(D12="","",LOOKUP(D12,Sheet2!B:B,Sheet2!C:C)) -> 32 | F12: =IF(D11="","",COUNTIF(BJ12:CT12,1)) -> 0 | G12: =IF(D12="","",LOOKUP(E12,$BJ$7:$CT$7,$BJ12:$CT12)) -> 0 | H12: =IF(D12="","",IF(F12=0,"",IF(G12=1,"W",IF(G12=0,"L")))) | I12: =IF(D12="","",36*G12-F12) -> 0 | J12: =IF(D12="",J11,I12+J11) -> 0 | N12: =IF($D11="","",IF(N$7>=$EF12,"",LOOKUP(N$7,$CU12:$EF12,$CU$8:$EE$8))) | O12: =IF($D11="","",IF(O$7>=$EF12,"",LOOKUP(O$7,$CU12:$EF12,$CU$8:$EE$8))) | P12: =IF($D11="","",IF(P$7>=$EF12,"",LOOKUP(P$7,$CU12:$EF12,$CU$8:$EE$8))) | Q12: =IF($D11="","",IF(Q$7>=$EF12,"",LOOKUP(Q$7,$CU12:$EF12,$CU$8:$EE$8))) | R12: =IF($D11="","",IF(R$7>=$EF12,"",LOOKUP(R$7,$CU12:$EF12,$CU$8:$EE$8))) | S12: =IF($D11="","",IF(S$7>=$EF12,"",LOOKUP(S$7,$CU12:$EF12,$CU$8:$EE$8))) | T12: =IF($D11="","",IF(T$7>=$EF12,"",LOOKUP(T$7,$CU12:$EF12,$CU$8:$EE$8))) | U12: =IF($D11="","",IF(U$7>=$EF12,"",LOOKUP(U$7,$CU12:$EF12,$CU$8:$EE$8))) | Y12: =IF($D11="","",COUNTIF(OFFSET($D11,-(MIN($C11,$J$2)-1),0,1,1):$D11,Y$8)) -> 0 | Z12: =IF($D11="","",COUNTIF(OFFSET($D11,-(MIN($C11,$J$2)-1),0,1,1):$D11,Z$8)) -> 0 | AA12: =IF($D11="","",COUNTIF(OFFSET($D11,-(MIN($C11,$J$2)-1),0,1,1):$D11,AA$8)) -> 0 | AB12: =IF($D11="","",COUNTIF(OFFSET($D11,-(MIN($C11,$J$2)-1),0,1,1):$D11,AB$8)) -> 0 | AC12: =IF($D11="","",COUNTIF(OFFSET($D11,-(MIN($C11,$J$2)-1),0,1,1):$D11,AC$8)) -> 1 | AD12: =IF($D11="","",COUNTIF(OFFSET($D11,-(MIN($C11,$J$2)-1),0,1,1):$D11,AD$8)) -> 1 | AE12: =IF($D11="","",COUNTIF(OFFSET($D11,-(MIN($C11,$J$2)-1),0,1,1):$D11,AE$8)) -> 0 | AF12: =IF($D11="","",COUNTIF(OFFSET($D11,-(MIN($C11,$J$2)-1),0,1,1):$D11,AF$8)) -> 0 | ... BI12: =IF($D11="","",COUNTIF(OFFSET($D11,-(MIN($C11,$J$2)-1),0,1,1):$D11,BI$8)) -> 0 | BJ12: =IF(D11="","",IF(OR(AND(Y12=$J$3,BI12=$J$3),AND(Y12=$J$3,Z12=$J$3)),1,0)) -> 0 | BK12: =IF($D11="","",IF(OR(AND(Z12=$J$3,Y12=$J$3),AND(Z12=$J$3,AA12=$J$3)),1,0)) -> 0 | BL12: =IF($D11="","",IF(OR(AND(AA12=$J$3,Z12=$J$3),AND(AA12=$J$3,AB12=$J$3)),1,0)) -> 0 | BM12: =IF($D11="","",IF(OR(AND(AB12=$J$3,AA12=$J$3),AND(AB12=$J$3,AC12=$J$3)),1,0)) -> 0 | BN12: =IF($D11="","",IF(OR(AND(AC12=$J$3,AB12=$J$3),AND(AC12=$J$3,AD12=$J$3)),1,0)) -> 0 | BO12: =IF($D11="","",IF(OR(AND(AD12=$J$3,AC12=$J$3),AND(AD12=$J$3,AE12=$J$3)),1,0)) -> 0 | BP12: =IF($D11="","",IF(OR(AND(AE12=$J$3,AD12=$J$3),AND(AE12=$J$3,AF12=$J$3)),1,0)) -> 0 | BQ12: =IF($D11="","",IF(OR(AND(AF12=$J$3,AE12=$J$3),AND(AF12=$J$3,AG12=$J$3)),1,0)) -> 0 | BR12: =IF($D11="","",IF(OR(AND(AG12=$J$3,AF12=$J$3),AND(AG12=$J$3,AH12=$J$3)),1,0)) -> 0 | ... CS12: =IF($D11="","",IF(OR(AND(BH12=$J$3,BG12=$J$3),AND(BH12=$J$3,BI12=$J$3)),1,0)) -> 0 | CT12: =IF(D11="","",IF(OR(AND(BI12=$J$3,BH12=$J$3),AND(BI12=$J$3,Y12=$J$3)),1,0)) -> 0 | CU12: =IF(D11="","",1) -> 1 | CV12: =IF($D11="","",CU12+BJ12) -> 1 | CW12: =IF($D11="","",CV12+BK12) -> 1 | CX12: =IF($D11="","",CW12+BL12) -> 1 | CY12: =IF($D11="","",CX12+BM12) -> 1 | CZ12: =IF($D11="","",CY12+BN12) -> 1 | DA12: =IF($D11="","",CZ12+BO12) -> 1 | DB12: =IF($D11="","",DA12+BP12) -> 1 | DC12: =IF($D11="","",DB12+BQ12) -> 1 | ... EF12: =IF($D11="","",EE12+CT12) -> 1
C13: 5 | D13: =RANDBETWEEN(0,36) -> 25 | E13: =IF(D13="","",LOOKUP(D13,Sheet2!B:B,Sheet2!C:C)) -> 8 | F13: =IF(D12="","",COUNTIF(BJ13:CT13,1)) -> 0 | G13: =IF(D13="","",LOOKUP(E13,$BJ$7:$CT$7,$BJ13:$CT13)) -> 0 | H13: =IF(D13="","",IF(F13=0,"",IF(G13=1,"W",IF(G13=0,"L")))) | I13: =IF(D13="","",36*G13-F13) -> 0 | J13: =IF(D13="",J12,I13+J12) -> 0 | N13: =IF($D12="","",IF(N$7>=$EF13,"",LOOKUP(N$7,$CU13:$EF13,$CU$8:$EE$8))) | O13: =IF($D12="","",IF(O$7>=$EF13,"",LOOKUP(O$7,$CU13:$EF13,$CU$8:$EE$8))) | P13: =IF($D12="","",IF(P$7>=$EF13,"",LOOKUP(P$7,$CU13:$EF13,$CU$8:$EE$8))) | Q13: =IF($D12="","",IF(Q$7>=$EF13,"",LOOKUP(Q$7,$CU13:$EF13,$CU$8:$EE$8))) | R13: =IF($D12="","",IF(R$7>=$EF13,"",LOOKUP(R$7,$CU13:$EF13,$CU$8:$EE$8))) | S13: =IF($D12="","",IF(S$7>=$EF13,"",LOOKUP(S$7,$CU13:$EF13,$CU$8:$EE$8))) | T13: =IF($D12="","",IF(T$7>=$EF13,"",LOOKUP(T$7,$CU13:$EF13,$CU$8:$EE$8))) | U13: =IF($D12="","",IF(U$7>=$EF13,"",LOOKUP(U$7,$CU13:$EF13,$CU$8:$EE$8))) | Y13: =IF($D12="","",COUNTIF(OFFSET($D12,-(MIN($C12,$J$2)-1),0,1,1):$D12,Y$8)) -> 0 | Z13: =IF($D12="","",COUNTIF(OFFSET($D12,-(MIN($C12,$J$2)-1),0,1,1):$D12,Z$8)) -> 0 | AA13: =IF($D12="","",COUNTIF(OFFSET($D12,-(MIN($C12,$J$2)-1),0,1,1):$D12,AA$8)) -> 0 | AB13: =IF($D12="","",COUNTIF(OFFSET($D12,-(MIN($C12,$J$2)-1),0,1,1):$D12,AB$8)) -> 0 | AC13: =IF($D12="","",COUNTIF(OFFSET($D12,-(MIN($C12,$J$2)-1),0,1,1):$D12,AC$8)) -> 1 | AD13: =IF($D12="","",COUNTIF(OFFSET($D12,-(MIN($C12,$J$2)-1),0,1,1):$D12,AD$8)) -> 1 | AE13: =IF($D12="","",COUNTIF(OFFSET($D12,-(MIN($C12,$J$2)-1),0,1,1):$D12,AE$8)) -> 0 | AF13: =IF($D12="","",COUNTIF(OFFSET($D12,-(MIN($C12,$J$2)-1),0,1,1):$D12,AF$8)) -> 0 | ... BI13: =IF($D12="","",COUNTIF(OFFSET($D12,-(MIN($C12,$J$2)-1),0,1,1):$D12,BI$8)) -> 0 | BJ13: =IF(D12="","",IF(OR(AND(Y13=$J$3,BI13=$J$3),AND(Y13=$J$3,Z13=$J$3)),1,0)) -> 0 | BK13: =IF($D12="","",IF(OR(AND(Z13=$J$3,Y13=$J$3),AND(Z13=$J$3,AA13=$J$3)),1,0)) -> 0 | BL13: =IF($D12="","",IF(OR(AND(AA13=$J$3,Z13=$J$3),AND(AA13=$J$3,AB13=$J$3)),1,0)) -> 0 | BM13: =IF($D12="","",IF(OR(AND(AB13=$J$3,AA13=$J$3),AND(AB13=$J$3,AC13=$J$3)),1,0)) -> 0 | BN13: =IF($D12="","",IF(OR(AND(AC13=$J$3,AB13=$J$3),AND(AC13=$J$3,AD13=$J$3)),1,0)) -> 0 | BO13: =IF($D12="","",IF(OR(AND(AD13=$J$3,AC13=$J$3),AND(AD13=$J$3,AE13=$J$3)),1,0)) -> 0 | BP13: =IF($D12="","",IF(OR(AND(AE13=$J$3,AD13=$J$3),AND(AE13=$J$3,AF13=$J$3)),1,0)) -> 0 | BQ13: =IF($D12="","",IF(OR(AND(AF13=$J$3,AE13=$J$3),AND(AF13=$J$3,AG13=$J$3)),1,0)) -> 0 | BR13: =IF($D12="","",IF(OR(AND(AG13=$J$3,AF13=$J$3),AND(AG13=$J$3,AH13=$J$3)),1,0)) -> 0 | ... CS13: =IF($D12="","",IF(OR(AND(BH13=$J$3,BG13=$J$3),AND(BH13=$J$3,BI13=$J$3)),1,0)) -> 0 | CT13: =IF(D12="","",IF(OR(AND(BI13=$J$3,BH13=$J$3),AND(BI13=$J$3,Y13=$J$3)),1,0)) -> 0 | CU13: =IF(D12="","",1) -> 1 | CV13: =IF($D12="","",CU13+BJ13) -> 1 | CW13: =IF($D12="","",CV13+BK13) -> 1 | CX13: =IF($D12="","",CW13+BL13) -> 1 | CY13: =IF($D12="","",CX13+BM13) -> 1 | CZ13: =IF($D12="","",CY13+BN13) -> 1 | DA13: =IF($D12="","",CZ13+BO13) -> 1 | DB13: =IF($D12="","",DA13+BP13) -> 1 | DC13: =IF($D12="","",DB13+BQ13) -> 1 | ... EF13: =IF($D12="","",EE13+CT13) -> 1
C14: 6 | D14: =RANDBETWEEN(0,36) -> 21 | E14: =IF(D14="","",LOOKUP(D14,Sheet2!B:B,Sheet2!C:C)) -> 6 | F14: =IF(D13="","",COUNTIF(BJ14:CT14,1)) -> 0 | G14: =IF(D14="","",LOOKUP(E14,$BJ$7:$CT$7,$BJ14:$CT14)) -> 0 | H14: =IF(D14="","",IF(F14=0,"",IF(G14=1,"W",IF(G14=0,"L")))) | I14: =IF(D14="","",36*G14-F14) -> 0 | J14: =IF(D14="",J13,I14+J13) -> 0 | N14: =IF($D13="","",IF(N$7>=$EF14,"",LOOKUP(N$7,$CU14:$EF14,$CU$8:$EE$8))) | O14: =IF($D13="","",IF(O$7>=$EF14,"",LOOKUP(O$7,$CU14:$EF14,$CU$8:$EE$8))) | P14: =IF($D13="","",IF(P$7>=$EF14,"",LOOKUP(P$7,$CU14:$EF14,$CU$8:$EE$8))) | Q14: =IF($D13="","",IF(Q$7>=$EF14,"",LOOKUP(Q$7,$CU14:$EF14,$CU$8:$EE$8))) | R14: =IF($D13="","",IF(R$7>=$EF14,"",LOOKUP(R$7,$CU14:$EF14,$CU$8:$EE$8))) | S14: =IF($D13="","",IF(S$7>=$EF14,"",LOOKUP(S$7,$CU14:$EF14,$CU$8:$EE$8))) | T14: =IF($D13="","",IF(T$7>=$EF14,"",LOOKUP(T$7,$CU14:$EF14,$CU$8:$EE$8))) | U14: =IF($D13="","",IF(U$7>=$EF14,"",LOOKUP(U$7,$CU14:$EF14,$CU$8:$EE$8))) | Y14: =IF($D13="","",COUNTIF(OFFSET($D13,-(MIN($C13,$J$2)-1),0,1,1):$D13,Y$8)) -> 0 | Z14: =IF($D13="","",COUNTIF(OFFSET($D13,-(MIN($C13,$J$2)-1),0,1,1):$D13,Z$8)) -> 0 | AA14: =IF($D13="","",COUNTIF(OFFSET($D13,-(MIN($C13,$J$2)-1),0,1,1):$D13,AA$8)) -> 0 | AB14: =IF($D13="","",COUNTIF(OFFSET($D13,-(MIN($C13,$J$2)-1),0,1,1):$D13,AB$8)) -> 0 | AC14: =IF($D13="","",COUNTIF(OFFSET($D13,-(MIN($C13,$J$2)-1),0,1,1):$D13,AC$8)) -> 1 | AD14: =IF($D13="","",COUNTIF(OFFSET($D13,-(MIN($C13,$J$2)-1),0,1,1):$D13,AD$8)) -> 1 | AE14: =IF($D13="","",COUNTIF(OFFSET($D13,-(MIN($C13,$J$2)-1),0,1,1):$D13,AE$8)) -> 0 | AF14: =IF($D13="","",COUNTIF(OFFSET($D13,-(MIN($C13,$J$2)-1),0,1,1):$D13,AF$8)) -> 1 | ... BI14: =IF($D13="","",COUNTIF(OFFSET($D13,-(MIN($C13,$J$2)-1),0,1,1):$D13,BI$8)) -> 0 | BJ14: =IF(D13="","",IF(OR(AND(Y14=$J$3,BI14=$J$3),AND(Y14=$J$3,Z14=$J$3)),1,0)) -> 0 | BK14: =IF($D13="","",IF(OR(AND(Z14=$J$3,Y14=$J$3),AND(Z14=$J$3,AA14=$J$3)),1,0)) -> 0 | BL14: =IF($D13="","",IF(OR(AND(AA14=$J$3,Z14=$J$3),AND(AA14=$J$3,AB14=$J$3)),1,0)) -> 0 | BM14: =IF($D13="","",IF(OR(AND(AB14=$J$3,AA14=$J$3),AND(AB14=$J$3,AC14=$J$3)),1,0)) -> 0 | BN14: =IF($D13="","",IF(OR(AND(AC14=$J$3,AB14=$J$3),AND(AC14=$J$3,AD14=$J$3)),1,0)) -> 0 | BO14: =IF($D13="","",IF(OR(AND(AD14=$J$3,AC14=$J$3),AND(AD14=$J$3,AE14=$J$3)),1,0)) -> 0 | BP14: =IF($D13="","",IF(OR(AND(AE14=$J$3,AD14=$J$3),AND(AE14=$J$3,AF14=$J$3)),1,0)) -> 0 | BQ14: =IF($D13="","",IF(OR(AND(AF14=$J$3,AE14=$J$3),AND(AF14=$J$3,AG14=$J$3)),1,0)) -> 0 | BR14: =IF($D13="","",IF(OR(AND(AG14=$J$3,AF14=$J$3),AND(AG14=$J$3,AH14=$J$3)),1,0)) -> 0 | ... CS14: =IF($D13="","",IF(OR(AND(BH14=$J$3,BG14=$J$3),AND(BH14=$J$3,BI14=$J$3)),1,0)) -> 0 | CT14: =IF(D13="","",IF(OR(AND(BI14=$J$3,BH14=$J$3),AND(BI14=$J$3,Y14=$J$3)),1,0)) -> 0 | CU14: =IF(D13="","",1) -> 1 | CV14: =IF($D13="","",CU14+BJ14) -> 1 | CW14: =IF($D13="","",CV14+BK14) -> 1 | CX14: =IF($D13="","",CW14+BL14) -> 1 | CY14: =IF($D13="","",CX14+BM14) -> 1 | CZ14: =IF($D13="","",CY14+BN14) -> 1 | DA14: =IF($D13="","",CZ14+BO14) -> 1 | DB14: =IF($D13="","",DA14+BP14) -> 1 | DC14: =IF($D13="","",DB14+BQ14) -> 1 | ... EF14: =IF($D13="","",EE14+CT14) -> 1
C15: 7 | D15: =RANDBETWEEN(0,36) -> 34 | E15: =IF(D15="","",LOOKUP(D15,Sheet2!B:B,Sheet2!C:C)) -> 10 | F15: =IF(D14="","",COUNTIF(BJ15:CT15,1)) -> 0 | G15: =IF(D15="","",LOOKUP(E15,$BJ$7:$CT$7,$BJ15:$CT15)) -> 0 | H15: =IF(D15="","",IF(F15=0,"",IF(G15=1,"W",IF(G15=0,"L")))) | I15: =IF(D15="","",36*G15-F15) -> 0 | J15: =IF(D15="",J14,I15+J14) -> 0 | N15: =IF($D14="","",IF(N$7>=$EF15,"",LOOKUP(N$7,$CU15:$EF15,$CU$8:$EE$8))) | O15: =IF($D14="","",IF(O$7>=$EF15,"",LOOKUP(O$7,$CU15:$EF15,$CU$8:$EE$8))) | P15: =IF($D14="","",IF(P$7>=$EF15,"",LOOKUP(P$7,$CU15:$EF15,$CU$8:$EE$8))) | Q15: =IF($D14="","",IF(Q$7>=$EF15,"",LOOKUP(Q$7,$CU15:$EF15,$CU$8:$EE$8))) | R15: =IF($D14="","",IF(R$7>=$EF15,"",LOOKUP(R$7,$CU15:$EF15,$CU$8:$EE$8))) | S15: =IF($D14="","",IF(S$7>=$EF15,"",LOOKUP(S$7,$CU15:$EF15,$CU$8:$EE$8))) | T15: =IF($D14="","",IF(T$7>=$EF15,"",LOOKUP(T$7,$CU15:$EF15,$CU$8:$EE$8))) | U15: =IF($D14="","",IF(U$7>=$EF15,"",LOOKUP(U$7,$CU15:$EF15,$CU$8:$EE$8))) | Y15: =IF($D14="","",COUNTIF(OFFSET($D14,-(MIN($C14,$J$2)-1),0,1,1):$D14,Y$8)) -> 0 | Z15: =IF($D14="","",COUNTIF(OFFSET($D14,-(MIN($C14,$J$2)-1),0,1,1):$D14,Z$8)) -> 0 | AA15: =IF($D14="","",COUNTIF(OFFSET($D14,-(MIN($C14,$J$2)-1),0,1,1):$D14,AA$8)) -> 0 | AB15: =IF($D14="","",COUNTIF(OFFSET($D14,-(MIN($C14,$J$2)-1),0,1,1):$D14,AB$8)) -> 0 | AC15: =IF($D14="","",COUNTIF(OFFSET($D14,-(MIN($C14,$J$2)-1),0,1,1):$D14,AC$8)) -> 1 | AD15: =IF($D14="","",COUNTIF(OFFSET($D14,-(MIN($C14,$J$2)-1),0,1,1):$D14,AD$8)) -> 2 | AE15: =IF($D14="","",COUNTIF(OFFSET($D14,-(MIN($C14,$J$2)-1),0,1,1):$D14,AE$8)) -> 0 | AF15: =IF($D14="","",COUNTIF(OFFSET($D14,-(MIN($C14,$J$2)-1),0,1,1):$D14,AF$8)) -> 1 | ... BI15: =IF($D14="","",COUNTIF(OFFSET($D14,-(MIN($C14,$J$2)-1),0,1,1):$D14,BI$8)) -> 0 | BJ15: =IF(D14="","",IF(OR(AND(Y15=$J$3,BI15=$J$3),AND(Y15=$J$3,Z15=$J$3)),1,0)) -> 0 | BK15: =IF($D14="","",IF(OR(AND(Z15=$J$3,Y15=$J$3),AND(Z15=$J$3,AA15=$J$3)),1,0)) -> 0 | BL15: =IF($D14="","",IF(OR(AND(AA15=$J$3,Z15=$J$3),AND(AA15=$J$3,AB15=$J$3)),1,0)) -> 0 | BM15: =IF($D14="","",IF(OR(AND(AB15=$J$3,AA15=$J$3),AND(AB15=$J$3,AC15=$J$3)),1,0)) -> 0 | BN15: =IF($D14="","",IF(OR(AND(AC15=$J$3,AB15=$J$3),AND(AC15=$J$3,AD15=$J$3)),1,0)) -> 0 | BO15: =IF($D14="","",IF(OR(AND(AD15=$J$3,AC15=$J$3),AND(AD15=$J$3,AE15=$J$3)),1,0)) -> 0 | BP15: =IF($D14="","",IF(OR(AND(AE15=$J$3,AD15=$J$3),AND(AE15=$J$3,AF15=$J$3)),1,0)) -> 0 | BQ15: =IF($D14="","",IF(OR(AND(AF15=$J$3,AE15=$J$3),AND(AF15=$J$3,AG15=$J$3)),1,0)) -> 0 | BR15: =IF($D14="","",IF(OR(AND(AG15=$J$3,AF15=$J$3),AND(AG15=$J$3,AH15=$J$3)),1,0)) -> 0 | ... CS15: =IF($D14="","",IF(OR(AND(BH15=$J$3,BG15=$J$3),AND(BH15=$J$3,BI15=$J$3)),1,0)) -> 0 | CT15: =IF(D14="","",IF(OR(AND(BI15=$J$3,BH15=$J$3),AND(BI15=$J$3,Y15=$J$3)),1,0)) -> 0 | CU15: =IF(D14="","",1) -> 1 | CV15: =IF($D14="","",CU15+BJ15) -> 1 | CW15: =IF($D14="","",CV15+BK15) -> 1 | CX15: =IF($D14="","",CW15+BL15) -> 1 | CY15: =IF($D14="","",CX15+BM15) -> 1 | CZ15: =IF($D14="","",CY15+BN15) -> 1 | DA15: =IF($D14="","",CZ15+BO15) -> 1 | DB15: =IF($D14="","",DA15+BP15) -> 1 | DC15: =IF($D14="","",DB15+BQ15) -> 1 | ... EF15: =IF($D14="","",EE15+CT15) -> 1
C16: 8 | D16: =RANDBETWEEN(0,36) -> 18 | E16: =IF(D16="","",LOOKUP(D16,Sheet2!B:B,Sheet2!C:C)) -> 30 | F16: =IF(D15="","",COUNTIF(BJ16:CT16,1)) -> 0 | G16: =IF(D16="","",LOOKUP(E16,$BJ$7:$CT$7,$BJ16:$CT16)) -> 0 | H16: =IF(D16="","",IF(F16=0,"",IF(G16=1,"W",IF(G16=0,"L")))) | I16: =IF(D16="","",36*G16-F16) -> 0 | J16: =IF(D16="",J15,I16+J15) -> 0 | N16: =IF($D15="","",IF(N$7>=$EF16,"",LOOKUP(N$7,$CU16:$EF16,$CU$8:$EE$8))) | O16: =IF($D15="","",IF(O$7>=$EF16,"",LOOKUP(O$7,$CU16:$EF16,$CU$8:$EE$8))) | P16: =IF($D15="","",IF(P$7>=$EF16,"",LOOKUP(P$7,$CU16:$EF16,$CU$8:$EE$8))) | Q16: =IF($D15="","",IF(Q$7>=$EF16,"",LOOKUP(Q$7,$CU16:$EF16,$CU$8:$EE$8))) | R16: =IF($D15="","",IF(R$7>=$EF16,"",LOOKUP(R$7,$CU16:$EF16,$CU$8:$EE$8))) | S16: =IF($D15="","",IF(S$7>=$EF16,"",LOOKUP(S$7,$CU16:$EF16,$CU$8:$EE$8))) | T16: =IF($D15="","",IF(T$7>=$EF16,"",LOOKUP(T$7,$CU16:$EF16,$CU$8:$EE$8))) | U16: =IF($D15="","",IF(U$7>=$EF16,"",LOOKUP(U$7,$CU16:$EF16,$CU$8:$EE$8))) | Y16: =IF($D15="","",COUNTIF(OFFSET($D15,-(MIN($C15,$J$2)-1),0,1,1):$D15,Y$8)) -> 0 | Z16: =IF($D15="","",COUNTIF(OFFSET($D15,-(MIN($C15,$J$2)-1),0,1,1):$D15,Z$8)) -> 0 | AA16: =IF($D15="","",COUNTIF(OFFSET($D15,-(MIN($C15,$J$2)-1),0,1,1):$D15,AA$8)) -> 0 | AB16: =IF($D15="","",COUNTIF(OFFSET($D15,-(MIN($C15,$J$2)-1),0,1,1):$D15,AB$8)) -> 0 | AC16: =IF($D15="","",COUNTIF(OFFSET($D15,-(MIN($C15,$J$2)-1),0,1,1):$D15,AC$8)) -> 1 | AD16: =IF($D15="","",COUNTIF(OFFSET($D15,-(MIN($C15,$J$2)-1),0,1,1):$D15,AD$8)) -> 2 | AE16: =IF($D15="","",COUNTIF(OFFSET($D15,-(MIN($C15,$J$2)-1),0,1,1):$D15,AE$8)) -> 0 | AF16: =IF($D15="","",COUNTIF(OFFSET($D15,-(MIN($C15,$J$2)-1),0,1,1):$D15,AF$8)) -> 1 | ... BI16: =IF($D15="","",COUNTIF(OFFSET($D15,-(MIN($C15,$J$2)-1),0,1,1):$D15,BI$8)) -> 0 | BJ16: =IF(D15="","",IF(OR(AND(Y16=$J$3,BI16=$J$3),AND(Y16=$J$3,Z16=$J$3)),1,0)) -> 0 | BK16: =IF($D15="","",IF(OR(AND(Z16=$J$3,Y16=$J$3),AND(Z16=$J$3,AA16=$J$3)),1,0)) -> 0 | BL16: =IF($D15="","",IF(OR(AND(AA16=$J$3,Z16=$J$3),AND(AA16=$J$3,AB16=$J$3)),1,0)) -> 0 | BM16: =IF($D15="","",IF(OR(AND(AB16=$J$3,AA16=$J$3),AND(AB16=$J$3,AC16=$J$3)),1,0)) -> 0 | BN16: =IF($D15="","",IF(OR(AND(AC16=$J$3,AB16=$J$3),AND(AC16=$J$3,AD16=$J$3)),1,0)) -> 0 | BO16: =IF($D15="","",IF(OR(AND(AD16=$J$3,AC16=$J$3),AND(AD16=$J$3,AE16=$J$3)),1,0)) -> 0 | BP16: =IF($D15="","",IF(OR(AND(AE16=$J$3,AD16=$J$3),AND(AE16=$J$3,AF16=$J$3)),1,0)) -> 0 | BQ16: =IF($D15="","",IF(OR(AND(AF16=$J$3,AE16=$J$3),AND(AF16=$J$3,AG16=$J$3)),1,0)) -> 0 | BR16: =IF($D15="","",IF(OR(AND(AG16=$J$3,AF16=$J$3),AND(AG16=$J$3,AH16=$J$3)),1,0)) -> 0 | ... CS16: =IF($D15="","",IF(OR(AND(BH16=$J$3,BG16=$J$3),AND(BH16=$J$3,BI16=$J$3)),1,0)) -> 0 | CT16: =IF(D15="","",IF(OR(AND(BI16=$J$3,BH16=$J$3),AND(BI16=$J$3,Y16=$J$3)),1,0)) -> 0 | CU16: =IF(D15="","",1) -> 1 | CV16: =IF($D15="","",CU16+BJ16) -> 1 | CW16: =IF($D15="","",CV16+BK16) -> 1 | CX16: =IF($D15="","",CW16+BL16) -> 1 | CY16: =IF($D15="","",CX16+BM16) -> 1 | CZ16: =IF($D15="","",CY16+BN16) -> 1 | DA16: =IF($D15="","",CZ16+BO16) -> 1 | DB16: =IF($D15="","",DA16+BP16) -> 1 | DC16: =IF($D15="","",DB16+BQ16) -> 1 | ... EF16: =IF($D15="","",EE16+CT16) -> 1
C17: 9 | D17: =RANDBETWEEN(0,36) -> 17 | E17: =IF(D17="","",LOOKUP(D17,Sheet2!B:B,Sheet2!C:C)) -> 9 | F17: =IF(D16="","",COUNTIF(BJ17:CT17,1)) -> 0 | G17: =IF(D17="","",LOOKUP(E17,$BJ$7:$CT$7,$BJ17:$CT17)) -> 0 | H17: =IF(D17="","",IF(F17=0,"",IF(G17=1,"W",IF(G17=0,"L")))) | I17: =IF(D17="","",36*G17-F17) -> 0 | J17: =IF(D17="",J16,I17+J16) -> 0 | N17: =IF($D16="","",IF(N$7>=$EF17,"",LOOKUP(N$7,$CU17:$EF17,$CU$8:$EE$8))) | O17: =IF($D16="","",IF(O$7>=$EF17,"",LOOKUP(O$7,$CU17:$EF17,$CU$8:$EE$8))) | P17: =IF($D16="","",IF(P$7>=$EF17,"",LOOKUP(P$7,$CU17:$EF17,$CU$8:$EE$8))) | Q17: =IF($D16="","",IF(Q$7>=$EF17,"",LOOKUP(Q$7,$CU17:$EF17,$CU$8:$EE$8))) | R17: =IF($D16="","",IF(R$7>=$EF17,"",LOOKUP(R$7,$CU17:$EF17,$CU$8:$EE$8))) | S17: =IF($D16="","",IF(S$7>=$EF17,"",LOOKUP(S$7,$CU17:$EF17,$CU$8:$EE$8))) | T17: =IF($D16="","",IF(T$7>=$EF17,"",LOOKUP(T$7,$CU17:$EF17,$CU$8:$EE$8))) | U17: =IF($D16="","",IF(U$7>=$EF17,"",LOOKUP(U$7,$CU17:$EF17,$CU$8:$EE$8))) | Y17: =IF($D16="","",COUNTIF(OFFSET($D16,-(MIN($C16,$J$2)-1),0,1,1):$D16,Y$8)) -> 0 | Z17: =IF($D16="","",COUNTIF(OFFSET($D16,-(MIN($C16,$J$2)-1),0,1,1):$D16,Z$8)) -> 0 | AA17: =IF($D16="","",COUNTIF(OFFSET($D16,-(MIN($C16,$J$2)-1),0,1,1):$D16,AA$8)) -> 0 | AB17: =IF($D16="","",COUNTIF(OFFSET($D16,-(MIN($C16,$J$2)-1),0,1,1):$D16,AB$8)) -> 0 | AC17: =IF($D16="","",COUNTIF(OFFSET($D16,-(MIN($C16,$J$2)-1),0,1,1):$D16,AC$8)) -> 1 | AD17: =IF($D16="","",COUNTIF(OFFSET($D16,-(MIN($C16,$J$2)-1),0,1,1):$D16,AD$8)) -> 2 | AE17: =IF($D16="","",COUNTIF(OFFSET($D16,-(MIN($C16,$J$2)-1),0,1,1):$D16,AE$8)) -> 0 | AF17: =IF($D16="","",COUNTIF(OFFSET($D16,-(MIN($C16,$J$2)-1),0,1,1):$D16,AF$8)) -> 1 | ... BI17: =IF($D16="","",COUNTIF(OFFSET($D16,-(MIN($C16,$J$2)-1),0,1,1):$D16,BI$8)) -> 0 | BJ17: =IF(D16="","",IF(OR(AND(Y17=$J$3,BI17=$J$3),AND(Y17=$J$3,Z17=$J$3)),1,0)) -> 0 | BK17: =IF($D16="","",IF(OR(AND(Z17=$J$3,Y17=$J$3),AND(Z17=$J$3,AA17=$J$3)),1,0)) -> 0 | BL17: =IF($D16="","",IF(OR(AND(AA17=$J$3,Z17=$J$3),AND(AA17=$J$3,AB17=$J$3)),1,0)) -> 0 | BM17: =IF($D16="","",IF(OR(AND(AB17=$J$3,AA17=$J$3),AND(AB17=$J$3,AC17=$J$3)),1,0)) -> 0 | BN17: =IF($D16="","",IF(OR(AND(AC17=$J$3,AB17=$J$3),AND(AC17=$J$3,AD17=$J$3)),1,0)) -> 0 | BO17: =IF($D16="","",IF(OR(AND(AD17=$J$3,AC17=$J$3),AND(AD17=$J$3,AE17=$J$3)),1,0)) -> 0 | BP17: =IF($D16="","",IF(OR(AND(AE17=$J$3,AD17=$J$3),AND(AE17=$J$3,AF17=$J$3)),1,0)) -> 0 | BQ17: =IF($D16="","",IF(OR(AND(AF17=$J$3,AE17=$J$3),AND(AF17=$J$3,AG17=$J$3)),1,0)) -> 0 | BR17: =IF($D16="","",IF(OR(AND(AG17=$J$3,AF17=$J$3),AND(AG17=$J$3,AH17=$J$3)),1,0)) -> 0 | ... CS17: =IF($D16="","",IF(OR(AND(BH17=$J$3,BG17=$J$3),AND(BH17=$J$3,BI17=$J$3)),1,0)) -> 0 | CT17: =IF(D16="","",IF(OR(AND(BI17=$J$3,BH17=$J$3),AND(BI17=$J$3,Y17=$J$3)),1,0)) -> 0 | CU17: =IF(D16="","",1) -> 1 | CV17: =IF($D16="","",CU17+BJ17) -> 1 | CW17: =IF($D16="","",CV17+BK17) -> 1 | CX17: =IF($D16="","",CW17+BL17) -> 1 | CY17: =IF($D16="","",CX17+BM17) -> 1 | CZ17: =IF($D16="","",CY17+BN17) -> 1 | DA17: =IF($D16="","",CZ17+BO17) -> 1 | DB17: =IF($D16="","",DA17+BP17) -> 1 | DC17: =IF($D16="","",DB17+BQ17) -> 1 | ... EF17: =IF($D16="","",EE17+CT17) -> 1
C18: 10 | D18: =RANDBETWEEN(0,36) -> 12 | E18: =IF(D18="","",LOOKUP(D18,Sheet2!B:B,Sheet2!C:C)) -> 34 | F18: =IF(D17="","",COUNTIF(BJ18:CT18,1)) -> 0 | G18: =IF(D18="","",LOOKUP(E18,$BJ$7:$CT$7,$BJ18:$CT18)) -> 0 | H18: =IF(D18="","",IF(F18=0,"",IF(G18=1,"W",IF(G18=0,"L")))) | I18: =IF(D18="","",36*G18-F18) -> 0 | J18: =IF(D18="",J17,I18+J17) -> 0 | N18: =IF($D17="","",IF(N$7>=$EF18,"",LOOKUP(N$7,$CU18:$EF18,$CU$8:$EE$8))) | O18: =IF($D17="","",IF(O$7>=$EF18,"",LOOKUP(O$7,$CU18:$EF18,$CU$8:$EE$8))) | P18: =IF($D17="","",IF(P$7>=$EF18,"",LOOKUP(P$7,$CU18:$EF18,$CU$8:$EE$8))) | Q18: =IF($D17="","",IF(Q$7>=$EF18,"",LOOKUP(Q$7,$CU18:$EF18,$CU$8:$EE$8))) | R18: =IF($D17="","",IF(R$7>=$EF18,"",LOOKUP(R$7,$CU18:$EF18,$CU$8:$EE$8))) | S18: =IF($D17="","",IF(S$7>=$EF18,"",LOOKUP(S$7,$CU18:$EF18,$CU$8:$EE$8))) | T18: =IF($D17="","",IF(T$7>=$EF18,"",LOOKUP(T$7,$CU18:$EF18,$CU$8:$EE$8))) | U18: =IF($D17="","",IF(U$7>=$EF18,"",LOOKUP(U$7,$CU18:$EF18,$CU$8:$EE$8))) | Y18: =IF($D17="","",COUNTIF(OFFSET($D17,-(MIN($C17,$J$2)-1),0,1,1):$D17,Y$8)) -> 0 | Z18: =IF($D17="","",COUNTIF(OFFSET($D17,-(MIN($C17,$J$2)-1),0,1,1):$D17,Z$8)) -> 0 | AA18: =IF($D17="","",COUNTIF(OFFSET($D17,-(MIN($C17,$J$2)-1),0,1,1):$D17,AA$8)) -> 0 | AB18: =IF($D17="","",COUNTIF(OFFSET($D17,-(MIN($C17,$J$2)-1),0,1,1):$D17,AB$8)) -> 0 | AC18: =IF($D17="","",COUNTIF(OFFSET($D17,-(MIN($C17,$J$2)-1),0,1,1):$D17,AC$8)) -> 1 | AD18: =IF($D17="","",COUNTIF(OFFSET($D17,-(MIN($C17,$J$2)-1),0,1,1):$D17,AD$8)) -> 2 | AE18: =IF($D17="","",COUNTIF(OFFSET($D17,-(MIN($C17,$J$2)-1),0,1,1):$D17,AE$8)) -> 0 | AF18: =IF($D17="","",COUNTIF(OFFSET($D17,-(MIN($C17,$J$2)-1),0,1,1):$D17,AF$8)) -> 1 | ... BI18: =IF($D17="","",COUNTIF(OFFSET($D17,-(MIN($C17,$J$2)-1),0,1,1):$D17,BI$8)) -> 0 | BJ18: =IF(D17="","",IF(OR(AND(Y18=$J$3,BI18=$J$3),AND(Y18=$J$3,Z18=$J$3)),1,0)) -> 0 | BK18: =IF($D17="","",IF(OR(AND(Z18=$J$3,Y18=$J$3),AND(Z18=$J$3,AA18=$J$3)),1,0)) -> 0 | BL18: =IF($D17="","",IF(OR(AND(AA18=$J$3,Z18=$J$3),AND(AA18=$J$3,AB18=$J$3)),1,0)) -> 0 | BM18: =IF($D17="","",IF(OR(AND(AB18=$J$3,AA18=$J$3),AND(AB18=$J$3,AC18=$J$3)),1,0)) -> 0 | BN18: =IF($D17="","",IF(OR(AND(AC18=$J$3,AB18=$J$3),AND(AC18=$J$3,AD18=$J$3)),1,0)) -> 0 | BO18: =IF($D17="","",IF(OR(AND(AD18=$J$3,AC18=$J$3),AND(AD18=$J$3,AE18=$J$3)),1,0)) -> 0 | BP18: =IF($D17="","",IF(OR(AND(AE18=$J$3,AD18=$J$3),AND(AE18=$J$3,AF18=$J$3)),1,0)) -> 0 | BQ18: =IF($D17="","",IF(OR(AND(AF18=$J$3,AE18=$J$3),AND(AF18=$J$3,AG18=$J$3)),1,0)) -> 0 | BR18: =IF($D17="","",IF(OR(AND(AG18=$J$3,AF18=$J$3),AND(AG18=$J$3,AH18=$J$3)),1,0)) -> 0 | ... CS18: =IF($D17="","",IF(OR(AND(BH18=$J$3,BG18=$J$3),AND(BH18=$J$3,BI18=$J$3)),1,0)) -> 0 | CT18: =IF(D17="","",IF(OR(AND(BI18=$J$3,BH18=$J$3),AND(BI18=$J$3,Y18=$J$3)),1,0)) -> 0 | CU18: =IF(D17="","",1) -> 1 | CV18: =IF($D17="","",CU18+BJ18) -> 1 | CW18: =IF($D17="","",CV18+BK18) -> 1 | CX18: =IF($D17="","",CW18+BL18) -> 1 | CY18: =IF($D17="","",CX18+BM18) -> 1 | CZ18: =IF($D17="","",CY18+BN18) -> 1 | DA18: =IF($D17="","",CZ18+BO18) -> 1 | DB18: =IF($D17="","",DA18+BP18) -> 1 | DC18: =IF($D17="","",DB18+BQ18) -> 1 | ... EF18: =IF($D17="","",EE18+CT18) -> 1
C19: 11 | D19: =RANDBETWEEN(0,36) -> 13 | E19: =IF(D19="","",LOOKUP(D19,Sheet2!B:B,Sheet2!C:C)) -> 13 | F19: =IF(D18="","",COUNTIF(BJ19:CT19,1)) -> 0 | G19: =IF(D19="","",LOOKUP(E19,$BJ$7:$CT$7,$BJ19:$CT19)) -> 0 | H19: =IF(D19="","",IF(F19=0,"",IF(G19=1,"W",IF(G19=0,"L")))) | I19: =IF(D19="","",36*G19-F19) -> 0 | J19: =IF(D19="",J18,I19+J18) -> 0 | N19: =IF($D18="","",IF(N$7>=$EF19,"",LOOKUP(N$7,$CU19:$EF19,$CU$8:$EE$8))) | O19: =IF($D18="","",IF(O$7>=$EF19,"",LOOKUP(O$7,$CU19:$EF19,$CU$8:$EE$8))) | P19: =IF($D18="","",IF(P$7>=$EF19,"",LOOKUP(P$7,$CU19:$EF19,$CU$8:$EE$8))) | Q19: =IF($D18="","",IF(Q$7>=$EF19,"",LOOKUP(Q$7,$CU19:$EF19,$CU$8:$EE$8))) | R19: =IF($D18="","",IF(R$7>=$EF19,"",LOOKUP(R$7,$CU19:$EF19,$CU$8:$EE$8))) | S19: =IF($D18="","",IF(S$7>=$EF19,"",LOOKUP(S$7,$CU19:$EF19,$CU$8:$EE$8))) | T19: =IF($D18="","",IF(T$7>=$EF19,"",LOOKUP(T$7,$CU19:$EF19,$CU$8:$EE$8))) | U19: =IF($D18="","",IF(U$7>=$EF19,"",LOOKUP(U$7,$CU19:$EF19,$CU$8:$EE$8))) | Y19: =IF($D18="","",COUNTIF(OFFSET($D18,-(MIN($C18,$J$2)-1),0,1,1):$D18,Y$8)) -> 0 | Z19: =IF($D18="","",COUNTIF(OFFSET($D18,-(MIN($C18,$J$2)-1),0,1,1):$D18,Z$8)) -> 0 | AA19: =IF($D18="","",COUNTIF(OFFSET($D18,-(MIN($C18,$J$2)-1),0,1,1):$D18,AA$8)) -> 0 | AB19: =IF($D18="","",COUNTIF(OFFSET($D18,-(MIN($C18,$J$2)-1),0,1,1):$D18,AB$8)) -> 0 | AC19: =IF($D18="","",COUNTIF(OFFSET($D18,-(MIN($C18,$J$2)-1),0,1,1):$D18,AC$8)) -> 1 | AD19: =IF($D18="","",COUNTIF(OFFSET($D18,-(MIN($C18,$J$2)-1),0,1,1):$D18,AD$8)) -> 2 | AE19: =IF($D18="","",COUNTIF(OFFSET($D18,-(MIN($C18,$J$2)-1),0,1,1):$D18,AE$8)) -> 0 | AF19: =IF($D18="","",COUNTIF(OFFSET($D18,-(MIN($C18,$J$2)-1),0,1,1):$D18,AF$8)) -> 1 | ... BI19: =IF($D18="","",COUNTIF(OFFSET($D18,-(MIN($C18,$J$2)-1),0,1,1):$D18,BI$8)) -> 0 | BJ19: =IF(D18="","",IF(OR(AND(Y19=$J$3,BI19=$J$3),AND(Y19=$J$3,Z19=$J$3)),1,0)) -> 0 | BK19: =IF($D18="","",IF(OR(AND(Z19=$J$3,Y19=$J$3),AND(Z19=$J$3,AA19=$J$3)),1,0)) -> 0 | BL19: =IF($D18="","",IF(OR(AND(AA19=$J$3,Z19=$J$3),AND(AA19=$J$3,AB19=$J$3)),1,0)) -> 0 | BM19: =IF($D18="","",IF(OR(AND(AB19=$J$3,AA19=$J$3),AND(AB19=$J$3,AC19=$J$3)),1,0)) -> 0 | BN19: =IF($D18="","",IF(OR(AND(AC19=$J$3,AB19=$J$3),AND(AC19=$J$3,AD19=$J$3)),1,0)) -> 0 | BO19: =IF($D18="","",IF(OR(AND(AD19=$J$3,AC19=$J$3),AND(AD19=$J$3,AE19=$J$3)),1,0)) -> 0 | BP19: =IF($D18="","",IF(OR(AND(AE19=$J$3,AD19=$J$3),AND(AE19=$J$3,AF19=$J$3)),1,0)) -> 0 | BQ19: =IF($D18="","",IF(OR(AND(AF19=$J$3,AE19=$J$3),AND(AF19=$J$3,AG19=$J$3)),1,0)) -> 0 | BR19: =IF($D18="","",IF(OR(AND(AG19=$J$3,AF19=$J$3),AND(AG19=$J$3,AH19=$J$3)),1,0)) -> 0 | ... CS19: =IF($D18="","",IF(OR(AND(BH19=$J$3,BG19=$J$3),AND(BH19=$J$3,BI19=$J$3)),1,0)) -> 0 | CT19: =IF(D18="","",IF(OR(AND(BI19=$J$3,BH19=$J$3),AND(BI19=$J$3,Y19=$J$3)),1,0)) -> 0 | CU19: =IF(D18="","",1) -> 1 | CV19: =IF($D18="","",CU19+BJ19) -> 1 | CW19: =IF($D18="","",CV19+BK19) -> 1 | CX19: =IF($D18="","",CW19+BL19) -> 1 | CY19: =IF($D18="","",CX19+BM19) -> 1 | CZ19: =IF($D18="","",CY19+BN19) -> 1 | DA19: =IF($D18="","",CZ19+BO19) -> 1 | DB19: =IF($D18="","",DA19+BP19) -> 1 | DC19: =IF($D18="","",DB19+BQ19) -> 1 | ... EF19: =IF($D18="","",EE19+CT19) -> 1
C20: 12 | D20: =RANDBETWEEN(0,36) -> 7 | E20: =IF(D20="","",LOOKUP(D20,Sheet2!B:B,Sheet2!C:C)) -> 32 | F20: =IF(D19="","",COUNTIF(BJ20:CT20,1)) -> 0 | G20: =IF(D20="","",LOOKUP(E20,$BJ$7:$CT$7,$BJ20:$CT20)) -> 0 | H20: =IF(D20="","",IF(F20=0,"",IF(G20=1,"W",IF(G20=0,"L")))) | I20: =IF(D20="","",36*G20-F20) -> 0 | J20: =IF(D20="",J19,I20+J19) -> 0 | N20: =IF($D19="","",IF(N$7>=$EF20,"",LOOKUP(N$7,$CU20:$EF20,$CU$8:$EE$8))) | O20: =IF($D19="","",IF(O$7>=$EF20,"",LOOKUP(O$7,$CU20:$EF20,$CU$8:$EE$8))) | P20: =IF($D19="","",IF(P$7>=$EF20,"",LOOKUP(P$7,$CU20:$EF20,$CU$8:$EE$8))) | Q20: =IF($D19="","",IF(Q$7>=$EF20,"",LOOKUP(Q$7,$CU20:$EF20,$CU$8:$EE$8))) | R20: =IF($D19="","",IF(R$7>=$EF20,"",LOOKUP(R$7,$CU20:$EF20,$CU$8:$EE$8))) | S20: =IF($D19="","",IF(S$7>=$EF20,"",LOOKUP(S$7,$CU20:$EF20,$CU$8:$EE$8))) | T20: =IF($D19="","",IF(T$7>=$EF20,"",LOOKUP(T$7,$CU20:$EF20,$CU$8:$EE$8))) | U20: =IF($D19="","",IF(U$7>=$EF20,"",LOOKUP(U$7,$CU20:$EF20,$CU$8:$EE$8))) | Y20: =IF($D19="","",COUNTIF(OFFSET($D19,-(MIN($C19,$J$2)-1),0,1,1):$D19,Y$8)) -> 0 | Z20: =IF($D19="","",COUNTIF(OFFSET($D19,-(MIN($C19,$J$2)-1),0,1,1):$D19,Z$8)) -> 0 | AA20: =IF($D19="","",COUNTIF(OFFSET($D19,-(MIN($C19,$J$2)-1),0,1,1):$D19,AA$8)) -> 0 | AB20: =IF($D19="","",COUNTIF(OFFSET($D19,-(MIN($C19,$J$2)-1),0,1,1):$D19,AB$8)) -> 0 | AC20: =IF($D19="","",COUNTIF(OFFSET($D19,-(MIN($C19,$J$2)-1),0,1,1):$D19,AC$8)) -> 1 | AD20: =IF($D19="","",COUNTIF(OFFSET($D19,-(MIN($C19,$J$2)-1),0,1,1):$D19,AD$8)) -> 2 | AE20: =IF($D19="","",COUNTIF(OFFSET($D19,-(MIN($C19,$J$2)-1),0,1,1):$D19,AE$8)) -> 0 | AF20: =IF($D19="","",COUNTIF(OFFSET($D19,-(MIN($C19,$J$2)-1),0,1,1):$D19,AF$8)) -> 1 | ... BI20: =IF($D19="","",COUNTIF(OFFSET($D19,-(MIN($C19,$J$2)-1),0,1,1):$D19,BI$8)) -> 0 | BJ20: =IF(D19="","",IF(OR(AND(Y20=$J$3,BI20=$J$3),AND(Y20=$J$3,Z20=$J$3)),1,0)) -> 0 | BK20: =IF($D19="","",IF(OR(AND(Z20=$J$3,Y20=$J$3),AND(Z20=$J$3,AA20=$J$3)),1,0)) -> 0 | BL20: =IF($D19="","",IF(OR(AND(AA20=$J$3,Z20=$J$3),AND(AA20=$J$3,AB20=$J$3)),1,0)) -> 0 | BM20: =IF($D19="","",IF(OR(AND(AB20=$J$3,AA20=$J$3),AND(AB20=$J$3,AC20=$J$3)),1,0)) -> 0 | BN20: =IF($D19="","",IF(OR(AND(AC20=$J$3,AB20=$J$3),AND(AC20=$J$3,AD20=$J$3)),1,0)) -> 0 | BO20: =IF($D19="","",IF(OR(AND(AD20=$J$3,AC20=$J$3),AND(AD20=$J$3,AE20=$J$3)),1,0)) -> 0 | BP20: =IF($D19="","",IF(OR(AND(AE20=$J$3,AD20=$J$3),AND(AE20=$J$3,AF20=$J$3)),1,0)) -> 0 | BQ20: =IF($D19="","",IF(OR(AND(AF20=$J$3,AE20=$J$3),AND(AF20=$J$3,AG20=$J$3)),1,0)) -> 0 | BR20: =IF($D19="","",IF(OR(AND(AG20=$J$3,AF20=$J$3),AND(AG20=$J$3,AH20=$J$3)),1,0)) -> 0 | ... CS20: =IF($D19="","",IF(OR(AND(BH20=$J$3,BG20=$J$3),AND(BH20=$J$3,BI20=$J$3)),1,0)) -> 0 | CT20: =IF(D19="","",IF(OR(AND(BI20=$J$3,BH20=$J$3),AND(BI20=$J$3,Y20=$J$3)),1,0)) -> 0 | CU20: =IF(D19="","",1) -> 1 | CV20: =IF($D19="","",CU20+BJ20) -> 1 | CW20: =IF($D19="","",CV20+BK20) -> 1 | CX20: =IF($D19="","",CW20+BL20) -> 1 | CY20: =IF($D19="","",CX20+BM20) -> 1 | CZ20: =IF($D19="","",CY20+BN20) -> 1 | DA20: =IF($D19="","",CZ20+BO20) -> 1 | DB20: =IF($D19="","",DA20+BP20) -> 1 | DC20: =IF($D19="","",DB20+BQ20) -> 1 | ... EF20: =IF($D19="","",EE20+CT20) -> 1
C21: 13 | D21: =RANDBETWEEN(0,36) -> 22 | E21: =IF(D21="","",LOOKUP(D21,Sheet2!B:B,Sheet2!C:C)) -> 29 | F21: =IF(D20="","",COUNTIF(BJ21:CT21,1)) -> 0 | G21: =IF(D21="","",LOOKUP(E21,$BJ$7:$CT$7,$BJ21:$CT21)) -> 0 | H21: =IF(D21="","",IF(F21=0,"",IF(G21=1,"W",IF(G21=0,"L")))) | I21: =IF(D21="","",36*G21-F21) -> 0 | J21: =IF(D21="",J20,I21+J20) -> 0 | N21: =IF($D20="","",IF(N$7>=$EF21,"",LOOKUP(N$7,$CU21:$EF21,$CU$8:$EE$8))) | O21: =IF($D20="","",IF(O$7>=$EF21,"",LOOKUP(O$7,$CU21:$EF21,$CU$8:$EE$8))) | P21: =IF($D20="","",IF(P$7>=$EF21,"",LOOKUP(P$7,$CU21:$EF21,$CU$8:$EE$8))) | Q21: =IF($D20="","",IF(Q$7>=$EF21,"",LOOKUP(Q$7,$CU21:$EF21,$CU$8:$EE$8))) | R21: =IF($D20="","",IF(R$7>=$EF21,"",LOOKUP(R$7,$CU21:$EF21,$CU$8:$EE$8))) | S21: =IF($D20="","",IF(S$7>=$EF21,"",LOOKUP(S$7,$CU21:$EF21,$CU$8:$EE$8))) | T21: =IF($D20="","",IF(T$7>=$EF21,"",LOOKUP(T$7,$CU21:$EF21,$CU$8:$EE$8))) | U21: =IF($D20="","",IF(U$7>=$EF21,"",LOOKUP(U$7,$CU21:$EF21,$CU$8:$EE$8))) | Y21: =IF($D20="","",COUNTIF(OFFSET($D20,-(MIN($C20,$J$2)-1),0,1,1):$D20,Y$8)) -> 0 | Z21: =IF($D20="","",COUNTIF(OFFSET($D20,-(MIN($C20,$J$2)-1),0,1,1):$D20,Z$8)) -> 0 | AA21: =IF($D20="","",COUNTIF(OFFSET($D20,-(MIN($C20,$J$2)-1),0,1,1):$D20,AA$8)) -> 0 | AB21: =IF($D20="","",COUNTIF(OFFSET($D20,-(MIN($C20,$J$2)-1),0,1,1):$D20,AB$8)) -> 0 | AC21: =IF($D20="","",COUNTIF(OFFSET($D20,-(MIN($C20,$J$2)-1),0,1,1):$D20,AC$8)) -> 1 | AD21: =IF($D20="","",COUNTIF(OFFSET($D20,-(MIN($C20,$J$2)-1),0,1,1):$D20,AD$8)) -> 2 | AE21: =IF($D20="","",COUNTIF(OFFSET($D20,-(MIN($C20,$J$2)-1),0,1,1):$D20,AE$8)) -> 0 | AF21: =IF($D20="","",COUNTIF(OFFSET($D20,-(MIN($C20,$J$2)-1),0,1,1):$D20,AF$8)) -> 1 | ... BI21: =IF($D20="","",COUNTIF(OFFSET($D20,-(MIN($C20,$J$2)-1),0,1,1):$D20,BI$8)) -> 0 | BJ21: =IF(D20="","",IF(OR(AND(Y21=$J$3,BI21=$J$3),AND(Y21=$J$3,Z21=$J$3)),1,0)) -> 0 | BK21: =IF($D20="","",IF(OR(AND(Z21=$J$3,Y21=$J$3),AND(Z21=$J$3,AA21=$J$3)),1,0)) -> 0 | BL21: =IF($D20="","",IF(OR(AND(AA21=$J$3,Z21=$J$3),AND(AA21=$J$3,AB21=$J$3)),1,0)) -> 0 | BM21: =IF($D20="","",IF(OR(AND(AB21=$J$3,AA21=$J$3),AND(AB21=$J$3,AC21=$J$3)),1,0)) -> 0 | BN21: =IF($D20="","",IF(OR(AND(AC21=$J$3,AB21=$J$3),AND(AC21=$J$3,AD21=$J$3)),1,0)) -> 0 | BO21: =IF($D20="","",IF(OR(AND(AD21=$J$3,AC21=$J$3),AND(AD21=$J$3,AE21=$J$3)),1,0)) -> 0 | BP21: =IF($D20="","",IF(OR(AND(AE21=$J$3,AD21=$J$3),AND(AE21=$J$3,AF21=$J$3)),1,0)) -> 0 | BQ21: =IF($D20="","",IF(OR(AND(AF21=$J$3,AE21=$J$3),AND(AF21=$J$3,AG21=$J$3)),1,0)) -> 0 | BR21: =IF($D20="","",IF(OR(AND(AG21=$J$3,AF21=$J$3),AND(AG21=$J$3,AH21=$J$3)),1,0)) -> 0 | ... CS21: =IF($D20="","",IF(OR(AND(BH21=$J$3,BG21=$J$3),AND(BH21=$J$3,BI21=$J$3)),1,0)) -> 0 | CT21: =IF(D20="","",IF(OR(AND(BI21=$J$3,BH21=$J$3),AND(BI21=$J$3,Y21=$J$3)),1,0)) -> 0 | CU21: =IF(D20="","",1) -> 1 | CV21: =IF($D20="","",CU21+BJ21) -> 1 | CW21: =IF($D20="","",CV21+BK21) -> 1 | CX21: =IF($D20="","",CW21+BL21) -> 1 | CY21: =IF($D20="","",CX21+BM21) -> 1 | CZ21: =IF($D20="","",CY21+BN21) -> 1 | DA21: =IF($D20="","",CZ21+BO21) -> 1 | DB21: =IF($D20="","",DA21+BP21) -> 1 | DC21: =IF($D20="","",DB21+BQ21) -> 1 | ... EF21: =IF($D20="","",EE21+CT21) -> 1
... C508: 500 | D508: =RANDBETWEEN(0,36) -> 31 | E508: =IF(D508="","",LOOKUP(D508,Sheet2!B:B,Sheet2!C:C)) -> 27 | F508: =IF(D507="","",COUNTIF(BJ508:CT508,1)) -> 0 | G508: =IF(D508="","",LOOKUP(E508,$BJ$7:$CT$7,$BJ508:$CT508)) -> 0 | H508: =IF(D508="","",IF(F508=0,"",IF(G508=1,"W",IF(G508=0,"L")))) | I508: =IF(D508="","",36*G508-F508) -> 0 | J508: =IF(D508="",J507,I508+J507) -> 10 | N508: =IF($D507="","",IF(N$7>=$EF508,"",LOOKUP(N$7,$CU508:$EF508,$CU$8:$EE$8))) | O508: =IF($D507="","",IF(O$7>=$EF508,"",LOOKUP(O$7,$CU508:$EF508,$CU$8:$EE$8))) | P508: =IF($D507="","",IF(P$7>=$EF508,"",LOOKUP(P$7,$CU508:$EF508,$CU$8:$EE$8))) | Q508: =IF($D507="","",IF(Q$7>=$EF508,"",LOOKUP(Q$7,$CU508:$EF508,$CU$8:$EE$8))) | R508: =IF($D507="","",IF(R$7>=$EF508,"",LOOKUP(R$7,$CU508:$EF508,$CU$8:$EE$8))) | S508: =IF($D507="","",IF(S$7>=$EF508,"",LOOKUP(S$7,$CU508:$EF508,$CU$8:$EE$8))) | T508: =IF($D507="","",IF(T$7>=$EF508,"",LOOKUP(T$7,$CU508:$EF508,$CU$8:$EE$8))) | U508: =IF($D507="","",IF(U$7>=$EF508,"",LOOKUP(U$7,$CU508:$EF508,$CU$8:$EE$8))) | Y508: =IF($D507="","",COUNTIF(OFFSET($D507,-(MIN($C507,$J$2)-1),0,1,1):$D507,Y$8)) -> 1 | Z508: =IF($D507="","",COUNTIF(OFFSET($D507,-(MIN($C507,$J$2)-1),0,1,1):$D507,Z$8)) -> 1 | AA508: =IF($D507="","",COUNTIF(OFFSET($D507,-(MIN($C507,$J$2)-1),0,1,1):$D507,AA$8)) -> 0 | AB508: =IF($D507="","",COUNTIF(OFFSET($D507,-(MIN($C507,$J$2)-1),0,1,1):$D507,AB$8)) -> 1 | AC508: =IF($D507="","",COUNTIF(OFFSET($D507,-(MIN($C507,$J$2)-1),0,1,1):$D507,AC$8)) -> 0 | AD508: =IF($D507="","",COUNTIF(OFFSET($D507,-(MIN($C507,$J$2)-1),0,1,1):$D507,AD$8)) -> 0 | AE508: =IF($D507="","",COUNTIF(OFFSET($D507,-(MIN($C507,$J$2)-1),0,1,1):$D507,AE$8)) -> 0 | AF508: =IF($D507="","",COUNTIF(OFFSET($D507,-(MIN($C507,$J$2)-1),0,1,1):$D507,AF$8)) -> 1 | ... BI508: =IF($D507="","",COUNTIF(OFFSET($D507,-(MIN($C507,$J$2)-1),0,1,1):$D507,BI$8)) -> 0 | BJ508: =IF(D507="","",IF(OR(AND(Y508=$J$3,BI508=$J$3),AND(Y508=$J$3,Z508=$J$3)),1,0)) -> 0 | BK508: =IF($D507="","",IF(OR(AND(Z508=$J$3,Y508=$J$3),AND(Z508=$J$3,AA508=$J$3)),1,0)) -> 0 | BL508: =IF($D507="","",IF(OR(AND(AA508=$J$3,Z508=$J$3),AND(AA508=$J$3,AB508=$J$3)),1,0)) -> 0 | BM508: =IF($D507="","",IF(OR(AND(AB508=$J$3,AA508=$J$3),AND(AB508=$J$3,AC508=$J$3)),1,0)) -> 0 | BN508: =IF($D507="","",IF(OR(AND(AC508=$J$3,AB508=$J$3),AND(AC508=$J$3,AD508=$J$3)),1,0)) -> 0 | BO508: =IF($D507="","",IF(OR(AND(AD508=$J$3,AC508=$J$3),AND(AD508=$J$3,AE508=$J$3)),1,0)) -> 0 | BP508: =IF($D507="","",IF(OR(AND(AE508=$J$3,AD508=$J$3),AND(AE508=$J$3,AF508=$J$3)),1,0)) -> 0 | BQ508: =IF($D507="","",IF(OR(AND(AF508=$J$3,AE508=$J$3),AND(AF508=$J$3,AG508=$J$3)),1,0)) -> 0 | BR508: =IF($D507="","",IF(OR(AND(AG508=$J$3,AF508=$J$3),AND(AG508=$J$3,AH508=$J$3)),1,0)) -> 0 | ... CS508: =IF($D507="","",IF(OR(AND(BH508=$J$3,BG508=$J$3),AND(BH508=$J$3,BI508=$J$3)),1,0)) -> 0 | CT508: =IF(D507="","",IF(OR(AND(BI508=$J$3,BH508=$J$3),AND(BI508=$J$3,Y508=$J$3)),1,0)) -> 0 | CU508: =IF(D507="","",1) -> 1 | CV508: =IF($D507="","",CU508+BJ508) -> 1 | CW508: =IF($D507="","",CV508+BK508) -> 1 | CX508: =IF($D507="","",CW508+BL508) -> 1 | CY508: =IF($D507="","",CX508+BM508) -> 1 | CZ508: =IF($D507="","",CY508+BN508) -> 1 | DA508: =IF($D507="","",CZ508+BO508) -> 1 | DB508: =IF($D507="","",DA508+BP508) -> 1 | DC508: =IF($D507="","",DB508+BQ508) -> 1 | ... EF508: =IF($D507="","",EE508+CT508) -> 1

Sheet Sheet2
B1: Nr | C1: Position | F1: Red | G1: Black
B2: 0 | C2: 1 | D2: 1 | E2: 0 | F2: 1 | G2: 2
B3: 1 | C3: 24 | D3: 2 | E3: 32 | F3: 3 | G3: 4
B4: 2 | C4: 7 | D4: 3 | E4: 15 | F4: 5 | G4: 6
B5: 3 | C5: 36 | D5: 4 | E5: 19 | F5: 7 | G5: 8
B6: 4 | C6: 5 | D6: 5 | E6: 4 | F6: 9 | G6: 10
B7: 5 | C7: 20 | D7: 6 | E7: 21 | F7: 12 | G7: 11
B8: 6 | C8: 11 | D8: 7 | E8: 2 | F8: 14 | G8: 13
B9: 7 | C9: 32 | D9: 8 | E9: 25 | F9: 16 | G9: 15
B10: 8 | C10: 17 | D10: 9 | E10: 17 | F10: 18 | G10: 17
B11: 9 | C11: 28 | D11: 10 | E11: 34 | F11: 19 | G11: 20
B12: 10 | C12: 19 | D12: 11 | E12: 6 | F12: 21 | G12: 22
B13: 11 | C13: 15 | D13: 12 | E13: 27 | F13: 23 | G13: 24
... B19: 17 | C19: 9 | D19: 18 | E19: 23 | F19: 36 | G19: 35
B20: 18 | C20: 30 | D20: 19 | E20: 10
B21: 19 | C21: 4 | D21: 20 | E21: 5
B22: 20 | C22: 25 | D22: 21 | E22: 24
B23: 21 | C23: 6 | D23: 22 | E23: 16
B24: 22 | C24: 29 | D24: 23 | E24: 33
B25: 23 | C25: 18 | D25: 24 | E25: 1
B26: 24 | C26: 21 | D26: 25 | E26: 20
B27: 25 | C27: 8 | D27: 26 | E27: 14
B28: 26 | C28: 37 | D28: 27 | E28: 31
B29: 27 | C29: 12 | D29: 28 | E29: 9
B30: 28 | C30: 33 | D30: 29 | E30: 22
B31: 29 | C31: 31 | D31: 30 | E31: 18
... B38: 36 | C38: 14 | D38: 37 | E38: 26
