Workbook

Sheet Sheet1
P2: Position sorter
C3: Spin | D3: Nr | E3: S1 | G3: S2 | I3: S3 | K3: S4 | P3: S1 | V3: S2 | AB3: S3 | AH3: S4
E4: Group | F4: Pos | G4: Group | H4: Pos | I4: Group | J4: Pos | K4: Group | L4: Pos | P4: 1 | Q4: 2 | R4: 3 | S4: 4 | T4: 5 | U4: 6 | V4: 1 | W4: 2 | X4: 3 | Y4: 4 | Z4: 5 | AA4: 6 | AB4: 1 | AC4: 2 | AD4: 3 | AE4: 4 | AF4: 5 | AG4: 6 | AH4: 1 | AI4: 2 | AJ4: 3 | AK4: 4 | AL4: 5 | AM4: 6
C5: 1 | D5: =RANDBETWEEN(0,36) -> 3 | E5: =LOOKUP(D5,Ref!B:B,Ref!C:C) -> 1 | G5: =LOOKUP(D5,Ref!B:B,Ref!D:D) -> 4 | I5: =LOOKUP(D5,Ref!B:B,Ref!E:E) -> 1 | K5: =LOOKUP(D5,Ref!B:B,Ref!F:F) -> 1 | P5: =IF($E5=P$4,1,0) -> 1 | Q5: =IF($E5=Q$4,1,0) -> 0 | R5: =IF($E5=R$4,1,0) -> 0 | S5: =IF($E5=S$4,1,0) -> 0 | T5: =IF($E5=T$4,1,0) -> 0 | U5: =IF($E5=U$4,1,0) -> 0 | V5: =IF($E5=V$4,1,0) -> 1 | W5: =IF($E5=W$4,1,0) -> 0 | ... AM5: =IF($E5=AM$4,1,0) -> 0
C6: 2 | D6: =RANDBETWEEN(0,36) -> 31 | E6: =IF(D6="","",LOOKUP(D6,Ref!B:B,Ref!C:C)) -> 5 | F6: =IF(D6="","",IF($E6=0,0,LOOKUP($E6,P$4:U$4,P5:U5))) -> 0 | G6: =IF(D6="","",LOOKUP(D6,Ref!B:B,Ref!D:D)) -> 1 | H6: =IF(D6="","",IF($E6=0,0,LOOKUP($E6,V$4:AA$4,V5:AA5))) -> 0 | I6: =IF(D6="","",LOOKUP(D6,Ref!B:B,Ref!E:E)) -> 6 | J6: =IF(D6="","",IF($E6=0,0,LOOKUP($E6,AB$4:AG$4,AB5:AG5))) -> 0 | K6: =IF(D6="","",LOOKUP(D6,Ref!B:B,Ref!F:F)) -> 6 | L6: =IF(D6="","",IF($E6=0,0,LOOKUP($E6,AH$4:AM$4,AH5:AM5))) -> 0 | P6: =IF($D6=0,P5,IF(LOOKUP($E6,$P$4:$U$4,$P5:$U5)<P5,P5,IF($E6=P$4,1,1+P5))) -> 1 | Q6: =IF($D6=0,Q5,IF(LOOKUP($E6,$P$4:$U$4,$P5:$U5)<Q5,Q5,IF($E6=Q$4,1,1+Q5))) -> 1 | R6: =IF($D6=0,R5,IF(LOOKUP($E6,$P$4:$U$4,$P5:$U5)<R5,R5,IF($E6=R$4,1,1+R5))) -> 1 | S6: =IF($D6=0,S5,IF(LOOKUP($E6,$P$4:$U$4,$P5:$U5)<S5,S5,IF($E6=S$4,1,1+S5))) -> 1 | T6: =IF($D6=0,T5,IF(LOOKUP($E6,$P$4:$U$4,$P5:$U5)<T5,T5,IF($E6=T$4,1,1+T5))) -> 1 | U6: =IF($D6=0,U5,IF(LOOKUP($E6,$P$4:$U$4,$P5:$U5)<U5,U5,IF($E6=U$4,1,1+U5))) -> 1 | V6: =IF($D6=0,V5,IF(LOOKUP($E6,$V$4:$AA$4,$V5:$AA5)<V5,V5,IF($E6=V$4,1,1+V5))) -> 1 | W6: =IF($D6=0,W5,IF(LOOKUP($E6,$V$4:$AA$4,$V5:$AA5)<W5,W5,IF($E6=W$4,1,1+W5))) -> 1 | X6: =IF($D6=0,X5,IF(LOOKUP($E6,$V$4:$AA$4,$V5:$AA5)<X5,X5,IF($E6=X$4,1,1+X5))) -> 1 | Y6: =IF($D6=0,Y5,IF(LOOKUP($E6,$V$4:$AA$4,$V5:$AA5)<Y5,Y5,IF($E6=Y$4,1,1+Y5))) -> 1 | Z6: =IF($D6=0,Z5,IF(LOOKUP($E6,$V$4:$AA$4,$V5:$AA5)<Z5,Z5,IF($E6=Z$4,1,1+Z5))) -> 1 | AA6: =IF($D6=0,AA5,IF(LOOKUP($E6,$V$4:$AA$4,$V5:$AA5)<AA5,AA5,IF($E6=AA$4,1,1+AA5))) -> 1 | AB6: =IF($D6=0,AB5,IF(LOOKUP($E6,$AB$4:$AG$4,$AB5:$AG5)<AB5,AB5,IF($E6=AB$4,1,1+AB5))) -> 1 | AC6: =IF($D6=0,AC5,IF(LOOKUP($E6,$AB$4:$AG$4,$AB5:$AG5)<AC5,AC5,IF($E6=AC$4,1,1+AC5))) -> 1 | AD6: =IF($D6=0,AD5,IF(LOOKUP($E6,$AB$4:$AG$4,$AB5:$AG5)<AD5,AD5,IF($E6=AD$4,1,1+AD5))) -> 1 | AE6: =IF($D6=0,AE5,IF(LOOKUP($E6,$AB$4:$AG$4,$AB5:$AG5)<AE5,AE5,IF($E6=AE$4,1,1+AE5))) -> 1 | AF6: =IF($D6=0,AF5,IF(LOOKUP($E6,$AB$4:$AG$4,$AB5:$AG5)<AF5,AF5,IF($E6=AF$4,1,1+AF5))) -> 1 | AG6: =IF($D6=0,AG5,IF(LOOKUP($E6,$AB$4:$AG$4,$AB5:$AG5)<AG5,AG5,IF($E6=AG$4,1,1+AG5))) -> 1 | AH6: =IF($D6=0,AH5,IF(LOOKUP($E6,$AH$4:$AM$4,$AH5:$AM5)<AH5,AH5,IF($E6=AH$4,1,1+AH5))) -> 1 | AI6: =IF($D6=0,AI5,IF(LOOKUP($E6,$AH$4:$AM$4,$AH5:$AM5)<AI5,AI5,IF($E6=AI$4,1,1+AI5))) -> 1 | AJ6: =IF($D6=0,AJ5,IF(LOOKUP($E6,$AH$4:$AM$4,$AH5:$AM5)<AJ5,AJ5,IF($E6=AJ$4,1,1+AJ5))) -> 1 | AK6: =IF($D6=0,AK5,IF(LOOKUP($E6,$AH$4:$AM$4,$AH5:$AM5)<AK5,AK5,IF($E6=AK$4,1,1+AK5))) -> 1 | AL6: =IF($D6=0,AL5,IF(LOOKUP($E6,$AH$4:$AM$4,$AH5:$AM5)<AL5,AL5,IF($E6=AL$4,1,1+AL5))) -> 1 | AM6: =IF($D6=0,AM5,IF(LOOKUP($E6,$AH$4:$AM$4,$AH5:$AM5)<AM5,AM5,IF($E6=AM$4,1,1+AM5))) -> 1
C7: 3 | D7: =RANDBETWEEN(0,36) -> 26 | E7: =IF(D7="","",LOOKUP(D7,Ref!B:B,Ref!C:C)) -> 2 | F7: =IF(D7="","",IF($E7=0,0,LOOKUP($E7,P$4:U$4,P6:U6))) -> 1 | G7: =IF(D7="","",LOOKUP(D7,Ref!B:B,Ref!D:D)) -> 6 | H7: =IF(D7="","",IF($E7=0,0,LOOKUP($E7,V$4:AA$4,V6:AA6))) -> 1 | I7: =IF(D7="","",LOOKUP(D7,Ref!B:B,Ref!E:E)) -> 5 | J7: =IF(D7="","",IF($E7=0,0,LOOKUP($E7,AB$4:AG$4,AB6:AG6))) -> 1 | K7: =IF(D7="","",LOOKUP(D7,Ref!B:B,Ref!F:F)) -> 6 | L7: =IF(D7="","",IF($E7=0,0,LOOKUP($E7,AH$4:AM$4,AH6:AM6))) -> 1 | P7: =IF($D7=0,P6,IF(LOOKUP($E7,$P$4:$U$4,$P6:$U6)<P6,P6,IF($E7=P$4,1,1+P6))) -> 2 | Q7: =IF($D7=0,Q6,IF(LOOKUP($E7,$P$4:$U$4,$P6:$U6)<Q6,Q6,IF($E7=Q$4,1,1+Q6))) -> 1 | R7: =IF($D7=0,R6,IF(LOOKUP($E7,$P$4:$U$4,$P6:$U6)<R6,R6,IF($E7=R$4,1,1+R6))) -> 2 | S7: =IF($D7=0,S6,IF(LOOKUP($E7,$P$4:$U$4,$P6:$U6)<S6,S6,IF($E7=S$4,1,1+S6))) -> 2 | T7: =IF($D7=0,T6,IF(LOOKUP($E7,$P$4:$U$4,$P6:$U6)<T6,T6,IF($E7=T$4,1,1+T6))) -> 2 | U7: =IF($D7=0,U6,IF(LOOKUP($E7,$P$4:$U$4,$P6:$U6)<U6,U6,IF($E7=U$4,1,1+U6))) -> 2 | V7: =IF($D7=0,V6,IF(LOOKUP($E7,$V$4:$AA$4,$V6:$AA6)<V6,V6,IF($E7=V$4,1,1+V6))) -> 2 | W7: =IF($D7=0,W6,IF(LOOKUP($E7,$V$4:$AA$4,$V6:$AA6)<W6,W6,IF($E7=W$4,1,1+W6))) -> 1 | X7: =IF($D7=0,X6,IF(LOOKUP($E7,$V$4:$AA$4,$V6:$AA6)<X6,X6,IF($E7=X$4,1,1+X6))) -> 2 | Y7: =IF($D7=0,Y6,IF(LOOKUP($E7,$V$4:$AA$4,$V6:$AA6)<Y6,Y6,IF($E7=Y$4,1,1+Y6))) -> 2 | Z7: =IF($D7=0,Z6,IF(LOOKUP($E7,$V$4:$AA$4,$V6:$AA6)<Z6,Z6,IF($E7=Z$4,1,1+Z6))) -> 2 | AA7: =IF($D7=0,AA6,IF(LOOKUP($E7,$V$4:$AA$4,$V6:$AA6)<AA6,AA6,IF($E7=AA$4,1,1+AA6))) -> 2 | AB7: =IF($D7=0,AB6,IF(LOOKUP($E7,$AB$4:$AG$4,$AB6:$AG6)<AB6,AB6,IF($E7=AB$4,1,1+AB6))) -> 2 | AC7: =IF($D7=0,AC6,IF(LOOKUP($E7,$AB$4:$AG$4,$AB6:$AG6)<AC6,AC6,IF($E7=AC$4,1,1+AC6))) -> 1 | AD7: =IF($D7=0,AD6,IF(LOOKUP($E7,$AB$4:$AG$4,$AB6:$AG6)<AD6,AD6,IF($E7=AD$4,1,1+AD6))) -> 2 | AE7: =IF($D7=0,AE6,IF(LOOKUP($E7,$AB$4:$AG$4,$AB6:$AG6)<AE6,AE6,IF($E7=AE$4,1,1+AE6))) -> 2 | AF7: =IF($D7=0,AF6,IF(LOOKUP($E7,$AB$4:$AG$4,$AB6:$AG6)<AF6,AF6,IF($E7=AF$4,1,1+AF6))) -> 2 | AG7: =IF($D7=0,AG6,IF(LOOKUP($E7,$AB$4:$AG$4,$AB6:$AG6)<AG6,AG6,IF($E7=AG$4,1,1+AG6))) -> 2 | AH7: =IF($D7=0,AH6,IF(LOOKUP($E7,$AH$4:$AM$4,$AH6:$AM6)<AH6,AH6,IF($E7=AH$4,1,1+AH6))) -> 2 | AI7: =IF($D7=0,AI6,IF(LOOKUP($E7,$AH$4:$AM$4,$AH6:$AM6)<AI6,AI6,IF($E7=AI$4,1,1+AI6))) -> 1 | AJ7: =IF($D7=0,AJ6,IF(LOOKUP($E7,$AH$4:$AM$4,$AH6:$AM6)<AJ6,AJ6,IF($E7=AJ$4,1,1+AJ6))) -> 2 | AK7: =IF($D7=0,AK6,IF(LOOKUP($E7,$AH$4:$AM$4,$AH6:$AM6)<AK6,AK6,IF($E7=AK$4,1,1+AK6))) -> 2 | AL7: =IF($D7=0,AL6,IF(LOOKUP($E7,$AH$4:$AM$4,$AH6:$AM6)<AL6,AL6,IF($E7=AL$4,1,1+AL6))) -> 2 | AM7: =IF($D7=0,AM6,IF(LOOKUP($E7,$AH$4:$AM$4,$AH6:$AM6)<AM6,AM6,IF($E7=AM$4,1,1+AM6))) -> 2
C8: 4 | D8: =RANDBETWEEN(0,36) -> 19 | E8: =IF(D8="","",LOOKUP(D8,Ref!B:B,Ref!C:C)) -> 5 | F8: =IF(D8="","",IF($E8=0,0,LOOKUP($E8,P$4:U$4,P7:U7))) -> 2 | G8: =IF(D8="","",LOOKUP(D8,Ref!B:B,Ref!D:D)) -> 2 | H8: =IF(D8="","",IF($E8=0,0,LOOKUP($E8,V$4:AA$4,V7:AA7))) -> 2 | I8: =IF(D8="","",LOOKUP(D8,Ref!B:B,Ref!E:E)) -> 4 | J8: =IF(D8="","",IF($E8=0,0,LOOKUP($E8,AB$4:AG$4,AB7:AG7))) -> 2 | K8: =IF(D8="","",LOOKUP(D8,Ref!B:B,Ref!F:F)) -> 3 | L8: =IF(D8="","",IF($E8=0,0,LOOKUP($E8,AH$4:AM$4,AH7:AM7))) -> 2 | P8: =IF($D8=0,P7,IF(LOOKUP($E8,$P$4:$U$4,$P7:$U7)<P7,P7,IF($E8=P$4,1,1+P7))) -> 3 | Q8: =IF($D8=0,Q7,IF(LOOKUP($E8,$P$4:$U$4,$P7:$U7)<Q7,Q7,IF($E8=Q$4,1,1+Q7))) -> 2 | R8: =IF($D8=0,R7,IF(LOOKUP($E8,$P$4:$U$4,$P7:$U7)<R7,R7,IF($E8=R$4,1,1+R7))) -> 3 | S8: =IF($D8=0,S7,IF(LOOKUP($E8,$P$4:$U$4,$P7:$U7)<S7,S7,IF($E8=S$4,1,1+S7))) -> 3 | T8: =IF($D8=0,T7,IF(LOOKUP($E8,$P$4:$U$4,$P7:$U7)<T7,T7,IF($E8=T$4,1,1+T7))) -> 1 | U8: =IF($D8=0,U7,IF(LOOKUP($E8,$P$4:$U$4,$P7:$U7)<U7,U7,IF($E8=U$4,1,1+U7))) -> 3 | V8: =IF($D8=0,V7,IF(LOOKUP($E8,$V$4:$AA$4,$V7:$AA7)<V7,V7,IF($E8=V$4,1,1+V7))) -> 3 | W8: =IF($D8=0,W7,IF(LOOKUP($E8,$V$4:$AA$4,$V7:$AA7)<W7,W7,IF($E8=W$4,1,1+W7))) -> 2 | X8: =IF($D8=0,X7,IF(LOOKUP($E8,$V$4:$AA$4,$V7:$AA7)<X7,X7,IF($E8=X$4,1,1+X7))) -> 3 | Y8: =IF($D8=0,Y7,IF(LOOKUP($E8,$V$4:$AA$4,$V7:$AA7)<Y7,Y7,IF($E8=Y$4,1,1+Y7))) -> 3 | Z8: =IF($D8=0,Z7,IF(LOOKUP($E8,$V$4:$AA$4,$V7:$AA7)<Z7,Z7,IF($E8=Z$4,1,1+Z7))) -> 1 | AA8: =IF($D8=0,AA7,IF(LOOKUP($E8,$V$4:$AA$4,$V7:$AA7)<AA7,AA7,IF($E8=AA$4,1,1+AA7))) -> 3 | AB8: =IF($D8=0,AB7,IF(LOOKUP($E8,$AB$4:$AG$4,$AB7:$AG7)<AB7,AB7,IF($E8=AB$4,1,1+AB7))) -> 3 | AC8: =IF($D8=0,AC7,IF(LOOKUP($E8,$AB$4:$AG$4,$AB7:$AG7)<AC7,AC7,IF($E8=AC$4,1,1+AC7))) -> 2 | AD8: =IF($D8=0,AD7,IF(LOOKUP($E8,$AB$4:$AG$4,$AB7:$AG7)<AD7,AD7,IF($E8=AD$4,1,1+AD7))) -> 3 | AE8: =IF($D8=0,AE7,IF(LOOKUP($E8,$AB$4:$AG$4,$AB7:$AG7)<AE7,AE7,IF($E8=AE$4,1,1+AE7))) -> 3 | AF8: =IF($D8=0,AF7,IF(LOOKUP($E8,$AB$4:$AG$4,$AB7:$AG7)<AF7,AF7,IF($E8=AF$4,1,1+AF7))) -> 1 | AG8: =IF($D8=0,AG7,IF(LOOKUP($E8,$AB$4:$AG$4,$AB7:$AG7)<AG7,AG7,IF($E8=AG$4,1,1+AG7))) -> 3 | AH8: =IF($D8=0,AH7,IF(LOOKUP($E8,$AH$4:$AM$4,$AH7:$AM7)<AH7,AH7,IF($E8=AH$4,1,1+AH7))) -> 3 | AI8: =IF($D8=0,AI7,IF(LOOKUP($E8,$AH$4:$AM$4,$AH7:$AM7)<AI7,AI7,IF($E8=AI$4,1,1+AI7))) -> 2 | AJ8: =IF($D8=0,AJ7,IF(LOOKUP($E8,$AH$4:$AM$4,$AH7:$AM7)<AJ7,AJ7,IF($E8=AJ$4,1,1+AJ7))) -> 3 | AK8: =IF($D8=0,AK7,IF(LOOKUP($E8,$AH$4:$AM$4,$AH7:$AM7)<AK7,AK7,IF($E8=AK$4,1,1+AK7))) -> 3 | AL8: =IF($D8=0,AL7,IF(LOOKUP($E8,$AH$4:$AM$4,$AH7:$AM7)<AL7,AL7,IF($E8=AL$4,1,1+AL7))) -> 1 | AM8: =IF($D8=0,AM7,IF(LOOKUP($E8,$AH$4:$AM$4,$AH7:$AM7)<AM7,AM7,IF($E8=AM$4,1,1+AM7))) -> 3
C9: 5 | D9: =RANDBETWEEN(0,36) -> 12 | E9: =IF(D9="","",LOOKUP(D9,Ref!B:B,Ref!C:C)) -> 4 | F9: =IF(D9="","",IF($E9=0,0,LOOKUP($E9,P$4:U$4,P8:U8))) -> 3 | G9: =IF(D9="","",LOOKUP(D9,Ref!B:B,Ref!D:D)) -> 5 | H9: =IF(D9="","",IF($E9=0,0,LOOKUP($E9,V$4:AA$4,V8:AA8))) -> 3 | I9: =IF(D9="","",LOOKUP(D9,Ref!B:B,Ref!E:E)) -> 2 | J9: =IF(D9="","",IF($E9=0,0,LOOKUP($E9,AB$4:AG$4,AB8:AG8))) -> 3 | K9: =IF(D9="","",LOOKUP(D9,Ref!B:B,Ref!F:F)) -> 1 | L9: =IF(D9="","",IF($E9=0,0,LOOKUP($E9,AH$4:AM$4,AH8:AM8))) -> 3 | P9: =IF($D9=0,P8,IF(LOOKUP($E9,$P$4:$U$4,$P8:$U8)<P8,P8,IF($E9=P$4,1,1+P8))) -> 4 | Q9: =IF($D9=0,Q8,IF(LOOKUP($E9,$P$4:$U$4,$P8:$U8)<Q8,Q8,IF($E9=Q$4,1,1+Q8))) -> 3 | R9: =IF($D9=0,R8,IF(LOOKUP($E9,$P$4:$U$4,$P8:$U8)<R8,R8,IF($E9=R$4,1,1+R8))) -> 4 | S9: =IF($D9=0,S8,IF(LOOKUP($E9,$P$4:$U$4,$P8:$U8)<S8,S8,IF($E9=S$4,1,1+S8))) -> 1 | T9: =IF($D9=0,T8,IF(LOOKUP($E9,$P$4:$U$4,$P8:$U8)<T8,T8,IF($E9=T$4,1,1+T8))) -> 2 | U9: =IF($D9=0,U8,IF(LOOKUP($E9,$P$4:$U$4,$P8:$U8)<U8,U8,IF($E9=U$4,1,1+U8))) -> 4 | V9: =IF($D9=0,V8,IF(LOOKUP($E9,$V$4:$AA$4,$V8:$AA8)<V8,V8,IF($E9=V$4,1,1+V8))) -> 4 | W9: =IF($D9=0,W8,IF(LOOKUP($E9,$V$4:$AA$4,$V8:$AA8)<W8,W8,IF($E9=W$4,1,1+W8))) -> 3 | X9: =IF($D9=0,X8,IF(LOOKUP($E9,$V$4:$AA$4,$V8:$AA8)<X8,X8,IF($E9=X$4,1,1+X8))) -> 4 | Y9: =IF($D9=0,Y8,IF(LOOKUP($E9,$V$4:$AA$4,$V8:$AA8)<Y8,Y8,IF($E9=Y$4,1,1+Y8))) -> 1 | Z9: =IF($D9=0,Z8,IF(LOOKUP($E9,$V$4:$AA$4,$V8:$AA8)<Z8,Z8,IF($E9=Z$4,1,1+Z8))) -> 2 | AA9: =IF($D9=0,AA8,IF(LOOKUP($E9,$V$4:$AA$4,$V8:$AA8)<AA8,AA8,IF($E9=AA$4,1,1+AA8))) -> 4 | AB9: =IF($D9=0,AB8,IF(LOOKUP($E9,$AB$4:$AG$4,$AB8:$AG8)<AB8,AB8,IF($E9=AB$4,1,1+AB8))) -> 4 | AC9: =IF($D9=0,AC8,IF(LOOKUP($E9,$AB$4:$AG$4,$AB8:$AG8)<AC8,AC8,IF($E9=AC$4,1,1+AC8))) -> 3 | AD9: =IF($D9=0,AD8,IF(LOOKUP($E9,$AB$4:$AG$4,$AB8:$AG8)<AD8,AD8,IF($E9=AD$4,1,1+AD8))) -> 4 | AE9: =IF($D9=0,AE8,IF(LOOKUP($E9,$AB$4:$AG$4,$AB8:$AG8)<AE8,AE8,IF($E9=AE$4,1,1+AE8))) -> 1 | AF9: =IF($D9=0,AF8,IF(LOOKUP($E9,$AB$4:$AG$4,$AB8:$AG8)<AF8,AF8,IF($E9=AF$4,1,1+AF8))) -> 2 | AG9: =IF($D9=0,AG8,IF(LOOKUP($E9,$AB$4:$AG$4,$AB8:$AG8)<AG8,AG8,IF($E9=AG$4,1,1+AG8))) -> 4 | AH9: =IF($D9=0,AH8,IF(LOOKUP($E9,$AH$4:$AM$4,$AH8:$AM8)<AH8,AH8,IF($E9=AH$4,1,1+AH8))) -> 4 | AI9: =IF($D9=0,AI8,IF(LOOKUP($E9,$AH$4:$AM$4,$AH8:$AM8)<AI8,AI8,IF($E9=AI$4,1,1+AI8))) -> 3 | AJ9: =IF($D9=0,AJ8,IF(LOOKUP($E9,$AH$4:$AM$4,$AH8:$AM8)<AJ8,AJ8,IF($E9=AJ$4,1,1+AJ8))) -> 4 | AK9: =IF($D9=0,AK8,IF(LOOKUP($E9,$AH$4:$AM$4,$AH8:$AM8)<AK8,AK8,IF($E9=AK$4,1,1+AK8))) -> 1 | AL9: =IF($D9=0,AL8,IF(LOOKUP($E9,$AH$4:$AM$4,$AH8:$AM8)<AL8,AL8,IF($E9=AL$4,1,1+AL8))) -> 2 | AM9: =IF($D9=0,AM8,IF(LOOKUP($E9,$AH$4:$AM$4,$AH8:$AM8)<AM8,AM8,IF($E9=AM$4,1,1+AM8))) -> 4
C10: 6 | D10: =RANDBETWEEN(0,36) -> 3 | E10: =IF(D10="","",LOOKUP(D10,Ref!B:B,Ref!C:C)) -> 1 | F10: =IF(D10="","",IF($E10=0,0,LOOKUP($E10,P$4:U$4,P9:U9))) -> 4 | G10: =IF(D10="","",LOOKUP(D10,Ref!B:B,Ref!D:D)) -> 4 | H10: =IF(D10="","",IF($E10=0,0,LOOKUP($E10,V$4:AA$4,V9:AA9))) -> 4 | I10: =IF(D10="","",LOOKUP(D10,Ref!B:B,Ref!E:E)) -> 1 | J10: =IF(D10="","",IF($E10=0,0,LOOKUP($E10,AB$4:AG$4,AB9:AG9))) -> 4 | K10: =IF(D10="","",LOOKUP(D10,Ref!B:B,Ref!F:F)) -> 1 | L10: =IF(D10="","",IF($E10=0,0,LOOKUP($E10,AH$4:AM$4,AH9:AM9))) -> 4 | P10: =IF($D10=0,P9,IF(LOOKUP($E10,$P$4:$U$4,$P9:$U9)<P9,P9,IF($E10=P$4,1,1+P9))) -> 1 | Q10: =IF($D10=0,Q9,IF(LOOKUP($E10,$P$4:$U$4,$P9:$U9)<Q9,Q9,IF($E10=Q$4,1,1+Q9))) -> 4 | R10: =IF($D10=0,R9,IF(LOOKUP($E10,$P$4:$U$4,$P9:$U9)<R9,R9,IF($E10=R$4,1,1+R9))) -> 5 | S10: =IF($D10=0,S9,IF(LOOKUP($E10,$P$4:$U$4,$P9:$U9)<S9,S9,IF($E10=S$4,1,1+S9))) -> 2 | T10: =IF($D10=0,T9,IF(LOOKUP($E10,$P$4:$U$4,$P9:$U9)<T9,T9,IF($E10=T$4,1,1+T9))) -> 3 | U10: =IF($D10=0,U9,IF(LOOKUP($E10,$P$4:$U$4,$P9:$U9)<U9,U9,IF($E10=U$4,1,1+U9))) -> 5 | V10: =IF($D10=0,V9,IF(LOOKUP($E10,$V$4:$AA$4,$V9:$AA9)<V9,V9,IF($E10=V$4,1,1+V9))) -> 1 | W10: =IF($D10=0,W9,IF(LOOKUP($E10,$V$4:$AA$4,$V9:$AA9)<W9,W9,IF($E10=W$4,1,1+W9))) -> 4 | X10: =IF($D10=0,X9,IF(LOOKUP($E10,$V$4:$AA$4,$V9:$AA9)<X9,X9,IF($E10=X$4,1,1+X9))) -> 5 | Y10: =IF($D10=0,Y9,IF(LOOKUP($E10,$V$4:$AA$4,$V9:$AA9)<Y9,Y9,IF($E10=Y$4,1,1+Y9))) -> 2 | Z10: =IF($D10=0,Z9,IF(LOOKUP($E10,$V$4:$AA$4,$V9:$AA9)<Z9,Z9,IF($E10=Z$4,1,1+Z9))) -> 3 | AA10: =IF($D10=0,AA9,IF(LOOKUP($E10,$V$4:$AA$4,$V9:$AA9)<AA9,AA9,IF($E10=AA$4,1,1+AA9))) -> 5 | AB10: =IF($D10=0,AB9,IF(LOOKUP($E10,$AB$4:$AG$4,$AB9:$AG9)<AB9,AB9,IF($E10=AB$4,1,1+AB9))) -> 1 | AC10: =IF($D10=0,AC9,IF(LOOKUP($E10,$AB$4:$AG$4,$AB9:$AG9)<AC9,AC9,IF($E10=AC$4,1,1+AC9))) -> 4 | AD10: =IF($D10=0,AD9,IF(LOOKUP($E10,$AB$4:$AG$4,$AB9:$AG9)<AD9,AD9,IF($E10=AD$4,1,1+AD9))) -> 5 | AE10: =IF($D10=0,AE9,IF(LOOKUP($E10,$AB$4:$AG$4,$AB9:$AG9)<AE9,AE9,IF($E10=AE$4,1,1+AE9))) -> 2 | AF10: =IF($D10=0,AF9,IF(LOOKUP($E10,$AB$4:$AG$4,$AB9:$AG9)<AF9,AF9,IF($E10=AF$4,1,1+AF9))) -> 3 | AG10: =IF($D10=0,AG9,IF(LOOKUP($E10,$AB$4:$AG$4,$AB9:$AG9)<AG9,AG9,IF($E10=AG$4,1,1+AG9))) -> 5 | AH10: =IF($D10=0,AH9,IF(LOOKUP($E10,$AH$4:$AM$4,$AH9:$AM9)<AH9,AH9,IF($E10=AH$4,1,1+AH9))) -> 1 | AI10: =IF($D10=0,AI9,IF(LOOKUP($E10,$AH$4:$AM$4,$AH9:$AM9)<AI9,AI9,IF($E10=AI$4,1,1+AI9))) -> 4 | AJ10: =IF($D10=0,AJ9,IF(LOOKUP($E10,$AH$4:$AM$4,$AH9:$AM9)<AJ9,AJ9,IF($E10=AJ$4,1,1+AJ9))) -> 5 | AK10: =IF($D10=0,AK9,IF(LOOKUP($E10,$AH$4:$AM$4,$AH9:$AM9)<AK9,AK9,IF($E10=AK$4,1,1+AK9))) -> 2 | AL10: =IF($D10=0,AL9,IF(LOOKUP($E10,$AH$4:$AM$4,$AH9:$AM9)<AL9,AL9,IF($E10=AL$4,1,1+AL9))) -> 3 | AM10: =IF($D10=0,AM9,IF(LOOKUP($E10,$AH$4:$AM$4,$AH9:$AM9)<AM9,AM9,IF($E10=AM$4,1,1+AM9))) -> 5
C11: 7 | D11: =RANDBETWEEN(0,36) -> 23 | E11: =IF(D11="","",LOOKUP(D11,Ref!B:B,Ref!C:C)) -> 6 | F11: =IF(D11="","",IF($E11=0,0,LOOKUP($E11,P$4:U$4,P10:U10))) -> 5 | G11: =IF(D11="","",LOOKUP(D11,Ref!B:B,Ref!D:D)) -> 3 | H11: =IF(D11="","",IF($E11=0,0,LOOKUP($E11,V$4:AA$4,V10:AA10))) -> 5 | I11: =IF(D11="","",LOOKUP(D11,Ref!B:B,Ref!E:E)) -> 4 | J11: =IF(D11="","",IF($E11=0,0,LOOKUP($E11,AB$4:AG$4,AB10:AG10))) -> 5 | K11: =IF(D11="","",LOOKUP(D11,Ref!B:B,Ref!F:F)) -> 3 | L11: =IF(D11="","",IF($E11=0,0,LOOKUP($E11,AH$4:AM$4,AH10:AM10))) -> 5 | P11: =IF($D11=0,P10,IF(LOOKUP($E11,$P$4:$U$4,$P10:$U10)<P10,P10,IF($E11=P$4,1,1+P10))) -> 2 | Q11: =IF($D11=0,Q10,IF(LOOKUP($E11,$P$4:$U$4,$P10:$U10)<Q10,Q10,IF($E11=Q$4,1,1+Q10))) -> 5 | R11: =IF($D11=0,R10,IF(LOOKUP($E11,$P$4:$U$4,$P10:$U10)<R10,R10,IF($E11=R$4,1,1+R10))) -> 6 | S11: =IF($D11=0,S10,IF(LOOKUP($E11,$P$4:$U$4,$P10:$U10)<S10,S10,IF($E11=S$4,1,1+S10))) -> 3 | T11: =IF($D11=0,T10,IF(LOOKUP($E11,$P$4:$U$4,$P10:$U10)<T10,T10,IF($E11=T$4,1,1+T10))) -> 4 | U11: =IF($D11=0,U10,IF(LOOKUP($E11,$P$4:$U$4,$P10:$U10)<U10,U10,IF($E11=U$4,1,1+U10))) -> 1 | V11: =IF($D11=0,V10,IF(LOOKUP($E11,$V$4:$AA$4,$V10:$AA10)<V10,V10,IF($E11=V$4,1,1+V10))) -> 2 | W11: =IF($D11=0,W10,IF(LOOKUP($E11,$V$4:$AA$4,$V10:$AA10)<W10,W10,IF($E11=W$4,1,1+W10))) -> 5 | X11: =IF($D11=0,X10,IF(LOOKUP($E11,$V$4:$AA$4,$V10:$AA10)<X10,X10,IF($E11=X$4,1,1+X10))) -> 6 | Y11: =IF($D11=0,Y10,IF(LOOKUP($E11,$V$4:$AA$4,$V10:$AA10)<Y10,Y10,IF($E11=Y$4,1,1+Y10))) -> 3 | Z11: =IF($D11=0,Z10,IF(LOOKUP($E11,$V$4:$AA$4,$V10:$AA10)<Z10,Z10,IF($E11=Z$4,1,1+Z10))) -> 4 | AA11: =IF($D11=0,AA10,IF(LOOKUP($E11,$V$4:$AA$4,$V10:$AA10)<AA10,AA10,IF($E11=AA$4,1,1+AA10))) -> 1 | AB11: =IF($D11=0,AB10,IF(LOOKUP($E11,$AB$4:$AG$4,$AB10:$AG10)<AB10,AB10,IF($E11=AB$4,1,1+AB10))) -> 2 | AC11: =IF($D11=0,AC10,IF(LOOKUP($E11,$AB$4:$AG$4,$AB10:$AG10)<AC10,AC10,IF($E11=AC$4,1,1+AC10))) -> 5 | AD11: =IF($D11=0,AD10,IF(LOOKUP($E11,$AB$4:$AG$4,$AB10:$AG10)<AD10,AD10,IF($E11=AD$4,1,1+AD10))) -> 6 | AE11: =IF($D11=0,AE10,IF(LOOKUP($E11,$AB$4:$AG$4,$AB10:$AG10)<AE10,AE10,IF($E11=AE$4,1,1+AE10))) -> 3 | AF11: =IF($D11=0,AF10,IF(LOOKUP($E11,$AB$4:$AG$4,$AB10:$AG10)<AF10,AF10,IF($E11=AF$4,1,1+AF10))) -> 4 | AG11: =IF($D11=0,AG10,IF(LOOKUP($E11,$AB$4:$AG$4,$AB10:$AG10)<AG10,AG10,IF($E11=AG$4,1,1+AG10))) -> 1 | AH11: =IF($D11=0,AH10,IF(LOOKUP($E11,$AH$4:$AM$4,$AH10:$AM10)<AH10,AH10,IF($E11=AH$4,1,1+AH10))) -> 2 | AI11: =IF($D11=0,AI10,IF(LOOKUP($E11,$AH$4:$AM$4,$AH10:$AM10)<AI10,AI10,IF($E11=AI$4,1,1+AI10))) -> 5 | AJ11: =IF($D11=0,AJ10,IF(LOOKUP($E11,$AH$4:$AM$4,$AH10:$AM10)<AJ10,AJ10,IF($E11=AJ$4,1,1+AJ10))) -> 6 | AK11: =IF($D11=0,AK10,IF(LOOKUP($E11,$AH$4:$AM$4,$AH10:$AM10)<AK10,AK10,IF($E11=AK$4,1,1+AK10))) -> 3 | AL11: =IF($D11=0,AL10,IF(LOOKUP($E11,$AH$4:$AM$4,$AH10:$AM10)<AL10,AL10,IF($E11=AL$4,1,1+AL10))) -> 4 | AM11: =IF($D11=0,AM10,IF(LOOKUP($E11,$AH$4:$AM$4,$AH10:$AM10)<AM10,AM10,IF($E11=AM$4,1,1+AM10))) -> 1
C12: 8 | D12: =RANDBETWEEN(0,36) -> 25 | E12: =IF(D12="","",LOOKUP(D12,Ref!B:B,Ref!C:C)) -> 2 | F12: =IF(D12="","",IF($E12=0,0,LOOKUP($E12,P$4:U$4,P11:U11))) -> 5 | G12: =IF(D12="","",LOOKUP(D12,Ref!B:B,Ref!D:D)) -> 6 | H12: =IF(D12="","",IF($E12=0,0,LOOKUP($E12,V$4:AA$4,V11:AA11))) -> 5 | I12: =IF(D12="","",LOOKUP(D12,Ref!B:B,Ref!E:E)) -> 5 | J12: =IF(D12="","",IF($E12=0,0,LOOKUP($E12,AB$4:AG$4,AB11:AG11))) -> 5 | K12: =IF(D12="","",LOOKUP(D12,Ref!B:B,Ref!F:F)) -> 5 | L12: =IF(D12="","",IF($E12=0,0,LOOKUP($E12,AH$4:AM$4,AH11:AM11))) -> 5 | P12: =IF($D12=0,P11,IF(LOOKUP($E12,$P$4:$U$4,$P11:$U11)<P11,P11,IF($E12=P$4,1,1+P11))) -> 3 | Q12: =IF($D12=0,Q11,IF(LOOKUP($E12,$P$4:$U$4,$P11:$U11)<Q11,Q11,IF($E12=Q$4,1,1+Q11))) -> 1 | R12: =IF($D12=0,R11,IF(LOOKUP($E12,$P$4:$U$4,$P11:$U11)<R11,R11,IF($E12=R$4,1,1+R11))) -> 6 | S12: =IF($D12=0,S11,IF(LOOKUP($E12,$P$4:$U$4,$P11:$U11)<S11,S11,IF($E12=S$4,1,1+S11))) -> 4 | T12: =IF($D12=0,T11,IF(LOOKUP($E12,$P$4:$U$4,$P11:$U11)<T11,T11,IF($E12=T$4,1,1+T11))) -> 5 | U12: =IF($D12=0,U11,IF(LOOKUP($E12,$P$4:$U$4,$P11:$U11)<U11,U11,IF($E12=U$4,1,1+U11))) -> 2 | V12: =IF($D12=0,V11,IF(LOOKUP($E12,$V$4:$AA$4,$V11:$AA11)<V11,V11,IF($E12=V$4,1,1+V11))) -> 3 | W12: =IF($D12=0,W11,IF(LOOKUP($E12,$V$4:$AA$4,$V11:$AA11)<W11,W11,IF($E12=W$4,1,1+W11))) -> 1 | X12: =IF($D12=0,X11,IF(LOOKUP($E12,$V$4:$AA$4,$V11:$AA11)<X11,X11,IF($E12=X$4,1,1+X11))) -> 6 | Y12: =IF($D12=0,Y11,IF(LOOKUP($E12,$V$4:$AA$4,$V11:$AA11)<Y11,Y11,IF($E12=Y$4,1,1+Y11))) -> 4 | Z12: =IF($D12=0,Z11,IF(LOOKUP($E12,$V$4:$AA$4,$V11:$AA11)<Z11,Z11,IF($E12=Z$4,1,1+Z11))) -> 5 | AA12: =IF($D12=0,AA11,IF(LOOKUP($E12,$V$4:$AA$4,$V11:$AA11)<AA11,AA11,IF($E12=AA$4,1,1+AA11))) -> 2 | AB12: =IF($D12=0,AB11,IF(LOOKUP($E12,$AB$4:$AG$4,$AB11:$AG11)<AB11,AB11,IF($E12=AB$4,1,1+AB11))) -> 3 | AC12: =IF($D12=0,AC11,IF(LOOKUP($E12,$AB$4:$AG$4,$AB11:$AG11)<AC11,AC11,IF($E12=AC$4,1,1+AC11))) -> 1 | AD12: =IF($D12=0,AD11,IF(LOOKUP($E12,$AB$4:$AG$4,$AB11:$AG11)<AD11,AD11,IF($E12=AD$4,1,1+AD11))) -> 6 | AE12: =IF($D12=0,AE11,IF(LOOKUP($E12,$AB$4:$AG$4,$AB11:$AG11)<AE11,AE11,IF($E12=AE$4,1,1+AE11))) -> 4 | AF12: =IF($D12=0,AF11,IF(LOOKUP($E12,$AB$4:$AG$4,$AB11:$AG11)<AF11,AF11,IF($E12=AF$4,1,1+AF11))) -> 5 | AG12: =IF($D12=0,AG11,IF(LOOKUP($E12,$AB$4:$AG$4,$AB11:$AG11)<AG11,AG11,IF($E12=AG$4,1,1+AG11))) -> 2 | AH12: =IF($D12=0,AH11,IF(LOOKUP($E12,$AH$4:$AM$4,$AH11:$AM11)<AH11,AH11,IF($E12=AH$4,1,1+AH11))) -> 3 | AI12: =IF($D12=0,AI11,IF(LOOKUP($E12,$AH$4:$AM$4,$AH11:$AM11)<AI11,AI11,IF($E12=AI$4,1,1+AI11))) -> 1 | AJ12: =IF($D12=0,AJ11,IF(LOOKUP($E12,$AH$4:$AM$4,$AH11:$AM11)<AJ11,AJ11,IF($E12=AJ$4,1,1+AJ11))) -> 6 | AK12: =IF($D12=0,AK11,IF(LOOKUP($E12,$AH$4:$AM$4,$AH11:$AM11)<AK11,AK11,IF($E12=AK$4,1,1+AK11))) -> 4 | AL12: =IF($D12=0,AL11,IF(LOOKUP($E12,$AH$4:$AM$4,$AH11:$AM11)<AL11,AL11,IF($E12=AL$4,1,1+AL11))) -> 5 | AM12: =IF($D12=0,AM11,IF(LOOKUP($E12,$AH$4:$AM$4,$AH11:$AM11)<AM11,AM11,IF($E12=AM$4,1,1+AM11))) -> 2
C13: 9 | D13: =RANDBETWEEN(0,36) -> 27 | E13: =IF(D13="","",LOOKUP(D13,Ref!B:B,Ref!C:C)) -> 2 | F13: =IF(D13="","",IF($E13=0,0,LOOKUP($E13,P$4:U$4,P12:U12))) -> 1 | G13: =IF(D13="","",LOOKUP(D13,Ref!B:B,Ref!D:D)) -> 6 | H13: =IF(D13="","",IF($E13=0,0,LOOKUP($E13,V$4:AA$4,V12:AA12))) -> 1 | I13: =IF(D13="","",LOOKUP(D13,Ref!B:B,Ref!E:E)) -> 5 | J13: =IF(D13="","",IF($E13=0,0,LOOKUP($E13,AB$4:AG$4,AB12:AG12))) -> 1 | K13: =IF(D13="","",LOOKUP(D13,Ref!B:B,Ref!F:F)) -> 5 | L13: =IF(D13="","",IF($E13=0,0,LOOKUP($E13,AH$4:AM$4,AH12:AM12))) -> 1 | P13: =IF($D13=0,P12,IF(LOOKUP($E13,$P$4:$U$4,$P12:$U12)<P12,P12,IF($E13=P$4,1,1+P12))) -> 3 | Q13: =IF($D13=0,Q12,IF(LOOKUP($E13,$P$4:$U$4,$P12:$U12)<Q12,Q12,IF($E13=Q$4,1,1+Q12))) -> 1 | R13: =IF($D13=0,R12,IF(LOOKUP($E13,$P$4:$U$4,$P12:$U12)<R12,R12,IF($E13=R$4,1,1+R12))) -> 6 | S13: =IF($D13=0,S12,IF(LOOKUP($E13,$P$4:$U$4,$P12:$U12)<S12,S12,IF($E13=S$4,1,1+S12))) -> 4 | T13: =IF($D13=0,T12,IF(LOOKUP($E13,$P$4:$U$4,$P12:$U12)<T12,T12,IF($E13=T$4,1,1+T12))) -> 5 | U13: =IF($D13=0,U12,IF(LOOKUP($E13,$P$4:$U$4,$P12:$U12)<U12,U12,IF($E13=U$4,1,1+U12))) -> 2 | V13: =IF($D13=0,V12,IF(LOOKUP($E13,$V$4:$AA$4,$V12:$AA12)<V12,V12,IF($E13=V$4,1,1+V12))) -> 3 | W13: =IF($D13=0,W12,IF(LOOKUP($E13,$V$4:$AA$4,$V12:$AA12)<W12,W12,IF($E13=W$4,1,1+W12))) -> 1 | X13: =IF($D13=0,X12,IF(LOOKUP($E13,$V$4:$AA$4,$V12:$AA12)<X12,X12,IF($E13=X$4,1,1+X12))) -> 6 | Y13: =IF($D13=0,Y12,IF(LOOKUP($E13,$V$4:$AA$4,$V12:$AA12)<Y12,Y12,IF($E13=Y$4,1,1+Y12))) -> 4 | Z13: =IF($D13=0,Z12,IF(LOOKUP($E13,$V$4:$AA$4,$V12:$AA12)<Z12,Z12,IF($E13=Z$4,1,1+Z12))) -> 5 | AA13: =IF($D13=0,AA12,IF(LOOKUP($E13,$V$4:$AA$4,$V12:$AA12)<AA12,AA12,IF($E13=AA$4,1,1+AA12))) -> 2 | AB13: =IF($D13=0,AB12,IF(LOOKUP($E13,$AB$4:$AG$4,$AB12:$AG12)<AB12,AB12,IF($E13=AB$4,1,1+AB12))) -> 3 | AC13: =IF($D13=0,AC12,IF(LOOKUP($E13,$AB$4:$AG$4,$AB12:$AG12)<AC12,AC12,IF($E13=AC$4,1,1+AC12))) -> 1 | AD13: =IF($D13=0,AD12,IF(LOOKUP($E13,$AB$4:$AG$4,$AB12:$AG12)<AD12,AD12,IF($E13=AD$4,1,1+AD12))) -> 6 | AE13: =IF($D13=0,AE12,IF(LOOKUP($E13,$AB$4:$AG$4,$AB12:$AG12)<AE12,AE12,IF($E13=AE$4,1,1+AE12))) -> 4 | AF13: =IF($D13=0,AF12,IF(LOOKUP($E13,$AB$4:$AG$4,$AB12:$AG12)<AF12,AF12,IF($E13=AF$4,1,1+AF12))) -> 5 | AG13: =IF($D13=0,AG12,IF(LOOKUP($E13,$AB$4:$AG$4,$AB12:$AG12)<AG12,AG12,IF($E13=AG$4,1,1+AG12))) -> 2 | AH13: =IF($D13=0,AH12,IF(LOOKUP($E13,$AH$4:$AM$4,$AH12:$AM12)<AH12,AH12,IF($E13=AH$4,1,1+AH12))) -> 3 | AI13: =IF($D13=0,AI12,IF(LOOKUP($E13,$AH$4:$AM$4,$AH12:$AM12)<AI12,AI12,IF($E13=AI$4,1,1+AI12))) -> 1 | AJ13: =IF($D13=0,AJ12,IF(LOOKUP($E13,$AH$4:$AM$4,$AH12:$AM12)<AJ12,AJ12,IF($E13=AJ$4,1,1+AJ12))) -> 6 | AK13: =IF($D13=0,AK12,IF(LOOKUP($E13,$AH$4:$AM$4,$AH12:$AM12)<AK12,AK12,IF($E13=AK$4,1,1+AK12))) -> 4 | AL13: =IF($D13=0,AL12,IF(LOOKUP($E13,$AH$4:$AM$4,$AH12:$AM12)<AL12,AL12,IF($E13=AL$4,1,1+AL12))) -> 5 | AM13: =IF($D13=0,AM12,IF(LOOKUP($E13,$AH$4:$AM$4,$AH12:$AM12)<AM12,AM12,IF($E13=AM$4,1,1+AM12))) -> 2
C14: 10 | D14: =RANDBETWEEN(0,36) -> 9 | E14: =IF(D14="","",LOOKUP(D14,Ref!B:B,Ref!C:C)) -> 3 | F14: =IF(D14="","",IF($E14=0,0,LOOKUP($E14,P$4:U$4,P13:U13))) -> 6 | G14: =IF(D14="","",LOOKUP(D14,Ref!B:B,Ref!D:D)) -> 1 | H14: =IF(D14="","",IF($E14=0,0,LOOKUP($E14,V$4:AA$4,V13:AA13))) -> 6 | I14: =IF(D14="","",LOOKUP(D14,Ref!B:B,Ref!E:E)) -> 2 | J14: =IF(D14="","",IF($E14=0,0,LOOKUP($E14,AB$4:AG$4,AB13:AG13))) -> 6 | K14: =IF(D14="","",LOOKUP(D14,Ref!B:B,Ref!F:F)) -> 1 | L14: =IF(D14="","",IF($E14=0,0,LOOKUP($E14,AH$4:AM$4,AH13:AM13))) -> 6 | P14: =IF($D14=0,P13,IF(LOOKUP($E14,$P$4:$U$4,$P13:$U13)<P13,P13,IF($E14=P$4,1,1+P13))) -> 4 | Q14: =IF($D14=0,Q13,IF(LOOKUP($E14,$P$4:$U$4,$P13:$U13)<Q13,Q13,IF($E14=Q$4,1,1+Q13))) -> 2 | R14: =IF($D14=0,R13,IF(LOOKUP($E14,$P$4:$U$4,$P13:$U13)<R13,R13,IF($E14=R$4,1,1+R13))) -> 1 | S14: =IF($D14=0,S13,IF(LOOKUP($E14,$P$4:$U$4,$P13:$U13)<S13,S13,IF($E14=S$4,1,1+S13))) -> 5 | T14: =IF($D14=0,T13,IF(LOOKUP($E14,$P$4:$U$4,$P13:$U13)<T13,T13,IF($E14=T$4,1,1+T13))) -> 6 | U14: =IF($D14=0,U13,IF(LOOKUP($E14,$P$4:$U$4,$P13:$U13)<U13,U13,IF($E14=U$4,1,1+U13))) -> 3 | V14: =IF($D14=0,V13,IF(LOOKUP($E14,$V$4:$AA$4,$V13:$AA13)<V13,V13,IF($E14=V$4,1,1+V13))) -> 4 | W14: =IF($D14=0,W13,IF(LOOKUP($E14,$V$4:$AA$4,$V13:$AA13)<W13,W13,IF($E14=W$4,1,1+W13))) -> 2 | X14: =IF($D14=0,X13,IF(LOOKUP($E14,$V$4:$AA$4,$V13:$AA13)<X13,X13,IF($E14=X$4,1,1+X13))) -> 1 | Y14: =IF($D14=0,Y13,IF(LOOKUP($E14,$V$4:$AA$4,$V13:$AA13)<Y13,Y13,IF($E14=Y$4,1,1+Y13))) -> 5 | Z14: =IF($D14=0,Z13,IF(LOOKUP($E14,$V$4:$AA$4,$V13:$AA13)<Z13,Z13,IF($E14=Z$4,1,1+Z13))) -> 6 | AA14: =IF($D14=0,AA13,IF(LOOKUP($E14,$V$4:$AA$4,$V13:$AA13)<AA13,AA13,IF($E14=AA$4,1,1+AA13))) -> 3 | AB14: =IF($D14=0,AB13,IF(LOOKUP($E14,$AB$4:$AG$4,$AB13:$AG13)<AB13,AB13,IF($E14=AB$4,1,1+AB13))) -> 4 | AC14: =IF($D14=0,AC13,IF(LOOKUP($E14,$AB$4:$AG$4,$AB13:$AG13)<AC13,AC13,IF($E14=AC$4,1,1+AC13))) -> 2 | AD14: =IF($D14=0,AD13,IF(LOOKUP($E14,$AB$4:$AG$4,$AB13:$AG13)<AD13,AD13,IF($E14=AD$4,1,1+AD13))) -> 1 | AE14: =IF($D14=0,AE13,IF(LOOKUP($E14,$AB$4:$AG$4,$AB13:$AG13)<AE13,AE13,IF($E14=AE$4,1,1+AE13))) -> 5 | AF14: =IF($D14=0,AF13,IF(LOOKUP($E14,$AB$4:$AG$4,$AB13:$AG13)<AF13,AF13,IF($E14=AF$4,1,1+AF13))) -> 6 | AG14: =IF($D14=0,AG13,IF(LOOKUP($E14,$AB$4:$AG$4,$AB13:$AG13)<AG13,AG13,IF($E14=AG$4,1,1+AG13))) -> 3 | AH14: =IF($D14=0,AH13,IF(LOOKUP($E14,$AH$4:$AM$4,$AH13:$AM13)<AH13,AH13,IF($E14=AH$4,1,1+AH13))) -> 4 | AI14: =IF($D14=0,AI13,IF(LOOKUP($E14,$AH$4:$AM$4,$AH13:$AM13)<AI13,AI13,IF($E14=AI$4,1,1+AI13))) -> 2 | AJ14: =IF($D14=0,AJ13,IF(LOOKUP($E14,$AH$4:$AM$4,$AH13:$AM13)<AJ13,AJ13,IF($E14=AJ$4,1,1+AJ13))) -> 1 | AK14: =IF($D14=0,AK13,IF(LOOKUP($E14,$AH$4:$AM$4,$AH13:$AM13)<AK13,AK13,IF($E14=AK$4,1,1+AK13))) -> 5 | AL14: =IF($D14=0,AL13,IF(LOOKUP($E14,$AH$4:$AM$4,$AH13:$AM13)<AL13,AL13,IF($E14=AL$4,1,1+AL13))) -> 6 | AM14: =IF($D14=0,AM13,IF(LOOKUP($E14,$AH$4:$AM$4,$AH13:$AM13)<AM13,AM13,IF($E14=AM$4,1,1+AM13))) -> 3
C15: 11 | D15: =RANDBETWEEN(0,36) -> 35 | E15: =IF(D15="","",LOOKUP(D15,Ref!B:B,Ref!C:C)) -> 6 | F15: =IF(D15="","",IF($E15=0,0,LOOKUP($E15,P$4:U$4,P14:U14))) -> 3 | G15: =IF(D15="","",LOOKUP(D15,Ref!B:B,Ref!D:D)) -> 4 | H15: =IF(D15="","",IF($E15=0,0,LOOKUP($E15,V$4:AA$4,V14:AA14))) -> 3 | I15: =IF(D15="","",LOOKUP(D15,Ref!B:B,Ref!E:E)) -> 6 | J15: =IF(D15="","",IF($E15=0,0,LOOKUP($E15,AB$4:AG$4,AB14:AG14))) -> 3 | K15: =IF(D15="","",LOOKUP(D15,Ref!B:B,Ref!F:F)) -> 6 | L15: =IF(D15="","",IF($E15=0,0,LOOKUP($E15,AH$4:AM$4,AH14:AM14))) -> 3 | P15: =IF($D15=0,P14,IF(LOOKUP($E15,$P$4:$U$4,$P14:$U14)<P14,P14,IF($E15=P$4,1,1+P14))) -> 4 | Q15: =IF($D15=0,Q14,IF(LOOKUP($E15,$P$4:$U$4,$P14:$U14)<Q14,Q14,IF($E15=Q$4,1,1+Q14))) -> 3 | R15: =IF($D15=0,R14,IF(LOOKUP($E15,$P$4:$U$4,$P14:$U14)<R14,R14,IF($E15=R$4,1,1+R14))) -> 2 | S15: =IF($D15=0,S14,IF(LOOKUP($E15,$P$4:$U$4,$P14:$U14)<S14,S14,IF($E15=S$4,1,1+S14))) -> 5 | T15: =IF($D15=0,T14,IF(LOOKUP($E15,$P$4:$U$4,$P14:$U14)<T14,T14,IF($E15=T$4,1,1+T14))) -> 6 | U15: =IF($D15=0,U14,IF(LOOKUP($E15,$P$4:$U$4,$P14:$U14)<U14,U14,IF($E15=U$4,1,1+U14))) -> 1 | V15: =IF($D15=0,V14,IF(LOOKUP($E15,$V$4:$AA$4,$V14:$AA14)<V14,V14,IF($E15=V$4,1,1+V14))) -> 4 | W15: =IF($D15=0,W14,IF(LOOKUP($E15,$V$4:$AA$4,$V14:$AA14)<W14,W14,IF($E15=W$4,1,1+W14))) -> 3 | X15: =IF($D15=0,X14,IF(LOOKUP($E15,$V$4:$AA$4,$V14:$AA14)<X14,X14,IF($E15=X$4,1,1+X14))) -> 2 | Y15: =IF($D15=0,Y14,IF(LOOKUP($E15,$V$4:$AA$4,$V14:$AA14)<Y14,Y14,IF($E15=Y$4,1,1+Y14))) -> 5 | Z15: =IF($D15=0,Z14,IF(LOOKUP($E15,$V$4:$AA$4,$V14:$AA14)<Z14,Z14,IF($E15=Z$4,1,1+Z14))) -> 6 | AA15: =IF($D15=0,AA14,IF(LOOKUP($E15,$V$4:$AA$4,$V14:$AA14)<AA14,AA14,IF($E15=AA$4,1,1+AA14))) -> 1 | AB15: =IF($D15=0,AB14,IF(LOOKUP($E15,$AB$4:$AG$4,$AB14:$AG14)<AB14,AB14,IF($E15=AB$4,1,1+AB14))) -> 4 | AC15: =IF($D15=0,AC14,IF(LOOKUP($E15,$AB$4:$AG$4,$AB14:$AG14)<AC14,AC14,IF($E15=AC$4,1,1+AC14))) -> 3 | AD15: =IF($D15=0,AD14,IF(LOOKUP($E15,$AB$4:$AG$4,$AB14:$AG14)<AD14,AD14,IF($E15=AD$4,1,1+AD14))) -> 2 | AE15: =IF($D15=0,AE14,IF(LOOKUP($E15,$AB$4:$AG$4,$AB14:$AG14)<AE14,AE14,IF($E15=AE$4,1,1+AE14))) -> 5 | AF15: =IF($D15=0,AF14,IF(LOOKUP($E15,$AB$4:$AG$4,$AB14:$AG14)<AF14,AF14,IF($E15=AF$4,1,1+AF14))) -> 6 | AG15: =IF($D15=0,AG14,IF(LOOKUP($E15,$AB$4:$AG$4,$AB14:$AG14)<AG14,AG14,IF($E15=AG$4,1,1+AG14))) -> 1 | AH15: =IF($D15=0,AH14,IF(LOOKUP($E15,$AH$4:$AM$4,$AH14:$AM14)<AH14,AH14,IF($E15=AH$4,1,1+AH14))) -> 4 | AI15: =IF($D15=0,AI14,IF(LOOKUP($E15,$AH$4:$AM$4,$AH14:$AM14)<AI14,AI14,IF($E15=AI$4,1,1+AI14))) -> 3 | AJ15: =IF($D15=0,AJ14,IF(LOOKUP($E15,$AH$4:$AM$4,$AH14:$AM14)<AJ14,AJ14,IF($E15=AJ$4,1,1+AJ14))) -> 2 | AK15: =IF($D15=0,AK14,IF(LOOKUP($E15,$AH$4:$AM$4,$AH14:$AM14)<AK14,AK14,IF($E15=AK$4,1,1+AK14))) -> 5 | AL15: =IF($D15=0,AL14,IF(LOOKUP($E15,$AH$4:$AM$4,$AH14:$AM14)<AL14,AL14,IF($E15=AL$4,1,1+AL14))) -> 6 | AM15: =IF($D15=0,AM14,IF(LOOKUP($E15,$AH$4:$AM$4,$AH14:$AM14)<AM14,AM14,IF($E15=AM$4,1,1+AM14))) -> 1
C16: 12 | D16: =RANDBETWEEN(0,36) -> 29 | E16: =IF(D16="","",LOOKUP(D16,Ref!B:B,Ref!C:C)) -> 4 | F16: =IF(D16="","",IF($E16=0,0,LOOKUP($E16,P$4:U$4,P15:U15))) -> 5 | G16: =IF(D16="","",LOOKUP(D16,Ref!B:B,Ref!D:D)) -> 3 | H16: =IF(D16="","",IF($E16=0,0,LOOKUP($E16,V$4:AA$4,V15:AA15))) -> 5 | I16: =IF(D16="","",LOOKUP(D16,Ref!B:B,Ref!E:E)) -> 5 | J16: =IF(D16="","",IF($E16=0,0,LOOKUP($E16,AB$4:AG$4,AB15:AG15))) -> 5 | K16: =IF(D16="","",LOOKUP(D16,Ref!B:B,Ref!F:F)) -> 6 | L16: =IF(D16="","",IF($E16=0,0,LOOKUP($E16,AH$4:AM$4,AH15:AM15))) -> 5 | P16: =IF($D16=0,P15,IF(LOOKUP($E16,$P$4:$U$4,$P15:$U15)<P15,P15,IF($E16=P$4,1,1+P15))) -> 5 | Q16: =IF($D16=0,Q15,IF(LOOKUP($E16,$P$4:$U$4,$P15:$U15)<Q15,Q15,IF($E16=Q$4,1,1+Q15))) -> 4 | R16: =IF($D16=0,R15,IF(LOOKUP($E16,$P$4:$U$4,$P15:$U15)<R15,R15,IF($E16=R$4,1,1+R15))) -> 3 | S16: =IF($D16=0,S15,IF(LOOKUP($E16,$P$4:$U$4,$P15:$U15)<S15,S15,IF($E16=S$4,1,1+S15))) -> 1 | T16: =IF($D16=0,T15,IF(LOOKUP($E16,$P$4:$U$4,$P15:$U15)<T15,T15,IF($E16=T$4,1,1+T15))) -> 6 | U16: =IF($D16=0,U15,IF(LOOKUP($E16,$P$4:$U$4,$P15:$U15)<U15,U15,IF($E16=U$4,1,1+U15))) -> 2 | V16: =IF($D16=0,V15,IF(LOOKUP($E16,$V$4:$AA$4,$V15:$AA15)<V15,V15,IF($E16=V$4,1,1+V15))) -> 5 | W16: =IF($D16=0,W15,IF(LOOKUP($E16,$V$4:$AA$4,$V15:$AA15)<W15,W15,IF($E16=W$4,1,1+W15))) -> 4 | X16: =IF($D16=0,X15,IF(LOOKUP($E16,$V$4:$AA$4,$V15:$AA15)<X15,X15,IF($E16=X$4,1,1+X15))) -> 3 | Y16: =IF($D16=0,Y15,IF(LOOKUP($E16,$V$4:$AA$4,$V15:$AA15)<Y15,Y15,IF($E16=Y$4,1,1+Y15))) -> 1 | Z16: =IF($D16=0,Z15,IF(LOOKUP($E16,$V$4:$AA$4,$V15:$AA15)<Z15,Z15,IF($E16=Z$4,1,1+Z15))) -> 6 | AA16: =IF($D16=0,AA15,IF(LOOKUP($E16,$V$4:$AA$4,$V15:$AA15)<AA15,AA15,IF($E16=AA$4,1,1+AA15))) -> 2 | AB16: =IF($D16=0,AB15,IF(LOOKUP($E16,$AB$4:$AG$4,$AB15:$AG15)<AB15,AB15,IF($E16=AB$4,1,1+AB15))) -> 5 | AC16: =IF($D16=0,AC15,IF(LOOKUP($E16,$AB$4:$AG$4,$AB15:$AG15)<AC15,AC15,IF($E16=AC$4,1,1+AC15))) -> 4 | AD16: =IF($D16=0,AD15,IF(LOOKUP($E16,$AB$4:$AG$4,$AB15:$AG15)<AD15,AD15,IF($E16=AD$4,1,1+AD15))) -> 3 | AE16: =IF($D16=0,AE15,IF(LOOKUP($E16,$AB$4:$AG$4,$AB15:$AG15)<AE15,AE15,IF($E16=AE$4,1,1+AE15))) -> 1 | AF16: =IF($D16=0,AF15,IF(LOOKUP($E16,$AB$4:$AG$4,$AB15:$AG15)<AF15,AF15,IF($E16=AF$4,1,1+AF15))) -> 6 | AG16: =IF($D16=0,AG15,IF(LOOKUP($E16,$AB$4:$AG$4,$AB15:$AG15)<AG15,AG15,IF($E16=AG$4,1,1+AG15))) -> 2 | AH16: =IF($D16=0,AH15,IF(LOOKUP($E16,$AH$4:$AM$4,$AH15:$AM15)<AH15,AH15,IF($E16=AH$4,1,1+AH15))) -> 5 | AI16: =IF($D16=0,AI15,IF(LOOKUP($E16,$AH$4:$AM$4,$AH15:$AM15)<AI15,AI15,IF($E16=AI$4,1,1+AI15))) -> 4 | AJ16: =IF($D16=0,AJ15,IF(LOOKUP($E16,$AH$4:$AM$4,$AH15:$AM15)<AJ15,AJ15,IF($E16=AJ$4,1,1+AJ15))) -> 3 | AK16: =IF($D16=0,AK15,IF(LOOKUP($E16,$AH$4:$AM$4,$AH15:$AM15)<AK15,AK15,IF($E16=AK$4,1,1+AK15))) -> 1 | AL16: =IF($D16=0,AL15,IF(LOOKUP($E16,$AH$4:$AM$4,$AH15:$AM15)<AL15,AL15,IF($E16=AL$4,1,1+AL15))) -> 6 | AM16: =IF($D16=0,AM15,IF(LOOKUP($E16,$AH$4:$AM$4,$AH15:$AM15)<AM15,AM15,IF($E16=AM$4,1,1+AM15))) -> 2
C17: 13 | D17: =RANDBETWEEN(0,36) -> 34 | E17: =IF(D17="","",LOOKUP(D17,Ref!B:B,Ref!C:C)) -> 6 | F17: =IF(D17="","",IF($E17=0,0,LOOKUP($E17,P$4:U$4,P16:U16))) -> 2 | G17: =IF(D17="","",LOOKUP(D17,Ref!B:B,Ref!D:D)) -> 4 | H17: =IF(D17="","",IF($E17=0,0,LOOKUP($E17,V$4:AA$4,V16:AA16))) -> 2 | I17: =IF(D17="","",LOOKUP(D17,Ref!B:B,Ref!E:E)) -> 6 | J17: =IF(D17="","",IF($E17=0,0,LOOKUP($E17,AB$4:AG$4,AB16:AG16))) -> 2 | K17: =IF(D17="","",LOOKUP(D17,Ref!B:B,Ref!F:F)) -> 5 | L17: =IF(D17="","",IF($E17=0,0,LOOKUP($E17,AH$4:AM$4,AH16:AM16))) -> 2 | P17: =IF($D17=0,P16,IF(LOOKUP($E17,$P$4:$U$4,$P16:$U16)<P16,P16,IF($E17=P$4,1,1+P16))) -> 5 | Q17: =IF($D17=0,Q16,IF(LOOKUP($E17,$P$4:$U$4,$P16:$U16)<Q16,Q16,IF($E17=Q$4,1,1+Q16))) -> 4 | R17: =IF($D17=0,R16,IF(LOOKUP($E17,$P$4:$U$4,$P16:$U16)<R16,R16,IF($E17=R$4,1,1+R16))) -> 3 | S17: =IF($D17=0,S16,IF(LOOKUP($E17,$P$4:$U$4,$P16:$U16)<S16,S16,IF($E17=S$4,1,1+S16))) -> 2 | T17: =IF($D17=0,T16,IF(LOOKUP($E17,$P$4:$U$4,$P16:$U16)<T16,T16,IF($E17=T$4,1,1+T16))) -> 6 | U17: =IF($D17=0,U16,IF(LOOKUP($E17,$P$4:$U$4,$P16:$U16)<U16,U16,IF($E17=U$4,1,1+U16))) -> 1 | V17: =IF($D17=0,V16,IF(LOOKUP($E17,$V$4:$AA$4,$V16:$AA16)<V16,V16,IF($E17=V$4,1,1+V16))) -> 5 | W17: =IF($D17=0,W16,IF(LOOKUP($E17,$V$4:$AA$4,$V16:$AA16)<W16,W16,IF($E17=W$4,1,1+W16))) -> 4 | X17: =IF($D17=0,X16,IF(LOOKUP($E17,$V$4:$AA$4,$V16:$AA16)<X16,X16,IF($E17=X$4,1,1+X16))) -> 3 | Y17: =IF($D17=0,Y16,IF(LOOKUP($E17,$V$4:$AA$4,$V16:$AA16)<Y16,Y16,IF($E17=Y$4,1,1+Y16))) -> 2 | Z17: =IF($D17=0,Z16,IF(LOOKUP($E17,$V$4:$AA$4,$V16:$AA16)<Z16,Z16,IF($E17=Z$4,1,1+Z16))) -> 6 | AA17: =IF($D17=0,AA16,IF(LOOKUP($E17,$V$4:$AA$4,$V16:$AA16)<AA16,AA16,IF($E17=AA$4,1,1+AA16))) -> 1 | AB17: =IF($D17=0,AB16,IF(LOOKUP($E17,$AB$4:$AG$4,$AB16:$AG16)<AB16,AB16,IF($E17=AB$4,1,1+AB16))) -> 5 | AC17: =IF($D17=0,AC16,IF(LOOKUP($E17,$AB$4:$AG$4,$AB16:$AG16)<AC16,AC16,IF($E17=AC$4,1,1+AC16))) -> 4 | AD17: =IF($D17=0,AD16,IF(LOOKUP($E17,$AB$4:$AG$4,$AB16:$AG16)<AD16,AD16,IF($E17=AD$4,1,1+AD16))) -> 3 | AE17: =IF($D17=0,AE16,IF(LOOKUP($E17,$AB$4:$AG$4,$AB16:$AG16)<AE16,AE16,IF($E17=AE$4,1,1+AE16))) -> 2 | AF17: =IF($D17=0,AF16,IF(LOOKUP($E17,$AB$4:$AG$4,$AB16:$AG16)<AF16,AF16,IF($E17=AF$4,1,1+AF16))) -> 6 | AG17: =IF($D17=0,AG16,IF(LOOKUP($E17,$AB$4:$AG$4,$AB16:$AG16)<AG16,AG16,IF($E17=AG$4,1,1+AG16))) -> 1 | AH17: =IF($D17=0,AH16,IF(LOOKUP($E17,$AH$4:$AM$4,$AH16:$AM16)<AH16,AH16,IF($E17=AH$4,1,1+AH16))) -> 5 | AI17: =IF($D17=0,AI16,IF(LOOKUP($E17,$AH$4:$AM$4,$AH16:$AM16)<AI16,AI16,IF($E17=AI$4,1,1+AI16))) -> 4 | AJ17: =IF($D17=0,AJ16,IF(LOOKUP($E17,$AH$4:$AM$4,$AH16:$AM16)<AJ16,AJ16,IF($E17=AJ$4,1,1+AJ16))) -> 3 | AK17: =IF($D17=0,AK16,IF(LOOKUP($E17,$AH$4:$AM$4,$AH16:$AM16)<AK16,AK16,IF($E17=AK$4,1,1+AK16))) -> 2 | AL17: =IF($D17=0,AL16,IF(LOOKUP($E17,$AH$4:$AM$4,$AH16:$AM16)<AL16,AL16,IF($E17=AL$4,1,1+AL16))) -> 6 | AM17: =IF($D17=0,AM16,IF(LOOKUP($E17,$AH$4:$AM$4,$AH16:$AM16)<AM16,AM16,IF($E17=AM$4,1,1+AM16))) -> 1
... C204: 200 | D204: =RANDBETWEEN(0,36) -> 8 | E204: =IF(D204="","",LOOKUP(D204,Ref!B:B,Ref!C:C)) -> 3 | F204: =IF(D204="","",IF($E204=0,0,LOOKUP($E204,P$4:U$4,P203:U203))) -> 6 | G204: =IF(D204="","",LOOKUP(D204,Ref!B:B,Ref!D:D)) -> 1 | H204: =IF(D204="","",IF($E204=0,0,LOOKUP($E204,V$4:AA$4,V203:AA203))) -> 6 | I204: =IF(D204="","",LOOKUP(D204,Ref!B:B,Ref!E:E)) -> 2 | J204: =IF(D204="","",IF($E204=0,0,LOOKUP($E204,AB$4:AG$4,AB203:AG203))) -> 6 | K204: =IF(D204="","",LOOKUP(D204,Ref!B:B,Ref!F:F)) -> 2 | L204: =IF(D204="","",IF($E204=0,0,LOOKUP($E204,AH$4:AM$4,AH203:AM203))) -> 6 | P204: =IF($D204=0,P203,IF(LOOKUP($E204,$P$4:$U$4,$P203:$U203)<P203,P203,IF($E204=P$4,1,1+P203))) -> 6 | Q204: =IF($D204=0,Q203,IF(LOOKUP($E204,$P$4:$U$4,$P203:$U203)<Q203,Q203,IF($E204=Q$4,1,1+Q203))) -> 5 | R204: =IF($D204=0,R203,IF(LOOKUP($E204,$P$4:$U$4,$P203:$U203)<R203,R203,IF($E204=R$4,1,1+R203))) -> 1 | S204: =IF($D204=0,S203,IF(LOOKUP($E204,$P$4:$U$4,$P203:$U203)<S203,S203,IF($E204=S$4,1,1+S203))) -> 3 | T204: =IF($D204=0,T203,IF(LOOKUP($E204,$P$4:$U$4,$P203:$U203)<T203,T203,IF($E204=T$4,1,1+T203))) -> 4 | U204: =IF($D204=0,U203,IF(LOOKUP($E204,$P$4:$U$4,$P203:$U203)<U203,U203,IF($E204=U$4,1,1+U203))) -> 2 | V204: =IF($D204=0,V203,IF(LOOKUP($E204,$V$4:$AA$4,$V203:$AA203)<V203,V203,IF($E204=V$4,1,1+V203))) -> 6 | W204: =IF($D204=0,W203,IF(LOOKUP($E204,$V$4:$AA$4,$V203:$AA203)<W203,W203,IF($E204=W$4,1,1+W203))) -> 5 | X204: =IF($D204=0,X203,IF(LOOKUP($E204,$V$4:$AA$4,$V203:$AA203)<X203,X203,IF($E204=X$4,1,1+X203))) -> 1 | Y204: =IF($D204=0,Y203,IF(LOOKUP($E204,$V$4:$AA$4,$V203:$AA203)<Y203,Y203,IF($E204=Y$4,1,1+Y203))) -> 3 | Z204: =IF($D204=0,Z203,IF(LOOKUP($E204,$V$4:$AA$4,$V203:$AA203)<Z203,Z203,IF($E204=Z$4,1,1+Z203))) -> 4 | AA204: =IF($D204=0,AA203,IF(LOOKUP($E204,$V$4:$AA$4,$V203:$AA203)<AA203,AA203,IF($E204=AA$4,1,1+AA203))) -> 2 | AB204: =IF($D204=0,AB203,IF(LOOKUP($E204,$AB$4:$AG$4,$AB203:$AG203)<AB203,AB203,IF($E204=AB$4,1,1+AB203))) -> 6 | AC204: =IF($D204=0,AC203,IF(LOOKUP($E204,$AB$4:$AG$4,$AB203:$AG203)<AC203,AC203,IF($E204=AC$4,1,1+AC203))) -> 5 | AD204: =IF($D204=0,AD203,IF(LOOKUP($E204,$AB$4:$AG$4,$AB203:$AG203)<AD203,AD203,IF($E204=AD$4,1,1+AD203))) -> 1 | AE204: =IF($D204=0,AE203,IF(LOOKUP($E204,$AB$4:$AG$4,$AB203:$AG203)<AE203,AE203,IF($E204=AE$4,1,1+AE203))) -> 3 | AF204: =IF($D204=0,AF203,IF(LOOKUP($E204,$AB$4:$AG$4,$AB203:$AG203)<AF203,AF203,IF($E204=AF$4,1,1+AF203))) -> 4 | AG204: =IF($D204=0,AG203,IF(LOOKUP($E204,$AB$4:$AG$4,$AB203:$AG203)<AG203,AG203,IF($E204=AG$4,1,1+AG203))) -> 2 | AH204: =IF($D204=0,AH203,IF(LOOKUP($E204,$AH$4:$AM$4,$AH203:$AM203)<AH203,AH203,IF($E204=AH$4,1,1+AH203))) -> 6 | AI204: =IF($D204=0,AI203,IF(LOOKUP($E204,$AH$4:$AM$4,$AH203:$AM203)<AI203,AI203,IF($E204=AI$4,1,1+AI203))) -> 5 | AJ204: =IF($D204=0,AJ203,IF(LOOKUP($E204,$AH$4:$AM$4,$AH203:$AM203)<AJ203,AJ203,IF($E204=AJ$4,1,1+AJ203))) -> 1 | AK204: =IF($D204=0,AK203,IF(LOOKUP($E204,$AH$4:$AM$4,$AH203:$AM203)<AK203,AK203,IF($E204=AK$4,1,1+AK203))) -> 3 | AL204: =IF($D204=0,AL203,IF(LOOKUP($E204,$AH$4:$AM$4,$AH203:$AM203)<AL203,AL203,IF($E204=AL$4,1,1+AL203))) -> 4 | AM204: =IF($D204=0,AM203,IF(LOOKUP($E204,$AH$4:$AM$4,$AH203:$AM203)<AM203,AM203,IF($E204=AM$4,1,1+AM203))) -> 2

Sheet Ref
C2: S1 | D2: S2 | E2: S3 | F2: S4
B3: Nr | C3: Group | D3: Group | E3: Group | F3: Group
B4: 0
B5: 1 | C5: 1 | D5: 4 | E5: 1 | F5: 1
B6: 2 | C6: 1 | D6: 4 | E6: 1 | F6: 2
B7: 3 | C7: 1 | D7: 4 | E7: 1 | F7: 1
B8: 4 | C8: 2 | D8: 2 | E8: 1 | F8: 2
B9: 5 | C9: 2 | D9: 2 | E9: 1 | F9: 1
B10: 6 | C10: 2 | D10: 2 | E10: 1 | F10: 2
B11: 7 | C11: 3 | D11: 1 | E11: 2 | F11: 1
B12: 8 | C12: 3 | D12: 1 | E12: 2 | F12: 2
B13: 9 | C13: 3 | D13: 1 | E13: 2 | F13: 1
B14: 10 | C14: 4 | D14: 5 | E14: 2 | F14: 2 | K14: s1 | O14: S2
B15: 11 | C15: 4 | D15: 5 | E15: 2 | F15: 2
B16: 12 | C16: 4 | D16: 5 | E16: 2 | F16: 1 | J16: 1 | K16: 123 / 13,14,15 | N16: 1 | O16: 789/ 31,32,33
B17: 13 | C17: 1 | D17: 6 | E17: 3 | F17: 4 | J17: 2 | K17: 456 / 25,26,27 | N17: 2 | O17: 19,20,21 / 456
B18: 14 | C18: 1 | D18: 6 | E18: 3 | F18: 3 | J18: 3 | K18: 789 / 16,17,18 | N18: 3 | O18: 22,23,24/ 28,29,30
B19: 15 | C19: 1 | D19: 6 | E19: 3 | F19: 4 | J19: 4 | K19: 10,11,12/ 28,29,30 | N19: 4 | O19: 123 / 34,35,36
B20: 16 | C20: 3 | D20: 5 | E20: 3 | F20: 3 | J20: 5 | K20: 19,20,21 / 31,32,33 | N20: 5 | O20: 10,11,12/ 16,17,18
B21: 17 | C21: 3 | D21: 5 | E21: 3 | F21: 4 | J21: 6 | K21: 22,23,24 / 34,35,36 | N21: 6 | O21: 13,14,15 / 25,26,27
B22: 18 | C22: 3 | D22: 5 | E22: 3 | F22: 3
B23: 19 | C23: 5 | D23: 2 | E23: 4 | F23: 3
B24: 20 | C24: 5 | D24: 2 | E24: 4 | F24: 4 | K24: S3 ( LINES) | O24: S4
B25: 21 | C25: 5 | D25: 2 | E25: 4 | F25: 3 | J25: 1 | K25: 1,2,3,4,5,6 | N25: 1 | O25: 1,3,5,7,9,12
B26: 22 | C26: 6 | D26: 3 | E26: 4 | F26: 4 | J26: 2 | K26: 7,8,9,10,11,12 | N26: 2 | O26: 2,4,6,8,10,11
B27: 23 | C27: 6 | D27: 3 | E27: 4 | F27: 3 | J27: 3 | K27: 13,14,15,16,17,18 | N27: 3 | O27: 14,16,18,19,21,23
B28: 24 | C28: 6 | D28: 3 | E28: 4 | F28: 4 | J28: 4 | K28: 19,20,21,22,23,24 | N28: 4 | O28: 13,15,17,20,22,24
B29: 25 | C29: 2 | D29: 6 | E29: 5 | F29: 5 | J29: 5 | K29: 25,26,27,28,29,30 | N29: 5 | O29: 25,27,30,32,34,36
B30: 26 | C30: 2 | D30: 6 | E30: 5 | F30: 6 | J30: 6 | K30: 31,32,33,34,35,36 | N30: 6 | O30: 26,28,29,31,33,35
B31: 27 | C31: 2 | D31: 6 | E31: 5 | F31: 5
B32: 28 | C32: 4 | D32: 3 | E32: 5 | F32: 6
B33: 29 | C33: 4 | D33: 3 | E33: 5 | F33: 6
B34: 30 | C34: 4 | D34: 3 | E34: 5 | F34: 5
B35: 31 | C35: 5 | D35: 1 | E35: 6 | F35: 6
B36: 32 | C36: 5 | D36: 1 | E36: 6 | F36: 5
B37: 33 | C37: 5 | D37: 1 | E37: 6 | F37: 6
B38: 34 | C38: 6 | D38: 4 | E38: 6 | F38: 5
B39: 35 | C39: 6 | D39: 4 | E39: 6 | F39: 6
B40: 36 | C40: 6 | D40: 4 | E40: 6 | F40: 5
