Workbook

Sheet Sheet1
A1: 3 | B1: =IF(A1="","",VLOOKUP(A1,Lookup!$A$1:$B$37,2)) -> R
A2: 4 | B2: =IF(A2="","",VLOOKUP(A2,Lookup!$A$1:$B$37,2)) -> B | C2: =IF(B2=B1,B2,"")
A3: 5 | B3: =IF(A3="","",VLOOKUP(A3,Lookup!$A$1:$B$37,2)) -> R | C3: =IF(B3=B2,B3,"")
A4: 5 | B4: =IF(A4="","",VLOOKUP(A4,Lookup!$A$1:$B$37,2)) -> R | C4: =IF(B4=B3,B4,"") -> R
A5: 5 | B5: =IF(A5="","",VLOOKUP(A5,Lookup!$A$1:$B$37,2)) -> R | C5: =IF(B5=B4,B5,"") -> R
A6: 5 | B6: =IF(A6="","",VLOOKUP(A6,Lookup!$A$1:$B$37,2)) -> R | C6: =IF(B6=B5,B6,"") -> R
A7: 5 | B7: =IF(A7="","",VLOOKUP(A7,Lookup!$A$1:$B$37,2)) -> R | C7: =IF(B7=B6,B7,"") -> R
A8: 5 | B8: =IF(A8="","",VLOOKUP(A8,Lookup!$A$1:$B$37,2)) -> R | C8: =IF(B8=B7,B8,"") -> R
A9: 5 | B9: =IF(A9="","",VLOOKUP(A9,Lookup!$A$1:$B$37,2)) -> R | C9: =IF(B9=B8,B9,"") -> R
A10: 5 | B10: =IF(A10="","",VLOOKUP(A10,Lookup!$A$1:$B$37,2)) -> R | C10: =IF(B10=B9,B10,"") -> R
B11: =IF(A11="","",VLOOKUP(A11,Lookup!$A$1:$B$37,2)) | C11: =IF(B11=B10,B11,"")
B12: =IF(A12="","",VLOOKUP(A12,Lookup!$A$1:$B$37,2)) | C12: =IF(B12=B11,B12,"")
B13: =IF(A13="","",VLOOKUP(A13,Lookup!$A$1:$B$37,2)) | C13: =IF(B13=B12,B13,"")
B14: =IF(A14="","",VLOOKUP(A14,Lookup!$A$1:$B$37,2)) | C14: =IF(B14=B13,B14,"")
B15: =IF(A15="","",VLOOKUP(A15,Lookup!$A$1:$B$37,2)) | C15: =IF(B15=B14,B15,"")
B16: =IF(A16="","",VLOOKUP(A16,Lookup!$A$1:$B$37,2)) | C16: =IF(B16=B15,B16,"")
B17: =IF(A17="","",VLOOKUP(A17,Lookup!$A$1:$B$37,2)) | C17: =IF(B17=B16,B17,"")
B18: =IF(A18="","",VLOOKUP(A18,Lookup!$A$1:$B$37,2)) | C18: =IF(B18=B17,B18,"")
B19: =IF(A19="","",VLOOKUP(A19,Lookup!$A$1:$B$37,2)) | C19: =IF(B19=B18,B19,"")
B20: =IF(A20="","",VLOOKUP(A20,Lookup!$A$1:$B$37,2)) | C20: =IF(B20=B19,B20,"")
B21: =IF(A21="","",VLOOKUP(A21,Lookup!$A$1:$B$37,2)) | C21: =IF(B21=B20,B21,"")
B22: =IF(A22="","",VLOOKUP(A22,Lookup!$A$1:$B$37,2)) | C22: =IF(B22=B21,B22,"")
... B250: =IF(A250="","",VLOOKUP(A250,Lookup!$A$1:$B$37,2)) | C250: =IF(B250=B249,B250,"")

Sheet Lookup
A1: 0 | B1: G
A2: 1 | B2: R
A3: 2 | B3: B
A4: 3 | B4: R
A5: 4 | B5: B
A6: 5 | B6: R
A7: 6 | B7: B
A8: 7 | B8: R
A9: 8 | B9: B
A10: 9 | B10: R
A11: 10 | B11: B
A12: 11 | B12: B
... A37: 36 | B37: R

Sheet Sheet3
