Workbook

Sheet Random Inputs
A1: Roulette Outcomes
A3: Random Numbers Generated Here
A4: Num | B4: Red | C4: Black | D4: Odd | E4: Even | F4: High | G4: Low | H4: 1 Doz | I4: 2 Doz | J4: 3 Doz | K4: Col A | L4: Col B | M4: Col C | N4: Street | P4: Num | Q4: Red | R4: Black | S4: Odd | T4: Even | U4: High | V4: Low | W4: 1 Doz | X4: 2 Doz | Y4: 3 Doz | Z4: Col A | AA4: Col B | AB4: Col C | AC4: Street
A5: =(RANDBETWEEN(1,38)) -> 38 | B5: =OR(A5=1,A5=3, A5=5,A5=7,A5=9,A5=12,A5=14,A5=16,A5=18,A5=19,A5=21,A5=23,A5=25,A5=27,A5=30,A5=32,A5=34,A5=36) -> FALSE | C5: =OR(A5=2,A5=4, A5=6,A5=8,A5=10,A5=11,A5=13,A5=15,A5=17,A5=20,A5=22,A5=24,A5=26,A5=28,A5=29,A5=31,A5=33,A5=35) -> FALSE | D5: =OR(A5=1,A5=3, A5=5,A5=7,A5=9,A5=11,A5=13,A5=15,A5=17,A5=19,A5=21,A5=23,A5=25,A5=27,A5=29,A5=31,A5=33,A5=35) -> FALSE | E5: =OR(A5=2,A5=4, A5=6,A5=8,A5=10,A5=12,A5=14,A5=16,A5=18,A5=20,A5=22,A5=24,A5=26,A5=28,A5=30,A5=32,A5=34,A5=36) -> FALSE | F5: =OR(A5=19,A5=20,A5=21,A5=22,A5=23,A5=24,A5=25,A5=26,A5=27,A5=28,A5=29,A5=30,A5=31,A5=32,A5=33,A5=34,A5=35,A5=36) -> FALSE | G5: =OR(A5<19) -> FALSE | H5: =OR(A5<13) -> FALSE | I5: =OR(A5=13,A5=14,A5=15,A5=16,A5=17,A5=18,A5=19,A5=20,A5=21,A5=22,A5=23,A5=24) -> FALSE | J5: =OR(A5=25,A5=26,A5=27,A5=28,A5=29,A5=30,A5=31,A5=32,A5=33,A5=34,A5=35,A5=36) -> FALSE | K5: =OR(A5=1,A5=4, A5=7,A5=10,A5=13,A5=16,A5=19,A5=22,A5=25,A5=28,A5=31,A5=34) -> FALSE | L5: =OR(A5=2,A5=5, A5=8,A5=11,A5=14,A5=14,A5=17,A5=20,A5=23,A5=26,A5=29,A5=32,A5=35) -> FALSE | M5: =OR(A5=3,A5=6,A5=9,A5=12,A5=15,A5=18,A5=21,A5=24,A5=27,A5=30,A5=33,A5=36) -> FALSE | N5: =IF($A5="","",VLOOKUP($A5,Sheet1!$A$1:$B$39,2,0)) -> 0 | P5: =A5 -> 38 | Q5: =IF(B5=TRUE,"X","") | R5: =IF(C5=TRUE,"X","") | S5: =IF(D5=TRUE,"X","") | T5: =IF(E5=TRUE,"X","") | U5: =IF(F5=TRUE,"X","") | V5: =IF(G5=TRUE,"X","") | W5: =IF(H5=TRUE,"X","") | X5: =IF(I5=TRUE,"X","") | ... AB5: =IF(M5=TRUE,"X","") | AC5: =IF($A5="","",VLOOKUP($A5,Sheet1!$A$1:$B$39,2,0)) -> 0
A6: =(RANDBETWEEN(1,38)) -> 4 | B6: =OR(A6=1,A6=3, A6=5,A6=7,A6=9,A6=12,A6=14,A6=16,A6=18,A6=19,A6=21,A6=23,A6=25,A6=27,A6=30,A6=32,A6=34,A6=36) -> FALSE | C6: =OR(A6=2,A6=4, A6=6,A6=8,A6=10,A6=11,A6=13,A6=15,A6=17,A6=20,A6=22,A6=24,A6=26,A6=28,A6=29,A6=31,A6=33,A6=35) -> TRUE | D6: =OR(A6=1,A6=3, A6=5,A6=7,A6=9,A6=11,A6=13,A6=15,A6=17,A6=19,A6=21,A6=23,A6=25,A6=27,A6=29,A6=31,A6=33,A6=35) -> FALSE | E6: =OR(A6=2,A6=4, A6=6,A6=8,A6=10,A6=12,A6=14,A6=16,A6=18,A6=20,A6=22,A6=24,A6=26,A6=28,A6=30,A6=32,A6=34,A6=36) -> TRUE | F6: =OR(A6=19,A6=20,A6=21,A6=22,A6=23,A6=24,A6=25,A6=26,A6=27,A6=28,A6=29,A6=30,A6=31,A6=32,A6=33,A6=34,A6=35,A6=36) -> FALSE | G6: =OR(A6<19) -> TRUE | H6: =OR(A6<13) -> TRUE | I6: =OR(A6=13,A6=14,A6=15,A6=16,A6=17,A6=18,A6=19,A6=20,A6=21,A6=22,A6=23,A6=24) -> FALSE | J6: =OR(A6=25,A6=26,A6=27,A6=28,A6=29,A6=30,A6=31,A6=32,A6=33,A6=34,A6=35,A6=36) -> FALSE | K6: =OR(A6=1,A6=4, A6=7,A6=10,A6=13,A6=16,A6=19,A6=22,A6=25,A6=28,A6=31,A6=34) -> TRUE | L6: =OR(A6=2,A6=5, A6=8,A6=11,A6=14,A6=14,A6=17,A6=20,A6=23,A6=26,A6=29,A6=32,A6=35) -> FALSE | M6: =OR(A6=3,A6=6,A6=9,A6=12,A6=15,A6=18,A6=21,A6=24,A6=27,A6=30,A6=33,A6=36) -> FALSE | N6: =IF($A6="","",VLOOKUP($A6,Sheet1!$A$1:$B$39,2,0)) -> 2 | P6: =A6 -> 4 | Q6: =IF(B6=TRUE,"X","") | R6: =IF(C6=TRUE,"X","") -> X | S6: =IF(D6=TRUE,"X","") | T6: =IF(E6=TRUE,"X","") -> X | U6: =IF(F6=TRUE,"X","") | V6: =IF(G6=TRUE,"X","") -> X | W6: =IF(H6=TRUE,"X","") -> X | X6: =IF(I6=TRUE,"X","") | ... AB6: =IF(M6=TRUE,"X","") | AC6: =IF($A6="","",VLOOKUP($A6,Sheet1!$A$1:$B$39,2,0)) -> 2
A7: =(RANDBETWEEN(1,38)) -> 24 | B7: =OR(A7=1,A7=3, A7=5,A7=7,A7=9,A7=12,A7=14,A7=16,A7=18,A7=19,A7=21,A7=23,A7=25,A7=27,A7=30,A7=32,A7=34,A7=36) -> FALSE | C7: =OR(A7=2,A7=4, A7=6,A7=8,A7=10,A7=11,A7=13,A7=15,A7=17,A7=20,A7=22,A7=24,A7=26,A7=28,A7=29,A7=31,A7=33,A7=35) -> TRUE | D7: =OR(A7=1,A7=3, A7=5,A7=7,A7=9,A7=11,A7=13,A7=15,A7=17,A7=19,A7=21,A7=23,A7=25,A7=27,A7=29,A7=31,A7=33,A7=35) -> FALSE | E7: =OR(A7=2,A7=4, A7=6,A7=8,A7=10,A7=12,A7=14,A7=16,A7=18,A7=20,A7=22,A7=24,A7=26,A7=28,A7=30,A7=32,A7=34,A7=36) -> TRUE | F7: =OR(A7=19,A7=20,A7=21,A7=22,A7=23,A7=24,A7=25,A7=26,A7=27,A7=28,A7=29,A7=30,A7=31,A7=32,A7=33,A7=34,A7=35,A7=36) -> TRUE | G7: =OR(A7<19) -> FALSE | H7: =OR(A7<13) -> FALSE | I7: =OR(A7=13,A7=14,A7=15,A7=16,A7=17,A7=18,A7=19,A7=20,A7=21,A7=22,A7=23,A7=24) -> TRUE | J7: =OR(A7=25,A7=26,A7=27,A7=28,A7=29,A7=30,A7=31,A7=32,A7=33,A7=34,A7=35,A7=36) -> FALSE | K7: =OR(A7=1,A7=4, A7=7,A7=10,A7=13,A7=16,A7=19,A7=22,A7=25,A7=28,A7=31,A7=34) -> FALSE | L7: =OR(A7=2,A7=5, A7=8,A7=11,A7=14,A7=14,A7=17,A7=20,A7=23,A7=26,A7=29,A7=32,A7=35) -> FALSE | M7: =OR(A7=3,A7=6,A7=9,A7=12,A7=15,A7=18,A7=21,A7=24,A7=27,A7=30,A7=33,A7=36) -> TRUE | N7: =IF($A7="","",VLOOKUP($A7,Sheet1!$A$1:$B$39,2,0)) -> 8 | P7: =A7 -> 24 | Q7: =IF(B7=TRUE,"X","") | R7: =IF(C7=TRUE,"X","") -> X | S7: =IF(D7=TRUE,"X","") | T7: =IF(E7=TRUE,"X","") -> X | U7: =IF(F7=TRUE,"X","") -> X | V7: =IF(G7=TRUE,"X","") | W7: =IF(H7=TRUE,"X","") | X7: =IF(I7=TRUE,"X","") -> X | ... AB7: =IF(M7=TRUE,"X","") -> X | AC7: =IF($A7="","",VLOOKUP($A7,Sheet1!$A$1:$B$39,2,0)) -> 8
A8: =(RANDBETWEEN(1,38)) -> 5 | B8: =OR(A8=1,A8=3, A8=5,A8=7,A8=9,A8=12,A8=14,A8=16,A8=18,A8=19,A8=21,A8=23,A8=25,A8=27,A8=30,A8=32,A8=34,A8=36) -> TRUE | C8: =OR(A8=2,A8=4, A8=6,A8=8,A8=10,A8=11,A8=13,A8=15,A8=17,A8=20,A8=22,A8=24,A8=26,A8=28,A8=29,A8=31,A8=33,A8=35) -> FALSE | D8: =OR(A8=1,A8=3, A8=5,A8=7,A8=9,A8=11,A8=13,A8=15,A8=17,A8=19,A8=21,A8=23,A8=25,A8=27,A8=29,A8=31,A8=33,A8=35) -> TRUE | E8: =OR(A8=2,A8=4, A8=6,A8=8,A8=10,A8=12,A8=14,A8=16,A8=18,A8=20,A8=22,A8=24,A8=26,A8=28,A8=30,A8=32,A8=34,A8=36) -> FALSE | F8: =OR(A8=19,A8=20,A8=21,A8=22,A8=23,A8=24,A8=25,A8=26,A8=27,A8=28,A8=29,A8=30,A8=31,A8=32,A8=33,A8=34,A8=35,A8=36) -> FALSE | G8: =OR(A8<19) -> TRUE | H8: =OR(A8<13) -> TRUE | I8: =OR(A8=13,A8=14,A8=15,A8=16,A8=17,A8=18,A8=19,A8=20,A8=21,A8=22,A8=23,A8=24) -> FALSE | J8: =OR(A8=25,A8=26,A8=27,A8=28,A8=29,A8=30,A8=31,A8=32,A8=33,A8=34,A8=35,A8=36) -> FALSE | K8: =OR(A8=1,A8=4, A8=7,A8=10,A8=13,A8=16,A8=19,A8=22,A8=25,A8=28,A8=31,A8=34) -> FALSE | L8: =OR(A8=2,A8=5, A8=8,A8=11,A8=14,A8=14,A8=17,A8=20,A8=23,A8=26,A8=29,A8=32,A8=35) -> TRUE | M8: =OR(A8=3,A8=6,A8=9,A8=12,A8=15,A8=18,A8=21,A8=24,A8=27,A8=30,A8=33,A8=36) -> FALSE | N8: =IF($A8="","",VLOOKUP($A8,Sheet1!$A$1:$B$39,2,0)) -> 2 | P8: =A8 -> 5 | Q8: =IF(B8=TRUE,"X","") -> X | R8: =IF(C8=TRUE,"X","") | S8: =IF(D8=TRUE,"X","") -> X | T8: =IF(E8=TRUE,"X","") | U8: =IF(F8=TRUE,"X","") | V8: =IF(G8=TRUE,"X","") -> X | W8: =IF(H8=TRUE,"X","") -> X | X8: =IF(I8=TRUE,"X","") | ... AB8: =IF(M8=TRUE,"X","") | AC8: =IF($A8="","",VLOOKUP($A8,Sheet1!$A$1:$B$39,2,0)) -> 2
A9: =(RANDBETWEEN(1,38)) -> 6 | B9: =OR(A9=1,A9=3, A9=5,A9=7,A9=9,A9=12,A9=14,A9=16,A9=18,A9=19,A9=21,A9=23,A9=25,A9=27,A9=30,A9=32,A9=34,A9=36) -> FALSE | C9: =OR(A9=2,A9=4, A9=6,A9=8,A9=10,A9=11,A9=13,A9=15,A9=17,A9=20,A9=22,A9=24,A9=26,A9=28,A9=29,A9=31,A9=33,A9=35) -> TRUE | D9: =OR(A9=1,A9=3, A9=5,A9=7,A9=9,A9=11,A9=13,A9=15,A9=17,A9=19,A9=21,A9=23,A9=25,A9=27,A9=29,A9=31,A9=33,A9=35) -> FALSE | E9: =OR(A9=2,A9=4, A9=6,A9=8,A9=10,A9=12,A9=14,A9=16,A9=18,A9=20,A9=22,A9=24,A9=26,A9=28,A9=30,A9=32,A9=34,A9=36) -> TRUE | F9: =OR(A9=19,A9=20,A9=21,A9=22,A9=23,A9=24,A9=25,A9=26,A9=27,A9=28,A9=29,A9=30,A9=31,A9=32,A9=33,A9=34,A9=35,A9=36) -> FALSE | G9: =OR(A9<19) -> TRUE | H9: =OR(A9<13) -> TRUE | I9: =OR(A9=13,A9=14,A9=15,A9=16,A9=17,A9=18,A9=19,A9=20,A9=21,A9=22,A9=23,A9=24) -> FALSE | J9: =OR(A9=25,A9=26,A9=27,A9=28,A9=29,A9=30,A9=31,A9=32,A9=33,A9=34,A9=35,A9=36) -> FALSE | K9: =OR(A9=1,A9=4, A9=7,A9=10,A9=13,A9=16,A9=19,A9=22,A9=25,A9=28,A9=31,A9=34) -> FALSE | L9: =OR(A9=2,A9=5, A9=8,A9=11,A9=14,A9=14,A9=17,A9=20,A9=23,A9=26,A9=29,A9=32,A9=35) -> FALSE | M9: =OR(A9=3,A9=6,A9=9,A9=12,A9=15,A9=18,A9=21,A9=24,A9=27,A9=30,A9=33,A9=36) -> TRUE | N9: =IF($A9="","",VLOOKUP($A9,Sheet1!$A$1:$B$39,2,0)) -> 2 | P9: =A9 -> 6 | Q9: =IF(B9=TRUE,"X","") | R9: =IF(C9=TRUE,"X","") -> X | S9: =IF(D9=TRUE,"X","") | T9: =IF(E9=TRUE,"X","") -> X | U9: =IF(F9=TRUE,"X","") | V9: =IF(G9=TRUE,"X","") -> X | W9: =IF(H9=TRUE,"X","") -> X | X9: =IF(I9=TRUE,"X","") | ... AB9: =IF(M9=TRUE,"X","") -> X | AC9: =IF($A9="","",VLOOKUP($A9,Sheet1!$A$1:$B$39,2,0)) -> 2
A10: =(RANDBETWEEN(1,38)) -> 38 | B10: =OR(A10=1,A10=3, A10=5,A10=7,A10=9,A10=12,A10=14,A10=16,A10=18,A10=19,A10=21,A10=23,A10=25,A10=27,A10=30,A10=32,A10=34,A10=36) -> FALSE | C10: =OR(A10=2,A10=4, A10=6,A10=8,A10=10,A10=11,A10=13,A10=15,A10=17,A10=20,A10=22,A10=24,A10=26,A10=28,A10=29,A10=31,A10=33,A10=35) -> FALSE | D10: =OR(A10=1,A10=3, A10=5,A10=7,A10=9,A10=11,A10=13,A10=15,A10=17,A10=19,A10=21,A10=23,A10=25,A10=27,A10=29,A10=31,A10=33,A10=35) -> FALSE | E10: =OR(A10=2,A10=4, A10=6,A10=8,A10=10,A10=12,A10=14,A10=16,A10=18,A10=20,A10=22,A10=24,A10=26,A10=28,A10=30,A10=32,A10=34,A10=36) -> FALSE | F10: =OR(A10=19,A10=20,A10=21,A10=22,A10=23,A10=24,A10=25,A10=26,A10=27,A10=28,A10=29,A10=30,A10=31,A10=32,A10=33,A10=34,A10=35,A10=36) -> FALSE | G10: =OR(A10<19) -> FALSE | H10: =OR(A10<13) -> FALSE | I10: =OR(A10=13,A10=14,A10=15,A10=16,A10=17,A10=18,A10=19,A10=20,A10=21,A10=22,A10=23,A10=24) -> FALSE | J10: =OR(A10=25,A10=26,A10=27,A10=28,A10=29,A10=30,A10=31,A10=32,A10=33,A10=34,A10=35,A10=36) -> FALSE | K10: =OR(A10=1,A10=4, A10=7,A10=10,A10=13,A10=16,A10=19,A10=22,A10=25,A10=28,A10=31,A10=34) -> FALSE | L10: =OR(A10=2,A10=5, A10=8,A10=11,A10=14,A10=14,A10=17,A10=20,A10=23,A10=26,A10=29,A10=32,A10=35) -> FALSE | M10: =OR(A10=3,A10=6,A10=9,A10=12,A10=15,A10=18,A10=21,A10=24,A10=27,A10=30,A10=33,A10=36) -> FALSE | N10: =IF($A10="","",VLOOKUP($A10,Sheet1!$A$1:$B$39,2,0)) -> 0 | P10: =A10 -> 38 | Q10: =IF(B10=TRUE,"X","") | R10: =IF(C10=TRUE,"X","") | S10: =IF(D10=TRUE,"X","") | T10: =IF(E10=TRUE,"X","") | U10: =IF(F10=TRUE,"X","") | V10: =IF(G10=TRUE,"X","") | W10: =IF(H10=TRUE,"X","") | X10: =IF(I10=TRUE,"X","") | ... AB10: =IF(M10=TRUE,"X","") | AC10: =IF($A10="","",VLOOKUP($A10,Sheet1!$A$1:$B$39,2,0)) -> 0
A11: =(RANDBETWEEN(1,38)) -> 30 | B11: =OR(A11=1,A11=3, A11=5,A11=7,A11=9,A11=12,A11=14,A11=16,A11=18,A11=19,A11=21,A11=23,A11=25,A11=27,A11=30,A11=32,A11=34,A11=36) -> TRUE | C11: =OR(A11=2,A11=4, A11=6,A11=8,A11=10,A11=11,A11=13,A11=15,A11=17,A11=20,A11=22,A11=24,A11=26,A11=28,A11=29,A11=31,A11=33,A11=35) -> FALSE | D11: =OR(A11=1,A11=3, A11=5,A11=7,A11=9,A11=11,A11=13,A11=15,A11=17,A11=19,A11=21,A11=23,A11=25,A11=27,A11=29,A11=31,A11=33,A11=35) -> FALSE | E11: =OR(A11=2,A11=4, A11=6,A11=8,A11=10,A11=12,A11=14,A11=16,A11=18,A11=20,A11=22,A11=24,A11=26,A11=28,A11=30,A11=32,A11=34,A11=36) -> TRUE | F11: =OR(A11=19,A11=20,A11=21,A11=22,A11=23,A11=24,A11=25,A11=26,A11=27,A11=28,A11=29,A11=30,A11=31,A11=32,A11=33,A11=34,A11=35,A11=36) -> TRUE | G11: =OR(A11<19) -> FALSE | H11: =OR(A11<13) -> FALSE | I11: =OR(A11=13,A11=14,A11=15,A11=16,A11=17,A11=18,A11=19,A11=20,A11=21,A11=22,A11=23,A11=24) -> FALSE | J11: =OR(A11=25,A11=26,A11=27,A11=28,A11=29,A11=30,A11=31,A11=32,A11=33,A11=34,A11=35,A11=36) -> TRUE | K11: =OR(A11=1,A11=4, A11=7,A11=10,A11=13,A11=16,A11=19,A11=22,A11=25,A11=28,A11=31,A11=34) -> FALSE | L11: =OR(A11=2,A11=5, A11=8,A11=11,A11=14,A11=14,A11=17,A11=20,A11=23,A11=26,A11=29,A11=32,A11=35) -> FALSE | M11: =OR(A11=3,A11=6,A11=9,A11=12,A11=15,A11=18,A11=21,A11=24,A11=27,A11=30,A11=33,A11=36) -> TRUE | N11: =IF($A11="","",VLOOKUP($A11,Sheet1!$A$1:$B$39,2,0)) -> 10 | P11: =A11 -> 30 | Q11: =IF(B11=TRUE,"X","") -> X | R11: =IF(C11=TRUE,"X","") | S11: =IF(D11=TRUE,"X","") | T11: =IF(E11=TRUE,"X","") -> X | U11: =IF(F11=TRUE,"X","") -> X | V11: =IF(G11=TRUE,"X","") | W11: =IF(H11=TRUE,"X","") | X11: =IF(I11=TRUE,"X","") | ... AB11: =IF(M11=TRUE,"X","") -> X | AC11: =IF($A11="","",VLOOKUP($A11,Sheet1!$A$1:$B$39,2,0)) -> 10
A12: =(RANDBETWEEN(1,38)) -> 29 | B12: =OR(A12=1,A12=3, A12=5,A12=7,A12=9,A12=12,A12=14,A12=16,A12=18,A12=19,A12=21,A12=23,A12=25,A12=27,A12=30,A12=32,A12=34,A12=36) -> FALSE | C12: =OR(A12=2,A12=4, A12=6,A12=8,A12=10,A12=11,A12=13,A12=15,A12=17,A12=20,A12=22,A12=24,A12=26,A12=28,A12=29,A12=31,A12=33,A12=35) -> TRUE | D12: =OR(A12=1,A12=3, A12=5,A12=7,A12=9,A12=11,A12=13,A12=15,A12=17,A12=19,A12=21,A12=23,A12=25,A12=27,A12=29,A12=31,A12=33,A12=35) -> TRUE | E12: =OR(A12=2,A12=4, A12=6,A12=8,A12=10,A12=12,A12=14,A12=16,A12=18,A12=20,A12=22,A12=24,A12=26,A12=28,A12=30,A12=32,A12=34,A12=36) -> FALSE | F12: =OR(A12=19,A12=20,A12=21,A12=22,A12=23,A12=24,A12=25,A12=26,A12=27,A12=28,A12=29,A12=30,A12=31,A12=32,A12=33,A12=34,A12=35,A12=36) -> TRUE | G12: =OR(A12<19) -> FALSE | H12: =OR(A12<13) -> FALSE | I12: =OR(A12=13,A12=14,A12=15,A12=16,A12=17,A12=18,A12=19,A12=20,A12=21,A12=22,A12=23,A12=24) -> FALSE | J12: =OR(A12=25,A12=26,A12=27,A12=28,A12=29,A12=30,A12=31,A12=32,A12=33,A12=34,A12=35,A12=36) -> TRUE | K12: =OR(A12=1,A12=4, A12=7,A12=10,A12=13,A12=16,A12=19,A12=22,A12=25,A12=28,A12=31,A12=34) -> FALSE | L12: =OR(A12=2,A12=5, A12=8,A12=11,A12=14,A12=14,A12=17,A12=20,A12=23,A12=26,A12=29,A12=32,A12=35) -> TRUE | M12: =OR(A12=3,A12=6,A12=9,A12=12,A12=15,A12=18,A12=21,A12=24,A12=27,A12=30,A12=33,A12=36) -> FALSE | N12: =IF($A12="","",VLOOKUP($A12,Sheet1!$A$1:$B$39,2,0)) -> 10 | P12: =A12 -> 29 | Q12: =IF(B12=TRUE,"X","") | R12: =IF(C12=TRUE,"X","") -> X | S12: =IF(D12=TRUE,"X","") -> X | T12: =IF(E12=TRUE,"X","") | U12: =IF(F12=TRUE,"X","") -> X | V12: =IF(G12=TRUE,"X","") | W12: =IF(H12=TRUE,"X","") | X12: =IF(I12=TRUE,"X","") | ... AB12: =IF(M12=TRUE,"X","") | AC12: =IF($A12="","",VLOOKUP($A12,Sheet1!$A$1:$B$39,2,0)) -> 10
A13: =(RANDBETWEEN(1,38)) -> 6 | B13: =OR(A13=1,A13=3, A13=5,A13=7,A13=9,A13=12,A13=14,A13=16,A13=18,A13=19,A13=21,A13=23,A13=25,A13=27,A13=30,A13=32,A13=34,A13=36) -> FALSE | C13: =OR(A13=2,A13=4, A13=6,A13=8,A13=10,A13=11,A13=13,A13=15,A13=17,A13=20,A13=22,A13=24,A13=26,A13=28,A13=29,A13=31,A13=33,A13=35) -> TRUE | D13: =OR(A13=1,A13=3, A13=5,A13=7,A13=9,A13=11,A13=13,A13=15,A13=17,A13=19,A13=21,A13=23,A13=25,A13=27,A13=29,A13=31,A13=33,A13=35) -> FALSE | E13: =OR(A13=2,A13=4, A13=6,A13=8,A13=10,A13=12,A13=14,A13=16,A13=18,A13=20,A13=22,A13=24,A13=26,A13=28,A13=30,A13=32,A13=34,A13=36) -> TRUE | F13: =OR(A13=19,A13=20,A13=21,A13=22,A13=23,A13=24,A13=25,A13=26,A13=27,A13=28,A13=29,A13=30,A13=31,A13=32,A13=33,A13=34,A13=35,A13=36) -> FALSE | G13: =OR(A13<19) -> TRUE | H13: =OR(A13<13) -> TRUE | I13: =OR(A13=13,A13=14,A13=15,A13=16,A13=17,A13=18,A13=19,A13=20,A13=21,A13=22,A13=23,A13=24) -> FALSE | J13: =OR(A13=25,A13=26,A13=27,A13=28,A13=29,A13=30,A13=31,A13=32,A13=33,A13=34,A13=35,A13=36) -> FALSE | K13: =OR(A13=1,A13=4, A13=7,A13=10,A13=13,A13=16,A13=19,A13=22,A13=25,A13=28,A13=31,A13=34) -> FALSE | L13: =OR(A13=2,A13=5, A13=8,A13=11,A13=14,A13=14,A13=17,A13=20,A13=23,A13=26,A13=29,A13=32,A13=35) -> FALSE | M13: =OR(A13=3,A13=6,A13=9,A13=12,A13=15,A13=18,A13=21,A13=24,A13=27,A13=30,A13=33,A13=36) -> TRUE | N13: =IF($A13="","",VLOOKUP($A13,Sheet1!$A$1:$B$39,2,0)) -> 2 | P13: =A13 -> 6 | Q13: =IF(B13=TRUE,"X","") | R13: =IF(C13=TRUE,"X","") -> X | S13: =IF(D13=TRUE,"X","") | T13: =IF(E13=TRUE,"X","") -> X | U13: =IF(F13=TRUE,"X","") | V13: =IF(G13=TRUE,"X","") -> X | W13: =IF(H13=TRUE,"X","") -> X | X13: =IF(I13=TRUE,"X","") | ... AB13: =IF(M13=TRUE,"X","") -> X | AC13: =IF($A13="","",VLOOKUP($A13,Sheet1!$A$1:$B$39,2,0)) -> 2
A14: =(RANDBETWEEN(1,38)) -> 15 | B14: =OR(A14=1,A14=3, A14=5,A14=7,A14=9,A14=12,A14=14,A14=16,A14=18,A14=19,A14=21,A14=23,A14=25,A14=27,A14=30,A14=32,A14=34,A14=36) -> FALSE | C14: =OR(A14=2,A14=4, A14=6,A14=8,A14=10,A14=11,A14=13,A14=15,A14=17,A14=20,A14=22,A14=24,A14=26,A14=28,A14=29,A14=31,A14=33,A14=35) -> TRUE | D14: =OR(A14=1,A14=3, A14=5,A14=7,A14=9,A14=11,A14=13,A14=15,A14=17,A14=19,A14=21,A14=23,A14=25,A14=27,A14=29,A14=31,A14=33,A14=35) -> TRUE | E14: =OR(A14=2,A14=4, A14=6,A14=8,A14=10,A14=12,A14=14,A14=16,A14=18,A14=20,A14=22,A14=24,A14=26,A14=28,A14=30,A14=32,A14=34,A14=36) -> FALSE | F14: =OR(A14=19,A14=20,A14=21,A14=22,A14=23,A14=24,A14=25,A14=26,A14=27,A14=28,A14=29,A14=30,A14=31,A14=32,A14=33,A14=34,A14=35,A14=36) -> FALSE | G14: =OR(A14<19) -> TRUE | H14: =OR(A14<13) -> FALSE | I14: =OR(A14=13,A14=14,A14=15,A14=16,A14=17,A14=18,A14=19,A14=20,A14=21,A14=22,A14=23,A14=24) -> TRUE | J14: =OR(A14=25,A14=26,A14=27,A14=28,A14=29,A14=30,A14=31,A14=32,A14=33,A14=34,A14=35,A14=36) -> FALSE | K14: =OR(A14=1,A14=4, A14=7,A14=10,A14=13,A14=16,A14=19,A14=22,A14=25,A14=28,A14=31,A14=34) -> FALSE | L14: =OR(A14=2,A14=5, A14=8,A14=11,A14=14,A14=14,A14=17,A14=20,A14=23,A14=26,A14=29,A14=32,A14=35) -> FALSE | M14: =OR(A14=3,A14=6,A14=9,A14=12,A14=15,A14=18,A14=21,A14=24,A14=27,A14=30,A14=33,A14=36) -> TRUE | N14: =IF($A14="","",VLOOKUP($A14,Sheet1!$A$1:$B$39,2,0)) -> 5 | P14: =A14 -> 15 | Q14: =IF(B14=TRUE,"X","") | R14: =IF(C14=TRUE,"X","") -> X | S14: =IF(D14=TRUE,"X","") -> X | T14: =IF(E14=TRUE,"X","") | U14: =IF(F14=TRUE,"X","") | V14: =IF(G14=TRUE,"X","") -> X | W14: =IF(H14=TRUE,"X","") | X14: =IF(I14=TRUE,"X","") -> X | ... AB14: =IF(M14=TRUE,"X","") -> X | AC14: =IF($A14="","",VLOOKUP($A14,Sheet1!$A$1:$B$39,2,0)) -> 5
A15: =(RANDBETWEEN(1,38)) -> 31 | B15: =OR(A15=1,A15=3, A15=5,A15=7,A15=9,A15=12,A15=14,A15=16,A15=18,A15=19,A15=21,A15=23,A15=25,A15=27,A15=30,A15=32,A15=34,A15=36) -> FALSE | C15: =OR(A15=2,A15=4, A15=6,A15=8,A15=10,A15=11,A15=13,A15=15,A15=17,A15=20,A15=22,A15=24,A15=26,A15=28,A15=29,A15=31,A15=33,A15=35) -> TRUE | D15: =OR(A15=1,A15=3, A15=5,A15=7,A15=9,A15=11,A15=13,A15=15,A15=17,A15=19,A15=21,A15=23,A15=25,A15=27,A15=29,A15=31,A15=33,A15=35) -> TRUE | E15: =OR(A15=2,A15=4, A15=6,A15=8,A15=10,A15=12,A15=14,A15=16,A15=18,A15=20,A15=22,A15=24,A15=26,A15=28,A15=30,A15=32,A15=34,A15=36) -> FALSE | F15: =OR(A15=19,A15=20,A15=21,A15=22,A15=23,A15=24,A15=25,A15=26,A15=27,A15=28,A15=29,A15=30,A15=31,A15=32,A15=33,A15=34,A15=35,A15=36) -> TRUE | G15: =OR(A15<19) -> FALSE | H15: =OR(A15<13) -> FALSE | I15: =OR(A15=13,A15=14,A15=15,A15=16,A15=17,A15=18,A15=19,A15=20,A15=21,A15=22,A15=23,A15=24) -> FALSE | J15: =OR(A15=25,A15=26,A15=27,A15=28,A15=29,A15=30,A15=31,A15=32,A15=33,A15=34,A15=35,A15=36) -> TRUE | K15: =OR(A15=1,A15=4, A15=7,A15=10,A15=13,A15=16,A15=19,A15=22,A15=25,A15=28,A15=31,A15=34) -> TRUE | L15: =OR(A15=2,A15=5, A15=8,A15=11,A15=14,A15=14,A15=17,A15=20,A15=23,A15=26,A15=29,A15=32,A15=35) -> FALSE | M15: =OR(A15=3,A15=6,A15=9,A15=12,A15=15,A15=18,A15=21,A15=24,A15=27,A15=30,A15=33,A15=36) -> FALSE | N15: =IF($A15="","",VLOOKUP($A15,Sheet1!$A$1:$B$39,2,0)) -> 11 | P15: =A15 -> 31 | Q15: =IF(B15=TRUE,"X","") | R15: =IF(C15=TRUE,"X","") -> X | S15: =IF(D15=TRUE,"X","") -> X | T15: =IF(E15=TRUE,"X","") | U15: =IF(F15=TRUE,"X","") -> X | V15: =IF(G15=TRUE,"X","") | W15: =IF(H15=TRUE,"X","") | X15: =IF(I15=TRUE,"X","") | ... AB15: =IF(M15=TRUE,"X","") | AC15: =IF($A15="","",VLOOKUP($A15,Sheet1!$A$1:$B$39,2,0)) -> 11
A16: =(RANDBETWEEN(1,38)) -> 24 | B16: =OR(A16=1,A16=3, A16=5,A16=7,A16=9,A16=12,A16=14,A16=16,A16=18,A16=19,A16=21,A16=23,A16=25,A16=27,A16=30,A16=32,A16=34,A16=36) -> FALSE | C16: =OR(A16=2,A16=4, A16=6,A16=8,A16=10,A16=11,A16=13,A16=15,A16=17,A16=20,A16=22,A16=24,A16=26,A16=28,A16=29,A16=31,A16=33,A16=35) -> TRUE | D16: =OR(A16=1,A16=3, A16=5,A16=7,A16=9,A16=11,A16=13,A16=15,A16=17,A16=19,A16=21,A16=23,A16=25,A16=27,A16=29,A16=31,A16=33,A16=35) -> FALSE | E16: =OR(A16=2,A16=4, A16=6,A16=8,A16=10,A16=12,A16=14,A16=16,A16=18,A16=20,A16=22,A16=24,A16=26,A16=28,A16=30,A16=32,A16=34,A16=36) -> TRUE | F16: =OR(A16=19,A16=20,A16=21,A16=22,A16=23,A16=24,A16=25,A16=26,A16=27,A16=28,A16=29,A16=30,A16=31,A16=32,A16=33,A16=34,A16=35,A16=36) -> TRUE | G16: =OR(A16<19) -> FALSE | H16: =OR(A16<13) -> FALSE | I16: =OR(A16=13,A16=14,A16=15,A16=16,A16=17,A16=18,A16=19,A16=20,A16=21,A16=22,A16=23,A16=24) -> TRUE | J16: =OR(A16=25,A16=26,A16=27,A16=28,A16=29,A16=30,A16=31,A16=32,A16=33,A16=34,A16=35,A16=36) -> FALSE | K16: =OR(A16=1,A16=4, A16=7,A16=10,A16=13,A16=16,A16=19,A16=22,A16=25,A16=28,A16=31,A16=34) -> FALSE | L16: =OR(A16=2,A16=5, A16=8,A16=11,A16=14,A16=14,A16=17,A16=20,A16=23,A16=26,A16=29,A16=32,A16=35) -> FALSE | M16: =OR(A16=3,A16=6,A16=9,A16=12,A16=15,A16=18,A16=21,A16=24,A16=27,A16=30,A16=33,A16=36) -> TRUE | N16: =IF($A16="","",VLOOKUP($A16,Sheet1!$A$1:$B$39,2,0)) -> 8 | P16: =A16 -> 24 | Q16: =IF(B16=TRUE,"X","") | R16: =IF(C16=TRUE,"X","") -> X | S16: =IF(D16=TRUE,"X","") | T16: =IF(E16=TRUE,"X","") -> X | U16: =IF(F16=TRUE,"X","") -> X | V16: =IF(G16=TRUE,"X","") | W16: =IF(H16=TRUE,"X","") | X16: =IF(I16=TRUE,"X","") -> X | ... AB16: =IF(M16=TRUE,"X","") -> X | AC16: =IF($A16="","",VLOOKUP($A16,Sheet1!$A$1:$B$39,2,0)) -> 8
... A1005: =(RANDBETWEEN(1,38)) -> 27 | B1005: =OR(A1005=1,A1005=3, A1005=5,A1005=7,A1005=9,A1005=12,A1005=14,A1005=16,A1005=18,A1005=19,A1005=21,A1005=23,A1005=25,A1005=27,A1005=30,A1005=32,A1005=34,A1005=36) -> TRUE | C1005: =OR(A1005=2,A1005=4, A1005=6,A1005=8,A1005=10,A1005=11,A1005=13,A1005=15,A1005=17,A1005=20,A1005=22,A1005=24,A1005=26,A1005=28,A1005=29,A1005=31,A1005=33,A1005=35) -> FALSE | D1005: =OR(A1005=1,A1005=3, A1005=5,A1005=7,A1005=9,A1005=11,A1005=13,A1005=15,A1005=17,A1005=19,A1005=21,A1005=23,A1005=25,A1005=27,A1005=29,A1005=31,A1005=33,A1005=35) -> TRUE | E1005: =OR(A1005=2,A1005=4, A1005=6,A1005=8,A1005=10,A1005=12,A1005=14,A1005=16,A1005=18,A1005=20,A1005=22,A1005=24,A1005=26,A1005=28,A1005=30,A1005=32,A1005=34,A1005=36) -> FALSE | F1005: =OR(A1005=19,A1005=20,A1005=21,A1005=22,A1005=23,A1005=24,A1005=25,A1005=26,A1005=27,A1005=28,A1005=29,A1005=30,A1005=31,A1005=32,A1005=33,A1005=34,A1005=35,A1005=36) -> TRUE | G1005: =OR(A1005<19) -> FALSE | H1005: =OR(A1005<13) -> FALSE | I1005: =OR(A1005=13,A1005=14,A1005=15,A1005=16,A1005=17,A1005=18,A1005=19,A1005=20,A1005=21,A1005=22,A1005=23,A1005=24) -> FALSE | J1005: =OR(A1005=25,A1005=26,A1005=27,A1005=28,A1005=29,A1005=30,A1005=31,A1005=32,A1005=33,A1005=34,A1005=35,A1005=36) -> TRUE | K1005: =OR(A1005=1,A1005=4, A1005=7,A1005=10,A1005=13,A1005=16,A1005=19,A1005=22,A1005=25,A1005=28,A1005=31,A1005=34) -> FALSE | L1005: =OR(A1005=2,A1005=5, A1005=8,A1005=11,A1005=14,A1005=14,A1005=17,A1005=20,A1005=23,A1005=26,A1005=29,A1005=32,A1005=35) -> FALSE | M1005: =OR(A1005=3,A1005=6,A1005=9,A1005=12,A1005=15,A1005=18,A1005=21,A1005=24,A1005=27,A1005=30,A1005=33,A1005=36) -> TRUE | N1005: =IF($A1005="","",VLOOKUP($A1005,Sheet1!$A$1:$B$39,2,0)) -> 9 | P1005: =A1005 -> 27 | Q1005: =IF(B1005=TRUE,"X","") -> X | R1005: =IF(C1005=TRUE,"X","") | S1005: =IF(D1005=TRUE,"X","") -> X | T1005: =IF(E1005=TRUE,"X","") | U1005: =IF(F1005=TRUE,"X","") -> X | V1005: =IF(G1005=TRUE,"X","") | W1005: =IF(H1005=TRUE,"X","") | X1005: =IF(I1005=TRUE,"X","") | ... AB1005: =IF(M1005=TRUE,"X","") -> X | AC1005: =IF($A1005="","",VLOOKUP($A1005,Sheet1!$A$1:$B$39,2,0)) -> 9

Sheet Manual Inputs
B1: Roulette Outcomes
B3: Manually input numbers here | R3: Generated Number for Roulette Statistics with color coding
B4: Num | C4: Red | D4: Black | E4: Odd | F4: Even | G4: High | H4: Low | I4: 1 Doz | J4: 2 Doz | K4: 3 Doz | L4: Col A | M4: Col B | N4: Col C | O4: Street | R4: Num | S4: Red | T4: Black | U4: Odd | V4: Even | W4: High | X4: Low | Y4: 1 Doz | Z4: 2 Doz | AA4: 3 Doz | AB4: Col A | AC4: Col B | AD4: Col C | AE4: Street
B5: 1 | C5: =OR(B5=1,B5=3, B5=5,B5=7,B5=9,B5=12,B5=14,B5=16,B5=18,B5=19,B5=21,B5=23,B5=25,B5=27,B5=30,B5=32,B5=34,B5=36) -> TRUE | D5: =OR(B5=2,B5=4, B5=6,B5=8,B5=10,B5=11,B5=13,B5=15,B5=17,B5=20,B5=22,B5=24,B5=26,B5=28,B5=29,B5=31,B5=33,B5=35) -> FALSE | E5: =OR(B5=1,B5=3, B5=5,B5=7,B5=9,B5=11,B5=13,B5=15,B5=17,B5=19,B5=21,B5=23,B5=25,B5=27,B5=29,B5=31,B5=33,B5=35) -> TRUE | F5: =OR(B5=2,B5=4, B5=6,B5=8,B5=10,B5=12,B5=14,B5=16,B5=18,B5=20,B5=22,B5=24,B5=26,B5=28,B5=30,B5=32,B5=34,B5=36) -> FALSE | G5: =OR(B5=19,B5=20,B5=21,B5=22,B5=23,B5=24,B5=25,B5=26,B5=27,B5=28,B5=29,B5=30,B5=31,B5=32,B5=33,B5=34,B5=35,B5=36) -> FALSE | H5: =OR(B5=1,B5=2,B5=3,B5=4,B5=5,B5=6,B5=7,B5=8,B5=9,B5=10,B5=11,B5=12,B5=13,B5=14,B5=15,B5=16,B5=17,B5=18) -> TRUE | I5: =OR(B5=1,B5=2,B5=3,B5=4,B5=5,B5=6,B5=7,B5=8,B5=9,B5=10,B5=11,B5=12) -> TRUE | J5: =OR(B5=13,B5=14,B5=15,B5=16,B5=17,B5=18,B5=19,B5=20,B5=21,B5=22,B5=23,B5=24) -> FALSE | K5: =OR(B5=25,B5=26,B5=27,B5=28,B5=29,B5=30,B5=31,B5=32,B5=33,B5=34,B5=35,B5=36) -> FALSE | L5: =OR(B5=1,B5=4, B5=7,B5=10,B5=13,B5=16,B5=19,B5=22,B5=25,B5=28,B5=31,B5=34) -> TRUE | M5: =OR(B5=2,B5=5, B5=8,B5=11,B5=14,B5=14,B5=17,B5=20,B5=23,B5=26,B5=29,B5=32,B5=35) -> FALSE | N5: =OR(B5=3,B5=6,B5=9,B5=12,B5=15,B5=18,B5=21,B5=24,B5=27,B5=30,B5=33,B5=36) -> FALSE | O5: =IF($B5="","",VLOOKUP($B5,Sheet1!$A$1:$B$39,2,0)) -> 1 | R5: =B5 -> 1 | S5: =IF(C5=TRUE,"X","") -> X | T5: =IF(D5=TRUE,"X","") | U5: =IF(E5=TRUE,"X","") -> X | V5: =IF(F5=TRUE,"X","") | W5: =IF(G5=TRUE,"X","") | X5: =IF(H5=TRUE,"X","") -> X | Y5: =IF(I5=TRUE,"X","") -> X | Z5: =IF(J5=TRUE,"X","") | ... AD5: =IF(N5=TRUE,"X","") | AE5: =O5 -> 1
B6: 2 | C6: =OR(B6=1,B6=3, B6=5,B6=7,B6=9,B6=12,B6=14,B6=16,B6=18,B6=19,B6=21,B6=23,B6=25,B6=27,B6=30,B6=32,B6=34,B6=36) -> FALSE | D6: =OR(B6=2,B6=4, B6=6,B6=8,B6=10,B6=11,B6=13,B6=15,B6=17,B6=20,B6=22,B6=24,B6=26,B6=28,B6=29,B6=31,B6=33,B6=35) -> TRUE | E6: =OR(B6=1,B6=3, B6=5,B6=7,B6=9,B6=11,B6=13,B6=15,B6=17,B6=19,B6=21,B6=23,B6=25,B6=27,B6=29,B6=31,B6=33,B6=35) -> FALSE | F6: =OR(B6=2,B6=4, B6=6,B6=8,B6=10,B6=12,B6=14,B6=16,B6=18,B6=20,B6=22,B6=24,B6=26,B6=28,B6=30,B6=32,B6=34,B6=36) -> TRUE | G6: =OR(B6=19,B6=20,B6=21,B6=22,B6=23,B6=24,B6=25,B6=26,B6=27,B6=28,B6=29,B6=30,B6=31,B6=32,B6=33,B6=34,B6=35,B6=36) -> FALSE | H6: =OR(B6=1,B6=2,B6=3,B6=4,B6=5,B6=6,B6=7,B6=8,B6=9,B6=10,B6=11,B6=12,B6=12,B6=13,B6=15,B6=16,B6=17,B6=18) -> TRUE | I6: =OR(B6=1,B6=2,B6=3,B6=4,B6=5,B6=6,B6=7,B6=8,B6=9,B6=10,B6=11,B6=12) -> TRUE | J6: =OR(B6=13,B6=14,B6=15,B6=16,B6=17,B6=18,B6=19,B6=20,B6=21,B6=22,B6=23,B6=24) -> FALSE | K6: =OR(B6=25,B6=26,B6=27,B6=28,B6=29,B6=30,B6=31,B6=32,B6=33,B6=34,B6=35,B6=36) -> FALSE | L6: =OR(B6=1,B6=4, B6=7,B6=10,B6=13,B6=16,B6=19,B6=22,B6=25,B6=28,B6=31,B6=34) -> FALSE | M6: =OR(B6=2,B6=5, B6=8,B6=11,B6=14,B6=14,B6=17,B6=20,B6=23,B6=26,B6=29,B6=32,B6=35) -> TRUE | N6: =OR(B6=3,B6=6,B6=9,B6=12,B6=15,B6=18,B6=21,B6=24,B6=27,B6=30,B6=33,B6=36) -> FALSE | O6: =IF($B6="","",VLOOKUP($B6,Sheet1!$A$1:$B$39,2,0)) -> 1 | R6: =B6 -> 2 | S6: =IF(C6=TRUE,"X","") | T6: =IF(D6=TRUE,"X","") -> X | U6: =IF(E6=TRUE,"X","") | V6: =IF(F6=TRUE,"X","") -> X | W6: =IF(G6=TRUE,"X","") | X6: =IF(H6=TRUE,"X","") -> X | Y6: =IF(I6=TRUE,"X","") -> X | Z6: =IF(J6=TRUE,"X","") | ... AD6: =IF(N6=TRUE,"X","") | AE6: =O6 -> 1
B7: 3 | C7: =OR(B7=1,B7=3, B7=5,B7=7,B7=9,B7=12,B7=14,B7=16,B7=18,B7=19,B7=21,B7=23,B7=25,B7=27,B7=30,B7=32,B7=34,B7=36) -> TRUE | D7: =OR(B7=2,B7=4, B7=6,B7=8,B7=10,B7=11,B7=13,B7=15,B7=17,B7=20,B7=22,B7=24,B7=26,B7=28,B7=29,B7=31,B7=33,B7=35) -> FALSE | E7: =OR(B7=1,B7=3, B7=5,B7=7,B7=9,B7=11,B7=13,B7=15,B7=17,B7=19,B7=21,B7=23,B7=25,B7=27,B7=29,B7=31,B7=33,B7=35) -> TRUE | F7: =OR(B7=2,B7=4, B7=6,B7=8,B7=10,B7=12,B7=14,B7=16,B7=18,B7=20,B7=22,B7=24,B7=26,B7=28,B7=30,B7=32,B7=34,B7=36) -> FALSE | G7: =OR(B7=19,B7=20,B7=21,B7=22,B7=23,B7=24,B7=25,B7=26,B7=27,B7=28,B7=29,B7=30,B7=31,B7=32,B7=33,B7=34,B7=35,B7=36) -> FALSE | H7: =OR(B7=1,B7=2,B7=3,B7=4,B7=5,B7=6,B7=7,B7=8,B7=9,B7=10,B7=11,B7=12,B7=12,B7=13,B7=15,B7=16,B7=17,B7=18) -> TRUE | I7: =OR(B7=1,B7=2,B7=3,B7=4,B7=5,B7=6,B7=7,B7=8,B7=9,B7=10,B7=11,B7=12) -> TRUE | J7: =OR(B7=13,B7=14,B7=15,B7=16,B7=17,B7=18,B7=19,B7=20,B7=21,B7=22,B7=23,B7=24) -> FALSE | K7: =OR(B7=25,B7=26,B7=27,B7=28,B7=29,B7=30,B7=31,B7=32,B7=33,B7=34,B7=35,B7=36) -> FALSE | L7: =OR(B7=1,B7=4, B7=7,B7=10,B7=13,B7=16,B7=19,B7=22,B7=25,B7=28,B7=31,B7=34) -> FALSE | M7: =OR(B7=2,B7=5, B7=8,B7=11,B7=14,B7=14,B7=17,B7=20,B7=23,B7=26,B7=29,B7=32,B7=35) -> FALSE | N7: =OR(B7=3,B7=6,B7=9,B7=12,B7=15,B7=18,B7=21,B7=24,B7=27,B7=30,B7=33,B7=36) -> TRUE | O7: =IF($B7="","",VLOOKUP($B7,Sheet1!$A$1:$B$39,2,0)) -> 1 | R7: =B7 -> 3 | S7: =IF(C7=TRUE,"X","") -> X | T7: =IF(D7=TRUE,"X","") | U7: =IF(E7=TRUE,"X","") -> X | V7: =IF(F7=TRUE,"X","") | W7: =IF(G7=TRUE,"X","") | X7: =IF(H7=TRUE,"X","") -> X | Y7: =IF(I7=TRUE,"X","") -> X | Z7: =IF(J7=TRUE,"X","") | ... AD7: =IF(N7=TRUE,"X","") -> X | AE7: =O7 -> 1
B8: 4 | C8: =OR(B8=1,B8=3, B8=5,B8=7,B8=9,B8=12,B8=14,B8=16,B8=18,B8=19,B8=21,B8=23,B8=25,B8=27,B8=30,B8=32,B8=34,B8=36) -> FALSE | D8: =OR(B8=2,B8=4, B8=6,B8=8,B8=10,B8=11,B8=13,B8=15,B8=17,B8=20,B8=22,B8=24,B8=26,B8=28,B8=29,B8=31,B8=33,B8=35) -> TRUE | E8: =OR(B8=1,B8=3, B8=5,B8=7,B8=9,B8=11,B8=13,B8=15,B8=17,B8=19,B8=21,B8=23,B8=25,B8=27,B8=29,B8=31,B8=33,B8=35) -> FALSE | F8: =OR(B8=2,B8=4, B8=6,B8=8,B8=10,B8=12,B8=14,B8=16,B8=18,B8=20,B8=22,B8=24,B8=26,B8=28,B8=30,B8=32,B8=34,B8=36) -> TRUE | G8: =OR(B8=19,B8=20,B8=21,B8=22,B8=23,B8=24,B8=25,B8=26,B8=27,B8=28,B8=29,B8=30,B8=31,B8=32,B8=33,B8=34,B8=35,B8=36) -> FALSE | H8: =OR(B8=1,B8=2,B8=3,B8=4,B8=5,B8=6,B8=7,B8=8,B8=9,B8=10,B8=11,B8=12,B8=12,B8=13,B8=15,B8=16,B8=17,B8=18) -> TRUE | I8: =OR(B8=1,B8=2,B8=3,B8=4,B8=5,B8=6,B8=7,B8=8,B8=9,B8=10,B8=11,B8=12) -> TRUE | J8: =OR(B8=13,B8=14,B8=15,B8=16,B8=17,B8=18,B8=19,B8=20,B8=21,B8=22,B8=23,B8=24) -> FALSE | K8: =OR(B8=25,B8=26,B8=27,B8=28,B8=29,B8=30,B8=31,B8=32,B8=33,B8=34,B8=35,B8=36) -> FALSE | L8: =OR(B8=1,B8=4, B8=7,B8=10,B8=13,B8=16,B8=19,B8=22,B8=25,B8=28,B8=31,B8=34) -> TRUE | M8: =OR(B8=2,B8=5, B8=8,B8=11,B8=14,B8=14,B8=17,B8=20,B8=23,B8=26,B8=29,B8=32,B8=35) -> FALSE | N8: =OR(B8=3,B8=6,B8=9,B8=12,B8=15,B8=18,B8=21,B8=24,B8=27,B8=30,B8=33,B8=36) -> FALSE | O8: =IF($B8="","",VLOOKUP($B8,Sheet1!$A$1:$B$39,2,0)) -> 2 | R8: =B8 -> 4 | S8: =IF(C8=TRUE,"X","") | T8: =IF(D8=TRUE,"X","") -> X | U8: =IF(E8=TRUE,"X","") | V8: =IF(F8=TRUE,"X","") -> X | W8: =IF(G8=TRUE,"X","") | X8: =IF(H8=TRUE,"X","") -> X | Y8: =IF(I8=TRUE,"X","") -> X | Z8: =IF(J8=TRUE,"X","") | ... AD8: =IF(N8=TRUE,"X","") | AE8: =O8 -> 2
B9: 5 | C9: =OR(B9=1,B9=3, B9=5,B9=7,B9=9,B9=12,B9=14,B9=16,B9=18,B9=19,B9=21,B9=23,B9=25,B9=27,B9=30,B9=32,B9=34,B9=36) -> TRUE | D9: =OR(B9=2,B9=4, B9=6,B9=8,B9=10,B9=11,B9=13,B9=15,B9=17,B9=20,B9=22,B9=24,B9=26,B9=28,B9=29,B9=31,B9=33,B9=35) -> FALSE | E9: =OR(B9=1,B9=3, B9=5,B9=7,B9=9,B9=11,B9=13,B9=15,B9=17,B9=19,B9=21,B9=23,B9=25,B9=27,B9=29,B9=31,B9=33,B9=35) -> TRUE | F9: =OR(B9=2,B9=4, B9=6,B9=8,B9=10,B9=12,B9=14,B9=16,B9=18,B9=20,B9=22,B9=24,B9=26,B9=28,B9=30,B9=32,B9=34,B9=36) -> FALSE | G9: =OR(B9=19,B9=20,B9=21,B9=22,B9=23,B9=24,B9=25,B9=26,B9=27,B9=28,B9=29,B9=30,B9=31,B9=32,B9=33,B9=34,B9=35,B9=36) -> FALSE | H9: =OR(B9=1,B9=2,B9=3,B9=4,B9=5,B9=6,B9=7,B9=8,B9=9,B9=10,B9=11,B9=12,B9=12,B9=13,B9=15,B9=16,B9=17,B9=18) -> TRUE | I9: =OR(B9=1,B9=2,B9=3,B9=4,B9=5,B9=6,B9=7,B9=8,B9=9,B9=10,B9=11,B9=12) -> TRUE | J9: =OR(B9=13,B9=14,B9=15,B9=16,B9=17,B9=18,B9=19,B9=20,B9=21,B9=22,B9=23,B9=24) -> FALSE | K9: =OR(B9=25,B9=26,B9=27,B9=28,B9=29,B9=30,B9=31,B9=32,B9=33,B9=34,B9=35,B9=36) -> FALSE | L9: =OR(B9=1,B9=4, B9=7,B9=10,B9=13,B9=16,B9=19,B9=22,B9=25,B9=28,B9=31,B9=34) -> FALSE | M9: =OR(B9=2,B9=5, B9=8,B9=11,B9=14,B9=14,B9=17,B9=20,B9=23,B9=26,B9=29,B9=32,B9=35) -> TRUE | N9: =OR(B9=3,B9=6,B9=9,B9=12,B9=15,B9=18,B9=21,B9=24,B9=27,B9=30,B9=33,B9=36) -> FALSE | O9: =IF($B9="","",VLOOKUP($B9,Sheet1!$A$1:$B$39,2,0)) -> 2 | R9: =B9 -> 5 | S9: =IF(C9=TRUE,"X","") -> X | T9: =IF(D9=TRUE,"X","") | U9: =IF(E9=TRUE,"X","") -> X | V9: =IF(F9=TRUE,"X","") | W9: =IF(G9=TRUE,"X","") | X9: =IF(H9=TRUE,"X","") -> X | Y9: =IF(I9=TRUE,"X","") -> X | Z9: =IF(J9=TRUE,"X","") | ... AD9: =IF(N9=TRUE,"X","") | AE9: =O9 -> 2
B10: 6 | C10: =OR(B10=1,B10=3, B10=5,B10=7,B10=9,B10=12,B10=14,B10=16,B10=18,B10=19,B10=21,B10=23,B10=25,B10=27,B10=30,B10=32,B10=34,B10=36) -> FALSE | D10: =OR(B10=2,B10=4, B10=6,B10=8,B10=10,B10=11,B10=13,B10=15,B10=17,B10=20,B10=22,B10=24,B10=26,B10=28,B10=29,B10=31,B10=33,B10=35) -> TRUE | E10: =OR(B10=1,B10=3, B10=5,B10=7,B10=9,B10=11,B10=13,B10=15,B10=17,B10=19,B10=21,B10=23,B10=25,B10=27,B10=29,B10=31,B10=33,B10=35) -> FALSE | F10: =OR(B10=2,B10=4, B10=6,B10=8,B10=10,B10=12,B10=14,B10=16,B10=18,B10=20,B10=22,B10=24,B10=26,B10=28,B10=30,B10=32,B10=34,B10=36) -> TRUE | G10: =OR(B10=19,B10=20,B10=21,B10=22,B10=23,B10=24,B10=25,B10=26,B10=27,B10=28,B10=29,B10=30,B10=31,B10=32,B10=33,B10=34,B10=35,B10=36) -> FALSE | H10: =OR(B10=1,B10=2,B10=3,B10=4,B10=5,B10=6,B10=7,B10=8,B10=9,B10=10,B10=11,B10=12,B10=12,B10=13,B10=15,B10=16,B10=17,B10=18) -> TRUE | I10: =OR(B10=1,B10=2,B10=3,B10=4,B10=5,B10=6,B10=7,B10=8,B10=9,B10=10,B10=11,B10=12) -> TRUE | J10: =OR(B10=13,B10=14,B10=15,B10=16,B10=17,B10=18,B10=19,B10=20,B10=21,B10=22,B10=23,B10=24) -> FALSE | K10: =OR(B10=25,B10=26,B10=27,B10=28,B10=29,B10=30,B10=31,B10=32,B10=33,B10=34,B10=35,B10=36) -> FALSE | L10: =OR(B10=1,B10=4, B10=7,B10=10,B10=13,B10=16,B10=19,B10=22,B10=25,B10=28,B10=31,B10=34) -> FALSE | M10: =OR(B10=2,B10=5, B10=8,B10=11,B10=14,B10=14,B10=17,B10=20,B10=23,B10=26,B10=29,B10=32,B10=35) -> FALSE | N10: =OR(B10=3,B10=6,B10=9,B10=12,B10=15,B10=18,B10=21,B10=24,B10=27,B10=30,B10=33,B10=36) -> TRUE | O10: =IF($B10="","",VLOOKUP($B10,Sheet1!$A$1:$B$39,2,0)) -> 2 | R10: =B10 -> 6 | S10: =IF(C10=TRUE,"X","") | T10: =IF(D10=TRUE,"X","") -> X | U10: =IF(E10=TRUE,"X","") | V10: =IF(F10=TRUE,"X","") -> X | W10: =IF(G10=TRUE,"X","") | X10: =IF(H10=TRUE,"X","") -> X | Y10: =IF(I10=TRUE,"X","") -> X | Z10: =IF(J10=TRUE,"X","") | ... AD10: =IF(N10=TRUE,"X","") -> X | AE10: =O10 -> 2
B11: 7 | C11: =OR(B11=1,B11=3, B11=5,B11=7,B11=9,B11=12,B11=14,B11=16,B11=18,B11=19,B11=21,B11=23,B11=25,B11=27,B11=30,B11=32,B11=34,B11=36) -> TRUE | D11: =OR(B11=2,B11=4, B11=6,B11=8,B11=10,B11=11,B11=13,B11=15,B11=17,B11=20,B11=22,B11=24,B11=26,B11=28,B11=29,B11=31,B11=33,B11=35) -> FALSE | E11: =OR(B11=1,B11=3, B11=5,B11=7,B11=9,B11=11,B11=13,B11=15,B11=17,B11=19,B11=21,B11=23,B11=25,B11=27,B11=29,B11=31,B11=33,B11=35) -> TRUE | F11: =OR(B11=2,B11=4, B11=6,B11=8,B11=10,B11=12,B11=14,B11=16,B11=18,B11=20,B11=22,B11=24,B11=26,B11=28,B11=30,B11=32,B11=34,B11=36) -> FALSE | G11: =OR(B11=19,B11=20,B11=21,B11=22,B11=23,B11=24,B11=25,B11=26,B11=27,B11=28,B11=29,B11=30,B11=31,B11=32,B11=33,B11=34,B11=35,B11=36) -> FALSE | H11: =OR(B11=1,B11=2,B11=3,B11=4,B11=5,B11=6,B11=7,B11=8,B11=9,B11=10,B11=11,B11=12,B11=12,B11=13,B11=15,B11=16,B11=17,B11=18) -> TRUE | I11: =OR(B11=1,B11=2,B11=3,B11=4,B11=5,B11=6,B11=7,B11=8,B11=9,B11=10,B11=11,B11=12) -> TRUE | J11: =OR(B11=13,B11=14,B11=15,B11=16,B11=17,B11=18,B11=19,B11=20,B11=21,B11=22,B11=23,B11=24) -> FALSE | K11: =OR(B11=25,B11=26,B11=27,B11=28,B11=29,B11=30,B11=31,B11=32,B11=33,B11=34,B11=35,B11=36) -> FALSE | L11: =OR(B11=1,B11=4, B11=7,B11=10,B11=13,B11=16,B11=19,B11=22,B11=25,B11=28,B11=31,B11=34) -> TRUE | M11: =OR(B11=2,B11=5, B11=8,B11=11,B11=14,B11=14,B11=17,B11=20,B11=23,B11=26,B11=29,B11=32,B11=35) -> FALSE | N11: =OR(B11=3,B11=6,B11=9,B11=12,B11=15,B11=18,B11=21,B11=24,B11=27,B11=30,B11=33,B11=36) -> FALSE | O11: =IF($B11="","",VLOOKUP($B11,Sheet1!$A$1:$B$39,2,0)) -> 3 | R11: =B11 -> 7 | S11: =IF(C11=TRUE,"X","") -> X | T11: =IF(D11=TRUE,"X","") | U11: =IF(E11=TRUE,"X","") -> X | V11: =IF(F11=TRUE,"X","") | W11: =IF(G11=TRUE,"X","") | X11: =IF(H11=TRUE,"X","") -> X | Y11: =IF(I11=TRUE,"X","") -> X | Z11: =IF(J11=TRUE,"X","") | ... AD11: =IF(N11=TRUE,"X","") | AE11: =O11 -> 3
B12: 8 | C12: =OR(B12=1,B12=3, B12=5,B12=7,B12=9,B12=12,B12=14,B12=16,B12=18,B12=19,B12=21,B12=23,B12=25,B12=27,B12=30,B12=32,B12=34,B12=36) -> FALSE | D12: =OR(B12=2,B12=4, B12=6,B12=8,B12=10,B12=11,B12=13,B12=15,B12=17,B12=20,B12=22,B12=24,B12=26,B12=28,B12=29,B12=31,B12=33,B12=35) -> TRUE | E12: =OR(B12=1,B12=3, B12=5,B12=7,B12=9,B12=11,B12=13,B12=15,B12=17,B12=19,B12=21,B12=23,B12=25,B12=27,B12=29,B12=31,B12=33,B12=35) -> FALSE | F12: =OR(B12=2,B12=4, B12=6,B12=8,B12=10,B12=12,B12=14,B12=16,B12=18,B12=20,B12=22,B12=24,B12=26,B12=28,B12=30,B12=32,B12=34,B12=36) -> TRUE | G12: =OR(B12=19,B12=20,B12=21,B12=22,B12=23,B12=24,B12=25,B12=26,B12=27,B12=28,B12=29,B12=30,B12=31,B12=32,B12=33,B12=34,B12=35,B12=36) -> FALSE | H12: =OR(B12=1,B12=2,B12=3,B12=4,B12=5,B12=6,B12=7,B12=8,B12=9,B12=10,B12=11,B12=12,B12=12,B12=13,B12=15,B12=16,B12=17,B12=18) -> TRUE | I12: =OR(B12=1,B12=2,B12=3,B12=4,B12=5,B12=6,B12=7,B12=8,B12=9,B12=10,B12=11,B12=12) -> TRUE | J12: =OR(B12=13,B12=14,B12=15,B12=16,B12=17,B12=18,B12=19,B12=20,B12=21,B12=22,B12=23,B12=24) -> FALSE | K12: =OR(B12=25,B12=26,B12=27,B12=28,B12=29,B12=30,B12=31,B12=32,B12=33,B12=34,B12=35,B12=36) -> FALSE | L12: =OR(B12=1,B12=4, B12=7,B12=10,B12=13,B12=16,B12=19,B12=22,B12=25,B12=28,B12=31,B12=34) -> FALSE | M12: =OR(B12=2,B12=5, B12=8,B12=11,B12=14,B12=14,B12=17,B12=20,B12=23,B12=26,B12=29,B12=32,B12=35) -> TRUE | N12: =OR(B12=3,B12=6,B12=9,B12=12,B12=15,B12=18,B12=21,B12=24,B12=27,B12=30,B12=33,B12=36) -> FALSE | O12: =IF($B12="","",VLOOKUP($B12,Sheet1!$A$1:$B$39,2,0)) -> 3 | R12: =B12 -> 8 | S12: =IF(C12=TRUE,"X","") | T12: =IF(D12=TRUE,"X","") -> X | U12: =IF(E12=TRUE,"X","") | V12: =IF(F12=TRUE,"X","") -> X | W12: =IF(G12=TRUE,"X","") | X12: =IF(H12=TRUE,"X","") -> X | Y12: =IF(I12=TRUE,"X","") -> X | Z12: =IF(J12=TRUE,"X","") | ... AD12: =IF(N12=TRUE,"X","") | AE12: =O12 -> 3
B13: 9 | C13: =OR(B13=1,B13=3, B13=5,B13=7,B13=9,B13=12,B13=14,B13=16,B13=18,B13=19,B13=21,B13=23,B13=25,B13=27,B13=30,B13=32,B13=34,B13=36) -> TRUE | D13: =OR(B13=2,B13=4, B13=6,B13=8,B13=10,B13=11,B13=13,B13=15,B13=17,B13=20,B13=22,B13=24,B13=26,B13=28,B13=29,B13=31,B13=33,B13=35) -> FALSE | E13: =OR(B13=1,B13=3, B13=5,B13=7,B13=9,B13=11,B13=13,B13=15,B13=17,B13=19,B13=21,B13=23,B13=25,B13=27,B13=29,B13=31,B13=33,B13=35) -> TRUE | F13: =OR(B13=2,B13=4, B13=6,B13=8,B13=10,B13=12,B13=14,B13=16,B13=18,B13=20,B13=22,B13=24,B13=26,B13=28,B13=30,B13=32,B13=34,B13=36) -> FALSE | G13: =OR(B13=19,B13=20,B13=21,B13=22,B13=23,B13=24,B13=25,B13=26,B13=27,B13=28,B13=29,B13=30,B13=31,B13=32,B13=33,B13=34,B13=35,B13=36) -> FALSE | H13: =OR(B13=1,B13=2,B13=3,B13=4,B13=5,B13=6,B13=7,B13=8,B13=9,B13=10,B13=11,B13=12,B13=12,B13=13,B13=15,B13=16,B13=17,B13=18) -> TRUE | I13: =OR(B13=1,B13=2,B13=3,B13=4,B13=5,B13=6,B13=7,B13=8,B13=9,B13=10,B13=11,B13=12) -> TRUE | J13: =OR(B13=13,B13=14,B13=15,B13=16,B13=17,B13=18,B13=19,B13=20,B13=21,B13=22,B13=23,B13=24) -> FALSE | K13: =OR(B13=25,B13=26,B13=27,B13=28,B13=29,B13=30,B13=31,B13=32,B13=33,B13=34,B13=35,B13=36) -> FALSE | L13: =OR(B13=1,B13=4, B13=7,B13=10,B13=13,B13=16,B13=19,B13=22,B13=25,B13=28,B13=31,B13=34) -> FALSE | M13: =OR(B13=2,B13=5, B13=8,B13=11,B13=14,B13=14,B13=17,B13=20,B13=23,B13=26,B13=29,B13=32,B13=35) -> FALSE | N13: =OR(B13=3,B13=6,B13=9,B13=12,B13=15,B13=18,B13=21,B13=24,B13=27,B13=30,B13=33,B13=36) -> TRUE | O13: =IF($B13="","",VLOOKUP($B13,Sheet1!$A$1:$B$39,2,0)) -> 3 | R13: =B13 -> 9 | S13: =IF(C13=TRUE,"X","") -> X | T13: =IF(D13=TRUE,"X","") | U13: =IF(E13=TRUE,"X","") -> X | V13: =IF(F13=TRUE,"X","") | W13: =IF(G13=TRUE,"X","") | X13: =IF(H13=TRUE,"X","") -> X | Y13: =IF(I13=TRUE,"X","") -> X | Z13: =IF(J13=TRUE,"X","") | ... AD13: =IF(N13=TRUE,"X","") -> X | AE13: =O13 -> 3
B14: 10 | C14: =OR(B14=1,B14=3, B14=5,B14=7,B14=9,B14=12,B14=14,B14=16,B14=18,B14=19,B14=21,B14=23,B14=25,B14=27,B14=30,B14=32,B14=34,B14=36) -> FALSE | D14: =OR(B14=2,B14=4, B14=6,B14=8,B14=10,B14=11,B14=13,B14=15,B14=17,B14=20,B14=22,B14=24,B14=26,B14=28,B14=29,B14=31,B14=33,B14=35) -> TRUE | E14: =OR(B14=1,B14=3, B14=5,B14=7,B14=9,B14=11,B14=13,B14=15,B14=17,B14=19,B14=21,B14=23,B14=25,B14=27,B14=29,B14=31,B14=33,B14=35) -> FALSE | F14: =OR(B14=2,B14=4, B14=6,B14=8,B14=10,B14=12,B14=14,B14=16,B14=18,B14=20,B14=22,B14=24,B14=26,B14=28,B14=30,B14=32,B14=34,B14=36) -> TRUE | G14: =OR(B14=19,B14=20,B14=21,B14=22,B14=23,B14=24,B14=25,B14=26,B14=27,B14=28,B14=29,B14=30,B14=31,B14=32,B14=33,B14=34,B14=35,B14=36) -> FALSE | H14: =OR(B14=1,B14=2,B14=3,B14=4,B14=5,B14=6,B14=7,B14=8,B14=9,B14=10,B14=11,B14=12,B14=12,B14=13,B14=15,B14=16,B14=17,B14=18) -> TRUE | I14: =OR(B14=1,B14=2,B14=3,B14=4,B14=5,B14=6,B14=7,B14=8,B14=9,B14=10,B14=11,B14=12) -> TRUE | J14: =OR(B14=13,B14=14,B14=15,B14=16,B14=17,B14=18,B14=19,B14=20,B14=21,B14=22,B14=23,B14=24) -> FALSE | K14: =OR(B14=25,B14=26,B14=27,B14=28,B14=29,B14=30,B14=31,B14=32,B14=33,B14=34,B14=35,B14=36) -> FALSE | L14: =OR(B14=1,B14=4, B14=7,B14=10,B14=13,B14=16,B14=19,B14=22,B14=25,B14=28,B14=31,B14=34) -> TRUE | M14: =OR(B14=2,B14=5, B14=8,B14=11,B14=14,B14=14,B14=17,B14=20,B14=23,B14=26,B14=29,B14=32,B14=35) -> FALSE | N14: =OR(B14=3,B14=6,B14=9,B14=12,B14=15,B14=18,B14=21,B14=24,B14=27,B14=30,B14=33,B14=36) -> FALSE | O14: =IF($B14="","",VLOOKUP($B14,Sheet1!$A$1:$B$39,2,0)) -> 4 | R14: =B14 -> 10 | S14: =IF(C14=TRUE,"X","") | T14: =IF(D14=TRUE,"X","") -> X | U14: =IF(E14=TRUE,"X","") | V14: =IF(F14=TRUE,"X","") -> X | W14: =IF(G14=TRUE,"X","") | X14: =IF(H14=TRUE,"X","") -> X | Y14: =IF(I14=TRUE,"X","") -> X | Z14: =IF(J14=TRUE,"X","") | ... AD14: =IF(N14=TRUE,"X","") | AE14: =O14 -> 4
B15: 11 | C15: =OR(B15=1,B15=3, B15=5,B15=7,B15=9,B15=12,B15=14,B15=16,B15=18,B15=19,B15=21,B15=23,B15=25,B15=27,B15=30,B15=32,B15=34,B15=36) -> FALSE | D15: =OR(B15=2,B15=4, B15=6,B15=8,B15=10,B15=11,B15=13,B15=15,B15=17,B15=20,B15=22,B15=24,B15=26,B15=28,B15=29,B15=31,B15=33,B15=35) -> TRUE | E15: =OR(B15=1,B15=3, B15=5,B15=7,B15=9,B15=11,B15=13,B15=15,B15=17,B15=19,B15=21,B15=23,B15=25,B15=27,B15=29,B15=31,B15=33,B15=35) -> TRUE | F15: =OR(B15=2,B15=4, B15=6,B15=8,B15=10,B15=12,B15=14,B15=16,B15=18,B15=20,B15=22,B15=24,B15=26,B15=28,B15=30,B15=32,B15=34,B15=36) -> FALSE | G15: =OR(B15=19,B15=20,B15=21,B15=22,B15=23,B15=24,B15=25,B15=26,B15=27,B15=28,B15=29,B15=30,B15=31,B15=32,B15=33,B15=34,B15=35,B15=36) -> FALSE | H15: =OR(B15=1,B15=2,B15=3,B15=4,B15=5,B15=6,B15=7,B15=8,B15=9,B15=10,B15=11,B15=12,B15=12,B15=13,B15=15,B15=16,B15=17,B15=18) -> TRUE | I15: =OR(B15=1,B15=2,B15=3,B15=4,B15=5,B15=6,B15=7,B15=8,B15=9,B15=10,B15=11,B15=12) -> TRUE | J15: =OR(B15=13,B15=14,B15=15,B15=16,B15=17,B15=18,B15=19,B15=20,B15=21,B15=22,B15=23,B15=24) -> FALSE | K15: =OR(B15=25,B15=26,B15=27,B15=28,B15=29,B15=30,B15=31,B15=32,B15=33,B15=34,B15=35,B15=36) -> FALSE | L15: =OR(B15=1,B15=4, B15=7,B15=10,B15=13,B15=16,B15=19,B15=22,B15=25,B15=28,B15=31,B15=34) -> FALSE | M15: =OR(B15=2,B15=5, B15=8,B15=11,B15=14,B15=14,B15=17,B15=20,B15=23,B15=26,B15=29,B15=32,B15=35) -> TRUE | N15: =OR(B15=3,B15=6,B15=9,B15=12,B15=15,B15=18,B15=21,B15=24,B15=27,B15=30,B15=33,B15=36) -> FALSE | O15: =IF($B15="","",VLOOKUP($B15,Sheet1!$A$1:$B$39,2,0)) -> 4 | R15: =B15 -> 11 | S15: =IF(C15=TRUE,"X","") | T15: =IF(D15=TRUE,"X","") -> X | U15: =IF(E15=TRUE,"X","") -> X | V15: =IF(F15=TRUE,"X","") | W15: =IF(G15=TRUE,"X","") | X15: =IF(H15=TRUE,"X","") -> X | Y15: =IF(I15=TRUE,"X","") -> X | Z15: =IF(J15=TRUE,"X","") | ... AD15: =IF(N15=TRUE,"X","") | AE15: =O15 -> 4
B16: 12 | C16: =OR(B16=1,B16=3, B16=5,B16=7,B16=9,B16=12,B16=14,B16=16,B16=18,B16=19,B16=21,B16=23,B16=25,B16=27,B16=30,B16=32,B16=34,B16=36) -> TRUE | D16: =OR(B16=2,B16=4, B16=6,B16=8,B16=10,B16=11,B16=13,B16=15,B16=17,B16=20,B16=22,B16=24,B16=26,B16=28,B16=29,B16=31,B16=33,B16=35) -> FALSE | E16: =OR(B16=1,B16=3, B16=5,B16=7,B16=9,B16=11,B16=13,B16=15,B16=17,B16=19,B16=21,B16=23,B16=25,B16=27,B16=29,B16=31,B16=33,B16=35) -> FALSE | F16: =OR(B16=2,B16=4, B16=6,B16=8,B16=10,B16=12,B16=14,B16=16,B16=18,B16=20,B16=22,B16=24,B16=26,B16=28,B16=30,B16=32,B16=34,B16=36) -> TRUE | G16: =OR(B16=19,B16=20,B16=21,B16=22,B16=23,B16=24,B16=25,B16=26,B16=27,B16=28,B16=29,B16=30,B16=31,B16=32,B16=33,B16=34,B16=35,B16=36) -> FALSE | H16: =OR(B16=1,B16=2,B16=3,B16=4,B16=5,B16=6,B16=7,B16=8,B16=9,B16=10,B16=11,B16=12,B16=12,B16=13,B16=15,B16=16,B16=17,B16=18) -> TRUE | I16: =OR(B16=1,B16=2,B16=3,B16=4,B16=5,B16=6,B16=7,B16=8,B16=9,B16=10,B16=11,B16=12) -> TRUE | J16: =OR(B16=13,B16=14,B16=15,B16=16,B16=17,B16=18,B16=19,B16=20,B16=21,B16=22,B16=23,B16=24) -> FALSE | K16: =OR(B16=25,B16=26,B16=27,B16=28,B16=29,B16=30,B16=31,B16=32,B16=33,B16=34,B16=35,B16=36) -> FALSE | L16: =OR(B16=1,B16=4, B16=7,B16=10,B16=13,B16=16,B16=19,B16=22,B16=25,B16=28,B16=31,B16=34) -> FALSE | M16: =OR(B16=2,B16=5, B16=8,B16=11,B16=14,B16=14,B16=17,B16=20,B16=23,B16=26,B16=29,B16=32,B16=35) -> FALSE | N16: =OR(B16=3,B16=6,B16=9,B16=12,B16=15,B16=18,B16=21,B16=24,B16=27,B16=30,B16=33,B16=36) -> TRUE | O16: =IF($B16="","",VLOOKUP($B16,Sheet1!$A$1:$B$39,2,0)) -> 4 | R16: =B16 -> 12 | S16: =IF(C16=TRUE,"X","") -> X | T16: =IF(D16=TRUE,"X","") | U16: =IF(E16=TRUE,"X","") | V16: =IF(F16=TRUE,"X","") -> X | W16: =IF(G16=TRUE,"X","") | X16: =IF(H16=TRUE,"X","") -> X | Y16: =IF(I16=TRUE,"X","") -> X | Z16: =IF(J16=TRUE,"X","") | ... AD16: =IF(N16=TRUE,"X","") -> X | AE16: =O16 -> 4
B17: 13 | C17: =OR(B17=1,B17=3, B17=5,B17=7,B17=9,B17=12,B17=14,B17=16,B17=18,B17=19,B17=21,B17=23,B17=25,B17=27,B17=30,B17=32,B17=34,B17=36) -> FALSE | D17: =OR(B17=2,B17=4, B17=6,B17=8,B17=10,B17=11,B17=13,B17=15,B17=17,B17=20,B17=22,B17=24,B17=26,B17=28,B17=29,B17=31,B17=33,B17=35) -> TRUE | E17: =OR(B17=1,B17=3, B17=5,B17=7,B17=9,B17=11,B17=13,B17=15,B17=17,B17=19,B17=21,B17=23,B17=25,B17=27,B17=29,B17=31,B17=33,B17=35) -> TRUE | F17: =OR(B17=2,B17=4, B17=6,B17=8,B17=10,B17=12,B17=14,B17=16,B17=18,B17=20,B17=22,B17=24,B17=26,B17=28,B17=30,B17=32,B17=34,B17=36) -> FALSE | G17: =OR(B17=19,B17=20,B17=21,B17=22,B17=23,B17=24,B17=25,B17=26,B17=27,B17=28,B17=29,B17=30,B17=31,B17=32,B17=33,B17=34,B17=35,B17=36) -> FALSE | H17: =OR(B17=1,B17=2,B17=3,B17=4,B17=5,B17=6,B17=7,B17=8,B17=9,B17=10,B17=11,B17=12,B17=12,B17=13,B17=15,B17=16,B17=17,B17=18) -> TRUE | I17: =OR(B17=1,B17=2,B17=3,B17=4,B17=5,B17=6,B17=7,B17=8,B17=9,B17=10,B17=11,B17=12) -> FALSE | J17: =OR(B17=13,B17=14,B17=15,B17=16,B17=17,B17=18,B17=19,B17=20,B17=21,B17=22,B17=23,B17=24) -> TRUE | K17: =OR(B17=25,B17=26,B17=27,B17=28,B17=29,B17=30,B17=31,B17=32,B17=33,B17=34,B17=35,B17=36) -> FALSE | L17: =OR(B17=1,B17=4, B17=7,B17=10,B17=13,B17=16,B17=19,B17=22,B17=25,B17=28,B17=31,B17=34) -> TRUE | M17: =OR(B17=2,B17=5, B17=8,B17=11,B17=14,B17=14,B17=17,B17=20,B17=23,B17=26,B17=29,B17=32,B17=35) -> FALSE | N17: =OR(B17=3,B17=6,B17=9,B17=12,B17=15,B17=18,B17=21,B17=24,B17=27,B17=30,B17=33,B17=36) -> FALSE | O17: =IF($B17="","",VLOOKUP($B17,Sheet1!$A$1:$B$39,2,0)) -> 5 | R17: =B17 -> 13 | S17: =IF(C17=TRUE,"X","") | T17: =IF(D17=TRUE,"X","") -> X | U17: =IF(E17=TRUE,"X","") -> X | V17: =IF(F17=TRUE,"X","") | W17: =IF(G17=TRUE,"X","") | X17: =IF(H17=TRUE,"X","") -> X | Y17: =IF(I17=TRUE,"X","") | Z17: =IF(J17=TRUE,"X","") -> X | ... AD17: =IF(N17=TRUE,"X","") | AE17: =O17 -> 5
... B1001: 9 | C1001: =OR(B1001=1,B1001=3, B1001=5,B1001=7,B1001=9,B1001=12,B1001=14,B1001=16,B1001=18,B1001=19,B1001=21,B1001=23,B1001=25,B1001=27,B1001=30,B1001=32,B1001=34,B1001=36) -> TRUE | D1001: =OR(B1001=2,B1001=4, B1001=6,B1001=8,B1001=10,B1001=11,B1001=13,B1001=15,B1001=17,B1001=20,B1001=22,B1001=24,B1001=26,B1001=28,B1001=29,B1001=31,B1001=33,B1001=35) -> FALSE | E1001: =OR(B1001=1,B1001=3, B1001=5,B1001=7,B1001=9,B1001=11,B1001=13,B1001=15,B1001=17,B1001=19,B1001=21,B1001=23,B1001=25,B1001=27,B1001=29,B1001=31,B1001=33,B1001=35) -> TRUE | F1001: =OR(B1001=2,B1001=4, B1001=6,B1001=8,B1001=10,B1001=12,B1001=14,B1001=16,B1001=18,B1001=20,B1001=22,B1001=24,B1001=26,B1001=28,B1001=30,B1001=32,B1001=34,B1001=36) -> FALSE | G1001: =OR(B1001=19,B1001=20,B1001=21,B1001=22,B1001=23,B1001=24,B1001=25,B1001=26,B1001=27,B1001=28,B1001=29,B1001=30,B1001=31,B1001=32,B1001=33,B1001=34,B1001=35,B1001=36) -> FALSE | H1001: =OR(B1001=1,B1001=2,B1001=3,B1001=4,B1001=5,B1001=6,B1001=7,B1001=8,B1001=9,B1001=10,B1001=11,B1001=12,B1001=12,B1001=13,B1001=15,B1001=16,B1001=17,B1001=18) -> TRUE | I1001: =OR(B1001=1,B1001=2,B1001=3,B1001=4,B1001=5,B1001=6,B1001=7,B1001=8,B1001=9,B1001=10,B1001=11,B1001=12) -> TRUE | J1001: =OR(B1001=13,B1001=14,B1001=15,B1001=16,B1001=17,B1001=18,B1001=19,B1001=20,B1001=21,B1001=22,B1001=23,B1001=24) -> FALSE | K1001: =OR(B1001=25,B1001=26,B1001=27,B1001=28,B1001=29,B1001=30,B1001=31,B1001=32,B1001=33,B1001=34,B1001=35,B1001=36) -> FALSE | L1001: =OR(B1001=1,B1001=4, B1001=7,B1001=10,B1001=13,B1001=16,B1001=19,B1001=22,B1001=25,B1001=28,B1001=31,B1001=34) -> FALSE | M1001: =OR(B1001=2,B1001=5, B1001=8,B1001=11,B1001=14,B1001=14,B1001=17,B1001=20,B1001=23,B1001=26,B1001=29,B1001=32,B1001=35) -> FALSE | N1001: =OR(B1001=3,B1001=6,B1001=9,B1001=12,B1001=15,B1001=18,B1001=21,B1001=24,B1001=27,B1001=30,B1001=33,B1001=36) -> TRUE | O1001: =IF($B1001="","",VLOOKUP($B1001,Sheet1!$A$1:$B$39,2,0)) -> 3 | R1001: =B1001 -> 9 | S1001: =IF(C1001=TRUE,"X","") -> X | T1001: =IF(D1001=TRUE,"X","") | U1001: =IF(E1001=TRUE,"X","") -> X | V1001: =IF(F1001=TRUE,"X","") | W1001: =IF(G1001=TRUE,"X","") | X1001: =IF(H1001=TRUE,"X","") -> X | Y1001: =IF(I1001=TRUE,"X","") -> X | Z1001: =IF(J1001=TRUE,"X","") | ... AD1001: =IF(N1001=TRUE,"X","") -> X | AE1001: =O1001 -> 3
O1002: =IF($B1002="","",VLOOKUP($B1002,Sheet1!$A$1:$B$39,2,0))
O1003: =IF($B1003="","",VLOOKUP($B1003,Sheet1!$A$1:$B$39,2,0))
O1004: =IF($B1004="","",VLOOKUP($B1004,Sheet1!$A$1:$B$39,2,0))
O1005: =IF($B1005="","",VLOOKUP($B1005,Sheet1!$A$1:$B$39,2,0))
O1006: =IF($B1006="","",VLOOKUP($B1006,Sheet1!$A$1:$B$39,2,0))
O1007: =IF($B1007="","",VLOOKUP($B1007,Sheet1!$A$1:$B$39,2,0))
O1008: =IF($B1008="","",VLOOKUP($B1008,Sheet1!$A$1:$B$39,2,0))
O1009: =IF($B1009="","",VLOOKUP($B1009,Sheet1!$A$1:$B$39,2,0))
O1010: =IF($B1010="","",VLOOKUP($B1010,Sheet1!$A$1:$B$39,2,0))
O1011: =IF($B1011="","",VLOOKUP($B1011,Sheet1!$A$1:$B$39,2,0))
O1012: =IF($B1012="","",VLOOKUP($B1012,Sheet1!$A$1:$B$39,2,0))
O1013: =IF($B1013="","",VLOOKUP($B1013,Sheet1!$A$1:$B$39,2,0))
... O1144: =IF($B1144="","",VLOOKUP($B1144,Sheet1!$A$1:$B$39,2,0))

Sheet Sheet1
A1: Number | B1: Street
A2: 1 | B2: 1
A3: 2 | B3: 1 | D3: My thanks to "MattyMattz" for making my work with the VLookUp command an easy job.
A4: 3 | B4: 1
A5: 4 | B5: 2
A6: 5 | B6: 2
A7: 6 | B7: 2
A8: 7 | B8: 3
A9: 8 | B9: 3
A10: 9 | B10: 3
A11: 10 | B11: 4
A12: 11 | B12: 4
A13: 12 | B13: 4
A14: 13 | B14: 5
A15: 14 | B15: 5
... A39: 38 | B39: 0
