Workbook

Sheet Data
D8: Spin | E8: A to | F8: Test | G8: RANDOM.ORG - 500 Random Generated Nos. | Q8: Excel RANDOMBETWEEN - 500 Generated Nos
E9: activate | F9: Data | G9: 1 | H9: 2 | I9: 3 | J9: 4 | K9: 5 | L9: 6 | M9: 7 | N9: 8 | O9: 9 | P9: 10 | Q9: 1 | R9: 2 | S9: 3 | T9: 4 | U9: 5 | V9: 6 | W9: 7 | X9: 8 | Y9: 9 | Z9: 10
A10: SPINS | B10: NR | E10: => | G10: A
A11: 1 | B11: =HLOOKUP("A",$F$10:$AF$510,D11+1) -> 4 | D11: 1 | G11: 4 | H11: 10 | I11: 1 | J11: 8 | K11: 3 | L11: 29 | M11: 5 | N11: 7 | O11: 32 | P11: 28 | Q11: 11 | R11: 32 | S11: 7 | T11: 11 | U11: 16 | V11: 3 | W11: 13 | X11: 24 | Y11: 24 | Z11: 22
A12: =A11+1 -> 2 | B12: =HLOOKUP("A",$F$10:$AF$510,D12+1) -> 7 | D12: =D11+1 -> 2 | G12: 7 | H12: 2 | I12: 16 | J12: 6 | K12: 23 | L12: 31 | M12: 2 | N12: 0 | O12: 34 | P12: 0 | Q12: 35 | R12: 17 | S12: 24 | T12: 8 | U12: 35 | V12: 5 | W12: 6 | X12: 14 | Y12: 23 | Z12: 0
A13: =A12+1 -> 3 | B13: =HLOOKUP("A",$F$10:$AF$510,D13+1) -> 3 | D13: =D12+1 -> 3 | G13: 3 | H13: 27 | I13: 31 | J13: 35 | K13: 31 | L13: 29 | M13: 17 | N13: 25 | O13: 4 | P13: 9 | Q13: 3 | R13: 13 | S13: 11 | T13: 4 | U13: 3 | V13: 25 | W13: 9 | X13: 16 | Y13: 7 | Z13: 33
A14: =A13+1 -> 4 | B14: =HLOOKUP("A",$F$10:$AF$510,D14+1) -> 24 | D14: =D13+1 -> 4 | G14: 24 | H14: 9 | I14: 1 | J14: 0 | K14: 7 | L14: 19 | M14: 22 | N14: 17 | O14: 22 | P14: 6 | Q14: 8 | R14: 17 | S14: 5 | T14: 31 | U14: 26 | V14: 29 | W14: 22 | X14: 13 | Y14: 6 | Z14: 10
A15: =A14+1 -> 5 | B15: =HLOOKUP("A",$F$10:$AF$510,D15+1) -> 10 | D15: =D14+1 -> 5 | G15: 10 | H15: 23 | I15: 21 | J15: 16 | K15: 8 | L15: 19 | M15: 5 | N15: 27 | O15: 26 | P15: 28 | Q15: 23 | R15: 21 | S15: 17 | T15: 32 | U15: 23 | V15: 10 | W15: 19 | X15: 21 | Y15: 2 | Z15: 25
A16: =A15+1 -> 6 | B16: =HLOOKUP("A",$F$10:$AF$510,D16+1) -> 34 | D16: =D15+1 -> 6 | G16: 34 | H16: 16 | I16: 3 | J16: 5 | K16: 2 | L16: 36 | M16: 15 | N16: 20 | O16: 34 | P16: 12 | Q16: 22 | R16: 23 | S16: 21 | T16: 7 | U16: 12 | V16: 29 | W16: 4 | X16: 16 | Y16: 19 | Z16: 36
A17: =A16+1 -> 7 | B17: =HLOOKUP("A",$F$10:$AF$510,D17+1) -> 0 | D17: =D16+1 -> 7 | G17: 0 | H17: 11 | I17: 32 | J17: 18 | K17: 17 | L17: 28 | M17: 26 | N17: 22 | O17: 31 | P17: 27 | Q17: 4 | R17: 18 | S17: 25 | T17: 3 | U17: 30 | V17: 30 | W17: 21 | X17: 34 | Y17: 24 | Z17: 14
A18: =A17+1 -> 8 | B18: =HLOOKUP("A",$F$10:$AF$510,D18+1) -> 8 | D18: =D17+1 -> 8 | G18: 8 | H18: 21 | I18: 26 | J18: 17 | K18: 33 | L18: 26 | M18: 33 | N18: 25 | O18: 12 | P18: 13 | Q18: 31 | R18: 26 | S18: 29 | T18: 16 | U18: 10 | V18: 24 | W18: 15 | X18: 8 | Y18: 34 | Z18: 20
A19: =A18+1 -> 9 | B19: =HLOOKUP("A",$F$10:$AF$510,D19+1) -> 17 | D19: =D18+1 -> 9 | G19: 17 | H19: 25 | I19: 1 | J19: 10 | K19: 1 | L19: 27 | M19: 2 | N19: 13 | O19: 11 | P19: 1 | Q19: 36 | R19: 32 | S19: 11 | T19: 32 | U19: 29 | V19: 28 | W19: 16 | X19: 36 | Y19: 33 | Z19: 28
A20: =A19+1 -> 10 | B20: =HLOOKUP("A",$F$10:$AF$510,D20+1) -> 9 | D20: =D19+1 -> 10 | G20: 9 | H20: 16 | I20: 0 | J20: 29 | K20: 10 | L20: 18 | M20: 23 | N20: 14 | O20: 16 | P20: 24 | Q20: 12 | R20: 29 | S20: 16 | T20: 6 | U20: 17 | V20: 6 | W20: 1 | X20: 26 | Y20: 6 | Z20: 30
A21: =A20+1 -> 11 | B21: =HLOOKUP("A",$F$10:$AF$510,D21+1) -> 21 | D21: =D20+1 -> 11 | G21: 21 | H21: 33 | I21: 28 | J21: 12 | K21: 36 | L21: 12 | M21: 30 | N21: 2 | O21: 25 | P21: 29 | Q21: 17 | R21: 7 | S21: 28 | T21: 19 | U21: 20 | V21: 30 | W21: 1 | X21: 3 | Y21: 10 | Z21: 17
A22: =A21+1 -> 12 | B22: =HLOOKUP("A",$F$10:$AF$510,D22+1) -> 32 | D22: =D21+1 -> 12 | G22: 32 | H22: 9 | I22: 21 | J22: 36 | K22: 24 | L22: 32 | M22: 18 | N22: 16 | O22: 19 | P22: 19 | Q22: 13 | R22: 25 | S22: 23 | T22: 19 | U22: 12 | V22: 26 | W22: 21 | X22: 11 | Y22: 31 | Z22: 20
A23: =A22+1 -> 13 | B23: =HLOOKUP("A",$F$10:$AF$510,D23+1) -> 19 | D23: =D22+1 -> 13 | G23: 19 | H23: 24 | I23: 22 | J23: 1 | K23: 4 | L23: 24 | M23: 14 | N23: 33 | O23: 17 | P23: 24 | Q23: 31 | R23: 0 | S23: 26 | T23: 5 | U23: 10 | V23: 4 | W23: 30 | X23: 7 | Y23: 11 | Z23: 20
... A510: =A509+1 -> 500 | B510: =HLOOKUP("A",$F$10:$AF$510,D510+1) -> 21 | D510: =D509+1 -> 500 | G510: 21 | H510: 9 | I510: 35 | J510: 5 | K510: 1 | L510: 2 | M510: 1 | N510: 33 | O510: 1 | P510: 33 | Q510: 16 | R510: 10 | S510: 36 | T510: 12 | U510: 18 | V510: 16 | W510: 16 | X510: 3 | Y510: 19 | Z510: 23

Sheet Stats
AE9: B/R | AF9: BP 1 | AI9: BP2 | AL9: BP3 | AO9: BP4 | AR9: BP5 | AU9: BP Backup
A10: SPINS | B10: NR | D10: 0 | E10: L | F10: H | G10: E | H10: O | I10: R | J10: B | K10: 1D | L10: 2D | M10: 3D | N10: C1 | O10: C2 | P10: C3 | Q10: S | R10: DS | T10: Hit | U10: No. | V10: % | X10: Hit | Y10: No. | Z10: % | AD10: 0 | AG10: W | AH10: L | AJ10: W | AK10: L | AM10: W | AN10: L
A11: 1 | B11: =Data!B11 -> 4 | D11: =IF($B11=0,0," ") | E11: =IF(AND(B11>0,B11<=18),"L"," ") -> L | F11: =IF(AND(B11>18,B11<=36),"H", " ") | G11: =IF(AND(ISEVEN(B11),B11<>0),"E"," ") -> E | H11: =IF(ISODD(B11),"O"," " ) | I11: =IF($B11=0," ",IF(INDEX(AD$11:AS$46,$B11,2)="R","R"," ")) | J11: =IF($B11=0," ",IF(INDEX(AD$11:AS$46,$B11,2)="B","B"," ")) -> B | K11: =IF(AND($B11>0,$B11<13),"1D"," ") -> 1D | L11: =IF(AND($B11>12,$B11<25),"2D"," ") | M11: =IF(AND($B11>24,$B11<37),"3D"," ") | N11: =IF(B11<>0,IF(MOD(B11,3)=1,1," ")," ") -> 1 | O11: =IF($B11<>0,IF(MOD($B11,3)=2,2," ")," ") | P11: =IF($B11<>0,IF(MOD($B11,3)=0,3," ")," ") | Q11: =IF($B11=0,0,IF(MOD($B11,3)=0,QUOTIENT($B11,3),QUOTIENT($B11,3)+1)) -> 2 | R11: =IF($B11=0,0,IF(MOD($B11,6)=0,QUOTIENT($B11,6),QUOTIENT($B11,6)+1)) -> 1 | T11: Zero | U11: =COUNTIF(D11:D510,0) -> 13 | V11: =U11/(COUNT($B$11:$B$510)) -> 0.026 | AD11: 1 | AE11: R | AF11: L | AG11: 16 | AI11: H | AJ11: 16 | AL11: 3 | AM11: 8 | AO11: =IF(MOD(AD11,12)=0,12,MOD(AD11,12)) -> 1 | AP11: 15 | AR11: =IF(MOD(AD11,6)=0,6,MOD(AD11,6)) -> 1 | AS11: 10 | AU11: L | AV11: H | AW11: 3 | AX11: 1 | AY11: 1
A12: =A11+1 -> 2 | B12: =Data!B12 -> 7 | D12: =IF($B12=0,0," ") | E12: =IF(AND(B12>0,B12<=18),"L"," ") -> L | F12: =IF(AND(B12>18,B12<=36),"H", " ") | G12: =IF(AND(ISEVEN(B12),B12<>0),"E"," ") | H12: =IF(ISODD(B12),"O"," " ) -> O | I12: =IF($B12=0," ",IF(INDEX(AD$11:AS$46,$B12,2)="R","R"," ")) -> R | J12: =IF($B12=0," ",IF(INDEX(AD$11:AS$46,$B12,2)="B","B"," ")) | K12: =IF(AND($B12>0,$B12<13),"1D"," ") -> 1D | L12: =IF(AND($B12>12,$B12<25),"2D"," ") | M12: =IF(AND($B12>24,$B12<37),"3D"," ") | N12: =IF(B12<>0,IF(MOD(B12,3)=1,1," ")," ") -> 1 | O12: =IF($B12<>0,IF(MOD($B12,3)=2,2," ")," ") | P12: =IF($B12<>0,IF(MOD($B12,3)=0,3," ")," ") | Q12: =IF($B12=0,0,IF(MOD($B12,3)=0,QUOTIENT($B12,3),QUOTIENT($B12,3)+1)) -> 3 | R12: =IF($B12=0,0,IF(MOD($B12,6)=0,QUOTIENT($B12,6),QUOTIENT($B12,6)+1)) -> 2 | AD12: 2 | AE12: B | AF12: L | AI12: H | AL12: 2 | AO12: =IF(MOD(AD12,12)=0,12,MOD(AD12,12)) -> 2 | AR12: =IF(MOD(AD12,6)=0,6,MOD(AD12,6)) -> 2 | AU12: L | AV12: H | AW12: 2 | AX12: 2 | AY12: 2
A13: =A12+1 -> 3 | B13: =Data!B13 -> 3 | D13: =IF($B13=0,0," ") | E13: =IF(AND(B13>0,B13<=18),"L"," ") -> L | F13: =IF(AND(B13>18,B13<=36),"H", " ") | G13: =IF(AND(ISEVEN(B13),B13<>0),"E"," ") | H13: =IF(ISODD(B13),"O"," " ) -> O | I13: =IF($B13=0," ",IF(INDEX(AD$11:AS$46,$B13,2)="R","R"," ")) -> R | J13: =IF($B13=0," ",IF(INDEX(AD$11:AS$46,$B13,2)="B","B"," ")) | K13: =IF(AND($B13>0,$B13<13),"1D"," ") -> 1D | L13: =IF(AND($B13>12,$B13<25),"2D"," ") | M13: =IF(AND($B13>24,$B13<37),"3D"," ") | N13: =IF(B13<>0,IF(MOD(B13,3)=1,1," ")," ") | O13: =IF($B13<>0,IF(MOD($B13,3)=2,2," ")," ") | P13: =IF($B13<>0,IF(MOD($B13,3)=0,3," ")," ") -> 3 | Q13: =IF($B13=0,0,IF(MOD($B13,3)=0,QUOTIENT($B13,3),QUOTIENT($B13,3)+1)) -> 1 | R13: =IF($B13=0,0,IF(MOD($B13,6)=0,QUOTIENT($B13,6),QUOTIENT($B13,6)+1)) -> 1 | T13: Low | U13: =COUNTIF(E11:E510,"L") -> 251 | V13: =U13/(COUNT($B$11:$B$510)) -> 0.502 | X13: Red | Y13: =COUNTIF(I11:I510,"R") -> 246 | Z13: =Y13/(COUNT($B$11:$B$510)) -> 0.492 | AD13: 3 | AE13: R | AF13: L | AI13: H | AL13: 1 | AO13: =IF(MOD(AD13,12)=0,12,MOD(AD13,12)) -> 3 | AR13: =IF(MOD(AD13,6)=0,6,MOD(AD13,6)) -> 3 | AU13: L | AV13: H | AW13: 1 | AX13: 3 | AY13: 3
A14: =A13+1 -> 4 | B14: =Data!B14 -> 24 | D14: =IF($B14=0,0," ") | E14: =IF(AND(B14>0,B14<=18),"L"," ") | F14: =IF(AND(B14>18,B14<=36),"H", " ") -> H | G14: =IF(AND(ISEVEN(B14),B14<>0),"E"," ") -> E | H14: =IF(ISODD(B14),"O"," " ) | I14: =IF($B14=0," ",IF(INDEX(AD$11:AS$46,$B14,2)="R","R"," ")) | J14: =IF($B14=0," ",IF(INDEX(AD$11:AS$46,$B14,2)="B","B"," ")) -> B | K14: =IF(AND($B14>0,$B14<13),"1D"," ") | L14: =IF(AND($B14>12,$B14<25),"2D"," ") -> 2D | M14: =IF(AND($B14>24,$B14<37),"3D"," ") | N14: =IF(B14<>0,IF(MOD(B14,3)=1,1," ")," ") | O14: =IF($B14<>0,IF(MOD($B14,3)=2,2," ")," ") | P14: =IF($B14<>0,IF(MOD($B14,3)=0,3," ")," ") -> 3 | Q14: =IF($B14=0,0,IF(MOD($B14,3)=0,QUOTIENT($B14,3),QUOTIENT($B14,3)+1)) -> 8 | R14: =IF($B14=0,0,IF(MOD($B14,6)=0,QUOTIENT($B14,6),QUOTIENT($B14,6)+1)) -> 4 | T14: High | U14: =COUNTIF(F11:F510,"H") -> 236 | V14: =U14/(COUNT($B$11:$B$510)) -> 0.472 | X14: Black | Y14: =COUNTIF(J11:J510,"B") -> 241 | Z14: =Y14/(COUNT($B$11:$B$510)) -> 0.482 | AD14: 4 | AE14: B | AF14: L | AI14: H | AL14: 3 | AO14: =IF(MOD(AD14,12)=0,12,MOD(AD14,12)) -> 4 | AR14: =IF(MOD(AD14,6)=0,6,MOD(AD14,6)) -> 4 | AU14: L | AV14: H | AW14: 3 | AX14: 4 | AY14: 4
A15: =A14+1 -> 5 | B15: =Data!B15 -> 10 | D15: =IF($B15=0,0," ") | E15: =IF(AND(B15>0,B15<=18),"L"," ") -> L | F15: =IF(AND(B15>18,B15<=36),"H", " ") | G15: =IF(AND(ISEVEN(B15),B15<>0),"E"," ") -> E | H15: =IF(ISODD(B15),"O"," " ) | I15: =IF($B15=0," ",IF(INDEX(AD$11:AS$46,$B15,2)="R","R"," ")) | J15: =IF($B15=0," ",IF(INDEX(AD$11:AS$46,$B15,2)="B","B"," ")) -> B | K15: =IF(AND($B15>0,$B15<13),"1D"," ") -> 1D | L15: =IF(AND($B15>12,$B15<25),"2D"," ") | M15: =IF(AND($B15>24,$B15<37),"3D"," ") | N15: =IF(B15<>0,IF(MOD(B15,3)=1,1," ")," ") -> 1 | O15: =IF($B15<>0,IF(MOD($B15,3)=2,2," ")," ") | P15: =IF($B15<>0,IF(MOD($B15,3)=0,3," ")," ") | Q15: =IF($B15=0,0,IF(MOD($B15,3)=0,QUOTIENT($B15,3),QUOTIENT($B15,3)+1)) -> 4 | R15: =IF($B15=0,0,IF(MOD($B15,6)=0,QUOTIENT($B15,6),QUOTIENT($B15,6)+1)) -> 2 | T15: Even | U15: =COUNTIF(G11:G510,"E") -> 235 | V15: =U15/(COUNT($B$11:$B$510)) -> 0.47 | AD15: 5 | AE15: R | AF15: L | AI15: H | AL15: 2 | AO15: =IF(MOD(AD15,12)=0,12,MOD(AD15,12)) -> 5 | AR15: =IF(MOD(AD15,6)=0,6,MOD(AD15,6)) -> 5 | AU15: L | AV15: H | AW15: 2 | AX15: 5 | AY15: 5
A16: =A15+1 -> 6 | B16: =Data!B16 -> 34 | D16: =IF($B16=0,0," ") | E16: =IF(AND(B16>0,B16<=18),"L"," ") | F16: =IF(AND(B16>18,B16<=36),"H", " ") -> H | G16: =IF(AND(ISEVEN(B16),B16<>0),"E"," ") -> E | H16: =IF(ISODD(B16),"O"," " ) | I16: =IF($B16=0," ",IF(INDEX(AD$11:AS$46,$B16,2)="R","R"," ")) -> R | J16: =IF($B16=0," ",IF(INDEX(AD$11:AS$46,$B16,2)="B","B"," ")) | K16: =IF(AND($B16>0,$B16<13),"1D"," ") | L16: =IF(AND($B16>12,$B16<25),"2D"," ") | M16: =IF(AND($B16>24,$B16<37),"3D"," ") -> 3D | N16: =IF(B16<>0,IF(MOD(B16,3)=1,1," ")," ") -> 1 | O16: =IF($B16<>0,IF(MOD($B16,3)=2,2," ")," ") | P16: =IF($B16<>0,IF(MOD($B16,3)=0,3," ")," ") | Q16: =IF($B16=0,0,IF(MOD($B16,3)=0,QUOTIENT($B16,3),QUOTIENT($B16,3)+1)) -> 12 | R16: =IF($B16=0,0,IF(MOD($B16,6)=0,QUOTIENT($B16,6),QUOTIENT($B16,6)+1)) -> 6 | T16: Odd | U16: =COUNTIF(H11:H510,"O") -> 252 | V16: =U16/(COUNT($B$11:$B$510)) -> 0.504 | AD16: 6 | AE16: B | AF16: L | AI16: H | AL16: 1 | AO16: =IF(MOD(AD16,12)=0,12,MOD(AD16,12)) -> 6 | AR16: =IF(MOD(AD16,6)=0,6,MOD(AD16,6)) -> 6 | AU16: L | AV16: H | AW16: 1 | AX16: 6 | AY16: 6
A17: =A16+1 -> 7 | B17: =Data!B17 -> 0 | D17: =IF($B17=0,0," ") -> 0 | E17: =IF(AND(B17>0,B17<=18),"L"," ") | F17: =IF(AND(B17>18,B17<=36),"H", " ") | G17: =IF(AND(ISEVEN(B17),B17<>0),"E"," ") | H17: =IF(ISODD(B17),"O"," " ) | I17: =IF($B17=0," ",IF(INDEX(AD$11:AS$46,$B17,2)="R","R"," ")) | J17: =IF($B17=0," ",IF(INDEX(AD$11:AS$46,$B17,2)="B","B"," ")) | K17: =IF(AND($B17>0,$B17<13),"1D"," ") | L17: =IF(AND($B17>12,$B17<25),"2D"," ") | M17: =IF(AND($B17>24,$B17<37),"3D"," ") | N17: =IF(B17<>0,IF(MOD(B17,3)=1,1," ")," ") | O17: =IF($B17<>0,IF(MOD($B17,3)=2,2," ")," ") | P17: =IF($B17<>0,IF(MOD($B17,3)=0,3," ")," ") | Q17: =IF($B17=0,0,IF(MOD($B17,3)=0,QUOTIENT($B17,3),QUOTIENT($B17,3)+1)) -> 0 | R17: =IF($B17=0,0,IF(MOD($B17,6)=0,QUOTIENT($B17,6),QUOTIENT($B17,6)+1)) -> 0 | AD17: 7 | AE17: R | AF17: E | AI17: O | AL17: 3 | AO17: =IF(MOD(AD17,12)=0,12,MOD(AD17,12)) -> 7 | AR17: =IF(MOD(AD17,6)=0,6,MOD(AD17,6)) -> 1 | AU17: E | AV17: O | AW17: 3 | AX17: 7 | AY17: 1
A18: =A17+1 -> 8 | B18: =Data!B18 -> 8 | D18: =IF($B18=0,0," ") | E18: =IF(AND(B18>0,B18<=18),"L"," ") -> L | F18: =IF(AND(B18>18,B18<=36),"H", " ") | G18: =IF(AND(ISEVEN(B18),B18<>0),"E"," ") -> E | H18: =IF(ISODD(B18),"O"," " ) | I18: =IF($B18=0," ",IF(INDEX(AD$11:AS$46,$B18,2)="R","R"," ")) | J18: =IF($B18=0," ",IF(INDEX(AD$11:AS$46,$B18,2)="B","B"," ")) -> B | K18: =IF(AND($B18>0,$B18<13),"1D"," ") -> 1D | L18: =IF(AND($B18>12,$B18<25),"2D"," ") | M18: =IF(AND($B18>24,$B18<37),"3D"," ") | N18: =IF(B18<>0,IF(MOD(B18,3)=1,1," ")," ") | O18: =IF($B18<>0,IF(MOD($B18,3)=2,2," ")," ") -> 2 | P18: =IF($B18<>0,IF(MOD($B18,3)=0,3," ")," ") | Q18: =IF($B18=0,0,IF(MOD($B18,3)=0,QUOTIENT($B18,3),QUOTIENT($B18,3)+1)) -> 3 | R18: =IF($B18=0,0,IF(MOD($B18,6)=0,QUOTIENT($B18,6),QUOTIENT($B18,6)+1)) -> 2 | T18: 1st Doz | U18: =COUNTIF(K11:K510,"1D") -> 167 | V18: =U18/(COUNT($B$11:$B$510)) -> 0.334 | X18: Col A | Y18: =COUNTIF(N11:N510,1) -> 161 | Z18: =Y18/(COUNT($B$11:$B$510)) -> 0.322 | AD18: 8 | AE18: B | AF18: E | AI18: O | AL18: 2 | AO18: =IF(MOD(AD18,12)=0,12,MOD(AD18,12)) -> 8 | AR18: =IF(MOD(AD18,6)=0,6,MOD(AD18,6)) -> 2 | AU18: E | AV18: O | AW18: 2 | AX18: 8 | AY18: 2
A19: =A18+1 -> 9 | B19: =Data!B19 -> 17 | D19: =IF($B19=0,0," ") | E19: =IF(AND(B19>0,B19<=18),"L"," ") -> L | F19: =IF(AND(B19>18,B19<=36),"H", " ") | G19: =IF(AND(ISEVEN(B19),B19<>0),"E"," ") | H19: =IF(ISODD(B19),"O"," " ) -> O | I19: =IF($B19=0," ",IF(INDEX(AD$11:AS$46,$B19,2)="R","R"," ")) | J19: =IF($B19=0," ",IF(INDEX(AD$11:AS$46,$B19,2)="B","B"," ")) -> B | K19: =IF(AND($B19>0,$B19<13),"1D"," ") | L19: =IF(AND($B19>12,$B19<25),"2D"," ") -> 2D | M19: =IF(AND($B19>24,$B19<37),"3D"," ") | N19: =IF(B19<>0,IF(MOD(B19,3)=1,1," ")," ") | O19: =IF($B19<>0,IF(MOD($B19,3)=2,2," ")," ") -> 2 | P19: =IF($B19<>0,IF(MOD($B19,3)=0,3," ")," ") | Q19: =IF($B19=0,0,IF(MOD($B19,3)=0,QUOTIENT($B19,3),QUOTIENT($B19,3)+1)) -> 6 | R19: =IF($B19=0,0,IF(MOD($B19,6)=0,QUOTIENT($B19,6),QUOTIENT($B19,6)+1)) -> 3 | T19: 2nd Doz | U19: =COUNTIF(L11:L510,"2D") -> 180 | V19: =U19/(COUNT($B$11:$B$510)) -> 0.36 | X19: Col B | Y19: =COUNTIF(O11:O510,2) -> 160 | Z19: =Y19/(COUNT($B$11:$B$510)) -> 0.32 | AD19: 9 | AE19: R | AF19: E | AI19: O | AL19: 1 | AO19: =IF(MOD(AD19,12)=0,12,MOD(AD19,12)) -> 9 | AR19: =IF(MOD(AD19,6)=0,6,MOD(AD19,6)) -> 3 | AU19: E | AV19: O | AW19: 1 | AX19: 9 | AY19: 3
A20: =A19+1 -> 10 | B20: =Data!B20 -> 9 | D20: =IF($B20=0,0," ") | E20: =IF(AND(B20>0,B20<=18),"L"," ") -> L | F20: =IF(AND(B20>18,B20<=36),"H", " ") | G20: =IF(AND(ISEVEN(B20),B20<>0),"E"," ") | H20: =IF(ISODD(B20),"O"," " ) -> O | I20: =IF($B20=0," ",IF(INDEX(AD$11:AS$46,$B20,2)="R","R"," ")) -> R | J20: =IF($B20=0," ",IF(INDEX(AD$11:AS$46,$B20,2)="B","B"," ")) | K20: =IF(AND($B20>0,$B20<13),"1D"," ") -> 1D | L20: =IF(AND($B20>12,$B20<25),"2D"," ") | M20: =IF(AND($B20>24,$B20<37),"3D"," ") | N20: =IF(B20<>0,IF(MOD(B20,3)=1,1," ")," ") | O20: =IF($B20<>0,IF(MOD($B20,3)=2,2," ")," ") | P20: =IF($B20<>0,IF(MOD($B20,3)=0,3," ")," ") -> 3 | Q20: =IF($B20=0,0,IF(MOD($B20,3)=0,QUOTIENT($B20,3),QUOTIENT($B20,3)+1)) -> 3 | R20: =IF($B20=0,0,IF(MOD($B20,6)=0,QUOTIENT($B20,6),QUOTIENT($B20,6)+1)) -> 2 | T20: 3rd Doz | U20: =COUNTIF(M11:M510,"3D") -> 140 | V20: =U20/(COUNT($B$11:$B$510)) -> 0.28 | X20: Col C | Y20: =COUNTIF(P11:P510,3) -> 166 | Z20: =Y20/(COUNT($B$11:$B$510)) -> 0.332 | AD20: 10 | AE20: B | AF20: E | AI20: O | AL20: 3 | AO20: =IF(MOD(AD20,12)=0,12,MOD(AD20,12)) -> 10 | AR20: =IF(MOD(AD20,6)=0,6,MOD(AD20,6)) -> 4 | AU20: E | AV20: O | AW20: 3 | AX20: 10 | AY20: 4
A21: =A20+1 -> 11 | B21: =Data!B21 -> 21 | D21: =IF($B21=0,0," ") | E21: =IF(AND(B21>0,B21<=18),"L"," ") | F21: =IF(AND(B21>18,B21<=36),"H", " ") -> H | G21: =IF(AND(ISEVEN(B21),B21<>0),"E"," ") | H21: =IF(ISODD(B21),"O"," " ) -> O | I21: =IF($B21=0," ",IF(INDEX(AD$11:AS$46,$B21,2)="R","R"," ")) -> R | J21: =IF($B21=0," ",IF(INDEX(AD$11:AS$46,$B21,2)="B","B"," ")) | K21: =IF(AND($B21>0,$B21<13),"1D"," ") | L21: =IF(AND($B21>12,$B21<25),"2D"," ") -> 2D | M21: =IF(AND($B21>24,$B21<37),"3D"," ") | N21: =IF(B21<>0,IF(MOD(B21,3)=1,1," ")," ") | O21: =IF($B21<>0,IF(MOD($B21,3)=2,2," ")," ") | P21: =IF($B21<>0,IF(MOD($B21,3)=0,3," ")," ") -> 3 | Q21: =IF($B21=0,0,IF(MOD($B21,3)=0,QUOTIENT($B21,3),QUOTIENT($B21,3)+1)) -> 7 | R21: =IF($B21=0,0,IF(MOD($B21,6)=0,QUOTIENT($B21,6),QUOTIENT($B21,6)+1)) -> 4 | AD21: 11 | AE21: B | AF21: E | AI21: O | AL21: 2 | AO21: =IF(MOD(AD21,12)=0,12,MOD(AD21,12)) -> 11 | AR21: =IF(MOD(AD21,6)=0,6,MOD(AD21,6)) -> 5 | AU21: E | AV21: O | AW21: 2 | AX21: 11 | AY21: 5
A22: =A21+1 -> 12 | B22: =Data!B22 -> 32 | D22: =IF($B22=0,0," ") | E22: =IF(AND(B22>0,B22<=18),"L"," ") | F22: =IF(AND(B22>18,B22<=36),"H", " ") -> H | G22: =IF(AND(ISEVEN(B22),B22<>0),"E"," ") -> E | H22: =IF(ISODD(B22),"O"," " ) | I22: =IF($B22=0," ",IF(INDEX(AD$11:AS$46,$B22,2)="R","R"," ")) -> R | J22: =IF($B22=0," ",IF(INDEX(AD$11:AS$46,$B22,2)="B","B"," ")) | K22: =IF(AND($B22>0,$B22<13),"1D"," ") | L22: =IF(AND($B22>12,$B22<25),"2D"," ") | M22: =IF(AND($B22>24,$B22<37),"3D"," ") -> 3D | N22: =IF(B22<>0,IF(MOD(B22,3)=1,1," ")," ") | O22: =IF($B22<>0,IF(MOD($B22,3)=2,2," ")," ") -> 2 | P22: =IF($B22<>0,IF(MOD($B22,3)=0,3," ")," ") | Q22: =IF($B22=0,0,IF(MOD($B22,3)=0,QUOTIENT($B22,3),QUOTIENT($B22,3)+1)) -> 11 | R22: =IF($B22=0,0,IF(MOD($B22,6)=0,QUOTIENT($B22,6),QUOTIENT($B22,6)+1)) -> 6 | T22: DS 1 | U22: =COUNTIF($R$11:$R$510,1) -> 76 | V22: =U22/(COUNT($B$11:$B$510)) -> 0.152 | X22: DS 4 | Y22: =COUNTIF($R$11:$R$510,4) -> 96 | Z22: =Y22/(COUNT($B$11:$B$510)) -> 0.192 | AD22: 12 | AE22: R | AF22: E | AI22: O | AL22: 1 | AO22: =IF(MOD(AD22,12)=0,12,MOD(AD22,12)) -> 12 | AR22: =IF(MOD(AD22,6)=0,6,MOD(AD22,6)) -> 6 | AU22: E | AV22: O | AW22: 1 | AX22: 12 | AY22: 6
A23: =A22+1 -> 13 | B23: =Data!B23 -> 19 | D23: =IF($B23=0,0," ") | E23: =IF(AND(B23>0,B23<=18),"L"," ") | F23: =IF(AND(B23>18,B23<=36),"H", " ") -> H | G23: =IF(AND(ISEVEN(B23),B23<>0),"E"," ") | H23: =IF(ISODD(B23),"O"," " ) -> O | I23: =IF($B23=0," ",IF(INDEX(AD$11:AS$46,$B23,2)="R","R"," ")) -> R | J23: =IF($B23=0," ",IF(INDEX(AD$11:AS$46,$B23,2)="B","B"," ")) | K23: =IF(AND($B23>0,$B23<13),"1D"," ") | L23: =IF(AND($B23>12,$B23<25),"2D"," ") -> 2D | M23: =IF(AND($B23>24,$B23<37),"3D"," ") | N23: =IF(B23<>0,IF(MOD(B23,3)=1,1," ")," ") -> 1 | O23: =IF($B23<>0,IF(MOD($B23,3)=2,2," ")," ") | P23: =IF($B23<>0,IF(MOD($B23,3)=0,3," ")," ") | Q23: =IF($B23=0,0,IF(MOD($B23,3)=0,QUOTIENT($B23,3),QUOTIENT($B23,3)+1)) -> 7 | R23: =IF($B23=0,0,IF(MOD($B23,6)=0,QUOTIENT($B23,6),QUOTIENT($B23,6)+1)) -> 4 | T23: DS 2 | U23: =COUNTIF($R$11:$R$510,2) -> 91 | V23: =U23/(COUNT($B$11:$B$510)) -> 0.182 | X23: DS 5 | Y23: =COUNTIF($R$11:$R$510,5) -> 64 | Z23: =Y23/(COUNT($B$11:$B$510)) -> 0.128 | AD23: 13 | AE23: B | AF23: R | AI23: B | AL23: 3 | AO23: =IF(MOD(AD23,12)=0,12,MOD(AD23,12)) -> 1 | AR23: =IF(MOD(AD23,6)=0,6,MOD(AD23,6)) -> 1 | AU23: R | AV23: B | AW23: 3 | AX23: 1 | AY23: 1
A24: =A23+1 -> 14 | B24: =Data!B24 -> 22 | D24: =IF($B24=0,0," ") | E24: =IF(AND(B24>0,B24<=18),"L"," ") | F24: =IF(AND(B24>18,B24<=36),"H", " ") -> H | G24: =IF(AND(ISEVEN(B24),B24<>0),"E"," ") -> E | H24: =IF(ISODD(B24),"O"," " ) | I24: =IF($B24=0," ",IF(INDEX(AD$11:AS$46,$B24,2)="R","R"," ")) | J24: =IF($B24=0," ",IF(INDEX(AD$11:AS$46,$B24,2)="B","B"," ")) -> B | K24: =IF(AND($B24>0,$B24<13),"1D"," ") | L24: =IF(AND($B24>12,$B24<25),"2D"," ") -> 2D | M24: =IF(AND($B24>24,$B24<37),"3D"," ") | N24: =IF(B24<>0,IF(MOD(B24,3)=1,1," ")," ") -> 1 | O24: =IF($B24<>0,IF(MOD($B24,3)=2,2," ")," ") | P24: =IF($B24<>0,IF(MOD($B24,3)=0,3," ")," ") | Q24: =IF($B24=0,0,IF(MOD($B24,3)=0,QUOTIENT($B24,3),QUOTIENT($B24,3)+1)) -> 8 | R24: =IF($B24=0,0,IF(MOD($B24,6)=0,QUOTIENT($B24,6),QUOTIENT($B24,6)+1)) -> 4 | T24: DS 3 | U24: =COUNTIF($R$11:$R$510,3) -> 84 | V24: =U24/(COUNT($B$11:$B$510)) -> 0.168 | X24: DS 6 | Y24: =COUNTIF($R$11:$R$510,6) -> 76 | Z24: =Y24/(COUNT($B$11:$B$510)) -> 0.152 | AD24: 14 | AE24: R | AF24: R | AI24: B | AL24: 2 | AO24: =IF(MOD(AD24,12)=0,12,MOD(AD24,12)) -> 2 | AR24: =IF(MOD(AD24,6)=0,6,MOD(AD24,6)) -> 2 | AU24: R | AV24: B | AW24: 2 | AX24: 2 | AY24: 2
A25: =A24+1 -> 15 | B25: =Data!B25 -> 10 | D25: =IF($B25=0,0," ") | E25: =IF(AND(B25>0,B25<=18),"L"," ") -> L | F25: =IF(AND(B25>18,B25<=36),"H", " ") | G25: =IF(AND(ISEVEN(B25),B25<>0),"E"," ") -> E | H25: =IF(ISODD(B25),"O"," " ) | I25: =IF($B25=0," ",IF(INDEX(AD$11:AS$46,$B25,2)="R","R"," ")) | J25: =IF($B25=0," ",IF(INDEX(AD$11:AS$46,$B25,2)="B","B"," ")) -> B | K25: =IF(AND($B25>0,$B25<13),"1D"," ") -> 1D | L25: =IF(AND($B25>12,$B25<25),"2D"," ") | M25: =IF(AND($B25>24,$B25<37),"3D"," ") | N25: =IF(B25<>0,IF(MOD(B25,3)=1,1," ")," ") -> 1 | O25: =IF($B25<>0,IF(MOD($B25,3)=2,2," ")," ") | P25: =IF($B25<>0,IF(MOD($B25,3)=0,3," ")," ") | Q25: =IF($B25=0,0,IF(MOD($B25,3)=0,QUOTIENT($B25,3),QUOTIENT($B25,3)+1)) -> 4 | R25: =IF($B25=0,0,IF(MOD($B25,6)=0,QUOTIENT($B25,6),QUOTIENT($B25,6)+1)) -> 2 | AD25: 15 | AE25: B | AF25: R | AI25: B | AL25: 1 | AO25: =IF(MOD(AD25,12)=0,12,MOD(AD25,12)) -> 3 | AR25: =IF(MOD(AD25,6)=0,6,MOD(AD25,6)) -> 3 | AU25: R | AV25: B | AW25: 1 | AX25: 3 | AY25: 3
A26: =A25+1 -> 16 | B26: =Data!B26 -> 21 | D26: =IF($B26=0,0," ") | E26: =IF(AND(B26>0,B26<=18),"L"," ") | F26: =IF(AND(B26>18,B26<=36),"H", " ") -> H | G26: =IF(AND(ISEVEN(B26),B26<>0),"E"," ") | H26: =IF(ISODD(B26),"O"," " ) -> O | I26: =IF($B26=0," ",IF(INDEX(AD$11:AS$46,$B26,2)="R","R"," ")) -> R | J26: =IF($B26=0," ",IF(INDEX(AD$11:AS$46,$B26,2)="B","B"," ")) | K26: =IF(AND($B26>0,$B26<13),"1D"," ") | L26: =IF(AND($B26>12,$B26<25),"2D"," ") -> 2D | M26: =IF(AND($B26>24,$B26<37),"3D"," ") | N26: =IF(B26<>0,IF(MOD(B26,3)=1,1," ")," ") | O26: =IF($B26<>0,IF(MOD($B26,3)=2,2," ")," ") | P26: =IF($B26<>0,IF(MOD($B26,3)=0,3," ")," ") -> 3 | Q26: =IF($B26=0,0,IF(MOD($B26,3)=0,QUOTIENT($B26,3),QUOTIENT($B26,3)+1)) -> 7 | R26: =IF($B26=0,0,IF(MOD($B26,6)=0,QUOTIENT($B26,6),QUOTIENT($B26,6)+1)) -> 4 | T26: Street 1 | U26: =COUNTIF($Q$11:$Q$510,1) -> 33 | V26: =U26/(COUNT($B$11:$B$510)) -> 0.066 | X26: Street 7 | Y26: =COUNTIF($Q$11:$Q$510,7) -> 47 | Z26: =Y26/(COUNT($B$11:$B$510)) -> 0.094 | AD26: 16 | AE26: R | AF26: R | AI26: B | AL26: 3 | AO26: =IF(MOD(AD26,12)=0,12,MOD(AD26,12)) -> 4 | AR26: =IF(MOD(AD26,6)=0,6,MOD(AD26,6)) -> 4 | AU26: R | AV26: B | AW26: 3 | AX26: 4 | AY26: 4
A27: =A26+1 -> 17 | B27: =Data!B27 -> 4 | D27: =IF($B27=0,0," ") | E27: =IF(AND(B27>0,B27<=18),"L"," ") -> L | F27: =IF(AND(B27>18,B27<=36),"H", " ") | G27: =IF(AND(ISEVEN(B27),B27<>0),"E"," ") -> E | H27: =IF(ISODD(B27),"O"," " ) | I27: =IF($B27=0," ",IF(INDEX(AD$11:AS$46,$B27,2)="R","R"," ")) | J27: =IF($B27=0," ",IF(INDEX(AD$11:AS$46,$B27,2)="B","B"," ")) -> B | K27: =IF(AND($B27>0,$B27<13),"1D"," ") -> 1D | L27: =IF(AND($B27>12,$B27<25),"2D"," ") | M27: =IF(AND($B27>24,$B27<37),"3D"," ") | N27: =IF(B27<>0,IF(MOD(B27,3)=1,1," ")," ") -> 1 | O27: =IF($B27<>0,IF(MOD($B27,3)=2,2," ")," ") | P27: =IF($B27<>0,IF(MOD($B27,3)=0,3," ")," ") | Q27: =IF($B27=0,0,IF(MOD($B27,3)=0,QUOTIENT($B27,3),QUOTIENT($B27,3)+1)) -> 2 | R27: =IF($B27=0,0,IF(MOD($B27,6)=0,QUOTIENT($B27,6),QUOTIENT($B27,6)+1)) -> 1 | T27: Street 2 | U27: =COUNTIF($Q$11:$Q$510,2) -> 43 | V27: =U27/(COUNT($B$11:$B$510)) -> 0.086 | X27: Street 8 | Y27: =COUNTIF($Q$11:$Q$510,8) -> 49 | Z27: =Y27/(COUNT($B$11:$B$510)) -> 0.098 | AD27: 17 | AE27: B | AF27: R | AI27: B | AL27: 2 | AO27: =IF(MOD(AD27,12)=0,12,MOD(AD27,12)) -> 5 | AR27: =IF(MOD(AD27,6)=0,6,MOD(AD27,6)) -> 5 | AU27: R | AV27: B | AW27: 2 | AX27: 5 | AY27: 5
A28: =A27+1 -> 18 | B28: =Data!B28 -> 18 | D28: =IF($B28=0,0," ") | E28: =IF(AND(B28>0,B28<=18),"L"," ") -> L | F28: =IF(AND(B28>18,B28<=36),"H", " ") | G28: =IF(AND(ISEVEN(B28),B28<>0),"E"," ") -> E | H28: =IF(ISODD(B28),"O"," " ) | I28: =IF($B28=0," ",IF(INDEX(AD$11:AS$46,$B28,2)="R","R"," ")) -> R | J28: =IF($B28=0," ",IF(INDEX(AD$11:AS$46,$B28,2)="B","B"," ")) | K28: =IF(AND($B28>0,$B28<13),"1D"," ") | L28: =IF(AND($B28>12,$B28<25),"2D"," ") -> 2D | M28: =IF(AND($B28>24,$B28<37),"3D"," ") | N28: =IF(B28<>0,IF(MOD(B28,3)=1,1," ")," ") | O28: =IF($B28<>0,IF(MOD($B28,3)=2,2," ")," ") | P28: =IF($B28<>0,IF(MOD($B28,3)=0,3," ")," ") -> 3 | Q28: =IF($B28=0,0,IF(MOD($B28,3)=0,QUOTIENT($B28,3),QUOTIENT($B28,3)+1)) -> 6 | R28: =IF($B28=0,0,IF(MOD($B28,6)=0,QUOTIENT($B28,6),QUOTIENT($B28,6)+1)) -> 3 | T28: Street 3 | U28: =COUNTIF($Q$11:$Q$510,3) -> 54 | V28: =U28/(COUNT($B$11:$B$510)) -> 0.108 | X28: Street 9 | Y28: =COUNTIF($Q$11:$Q$510,9) -> 33 | Z28: =Y28/(COUNT($B$11:$B$510)) -> 0.066 | AD28: 18 | AE28: R | AF28: R | AI28: B | AL28: 1 | AO28: =IF(MOD(AD28,12)=0,12,MOD(AD28,12)) -> 6 | AR28: =IF(MOD(AD28,6)=0,6,MOD(AD28,6)) -> 6 | AU28: R | AV28: B | AW28: 1 | AX28: 6 | AY28: 6
A29: =A28+1 -> 19 | B29: =Data!B29 -> 1 | D29: =IF($B29=0,0," ") | E29: =IF(AND(B29>0,B29<=18),"L"," ") -> L | F29: =IF(AND(B29>18,B29<=36),"H", " ") | G29: =IF(AND(ISEVEN(B29),B29<>0),"E"," ") | H29: =IF(ISODD(B29),"O"," " ) -> O | I29: =IF($B29=0," ",IF(INDEX(AD$11:AS$46,$B29,2)="R","R"," ")) -> R | J29: =IF($B29=0," ",IF(INDEX(AD$11:AS$46,$B29,2)="B","B"," ")) | K29: =IF(AND($B29>0,$B29<13),"1D"," ") -> 1D | L29: =IF(AND($B29>12,$B29<25),"2D"," ") | M29: =IF(AND($B29>24,$B29<37),"3D"," ") | N29: =IF(B29<>0,IF(MOD(B29,3)=1,1," ")," ") -> 1 | O29: =IF($B29<>0,IF(MOD($B29,3)=2,2," ")," ") | P29: =IF($B29<>0,IF(MOD($B29,3)=0,3," ")," ") | Q29: =IF($B29=0,0,IF(MOD($B29,3)=0,QUOTIENT($B29,3),QUOTIENT($B29,3)+1)) -> 1 | R29: =IF($B29=0,0,IF(MOD($B29,6)=0,QUOTIENT($B29,6),QUOTIENT($B29,6)+1)) -> 1 | T29: Street 4 | U29: =COUNTIF($Q$11:$Q$510,4) -> 37 | V29: =U29/(COUNT($B$11:$B$510)) -> 0.074 | X29: Street 10 | Y29: =COUNTIF($Q$11:$Q$510,10) -> 31 | Z29: =Y29/(COUNT($B$11:$B$510)) -> 0.062 | AD29: 19 | AE29: R | AF29: B | AI29: R | AL29: 3 | AO29: =IF(MOD(AD29,12)=0,12,MOD(AD29,12)) -> 7 | AR29: =IF(MOD(AD29,6)=0,6,MOD(AD29,6)) -> 1 | AU29: B | AV29: R | AW29: 3 | AX29: 7 | AY29: 1
A30: =A29+1 -> 20 | B30: =Data!B30 -> 4 | D30: =IF($B30=0,0," ") | E30: =IF(AND(B30>0,B30<=18),"L"," ") -> L | F30: =IF(AND(B30>18,B30<=36),"H", " ") | G30: =IF(AND(ISEVEN(B30),B30<>0),"E"," ") -> E | H30: =IF(ISODD(B30),"O"," " ) | I30: =IF($B30=0," ",IF(INDEX(AD$11:AS$46,$B30,2)="R","R"," ")) | J30: =IF($B30=0," ",IF(INDEX(AD$11:AS$46,$B30,2)="B","B"," ")) -> B | K30: =IF(AND($B30>0,$B30<13),"1D"," ") -> 1D | L30: =IF(AND($B30>12,$B30<25),"2D"," ") | M30: =IF(AND($B30>24,$B30<37),"3D"," ") | N30: =IF(B30<>0,IF(MOD(B30,3)=1,1," ")," ") -> 1 | O30: =IF($B30<>0,IF(MOD($B30,3)=2,2," ")," ") | P30: =IF($B30<>0,IF(MOD($B30,3)=0,3," ")," ") | Q30: =IF($B30=0,0,IF(MOD($B30,3)=0,QUOTIENT($B30,3),QUOTIENT($B30,3)+1)) -> 2 | R30: =IF($B30=0,0,IF(MOD($B30,6)=0,QUOTIENT($B30,6),QUOTIENT($B30,6)+1)) -> 1 | T30: Street 5 | U30: =COUNTIF($Q$11:$Q$510,5) -> 42 | V30: =U30/(COUNT($B$11:$B$510)) -> 0.084 | X30: Street 11 | Y30: =COUNTIF($Q$11:$Q$510,11) -> 41 | Z30: =Y30/(COUNT($B$11:$B$510)) -> 0.082 | AD30: 20 | AE30: B | AF30: B | AI30: R | AL30: 2 | AO30: =IF(MOD(AD30,12)=0,12,MOD(AD30,12)) -> 8 | AR30: =IF(MOD(AD30,6)=0,6,MOD(AD30,6)) -> 2 | AU30: B | AV30: R | AW30: 2 | AX30: 8 | AY30: 2
A31: =A30+1 -> 21 | B31: =Data!B31 -> 2 | D31: =IF($B31=0,0," ") | E31: =IF(AND(B31>0,B31<=18),"L"," ") -> L | F31: =IF(AND(B31>18,B31<=36),"H", " ") | G31: =IF(AND(ISEVEN(B31),B31<>0),"E"," ") -> E | H31: =IF(ISODD(B31),"O"," " ) | I31: =IF($B31=0," ",IF(INDEX(AD$11:AS$46,$B31,2)="R","R"," ")) | J31: =IF($B31=0," ",IF(INDEX(AD$11:AS$46,$B31,2)="B","B"," ")) -> B | K31: =IF(AND($B31>0,$B31<13),"1D"," ") -> 1D | L31: =IF(AND($B31>12,$B31<25),"2D"," ") | M31: =IF(AND($B31>24,$B31<37),"3D"," ") | N31: =IF(B31<>0,IF(MOD(B31,3)=1,1," ")," ") | O31: =IF($B31<>0,IF(MOD($B31,3)=2,2," ")," ") -> 2 | P31: =IF($B31<>0,IF(MOD($B31,3)=0,3," ")," ") | Q31: =IF($B31=0,0,IF(MOD($B31,3)=0,QUOTIENT($B31,3),QUOTIENT($B31,3)+1)) -> 1 | R31: =IF($B31=0,0,IF(MOD($B31,6)=0,QUOTIENT($B31,6),QUOTIENT($B31,6)+1)) -> 1 | T31: Street 6 | U31: =COUNTIF($Q$11:$Q$510,6) -> 42 | V31: =U31/(COUNT($B$11:$B$510)) -> 0.084 | X31: Street 12 | Y31: =COUNTIF($Q$11:$Q$510,12) -> 35 | Z31: =Y31/(COUNT($B$11:$B$510)) -> 0.07 | AD31: 21 | AE31: R | AF31: B | AI31: R | AL31: 1 | AO31: =IF(MOD(AD31,12)=0,12,MOD(AD31,12)) -> 9 | AR31: =IF(MOD(AD31,6)=0,6,MOD(AD31,6)) -> 3 | AU31: B | AV31: R | AW31: 1 | AX31: 9 | AY31: 3
A32: =A31+1 -> 22 | B32: =Data!B32 -> 34 | D32: =IF($B32=0,0," ") | E32: =IF(AND(B32>0,B32<=18),"L"," ") | F32: =IF(AND(B32>18,B32<=36),"H", " ") -> H | G32: =IF(AND(ISEVEN(B32),B32<>0),"E"," ") -> E | H32: =IF(ISODD(B32),"O"," " ) | I32: =IF($B32=0," ",IF(INDEX(AD$11:AS$46,$B32,2)="R","R"," ")) -> R | J32: =IF($B32=0," ",IF(INDEX(AD$11:AS$46,$B32,2)="B","B"," ")) | K32: =IF(AND($B32>0,$B32<13),"1D"," ") | L32: =IF(AND($B32>12,$B32<25),"2D"," ") | M32: =IF(AND($B32>24,$B32<37),"3D"," ") -> 3D | N32: =IF(B32<>0,IF(MOD(B32,3)=1,1," ")," ") -> 1 | O32: =IF($B32<>0,IF(MOD($B32,3)=2,2," ")," ") | P32: =IF($B32<>0,IF(MOD($B32,3)=0,3," ")," ") | Q32: =IF($B32=0,0,IF(MOD($B32,3)=0,QUOTIENT($B32,3),QUOTIENT($B32,3)+1)) -> 12 | R32: =IF($B32=0,0,IF(MOD($B32,6)=0,QUOTIENT($B32,6),QUOTIENT($B32,6)+1)) -> 6 | AD32: 22 | AE32: B | AF32: B | AI32: R | AL32: 3 | AO32: =IF(MOD(AD32,12)=0,12,MOD(AD32,12)) -> 10 | AR32: =IF(MOD(AD32,6)=0,6,MOD(AD32,6)) -> 4 | AU32: B | AV32: R | AW32: 3 | AX32: 10 | AY32: 4
A33: =A32+1 -> 23 | B33: =Data!B33 -> 15 | D33: =IF($B33=0,0," ") | E33: =IF(AND(B33>0,B33<=18),"L"," ") -> L | F33: =IF(AND(B33>18,B33<=36),"H", " ") | G33: =IF(AND(ISEVEN(B33),B33<>0),"E"," ") | H33: =IF(ISODD(B33),"O"," " ) -> O | I33: =IF($B33=0," ",IF(INDEX(AD$11:AS$46,$B33,2)="R","R"," ")) | J33: =IF($B33=0," ",IF(INDEX(AD$11:AS$46,$B33,2)="B","B"," ")) -> B | K33: =IF(AND($B33>0,$B33<13),"1D"," ") | L33: =IF(AND($B33>12,$B33<25),"2D"," ") -> 2D | M33: =IF(AND($B33>24,$B33<37),"3D"," ") | N33: =IF(B33<>0,IF(MOD(B33,3)=1,1," ")," ") | O33: =IF($B33<>0,IF(MOD($B33,3)=2,2," ")," ") | P33: =IF($B33<>0,IF(MOD($B33,3)=0,3," ")," ") -> 3 | Q33: =IF($B33=0,0,IF(MOD($B33,3)=0,QUOTIENT($B33,3),QUOTIENT($B33,3)+1)) -> 5 | R33: =IF($B33=0,0,IF(MOD($B33,6)=0,QUOTIENT($B33,6),QUOTIENT($B33,6)+1)) -> 3 | T33: No. 0 | U33: =COUNTIF($B$11:$B$510,0) -> 13 | V33: =U33/(COUNT($B$11:$B$510)) -> 0.026 | AD33: 23 | AE33: R | AF33: B | AI33: R | AL33: 2 | AO33: =IF(MOD(AD33,12)=0,12,MOD(AD33,12)) -> 11 | AR33: =IF(MOD(AD33,6)=0,6,MOD(AD33,6)) -> 5 | AU33: B | AV33: R | AW33: 2 | AX33: 11 | AY33: 5
A34: =A33+1 -> 24 | B34: =Data!B34 -> 34 | D34: =IF($B34=0,0," ") | E34: =IF(AND(B34>0,B34<=18),"L"," ") | F34: =IF(AND(B34>18,B34<=36),"H", " ") -> H | G34: =IF(AND(ISEVEN(B34),B34<>0),"E"," ") -> E | H34: =IF(ISODD(B34),"O"," " ) | I34: =IF($B34=0," ",IF(INDEX(AD$11:AS$46,$B34,2)="R","R"," ")) -> R | J34: =IF($B34=0," ",IF(INDEX(AD$11:AS$46,$B34,2)="B","B"," ")) | K34: =IF(AND($B34>0,$B34<13),"1D"," ") | L34: =IF(AND($B34>12,$B34<25),"2D"," ") | M34: =IF(AND($B34>24,$B34<37),"3D"," ") -> 3D | N34: =IF(B34<>0,IF(MOD(B34,3)=1,1," ")," ") -> 1 | O34: =IF($B34<>0,IF(MOD($B34,3)=2,2," ")," ") | P34: =IF($B34<>0,IF(MOD($B34,3)=0,3," ")," ") | Q34: =IF($B34=0,0,IF(MOD($B34,3)=0,QUOTIENT($B34,3),QUOTIENT($B34,3)+1)) -> 12 | R34: =IF($B34=0,0,IF(MOD($B34,6)=0,QUOTIENT($B34,6),QUOTIENT($B34,6)+1)) -> 6 | T34: No. 1 | U34: =COUNTIF($B$11:$B$510,1) -> 9 | V34: =U34/(COUNT($B$11:$B$510)) -> 0.018 | X34: No. 19 | Y34: =COUNTIF($B$11:$B$510,19) -> 16 | Z34: =Y34/(COUNT($B$11:$B$510)) -> 0.032 | AD34: 24 | AE34: B | AF34: B | AI34: R | AL34: 1 | AO34: =IF(MOD(AD34,12)=0,12,MOD(AD34,12)) -> 12 | AR34: =IF(MOD(AD34,6)=0,6,MOD(AD34,6)) -> 6 | AU34: B | AV34: R | AW34: 1 | AX34: 12 | AY34: 6
A35: =A34+1 -> 25 | B35: =Data!B35 -> 0 | D35: =IF($B35=0,0," ") -> 0 | E35: =IF(AND(B35>0,B35<=18),"L"," ") | F35: =IF(AND(B35>18,B35<=36),"H", " ") | G35: =IF(AND(ISEVEN(B35),B35<>0),"E"," ") | H35: =IF(ISODD(B35),"O"," " ) | I35: =IF($B35=0," ",IF(INDEX(AD$11:AS$46,$B35,2)="R","R"," ")) | J35: =IF($B35=0," ",IF(INDEX(AD$11:AS$46,$B35,2)="B","B"," ")) | K35: =IF(AND($B35>0,$B35<13),"1D"," ") | L35: =IF(AND($B35>12,$B35<25),"2D"," ") | M35: =IF(AND($B35>24,$B35<37),"3D"," ") | N35: =IF(B35<>0,IF(MOD(B35,3)=1,1," ")," ") | O35: =IF($B35<>0,IF(MOD($B35,3)=2,2," ")," ") | P35: =IF($B35<>0,IF(MOD($B35,3)=0,3," ")," ") | Q35: =IF($B35=0,0,IF(MOD($B35,3)=0,QUOTIENT($B35,3),QUOTIENT($B35,3)+1)) -> 0 | R35: =IF($B35=0,0,IF(MOD($B35,6)=0,QUOTIENT($B35,6),QUOTIENT($B35,6)+1)) -> 0 | T35: No. 2 | U35: =COUNTIF($B$11:$B$510,2) -> 10 | V35: =U35/(COUNT($B$11:$B$510)) -> 0.02 | X35: No. 20 | Y35: =COUNTIF($B$11:$B$510,20) -> 12 | Z35: =Y35/(COUNT($B$11:$B$510)) -> 0.024 | AD35: 25 | AE35: R | AF35: O | AI35: E | AL35: 3 | AO35: =IF(MOD(AD35,12)=0,12,MOD(AD35,12)) -> 1 | AR35: =IF(MOD(AD35,6)=0,6,MOD(AD35,6)) -> 1 | AU35: O | AV35: E | AW35: 3 | AX35: 1 | AY35: 1
A36: =A35+1 -> 26 | B36: =Data!B36 -> 29 | D36: =IF($B36=0,0," ") | E36: =IF(AND(B36>0,B36<=18),"L"," ") | F36: =IF(AND(B36>18,B36<=36),"H", " ") -> H | G36: =IF(AND(ISEVEN(B36),B36<>0),"E"," ") | H36: =IF(ISODD(B36),"O"," " ) -> O | I36: =IF($B36=0," ",IF(INDEX(AD$11:AS$46,$B36,2)="R","R"," ")) | J36: =IF($B36=0," ",IF(INDEX(AD$11:AS$46,$B36,2)="B","B"," ")) -> B | K36: =IF(AND($B36>0,$B36<13),"1D"," ") | L36: =IF(AND($B36>12,$B36<25),"2D"," ") | M36: =IF(AND($B36>24,$B36<37),"3D"," ") -> 3D | N36: =IF(B36<>0,IF(MOD(B36,3)=1,1," ")," ") | O36: =IF($B36<>0,IF(MOD($B36,3)=2,2," ")," ") -> 2 | P36: =IF($B36<>0,IF(MOD($B36,3)=0,3," ")," ") | Q36: =IF($B36=0,0,IF(MOD($B36,3)=0,QUOTIENT($B36,3),QUOTIENT($B36,3)+1)) -> 10 | R36: =IF($B36=0,0,IF(MOD($B36,6)=0,QUOTIENT($B36,6),QUOTIENT($B36,6)+1)) -> 5 | T36: No. 3 | U36: =COUNTIF($B$11:$B$510,3) -> 14 | V36: =U36/(COUNT($B$11:$B$510)) -> 0.028 | X36: No. 21 | Y36: =COUNTIF($B$11:$B$510,21) -> 19 | Z36: =Y36/(COUNT($B$11:$B$510)) -> 0.038 | AD36: 26 | AE36: B | AF36: O | AI36: E | AL36: 2 | AO36: =IF(MOD(AD36,12)=0,12,MOD(AD36,12)) -> 2 | AR36: =IF(MOD(AD36,6)=0,6,MOD(AD36,6)) -> 2 | AU36: O | AV36: E | AW36: 2 | AX36: 2 | AY36: 2
A37: =A36+1 -> 27 | B37: =Data!B37 -> 25 | D37: =IF($B37=0,0," ") | E37: =IF(AND(B37>0,B37<=18),"L"," ") | F37: =IF(AND(B37>18,B37<=36),"H", " ") -> H | G37: =IF(AND(ISEVEN(B37),B37<>0),"E"," ") | H37: =IF(ISODD(B37),"O"," " ) -> O | I37: =IF($B37=0," ",IF(INDEX(AD$11:AS$46,$B37,2)="R","R"," ")) -> R | J37: =IF($B37=0," ",IF(INDEX(AD$11:AS$46,$B37,2)="B","B"," ")) | K37: =IF(AND($B37>0,$B37<13),"1D"," ") | L37: =IF(AND($B37>12,$B37<25),"2D"," ") | M37: =IF(AND($B37>24,$B37<37),"3D"," ") -> 3D | N37: =IF(B37<>0,IF(MOD(B37,3)=1,1," ")," ") -> 1 | O37: =IF($B37<>0,IF(MOD($B37,3)=2,2," ")," ") | P37: =IF($B37<>0,IF(MOD($B37,3)=0,3," ")," ") | Q37: =IF($B37=0,0,IF(MOD($B37,3)=0,QUOTIENT($B37,3),QUOTIENT($B37,3)+1)) -> 9 | R37: =IF($B37=0,0,IF(MOD($B37,6)=0,QUOTIENT($B37,6),QUOTIENT($B37,6)+1)) -> 5 | T37: No. 4 | U37: =COUNTIF($B$11:$B$510,4) -> 13 | V37: =U37/(COUNT($B$11:$B$510)) -> 0.026 | X37: No. 22 | Y37: =COUNTIF($B$11:$B$510,22) -> 17 | Z37: =Y37/(COUNT($B$11:$B$510)) -> 0.034 | AD37: 27 | AE37: R | AF37: O | AI37: E | AL37: 1 | AO37: =IF(MOD(AD37,12)=0,12,MOD(AD37,12)) -> 3 | AR37: =IF(MOD(AD37,6)=0,6,MOD(AD37,6)) -> 3 | AU37: O | AV37: E | AW37: 1 | AX37: 3 | AY37: 3
A38: =A37+1 -> 28 | B38: =Data!B38 -> 1 | D38: =IF($B38=0,0," ") | E38: =IF(AND(B38>0,B38<=18),"L"," ") -> L | F38: =IF(AND(B38>18,B38<=36),"H", " ") | G38: =IF(AND(ISEVEN(B38),B38<>0),"E"," ") | H38: =IF(ISODD(B38),"O"," " ) -> O | I38: =IF($B38=0," ",IF(INDEX(AD$11:AS$46,$B38,2)="R","R"," ")) -> R | J38: =IF($B38=0," ",IF(INDEX(AD$11:AS$46,$B38,2)="B","B"," ")) | K38: =IF(AND($B38>0,$B38<13),"1D"," ") -> 1D | L38: =IF(AND($B38>12,$B38<25),"2D"," ") | M38: =IF(AND($B38>24,$B38<37),"3D"," ") | N38: =IF(B38<>0,IF(MOD(B38,3)=1,1," ")," ") -> 1 | O38: =IF($B38<>0,IF(MOD($B38,3)=2,2," ")," ") | P38: =IF($B38<>0,IF(MOD($B38,3)=0,3," ")," ") | Q38: =IF($B38=0,0,IF(MOD($B38,3)=0,QUOTIENT($B38,3),QUOTIENT($B38,3)+1)) -> 1 | R38: =IF($B38=0,0,IF(MOD($B38,6)=0,QUOTIENT($B38,6),QUOTIENT($B38,6)+1)) -> 1 | T38: No. 5 | U38: =COUNTIF($B$11:$B$510,5) -> 16 | V38: =U38/(COUNT($B$11:$B$510)) -> 0.032 | X38: No. 23 | Y38: =COUNTIF($B$11:$B$510,23) -> 16 | Z38: =Y38/(COUNT($B$11:$B$510)) -> 0.032 | AD38: 28 | AE38: B | AF38: O | AI38: E | AL38: 3 | AO38: =IF(MOD(AD38,12)=0,12,MOD(AD38,12)) -> 4 | AR38: =IF(MOD(AD38,6)=0,6,MOD(AD38,6)) -> 4 | AU38: O | AV38: E | AW38: 3 | AX38: 4 | AY38: 4
A39: =A38+1 -> 29 | B39: =Data!B39 -> 15 | D39: =IF($B39=0,0," ") | E39: =IF(AND(B39>0,B39<=18),"L"," ") -> L | F39: =IF(AND(B39>18,B39<=36),"H", " ") | G39: =IF(AND(ISEVEN(B39),B39<>0),"E"," ") | H39: =IF(ISODD(B39),"O"," " ) -> O | I39: =IF($B39=0," ",IF(INDEX(AD$11:AS$46,$B39,2)="R","R"," ")) | J39: =IF($B39=0," ",IF(INDEX(AD$11:AS$46,$B39,2)="B","B"," ")) -> B | K39: =IF(AND($B39>0,$B39<13),"1D"," ") | L39: =IF(AND($B39>12,$B39<25),"2D"," ") -> 2D | M39: =IF(AND($B39>24,$B39<37),"3D"," ") | N39: =IF(B39<>0,IF(MOD(B39,3)=1,1," ")," ") | O39: =IF($B39<>0,IF(MOD($B39,3)=2,2," ")," ") | P39: =IF($B39<>0,IF(MOD($B39,3)=0,3," ")," ") -> 3 | Q39: =IF($B39=0,0,IF(MOD($B39,3)=0,QUOTIENT($B39,3),QUOTIENT($B39,3)+1)) -> 5 | R39: =IF($B39=0,0,IF(MOD($B39,6)=0,QUOTIENT($B39,6),QUOTIENT($B39,6)+1)) -> 3 | T39: No. 6 | U39: =COUNTIF($B$11:$B$510,6) -> 14 | V39: =U39/(COUNT($B$11:$B$510)) -> 0.028 | X39: No. 24 | Y39: =COUNTIF($B$11:$B$510,24) -> 16 | Z39: =Y39/(COUNT($B$11:$B$510)) -> 0.032 | AD39: 29 | AE39: B | AF39: O | AI39: E | AL39: 2 | AO39: =IF(MOD(AD39,12)=0,12,MOD(AD39,12)) -> 5 | AR39: =IF(MOD(AD39,6)=0,6,MOD(AD39,6)) -> 5 | AU39: O | AV39: E | AW39: 2 | AX39: 5 | AY39: 5
A40: =A39+1 -> 30 | B40: =Data!B40 -> 12 | D40: =IF($B40=0,0," ") | E40: =IF(AND(B40>0,B40<=18),"L"," ") -> L | F40: =IF(AND(B40>18,B40<=36),"H", " ") | G40: =IF(AND(ISEVEN(B40),B40<>0),"E"," ") -> E | H40: =IF(ISODD(B40),"O"," " ) | I40: =IF($B40=0," ",IF(INDEX(AD$11:AS$46,$B40,2)="R","R"," ")) -> R | J40: =IF($B40=0," ",IF(INDEX(AD$11:AS$46,$B40,2)="B","B"," ")) | K40: =IF(AND($B40>0,$B40<13),"1D"," ") -> 1D | L40: =IF(AND($B40>12,$B40<25),"2D"," ") | M40: =IF(AND($B40>24,$B40<37),"3D"," ") | N40: =IF(B40<>0,IF(MOD(B40,3)=1,1," ")," ") | O40: =IF($B40<>0,IF(MOD($B40,3)=2,2," ")," ") | P40: =IF($B40<>0,IF(MOD($B40,3)=0,3," ")," ") -> 3 | Q40: =IF($B40=0,0,IF(MOD($B40,3)=0,QUOTIENT($B40,3),QUOTIENT($B40,3)+1)) -> 4 | R40: =IF($B40=0,0,IF(MOD($B40,6)=0,QUOTIENT($B40,6),QUOTIENT($B40,6)+1)) -> 2 | T40: No. 7 | U40: =COUNTIF($B$11:$B$510,7) -> 19 | V40: =U40/(COUNT($B$11:$B$510)) -> 0.038 | X40: No. 25 | Y40: =COUNTIF($B$11:$B$510,25) -> 11 | Z40: =Y40/(COUNT($B$11:$B$510)) -> 0.022 | AD40: 30 | AE40: R | AF40: O | AI40: E | AL40: 2 | AO40: =IF(MOD(AD40,12)=0,12,MOD(AD40,12)) -> 6 | AR40: =IF(MOD(AD40,6)=0,6,MOD(AD40,6)) -> 6 | AU40: O | AV40: E | AW40: 2 | AX40: 6 | AY40: 6
A41: =A40+1 -> 31 | B41: =Data!B41 -> 35 | D41: =IF($B41=0,0," ") | E41: =IF(AND(B41>0,B41<=18),"L"," ") | F41: =IF(AND(B41>18,B41<=36),"H", " ") -> H | G41: =IF(AND(ISEVEN(B41),B41<>0),"E"," ") | H41: =IF(ISODD(B41),"O"," " ) -> O | I41: =IF($B41=0," ",IF(INDEX(AD$11:AS$46,$B41,2)="R","R"," ")) | J41: =IF($B41=0," ",IF(INDEX(AD$11:AS$46,$B41,2)="B","B"," ")) -> B | K41: =IF(AND($B41>0,$B41<13),"1D"," ") | L41: =IF(AND($B41>12,$B41<25),"2D"," ") | M41: =IF(AND($B41>24,$B41<37),"3D"," ") -> 3D | N41: =IF(B41<>0,IF(MOD(B41,3)=1,1," ")," ") | O41: =IF($B41<>0,IF(MOD($B41,3)=2,2," ")," ") -> 2 | P41: =IF($B41<>0,IF(MOD($B41,3)=0,3," ")," ") | Q41: =IF($B41=0,0,IF(MOD($B41,3)=0,QUOTIENT($B41,3),QUOTIENT($B41,3)+1)) -> 12 | R41: =IF($B41=0,0,IF(MOD($B41,6)=0,QUOTIENT($B41,6),QUOTIENT($B41,6)+1)) -> 6 | T41: No. 8 | U41: =COUNTIF($B$11:$B$510,8) -> 17 | V41: =U41/(COUNT($B$11:$B$510)) -> 0.034 | X41: No. 26 | Y41: =COUNTIF($B$11:$B$510,26) -> 11 | Z41: =Y41/(COUNT($B$11:$B$510)) -> 0.022 | AD41: 31 | AE41: B | AF41: H | AI41: L | AL41: 3 | AO41: =IF(MOD(AD41,12)=0,12,MOD(AD41,12)) -> 7 | AR41: =IF(MOD(AD41,6)=0,6,MOD(AD41,6)) -> 1 | AU41: H | AV41: L | AW41: 3 | AX41: 7 | AY41: 1
A42: =A41+1 -> 32 | B42: =Data!B42 -> 17 | D42: =IF($B42=0,0," ") | E42: =IF(AND(B42>0,B42<=18),"L"," ") -> L | F42: =IF(AND(B42>18,B42<=36),"H", " ") | G42: =IF(AND(ISEVEN(B42),B42<>0),"E"," ") | H42: =IF(ISODD(B42),"O"," " ) -> O | I42: =IF($B42=0," ",IF(INDEX(AD$11:AS$46,$B42,2)="R","R"," ")) | J42: =IF($B42=0," ",IF(INDEX(AD$11:AS$46,$B42,2)="B","B"," ")) -> B | K42: =IF(AND($B42>0,$B42<13),"1D"," ") | L42: =IF(AND($B42>12,$B42<25),"2D"," ") -> 2D | M42: =IF(AND($B42>24,$B42<37),"3D"," ") | N42: =IF(B42<>0,IF(MOD(B42,3)=1,1," ")," ") | O42: =IF($B42<>0,IF(MOD($B42,3)=2,2," ")," ") -> 2 | P42: =IF($B42<>0,IF(MOD($B42,3)=0,3," ")," ") | Q42: =IF($B42=0,0,IF(MOD($B42,3)=0,QUOTIENT($B42,3),QUOTIENT($B42,3)+1)) -> 6 | R42: =IF($B42=0,0,IF(MOD($B42,6)=0,QUOTIENT($B42,6),QUOTIENT($B42,6)+1)) -> 3 | T42: No. 9 | U42: =COUNTIF($B$11:$B$510,9) -> 18 | V42: =U42/(COUNT($B$11:$B$510)) -> 0.036 | X42: No. 27 | Y42: =COUNTIF($B$11:$B$510,27) -> 11 | Z42: =Y42/(COUNT($B$11:$B$510)) -> 0.022 | AD42: 32 | AE42: R | AF42: H | AI42: L | AL42: 2 | AO42: =IF(MOD(AD42,12)=0,12,MOD(AD42,12)) -> 8 | AR42: =IF(MOD(AD42,6)=0,6,MOD(AD42,6)) -> 2 | AU42: H | AV42: L | AW42: 2 | AX42: 8 | AY42: 2
A43: =A42+1 -> 33 | B43: =Data!B43 -> 14 | D43: =IF($B43=0,0," ") | E43: =IF(AND(B43>0,B43<=18),"L"," ") -> L | F43: =IF(AND(B43>18,B43<=36),"H", " ") | G43: =IF(AND(ISEVEN(B43),B43<>0),"E"," ") -> E | H43: =IF(ISODD(B43),"O"," " ) | I43: =IF($B43=0," ",IF(INDEX(AD$11:AS$46,$B43,2)="R","R"," ")) -> R | J43: =IF($B43=0," ",IF(INDEX(AD$11:AS$46,$B43,2)="B","B"," ")) | K43: =IF(AND($B43>0,$B43<13),"1D"," ") | L43: =IF(AND($B43>12,$B43<25),"2D"," ") -> 2D | M43: =IF(AND($B43>24,$B43<37),"3D"," ") | N43: =IF(B43<>0,IF(MOD(B43,3)=1,1," ")," ") | O43: =IF($B43<>0,IF(MOD($B43,3)=2,2," ")," ") -> 2 | P43: =IF($B43<>0,IF(MOD($B43,3)=0,3," ")," ") | Q43: =IF($B43=0,0,IF(MOD($B43,3)=0,QUOTIENT($B43,3),QUOTIENT($B43,3)+1)) -> 5 | R43: =IF($B43=0,0,IF(MOD($B43,6)=0,QUOTIENT($B43,6),QUOTIENT($B43,6)+1)) -> 3 | T43: No. 10 | U43: =COUNTIF($B$11:$B$510,10) -> 18 | V43: =U43/(COUNT($B$11:$B$510)) -> 0.036 | X43: No. 28 | Y43: =COUNTIF($B$11:$B$510,28) -> 10 | Z43: =Y43/(COUNT($B$11:$B$510)) -> 0.02 | AD43: 33 | AE43: B | AF43: H | AI43: L | AL43: 1 | AO43: =IF(MOD(AD43,12)=0,12,MOD(AD43,12)) -> 9 | AR43: =IF(MOD(AD43,6)=0,6,MOD(AD43,6)) -> 3 | AU43: H | AV43: L | AW43: 1 | AX43: 9 | AY43: 3
A44: =A43+1 -> 34 | B44: =Data!B44 -> 9 | D44: =IF($B44=0,0," ") | E44: =IF(AND(B44>0,B44<=18),"L"," ") -> L | F44: =IF(AND(B44>18,B44<=36),"H", " ") | G44: =IF(AND(ISEVEN(B44),B44<>0),"E"," ") | H44: =IF(ISODD(B44),"O"," " ) -> O | I44: =IF($B44=0," ",IF(INDEX(AD$11:AS$46,$B44,2)="R","R"," ")) -> R | J44: =IF($B44=0," ",IF(INDEX(AD$11:AS$46,$B44,2)="B","B"," ")) | K44: =IF(AND($B44>0,$B44<13),"1D"," ") -> 1D | L44: =IF(AND($B44>12,$B44<25),"2D"," ") | M44: =IF(AND($B44>24,$B44<37),"3D"," ") | N44: =IF(B44<>0,IF(MOD(B44,3)=1,1," ")," ") | O44: =IF($B44<>0,IF(MOD($B44,3)=2,2," ")," ") | P44: =IF($B44<>0,IF(MOD($B44,3)=0,3," ")," ") -> 3 | Q44: =IF($B44=0,0,IF(MOD($B44,3)=0,QUOTIENT($B44,3),QUOTIENT($B44,3)+1)) -> 3 | R44: =IF($B44=0,0,IF(MOD($B44,6)=0,QUOTIENT($B44,6),QUOTIENT($B44,6)+1)) -> 2 | T44: No. 11 | U44: =COUNTIF($B$11:$B$510,11) -> 13 | V44: =U44/(COUNT($B$11:$B$510)) -> 0.026 | X44: No. 29 | Y44: =COUNTIF($B$11:$B$510,29) -> 10 | Z44: =Y44/(COUNT($B$11:$B$510)) -> 0.02 | AD44: 34 | AE44: R | AF44: H | AH44: 10 | AI44: L | AK44: 10 | AL44: 3 | AN44: 15 | AO44: =IF(MOD(AD44,12)=0,12,MOD(AD44,12)) -> 10 | AQ44: 15 | AR44: =IF(MOD(AD44,6)=0,6,MOD(AD44,6)) -> 4 | AT44: 10 | AU44: H | AV44: L | AW44: 3 | AX44: 10 | AY44: 4
A45: =A44+1 -> 35 | B45: =Data!B45 -> 27 | D45: =IF($B45=0,0," ") | E45: =IF(AND(B45>0,B45<=18),"L"," ") | F45: =IF(AND(B45>18,B45<=36),"H", " ") -> H | G45: =IF(AND(ISEVEN(B45),B45<>0),"E"," ") | H45: =IF(ISODD(B45),"O"," " ) -> O | I45: =IF($B45=0," ",IF(INDEX(AD$11:AS$46,$B45,2)="R","R"," ")) -> R | J45: =IF($B45=0," ",IF(INDEX(AD$11:AS$46,$B45,2)="B","B"," ")) | K45: =IF(AND($B45>0,$B45<13),"1D"," ") | L45: =IF(AND($B45>12,$B45<25),"2D"," ") | M45: =IF(AND($B45>24,$B45<37),"3D"," ") -> 3D | N45: =IF(B45<>0,IF(MOD(B45,3)=1,1," ")," ") | O45: =IF($B45<>0,IF(MOD($B45,3)=2,2," ")," ") | P45: =IF($B45<>0,IF(MOD($B45,3)=0,3," ")," ") -> 3 | Q45: =IF($B45=0,0,IF(MOD($B45,3)=0,QUOTIENT($B45,3),QUOTIENT($B45,3)+1)) -> 9 | R45: =IF($B45=0,0,IF(MOD($B45,6)=0,QUOTIENT($B45,6),QUOTIENT($B45,6)+1)) -> 5 | T45: No. 12 | U45: =COUNTIF($B$11:$B$510,12) -> 6 | V45: =U45/(COUNT($B$11:$B$510)) -> 0.012 | X45: No. 30 | Y45: =COUNTIF($B$11:$B$510,30) -> 11 | Z45: =Y45/(COUNT($B$11:$B$510)) -> 0.022 | AD45: 35 | AE45: B | AF45: H | AG45: +1 | AH45: -1 | AI45: L | AJ45: +1 | AK45: -1 | AL45: 2 | AM45: +1 | AN45: -1 | AO45: =IF(MOD(AD45,12)=0,12,MOD(AD45,12)) -> 11 | AP45: +1 | AQ45: -1 | AR45: =IF(MOD(AD45,6)=0,6,MOD(AD45,6)) -> 5 | AS45: +1 | AT45: -1 | AU45: H | AV45: L | AW45: 2 | AX45: 11 | AY45: 5
A46: =A45+1 -> 36 | B46: =Data!B46 -> 19 | D46: =IF($B46=0,0," ") | E46: =IF(AND(B46>0,B46<=18),"L"," ") | F46: =IF(AND(B46>18,B46<=36),"H", " ") -> H | G46: =IF(AND(ISEVEN(B46),B46<>0),"E"," ") | H46: =IF(ISODD(B46),"O"," " ) -> O | I46: =IF($B46=0," ",IF(INDEX(AD$11:AS$46,$B46,2)="R","R"," ")) -> R | J46: =IF($B46=0," ",IF(INDEX(AD$11:AS$46,$B46,2)="B","B"," ")) | K46: =IF(AND($B46>0,$B46<13),"1D"," ") | L46: =IF(AND($B46>12,$B46<25),"2D"," ") -> 2D | M46: =IF(AND($B46>24,$B46<37),"3D"," ") | N46: =IF(B46<>0,IF(MOD(B46,3)=1,1," ")," ") -> 1 | O46: =IF($B46<>0,IF(MOD($B46,3)=2,2," ")," ") | P46: =IF($B46<>0,IF(MOD($B46,3)=0,3," ")," ") | Q46: =IF($B46=0,0,IF(MOD($B46,3)=0,QUOTIENT($B46,3),QUOTIENT($B46,3)+1)) -> 7 | R46: =IF($B46=0,0,IF(MOD($B46,6)=0,QUOTIENT($B46,6),QUOTIENT($B46,6)+1)) -> 4 | T46: No. 13 | U46: =COUNTIF($B$11:$B$510,13) -> 14 | V46: =U46/(COUNT($B$11:$B$510)) -> 0.028 | X46: No. 31 | Y46: =COUNTIF($B$11:$B$510,31) -> 9 | Z46: =Y46/(COUNT($B$11:$B$510)) -> 0.018 | AD46: 36 | AE46: R | AF46: H | AG46: -1 | AH46: +1 | AI46: L | AJ46: -1 | AK46: +1 | AL46: 1 | AM46: -1 | AN46: +1 | AO46: =IF(MOD(AD46,12)=0,12,MOD(AD46,12)) -> 12 | AP46: -1 | AQ46: +1 | AR46: =IF(MOD(AD46,6)=0,6,MOD(AD46,6)) -> 6 | AS46: -1 | AT46: +1 | AU46: H | AV46: L | AW46: 1 | AX46: 12 | AY46: 6
A47: =A46+1 -> 37 | B47: =Data!B47 -> 23 | D47: =IF($B47=0,0," ") | E47: =IF(AND(B47>0,B47<=18),"L"," ") | F47: =IF(AND(B47>18,B47<=36),"H", " ") -> H | G47: =IF(AND(ISEVEN(B47),B47<>0),"E"," ") | H47: =IF(ISODD(B47),"O"," " ) -> O | I47: =IF($B47=0," ",IF(INDEX(AD$11:AS$46,$B47,2)="R","R"," ")) -> R | J47: =IF($B47=0," ",IF(INDEX(AD$11:AS$46,$B47,2)="B","B"," ")) | K47: =IF(AND($B47>0,$B47<13),"1D"," ") | L47: =IF(AND($B47>12,$B47<25),"2D"," ") -> 2D | M47: =IF(AND($B47>24,$B47<37),"3D"," ") | N47: =IF(B47<>0,IF(MOD(B47,3)=1,1," ")," ") | O47: =IF($B47<>0,IF(MOD($B47,3)=2,2," ")," ") -> 2 | P47: =IF($B47<>0,IF(MOD($B47,3)=0,3," ")," ") | Q47: =IF($B47=0,0,IF(MOD($B47,3)=0,QUOTIENT($B47,3),QUOTIENT($B47,3)+1)) -> 8 | R47: =IF($B47=0,0,IF(MOD($B47,6)=0,QUOTIENT($B47,6),QUOTIENT($B47,6)+1)) -> 4 | T47: No. 14 | U47: =COUNTIF($B$11:$B$510,14) -> 17 | V47: =U47/(COUNT($B$11:$B$510)) -> 0.034 | X47: No. 32 | Y47: =COUNTIF($B$11:$B$510,32) -> 12 | Z47: =Y47/(COUNT($B$11:$B$510)) -> 0.024
A48: =A47+1 -> 38 | B48: =Data!B48 -> 3 | D48: =IF($B48=0,0," ") | E48: =IF(AND(B48>0,B48<=18),"L"," ") -> L | F48: =IF(AND(B48>18,B48<=36),"H", " ") | G48: =IF(AND(ISEVEN(B48),B48<>0),"E"," ") | H48: =IF(ISODD(B48),"O"," " ) -> O | I48: =IF($B48=0," ",IF(INDEX(AD$11:AS$46,$B48,2)="R","R"," ")) -> R | J48: =IF($B48=0," ",IF(INDEX(AD$11:AS$46,$B48,2)="B","B"," ")) | K48: =IF(AND($B48>0,$B48<13),"1D"," ") -> 1D | L48: =IF(AND($B48>12,$B48<25),"2D"," ") | M48: =IF(AND($B48>24,$B48<37),"3D"," ") | N48: =IF(B48<>0,IF(MOD(B48,3)=1,1," ")," ") | O48: =IF($B48<>0,IF(MOD($B48,3)=2,2," ")," ") | P48: =IF($B48<>0,IF(MOD($B48,3)=0,3," ")," ") -> 3 | Q48: =IF($B48=0,0,IF(MOD($B48,3)=0,QUOTIENT($B48,3),QUOTIENT($B48,3)+1)) -> 1 | R48: =IF($B48=0,0,IF(MOD($B48,6)=0,QUOTIENT($B48,6),QUOTIENT($B48,6)+1)) -> 1 | T48: No. 15 | U48: =COUNTIF($B$11:$B$510,15) -> 11 | V48: =U48/(COUNT($B$11:$B$510)) -> 0.022 | X48: No. 33 | Y48: =COUNTIF($B$11:$B$510,33) -> 20 | Z48: =Y48/(COUNT($B$11:$B$510)) -> 0.04
...

Sheet Vortex
G8: Session of 6 - ORDER : 1/6, 2/5, 3/4, 3/4, 2/5, 1/6 | T8: Session of 6 - ORDER : 1/6, 2/5, 3/4, 1/6, 2/5, 3/4 | AG8: Continuous Play - ORDER : 1/6, 2/5, 3/4, 3/4, 2/5, 1/6 | AS8: Continuous Play - ORDER : 1/6, 2/5, 3/4, 1/6, 2/5, 3/4
K9: ORIGINAL | O9: AGGRESSIVE | X9: ORIGINAL | AB9: AGGRESSIVE | AJ9: ORIGINAL | AN9: AGGRESSIVE | AV9: ORIGINAL | AZ9: AGGRESSIVE
A10: SPINS | B10: NR | D10: DS | F10: Spin | G10: R | H10: RB | I10: DS | J10: Step | K10: Bet | L10: Win | M10: BR | N10: HB | O10: Bet | P10: Win | Q10: BR | R10: AHB | S10: TB | T10: R | U10: RB | V10: DS | W10: Step | X10: Bet | Y10: Win | Z10: BR | AA10: HB | AB10: Bet | AC10: Win | AD10: BR | AE10: AHB | AF10: TB | AG10: R | AH10: DS | AI10: Step | AJ10: Bet | AK10: Win | AL10: BR | AM10: HB | AN10: Bet | AO10: Win | AP10: BR | AQ10: AHB | AR10: TB | AS10: R | AT10: DS | AU10: Step | AV10: Bet | AW10: Win | AX10: BR | AY10: HB | AZ10: Bet | BA10: Win | BB10: BR | BC10: AHB | BD10: TB
A11: 1 | B11: =Data!B11 -> 4 | D11: =IF($B11=0,0,IF(MOD($B11,6)=0,QUOTIENT($B11,6),QUOTIENT($B11,6)+1)) -> 1 | F11: 1 | I11: =IF($F11=1,"1/6",IF($F11=2,"2/5",IF($F11=3,"3/4",IF($F11=4,"4/3",IF($F11=5,"5/2",IF($F11=6,"6/1",I10)))))) -> 1/6 | J11: 1 | K11: =IF(H11="N","0",IF(N10="Y",8,IF(OR(J11=1,J11=2),2,IF(J11=3,4,IF(J11=4,6,IF(J11>=5,8)))))) -> 2 | M11: =-K11 -> -2 | N11: N | O11: =IF(H11="N","0",IF(R10="Y",8,IF(OR(J11=1,J11=2),2,IF(J11=3,4,IF(J11=4,6,IF(J11>=5,8)))))) -> 2 | Q11: =-O11 -> -2 | R11: N | S11: 0 | V11: =IF(OR($F11=1,$F11=4),"1/6",IF(OR($F11=2,$F11=5),"2/5",IF(OR($F11=3,$F11=6),"3/4",V10))) -> 1/6 | W11: 1 | X11: =IF(U11="N","0",IF(AA10="Y",8,IF(OR(W11=1,W11=2),2,IF(W11=3,4,IF(W11=4,6,IF(W11>=5,8)))))) -> 2 | Z11: =-X11 -> -2 | AA11: N | AB11: =IF(U11="N","0",IF(AE10="Y",8,IF(OR(W11=1,W11=2),2,IF(W11=3,4,IF(W11=4,6,IF(W11>=5,8)))))) -> 2 | AD11: =-AB11 -> -2 | AE11: N | AF11: 0 | AH11: =IF(OR(AI11=1,AI11=6,AI11=7,AI11=12,AI11=13,AI11=18),"1/6",IF(OR(AI11=2,AI11=5,AI11=8,AI11=11,AI11=14,AI11=17),"2/5",IF(OR(AI11=3,AI11=4,AI11=9,AI11=10,AI11=15,AI11=16),"3/4",AH10))) -> 1/6 | AI11: 1 | AJ11: =IF(AM10="Y",8,IF(OR(AI11=1,AI11=2),2,IF(AI11=3,4,IF(AI11=4,6,IF(AI11>=5,8))))) -> 2 | AL11: =-AJ11 -> -2 | AM11: N | AN11: =IF(AQ10="Y",8,IF(OR(AI11=1,AI11=2),2,IF(AI11=3,4,IF(AI11=4,6,IF(AI11>=5,8))))) -> 2 | AP11: =-AN11 -> -2 | AQ11: N | AR11: 0 | AT11: =IF(OR(AU11=1,AU11=4,AU11=7,AU11=10,AU11=13,AU11=16),"1/6",IF(OR(AU11=2,AU11=5,AU11=8,AU11=11,AU11=14,AU11=17),"2/5",IF(OR(AU11=3,AU11=6,AU11=9,AU11=12,AU11=15,AU11=18),"3/4",AT10))) -> 1/6 | AU11: 1 | AV11: =IF(AY10="Y",8,IF(OR(AU11=1,AU11=2),2,IF(AU11=3,4,IF(AU11=4,6,IF(AU11>=5,8))))) -> 2 | AX11: =-AV11 -> -2 | AY11: N | AZ11: =IF(BC10="Y",8,IF(OR(AU11=1,AU11=2),2,IF(AU11=3,4,IF(AU11=4,6,IF(AU11>=5,8))))) -> 2 | BB11: =-AZ11 -> -2 | BC11: N | BD11: 0
A12: =A11+1 -> 2 | B12: =Data!B12 -> 7 | D12: =IF($B12=0,0,IF(MOD($B12,6)=0,QUOTIENT($B12,6),QUOTIENT($B12,6)+1)) -> 2 | F12: =IF($F11<=5,F11+1,1) -> 2 | G12: =IF(H11="N"," ",IF(OR($F11=1,$F11=6),IF(OR($D11=1,$D11=6),"W","L"),IF(OR($F11=2,$F11=5),IF(OR($D11=2,$D11=5),"W","L"),IF(OR($F11=3,$F11=4),IF(OR($D11=3,$D11=4),"W","L"))))) -> W | H12: =IF(OR($F12=1,$G12="L"),"Y","N") -> N | I12: =IF($H12="N"," ",IF($F12=1,"1/6",IF($F12=2,"2/5",IF($F12=3,"3/4",IF($F12=4,"4/3",IF($F12=5,"5/2",IF($F12=6,"6/1",I11))))))) | J12: =IF(AND(F12=1,J11=" "),1,IF(H12="N"," ",J11+1)) | K12: =IF(H12="N","0",IF(N11="Y",8,IF(OR(J12=1,J12=2),2,IF(J12=3,4,IF(J12=4,6,IF(J12>=5,8)))))) -> 0 | L12: =IF(G12="W",K11*3,0) -> 6 | M12: =M11+L12-K12 -> 4 | N12: =IF(AND(N11="N",J12<>" ",J12>=6),"Y",IF(AND(N11="Y",M12<0),"Y","N")) -> N | O12: =IF(H12="N","0",IF(R11="Y",8,IF(OR(J12=1,J12=2),2,IF(J12=3,4,IF(J12=4,6,IF(J12>=5,8)))))) -> 0 | P12: =IF(G12="W",O11*3,0) -> 6 | Q12: =Q11+P12-O12 -> 4 | R12: =IF(AND(R11="N",J12<>" ",J12>=6),"Y",IF(AND(R11="Y",M12<S11),"Y","N")) -> N | S12: =IF(OR(G12="L",Q12<S11),S11,Q12) -> 4 | T12: =IF(U11="N"," ",IF(OR($F11=1,$F11=4),IF(OR($D11=1,$D11=6),"W","L"),IF(OR($F11=2,$F11=5),IF(OR($D11=2,$D11=5),"W","L"),IF(OR($F11=3,$F11=6),IF(OR($D11=3,$D11=4),"W","L"))))) -> W | U12: =IF(OR($F12=1,T12="L"),"Y","N") -> N | V12: =IF($H12="N"," ",IF(OR($F12=1,$F12=4),"1/6",IF(OR($F12=2,$F12=5),"2/5",IF(OR($F12=3,$F12=6),"3/4",V10)))) | W12: =IF(AND(F12=1,W11=" "),1,IF(U12="N"," ",W11+1)) | X12: =IF(U12="N","0",IF(AA11="Y",8,IF(OR(W12=1,W12=2),2,IF(W12=3,4,IF(W12=4,6,IF(W12>=5,8)))))) -> 0 | Y12: =IF(T12="W",X11*3,0) -> 6 | Z12: =Z11+Y12-X12 -> 4 | AA12: =IF(AND(AA11="N",W12<>" ",W12>=6),"Y",IF(AND(AA11="Y",Z12<0),"Y","N")) -> N | AB12: =IF(U12="N","0",IF(AE11="Y",8,IF(OR(W12=1,W12=2),2,IF(W12=3,4,IF(W12=4,6,IF(W12>=5,8)))))) -> 0 | AC12: =IF(T12="W",AB11*3,0) -> 6 | AD12: =AD11+AC12-AB12 -> 4 | AE12: =IF(AND(AE11="N",W12<>" ",W12>=6),"Y",IF(AND(AE11="Y",Z12<AF11),"Y","N")) -> N | AF12: =IF(OR(T12="L",AD12<AF11),AF11,AD12) -> 4 | AG12: =IF(OR(VALUE(MID(AH11,1,1))=D11,VALUE(MID(AH11,3,1))=D11),"W","L") -> W | AH12: =IF(OR(AI12=1,AI12=6,AI12=7,AI12=12,AI12=13,AI12=18),"1/6",IF(OR(AI12=2,AI12=5,AI12=8,AI12=11,AI12=14,AI12=17),"2/5",IF(OR(AI12=3,AI12=4,AI12=9,AI12=10,AI12=15,AI12=16),"3/4",AH11))) -> 1/6 | AI12: =IF(AG12="W",1,AI11+1) -> 1 | AJ12: =IF(AM11="Y",8,IF(OR(AI12=1,AI12=2),2,IF(AI12=3,4,IF(AI12=4,6,IF(AI12>=5,8))))) -> 2 | AK12: =IF(AG12="W",AJ11*3,0) -> 6 | AL12: =AL11+AK12-AJ12 -> 2 | AM12: =IF(AND(AM11="N",AI12<>" ",AI12>=6),"Y",IF(AND(AM11="Y",AL12<0),"Y","N")) -> N | AN12: =IF(AQ11="Y",8,IF(OR(AI12=1,AI12=2),2,IF(AI12=3,4,IF(AI12=4,6,IF(AI12>=5,8))))) -> 2 | AO12: =IF(AG12="W",AN11*3,0) -> 6 | AP12: =AP11+AO12-AN12 -> 2 | AQ12: =IF(AND(AQ11="N",AI12<>" ",AI12>=6),"Y",IF(AND(AQ11="Y",AL12<AR11),"Y","N")) -> N | AR12: =IF(OR(AG12="L",AP12<AR11),AR11,AP12) -> 2 | AS12: =IF(OR(VALUE(MID(AT11,1,1))=D11,VALUE(MID(AT11,3,1))=D11),"W","L") -> W | AT12: =IF(OR(AU12=1,AU12=4,AU12=7,AU12=10,AU12=13,AU12=16),"1/6",IF(OR(AU12=2,AU12=5,AU12=8,AU12=11,AU12=14,AU12=17),"2/5",IF(OR(AU12=3,AU12=6,AU12=9,AU12=12,AU12=15,AU12=18),"3/4",AT11))) -> 1/6 | AU12: =IF(AS12="W",1,AU11+1) -> 1 | AV12: =IF(AY11="Y",8,IF(OR(AU12=1,AU12=2),2,IF(AU12=3,4,IF(AU12=4,6,IF(AU12>=5,8))))) -> 2 | AW12: =IF(AS12="W",AV11*3,0) -> 6 | AX12: =AX11+AW12-AV12 -> 2 | AY12: =IF(AND(AY11="N",AU12<>" ",AU12>=6),"Y",IF(AND(AY11="Y",AX12<0),"Y","N")) -> N | AZ12: =IF(BC11="Y",8,IF(OR(AU12=1,AU12=2),2,IF(AU12=3,4,IF(AU12=4,6,IF(AU12>=5,8))))) -> 2 | BA12: =IF(AS12="W",AZ11*3,0) -> 6 | BB12: =BB11+BA12-AZ12 -> 2 | BC12: =IF(AND(BC11="N",AU12<>" ",AU12>=6),"Y",IF(AND(BC11="Y",AX12<BD11),"Y","N")) -> N | BD12: =IF(OR(AS12="L",BB12<BD11),BD11,BB12) -> 2
A13: =A12+1 -> 3 | B13: =Data!B13 -> 3 | D13: =IF($B13=0,0,IF(MOD($B13,6)=0,QUOTIENT($B13,6),QUOTIENT($B13,6)+1)) -> 1 | F13: =IF($F12<=5,F12+1,1) -> 3 | G13: =IF(H12="N"," ",IF(OR($F12=1,$F12=6),IF(OR($D12=1,$D12=6),"W","L"),IF(OR($F12=2,$F12=5),IF(OR($D12=2,$D12=5),"W","L"),IF(OR($F12=3,$F12=4),IF(OR($D12=3,$D12=4),"W","L"))))) | H13: =IF(OR($F13=1,$G13="L"),"Y","N") -> N | I13: =IF($H13="N"," ",IF($F13=1,"1/6",IF($F13=2,"2/5",IF($F13=3,"3/4",IF($F13=4,"4/3",IF($F13=5,"5/2",IF($F13=6,"6/1",I12))))))) | J13: =IF(AND(F13=1,J12=" "),1,IF(H13="N"," ",J12+1)) | K13: =IF(H13="N","0",IF(N12="Y",8,IF(OR(J13=1,J13=2),2,IF(J13=3,4,IF(J13=4,6,IF(J13>=5,8)))))) -> 0 | L13: =IF(G13="W",K12*3,0) -> 0 | M13: =M12+L13-K13 -> 4 | N13: =IF(AND(N12="N",J13<>" ",J13>=6),"Y",IF(AND(N12="Y",M13<0),"Y","N")) -> N | O13: =IF(H13="N","0",IF(R12="Y",8,IF(OR(J13=1,J13=2),2,IF(J13=3,4,IF(J13=4,6,IF(J13>=5,8)))))) -> 0 | P13: =IF(G13="W",O12*3,0) -> 0 | Q13: =Q12+P13-O13 -> 4 | R13: =IF(AND(R12="N",J13<>" ",J13>=6),"Y",IF(AND(R12="Y",M13<S12),"Y","N")) -> N | S13: =IF(OR(G13="L",Q13<S12),S12,Q13) -> 4 | T13: =IF(U12="N"," ",IF(OR($F12=1,$F12=4),IF(OR($D12=1,$D12=6),"W","L"),IF(OR($F12=2,$F12=5),IF(OR($D12=2,$D12=5),"W","L"),IF(OR($F12=3,$F12=6),IF(OR($D12=3,$D12=4),"W","L"))))) | U13: =IF(OR($F13=1,T13="L"),"Y","N") -> N | V13: =IF($H13="N"," ",IF(OR($F13=1,$F13=4),"1/6",IF(OR($F13=2,$F13=5),"2/5",IF(OR($F13=3,$F13=6),"3/4",V11)))) | W13: =IF(AND(F13=1,W12=" "),1,IF(U13="N"," ",W12+1)) | X13: =IF(U13="N","0",IF(AA12="Y",8,IF(OR(W13=1,W13=2),2,IF(W13=3,4,IF(W13=4,6,IF(W13>=5,8)))))) -> 0 | Y13: =IF(T13="W",X12*3,0) -> 0 | Z13: =Z12+Y13-X13 -> 4 | AA13: =IF(AND(AA12="N",W13<>" ",W13>=6),"Y",IF(AND(AA12="Y",Z13<0),"Y","N")) -> N | AB13: =IF(U13="N","0",IF(AE12="Y",8,IF(OR(W13=1,W13=2),2,IF(W13=3,4,IF(W13=4,6,IF(W13>=5,8)))))) -> 0 | AC13: =IF(T13="W",AB12*3,0) -> 0 | AD13: =AD12+AC13-AB13 -> 4 | AE13: =IF(AND(AE12="N",W13<>" ",W13>=6),"Y",IF(AND(AE12="Y",Z13<AF12),"Y","N")) -> N | AF13: =IF(OR(T13="L",AD13<AF12),AF12,AD13) -> 4 | AG13: =IF(OR(VALUE(MID(AH12,1,1))=D12,VALUE(MID(AH12,3,1))=D12),"W","L") -> L | AH13: =IF(OR(AI13=1,AI13=6,AI13=7,AI13=12,AI13=13,AI13=18),"1/6",IF(OR(AI13=2,AI13=5,AI13=8,AI13=11,AI13=14,AI13=17),"2/5",IF(OR(AI13=3,AI13=4,AI13=9,AI13=10,AI13=15,AI13=16),"3/4",AH12))) -> 2/5 | AI13: =IF(AG13="W",1,AI12+1) -> 2 | AJ13: =IF(AM12="Y",8,IF(OR(AI13=1,AI13=2),2,IF(AI13=3,4,IF(AI13=4,6,IF(AI13>=5,8))))) -> 2 | AK13: =IF(AG13="W",AJ12*3,0) -> 0 | AL13: =AL12+AK13-AJ13 -> 0 | AM13: =IF(AND(AM12="N",AI13<>" ",AI13>=6),"Y",IF(AND(AM12="Y",AL13<0),"Y","N")) -> N | AN13: =IF(AQ12="Y",8,IF(OR(AI13=1,AI13=2),2,IF(AI13=3,4,IF(AI13=4,6,IF(AI13>=5,8))))) -> 2 | AO13: =IF(AG13="W",AN12*3,0) -> 0 | AP13: =AP12+AO13-AN13 -> 0 | AQ13: =IF(AND(AQ12="N",AI13<>" ",AI13>=6),"Y",IF(AND(AQ12="Y",AL13<AR12),"Y","N")) -> N | AR13: =IF(OR(AG13="L",AP13<AR12),AR12,AP13) -> 2 | AS13: =IF(OR(VALUE(MID(AT12,1,1))=D12,VALUE(MID(AT12,3,1))=D12),"W","L") -> L | AT13: =IF(OR(AU13=1,AU13=4,AU13=7,AU13=10,AU13=13,AU13=16),"1/6",IF(OR(AU13=2,AU13=5,AU13=8,AU13=11,AU13=14,AU13=17),"2/5",IF(OR(AU13=3,AU13=6,AU13=9,AU13=12,AU13=15,AU13=18),"3/4",AT12))) -> 2/5 | AU13: =IF(AS13="W",1,AU12+1) -> 2 | AV13: =IF(AY12="Y",8,IF(OR(AU13=1,AU13=2),2,IF(AU13=3,4,IF(AU13=4,6,IF(AU13>=5,8))))) -> 2 | AW13: =IF(AS13="W",AV12*3,0) -> 0 | AX13: =AX12+AW13-AV13 -> 0 | AY13: =IF(AND(AY12="N",AU13<>" ",AU13>=6),"Y",IF(AND(AY12="Y",AX13<0),"Y","N")) -> N | AZ13: =IF(BC12="Y",8,IF(OR(AU13=1,AU13=2),2,IF(AU13=3,4,IF(AU13=4,6,IF(AU13>=5,8))))) -> 2 | BA13: =IF(AS13="W",AZ12*3,0) -> 0 | BB13: =BB12+BA13-AZ13 -> 0 | BC13: =IF(AND(BC12="N",AU13<>" ",AU13>=6),"Y",IF(AND(BC12="Y",AX13<BD12),"Y","N")) -> N | BD13: =IF(OR(AS13="L",BB13<BD12),BD12,BB13) -> 2
