Workbook

Sheet Data
D8: Spin | E8: A to | F8: Test | G8: RANDOM.ORG - 500 Random Generated Nos. | Q8: Excel RANDOMBETWEEN - 500 Generated Nos
E9: activate | F9: Data | G9: 1 | H9: 2 | I9: 3 | J9: 4 | K9: 5 | L9: 6 | M9: 7 | N9: 8 | O9: 9 | P9: 10 | Q9: 1 | R9: 2 | S9: 3 | T9: 4 | U9: 5 | V9: 6 | W9: 7 | X9: 8 | Y9: 9 | Z9: 10
A10: SPINS | B10: NR | E10: => | G10: A
A11: 1 | B11: =HLOOKUP("A",$F$10:$AF$510,D11+1) -> 4 | D11: 1 | G11: 4 | H11: 10 | I11: 1 | J11: 8 | K11: 3 | L11: 29 | M11: 5 | N11: 7 | O11: 32 | P11: 28 | Q11: 11 | R11: 32 | S11: 7 | T11: 11 | U11: 16 | V11: 3 | W11: 13 | X11: 24 | Y11: 24 | Z11: 22
A12: =A11+1 -> 2 | B12: =HLOOKUP("A",$F$10:$AF$510,D12+1) -> 7 | D12: =D11+1 -> 2 | G12: 7 | H12: 2 | I12: 16 | J12: 6 | K12: 23 | L12: 31 | M12: 2 | N12: 0 | O12: 34 | P12: 0 | Q12: 35 | R12: 17 | S12: 24 | T12: 8 | U12: 35 | V12: 5 | W12: 6 | X12: 14 | Y12: 23 | Z12: 0
A13: =A12+1 -> 3 | B13: =HLOOKUP("A",$F$10:$AF$510,D13+1) -> 3 | D13: =D12+1 -> 3 | G13: 3 | H13: 27 | I13: 31 | J13: 35 | K13: 31 | L13: 29 | M13: 17 | N13: 25 | O13: 4 | P13: 9 | Q13: 3 | R13: 13 | S13: 11 | T13: 4 | U13: 3 | V13: 25 | W13: 9 | X13: 16 | Y13: 7 | Z13: 33
A14: =A13+1 -> 4 | B14: =HLOOKUP("A",$F$10:$AF$510,D14+1) -> 24 | D14: =D13+1 -> 4 | G14: 24 | H14: 9 | I14: 1 | J14: 0 | K14: 7 | L14: 19 | M14: 22 | N14: 17 | O14: 22 | P14: 6 | Q14: 8 | R14: 17 | S14: 5 | T14: 31 | U14: 26 | V14: 29 | W14: 22 | X14: 13 | Y14: 6 | Z14: 10
A15: =A14+1 -> 5 | B15: =HLOOKUP("A",$F$10:$AF$510,D15+1) -> 10 | D15: =D14+1 -> 5 | G15: 10 | H15: 23 | I15: 21 | J15: 16 | K15: 8 | L15: 19 | M15: 5 | N15: 27 | O15: 26 | P15: 28 | Q15: 23 | R15: 21 | S15: 17 | T15: 32 | U15: 23 | V15: 10 | W15: 19 | X15: 21 | Y15: 2 | Z15: 25
A16: =A15+1 -> 6 | B16: =HLOOKUP("A",$F$10:$AF$510,D16+1) -> 34 | D16: =D15+1 -> 6 | G16: 34 | H16: 16 | I16: 3 | J16: 5 | K16: 2 | L16: 36 | M16: 15 | N16: 20 | O16: 34 | P16: 12 | Q16: 22 | R16: 23 | S16: 21 | T16: 7 | U16: 12 | V16: 29 | W16: 4 | X16: 16 | Y16: 19 | Z16: 36
A17: =A16+1 -> 7 | B17: =HLOOKUP("A",$F$10:$AF$510,D17+1) -> 0 | D17: =D16+1 -> 7 | G17: 0 | H17: 11 | I17: 32 | J17: 18 | K17: 17 | L17: 28 | M17: 26 | N17: 22 | O17: 31 | P17: 27 | Q17: 4 | R17: 18 | S17: 25 | T17: 3 | U17: 30 | V17: 30 | W17: 21 | X17: 34 | Y17: 24 | Z17: 14
A18: =A17+1 -> 8 | B18: =HLOOKUP("A",$F$10:$AF$510,D18+1) -> 8 | D18: =D17+1 -> 8 | G18: 8 | H18: 21 | I18: 26 | J18: 17 | K18: 33 | L18: 26 | M18: 33 | N18: 25 | O18: 12 | P18: 13 | Q18: 31 | R18: 26 | S18: 29 | T18: 16 | U18: 10 | V18: 24 | W18: 15 | X18: 8 | Y18: 34 | Z18: 20
A19: =A18+1 -> 9 | B19: =HLOOKUP("A",$F$10:$AF$510,D19+1) -> 17 | D19: =D18+1 -> 9 | G19: 17 | H19: 25 | I19: 1 | J19: 10 | K19: 1 | L19: 27 | M19: 2 | N19: 13 | O19: 11 | P19: 1 | Q19: 36 | R19: 32 | S19: 11 | T19: 32 | U19: 29 | V19: 28 | W19: 16 | X19: 36 | Y19: 33 | Z19: 28
A20: =A19+1 -> 10 | B20: =HLOOKUP("A",$F$10:$AF$510,D20+1) -> 9 | D20: =D19+1 -> 10 | G20: 9 | H20: 16 | I20: 0 | J20: 29 | K20: 10 | L20: 18 | M20: 23 | N20: 14 | O20: 16 | P20: 24 | Q20: 12 | R20: 29 | S20: 16 | T20: 6 | U20: 17 | V20: 6 | W20: 1 | X20: 26 | Y20: 6 | Z20: 30
A21: =A20+1 -> 11 | B21: =HLOOKUP("A",$F$10:$AF$510,D21+1) -> 21 | D21: =D20+1 -> 11 | G21: 21 | H21: 33 | I21: 28 | J21: 12 | K21: 36 | L21: 12 | M21: 30 | N21: 2 | O21: 25 | P21: 29 | Q21: 17 | R21: 7 | S21: 28 | T21: 19 | U21: 20 | V21: 30 | W21: 1 | X21: 3 | Y21: 10 | Z21: 17
A22: =A21+1 -> 12 | B22: =HLOOKUP("A",$F$10:$AF$510,D22+1) -> 32 | D22: =D21+1 -> 12 | G22: 32 | H22: 9 | I22: 21 | J22: 36 | K22: 24 | L22: 32 | M22: 18 | N22: 16 | O22: 19 | P22: 19 | Q22: 13 | R22: 25 | S22: 23 | T22: 19 | U22: 12 | V22: 26 | W22: 21 | X22: 11 | Y22: 31 | Z22: 20
A23: =A22+1 -> 13 | B23: =HLOOKUP("A",$F$10:$AF$510,D23+1) -> 19 | D23: =D22+1 -> 13 | G23: 19 | H23: 24 | I23: 22 | J23: 1 | K23: 4 | L23: 24 | M23: 14 | N23: 33 | O23: 17 | P23: 24 | Q23: 31 | R23: 0 | S23: 26 | T23: 5 | U23: 10 | V23: 4 | W23: 30 | X23: 7 | Y23: 11 | Z23: 20
... A510: =A509+1 -> 500 | B510: =HLOOKUP("A",$F$10:$AF$510,D510+1) -> 21 | D510: =D509+1 -> 500 | G510: 21 | H510: 9 | I510: 35 | J510: 5 | K510: 1 | L510: 2 | M510: 1 | N510: 33 | O510: 1 | P510: 33 | Q510: 16 | R510: 10 | S510: 36 | T510: 12 | U510: 18 | V510: 16 | W510: 16 | X510: 3 | Y510: 19 | Z510: 23

Sheet Stats
AE9: B/R | AF9: BP 1 | AI9: BP2 | AL9: BP3 | AO9: BP4 | AR9: BP5 | AU9: BP Backup
A10: SPINS | B10: NR | D10: 0 | E10: L | F10: H | G10: E | H10: O | I10: R | J10: B | K10: 1D | L10: 2D | M10: 3D | N10: C1 | O10: C2 | P10: C3 | Q10: S | R10: DS | T10: Hit | U10: No. | V10: % | X10: Hit | Y10: No. | Z10: % | AD10: 0 | AG10: W | AH10: L | AJ10: W | AK10: L | AM10: W | AN10: L
A11: 1 | B11: =Data!B11 -> 4 | D11: =IF($B11=0,0," ") | E11: =IF(AND(B11>0,B11<=18),"L"," ") -> L | F11: =IF(AND(B11>18,B11<=36),"H", " ") | G11: =IF(AND(ISEVEN(B11),B11<>0),"E"," ") -> E | H11: =IF(ISODD(B11),"O"," " ) | I11: =IF($B11=0," ",IF(INDEX(AD$11:AS$46,$B11,2)="R","R"," ")) | J11: =IF($B11=0," ",IF(INDEX(AD$11:AS$46,$B11,2)="B","B"," ")) -> B | K11: =IF(AND($B11>0,$B11<13),"1D"," ") -> 1D | L11: =IF(AND($B11>12,$B11<25),"2D"," ") | M11: =IF(AND($B11>24,$B11<37),"3D"," ") | N11: =IF(B11<>0,IF(MOD(B11,3)=1,1," ")," ") -> 1 | O11: =IF($B11<>0,IF(MOD($B11,3)=2,2," ")," ") | P11: =IF($B11<>0,IF(MOD($B11,3)=0,3," ")," ") | Q11: =IF($B11=0,0,IF(MOD($B11,3)=0,QUOTIENT($B11,3),QUOTIENT($B11,3)+1)) -> 2 | R11: =IF($B11=0,0,IF(MOD($B11,6)=0,QUOTIENT($B11,6),QUOTIENT($B11,6)+1)) -> 1 | T11: Zero | U11: =COUNTIF(D11:D510,0) -> 13 | V11: =U11/(COUNT($B$11:$B$510)) -> 0.026 | AD11: 1 | AE11: R | AF11: L | AG11: 16 | AI11: H | AJ11: 16 | AL11: 3 | AM11: 8 | AO11: =IF(MOD(AD11,12)=0,12,MOD(AD11,12)) -> 1 | AP11: 15 | AR11: =IF(MOD(AD11,6)=0,6,MOD(AD11,6)) -> 1 | AS11: 10 | AU11: L | AV11: H | AW11: 3 | AX11: 1 | AY11: 1
A12: =A11+1 -> 2 | B12: =Data!B12 -> 7 | D12: =IF($B12=0,0," ") | E12: =IF(AND(B12>0,B12<=18),"L"," ") -> L | F12: =IF(AND(B12>18,B12<=36),"H", " ") | G12: =IF(AND(ISEVEN(B12),B12<>0),"E"," ") | H12: =IF(ISODD(B12),"O"," " ) -> O | I12: =IF($B12=0," ",IF(INDEX(AD$11:AS$46,$B12,2)="R","R"," ")) -> R | J12: =IF($B12=0," ",IF(INDEX(AD$11:AS$46,$B12,2)="B","B"," ")) | K12: =IF(AND($B12>0,$B12<13),"1D"," ") -> 1D | L12: =IF(AND($B12>12,$B12<25),"2D"," ") | M12: =IF(AND($B12>24,$B12<37),"3D"," ") | N12: =IF(B12<>0,IF(MOD(B12,3)=1,1," ")," ") -> 1 | O12: =IF($B12<>0,IF(MOD($B12,3)=2,2," ")," ") | P12: =IF($B12<>0,IF(MOD($B12,3)=0,3," ")," ") | Q12: =IF($B12=0,0,IF(MOD($B12,3)=0,QUOTIENT($B12,3),QUOTIENT($B12,3)+1)) -> 3 | R12: =IF($B12=0,0,IF(MOD($B12,6)=0,QUOTIENT($B12,6),QUOTIENT($B12,6)+1)) -> 2 | AD12: 2 | AE12: B | AF12: L | AI12: H | AL12: 2 | AO12: =IF(MOD(AD12,12)=0,12,MOD(AD12,12)) -> 2 | AR12: =IF(MOD(AD12,6)=0,6,MOD(AD12,6)) -> 2 | AU12: L | AV12: H | AW12: 2 | AX12: 2 | AY12: 2
A13: =A12+1 -> 3 | B13: =Data!B13 -> 3 | D13: =IF($B13=0,0," ") | E13: =IF(AND(B13>0,B13<=18),"L"," ") -> L | F13: =IF(AND(B13>18,B13<=36),"H", " ") | G13: =IF(AND(ISEVEN(B13),B13<>0),"E"," ") | H13: =IF(ISODD(B13),"O"," " ) -> O | I13: =IF($B13=0," ",IF(INDEX(AD$11:AS$46,$B13,2)="R","R"," ")) -> R | J13: =IF($B13=0," ",IF(INDEX(AD$11:AS$46,$B13,2)="B","B"," ")) | K13: =IF(AND($B13>0,$B13<13),"1D"," ") -> 1D | L13: =IF(AND($B13>12,$B13<25),"2D"," ") | M13: =IF(AND($B13>24,$B13<37),"3D"," ") | N13: =IF(B13<>0,IF(MOD(B13,3)=1,1," ")," ") | O13: =IF($B13<>0,IF(MOD($B13,3)=2,2," ")," ") | P13: =IF($B13<>0,IF(MOD($B13,3)=0,3," ")," ") -> 3 | Q13: =IF($B13=0,0,IF(MOD($B13,3)=0,QUOTIENT($B13,3),QUOTIENT($B13,3)+1)) -> 1 | R13: =IF($B13=0,0,IF(MOD($B13,6)=0,QUOTIENT($B13,6),QUOTIENT($B13,6)+1)) -> 1 | T13: Low | U13: =COUNTIF(E11:E510,"L") -> 251 | V13: =U13/(COUNT($B$11:$B$510)) -> 0.502 | X13: Red | Y13: =COUNTIF(I11:I510,"R") -> 246 | Z13: =Y13/(COUNT($B$11:$B$510)) -> 0.492 | AD13: 3 | AE13: R | AF13: L | AI13: H | AL13: 1 | AO13: =IF(MOD(AD13,12)=0,12,MOD(AD13,12)) -> 3 | AR13: =IF(MOD(AD13,6)=0,6,MOD(AD13,6)) -> 3 | AU13: L | AV13: H | AW13: 1 | AX13: 3 | AY13: 3
A14: =A13+1 -> 4 | B14: =Data!B14 -> 24 | D14: =IF($B14=0,0," ") | E14: =IF(AND(B14>0,B14<=18),"L"," ") | F14: =IF(AND(B14>18,B14<=36),"H", " ") -> H | G14: =IF(AND(ISEVEN(B14),B14<>0),"E"," ") -> E | H14: =IF(ISODD(B14),"O"," " ) | I14: =IF($B14=0," ",IF(INDEX(AD$11:AS$46,$B14,2)="R","R"," ")) | J14: =IF($B14=0," ",IF(INDEX(AD$11:AS$46,$B14,2)="B","B"," ")) -> B | K14: =IF(AND($B14>0,$B14<13),"1D"," ") | L14: =IF(AND($B14>12,$B14<25),"2D"," ") -> 2D | M14: =IF(AND($B14>24,$B14<37),"3D"," ") | N14: =IF(B14<>0,IF(MOD(B14,3)=1,1," ")," ") | O14: =IF($B14<>0,IF(MOD($B14,3)=2,2," ")," ") | P14: =IF($B14<>0,IF(MOD($B14,3)=0,3," ")," ") -> 3 | Q14: =IF($B14=0,0,IF(MOD($B14,3)=0,QUOTIENT($B14,3),QUOTIENT($B14,3)+1)) -> 8 | R14: =IF($B14=0,0,IF(MOD($B14,6)=0,QUOTIENT($B14,6),QUOTIENT($B14,6)+1)) -> 4 | T14: High | U14: =COUNTIF(F11:F510,"H") -> 236 | V14: =U14/(COUNT($B$11:$B$510)) -> 0.472 | X14: Black | Y14: =COUNTIF(J11:J510,"B") -> 241 | Z14: =Y14/(COUNT($B$11:$B$510)) -> 0.482 | AD14: 4 | AE14: B | AF14: L | AI14: H | AL14: 3 | AO14: =IF(MOD(AD14,12)=0,12,MOD(AD14,12)) -> 4 | AR14: =IF(MOD(AD14,6)=0,6,MOD(AD14,6)) -> 4 | AU14: L | AV14: H | AW14: 3 | AX14: 4 | AY14: 4
A15: =A14+1 -> 5 | B15: =Data!B15 -> 10 | D15: =IF($B15=0,0," ") | E15: =IF(AND(B15>0,B15<=18),"L"," ") -> L | F15: =IF(AND(B15>18,B15<=36),"H", " ") | G15: =IF(AND(ISEVEN(B15),B15<>0),"E"," ") -> E | H15: =IF(ISODD(B15),"O"," " ) | I15: =IF($B15=0," ",IF(INDEX(AD$11:AS$46,$B15,2)="R","R"," ")) | J15: =IF($B15=0," ",IF(INDEX(AD$11:AS$46,$B15,2)="B","B"," ")) -> B | K15: =IF(AND($B15>0,$B15<13),"1D"," ") -> 1D | L15: =IF(AND($B15>12,$B15<25),"2D"," ") | M15: =IF(AND($B15>24,$B15<37),"3D"," ") | N15: =IF(B15<>0,IF(MOD(B15,3)=1,1," ")," ") -> 1 | O15: =IF($B15<>0,IF(MOD($B15,3)=2,2," ")," ") | P15: =IF($B15<>0,IF(MOD($B15,3)=0,3," ")," ") | Q15: =IF($B15=0,0,IF(MOD($B15,3)=0,QUOTIENT($B15,3),QUOTIENT($B15,3)+1)) -> 4 | R15: =IF($B15=0,0,IF(MOD($B15,6)=0,QUOTIENT($B15,6),QUOTIENT($B15,6)+1)) -> 2 | T15: Even | U15: =COUNTIF(G11:G510,"E") -> 235 | V15: =U15/(COUNT($B$11:$B$510)) -> 0.47 | AD15: 5 | AE15: R | AF15: L | AI15: H | AL15: 2 | AO15: =IF(MOD(AD15,12)=0,12,MOD(AD15,12)) -> 5 | AR15: =IF(MOD(AD15,6)=0,6,MOD(AD15,6)) -> 5 | AU15: L | AV15: H | AW15: 2 | AX15: 5 | AY15: 5
A16: =A15+1 -> 6 | B16: =Data!B16 -> 34 | D16: =IF($B16=0,0," ") | E16: =IF(AND(B16>0,B16<=18),"L"," ") | F16: =IF(AND(B16>18,B16<=36),"H", " ") -> H | G16: =IF(AND(ISEVEN(B16),B16<>0),"E"," ") -> E | H16: =IF(ISODD(B16),"O"," " ) | I16: =IF($B16=0," ",IF(INDEX(AD$11:AS$46,$B16,2)="R","R"," ")) -> R | J16: =IF($B16=0," ",IF(INDEX(AD$11:AS$46,$B16,2)="B","B"," ")) | K16: =IF(AND($B16>0,$B16<13),"1D"," ") | L16: =IF(AND($B16>12,$B16<25),"2D"," ") | M16: =IF(AND($B16>24,$B16<37),"3D"," ") -> 3D | N16: =IF(B16<>0,IF(MOD(B16,3)=1,1," ")," ") -> 1 | O16: =IF($B16<>0,IF(MOD($B16,3)=2,2," ")," ") | P16: =IF($B16<>0,IF(MOD($B16,3)=0,3," ")," ") | Q16: =IF($B16=0,0,IF(MOD($B16,3)=0,QUOTIENT($B16,3),QUOTIENT($B16,3)+1)) -> 12 | R16: =IF($B16=0,0,IF(MOD($B16,6)=0,QUOTIENT($B16,6),QUOTIENT($B16,6)+1)) -> 6 | T16: Odd | U16: =COUNTIF(H11:H510,"O") -> 252 | V16: =U16/(COUNT($B$11:$B$510)) -> 0.504 | AD16: 6 | AE16: B | AF16: L | AI16: H | AL16: 1 | AO16: =IF(MOD(AD16,12)=0,12,MOD(AD16,12)) -> 6 | AR16: =IF(MOD(AD16,6)=0,6,MOD(AD16,6)) -> 6 | AU16: L | AV16: H | AW16: 1 | AX16: 6 | AY16: 6
A17: =A16+1 -> 7 | B17: =Data!B17 -> 0 | D17: =IF($B17=0,0," ") -> 0 | E17: =IF(AND(B17>0,B17<=18),"L"," ") | F17: =IF(AND(B17>18,B17<=36),"H", " ") | G17: =IF(AND(ISEVEN(B17),B17<>0),"E"," ") | H17: =IF(ISODD(B17),"O"," " ) | I17: =IF($B17=0," ",IF(INDEX(AD$11:AS$46,$B17,2)="R","R"," ")) | J17: =IF($B17=0," ",IF(INDEX(AD$11:AS$46,$B17,2)="B","B"," ")) | K17: =IF(AND($B17>0,$B17<13),"1D"," ") | L17: =IF(AND($B17>12,$B17<25),"2D"," ") | M17: =IF(AND($B17>24,$B17<37),"3D"," ") | N17: =IF(B17<>0,IF(MOD(B17,3)=1,1," ")," ") | O17: =IF($B17<>0,IF(MOD($B17,3)=2,2," ")," ") | P17: =IF($B17<>0,IF(MOD($B17,3)=0,3," ")," ") | Q17: =IF($B17=0,0,IF(MOD($B17,3)=0,QUOTIENT($B17,3),QUOTIENT($B17,3)+1)) -> 0 | R17: =IF($B17=0,0,IF(MOD($B17,6)=0,QUOTIENT($B17,6),QUOTIENT($B17,6)+1)) -> 0 | AD17: 7 | AE17: R | AF17: E | AI17: O | AL17: 3 | AO17: =IF(MOD(AD17,12)=0,12,MOD(AD17,12)) -> 7 | AR17: =IF(MOD(AD17,6)=0,6,MOD(AD17,6)) -> 1 | AU17: E | AV17: O | AW17: 3 | AX17: 7 | AY17: 1
A18: =A17+1 -> 8 | B18: =Data!B18 -> 8 | D18: =IF($B18=0,0," ") | E18: =IF(AND(B18>0,B18<=18),"L"," ") -> L | F18: =IF(AND(B18>18,B18<=36),"H", " ") | G18: =IF(AND(ISEVEN(B18),B18<>0),"E"," ") -> E | H18: =IF(ISODD(B18),"O"," " ) | I18: =IF($B18=0," ",IF(INDEX(AD$11:AS$46,$B18,2)="R","R"," ")) | J18: =IF($B18=0," ",IF(INDEX(AD$11:AS$46,$B18,2)="B","B"," ")) -> B | K18: =IF(AND($B18>0,$B18<13),"1D"," ") -> 1D | L18: =IF(AND($B18>12,$B18<25),"2D"," ") | M18: =IF(AND($B18>24,$B18<37),"3D"," ") | N18: =IF(B18<>0,IF(MOD(B18,3)=1,1," ")," ") | O18: =IF($B18<>0,IF(MOD($B18,3)=2,2," ")," ") -> 2 | P18: =IF($B18<>0,IF(MOD($B18,3)=0,3," ")," ") | Q18: =IF($B18=0,0,IF(MOD($B18,3)=0,QUOTIENT($B18,3),QUOTIENT($B18,3)+1)) -> 3 | R18: =IF($B18=0,0,IF(MOD($B18,6)=0,QUOTIENT($B18,6),QUOTIENT($B18,6)+1)) -> 2 | T18: 1st Doz | U18: =COUNTIF(K11:K510,"1D") -> 167 | V18: =U18/(COUNT($B$11:$B$510)) -> 0.334 | X18: Col A | Y18: =COUNTIF(N11:N510,1) -> 161 | Z18: =Y18/(COUNT($B$11:$B$510)) -> 0.322 | AD18: 8 | AE18: B | AF18: E | AI18: O | AL18: 2 | AO18: =IF(MOD(AD18,12)=0,12,MOD(AD18,12)) -> 8 | AR18: =IF(MOD(AD18,6)=0,6,MOD(AD18,6)) -> 2 | AU18: E | AV18: O | AW18: 2 | AX18: 8 | AY18: 2
A19: =A18+1 -> 9 | B19: =Data!B19 -> 17 | D19: =IF($B19=0,0," ") | E19: =IF(AND(B19>0,B19<=18),"L"," ") -> L | F19: =IF(AND(B19>18,B19<=36),"H", " ") | G19: =IF(AND(ISEVEN(B19),B19<>0),"E"," ") | H19: =IF(ISODD(B19),"O"," " ) -> O | I19: =IF($B19=0," ",IF(INDEX(AD$11:AS$46,$B19,2)="R","R"," ")) | J19: =IF($B19=0," ",IF(INDEX(AD$11:AS$46,$B19,2)="B","B"," ")) -> B | K19: =IF(AND($B19>0,$B19<13),"1D"," ") | L19: =IF(AND($B19>12,$B19<25),"2D"," ") -> 2D | M19: =IF(AND($B19>24,$B19<37),"3D"," ") | N19: =IF(B19<>0,IF(MOD(B19,3)=1,1," ")," ") | O19: =IF($B19<>0,IF(MOD($B19,3)=2,2," ")," ") -> 2 | P19: =IF($B19<>0,IF(MOD($B19,3)=0,3," ")," ") | Q19: =IF($B19=0,0,IF(MOD($B19,3)=0,QUOTIENT($B19,3),QUOTIENT($B19,3)+1)) -> 6 | R19: =IF($B19=0,0,IF(MOD($B19,6)=0,QUOTIENT($B19,6),QUOTIENT($B19,6)+1)) -> 3 | T19: 2nd Doz | U19: =COUNTIF(L11:L510,"2D") -> 180 | V19: =U19/(COUNT($B$11:$B$510)) -> 0.36 | X19: Col B | Y19: =COUNTIF(O11:O510,2) -> 160 | Z19: =Y19/(COUNT($B$11:$B$510)) -> 0.32 | AD19: 9 | AE19: R | AF19: E | AI19: O | AL19: 1 | AO19: =IF(MOD(AD19,12)=0,12,MOD(AD19,12)) -> 9 | AR19: =IF(MOD(AD19,6)=0,6,MOD(AD19,6)) -> 3 | AU19: E | AV19: O | AW19: 1 | AX19: 9 | AY19: 3
A20: =A19+1 -> 10 | B20: =Data!B20 -> 9 | D20: =IF($B20=0,0," ") | E20: =IF(AND(B20>0,B20<=18),"L"," ") -> L | F20: =IF(AND(B20>18,B20<=36),"H", " ") | G20: =IF(AND(ISEVEN(B20),B20<>0),"E"," ") | H20: =IF(ISODD(B20),"O"," " ) -> O | I20: =IF($B20=0," ",IF(INDEX(AD$11:AS$46,$B20,2)="R","R"," ")) -> R | J20: =IF($B20=0," ",IF(INDEX(AD$11:AS$46,$B20,2)="B","B"," ")) | K20: =IF(AND($B20>0,$B20<13),"1D"," ") -> 1D | L20: =IF(AND($B20>12,$B20<25),"2D"," ") | M20: =IF(AND($B20>24,$B20<37),"3D"," ") | N20: =IF(B20<>0,IF(MOD(B20,3)=1,1," ")," ") | O20: =IF($B20<>0,IF(MOD($B20,3)=2,2," ")," ") | P20: =IF($B20<>0,IF(MOD($B20,3)=0,3," ")," ") -> 3 | Q20: =IF($B20=0,0,IF(MOD($B20,3)=0,QUOTIENT($B20,3),QUOTIENT($B20,3)+1)) -> 3 | R20: =IF($B20=0,0,IF(MOD($B20,6)=0,QUOTIENT($B20,6),QUOTIENT($B20,6)+1)) -> 2 | T20: 3rd Doz | U20: =COUNTIF(M11:M510,"3D") -> 140 | V20: =U20/(COUNT($B$11:$B$510)) -> 0.28 | X20: Col C | Y20: =COUNTIF(P11:P510,3) -> 166 | Z20: =Y20/(COUNT($B$11:$B$510)) -> 0.332 | AD20: 10 | AE20: B | AF20: E | AI20: O | AL20: 3 | AO20: =IF(MOD(AD20,12)=0,12,MOD(AD20,12)) -> 10 | AR20: =IF(MOD(AD20,6)=0,6,MOD(AD20,6)) -> 4 | AU20: E | AV20: O | AW20: 3 | AX20: 10 | AY20: 4
A21: =A20+1 -> 11 | B21: =Data!B21 -> 21 | D21: =IF($B21=0,0," ") | E21: =IF(AND(B21>0,B21<=18),"L"," ") | F21: =IF(AND(B21>18,B21<=36),"H", " ") -> H | G21: =IF(AND(ISEVEN(B21),B21<>0),"E"," ") | H21: =IF(ISODD(B21),"O"," " ) -> O | I21: =IF($B21=0," ",IF(INDEX(AD$11:AS$46,$B21,2)="R","R"," ")) -> R | J21: =IF($B21=0," ",IF(INDEX(AD$11:AS$46,$B21,2)="B","B"," ")) | K21: =IF(AND($B21>0,$B21<13),"1D"," ") | L21: =IF(AND($B21>12,$B21<25),"2D"," ") -> 2D | M21: =IF(AND($B21>24,$B21<37),"3D"," ") | N21: =IF(B21<>0,IF(MOD(B21,3)=1,1," ")," ") | O21: =IF($B21<>0,IF(MOD($B21,3)=2,2," ")," ") | P21: =IF($B21<>0,IF(MOD($B21,3)=0,3," ")," ") -> 3 | Q21: =IF($B21=0,0,IF(MOD($B21,3)=0,QUOTIENT($B21,3),QUOTIENT($B21,3)+1)) -> 7 | R21: =IF($B21=0,0,IF(MOD($B21,6)=0,QUOTIENT($B21,6),QUOTIENT($B21,6)+1)) -> 4 | AD21: 11 | AE21: B | AF21: E | AI21: O | AL21: 2 | AO21: =IF(MOD(AD21,12)=0,12,MOD(AD21,12)) -> 11 | AR21: =IF(MOD(AD21,6)=0,6,MOD(AD21,6)) -> 5 | AU21: E | AV21: O | AW21: 2 | AX21: 11 | AY21: 5
A22: =A21+1 -> 12 | B22: =Data!B22 -> 32 | D22: =IF($B22=0,0," ") | E22: =IF(AND(B22>0,B22<=18),"L"," ") | F22: =IF(AND(B22>18,B22<=36),"H", " ") -> H | G22: =IF(AND(ISEVEN(B22),B22<>0),"E"," ") -> E | H22: =IF(ISODD(B22),"O"," " ) | I22: =IF($B22=0," ",IF(INDEX(AD$11:AS$46,$B22,2)="R","R"," ")) -> R | J22: =IF($B22=0," ",IF(INDEX(AD$11:AS$46,$B22,2)="B","B"," ")) | K22: =IF(AND($B22>0,$B22<13),"1D"," ") | L22: =IF(AND($B22>12,$B22<25),"2D"," ") | M22: =IF(AND($B22>24,$B22<37),"3D"," ") -> 3D | N22: =IF(B22<>0,IF(MOD(B22,3)=1,1," ")," ") | O22: =IF($B22<>0,IF(MOD($B22,3)=2,2," ")," ") -> 2 | P22: =IF($B22<>0,IF(MOD($B22,3)=0,3," ")," ") | Q22: =IF($B22=0,0,IF(MOD($B22,3)=0,QUOTIENT($B22,3),QUOTIENT($B22,3)+1)) -> 11 | R22: =IF($B22=0,0,IF(MOD($B22,6)=0,QUOTIENT($B22,6),QUOTIENT($B22,6)+1)) -> 6 | T22: DS 1 | U22: =COUNTIF($R$11:$R$510,1) -> 76 | V22: =U22/(COUNT($B$11:$B$510)) -> 0.152 | X22: DS 4 | Y22: =COUNTIF($R$11:$R$510,4) -> 96 | Z22: =Y22/(COUNT($B$11:$B$510)) -> 0.192 | AD22: 12 | AE22: R | AF22: E | AI22: O | AL22: 1 | AO22: =IF(MOD(AD22,12)=0,12,MOD(AD22,12)) -> 12 | AR22: =IF(MOD(AD22,6)=0,6,MOD(AD22,6)) -> 6 | AU22: E | AV22: O | AW22: 1 | AX22: 12 | AY22: 6
A23: =A22+1 -> 13 | B23: =Data!B23 -> 19 | D23: =IF($B23=0,0," ") | E23: =IF(AND(B23>0,B23<=18),"L"," ") | F23: =IF(AND(B23>18,B23<=36),"H", " ") -> H | G23: =IF(AND(ISEVEN(B23),B23<>0),"E"," ") | H23: =IF(ISODD(B23),"O"," " ) -> O | I23: =IF($B23=0," ",IF(INDEX(AD$11:AS$46,$B23,2)="R","R"," ")) -> R | J23: =IF($B23=0," ",IF(INDEX(AD$11:AS$46,$B23,2)="B","B"," ")) | K23: =IF(AND($B23>0,$B23<13),"1D"," ") | L23: =IF(AND($B23>12,$B23<25),"2D"," ") -> 2D | M23: =IF(AND($B23>24,$B23<37),"3D"," ") | N23: =IF(B23<>0,IF(MOD(B23,3)=1,1," ")," ") -> 1 | O23: =IF($B23<>0,IF(MOD($B23,3)=2,2," ")," ") | P23: =IF($B23<>0,IF(MOD($B23,3)=0,3," ")," ") | Q23: =IF($B23=0,0,IF(MOD($B23,3)=0,QUOTIENT($B23,3),QUOTIENT($B23,3)+1)) -> 7 | R23: =IF($B23=0,0,IF(MOD($B23,6)=0,QUOTIENT($B23,6),QUOTIENT($B23,6)+1)) -> 4 | T23: DS 2 | U23: =COUNTIF($R$11:$R$510,2) -> 91 | V23: =U23/(COUNT($B$11:$B$510)) -> 0.182 | X23: DS 5 | Y23: =COUNTIF($R$11:$R$510,5) -> 64 | Z23: =Y23/(COUNT($B$11:$B$510)) -> 0.128 | AD23: 13 | AE23: B | AF23: R | AI23: B | AL23: 3 | AO23: =IF(MOD(AD23,12)=0,12,MOD(AD23,12)) -> 1 | AR23: =IF(MOD(AD23,6)=0,6,MOD(AD23,6)) -> 1 | AU23: R | AV23: B | AW23: 3 | AX23: 1 | AY23: 1
A24: =A23+1 -> 14 | B24: =Data!B24 -> 22 | D24: =IF($B24=0,0," ") | E24: =IF(AND(B24>0,B24<=18),"L"," ") | F24: =IF(AND(B24>18,B24<=36),"H", " ") -> H | G24: =IF(AND(ISEVEN(B24),B24<>0),"E"," ") -> E | H24: =IF(ISODD(B24),"O"," " ) | I24: =IF($B24=0," ",IF(INDEX(AD$11:AS$46,$B24,2)="R","R"," ")) | J24: =IF($B24=0," ",IF(INDEX(AD$11:AS$46,$B24,2)="B","B"," ")) -> B | K24: =IF(AND($B24>0,$B24<13),"1D"," ") | L24: =IF(AND($B24>12,$B24<25),"2D"," ") -> 2D | M24: =IF(AND($B24>24,$B24<37),"3D"," ") | N24: =IF(B24<>0,IF(MOD(B24,3)=1,1," ")," ") -> 1 | O24: =IF($B24<>0,IF(MOD($B24,3)=2,2," ")," ") | P24: =IF($B24<>0,IF(MOD($B24,3)=0,3," ")," ") | Q24: =IF($B24=0,0,IF(MOD($B24,3)=0,QUOTIENT($B24,3),QUOTIENT($B24,3)+1)) -> 8 | R24: =IF($B24=0,0,IF(MOD($B24,6)=0,QUOTIENT($B24,6),QUOTIENT($B24,6)+1)) -> 4 | T24: DS 3 | U24: =COUNTIF($R$11:$R$510,3) -> 84 | V24: =U24/(COUNT($B$11:$B$510)) -> 0.168 | X24: DS 6 | Y24: =COUNTIF($R$11:$R$510,6) -> 76 | Z24: =Y24/(COUNT($B$11:$B$510)) -> 0.152 | AD24: 14 | AE24: R | AF24: R | AI24: B | AL24: 2 | AO24: =IF(MOD(AD24,12)=0,12,MOD(AD24,12)) -> 2 | AR24: =IF(MOD(AD24,6)=0,6,MOD(AD24,6)) -> 2 | AU24: R | AV24: B | AW24: 2 | AX24: 2 | AY24: 2
A25: =A24+1 -> 15 | B25: =Data!B25 -> 10 | D25: =IF($B25=0,0," ") | E25: =IF(AND(B25>0,B25<=18),"L"," ") -> L | F25: =IF(AND(B25>18,B25<=36),"H", " ") | G25: =IF(AND(ISEVEN(B25),B25<>0),"E"," ") -> E | H25: =IF(ISODD(B25),"O"," " ) | I25: =IF($B25=0," ",IF(INDEX(AD$11:AS$46,$B25,2)="R","R"," ")) | J25: =IF($B25=0," ",IF(INDEX(AD$11:AS$46,$B25,2)="B","B"," ")) -> B | K25: =IF(AND($B25>0,$B25<13),"1D"," ") -> 1D | L25: =IF(AND($B25>12,$B25<25),"2D"," ") | M25: =IF(AND($B25>24,$B25<37),"3D"," ") | N25: =IF(B25<>0,IF(MOD(B25,3)=1,1," ")," ") -> 1 | O25: =IF($B25<>0,IF(MOD($B25,3)=2,2," ")," ") | P25: =IF($B25<>0,IF(MOD($B25,3)=0,3," ")," ") | Q25: =IF($B25=0,0,IF(MOD($B25,3)=0,QUOTIENT($B25,3),QUOTIENT($B25,3)+1)) -> 4 | R25: =IF($B25=0,0,IF(MOD($B25,6)=0,QUOTIENT($B25,6),QUOTIENT($B25,6)+1)) -> 2 | AD25: 15 | AE25: B | AF25: R | AI25: B | AL25: 1 | AO25: =IF(MOD(AD25,12)=0,12,MOD(AD25,12)) -> 3 | AR25: =IF(MOD(AD25,6)=0,6,MOD(AD25,6)) -> 3 | AU25: R | AV25: B | AW25: 1 | AX25: 3 | AY25: 3
A26: =A25+1 -> 16 | B26: =Data!B26 -> 21 | D26: =IF($B26=0,0," ") | E26: =IF(AND(B26>0,B26<=18),"L"," ") | F26: =IF(AND(B26>18,B26<=36),"H", " ") -> H | G26: =IF(AND(ISEVEN(B26),B26<>0),"E"," ") | H26: =IF(ISODD(B26),"O"," " ) -> O | I26: =IF($B26=0," ",IF(INDEX(AD$11:AS$46,$B26,2)="R","R"," ")) -> R | J26: =IF($B26=0," ",IF(INDEX(AD$11:AS$46,$B26,2)="B","B"," ")) | K26: =IF(AND($B26>0,$B26<13),"1D"," ") | L26: =IF(AND($B26>12,$B26<25),"2D"," ") -> 2D | M26: =IF(AND($B26>24,$B26<37),"3D"," ") | N26: =IF(B26<>0,IF(MOD(B26,3)=1,1," ")," ") | O26: =IF($B26<>0,IF(MOD($B26,3)=2,2," ")," ") | P26: =IF($B26<>0,IF(MOD($B26,3)=0,3," ")," ") -> 3 | Q26: =IF($B26=0,0,IF(MOD($B26,3)=0,QUOTIENT($B26,3),QUOTIENT($B26,3)+1)) -> 7 | R26: =IF($B26=0,0,IF(MOD($B26,6)=0,QUOTIENT($B26,6),QUOTIENT($B26,6)+1)) -> 4 | T26: Street 1 | U26: =COUNTIF($Q$11:$Q$510,1) -> 33 | V26: =U26/(COUNT($B$11:$B$510)) -> 0.066 | X26: Street 7 | Y26: =COUNTIF($Q$11:$Q$510,7) -> 47 | Z26: =Y26/(COUNT($B$11:$B$510)) -> 0.094 | AD26: 16 | AE26: R | AF26: R | AI26: B | AL26: 3 | AO26: =IF(MOD(AD26,12)=0,12,MOD(AD26,12)) -> 4 | AR26: =IF(MOD(AD26,6)=0,6,MOD(AD26,6)) -> 4 | AU26: R | AV26: B | AW26: 3 | AX26: 4 | AY26: 4
A27: =A26+1 -> 17 | B27: =Data!B27 -> 4 | D27: =IF($B27=0,0," ") | E27: =IF(AND(B27>0,B27<=18),"L"," ") -> L | F27: =IF(AND(B27>18,B27<=36),"H", " ") | G27: =IF(AND(ISEVEN(B27),B27<>0),"E"," ") -> E | H27: =IF(ISODD(B27),"O"," " ) | I27: =IF($B27=0," ",IF(INDEX(AD$11:AS$46,$B27,2)="R","R"," ")) | J27: =IF($B27=0," ",IF(INDEX(AD$11:AS$46,$B27,2)="B","B"," ")) -> B | K27: =IF(AND($B27>0,$B27<13),"1D"," ") -> 1D | L27: =IF(AND($B27>12,$B27<25),"2D"," ") | M27: =IF(AND($B27>24,$B27<37),"3D"," ") | N27: =IF(B27<>0,IF(MOD(B27,3)=1,1," ")," ") -> 1 | O27: =IF($B27<>0,IF(MOD($B27,3)=2,2," ")," ") | P27: =IF($B27<>0,IF(MOD($B27,3)=0,3," ")," ") | Q27: =IF($B27=0,0,IF(MOD($B27,3)=0,QUOTIENT($B27,3),QUOTIENT($B27,3)+1)) -> 2 | R27: =IF($B27=0,0,IF(MOD($B27,6)=0,QUOTIENT($B27,6),QUOTIENT($B27,6)+1)) -> 1 | T27: Street 2 | U27: =COUNTIF($Q$11:$Q$510,2) -> 43 | V27: =U27/(COUNT($B$11:$B$510)) -> 0.086 | X27: Street 8 | Y27: =COUNTIF($Q$11:$Q$510,8) -> 49 | Z27: =Y27/(COUNT($B$11:$B$510)) -> 0.098 | AD27: 17 | AE27: B | AF27: R | AI27: B | AL27: 2 | AO27: =IF(MOD(AD27,12)=0,12,MOD(AD27,12)) -> 5 | AR27: =IF(MOD(AD27,6)=0,6,MOD(AD27,6)) -> 5 | AU27: R | AV27: B | AW27: 2 | AX27: 5 | AY27: 5
A28: =A27+1 -> 18 | B28: =Data!B28 -> 18 | D28: =IF($B28=0,0," ") | E28: =IF(AND(B28>0,B28<=18),"L"," ") -> L | F28: =IF(AND(B28>18,B28<=36),"H", " ") | G28: =IF(AND(ISEVEN(B28),B28<>0),"E"," ") -> E | H28: =IF(ISODD(B28),"O"," " ) | I28: =IF($B28=0," ",IF(INDEX(AD$11:AS$46,$B28,2)="R","R"," ")) -> R | J28: =IF($B28=0," ",IF(INDEX(AD$11:AS$46,$B28,2)="B","B"," ")) | K28: =IF(AND($B28>0,$B28<13),"1D"," ") | L28: =IF(AND($B28>12,$B28<25),"2D"," ") -> 2D | M28: =IF(AND($B28>24,$B28<37),"3D"," ") | N28: =IF(B28<>0,IF(MOD(B28,3)=1,1," ")," ") | O28: =IF($B28<>0,IF(MOD($B28,3)=2,2," ")," ") | P28: =IF($B28<>0,IF(MOD($B28,3)=0,3," ")," ") -> 3 | Q28: =IF($B28=0,0,IF(MOD($B28,3)=0,QUOTIENT($B28,3),QUOTIENT($B28,3)+1)) -> 6 | R28: =IF($B28=0,0,IF(MOD($B28,6)=0,QUOTIENT($B28,6),QUOTIENT($B28,6)+1)) -> 3 | T28: Street 3 | U28: =COUNTIF($Q$11:$Q$510,3) -> 54 | V28: =U28/(COUNT($B$11:$B$510)) -> 0.108 | X28: Street 9 | Y28: =COUNTIF($Q$11:$Q$510,9) -> 33 | Z28: =Y28/(COUNT($B$11:$B$510)) -> 0.066 | AD28: 18 | AE28: R | AF28: R | AI28: B | AL28: 1 | AO28: =IF(MOD(AD28,12)=0,12,MOD(AD28,12)) -> 6 | AR28: =IF(MOD(AD28,6)=0,6,MOD(AD28,6)) -> 6 | AU28: R | AV28: B | AW28: 1 | AX28: 6 | AY28: 6
A29: =A28+1 -> 19 | B29: =Data!B29 -> 1 | D29: =IF($B29=0,0," ") | E29: =IF(AND(B29>0,B29<=18),"L"," ") -> L | F29: =IF(AND(B29>18,B29<=36),"H", " ") | G29: =IF(AND(ISEVEN(B29),B29<>0),"E"," ") | H29: =IF(ISODD(B29),"O"," " ) -> O | I29: =IF($B29=0," ",IF(INDEX(AD$11:AS$46,$B29,2)="R","R"," ")) -> R | J29: =IF($B29=0," ",IF(INDEX(AD$11:AS$46,$B29,2)="B","B"," ")) | K29: =IF(AND($B29>0,$B29<13),"1D"," ") -> 1D | L29: =IF(AND($B29>12,$B29<25),"2D"," ") | M29: =IF(AND($B29>24,$B29<37),"3D"," ") | N29: =IF(B29<>0,IF(MOD(B29,3)=1,1," ")," ") -> 1 | O29: =IF($B29<>0,IF(MOD($B29,3)=2,2," ")," ") | P29: =IF($B29<>0,IF(MOD($B29,3)=0,3," ")," ") | Q29: =IF($B29=0,0,IF(MOD($B29,3)=0,QUOTIENT($B29,3),QUOTIENT($B29,3)+1)) -> 1 | R29: =IF($B29=0,0,IF(MOD($B29,6)=0,QUOTIENT($B29,6),QUOTIENT($B29,6)+1)) -> 1 | T29: Street 4 | U29: =COUNTIF($Q$11:$Q$510,4) -> 37 | V29: =U29/(COUNT($B$11:$B$510)) -> 0.074 | X29: Street 10 | Y29: =COUNTIF($Q$11:$Q$510,10) -> 31 | Z29: =Y29/(COUNT($B$11:$B$510)) -> 0.062 | AD29: 19 | AE29: R | AF29: B | AI29: R | AL29: 3 | AO29: =IF(MOD(AD29,12)=0,12,MOD(AD29,12)) -> 7 | AR29: =IF(MOD(AD29,6)=0,6,MOD(AD29,6)) -> 1 | AU29: B | AV29: R | AW29: 3 | AX29: 7 | AY29: 1
A30: =A29+1 -> 20 | B30: =Data!B30 -> 4 | D30: =IF($B30=0,0," ") | E30: =IF(AND(B30>0,B30<=18),"L"," ") -> L | F30: =IF(AND(B30>18,B30<=36),"H", " ") | G30: =IF(AND(ISEVEN(B30),B30<>0),"E"," ") -> E | H30: =IF(ISODD(B30),"O"," " ) | I30: =IF($B30=0," ",IF(INDEX(AD$11:AS$46,$B30,2)="R","R"," ")) | J30: =IF($B30=0," ",IF(INDEX(AD$11:AS$46,$B30,2)="B","B"," ")) -> B | K30: =IF(AND($B30>0,$B30<13),"1D"," ") -> 1D | L30: =IF(AND($B30>12,$B30<25),"2D"," ") | M30: =IF(AND($B30>24,$B30<37),"3D"," ") | N30: =IF(B30<>0,IF(MOD(B30,3)=1,1," ")," ") -> 1 | O30: =IF($B30<>0,IF(MOD($B30,3)=2,2," ")," ") | P30: =IF($B30<>0,IF(MOD($B30,3)=0,3," ")," ") | Q30: =IF($B30=0,0,IF(MOD($B30,3)=0,QUOTIENT($B30,3),QUOTIENT($B30,3)+1)) -> 2 | R30: =IF($B30=0,0,IF(MOD($B30,6)=0,QUOTIENT($B30,6),QUOTIENT($B30,6)+1)) -> 1 | T30: Street 5 | U30: =COUNTIF($Q$11:$Q$510,5) -> 42 | V30: =U30/(COUNT($B$11:$B$510)) -> 0.084 | X30: Street 11 | Y30: =COUNTIF($Q$11:$Q$510,11) -> 41 | Z30: =Y30/(COUNT($B$11:$B$510)) -> 0.082 | AD30: 20 | AE30: B | AF30: B | AI30: R | AL30: 2 | AO30: =IF(MOD(AD30,12)=0,12,MOD(AD30,12)) -> 8 | AR30: =IF(MOD(AD30,6)=0,6,MOD(AD30,6)) -> 2 | AU30: B | AV30: R | AW30: 2 | AX30: 8 | AY30: 2
A31: =A30+1 -> 21 | B31: =Data!B31 -> 2 | D31: =IF($B31=0,0," ") | E31: =IF(AND(B31>0,B31<=18),"L"," ") -> L | F31: =IF(AND(B31>18,B31<=36),"H", " ") | G31: =IF(AND(ISEVEN(B31),B31<>0),"E"," ") -> E | H31: =IF(ISODD(B31),"O"," " ) | I31: =IF($B31=0," ",IF(INDEX(AD$11:AS$46,$B31,2)="R","R"," ")) | J31: =IF($B31=0," ",IF(INDEX(AD$11:AS$46,$B31,2)="B","B"," ")) -> B | K31: =IF(AND($B31>0,$B31<13),"1D"," ") -> 1D | L31: =IF(AND($B31>12,$B31<25),"2D"," ") | M31: =IF(AND($B31>24,$B31<37),"3D"," ") | N31: =IF(B31<>0,IF(MOD(B31,3)=1,1," ")," ") | O31: =IF($B31<>0,IF(MOD($B31,3)=2,2," ")," ") -> 2 | P31: =IF($B31<>0,IF(MOD($B31,3)=0,3," ")," ") | Q31: =IF($B31=0,0,IF(MOD($B31,3)=0,QUOTIENT($B31,3),QUOTIENT($B31,3)+1)) -> 1 | R31: =IF($B31=0,0,IF(MOD($B31,6)=0,QUOTIENT($B31,6),QUOTIENT($B31,6)+1)) -> 1 | T31: Street 6 | U31: =COUNTIF($Q$11:$Q$510,6) -> 42 | V31: =U31/(COUNT($B$11:$B$510)) -> 0.084 | X31: Street 12 | Y31: =COUNTIF($Q$11:$Q$510,12) -> 35 | Z31: =Y31/(COUNT($B$11:$B$510)) -> 0.07 | AD31: 21 | AE31: R | AF31: B | AI31: R | AL31: 1 | AO31: =IF(MOD(AD31,12)=0,12,MOD(AD31,12)) -> 9 | AR31: =IF(MOD(AD31,6)=0,6,MOD(AD31,6)) -> 3 | AU31: B | AV31: R | AW31: 1 | AX31: 9 | AY31: 3
A32: =A31+1 -> 22 | B32: =Data!B32 -> 34 | D32: =IF($B32=0,0," ") | E32: =IF(AND(B32>0,B32<=18),"L"," ") | F32: =IF(AND(B32>18,B32<=36),"H", " ") -> H | G32: =IF(AND(ISEVEN(B32),B32<>0),"E"," ") -> E | H32: =IF(ISODD(B32),"O"," " ) | I32: =IF($B32=0," ",IF(INDEX(AD$11:AS$46,$B32,2)="R","R"," ")) -> R | J32: =IF($B32=0," ",IF(INDEX(AD$11:AS$46,$B32,2)="B","B"," ")) | K32: =IF(AND($B32>0,$B32<13),"1D"," ") | L32: =IF(AND($B32>12,$B32<25),"2D"," ") | M32: =IF(AND($B32>24,$B32<37),"3D"," ") -> 3D | N32: =IF(B32<>0,IF(MOD(B32,3)=1,1," ")," ") -> 1 | O32: =IF($B32<>0,IF(MOD($B32,3)=2,2," ")," ") | P32: =IF($B32<>0,IF(MOD($B32,3)=0,3," ")," ") | Q32: =IF($B32=0,0,IF(MOD($B32,3)=0,QUOTIENT($B32,3),QUOTIENT($B32,3)+1)) -> 12 | R32: =IF($B32=0,0,IF(MOD($B32,6)=0,QUOTIENT($B32,6),QUOTIENT($B32,6)+1)) -> 6 | AD32: 22 | AE32: B | AF32: B | AI32: R | AL32: 3 | AO32: =IF(MOD(AD32,12)=0,12,MOD(AD32,12)) -> 10 | AR32: =IF(MOD(AD32,6)=0,6,MOD(AD32,6)) -> 4 | AU32: B | AV32: R | AW32: 3 | AX32: 10 | AY32: 4
A33: =A32+1 -> 23 | B33: =Data!B33 -> 15 | D33: =IF($B33=0,0," ") | E33: =IF(AND(B33>0,B33<=18),"L"," ") -> L | F33: =IF(AND(B33>18,B33<=36),"H", " ") | G33: =IF(AND(ISEVEN(B33),B33<>0),"E"," ") | H33: =IF(ISODD(B33),"O"," " ) -> O | I33: =IF($B33=0," ",IF(INDEX(AD$11:AS$46,$B33,2)="R","R"," ")) | J33: =IF($B33=0," ",IF(INDEX(AD$11:AS$46,$B33,2)="B","B"," ")) -> B | K33: =IF(AND($B33>0,$B33<13),"1D"," ") | L33: =IF(AND($B33>12,$B33<25),"2D"," ") -> 2D | M33: =IF(AND($B33>24,$B33<37),"3D"," ") | N33: =IF(B33<>0,IF(MOD(B33,3)=1,1," ")," ") | O33: =IF($B33<>0,IF(MOD($B33,3)=2,2," ")," ") | P33: =IF($B33<>0,IF(MOD($B33,3)=0,3," ")," ") -> 3 | Q33: =IF($B33=0,0,IF(MOD($B33,3)=0,QUOTIENT($B33,3),QUOTIENT($B33,3)+1)) -> 5 | R33: =IF($B33=0,0,IF(MOD($B33,6)=0,QUOTIENT($B33,6),QUOTIENT($B33,6)+1)) -> 3 | T33: No. 0 | U33: =COUNTIF($B$11:$B$510,0) -> 13 | V33: =U33/(COUNT($B$11:$B$510)) -> 0.026 | AD33: 23 | AE33: R | AF33: B | AI33: R | AL33: 2 | AO33: =IF(MOD(AD33,12)=0,12,MOD(AD33,12)) -> 11 | AR33: =IF(MOD(AD33,6)=0,6,MOD(AD33,6)) -> 5 | AU33: B | AV33: R | AW33: 2 | AX33: 11 | AY33: 5
A34: =A33+1 -> 24 | B34: =Data!B34 -> 34 | D34: =IF($B34=0,0," ") | E34: =IF(AND(B34>0,B34<=18),"L"," ") | F34: =IF(AND(B34>18,B34<=36),"H", " ") -> H | G34: =IF(AND(ISEVEN(B34),B34<>0),"E"," ") -> E | H34: =IF(ISODD(B34),"O"," " ) | I34: =IF($B34=0," ",IF(INDEX(AD$11:AS$46,$B34,2)="R","R"," ")) -> R | J34: =IF($B34=0," ",IF(INDEX(AD$11:AS$46,$B34,2)="B","B"," ")) | K34: =IF(AND($B34>0,$B34<13),"1D"," ") | L34: =IF(AND($B34>12,$B34<25),"2D"," ") | M34: =IF(AND($B34>24,$B34<37),"3D"," ") -> 3D | N34: =IF(B34<>0,IF(MOD(B34,3)=1,1," ")," ") -> 1 | O34: =IF($B34<>0,IF(MOD($B34,3)=2,2," ")," ") | P34: =IF($B34<>0,IF(MOD($B34,3)=0,3," ")," ") | Q34: =IF($B34=0,0,IF(MOD($B34,3)=0,QUOTIENT($B34,3),QUOTIENT($B34,3)+1)) -> 12 | R34: =IF($B34=0,0,IF(MOD($B34,6)=0,QUOTIENT($B34,6),QUOTIENT($B34,6)+1)) -> 6 | T34: No. 1 | U34: =COUNTIF($B$11:$B$510,1) -> 9 | V34: =U34/(COUNT($B$11:$B$510)) -> 0.018 | X34: No. 19 | Y34: =COUNTIF($B$11:$B$510,19) -> 16 | Z34: =Y34/(COUNT($B$11:$B$510)) -> 0.032 | AD34: 24 | AE34: B | AF34: B | AI34: R | AL34: 1 | AO34: =IF(MOD(AD34,12)=0,12,MOD(AD34,12)) -> 12 | AR34: =IF(MOD(AD34,6)=0,6,MOD(AD34,6)) -> 6 | AU34: B | AV34: R | AW34: 1 | AX34: 12 | AY34: 6
A35: =A34+1 -> 25 | B35: =Data!B35 -> 0 | D35: =IF($B35=0,0," ") -> 0 | E35: =IF(AND(B35>0,B35<=18),"L"," ") | F35: =IF(AND(B35>18,B35<=36),"H", " ") | G35: =IF(AND(ISEVEN(B35),B35<>0),"E"," ") | H35: =IF(ISODD(B35),"O"," " ) | I35: =IF($B35=0," ",IF(INDEX(AD$11:AS$46,$B35,2)="R","R"," ")) | J35: =IF($B35=0," ",IF(INDEX(AD$11:AS$46,$B35,2)="B","B"," ")) | K35: =IF(AND($B35>0,$B35<13),"1D"," ") | L35: =IF(AND($B35>12,$B35<25),"2D"," ") | M35: =IF(AND($B35>24,$B35<37),"3D"," ") | N35: =IF(B35<>0,IF(MOD(B35,3)=1,1," ")," ") | O35: =IF($B35<>0,IF(MOD($B35,3)=2,2," ")," ") | P35: =IF($B35<>0,IF(MOD($B35,3)=0,3," ")," ") | Q35: =IF($B35=0,0,IF(MOD($B35,3)=0,QUOTIENT($B35,3),QUOTIENT($B35,3)+1)) -> 0 | R35: =IF($B35=0,0,IF(MOD($B35,6)=0,QUOTIENT($B35,6),QUOTIENT($B35,6)+1)) -> 0 | T35: No. 2 | U35: =COUNTIF($B$11:$B$510,2) -> 10 | V35: =U35/(COUNT($B$11:$B$510)) -> 0.02 | X35: No. 20 | Y35: =COUNTIF($B$11:$B$510,20) -> 12 | Z35: =Y35/(COUNT($B$11:$B$510)) -> 0.024 | AD35: 25 | AE35: R | AF35: O | AI35: E | AL35: 3 | AO35: =IF(MOD(AD35,12)=0,12,MOD(AD35,12)) -> 1 | AR35: =IF(MOD(AD35,6)=0,6,MOD(AD35,6)) -> 1 | AU35: O | AV35: E | AW35: 3 | AX35: 1 | AY35: 1
A36: =A35+1 -> 26 | B36: =Data!B36 -> 29 | D36: =IF($B36=0,0," ") | E36: =IF(AND(B36>0,B36<=18),"L"," ") | F36: =IF(AND(B36>18,B36<=36),"H", " ") -> H | G36: =IF(AND(ISEVEN(B36),B36<>0),"E"," ") | H36: =IF(ISODD(B36),"O"," " ) -> O | I36: =IF($B36=0," ",IF(INDEX(AD$11:AS$46,$B36,2)="R","R"," ")) | J36: =IF($B36=0," ",IF(INDEX(AD$11:AS$46,$B36,2)="B","B"," ")) -> B | K36: =IF(AND($B36>0,$B36<13),"1D"," ") | L36: =IF(AND($B36>12,$B36<25),"2D"," ") | M36: =IF(AND($B36>24,$B36<37),"3D"," ") -> 3D | N36: =IF(B36<>0,IF(MOD(B36,3)=1,1," ")," ") | O36: =IF($B36<>0,IF(MOD($B36,3)=2,2," ")," ") -> 2 | P36: =IF($B36<>0,IF(MOD($B36,3)=0,3," ")," ") | Q36: =IF($B36=0,0,IF(MOD($B36,3)=0,QUOTIENT($B36,3),QUOTIENT($B36,3)+1)) -> 10 | R36: =IF($B36=0,0,IF(MOD($B36,6)=0,QUOTIENT($B36,6),QUOTIENT($B36,6)+1)) -> 5 | T36: No. 3 | U36: =COUNTIF($B$11:$B$510,3) -> 14 | V36: =U36/(COUNT($B$11:$B$510)) -> 0.028 | X36: No. 21 | Y36: =COUNTIF($B$11:$B$510,21) -> 19 | Z36: =Y36/(COUNT($B$11:$B$510)) -> 0.038 | AD36: 26 | AE36: B | AF36: O | AI36: E | AL36: 2 | AO36: =IF(MOD(AD36,12)=0,12,MOD(AD36,12)) -> 2 | AR36: =IF(MOD(AD36,6)=0,6,MOD(AD36,6)) -> 2 | AU36: O | AV36: E | AW36: 2 | AX36: 2 | AY36: 2
A37: =A36+1 -> 27 | B37: =Data!B37 -> 25 | D37: =IF($B37=0,0," ") | E37: =IF(AND(B37>0,B37<=18),"L"," ") | F37: =IF(AND(B37>18,B37<=36),"H", " ") -> H | G37: =IF(AND(ISEVEN(B37),B37<>0),"E"," ") | H37: =IF(ISODD(B37),"O"," " ) -> O | I37: =IF($B37=0," ",IF(INDEX(AD$11:AS$46,$B37,2)="R","R"," ")) -> R | J37: =IF($B37=0," ",IF(INDEX(AD$11:AS$46,$B37,2)="B","B"," ")) | K37: =IF(AND($B37>0,$B37<13),"1D"," ") | L37: =IF(AND($B37>12,$B37<25),"2D"," ") | M37: =IF(AND($B37>24,$B37<37),"3D"," ") -> 3D | N37: =IF(B37<>0,IF(MOD(B37,3)=1,1," ")," ") -> 1 | O37: =IF($B37<>0,IF(MOD($B37,3)=2,2," ")," ") | P37: =IF($B37<>0,IF(MOD($B37,3)=0,3," ")," ") | Q37: =IF($B37=0,0,IF(MOD($B37,3)=0,QUOTIENT($B37,3),QUOTIENT($B37,3)+1)) -> 9 | R37: =IF($B37=0,0,IF(MOD($B37,6)=0,QUOTIENT($B37,6),QUOTIENT($B37,6)+1)) -> 5 | T37: No. 4 | U37: =COUNTIF($B$11:$B$510,4) -> 13 | V37: =U37/(COUNT($B$11:$B$510)) -> 0.026 | X37: No. 22 | Y37: =COUNTIF($B$11:$B$510,22) -> 17 | Z37: =Y37/(COUNT($B$11:$B$510)) -> 0.034 | AD37: 27 | AE37: R | AF37: O | AI37: E | AL37: 1 | AO37: =IF(MOD(AD37,12)=0,12,MOD(AD37,12)) -> 3 | AR37: =IF(MOD(AD37,6)=0,6,MOD(AD37,6)) -> 3 | AU37: O | AV37: E | AW37: 1 | AX37: 3 | AY37: 3
A38: =A37+1 -> 28 | B38: =Data!B38 -> 1 | D38: =IF($B38=0,0," ") | E38: =IF(AND(B38>0,B38<=18),"L"," ") -> L | F38: =IF(AND(B38>18,B38<=36),"H", " ") | G38: =IF(AND(ISEVEN(B38),B38<>0),"E"," ") | H38: =IF(ISODD(B38),"O"," " ) -> O | I38: =IF($B38=0," ",IF(INDEX(AD$11:AS$46,$B38,2)="R","R"," ")) -> R | J38: =IF($B38=0," ",IF(INDEX(AD$11:AS$46,$B38,2)="B","B"," ")) | K38: =IF(AND($B38>0,$B38<13),"1D"," ") -> 1D | L38: =IF(AND($B38>12,$B38<25),"2D"," ") | M38: =IF(AND($B38>24,$B38<37),"3D"," ") | N38: =IF(B38<>0,IF(MOD(B38,3)=1,1," ")," ") -> 1 | O38: =IF($B38<>0,IF(MOD($B38,3)=2,2," ")," ") | P38: =IF($B38<>0,IF(MOD($B38,3)=0,3," ")," ") | Q38: =IF($B38=0,0,IF(MOD($B38,3)=0,QUOTIENT($B38,3),QUOTIENT($B38,3)+1)) -> 1 | R38: =IF($B38=0,0,IF(MOD($B38,6)=0,QUOTIENT($B38,6),QUOTIENT($B38,6)+1)) -> 1 | T38: No. 5 | U38: =COUNTIF($B$11:$B$510,5) -> 16 | V38: =U38/(COUNT($B$11:$B$510)) -> 0.032 | X38: No. 23 | Y38: =COUNTIF($B$11:$B$510,23) -> 16 | Z38: =Y38/(COUNT($B$11:$B$510)) -> 0.032 | AD38: 28 | AE38: B | AF38: O | AI38: E | AL38: 3 | AO38: =IF(MOD(AD38,12)=0,12,MOD(AD38,12)) -> 4 | AR38: =IF(MOD(AD38,6)=0,6,MOD(AD38,6)) -> 4 | AU38: O | AV38: E | AW38: 3 | AX38: 4 | AY38: 4
A39: =A38+1 -> 29 | B39: =Data!B39 -> 15 | D39: =IF($B39=0,0," ") | E39: =IF(AND(B39>0,B39<=18),"L"," ") -> L | F39: =IF(AND(B39>18,B39<=36),"H", " ") | G39: =IF(AND(ISEVEN(B39),B39<>0),"E"," ") | H39: =IF(ISODD(B39),"O"," " ) -> O | I39: =IF($B39=0," ",IF(INDEX(AD$11:AS$46,$B39,2)="R","R"," ")) | J39: =IF($B39=0," ",IF(INDEX(AD$11:AS$46,$B39,2)="B","B"," ")) -> B | K39: =IF(AND($B39>0,$B39<13),"1D"," ") | L39: =IF(AND($B39>12,$B39<25),"2D"," ") -> 2D | M39: =IF(AND($B39>24,$B39<37),"3D"," ") | N39: =IF(B39<>0,IF(MOD(B39,3)=1,1," ")," ") | O39: =IF($B39<>0,IF(MOD($B39,3)=2,2," ")," ") | P39: =IF($B39<>0,IF(MOD($B39,3)=0,3," ")," ") -> 3 | Q39: =IF($B39=0,0,IF(MOD($B39,3)=0,QUOTIENT($B39,3),QUOTIENT($B39,3)+1)) -> 5 | R39: =IF($B39=0,0,IF(MOD($B39,6)=0,QUOTIENT($B39,6),QUOTIENT($B39,6)+1)) -> 3 | T39: No. 6 | U39: =COUNTIF($B$11:$B$510,6) -> 14 | V39: =U39/(COUNT($B$11:$B$510)) -> 0.028 | X39: No. 24 | Y39: =COUNTIF($B$11:$B$510,24) -> 16 | Z39: =Y39/(COUNT($B$11:$B$510)) -> 0.032 | AD39: 29 | AE39: B | AF39: O | AI39: E | AL39: 2 | AO39: =IF(MOD(AD39,12)=0,12,MOD(AD39,12)) -> 5 | AR39: =IF(MOD(AD39,6)=0,6,MOD(AD39,6)) -> 5 | AU39: O | AV39: E | AW39: 2 | AX39: 5 | AY39: 5
A40: =A39+1 -> 30 | B40: =Data!B40 -> 12 | D40: =IF($B40=0,0," ") | E40: =IF(AND(B40>0,B40<=18),"L"," ") -> L | F40: =IF(AND(B40>18,B40<=36),"H", " ") | G40: =IF(AND(ISEVEN(B40),B40<>0),"E"," ") -> E | H40: =IF(ISODD(B40),"O"," " ) | I40: =IF($B40=0," ",IF(INDEX(AD$11:AS$46,$B40,2)="R","R"," ")) -> R | J40: =IF($B40=0," ",IF(INDEX(AD$11:AS$46,$B40,2)="B","B"," ")) | K40: =IF(AND($B40>0,$B40<13),"1D"," ") -> 1D | L40: =IF(AND($B40>12,$B40<25),"2D"," ") | M40: =IF(AND($B40>24,$B40<37),"3D"," ") | N40: =IF(B40<>0,IF(MOD(B40,3)=1,1," ")," ") | O40: =IF($B40<>0,IF(MOD($B40,3)=2,2," ")," ") | P40: =IF($B40<>0,IF(MOD($B40,3)=0,3," ")," ") -> 3 | Q40: =IF($B40=0,0,IF(MOD($B40,3)=0,QUOTIENT($B40,3),QUOTIENT($B40,3)+1)) -> 4 | R40: =IF($B40=0,0,IF(MOD($B40,6)=0,QUOTIENT($B40,6),QUOTIENT($B40,6)+1)) -> 2 | T40: No. 7 | U40: =COUNTIF($B$11:$B$510,7) -> 19 | V40: =U40/(COUNT($B$11:$B$510)) -> 0.038 | X40: No. 25 | Y40: =COUNTIF($B$11:$B$510,25) -> 11 | Z40: =Y40/(COUNT($B$11:$B$510)) -> 0.022 | AD40: 30 | AE40: R | AF40: O | AI40: E | AL40: 2 | AO40: =IF(MOD(AD40,12)=0,12,MOD(AD40,12)) -> 6 | AR40: =IF(MOD(AD40,6)=0,6,MOD(AD40,6)) -> 6 | AU40: O | AV40: E | AW40: 2 | AX40: 6 | AY40: 6
A41: =A40+1 -> 31 | B41: =Data!B41 -> 35 | D41: =IF($B41=0,0," ") | E41: =IF(AND(B41>0,B41<=18),"L"," ") | F41: =IF(AND(B41>18,B41<=36),"H", " ") -> H | G41: =IF(AND(ISEVEN(B41),B41<>0),"E"," ") | H41: =IF(ISODD(B41),"O"," " ) -> O | I41: =IF($B41=0," ",IF(INDEX(AD$11:AS$46,$B41,2)="R","R"," ")) | J41: =IF($B41=0," ",IF(INDEX(AD$11:AS$46,$B41,2)="B","B"," ")) -> B | K41: =IF(AND($B41>0,$B41<13),"1D"," ") | L41: =IF(AND($B41>12,$B41<25),"2D"," ") | M41: =IF(AND($B41>24,$B41<37),"3D"," ") -> 3D | N41: =IF(B41<>0,IF(MOD(B41,3)=1,1," ")," ") | O41: =IF($B41<>0,IF(MOD($B41,3)=2,2," ")," ") -> 2 | P41: =IF($B41<>0,IF(MOD($B41,3)=0,3," ")," ") | Q41: =IF($B41=0,0,IF(MOD($B41,3)=0,QUOTIENT($B41,3),QUOTIENT($B41,3)+1)) -> 12 | R41: =IF($B41=0,0,IF(MOD($B41,6)=0,QUOTIENT($B41,6),QUOTIENT($B41,6)+1)) -> 6 | T41: No. 8 | U41: =COUNTIF($B$11:$B$510,8) -> 17 | V41: =U41/(COUNT($B$11:$B$510)) -> 0.034 | X41: No. 26 | Y41: =COUNTIF($B$11:$B$510,26) -> 11 | Z41: =Y41/(COUNT($B$11:$B$510)) -> 0.022 | AD41: 31 | AE41: B | AF41: H | AI41: L | AL41: 3 | AO41: =IF(MOD(AD41,12)=0,12,MOD(AD41,12)) -> 7 | AR41: =IF(MOD(AD41,6)=0,6,MOD(AD41,6)) -> 1 | AU41: H | AV41: L | AW41: 3 | AX41: 7 | AY41: 1
A42: =A41+1 -> 32 | B42: =Data!B42 -> 17 | D42: =IF($B42=0,0," ") | E42: =IF(AND(B42>0,B42<=18),"L"," ") -> L | F42: =IF(AND(B42>18,B42<=36),"H", " ") | G42: =IF(AND(ISEVEN(B42),B42<>0),"E"," ") | H42: =IF(ISODD(B42),"O"," " ) -> O | I42: =IF($B42=0," ",IF(INDEX(AD$11:AS$46,$B42,2)="R","R"," ")) | J42: =IF($B42=0," ",IF(INDEX(AD$11:AS$46,$B42,2)="B","B"," ")) -> B | K42: =IF(AND($B42>0,$B42<13),"1D"," ") | L42: =IF(AND($B42>12,$B42<25),"2D"," ") -> 2D | M42: =IF(AND($B42>24,$B42<37),"3D"," ") | N42: =IF(B42<>0,IF(MOD(B42,3)=1,1," ")," ") | O42: =IF($B42<>0,IF(MOD($B42,3)=2,2," ")," ") -> 2 | P42: =IF($B42<>0,IF(MOD($B42,3)=0,3," ")," ") | Q42: =IF($B42=0,0,IF(MOD($B42,3)=0,QUOTIENT($B42,3),QUOTIENT($B42,3)+1)) -> 6 | R42: =IF($B42=0,0,IF(MOD($B42,6)=0,QUOTIENT($B42,6),QUOTIENT($B42,6)+1)) -> 3 | T42: No. 9 | U42: =COUNTIF($B$11:$B$510,9) -> 18 | V42: =U42/(COUNT($B$11:$B$510)) -> 0.036 | X42: No. 27 | Y42: =COUNTIF($B$11:$B$510,27) -> 11 | Z42: =Y42/(COUNT($B$11:$B$510)) -> 0.022 | AD42: 32 | AE42: R | AF42: H | AI42: L | AL42: 2 | AO42: =IF(MOD(AD42,12)=0,12,MOD(AD42,12)) -> 8 | AR42: =IF(MOD(AD42,6)=0,6,MOD(AD42,6)) -> 2 | AU42: H | AV42: L | AW42: 2 | AX42: 8 | AY42: 2
A43: =A42+1 -> 33 | B43: =Data!B43 -> 14 | D43: =IF($B43=0,0," ") | E43: =IF(AND(B43>0,B43<=18),"L"," ") -> L | F43: =IF(AND(B43>18,B43<=36),"H", " ") | G43: =IF(AND(ISEVEN(B43),B43<>0),"E"," ") -> E | H43: =IF(ISODD(B43),"O"," " ) | I43: =IF($B43=0," ",IF(INDEX(AD$11:AS$46,$B43,2)="R","R"," ")) -> R | J43: =IF($B43=0," ",IF(INDEX(AD$11:AS$46,$B43,2)="B","B"," ")) | K43: =IF(AND($B43>0,$B43<13),"1D"," ") | L43: =IF(AND($B43>12,$B43<25),"2D"," ") -> 2D | M43: =IF(AND($B43>24,$B43<37),"3D"," ") | N43: =IF(B43<>0,IF(MOD(B43,3)=1,1," ")," ") | O43: =IF($B43<>0,IF(MOD($B43,3)=2,2," ")," ") -> 2 | P43: =IF($B43<>0,IF(MOD($B43,3)=0,3," ")," ") | Q43: =IF($B43=0,0,IF(MOD($B43,3)=0,QUOTIENT($B43,3),QUOTIENT($B43,3)+1)) -> 5 | R43: =IF($B43=0,0,IF(MOD($B43,6)=0,QUOTIENT($B43,6),QUOTIENT($B43,6)+1)) -> 3 | T43: No. 10 | U43: =COUNTIF($B$11:$B$510,10) -> 18 | V43: =U43/(COUNT($B$11:$B$510)) -> 0.036 | X43: No. 28 | Y43: =COUNTIF($B$11:$B$510,28) -> 10 | Z43: =Y43/(COUNT($B$11:$B$510)) -> 0.02 | AD43: 33 | AE43: B | AF43: H | AI43: L | AL43: 1 | AO43: =IF(MOD(AD43,12)=0,12,MOD(AD43,12)) -> 9 | AR43: =IF(MOD(AD43,6)=0,6,MOD(AD43,6)) -> 3 | AU43: H | AV43: L | AW43: 1 | AX43: 9 | AY43: 3
A44: =A43+1 -> 34 | B44: =Data!B44 -> 9 | D44: =IF($B44=0,0," ") | E44: =IF(AND(B44>0,B44<=18),"L"," ") -> L | F44: =IF(AND(B44>18,B44<=36),"H", " ") | G44: =IF(AND(ISEVEN(B44),B44<>0),"E"," ") | H44: =IF(ISODD(B44),"O"," " ) -> O | I44: =IF($B44=0," ",IF(INDEX(AD$11:AS$46,$B44,2)="R","R"," ")) -> R | J44: =IF($B44=0," ",IF(INDEX(AD$11:AS$46,$B44,2)="B","B"," ")) | K44: =IF(AND($B44>0,$B44<13),"1D"," ") -> 1D | L44: =IF(AND($B44>12,$B44<25),"2D"," ") | M44: =IF(AND($B44>24,$B44<37),"3D"," ") | N44: =IF(B44<>0,IF(MOD(B44,3)=1,1," ")," ") | O44: =IF($B44<>0,IF(MOD($B44,3)=2,2," ")," ") | P44: =IF($B44<>0,IF(MOD($B44,3)=0,3," ")," ") -> 3 | Q44: =IF($B44=0,0,IF(MOD($B44,3)=0,QUOTIENT($B44,3),QUOTIENT($B44,3)+1)) -> 3 | R44: =IF($B44=0,0,IF(MOD($B44,6)=0,QUOTIENT($B44,6),QUOTIENT($B44,6)+1)) -> 2 | T44: No. 11 | U44: =COUNTIF($B$11:$B$510,11) -> 13 | V44: =U44/(COUNT($B$11:$B$510)) -> 0.026 | X44: No. 29 | Y44: =COUNTIF($B$11:$B$510,29) -> 10 | Z44: =Y44/(COUNT($B$11:$B$510)) -> 0.02 | AD44: 34 | AE44: R | AF44: H | AH44: 10 | AI44: L | AK44: 10 | AL44: 3 | AN44: 15 | AO44: =IF(MOD(AD44,12)=0,12,MOD(AD44,12)) -> 10 | AQ44: 15 | AR44: =IF(MOD(AD44,6)=0,6,MOD(AD44,6)) -> 4 | AT44: 10 | AU44: H | AV44: L | AW44: 3 | AX44: 10 | AY44: 4
A45: =A44+1 -> 35 | B45: =Data!B45 -> 27 | D45: =IF($B45=0,0," ") | E45: =IF(AND(B45>0,B45<=18),"L"," ") | F45: =IF(AND(B45>18,B45<=36),"H", " ") -> H | G45: =IF(AND(ISEVEN(B45),B45<>0),"E"," ") | H45: =IF(ISODD(B45),"O"," " ) -> O | I45: =IF($B45=0," ",IF(INDEX(AD$11:AS$46,$B45,2)="R","R"," ")) -> R | J45: =IF($B45=0," ",IF(INDEX(AD$11:AS$46,$B45,2)="B","B"," ")) | K45: =IF(AND($B45>0,$B45<13),"1D"," ") | L45: =IF(AND($B45>12,$B45<25),"2D"," ") | M45: =IF(AND($B45>24,$B45<37),"3D"," ") -> 3D | N45: =IF(B45<>0,IF(MOD(B45,3)=1,1," ")," ") | O45: =IF($B45<>0,IF(MOD($B45,3)=2,2," ")," ") | P45: =IF($B45<>0,IF(MOD($B45,3)=0,3," ")," ") -> 3 | Q45: =IF($B45=0,0,IF(MOD($B45,3)=0,QUOTIENT($B45,3),QUOTIENT($B45,3)+1)) -> 9 | R45: =IF($B45=0,0,IF(MOD($B45,6)=0,QUOTIENT($B45,6),QUOTIENT($B45,6)+1)) -> 5 | T45: No. 12 | U45: =COUNTIF($B$11:$B$510,12) -> 6 | V45: =U45/(COUNT($B$11:$B$510)) -> 0.012 | X45: No. 30 | Y45: =COUNTIF($B$11:$B$510,30) -> 11 | Z45: =Y45/(COUNT($B$11:$B$510)) -> 0.022 | AD45: 35 | AE45: B | AF45: H | AG45: +1 | AH45: -1 | AI45: L | AJ45: +1 | AK45: -1 | AL45: 2 | AM45: +1 | AN45: -1 | AO45: =IF(MOD(AD45,12)=0,12,MOD(AD45,12)) -> 11 | AP45: +1 | AQ45: -1 | AR45: =IF(MOD(AD45,6)=0,6,MOD(AD45,6)) -> 5 | AS45: +1 | AT45: -1 | AU45: H | AV45: L | AW45: 2 | AX45: 11 | AY45: 5
A46: =A45+1 -> 36 | B46: =Data!B46 -> 19 | D46: =IF($B46=0,0," ") | E46: =IF(AND(B46>0,B46<=18),"L"," ") | F46: =IF(AND(B46>18,B46<=36),"H", " ") -> H | G46: =IF(AND(ISEVEN(B46),B46<>0),"E"," ") | H46: =IF(ISODD(B46),"O"," " ) -> O | I46: =IF($B46=0," ",IF(INDEX(AD$11:AS$46,$B46,2)="R","R"," ")) -> R | J46: =IF($B46=0," ",IF(INDEX(AD$11:AS$46,$B46,2)="B","B"," ")) | K46: =IF(AND($B46>0,$B46<13),"1D"," ") | L46: =IF(AND($B46>12,$B46<25),"2D"," ") -> 2D | M46: =IF(AND($B46>24,$B46<37),"3D"," ") | N46: =IF(B46<>0,IF(MOD(B46,3)=1,1," ")," ") -> 1 | O46: =IF($B46<>0,IF(MOD($B46,3)=2,2," ")," ") | P46: =IF($B46<>0,IF(MOD($B46,3)=0,3," ")," ") | Q46: =IF($B46=0,0,IF(MOD($B46,3)=0,QUOTIENT($B46,3),QUOTIENT($B46,3)+1)) -> 7 | R46: =IF($B46=0,0,IF(MOD($B46,6)=0,QUOTIENT($B46,6),QUOTIENT($B46,6)+1)) -> 4 | T46: No. 13 | U46: =COUNTIF($B$11:$B$510,13) -> 14 | V46: =U46/(COUNT($B$11:$B$510)) -> 0.028 | X46: No. 31 | Y46: =COUNTIF($B$11:$B$510,31) -> 9 | Z46: =Y46/(COUNT($B$11:$B$510)) -> 0.018 | AD46: 36 | AE46: R | AF46: H | AG46: -1 | AH46: +1 | AI46: L | AJ46: -1 | AK46: +1 | AL46: 1 | AM46: -1 | AN46: +1 | AO46: =IF(MOD(AD46,12)=0,12,MOD(AD46,12)) -> 12 | AP46: -1 | AQ46: +1 | AR46: =IF(MOD(AD46,6)=0,6,MOD(AD46,6)) -> 6 | AS46: -1 | AT46: +1 | AU46: H | AV46: L | AW46: 1 | AX46: 12 | AY46: 6
A47: =A46+1 -> 37 | B47: =Data!B47 -> 23 | D47: =IF($B47=0,0," ") | E47: =IF(AND(B47>0,B47<=18),"L"," ") | F47: =IF(AND(B47>18,B47<=36),"H", " ") -> H | G47: =IF(AND(ISEVEN(B47),B47<>0),"E"," ") | H47: =IF(ISODD(B47),"O"," " ) -> O | I47: =IF($B47=0," ",IF(INDEX(AD$11:AS$46,$B47,2)="R","R"," ")) -> R | J47: =IF($B47=0," ",IF(INDEX(AD$11:AS$46,$B47,2)="B","B"," ")) | K47: =IF(AND($B47>0,$B47<13),"1D"," ") | L47: =IF(AND($B47>12,$B47<25),"2D"," ") -> 2D | M47: =IF(AND($B47>24,$B47<37),"3D"," ") | N47: =IF(B47<>0,IF(MOD(B47,3)=1,1," ")," ") | O47: =IF($B47<>0,IF(MOD($B47,3)=2,2," ")," ") -> 2 | P47: =IF($B47<>0,IF(MOD($B47,3)=0,3," ")," ") | Q47: =IF($B47=0,0,IF(MOD($B47,3)=0,QUOTIENT($B47,3),QUOTIENT($B47,3)+1)) -> 8 | R47: =IF($B47=0,0,IF(MOD($B47,6)=0,QUOTIENT($B47,6),QUOTIENT($B47,6)+1)) -> 4 | T47: No. 14 | U47: =COUNTIF($B$11:$B$510,14) -> 17 | V47: =U47/(COUNT($B$11:$B$510)) -> 0.034 | X47: No. 32 | Y47: =COUNTIF($B$11:$B$510,32) -> 12 | Z47: =Y47/(COUNT($B$11:$B$510)) -> 0.024
A48: =A47+1 -> 38 | B48: =Data!B48 -> 3 | D48: =IF($B48=0,0," ") | E48: =IF(AND(B48>0,B48<=18),"L"," ") -> L | F48: =IF(AND(B48>18,B48<=36),"H", " ") | G48: =IF(AND(ISEVEN(B48),B48<>0),"E"," ") | H48: =IF(ISODD(B48),"O"," " ) -> O | I48: =IF($B48=0," ",IF(INDEX(AD$11:AS$46,$B48,2)="R","R"," ")) -> R | J48: =IF($B48=0," ",IF(INDEX(AD$11:AS$46,$B48,2)="B","B"," ")) | K48: =IF(AND($B48>0,$B48<13),"1D"," ") -> 1D | L48: =IF(AND($B48>12,$B48<25),"2D"," ") | M48: =IF(AND($B48>24,$B48<37),"3D"," ") | N48: =IF(B48<>0,IF(MOD(B48,3)=1,1," ")," ") | O48: =IF($B48<>0,IF(MOD($B48,3)=2,2," ")," ") | P48: =IF($B48<>0,IF(MOD($B48,3)=0,3," ")," ") -> 3 | Q48: =IF($B48=0,0,IF(MOD($B48,3)=0,QUOTIENT($B48,3),QUOTIENT($B48,3)+1)) -> 1 | R48: =IF($B48=0,0,IF(MOD($B48,6)=0,QUOTIENT($B48,6),QUOTIENT($B48,6)+1)) -> 1 | T48: No. 15 | U48: =COUNTIF($B$11:$B$510,15) -> 11 | V48: =U48/(COUNT($B$11:$B$510)) -> 0.022 | X48: No. 33 | Y48: =COUNTIF($B$11:$B$510,33) -> 20 | Z48: =Y48/(COUNT($B$11:$B$510)) -> 0.04
A49: =A48+1 -> 39 | B49: =Data!B49 -> 30 | D49: =IF($B49=0,0," ") | E49: =IF(AND(B49>0,B49<=18),"L"," ") | F49: =IF(AND(B49>18,B49<=36),"H", " ") -> H | G49: =IF(AND(ISEVEN(B49),B49<>0),"E"," ") -> E | H49: =IF(ISODD(B49),"O"," " ) | I49: =IF($B49=0," ",IF(INDEX(AD$11:AS$46,$B49,2)="R","R"," ")) -> R | J49: =IF($B49=0," ",IF(INDEX(AD$11:AS$46,$B49,2)="B","B"," ")) | K49: =IF(AND($B49>0,$B49<13),"1D"," ") | L49: =IF(AND($B49>12,$B49<25),"2D"," ") | M49: =IF(AND($B49>24,$B49<37),"3D"," ") -> 3D | N49: =IF(B49<>0,IF(MOD(B49,3)=1,1," ")," ") | O49: =IF($B49<>0,IF(MOD($B49,3)=2,2," ")," ") | P49: =IF($B49<>0,IF(MOD($B49,3)=0,3," ")," ") -> 3 | Q49: =IF($B49=0,0,IF(MOD($B49,3)=0,QUOTIENT($B49,3),QUOTIENT($B49,3)+1)) -> 10 | R49: =IF($B49=0,0,IF(MOD($B49,6)=0,QUOTIENT($B49,6),QUOTIENT($B49,6)+1)) -> 5 | T49: No. 16 | U49: =COUNTIF($B$11:$B$510,16) -> 10 | V49: =U49/(COUNT($B$11:$B$510)) -> 0.02 | X49: No. 34 | Y49: =COUNTIF($B$11:$B$510,34) -> 15 | Z49: =Y49/(COUNT($B$11:$B$510)) -> 0.03
A50: =A49+1 -> 40 | B50: =Data!B50 -> 17 | D50: =IF($B50=0,0," ") | E50: =IF(AND(B50>0,B50<=18),"L"," ") -> L | F50: =IF(AND(B50>18,B50<=36),"H", " ") | G50: =IF(AND(ISEVEN(B50),B50<>0),"E"," ") | H50: =IF(ISODD(B50),"O"," " ) -> O | I50: =IF($B50=0," ",IF(INDEX(AD$11:AS$46,$B50,2)="R","R"," ")) | J50: =IF($B50=0," ",IF(INDEX(AD$11:AS$46,$B50,2)="B","B"," ")) -> B | K50: =IF(AND($B50>0,$B50<13),"1D"," ") | L50: =IF(AND($B50>12,$B50<25),"2D"," ") -> 2D | M50: =IF(AND($B50>24,$B50<37),"3D"," ") | N50: =IF(B50<>0,IF(MOD(B50,3)=1,1," ")," ") | O50: =IF($B50<>0,IF(MOD($B50,3)=2,2," ")," ") -> 2 | P50: =IF($B50<>0,IF(MOD($B50,3)=0,3," ")," ") | Q50: =IF($B50=0,0,IF(MOD($B50,3)=0,QUOTIENT($B50,3),QUOTIENT($B50,3)+1)) -> 6 | R50: =IF($B50=0,0,IF(MOD($B50,6)=0,QUOTIENT($B50,6),QUOTIENT($B50,6)+1)) -> 3 | T50: No. 17 | U50: =COUNTIF($B$11:$B$510,17) -> 15 | V50: =U50/(COUNT($B$11:$B$510)) -> 0.03 | X50: No. 35 | Y50: =COUNTIF($B$11:$B$510,35) -> 11 | Z50: =Y50/(COUNT($B$11:$B$510)) -> 0.022
A51: =A50+1 -> 41 | B51: =Data!B51 -> 8 | D51: =IF($B51=0,0," ") | E51: =IF(AND(B51>0,B51<=18),"L"," ") -> L | F51: =IF(AND(B51>18,B51<=36),"H", " ") | G51: =IF(AND(ISEVEN(B51),B51<>0),"E"," ") -> E | H51: =IF(ISODD(B51),"O"," " ) | I51: =IF($B51=0," ",IF(INDEX(AD$11:AS$46,$B51,2)="R","R"," ")) | J51: =IF($B51=0," ",IF(INDEX(AD$11:AS$46,$B51,2)="B","B"," ")) -> B | K51: =IF(AND($B51>0,$B51<13),"1D"," ") -> 1D | L51: =IF(AND($B51>12,$B51<25),"2D"," ") | M51: =IF(AND($B51>24,$B51<37),"3D"," ") | N51: =IF(B51<>0,IF(MOD(B51,3)=1,1," ")," ") | O51: =IF($B51<>0,IF(MOD($B51,3)=2,2," ")," ") -> 2 | P51: =IF($B51<>0,IF(MOD($B51,3)=0,3," ")," ") | Q51: =IF($B51=0,0,IF(MOD($B51,3)=0,QUOTIENT($B51,3),QUOTIENT($B51,3)+1)) -> 3 | R51: =IF($B51=0,0,IF(MOD($B51,6)=0,QUOTIENT($B51,6),QUOTIENT($B51,6)+1)) -> 2 | T51: No. 18 | U51: =COUNTIF($B$11:$B$510,18) -> 17 | V51: =U51/(COUNT($B$11:$B$510)) -> 0.034 | X51: No. 36 | Y51: =COUNTIF($B$11:$B$510,36) -> 9 | Z51: =Y51/(COUNT($B$11:$B$510)) -> 0.018
A52: =A51+1 -> 42 | B52: =Data!B52 -> 29 | D52: =IF($B52=0,0," ") | E52: =IF(AND(B52>0,B52<=18),"L"," ") | F52: =IF(AND(B52>18,B52<=36),"H", " ") -> H | G52: =IF(AND(ISEVEN(B52),B52<>0),"E"," ") | H52: =IF(ISODD(B52),"O"," " ) -> O | I52: =IF($B52=0," ",IF(INDEX(AD$11:AS$46,$B52,2)="R","R"," ")) | J52: =IF($B52=0," ",IF(INDEX(AD$11:AS$46,$B52,2)="B","B"," ")) -> B | K52: =IF(AND($B52>0,$B52<13),"1D"," ") | L52: =IF(AND($B52>12,$B52<25),"2D"," ") | M52: =IF(AND($B52>24,$B52<37),"3D"," ") -> 3D | N52: =IF(B52<>0,IF(MOD(B52,3)=1,1," ")," ") | O52: =IF($B52<>0,IF(MOD($B52,3)=2,2," ")," ") -> 2 | P52: =IF($B52<>0,IF(MOD($B52,3)=0,3," ")," ") | Q52: =IF($B52=0,0,IF(MOD($B52,3)=0,QUOTIENT($B52,3),QUOTIENT($B52,3)+1)) -> 10 | R52: =IF($B52=0,0,IF(MOD($B52,6)=0,QUOTIENT($B52,6),QUOTIENT($B52,6)+1)) -> 5
A53: =A52+1 -> 43 | B53: =Data!B53 -> 24 | D53: =IF($B53=0,0," ") | E53: =IF(AND(B53>0,B53<=18),"L"," ") | F53: =IF(AND(B53>18,B53<=36),"H", " ") -> H | G53: =IF(AND(ISEVEN(B53),B53<>0),"E"," ") -> E | H53: =IF(ISODD(B53),"O"," " ) | I53: =IF($B53=0," ",IF(INDEX(AD$11:AS$46,$B53,2)="R","R"," ")) | J53: =IF($B53=0," ",IF(INDEX(AD$11:AS$46,$B53,2)="B","B"," ")) -> B | K53: =IF(AND($B53>0,$B53<13),"1D"," ") | L53: =IF(AND($B53>12,$B53<25),"2D"," ") -> 2D | M53: =IF(AND($B53>24,$B53<37),"3D"," ") | N53: =IF(B53<>0,IF(MOD(B53,3)=1,1," ")," ") | O53: =IF($B53<>0,IF(MOD($B53,3)=2,2," ")," ") | P53: =IF($B53<>0,IF(MOD($B53,3)=0,3," ")," ") -> 3 | Q53: =IF($B53=0,0,IF(MOD($B53,3)=0,QUOTIENT($B53,3),QUOTIENT($B53,3)+1)) -> 8 | R53: =IF($B53=0,0,IF(MOD($B53,6)=0,QUOTIENT($B53,6),QUOTIENT($B53,6)+1)) -> 4
A54: =A53+1 -> 44 | B54: =Data!B54 -> 11 | D54: =IF($B54=0,0," ") | E54: =IF(AND(B54>0,B54<=18),"L"," ") -> L | F54: =IF(AND(B54>18,B54<=36),"H", " ") | G54: =IF(AND(ISEVEN(B54),B54<>0),"E"," ") | H54: =IF(ISODD(B54),"O"," " ) -> O | I54: =IF($B54=0," ",IF(INDEX(AD$11:AS$46,$B54,2)="R","R"," ")) | J54: =IF($B54=0," ",IF(INDEX(AD$11:AS$46,$B54,2)="B","B"," ")) -> B | K54: =IF(AND($B54>0,$B54<13),"1D"," ") -> 1D | L54: =IF(AND($B54>12,$B54<25),"2D"," ") | M54: =IF(AND($B54>24,$B54<37),"3D"," ") | N54: =IF(B54<>0,IF(MOD(B54,3)=1,1," ")," ") | O54: =IF($B54<>0,IF(MOD($B54,3)=2,2," ")," ") -> 2 | P54: =IF($B54<>0,IF(MOD($B54,3)=0,3," ")," ") | Q54: =IF($B54=0,0,IF(MOD($B54,3)=0,QUOTIENT($B54,3),QUOTIENT($B54,3)+1)) -> 4 | R54: =IF($B54=0,0,IF(MOD($B54,6)=0,QUOTIENT($B54,6),QUOTIENT($B54,6)+1)) -> 2
A55: =A54+1 -> 45 | B55: =Data!B55 -> 20 | D55: =IF($B55=0,0," ") | E55: =IF(AND(B55>0,B55<=18),"L"," ") | F55: =IF(AND(B55>18,B55<=36),"H", " ") -> H | G55: =IF(AND(ISEVEN(B55),B55<>0),"E"," ") -> E | H55: =IF(ISODD(B55),"O"," " ) | I55: =IF($B55=0," ",IF(INDEX(AD$11:AS$46,$B55,2)="R","R"," ")) | J55: =IF($B55=0," ",IF(INDEX(AD$11:AS$46,$B55,2)="B","B"," ")) -> B | K55: =IF(AND($B55>0,$B55<13),"1D"," ") | L55: =IF(AND($B55>12,$B55<25),"2D"," ") -> 2D | M55: =IF(AND($B55>24,$B55<37),"3D"," ") | N55: =IF(B55<>0,IF(MOD(B55,3)=1,1," ")," ") | O55: =IF($B55<>0,IF(MOD($B55,3)=2,2," ")," ") -> 2 | P55: =IF($B55<>0,IF(MOD($B55,3)=0,3," ")," ") | Q55: =IF($B55=0,0,IF(MOD($B55,3)=0,QUOTIENT($B55,3),QUOTIENT($B55,3)+1)) -> 7 | R55: =IF($B55=0,0,IF(MOD($B55,6)=0,QUOTIENT($B55,6),QUOTIENT($B55,6)+1)) -> 4
A56: =A55+1 -> 46 | B56: =Data!B56 -> 35 | D56: =IF($B56=0,0," ") | E56: =IF(AND(B56>0,B56<=18),"L"," ") | F56: =IF(AND(B56>18,B56<=36),"H", " ") -> H | G56: =IF(AND(ISEVEN(B56),B56<>0),"E"," ") | H56: =IF(ISODD(B56),"O"," " ) -> O | I56: =IF($B56=0," ",IF(INDEX(AD$11:AS$46,$B56,2)="R","R"," ")) | J56: =IF($B56=0," ",IF(INDEX(AD$11:AS$46,$B56,2)="B","B"," ")) -> B | K56: =IF(AND($B56>0,$B56<13),"1D"," ") | L56: =IF(AND($B56>12,$B56<25),"2D"," ") | M56: =IF(AND($B56>24,$B56<37),"3D"," ") -> 3D | N56: =IF(B56<>0,IF(MOD(B56,3)=1,1," ")," ") | O56: =IF($B56<>0,IF(MOD($B56,3)=2,2," ")," ") -> 2 | P56: =IF($B56<>0,IF(MOD($B56,3)=0,3," ")," ") | Q56: =IF($B56=0,0,IF(MOD($B56,3)=0,QUOTIENT($B56,3),QUOTIENT($B56,3)+1)) -> 12 | R56: =IF($B56=0,0,IF(MOD($B56,6)=0,QUOTIENT($B56,6),QUOTIENT($B56,6)+1)) -> 6
A57: =A56+1 -> 47 | B57: =Data!B57 -> 24 | D57: =IF($B57=0,0," ") | E57: =IF(AND(B57>0,B57<=18),"L"," ") | F57: =IF(AND(B57>18,B57<=36),"H", " ") -> H | G57: =IF(AND(ISEVEN(B57),B57<>0),"E"," ") -> E | H57: =IF(ISODD(B57),"O"," " ) | I57: =IF($B57=0," ",IF(INDEX(AD$11:AS$46,$B57,2)="R","R"," ")) | J57: =IF($B57=0," ",IF(INDEX(AD$11:AS$46,$B57,2)="B","B"," ")) -> B | K57: =IF(AND($B57>0,$B57<13),"1D"," ") | L57: =IF(AND($B57>12,$B57<25),"2D"," ") -> 2D | M57: =IF(AND($B57>24,$B57<37),"3D"," ") | N57: =IF(B57<>0,IF(MOD(B57,3)=1,1," ")," ") | O57: =IF($B57<>0,IF(MOD($B57,3)=2,2," ")," ") | P57: =IF($B57<>0,IF(MOD($B57,3)=0,3," ")," ") -> 3 | Q57: =IF($B57=0,0,IF(MOD($B57,3)=0,QUOTIENT($B57,3),QUOTIENT($B57,3)+1)) -> 8 | R57: =IF($B57=0,0,IF(MOD($B57,6)=0,QUOTIENT($B57,6),QUOTIENT($B57,6)+1)) -> 4
A58: =A57+1 -> 48 | B58: =Data!B58 -> 26 | D58: =IF($B58=0,0," ") | E58: =IF(AND(B58>0,B58<=18),"L"," ") | F58: =IF(AND(B58>18,B58<=36),"H", " ") -> H | G58: =IF(AND(ISEVEN(B58),B58<>0),"E"," ") -> E | H58: =IF(ISODD(B58),"O"," " ) | I58: =IF($B58=0," ",IF(INDEX(AD$11:AS$46,$B58,2)="R","R"," ")) | J58: =IF($B58=0," ",IF(INDEX(AD$11:AS$46,$B58,2)="B","B"," ")) -> B | K58: =IF(AND($B58>0,$B58<13),"1D"," ") | L58: =IF(AND($B58>12,$B58<25),"2D"," ") | M58: =IF(AND($B58>24,$B58<37),"3D"," ") -> 3D | N58: =IF(B58<>0,IF(MOD(B58,3)=1,1," ")," ") | O58: =IF($B58<>0,IF(MOD($B58,3)=2,2," ")," ") -> 2 | P58: =IF($B58<>0,IF(MOD($B58,3)=0,3," ")," ") | Q58: =IF($B58=0,0,IF(MOD($B58,3)=0,QUOTIENT($B58,3),QUOTIENT($B58,3)+1)) -> 9 | R58: =IF($B58=0,0,IF(MOD($B58,6)=0,QUOTIENT($B58,6),QUOTIENT($B58,6)+1)) -> 5
A59: =A58+1 -> 49 | B59: =Data!B59 -> 14 | D59: =IF($B59=0,0," ") | E59: =IF(AND(B59>0,B59<=18),"L"," ") -> L | F59: =IF(AND(B59>18,B59<=36),"H", " ") | G59: =IF(AND(ISEVEN(B59),B59<>0),"E"," ") -> E | H59: =IF(ISODD(B59),"O"," " ) | I59: =IF($B59=0," ",IF(INDEX(AD$11:AS$46,$B59,2)="R","R"," ")) -> R | J59: =IF($B59=0," ",IF(INDEX(AD$11:AS$46,$B59,2)="B","B"," ")) | K59: =IF(AND($B59>0,$B59<13),"1D"," ") | L59: =IF(AND($B59>12,$B59<25),"2D"," ") -> 2D | M59: =IF(AND($B59>24,$B59<37),"3D"," ") | N59: =IF(B59<>0,IF(MOD(B59,3)=1,1," ")," ") | O59: =IF($B59<>0,IF(MOD($B59,3)=2,2," ")," ") -> 2 | P59: =IF($B59<>0,IF(MOD($B59,3)=0,3," ")," ") | Q59: =IF($B59=0,0,IF(MOD($B59,3)=0,QUOTIENT($B59,3),QUOTIENT($B59,3)+1)) -> 5 | R59: =IF($B59=0,0,IF(MOD($B59,6)=0,QUOTIENT($B59,6),QUOTIENT($B59,6)+1)) -> 3
A60: =A59+1 -> 50 | B60: =Data!B60 -> 11 | D60: =IF($B60=0,0," ") | E60: =IF(AND(B60>0,B60<=18),"L"," ") -> L | F60: =IF(AND(B60>18,B60<=36),"H", " ") | G60: =IF(AND(ISEVEN(B60),B60<>0),"E"," ") | H60: =IF(ISODD(B60),"O"," " ) -> O | I60: =IF($B60=0," ",IF(INDEX(AD$11:AS$46,$B60,2)="R","R"," ")) | J60: =IF($B60=0," ",IF(INDEX(AD$11:AS$46,$B60,2)="B","B"," ")) -> B | K60: =IF(AND($B60>0,$B60<13),"1D"," ") -> 1D | L60: =IF(AND($B60>12,$B60<25),"2D"," ") | M60: =IF(AND($B60>24,$B60<37),"3D"," ") | N60: =IF(B60<>0,IF(MOD(B60,3)=1,1," ")," ") | O60: =IF($B60<>0,IF(MOD($B60,3)=2,2," ")," ") -> 2 | P60: =IF($B60<>0,IF(MOD($B60,3)=0,3," ")," ") | Q60: =IF($B60=0,0,IF(MOD($B60,3)=0,QUOTIENT($B60,3),QUOTIENT($B60,3)+1)) -> 4 | R60: =IF($B60=0,0,IF(MOD($B60,6)=0,QUOTIENT($B60,6),QUOTIENT($B60,6)+1)) -> 2
A61: =A60+1 -> 51 | B61: =Data!B61 -> 35 | D61: =IF($B61=0,0," ") | E61: =IF(AND(B61>0,B61<=18),"L"," ") | F61: =IF(AND(B61>18,B61<=36),"H", " ") -> H | G61: =IF(AND(ISEVEN(B61),B61<>0),"E"," ") | H61: =IF(ISODD(B61),"O"," " ) -> O | I61: =IF($B61=0," ",IF(INDEX(AD$11:AS$46,$B61,2)="R","R"," ")) | J61: =IF($B61=0," ",IF(INDEX(AD$11:AS$46,$B61,2)="B","B"," ")) -> B | K61: =IF(AND($B61>0,$B61<13),"1D"," ") | L61: =IF(AND($B61>12,$B61<25),"2D"," ") | M61: =IF(AND($B61>24,$B61<37),"3D"," ") -> 3D | N61: =IF(B61<>0,IF(MOD(B61,3)=1,1," ")," ") | O61: =IF($B61<>0,IF(MOD($B61,3)=2,2," ")," ") -> 2 | P61: =IF($B61<>0,IF(MOD($B61,3)=0,3," ")," ") | Q61: =IF($B61=0,0,IF(MOD($B61,3)=0,QUOTIENT($B61,3),QUOTIENT($B61,3)+1)) -> 12 | R61: =IF($B61=0,0,IF(MOD($B61,6)=0,QUOTIENT($B61,6),QUOTIENT($B61,6)+1)) -> 6
A62: =A61+1 -> 52 | B62: =Data!B62 -> 8 | D62: =IF($B62=0,0," ") | E62: =IF(AND(B62>0,B62<=18),"L"," ") -> L | F62: =IF(AND(B62>18,B62<=36),"H", " ") | G62: =IF(AND(ISEVEN(B62),B62<>0),"E"," ") -> E | H62: =IF(ISODD(B62),"O"," " ) | I62: =IF($B62=0," ",IF(INDEX(AD$11:AS$46,$B62,2)="R","R"," ")) | J62: =IF($B62=0," ",IF(INDEX(AD$11:AS$46,$B62,2)="B","B"," ")) -> B | K62: =IF(AND($B62>0,$B62<13),"1D"," ") -> 1D | L62: =IF(AND($B62>12,$B62<25),"2D"," ") | M62: =IF(AND($B62>24,$B62<37),"3D"," ") | N62: =IF(B62<>0,IF(MOD(B62,3)=1,1," ")," ") | O62: =IF($B62<>0,IF(MOD($B62,3)=2,2," ")," ") -> 2 | P62: =IF($B62<>0,IF(MOD($B62,3)=0,3," ")," ") | Q62: =IF($B62=0,0,IF(MOD($B62,3)=0,QUOTIENT($B62,3),QUOTIENT($B62,3)+1)) -> 3 | R62: =IF($B62=0,0,IF(MOD($B62,6)=0,QUOTIENT($B62,6),QUOTIENT($B62,6)+1)) -> 2
A63: =A62+1 -> 53 | B63: =Data!B63 -> 35 | D63: =IF($B63=0,0," ") | E63: =IF(AND(B63>0,B63<=18),"L"," ") | F63: =IF(AND(B63>18,B63<=36),"H", " ") -> H | G63: =IF(AND(ISEVEN(B63),B63<>0),"E"," ") | H63: =IF(ISODD(B63),"O"," " ) -> O | I63: =IF($B63=0," ",IF(INDEX(AD$11:AS$46,$B63,2)="R","R"," ")) | J63: =IF($B63=0," ",IF(INDEX(AD$11:AS$46,$B63,2)="B","B"," ")) -> B | K63: =IF(AND($B63>0,$B63<13),"1D"," ") | L63: =IF(AND($B63>12,$B63<25),"2D"," ") | M63: =IF(AND($B63>24,$B63<37),"3D"," ") -> 3D | N63: =IF(B63<>0,IF(MOD(B63,3)=1,1," ")," ") | O63: =IF($B63<>0,IF(MOD($B63,3)=2,2," ")," ") -> 2 | P63: =IF($B63<>0,IF(MOD($B63,3)=0,3," ")," ") | Q63: =IF($B63=0,0,IF(MOD($B63,3)=0,QUOTIENT($B63,3),QUOTIENT($B63,3)+1)) -> 12 | R63: =IF($B63=0,0,IF(MOD($B63,6)=0,QUOTIENT($B63,6),QUOTIENT($B63,6)+1)) -> 6
... A510: =A509+1 -> 500 | B510: =Data!B510 -> 21 | D510: =IF($B510=0,0," ") | E510: =IF(AND(B510>0,B510<=18),"L"," ") | F510: =IF(AND(B510>18,B510<=36),"H", " ") -> H | G510: =IF(AND(ISEVEN(B510),B510<>0),"E"," ") | H510: =IF(ISODD(B510),"O"," " ) -> O | I510: =IF($B510=0," ",IF(INDEX(AD$11:AS$46,$B510,2)="R","R"," ")) -> R | J510: =IF($B510=0," ",IF(INDEX(AD$11:AS$46,$B510,2)="B","B"," ")) | K510: =IF(AND($B510>0,$B510<13),"1D"," ") | L510: =IF(AND($B510>12,$B510<25),"2D"," ") -> 2D | M510: =IF(AND($B510>24,$B510<37),"3D"," ") | N510: =IF(B510<>0,IF(MOD(B510,3)=1,1," ")," ") | O510: =IF($B510<>0,IF(MOD($B510,3)=2,2," ")," ") | P510: =IF($B510<>0,IF(MOD($B510,3)=0,3," ")," ") -> 3 | Q510: =IF($B510=0,0,IF(MOD($B510,3)=0,QUOTIENT($B510,3),QUOTIENT($B510,3)+1)) -> 7 | R510: =IF($B510=0,0,IF(MOD($B510,6)=0,QUOTIENT($B510,6),QUOTIENT($B510,6)+1)) -> 4

Sheet Vortex
G8: Session of 6 - ORDER : 1/6, 2/5, 3/4, 3/4, 2/5, 1/6 | T8: Session of 6 - ORDER : 1/6, 2/5, 3/4, 1/6, 2/5, 3/4 | AG8: Continuous Play - ORDER : 1/6, 2/5, 3/4, 3/4, 2/5, 1/6 | AS8: Continuous Play - ORDER : 1/6, 2/5, 3/4, 1/6, 2/5, 3/4
K9: ORIGINAL | O9: AGGRESSIVE | X9: ORIGINAL | AB9: AGGRESSIVE | AJ9: ORIGINAL | AN9: AGGRESSIVE | AV9: ORIGINAL | AZ9: AGGRESSIVE
A10: SPINS | B10: NR | D10: DS | F10: Spin | G10: R | H10: RB | I10: DS | J10: Step | K10: Bet | L10: Win | M10: BR | N10: HB | O10: Bet | P10: Win | Q10: BR | R10: AHB | S10: TB | T10: R | U10: RB | V10: DS | W10: Step | X10: Bet | Y10: Win | Z10: BR | AA10: HB | AB10: Bet | AC10: Win | AD10: BR | AE10: AHB | AF10: TB | AG10: R | AH10: DS | AI10: Step | AJ10: Bet | AK10: Win | AL10: BR | AM10: HB | AN10: Bet | AO10: Win | AP10: BR | AQ10: AHB | AR10: TB | AS10: R | AT10: DS | AU10: Step | AV10: Bet | AW10: Win | AX10: BR | AY10: HB | AZ10: Bet | BA10: Win | BB10: BR | BC10: AHB | BD10: TB
A11: 1 | B11: =Data!B11 -> 4 | D11: =IF($B11=0,0,IF(MOD($B11,6)=0,QUOTIENT($B11,6),QUOTIENT($B11,6)+1)) -> 1 | F11: 1 | I11: =IF($F11=1,"1/6",IF($F11=2,"2/5",IF($F11=3,"3/4",IF($F11=4,"4/3",IF($F11=5,"5/2",IF($F11=6,"6/1",I10)))))) -> 1/6 | J11: 1 | K11: =IF(H11="N","0",IF(N10="Y",8,IF(OR(J11=1,J11=2),2,IF(J11=3,4,IF(J11=4,6,IF(J11>=5,8)))))) -> 2 | M11: =-K11 -> -2 | N11: N | O11: =IF(H11="N","0",IF(R10="Y",8,IF(OR(J11=1,J11=2),2,IF(J11=3,4,IF(J11=4,6,IF(J11>=5,8)))))) -> 2 | Q11: =-O11 -> -2 | R11: N | S11: 0 | V11: =IF(OR($F11=1,$F11=4),"1/6",IF(OR($F11=2,$F11=5),"2/5",IF(OR($F11=3,$F11=6),"3/4",V10))) -> 1/6 | W11: 1 | X11: =IF(U11="N","0",IF(AA10="Y",8,IF(OR(W11=1,W11=2),2,IF(W11=3,4,IF(W11=4,6,IF(W11>=5,8)))))) -> 2 | Z11: =-X11 -> -2 | AA11: N | AB11: =IF(U11="N","0",IF(AE10="Y",8,IF(OR(W11=1,W11=2),2,IF(W11=3,4,IF(W11=4,6,IF(W11>=5,8)))))) -> 2 | AD11: =-AB11 -> -2 | AE11: N | AF11: 0 | AH11: =IF(OR(AI11=1,AI11=6,AI11=7,AI11=12,AI11=13,AI11=18),"1/6",IF(OR(AI11=2,AI11=5,AI11=8,AI11=11,AI11=14,AI11=17),"2/5",IF(OR(AI11=3,AI11=4,AI11=9,AI11=10,AI11=15,AI11=16),"3/4",AH10))) -> 1/6 | AI11: 1 | AJ11: =IF(AM10="Y",8,IF(OR(AI11=1,AI11=2),2,IF(AI11=3,4,IF(AI11=4,6,IF(AI11>=5,8))))) -> 2 | AL11: =-AJ11 -> -2 | AM11: N | AN11: =IF(AQ10="Y",8,IF(OR(AI11=1,AI11=2),2,IF(AI11=3,4,IF(AI11=4,6,IF(AI11>=5,8))))) -> 2 | AP11: =-AN11 -> -2 | AQ11: N | AR11: 0 | AT11: =IF(OR(AU11=1,AU11=4,AU11=7,AU11=10,AU11=13,AU11=16),"1/6",IF(OR(AU11=2,AU11=5,AU11=8,AU11=11,AU11=14,AU11=17),"2/5",IF(OR(AU11=3,AU11=6,AU11=9,AU11=12,AU11=15,AU11=18),"3/4",AT10))) -> 1/6 | AU11: 1 | AV11: =IF(AY10="Y",8,IF(OR(AU11=1,AU11=2),2,IF(AU11=3,4,IF(AU11=4,6,IF(AU11>=5,8))))) -> 2 | AX11: =-AV11 -> -2 | AY11: N | AZ11: =IF(BC10="Y",8,IF(OR(AU11=1,AU11=2),2,IF(AU11=3,4,IF(AU11=4,6,IF(AU11>=5,8))))) -> 2 | BB11: =-AZ11 -> -2 | BC11: N | BD11: 0
A12: =A11+1 -> 2 | B12: =Data!B12 -> 7 | D12: =IF($B12=0,0,IF(MOD($B12,6)=0,QUOTIENT($B12,6),QUOTIENT($B12,6)+1)) -> 2 | F12: =IF($F11<=5,F11+1,1) -> 2 | G12: =IF(H11="N"," ",IF(OR($F11=1,$F11=6),IF(OR($D11=1,$D11=6),"W","L"),IF(OR($F11=2,$F11=5),IF(OR($D11=2,$D11=5),"W","L"),IF(OR($F11=3,$F11=4),IF(OR($D11=3,$D11=4),"W","L"))))) -> W | H12: =IF(OR($F12=1,$G12="L"),"Y","N") -> N | I12: =IF($H12="N"," ",IF($F12=1,"1/6",IF($F12=2,"2/5",IF($F12=3,"3/4",IF($F12=4,"4/3",IF($F12=5,"5/2",IF($F12=6,"6/1",I11))))))) | J12: =IF(AND(F12=1,J11=" "),1,IF(H12="N"," ",J11+1)) | K12: =IF(H12="N","0",IF(N11="Y",8,IF(OR(J12=1,J12=2),2,IF(J12=3,4,IF(J12=4,6,IF(J12>=5,8)))))) -> 0 | L12: =IF(G12="W",K11*3,0) -> 6 | M12: =M11+L12-K12 -> 4 | N12: =IF(AND(N11="N",J12<>" ",J12>=6),"Y",IF(AND(N11="Y",M12<0),"Y","N")) -> N | O12: =IF(H12="N","0",IF(R11="Y",8,IF(OR(J12=1,J12=2),2,IF(J12=3,4,IF(J12=4,6,IF(J12>=5,8)))))) -> 0 | P12: =IF(G12="W",O11*3,0) -> 6 | Q12: =Q11+P12-O12 -> 4 | R12: =IF(AND(R11="N",J12<>" ",J12>=6),"Y",IF(AND(R11="Y",M12<S11),"Y","N")) -> N | S12: =IF(OR(G12="L",Q12<S11),S11,Q12) -> 4 | T12: =IF(U11="N"," ",IF(OR($F11=1,$F11=4),IF(OR($D11=1,$D11=6),"W","L"),IF(OR($F11=2,$F11=5),IF(OR($D11=2,$D11=5),"W","L"),IF(OR($F11=3,$F11=6),IF(OR($D11=3,$D11=4),"W","L"))))) -> W | U12: =IF(OR($F12=1,T12="L"),"Y","N") -> N | V12: =IF($H12="N"," ",IF(OR($F12=1,$F12=4),"1/6",IF(OR($F12=2,$F12=5),"2/5",IF(OR($F12=3,$F12=6),"3/4",V10)))) | W12: =IF(AND(F12=1,W11=" "),1,IF(U12="N"," ",W11+1)) | X12: =IF(U12="N","0",IF(AA11="Y",8,IF(OR(W12=1,W12=2),2,IF(W12=3,4,IF(W12=4,6,IF(W12>=5,8)))))) -> 0 | Y12: =IF(T12="W",X11*3,0) -> 6 | Z12: =Z11+Y12-X12 -> 4 | AA12: =IF(AND(AA11="N",W12<>" ",W12>=6),"Y",IF(AND(AA11="Y",Z12<0),"Y","N")) -> N | AB12: =IF(U12="N","0",IF(AE11="Y",8,IF(OR(W12=1,W12=2),2,IF(W12=3,4,IF(W12=4,6,IF(W12>=5,8)))))) -> 0 | AC12: =IF(T12="W",AB11*3,0) -> 6 | AD12: =AD11+AC12-AB12 -> 4 | AE12: =IF(AND(AE11="N",W12<>" ",W12>=6),"Y",IF(AND(AE11="Y",Z12<AF11),"Y","N")) -> N | AF12: =IF(OR(T12="L",AD12<AF11),AF11,AD12) -> 4 | AG12: =IF(OR(VALUE(MID(AH11,1,1))=D11,VALUE(MID(AH11,3,1))=D11),"W","L") -> W | AH12: =IF(OR(AI12=1,AI12=6,AI12=7,AI12=12,AI12=13,AI12=18),"1/6",IF(OR(AI12=2,AI12=5,AI12=8,AI12=11,AI12=14,AI12=17),"2/5",IF(OR(AI12=3,AI12=4,AI12=9,AI12=10,AI12=15,AI12=16),"3/4",AH11))) -> 1/6 | AI12: =IF(AG12="W",1,AI11+1) -> 1 | AJ12: =IF(AM11="Y",8,IF(OR(AI12=1,AI12=2),2,IF(AI12=3,4,IF(AI12=4,6,IF(AI12>=5,8))))) -> 2 | AK12: =IF(AG12="W",AJ11*3,0) -> 6 | AL12: =AL11+AK12-AJ12 -> 2 | AM12: =IF(AND(AM11="N",AI12<>" ",AI12>=6),"Y",IF(AND(AM11="Y",AL12<0),"Y","N")) -> N | AN12: =IF(AQ11="Y",8,IF(OR(AI12=1,AI12=2),2,IF(AI12=3,4,IF(AI12=4,6,IF(AI12>=5,8))))) -> 2 | AO12: =IF(AG12="W",AN11*3,0) -> 6 | AP12: =AP11+AO12-AN12 -> 2 | AQ12: =IF(AND(AQ11="N",AI12<>" ",AI12>=6),"Y",IF(AND(AQ11="Y",AL12<AR11),"Y","N")) -> N | AR12: =IF(OR(AG12="L",AP12<AR11),AR11,AP12) -> 2 | AS12: =IF(OR(VALUE(MID(AT11,1,1))=D11,VALUE(MID(AT11,3,1))=D11),"W","L") -> W | AT12: =IF(OR(AU12=1,AU12=4,AU12=7,AU12=10,AU12=13,AU12=16),"1/6",IF(OR(AU12=2,AU12=5,AU12=8,AU12=11,AU12=14,AU12=17),"2/5",IF(OR(AU12=3,AU12=6,AU12=9,AU12=12,AU12=15,AU12=18),"3/4",AT11))) -> 1/6 | AU12: =IF(AS12="W",1,AU11+1) -> 1 | AV12: =IF(AY11="Y",8,IF(OR(AU12=1,AU12=2),2,IF(AU12=3,4,IF(AU12=4,6,IF(AU12>=5,8))))) -> 2 | AW12: =IF(AS12="W",AV11*3,0) -> 6 | AX12: =AX11+AW12-AV12 -> 2 | AY12: =IF(AND(AY11="N",AU12<>" ",AU12>=6),"Y",IF(AND(AY11="Y",AX12<0),"Y","N")) -> N | AZ12: =IF(BC11="Y",8,IF(OR(AU12=1,AU12=2),2,IF(AU12=3,4,IF(AU12=4,6,IF(AU12>=5,8))))) -> 2 | BA12: =IF(AS12="W",AZ11*3,0) -> 6 | BB12: =BB11+BA12-AZ12 -> 2 | BC12: =IF(AND(BC11="N",AU12<>" ",AU12>=6),"Y",IF(AND(BC11="Y",AX12<BD11),"Y","N")) -> N | BD12: =IF(OR(AS12="L",BB12<BD11),BD11,BB12) -> 2
A13: =A12+1 -> 3 | B13: =Data!B13 -> 3 | D13: =IF($B13=0,0,IF(MOD($B13,6)=0,QUOTIENT($B13,6),QUOTIENT($B13,6)+1)) -> 1 | F13: =IF($F12<=5,F12+1,1) -> 3 | G13: =IF(H12="N"," ",IF(OR($F12=1,$F12=6),IF(OR($D12=1,$D12=6),"W","L"),IF(OR($F12=2,$F12=5),IF(OR($D12=2,$D12=5),"W","L"),IF(OR($F12=3,$F12=4),IF(OR($D12=3,$D12=4),"W","L"))))) | H13: =IF(OR($F13=1,$G13="L"),"Y","N") -> N | I13: =IF($H13="N"," ",IF($F13=1,"1/6",IF($F13=2,"2/5",IF($F13=3,"3/4",IF($F13=4,"4/3",IF($F13=5,"5/2",IF($F13=6,"6/1",I12))))))) | J13: =IF(AND(F13=1,J12=" "),1,IF(H13="N"," ",J12+1)) | K13: =IF(H13="N","0",IF(N12="Y",8,IF(OR(J13=1,J13=2),2,IF(J13=3,4,IF(J13=4,6,IF(J13>=5,8)))))) -> 0 | L13: =IF(G13="W",K12*3,0) -> 0 | M13: =M12+L13-K13 -> 4 | N13: =IF(AND(N12="N",J13<>" ",J13>=6),"Y",IF(AND(N12="Y",M13<0),"Y","N")) -> N | O13: =IF(H13="N","0",IF(R12="Y",8,IF(OR(J13=1,J13=2),2,IF(J13=3,4,IF(J13=4,6,IF(J13>=5,8)))))) -> 0 | P13: =IF(G13="W",O12*3,0) -> 0 | Q13: =Q12+P13-O13 -> 4 | R13: =IF(AND(R12="N",J13<>" ",J13>=6),"Y",IF(AND(R12="Y",M13<S12),"Y","N")) -> N | S13: =IF(OR(G13="L",Q13<S12),S12,Q13) -> 4 | T13: =IF(U12="N"," ",IF(OR($F12=1,$F12=4),IF(OR($D12=1,$D12=6),"W","L"),IF(OR($F12=2,$F12=5),IF(OR($D12=2,$D12=5),"W","L"),IF(OR($F12=3,$F12=6),IF(OR($D12=3,$D12=4),"W","L"))))) | U13: =IF(OR($F13=1,T13="L"),"Y","N") -> N | V13: =IF($H13="N"," ",IF(OR($F13=1,$F13=4),"1/6",IF(OR($F13=2,$F13=5),"2/5",IF(OR($F13=3,$F13=6),"3/4",V11)))) | W13: =IF(AND(F13=1,W12=" "),1,IF(U13="N"," ",W12+1)) | X13: =IF(U13="N","0",IF(AA12="Y",8,IF(OR(W13=1,W13=2),2,IF(W13=3,4,IF(W13=4,6,IF(W13>=5,8)))))) -> 0 | Y13: =IF(T13="W",X12*3,0) -> 0 | Z13: =Z12+Y13-X13 -> 4 | AA13: =IF(AND(AA12="N",W13<>" ",W13>=6),"Y",IF(AND(AA12="Y",Z13<0),"Y","N")) -> N | AB13: =IF(U13="N","0",IF(AE12="Y",8,IF(OR(W13=1,W13=2),2,IF(W13=3,4,IF(W13=4,6,IF(W13>=5,8)))))) -> 0 | AC13: =IF(T13="W",AB12*3,0) -> 0 | AD13: =AD12+AC13-AB13 -> 4 | AE13: =IF(AND(AE12="N",W13<>" ",W13>=6),"Y",IF(AND(AE12="Y",Z13<AF12),"Y","N")) -> N | AF13: =IF(OR(T13="L",AD13<AF12),AF12,AD13) -> 4 | AG13: =IF(OR(VALUE(MID(AH12,1,1))=D12,VALUE(MID(AH12,3,1))=D12),"W","L") -> L | AH13: =IF(OR(AI13=1,AI13=6,AI13=7,AI13=12,AI13=13,AI13=18),"1/6",IF(OR(AI13=2,AI13=5,AI13=8,AI13=11,AI13=14,AI13=17),"2/5",IF(OR(AI13=3,AI13=4,AI13=9,AI13=10,AI13=15,AI13=16),"3/4",AH12))) -> 2/5 | AI13: =IF(AG13="W",1,AI12+1) -> 2 | AJ13: =IF(AM12="Y",8,IF(OR(AI13=1,AI13=2),2,IF(AI13=3,4,IF(AI13=4,6,IF(AI13>=5,8))))) -> 2 | AK13: =IF(AG13="W",AJ12*3,0) -> 0 | AL13: =AL12+AK13-AJ13 -> 0 | AM13: =IF(AND(AM12="N",AI13<>" ",AI13>=6),"Y",IF(AND(AM12="Y",AL13<0),"Y","N")) -> N | AN13: =IF(AQ12="Y",8,IF(OR(AI13=1,AI13=2),2,IF(AI13=3,4,IF(AI13=4,6,IF(AI13>=5,8))))) -> 2 | AO13: =IF(AG13="W",AN12*3,0) -> 0 | AP13: =AP12+AO13-AN13 -> 0 | AQ13: =IF(AND(AQ12="N",AI13<>" ",AI13>=6),"Y",IF(AND(AQ12="Y",AL13<AR12),"Y","N")) -> N | AR13: =IF(OR(AG13="L",AP13<AR12),AR12,AP13) -> 2 | AS13: =IF(OR(VALUE(MID(AT12,1,1))=D12,VALUE(MID(AT12,3,1))=D12),"W","L") -> L | AT13: =IF(OR(AU13=1,AU13=4,AU13=7,AU13=10,AU13=13,AU13=16),"1/6",IF(OR(AU13=2,AU13=5,AU13=8,AU13=11,AU13=14,AU13=17),"2/5",IF(OR(AU13=3,AU13=6,AU13=9,AU13=12,AU13=15,AU13=18),"3/4",AT12))) -> 2/5 | AU13: =IF(AS13="W",1,AU12+1) -> 2 | AV13: =IF(AY12="Y",8,IF(OR(AU13=1,AU13=2),2,IF(AU13=3,4,IF(AU13=4,6,IF(AU13>=5,8))))) -> 2 | AW13: =IF(AS13="W",AV12*3,0) -> 0 | AX13: =AX12+AW13-AV13 -> 0 | AY13: =IF(AND(AY12="N",AU13<>" ",AU13>=6),"Y",IF(AND(AY12="Y",AX13<0),"Y","N")) -> N | AZ13: =IF(BC12="Y",8,IF(OR(AU13=1,AU13=2),2,IF(AU13=3,4,IF(AU13=4,6,IF(AU13>=5,8))))) -> 2 | BA13: =IF(AS13="W",AZ12*3,0) -> 0 | BB13: =BB12+BA13-AZ13 -> 0 | BC13: =IF(AND(BC12="N",AU13<>" ",AU13>=6),"Y",IF(AND(BC12="Y",AX13<BD12),"Y","N")) -> N | BD13: =IF(OR(AS13="L",BB13<BD12),BD12,BB13) -> 2
A14: =A13+1 -> 4 | B14: =Data!B14 -> 24 | D14: =IF($B14=0,0,IF(MOD($B14,6)=0,QUOTIENT($B14,6),QUOTIENT($B14,6)+1)) -> 4 | F14: =IF($F13<=5,F13+1,1) -> 4 | G14: =IF(H13="N"," ",IF(OR($F13=1,$F13=6),IF(OR($D13=1,$D13=6),"W","L"),IF(OR($F13=2,$F13=5),IF(OR($D13=2,$D13=5),"W","L"),IF(OR($F13=3,$F13=4),IF(OR($D13=3,$D13=4),"W","L"))))) | H14: =IF(OR($F14=1,$G14="L"),"Y","N") -> N | I14: =IF($H14="N"," ",IF($F14=1,"1/6",IF($F14=2,"2/5",IF($F14=3,"3/4",IF($F14=4,"4/3",IF($F14=5,"5/2",IF($F14=6,"6/1",I13))))))) | J14: =IF(AND(F14=1,J13=" "),1,IF(H14="N"," ",J13+1)) | K14: =IF(H14="N","0",IF(N13="Y",8,IF(OR(J14=1,J14=2),2,IF(J14=3,4,IF(J14=4,6,IF(J14>=5,8)))))) -> 0 | L14: =IF(G14="W",K13*3,0) -> 0 | M14: =M13+L14-K14 -> 4 | N14: =IF(AND(N13="N",J14<>" ",J14>=6),"Y",IF(AND(N13="Y",M14<0),"Y","N")) -> N | O14: =IF(H14="N","0",IF(R13="Y",8,IF(OR(J14=1,J14=2),2,IF(J14=3,4,IF(J14=4,6,IF(J14>=5,8)))))) -> 0 | P14: =IF(G14="W",O13*3,0) -> 0 | Q14: =Q13+P14-O14 -> 4 | R14: =IF(AND(R13="N",J14<>" ",J14>=6),"Y",IF(AND(R13="Y",M14<S13),"Y","N")) -> N | S14: =IF(OR(G14="L",Q14<S13),S13,Q14) -> 4 | T14: =IF(U13="N"," ",IF(OR($F13=1,$F13=4),IF(OR($D13=1,$D13=6),"W","L"),IF(OR($F13=2,$F13=5),IF(OR($D13=2,$D13=5),"W","L"),IF(OR($F13=3,$F13=6),IF(OR($D13=3,$D13=4),"W","L"))))) | U14: =IF(OR($F14=1,T14="L"),"Y","N") -> N | V14: =IF($H14="N"," ",IF(OR($F14=1,$F14=4),"1/6",IF(OR($F14=2,$F14=5),"2/5",IF(OR($F14=3,$F14=6),"3/4",V12)))) | W14: =IF(AND(F14=1,W13=" "),1,IF(U14="N"," ",W13+1)) | X14: =IF(U14="N","0",IF(AA13="Y",8,IF(OR(W14=1,W14=2),2,IF(W14=3,4,IF(W14=4,6,IF(W14>=5,8)))))) -> 0 | Y14: =IF(T14="W",X13*3,0) -> 0 | Z14: =Z13+Y14-X14 -> 4 | AA14: =IF(AND(AA13="N",W14<>" ",W14>=6),"Y",IF(AND(AA13="Y",Z14<0),"Y","N")) -> N | AB14: =IF(U14="N","0",IF(AE13="Y",8,IF(OR(W14=1,W14=2),2,IF(W14=3,4,IF(W14=4,6,IF(W14>=5,8)))))) -> 0 | AC14: =IF(T14="W",AB13*3,0) -> 0 | AD14: =AD13+AC14-AB14 -> 4 | AE14: =IF(AND(AE13="N",W14<>" ",W14>=6),"Y",IF(AND(AE13="Y",Z14<AF13),"Y","N")) -> N | AF14: =IF(OR(T14="L",AD14<AF13),AF13,AD14) -> 4 | AG14: =IF(OR(VALUE(MID(AH13,1,1))=D13,VALUE(MID(AH13,3,1))=D13),"W","L") -> L | AH14: =IF(OR(AI14=1,AI14=6,AI14=7,AI14=12,AI14=13,AI14=18),"1/6",IF(OR(AI14=2,AI14=5,AI14=8,AI14=11,AI14=14,AI14=17),"2/5",IF(OR(AI14=3,AI14=4,AI14=9,AI14=10,AI14=15,AI14=16),"3/4",AH13))) -> 3/4 | AI14: =IF(AG14="W",1,AI13+1) -> 3 | AJ14: =IF(AM13="Y",8,IF(OR(AI14=1,AI14=2),2,IF(AI14=3,4,IF(AI14=4,6,IF(AI14>=5,8))))) -> 4 | AK14: =IF(AG14="W",AJ13*3,0) -> 0 | AL14: =AL13+AK14-AJ14 -> -4 | AM14: =IF(AND(AM13="N",AI14<>" ",AI14>=6),"Y",IF(AND(AM13="Y",AL14<0),"Y","N")) -> N | AN14: =IF(AQ13="Y",8,IF(OR(AI14=1,AI14=2),2,IF(AI14=3,4,IF(AI14=4,6,IF(AI14>=5,8))))) -> 4 | AO14: =IF(AG14="W",AN13*3,0) -> 0 | AP14: =AP13+AO14-AN14 -> -4 | AQ14: =IF(AND(AQ13="N",AI14<>" ",AI14>=6),"Y",IF(AND(AQ13="Y",AL14<AR13),"Y","N")) -> N | AR14: =IF(OR(AG14="L",AP14<AR13),AR13,AP14) -> 2 | AS14: =IF(OR(VALUE(MID(AT13,1,1))=D13,VALUE(MID(AT13,3,1))=D13),"W","L") -> L | AT14: =IF(OR(AU14=1,AU14=4,AU14=7,AU14=10,AU14=13,AU14=16),"1/6",IF(OR(AU14=2,AU14=5,AU14=8,AU14=11,AU14=14,AU14=17),"2/5",IF(OR(AU14=3,AU14=6,AU14=9,AU14=12,AU14=15,AU14=18),"3/4",AT13))) -> 3/4 | AU14: =IF(AS14="W",1,AU13+1) -> 3 | AV14: =IF(AY13="Y",8,IF(OR(AU14=1,AU14=2),2,IF(AU14=3,4,IF(AU14=4,6,IF(AU14>=5,8))))) -> 4 | AW14: =IF(AS14="W",AV13*3,0) -> 0 | AX14: =AX13+AW14-AV14 -> -4 | AY14: =IF(AND(AY13="N",AU14<>" ",AU14>=6),"Y",IF(AND(AY13="Y",AX14<0),"Y","N")) -> N | AZ14: =IF(BC13="Y",8,IF(OR(AU14=1,AU14=2),2,IF(AU14=3,4,IF(AU14=4,6,IF(AU14>=5,8))))) -> 4 | BA14: =IF(AS14="W",AZ13*3,0) -> 0 | BB14: =BB13+BA14-AZ14 -> -4 | BC14: =IF(AND(BC13="N",AU14<>" ",AU14>=6),"Y",IF(AND(BC13="Y",AX14<BD13),"Y","N")) -> N | BD14: =IF(OR(AS14="L",BB14<BD13),BD13,BB14) -> 2
A15: =A14+1 -> 5 | B15: =Data!B15 -> 10 | D15: =IF($B15=0,0,IF(MOD($B15,6)=0,QUOTIENT($B15,6),QUOTIENT($B15,6)+1)) -> 2 | F15: =IF($F14<=5,F14+1,1) -> 5 | G15: =IF(H14="N"," ",IF(OR($F14=1,$F14=6),IF(OR($D14=1,$D14=6),"W","L"),IF(OR($F14=2,$F14=5),IF(OR($D14=2,$D14=5),"W","L"),IF(OR($F14=3,$F14=4),IF(OR($D14=3,$D14=4),"W","L"))))) | H15: =IF(OR($F15=1,$G15="L"),"Y","N") -> N | I15: =IF($H15="N"," ",IF($F15=1,"1/6",IF($F15=2,"2/5",IF($F15=3,"3/4",IF($F15=4,"4/3",IF($F15=5,"5/2",IF($F15=6,"6/1",I14))))))) | J15: =IF(AND(F15=1,J14=" "),1,IF(H15="N"," ",J14+1)) | K15: =IF(H15="N","0",IF(N14="Y",8,IF(OR(J15=1,J15=2),2,IF(J15=3,4,IF(J15=4,6,IF(J15>=5,8)))))) -> 0 | L15: =IF(G15="W",K14*3,0) -> 0 | M15: =M14+L15-K15 -> 4 | N15: =IF(AND(N14="N",J15<>" ",J15>=6),"Y",IF(AND(N14="Y",M15<0),"Y","N")) -> N | O15: =IF(H15="N","0",IF(R14="Y",8,IF(OR(J15=1,J15=2),2,IF(J15=3,4,IF(J15=4,6,IF(J15>=5,8)))))) -> 0 | P15: =IF(G15="W",O14*3,0) -> 0 | Q15: =Q14+P15-O15 -> 4 | R15: =IF(AND(R14="N",J15<>" ",J15>=6),"Y",IF(AND(R14="Y",M15<S14),"Y","N")) -> N | S15: =IF(OR(G15="L",Q15<S14),S14,Q15) -> 4 | T15: =IF(U14="N"," ",IF(OR($F14=1,$F14=4),IF(OR($D14=1,$D14=6),"W","L"),IF(OR($F14=2,$F14=5),IF(OR($D14=2,$D14=5),"W","L"),IF(OR($F14=3,$F14=6),IF(OR($D14=3,$D14=4),"W","L"))))) | U15: =IF(OR($F15=1,T15="L"),"Y","N") -> N | V15: =IF($H15="N"," ",IF(OR($F15=1,$F15=4),"1/6",IF(OR($F15=2,$F15=5),"2/5",IF(OR($F15=3,$F15=6),"3/4",V13)))) | W15: =IF(AND(F15=1,W14=" "),1,IF(U15="N"," ",W14+1)) | X15: =IF(U15="N","0",IF(AA14="Y",8,IF(OR(W15=1,W15=2),2,IF(W15=3,4,IF(W15=4,6,IF(W15>=5,8)))))) -> 0 | Y15: =IF(T15="W",X14*3,0) -> 0 | Z15: =Z14+Y15-X15 -> 4 | AA15: =IF(AND(AA14="N",W15<>" ",W15>=6),"Y",IF(AND(AA14="Y",Z15<0),"Y","N")) -> N | AB15: =IF(U15="N","0",IF(AE14="Y",8,IF(OR(W15=1,W15=2),2,IF(W15=3,4,IF(W15=4,6,IF(W15>=5,8)))))) -> 0 | AC15: =IF(T15="W",AB14*3,0) -> 0 | AD15: =AD14+AC15-AB15 -> 4 | AE15: =IF(AND(AE14="N",W15<>" ",W15>=6),"Y",IF(AND(AE14="Y",Z15<AF14),"Y","N")) -> N | AF15: =IF(OR(T15="L",AD15<AF14),AF14,AD15) -> 4 | AG15: =IF(OR(VALUE(MID(AH14,1,1))=D14,VALUE(MID(AH14,3,1))=D14),"W","L") -> W | AH15: =IF(OR(AI15=1,AI15=6,AI15=7,AI15=12,AI15=13,AI15=18),"1/6",IF(OR(AI15=2,AI15=5,AI15=8,AI15=11,AI15=14,AI15=17),"2/5",IF(OR(AI15=3,AI15=4,AI15=9,AI15=10,AI15=15,AI15=16),"3/4",AH14))) -> 1/6 | AI15: =IF(AG15="W",1,AI14+1) -> 1 | AJ15: =IF(AM14="Y",8,IF(OR(AI15=1,AI15=2),2,IF(AI15=3,4,IF(AI15=4,6,IF(AI15>=5,8))))) -> 2 | AK15: =IF(AG15="W",AJ14*3,0) -> 12 | AL15: =AL14+AK15-AJ15 -> 6 | AM15: =IF(AND(AM14="N",AI15<>" ",AI15>=6),"Y",IF(AND(AM14="Y",AL15<0),"Y","N")) -> N | AN15: =IF(AQ14="Y",8,IF(OR(AI15=1,AI15=2),2,IF(AI15=3,4,IF(AI15=4,6,IF(AI15>=5,8))))) -> 2 | AO15: =IF(AG15="W",AN14*3,0) -> 12 | AP15: =AP14+AO15-AN15 -> 6 | AQ15: =IF(AND(AQ14="N",AI15<>" ",AI15>=6),"Y",IF(AND(AQ14="Y",AL15<AR14),"Y","N")) -> N | AR15: =IF(OR(AG15="L",AP15<AR14),AR14,AP15) -> 6 | AS15: =IF(OR(VALUE(MID(AT14,1,1))=D14,VALUE(MID(AT14,3,1))=D14),"W","L") -> W | AT15: =IF(OR(AU15=1,AU15=4,AU15=7,AU15=10,AU15=13,AU15=16),"1/6",IF(OR(AU15=2,AU15=5,AU15=8,AU15=11,AU15=14,AU15=17),"2/5",IF(OR(AU15=3,AU15=6,AU15=9,AU15=12,AU15=15,AU15=18),"3/4",AT14))) -> 1/6 | AU15: =IF(AS15="W",1,AU14+1) -> 1 | AV15: =IF(AY14="Y",8,IF(OR(AU15=1,AU15=2),2,IF(AU15=3,4,IF(AU15=4,6,IF(AU15>=5,8))))) -> 2 | AW15: =IF(AS15="W",AV14*3,0) -> 12 | AX15: =AX14+AW15-AV15 -> 6 | AY15: =IF(AND(AY14="N",AU15<>" ",AU15>=6),"Y",IF(AND(AY14="Y",AX15<0),"Y","N")) -> N | AZ15: =IF(BC14="Y",8,IF(OR(AU15=1,AU15=2),2,IF(AU15=3,4,IF(AU15=4,6,IF(AU15>=5,8))))) -> 2 | BA15: =IF(AS15="W",AZ14*3,0) -> 12 | BB15: =BB14+BA15-AZ15 -> 6 | BC15: =IF(AND(BC14="N",AU15<>" ",AU15>=6),"Y",IF(AND(BC14="Y",AX15<BD14),"Y","N")) -> N | BD15: =IF(OR(AS15="L",BB15<BD14),BD14,BB15) -> 6
A16: =A15+1 -> 6 | B16: =Data!B16 -> 34 | D16: =IF($B16=0,0,IF(MOD($B16,6)=0,QUOTIENT($B16,6),QUOTIENT($B16,6)+1)) -> 6 | F16: =IF($F15<=5,F15+1,1) -> 6 | G16: =IF(H15="N"," ",IF(OR($F15=1,$F15=6),IF(OR($D15=1,$D15=6),"W","L"),IF(OR($F15=2,$F15=5),IF(OR($D15=2,$D15=5),"W","L"),IF(OR($F15=3,$F15=4),IF(OR($D15=3,$D15=4),"W","L"))))) | H16: =IF(OR($F16=1,$G16="L"),"Y","N") -> N | I16: =IF($H16="N"," ",IF($F16=1,"1/6",IF($F16=2,"2/5",IF($F16=3,"3/4",IF($F16=4,"4/3",IF($F16=5,"5/2",IF($F16=6,"6/1",I15))))))) | J16: =IF(AND(F16=1,J15=" "),1,IF(H16="N"," ",J15+1)) | K16: =IF(H16="N","0",IF(N15="Y",8,IF(OR(J16=1,J16=2),2,IF(J16=3,4,IF(J16=4,6,IF(J16>=5,8)))))) -> 0 | L16: =IF(G16="W",K15*3,0) -> 0 | M16: =M15+L16-K16 -> 4 | N16: =IF(AND(N15="N",J16<>" ",J16>=6),"Y",IF(AND(N15="Y",M16<0),"Y","N")) -> N | O16: =IF(H16="N","0",IF(R15="Y",8,IF(OR(J16=1,J16=2),2,IF(J16=3,4,IF(J16=4,6,IF(J16>=5,8)))))) -> 0 | P16: =IF(G16="W",O15*3,0) -> 0 | Q16: =Q15+P16-O16 -> 4 | R16: =IF(AND(R15="N",J16<>" ",J16>=6),"Y",IF(AND(R15="Y",M16<S15),"Y","N")) -> N | S16: =IF(OR(G16="L",Q16<S15),S15,Q16) -> 4 | T16: =IF(U15="N"," ",IF(OR($F15=1,$F15=4),IF(OR($D15=1,$D15=6),"W","L"),IF(OR($F15=2,$F15=5),IF(OR($D15=2,$D15=5),"W","L"),IF(OR($F15=3,$F15=6),IF(OR($D15=3,$D15=4),"W","L"))))) | U16: =IF(OR($F16=1,T16="L"),"Y","N") -> N | V16: =IF($H16="N"," ",IF(OR($F16=1,$F16=4),"1/6",IF(OR($F16=2,$F16=5),"2/5",IF(OR($F16=3,$F16=6),"3/4",V14)))) | W16: =IF(AND(F16=1,W15=" "),1,IF(U16="N"," ",W15+1)) | X16: =IF(U16="N","0",IF(AA15="Y",8,IF(OR(W16=1,W16=2),2,IF(W16=3,4,IF(W16=4,6,IF(W16>=5,8)))))) -> 0 | Y16: =IF(T16="W",X15*3,0) -> 0 | Z16: =Z15+Y16-X16 -> 4 | AA16: =IF(AND(AA15="N",W16<>" ",W16>=6),"Y",IF(AND(AA15="Y",Z16<0),"Y","N")) -> N | AB16: =IF(U16="N","0",IF(AE15="Y",8,IF(OR(W16=1,W16=2),2,IF(W16=3,4,IF(W16=4,6,IF(W16>=5,8)))))) -> 0 | AC16: =IF(T16="W",AB15*3,0) -> 0 | AD16: =AD15+AC16-AB16 -> 4 | AE16: =IF(AND(AE15="N",W16<>" ",W16>=6),"Y",IF(AND(AE15="Y",Z16<AF15),"Y","N")) -> N | AF16: =IF(OR(T16="L",AD16<AF15),AF15,AD16) -> 4 | AG16: =IF(OR(VALUE(MID(AH15,1,1))=D15,VALUE(MID(AH15,3,1))=D15),"W","L") -> L | AH16: =IF(OR(AI16=1,AI16=6,AI16=7,AI16=12,AI16=13,AI16=18),"1/6",IF(OR(AI16=2,AI16=5,AI16=8,AI16=11,AI16=14,AI16=17),"2/5",IF(OR(AI16=3,AI16=4,AI16=9,AI16=10,AI16=15,AI16=16),"3/4",AH15))) -> 2/5 | AI16: =IF(AG16="W",1,AI15+1) -> 2 | AJ16: =IF(AM15="Y",8,IF(OR(AI16=1,AI16=2),2,IF(AI16=3,4,IF(AI16=4,6,IF(AI16>=5,8))))) -> 2 | AK16: =IF(AG16="W",AJ15*3,0) -> 0 | AL16: =AL15+AK16-AJ16 -> 4 | AM16: =IF(AND(AM15="N",AI16<>" ",AI16>=6),"Y",IF(AND(AM15="Y",AL16<0),"Y","N")) -> N | AN16: =IF(AQ15="Y",8,IF(OR(AI16=1,AI16=2),2,IF(AI16=3,4,IF(AI16=4,6,IF(AI16>=5,8))))) -> 2 | AO16: =IF(AG16="W",AN15*3,0) -> 0 | AP16: =AP15+AO16-AN16 -> 4 | AQ16: =IF(AND(AQ15="N",AI16<>" ",AI16>=6),"Y",IF(AND(AQ15="Y",AL16<AR15),"Y","N")) -> N | AR16: =IF(OR(AG16="L",AP16<AR15),AR15,AP16) -> 6 | AS16: =IF(OR(VALUE(MID(AT15,1,1))=D15,VALUE(MID(AT15,3,1))=D15),"W","L") -> L | AT16: =IF(OR(AU16=1,AU16=4,AU16=7,AU16=10,AU16=13,AU16=16),"1/6",IF(OR(AU16=2,AU16=5,AU16=8,AU16=11,AU16=14,AU16=17),"2/5",IF(OR(AU16=3,AU16=6,AU16=9,AU16=12,AU16=15,AU16=18),"3/4",AT15))) -> 2/5 | AU16: =IF(AS16="W",1,AU15+1) -> 2 | AV16: =IF(AY15="Y",8,IF(OR(AU16=1,AU16=2),2,IF(AU16=3,4,IF(AU16=4,6,IF(AU16>=5,8))))) -> 2 | AW16: =IF(AS16="W",AV15*3,0) -> 0 | AX16: =AX15+AW16-AV16 -> 4 | AY16: =IF(AND(AY15="N",AU16<>" ",AU16>=6),"Y",IF(AND(AY15="Y",AX16<0),"Y","N")) -> N | AZ16: =IF(BC15="Y",8,IF(OR(AU16=1,AU16=2),2,IF(AU16=3,4,IF(AU16=4,6,IF(AU16>=5,8))))) -> 2 | BA16: =IF(AS16="W",AZ15*3,0) -> 0 | BB16: =BB15+BA16-AZ16 -> 4 | BC16: =IF(AND(BC15="N",AU16<>" ",AU16>=6),"Y",IF(AND(BC15="Y",AX16<BD15),"Y","N")) -> N | BD16: =IF(OR(AS16="L",BB16<BD15),BD15,BB16) -> 6
A17: =A16+1 -> 7 | B17: =Data!B17 -> 0 | D17: =IF($B17=0,0,IF(MOD($B17,6)=0,QUOTIENT($B17,6),QUOTIENT($B17,6)+1)) -> 0 | F17: =IF($F16<=5,F16+1,1) -> 1 | G17: =IF(H16="N"," ",IF(OR($F16=1,$F16=6),IF(OR($D16=1,$D16=6),"W","L"),IF(OR($F16=2,$F16=5),IF(OR($D16=2,$D16=5),"W","L"),IF(OR($F16=3,$F16=4),IF(OR($D16=3,$D16=4),"W","L"))))) | H17: =IF(OR($F17=1,$G17="L"),"Y","N") -> Y | I17: =IF($H17="N"," ",IF($F17=1,"1/6",IF($F17=2,"2/5",IF($F17=3,"3/4",IF($F17=4,"4/3",IF($F17=5,"5/2",IF($F17=6,"6/1",I16))))))) -> 1/6 | J17: =IF(AND(F17=1,J16=" "),1,IF(H17="N"," ",J16+1)) -> 1 | K17: =IF(H17="N","0",IF(N16="Y",8,IF(OR(J17=1,J17=2),2,IF(J17=3,4,IF(J17=4,6,IF(J17>=5,8)))))) -> 2 | L17: =IF(G17="W",K16*3,0) -> 0 | M17: =M16+L17-K17 -> 2 | N17: =IF(AND(N16="N",J17<>" ",J17>=6),"Y",IF(AND(N16="Y",M17<0),"Y","N")) -> N | O17: =IF(H17="N","0",IF(R16="Y",8,IF(OR(J17=1,J17=2),2,IF(J17=3,4,IF(J17=4,6,IF(J17>=5,8)))))) -> 2 | P17: =IF(G17="W",O16*3,0) -> 0 | Q17: =Q16+P17-O17 -> 2 | R17: =IF(AND(R16="N",J17<>" ",J17>=6),"Y",IF(AND(R16="Y",M17<S16),"Y","N")) -> N | S17: =IF(OR(G17="L",Q17<S16),S16,Q17) -> 4 | T17: =IF(U16="N"," ",IF(OR($F16=1,$F16=4),IF(OR($D16=1,$D16=6),"W","L"),IF(OR($F16=2,$F16=5),IF(OR($D16=2,$D16=5),"W","L"),IF(OR($F16=3,$F16=6),IF(OR($D16=3,$D16=4),"W","L"))))) | U17: =IF(OR($F17=1,T17="L"),"Y","N") -> Y | V17: =IF($H17="N"," ",IF(OR($F17=1,$F17=4),"1/6",IF(OR($F17=2,$F17=5),"2/5",IF(OR($F17=3,$F17=6),"3/4",V15)))) -> 1/6 | W17: =IF(AND(F17=1,W16=" "),1,IF(U17="N"," ",W16+1)) -> 1 | X17: =IF(U17="N","0",IF(AA16="Y",8,IF(OR(W17=1,W17=2),2,IF(W17=3,4,IF(W17=4,6,IF(W17>=5,8)))))) -> 2 | Y17: =IF(T17="W",X16*3,0) -> 0 | Z17: =Z16+Y17-X17 -> 2 | AA17: =IF(AND(AA16="N",W17<>" ",W17>=6),"Y",IF(AND(AA16="Y",Z17<0),"Y","N")) -> N | AB17: =IF(U17="N","0",IF(AE16="Y",8,IF(OR(W17=1,W17=2),2,IF(W17=3,4,IF(W17=4,6,IF(W17>=5,8)))))) -> 2 | AC17: =IF(T17="W",AB16*3,0) -> 0 | AD17: =AD16+AC17-AB17 -> 2 | AE17: =IF(AND(AE16="N",W17<>" ",W17>=6),"Y",IF(AND(AE16="Y",Z17<AF16),"Y","N")) -> N | AF17: =IF(OR(T17="L",AD17<AF16),AF16,AD17) -> 4 | AG17: =IF(OR(VALUE(MID(AH16,1,1))=D16,VALUE(MID(AH16,3,1))=D16),"W","L") -> L | AH17: =IF(OR(AI17=1,AI17=6,AI17=7,AI17=12,AI17=13,AI17=18),"1/6",IF(OR(AI17=2,AI17=5,AI17=8,AI17=11,AI17=14,AI17=17),"2/5",IF(OR(AI17=3,AI17=4,AI17=9,AI17=10,AI17=15,AI17=16),"3/4",AH16))) -> 3/4 | AI17: =IF(AG17="W",1,AI16+1) -> 3 | AJ17: =IF(AM16="Y",8,IF(OR(AI17=1,AI17=2),2,IF(AI17=3,4,IF(AI17=4,6,IF(AI17>=5,8))))) -> 4 | AK17: =IF(AG17="W",AJ16*3,0) -> 0 | AL17: =AL16+AK17-AJ17 -> 0 | AM17: =IF(AND(AM16="N",AI17<>" ",AI17>=6),"Y",IF(AND(AM16="Y",AL17<0),"Y","N")) -> N | AN17: =IF(AQ16="Y",8,IF(OR(AI17=1,AI17=2),2,IF(AI17=3,4,IF(AI17=4,6,IF(AI17>=5,8))))) -> 4 | AO17: =IF(AG17="W",AN16*3,0) -> 0 | AP17: =AP16+AO17-AN17 -> 0 | AQ17: =IF(AND(AQ16="N",AI17<>" ",AI17>=6),"Y",IF(AND(AQ16="Y",AL17<AR16),"Y","N")) -> N | AR17: =IF(OR(AG17="L",AP17<AR16),AR16,AP17) -> 6 | AS17: =IF(OR(VALUE(MID(AT16,1,1))=D16,VALUE(MID(AT16,3,1))=D16),"W","L") -> L | AT17: =IF(OR(AU17=1,AU17=4,AU17=7,AU17=10,AU17=13,AU17=16),"1/6",IF(OR(AU17=2,AU17=5,AU17=8,AU17=11,AU17=14,AU17=17),"2/5",IF(OR(AU17=3,AU17=6,AU17=9,AU17=12,AU17=15,AU17=18),"3/4",AT16))) -> 3/4 | AU17: =IF(AS17="W",1,AU16+1) -> 3 | AV17: =IF(AY16="Y",8,IF(OR(AU17=1,AU17=2),2,IF(AU17=3,4,IF(AU17=4,6,IF(AU17>=5,8))))) -> 4 | AW17: =IF(AS17="W",AV16*3,0) -> 0 | AX17: =AX16+AW17-AV17 -> 0 | AY17: =IF(AND(AY16="N",AU17<>" ",AU17>=6),"Y",IF(AND(AY16="Y",AX17<0),"Y","N")) -> N | AZ17: =IF(BC16="Y",8,IF(OR(AU17=1,AU17=2),2,IF(AU17=3,4,IF(AU17=4,6,IF(AU17>=5,8))))) -> 4 | BA17: =IF(AS17="W",AZ16*3,0) -> 0 | BB17: =BB16+BA17-AZ17 -> 0 | BC17: =IF(AND(BC16="N",AU17<>" ",AU17>=6),"Y",IF(AND(BC16="Y",AX17<BD16),"Y","N")) -> N | BD17: =IF(OR(AS17="L",BB17<BD16),BD16,BB17) -> 6
A18: =A17+1 -> 8 | B18: =Data!B18 -> 8 | D18: =IF($B18=0,0,IF(MOD($B18,6)=0,QUOTIENT($B18,6),QUOTIENT($B18,6)+1)) -> 2 | F18: =IF($F17<=5,F17+1,1) -> 2 | G18: =IF(H17="N"," ",IF(OR($F17=1,$F17=6),IF(OR($D17=1,$D17=6),"W","L"),IF(OR($F17=2,$F17=5),IF(OR($D17=2,$D17=5),"W","L"),IF(OR($F17=3,$F17=4),IF(OR($D17=3,$D17=4),"W","L"))))) -> L | H18: =IF(OR($F18=1,$G18="L"),"Y","N") -> Y | I18: =IF($H18="N"," ",IF($F18=1,"1/6",IF($F18=2,"2/5",IF($F18=3,"3/4",IF($F18=4,"4/3",IF($F18=5,"5/2",IF($F18=6,"6/1",I17))))))) -> 2/5 | J18: =IF(AND(F18=1,J17=" "),1,IF(H18="N"," ",J17+1)) -> 2 | K18: =IF(H18="N","0",IF(N17="Y",8,IF(OR(J18=1,J18=2),2,IF(J18=3,4,IF(J18=4,6,IF(J18>=5,8)))))) -> 2 | L18: =IF(G18="W",K17*3,0) -> 0 | M18: =M17+L18-K18 -> 0 | N18: =IF(AND(N17="N",J18<>" ",J18>=6),"Y",IF(AND(N17="Y",M18<0),"Y","N")) -> N | O18: =IF(H18="N","0",IF(R17="Y",8,IF(OR(J18=1,J18=2),2,IF(J18=3,4,IF(J18=4,6,IF(J18>=5,8)))))) -> 2 | P18: =IF(G18="W",O17*3,0) -> 0 | Q18: =Q17+P18-O18 -> 0 | R18: =IF(AND(R17="N",J18<>" ",J18>=6),"Y",IF(AND(R17="Y",M18<S17),"Y","N")) -> N | S18: =IF(OR(G18="L",Q18<S17),S17,Q18) -> 4 | T18: =IF(U17="N"," ",IF(OR($F17=1,$F17=4),IF(OR($D17=1,$D17=6),"W","L"),IF(OR($F17=2,$F17=5),IF(OR($D17=2,$D17=5),"W","L"),IF(OR($F17=3,$F17=6),IF(OR($D17=3,$D17=4),"W","L"))))) -> L | U18: =IF(OR($F18=1,T18="L"),"Y","N") -> Y | V18: =IF($H18="N"," ",IF(OR($F18=1,$F18=4),"1/6",IF(OR($F18=2,$F18=5),"2/5",IF(OR($F18=3,$F18=6),"3/4",V16)))) -> 2/5 | W18: =IF(AND(F18=1,W17=" "),1,IF(U18="N"," ",W17+1)) -> 2 | X18: =IF(U18="N","0",IF(AA17="Y",8,IF(OR(W18=1,W18=2),2,IF(W18=3,4,IF(W18=4,6,IF(W18>=5,8)))))) -> 2 | Y18: =IF(T18="W",X17*3,0) -> 0 | Z18: =Z17+Y18-X18 -> 0 | AA18: =IF(AND(AA17="N",W18<>" ",W18>=6),"Y",IF(AND(AA17="Y",Z18<0),"Y","N")) -> N | AB18: =IF(U18="N","0",IF(AE17="Y",8,IF(OR(W18=1,W18=2),2,IF(W18=3,4,IF(W18=4,6,IF(W18>=5,8)))))) -> 2 | AC18: =IF(T18="W",AB17*3,0) -> 0 | AD18: =AD17+AC18-AB18 -> 0 | AE18: =IF(AND(AE17="N",W18<>" ",W18>=6),"Y",IF(AND(AE17="Y",Z18<AF17),"Y","N")) -> N | AF18: =IF(OR(T18="L",AD18<AF17),AF17,AD18) -> 4 | AG18: =IF(OR(VALUE(MID(AH17,1,1))=D17,VALUE(MID(AH17,3,1))=D17),"W","L") -> L | AH18: =IF(OR(AI18=1,AI18=6,AI18=7,AI18=12,AI18=13,AI18=18),"1/6",IF(OR(AI18=2,AI18=5,AI18=8,AI18=11,AI18=14,AI18=17),"2/5",IF(OR(AI18=3,AI18=4,AI18=9,AI18=10,AI18=15,AI18=16),"3/4",AH17))) -> 3/4 | AI18: =IF(AG18="W",1,AI17+1) -> 4 | AJ18: =IF(AM17="Y",8,IF(OR(AI18=1,AI18=2),2,IF(AI18=3,4,IF(AI18=4,6,IF(AI18>=5,8))))) -> 6 | AK18: =IF(AG18="W",AJ17*3,0) -> 0 | AL18: =AL17+AK18-AJ18 -> -6 | AM18: =IF(AND(AM17="N",AI18<>" ",AI18>=6),"Y",IF(AND(AM17="Y",AL18<0),"Y","N")) -> N | AN18: =IF(AQ17="Y",8,IF(OR(AI18=1,AI18=2),2,IF(AI18=3,4,IF(AI18=4,6,IF(AI18>=5,8))))) -> 6 | AO18: =IF(AG18="W",AN17*3,0) -> 0 | AP18: =AP17+AO18-AN18 -> -6 | AQ18: =IF(AND(AQ17="N",AI18<>" ",AI18>=6),"Y",IF(AND(AQ17="Y",AL18<AR17),"Y","N")) -> N | AR18: =IF(OR(AG18="L",AP18<AR17),AR17,AP18) -> 6 | AS18: =IF(OR(VALUE(MID(AT17,1,1))=D17,VALUE(MID(AT17,3,1))=D17),"W","L") -> L | AT18: =IF(OR(AU18=1,AU18=4,AU18=7,AU18=10,AU18=13,AU18=16),"1/6",IF(OR(AU18=2,AU18=5,AU18=8,AU18=11,AU18=14,AU18=17),"2/5",IF(OR(AU18=3,AU18=6,AU18=9,AU18=12,AU18=15,AU18=18),"3/4",AT17))) -> 1/6 | AU18: =IF(AS18="W",1,AU17+1) -> 4 | AV18: =IF(AY17="Y",8,IF(OR(AU18=1,AU18=2),2,IF(AU18=3,4,IF(AU18=4,6,IF(AU18>=5,8))))) -> 6 | AW18: =IF(AS18="W",AV17*3,0) -> 0 | AX18: =AX17+AW18-AV18 -> -6 | AY18: =IF(AND(AY17="N",AU18<>" ",AU18>=6),"Y",IF(AND(AY17="Y",AX18<0),"Y","N")) -> N | AZ18: =IF(BC17="Y",8,IF(OR(AU18=1,AU18=2),2,IF(AU18=3,4,IF(AU18=4,6,IF(AU18>=5,8))))) -> 6 | BA18: =IF(AS18="W",AZ17*3,0) -> 0 | BB18: =BB17+BA18-AZ18 -> -6 | BC18: =IF(AND(BC17="N",AU18<>" ",AU18>=6),"Y",IF(AND(BC17="Y",AX18<BD17),"Y","N")) -> N | BD18: =IF(OR(AS18="L",BB18<BD17),BD17,BB18) -> 6
A19: =A18+1 -> 9 | B19: =Data!B19 -> 17 | D19: =IF($B19=0,0,IF(MOD($B19,6)=0,QUOTIENT($B19,6),QUOTIENT($B19,6)+1)) -> 3 | F19: =IF($F18<=5,F18+1,1) -> 3 | G19: =IF(H18="N"," ",IF(OR($F18=1,$F18=6),IF(OR($D18=1,$D18=6),"W","L"),IF(OR($F18=2,$F18=5),IF(OR($D18=2,$D18=5),"W","L"),IF(OR($F18=3,$F18=4),IF(OR($D18=3,$D18=4),"W","L"))))) -> W | H19: =IF(OR($F19=1,$G19="L"),"Y","N") -> N | I19: =IF($H19="N"," ",IF($F19=1,"1/6",IF($F19=2,"2/5",IF($F19=3,"3/4",IF($F19=4,"4/3",IF($F19=5,"5/2",IF($F19=6,"6/1",I18))))))) | J19: =IF(AND(F19=1,J18=" "),1,IF(H19="N"," ",J18+1)) | K19: =IF(H19="N","0",IF(N18="Y",8,IF(OR(J19=1,J19=2),2,IF(J19=3,4,IF(J19=4,6,IF(J19>=5,8)))))) -> 0 | L19: =IF(G19="W",K18*3,0) -> 6 | M19: =M18+L19-K19 -> 6 | N19: =IF(AND(N18="N",J19<>" ",J19>=6),"Y",IF(AND(N18="Y",M19<0),"Y","N")) -> N | O19: =IF(H19="N","0",IF(R18="Y",8,IF(OR(J19=1,J19=2),2,IF(J19=3,4,IF(J19=4,6,IF(J19>=5,8)))))) -> 0 | P19: =IF(G19="W",O18*3,0) -> 6 | Q19: =Q18+P19-O19 -> 6 | R19: =IF(AND(R18="N",J19<>" ",J19>=6),"Y",IF(AND(R18="Y",M19<S18),"Y","N")) -> N | S19: =IF(OR(G19="L",Q19<S18),S18,Q19) -> 6 | T19: =IF(U18="N"," ",IF(OR($F18=1,$F18=4),IF(OR($D18=1,$D18=6),"W","L"),IF(OR($F18=2,$F18=5),IF(OR($D18=2,$D18=5),"W","L"),IF(OR($F18=3,$F18=6),IF(OR($D18=3,$D18=4),"W","L"))))) -> W | U19: =IF(OR($F19=1,T19="L"),"Y","N") -> N | V19: =IF($H19="N"," ",IF(OR($F19=1,$F19=4),"1/6",IF(OR($F19=2,$F19=5),"2/5",IF(OR($F19=3,$F19=6),"3/4",V17)))) | W19: =IF(AND(F19=1,W18=" "),1,IF(U19="N"," ",W18+1)) | X19: =IF(U19="N","0",IF(AA18="Y",8,IF(OR(W19=1,W19=2),2,IF(W19=3,4,IF(W19=4,6,IF(W19>=5,8)))))) -> 0 | Y19: =IF(T19="W",X18*3,0) -> 6 | Z19: =Z18+Y19-X19 -> 6 | AA19: =IF(AND(AA18="N",W19<>" ",W19>=6),"Y",IF(AND(AA18="Y",Z19<0),"Y","N")) -> N | AB19: =IF(U19="N","0",IF(AE18="Y",8,IF(OR(W19=1,W19=2),2,IF(W19=3,4,IF(W19=4,6,IF(W19>=5,8)))))) -> 0 | AC19: =IF(T19="W",AB18*3,0) -> 6 | AD19: =AD18+AC19-AB19 -> 6 | AE19: =IF(AND(AE18="N",W19<>" ",W19>=6),"Y",IF(AND(AE18="Y",Z19<AF18),"Y","N")) -> N | AF19: =IF(OR(T19="L",AD19<AF18),AF18,AD19) -> 6 | AG19: =IF(OR(VALUE(MID(AH18,1,1))=D18,VALUE(MID(AH18,3,1))=D18),"W","L") -> L | AH19: =IF(OR(AI19=1,AI19=6,AI19=7,AI19=12,AI19=13,AI19=18),"1/6",IF(OR(AI19=2,AI19=5,AI19=8,AI19=11,AI19=14,AI19=17),"2/5",IF(OR(AI19=3,AI19=4,AI19=9,AI19=10,AI19=15,AI19=16),"3/4",AH18))) -> 2/5 | AI19: =IF(AG19="W",1,AI18+1) -> 5 | AJ19: =IF(AM18="Y",8,IF(OR(AI19=1,AI19=2),2,IF(AI19=3,4,IF(AI19=4,6,IF(AI19>=5,8))))) -> 8 | AK19: =IF(AG19="W",AJ18*3,0) -> 0 | AL19: =AL18+AK19-AJ19 -> -14 | AM19: =IF(AND(AM18="N",AI19<>" ",AI19>=6),"Y",IF(AND(AM18="Y",AL19<0),"Y","N")) -> N | AN19: =IF(AQ18="Y",8,IF(OR(AI19=1,AI19=2),2,IF(AI19=3,4,IF(AI19=4,6,IF(AI19>=5,8))))) -> 8 | AO19: =IF(AG19="W",AN18*3,0) -> 0 | AP19: =AP18+AO19-AN19 -> -14 | AQ19: =IF(AND(AQ18="N",AI19<>" ",AI19>=6),"Y",IF(AND(AQ18="Y",AL19<AR18),"Y","N")) -> N | AR19: =IF(OR(AG19="L",AP19<AR18),AR18,AP19) -> 6 | AS19: =IF(OR(VALUE(MID(AT18,1,1))=D18,VALUE(MID(AT18,3,1))=D18),"W","L") -> L | AT19: =IF(OR(AU19=1,AU19=4,AU19=7,AU19=10,AU19=13,AU19=16),"1/6",IF(OR(AU19=2,AU19=5,AU19=8,AU19=11,AU19=14,AU19=17),"2/5",IF(OR(AU19=3,AU19=6,AU19=9,AU19=12,AU19=15,AU19=18),"3/4",AT18))) -> 2/5 | AU19: =IF(AS19="W",1,AU18+1) -> 5 | AV19: =IF(AY18="Y",8,IF(OR(AU19=1,AU19=2),2,IF(AU19=3,4,IF(AU19=4,6,IF(AU19>=5,8))))) -> 8 | AW19: =IF(AS19="W",AV18*3,0) -> 0 | AX19: =AX18+AW19-AV19 -> -14 | AY19: =IF(AND(AY18="N",AU19<>" ",AU19>=6),"Y",IF(AND(AY18="Y",AX19<0),"Y","N")) -> N | AZ19: =IF(BC18="Y",8,IF(OR(AU19=1,AU19=2),2,IF(AU19=3,4,IF(AU19=4,6,IF(AU19>=5,8))))) -> 8 | BA19: =IF(AS19="W",AZ18*3,0) -> 0 | BB19: =BB18+BA19-AZ19 -> -14 | BC19: =IF(AND(BC18="N",AU19<>" ",AU19>=6),"Y",IF(AND(BC18="Y",AX19<BD18),"Y","N")) -> N | BD19: =IF(OR(AS19="L",BB19<BD18),BD18,BB19) -> 6
A20: =A19+1 -> 10 | B20: =Data!B20 -> 9 | D20: =IF($B20=0,0,IF(MOD($B20,6)=0,QUOTIENT($B20,6),QUOTIENT($B20,6)+1)) -> 2 | F20: =IF($F19<=5,F19+1,1) -> 4 | G20: =IF(H19="N"," ",IF(OR($F19=1,$F19=6),IF(OR($D19=1,$D19=6),"W","L"),IF(OR($F19=2,$F19=5),IF(OR($D19=2,$D19=5),"W","L"),IF(OR($F19=3,$F19=4),IF(OR($D19=3,$D19=4),"W","L"))))) | H20: =IF(OR($F20=1,$G20="L"),"Y","N") -> N | I20: =IF($H20="N"," ",IF($F20=1,"1/6",IF($F20=2,"2/5",IF($F20=3,"3/4",IF($F20=4,"4/3",IF($F20=5,"5/2",IF($F20=6,"6/1",I19))))))) | J20: =IF(AND(F20=1,J19=" "),1,IF(H20="N"," ",J19+1)) | K20: =IF(H20="N","0",IF(N19="Y",8,IF(OR(J20=1,J20=2),2,IF(J20=3,4,IF(J20=4,6,IF(J20>=5,8)))))) -> 0 | L20: =IF(G20="W",K19*3,0) -> 0 | M20: =M19+L20-K20 -> 6 | N20: =IF(AND(N19="N",J20<>" ",J20>=6),"Y",IF(AND(N19="Y",M20<0),"Y","N")) -> N | O20: =IF(H20="N","0",IF(R19="Y",8,IF(OR(J20=1,J20=2),2,IF(J20=3,4,IF(J20=4,6,IF(J20>=5,8)))))) -> 0 | P20: =IF(G20="W",O19*3,0) -> 0 | Q20: =Q19+P20-O20 -> 6 | R20: =IF(AND(R19="N",J20<>" ",J20>=6),"Y",IF(AND(R19="Y",M20<S19),"Y","N")) -> N | S20: =IF(OR(G20="L",Q20<S19),S19,Q20) -> 6 | T20: =IF(U19="N"," ",IF(OR($F19=1,$F19=4),IF(OR($D19=1,$D19=6),"W","L"),IF(OR($F19=2,$F19=5),IF(OR($D19=2,$D19=5),"W","L"),IF(OR($F19=3,$F19=6),IF(OR($D19=3,$D19=4),"W","L"))))) | U20: =IF(OR($F20=1,T20="L"),"Y","N") -> N | V20: =IF($H20="N"," ",IF(OR($F20=1,$F20=4),"1/6",IF(OR($F20=2,$F20=5),"2/5",IF(OR($F20=3,$F20=6),"3/4",V18)))) | W20: =IF(AND(F20=1,W19=" "),1,IF(U20="N"," ",W19+1)) | X20: =IF(U20="N","0",IF(AA19="Y",8,IF(OR(W20=1,W20=2),2,IF(W20=3,4,IF(W20=4,6,IF(W20>=5,8)))))) -> 0 | Y20: =IF(T20="W",X19*3,0) -> 0 | Z20: =Z19+Y20-X20 -> 6 | AA20: =IF(AND(AA19="N",W20<>" ",W20>=6),"Y",IF(AND(AA19="Y",Z20<0),"Y","N")) -> N | AB20: =IF(U20="N","0",IF(AE19="Y",8,IF(OR(W20=1,W20=2),2,IF(W20=3,4,IF(W20=4,6,IF(W20>=5,8)))))) -> 0 | AC20: =IF(T20="W",AB19*3,0) -> 0 | AD20: =AD19+AC20-AB20 -> 6 | AE20: =IF(AND(AE19="N",W20<>" ",W20>=6),"Y",IF(AND(AE19="Y",Z20<AF19),"Y","N")) -> N | AF20: =IF(OR(T20="L",AD20<AF19),AF19,AD20) -> 6 | AG20: =IF(OR(VALUE(MID(AH19,1,1))=D19,VALUE(MID(AH19,3,1))=D19),"W","L") -> L | AH20: =IF(OR(AI20=1,AI20=6,AI20=7,AI20=12,AI20=13,AI20=18),"1/6",IF(OR(AI20=2,AI20=5,AI20=8,AI20=11,AI20=14,AI20=17),"2/5",IF(OR(AI20=3,AI20=4,AI20=9,AI20=10,AI20=15,AI20=16),"3/4",AH19))) -> 1/6 | AI20: =IF(AG20="W",1,AI19+1) -> 6 | AJ20: =IF(AM19="Y",8,IF(OR(AI20=1,AI20=2),2,IF(AI20=3,4,IF(AI20=4,6,IF(AI20>=5,8))))) -> 8 | AK20: =IF(AG20="W",AJ19*3,0) -> 0 | AL20: =AL19+AK20-AJ20 -> -22 | AM20: =IF(AND(AM19="N",AI20<>" ",AI20>=6),"Y",IF(AND(AM19="Y",AL20<0),"Y","N")) -> Y | AN20: =IF(AQ19="Y",8,IF(OR(AI20=1,AI20=2),2,IF(AI20=3,4,IF(AI20=4,6,IF(AI20>=5,8))))) -> 8 | AO20: =IF(AG20="W",AN19*3,0) -> 0 | AP20: =AP19+AO20-AN20 -> -22 | AQ20: =IF(AND(AQ19="N",AI20<>" ",AI20>=6),"Y",IF(AND(AQ19="Y",AL20<AR19),"Y","N")) -> Y | AR20: =IF(OR(AG20="L",AP20<AR19),AR19,AP20) -> 6 | AS20: =IF(OR(VALUE(MID(AT19,1,1))=D19,VALUE(MID(AT19,3,1))=D19),"W","L") -> L | AT20: =IF(OR(AU20=1,AU20=4,AU20=7,AU20=10,AU20=13,AU20=16),"1/6",IF(OR(AU20=2,AU20=5,AU20=8,AU20=11,AU20=14,AU20=17),"2/5",IF(OR(AU20=3,AU20=6,AU20=9,AU20=12,AU20=15,AU20=18),"3/4",AT19))) -> 3/4 | AU20: =IF(AS20="W",1,AU19+1) -> 6 | AV20: =IF(AY19="Y",8,IF(OR(AU20=1,AU20=2),2,IF(AU20=3,4,IF(AU20=4,6,IF(AU20>=5,8))))) -> 8 | AW20: =IF(AS20="W",AV19*3,0) -> 0 | AX20: =AX19+AW20-AV20 -> -22 | AY20: =IF(AND(AY19="N",AU20<>" ",AU20>=6),"Y",IF(AND(AY19="Y",AX20<0),"Y","N")) -> Y | AZ20: =IF(BC19="Y",8,IF(OR(AU20=1,AU20=2),2,IF(AU20=3,4,IF(AU20=4,6,IF(AU20>=5,8))))) -> 8 | BA20: =IF(AS20="W",AZ19*3,0) -> 0 | BB20: =BB19+BA20-AZ20 -> -22 | BC20: =IF(AND(BC19="N",AU20<>" ",AU20>=6),"Y",IF(AND(BC19="Y",AX20<BD19),"Y","N")) -> Y | BD20: =IF(OR(AS20="L",BB20<BD19),BD19,BB20) -> 6
A21: =A20+1 -> 11 | B21: =Data!B21 -> 21 | D21: =IF($B21=0,0,IF(MOD($B21,6)=0,QUOTIENT($B21,6),QUOTIENT($B21,6)+1)) -> 4 | F21: =IF($F20<=5,F20+1,1) -> 5 | G21: =IF(H20="N"," ",IF(OR($F20=1,$F20=6),IF(OR($D20=1,$D20=6),"W","L"),IF(OR($F20=2,$F20=5),IF(OR($D20=2,$D20=5),"W","L"),IF(OR($F20=3,$F20=4),IF(OR($D20=3,$D20=4),"W","L"))))) | H21: =IF(OR($F21=1,$G21="L"),"Y","N") -> N | I21: =IF($H21="N"," ",IF($F21=1,"1/6",IF($F21=2,"2/5",IF($F21=3,"3/4",IF($F21=4,"4/3",IF($F21=5,"5/2",IF($F21=6,"6/1",I20))))))) | J21: =IF(AND(F21=1,J20=" "),1,IF(H21="N"," ",J20+1)) | K21: =IF(H21="N","0",IF(N20="Y",8,IF(OR(J21=1,J21=2),2,IF(J21=3,4,IF(J21=4,6,IF(J21>=5,8)))))) -> 0 | L21: =IF(G21="W",K20*3,0) -> 0 | M21: =M20+L21-K21 -> 6 | N21: =IF(AND(N20="N",J21<>" ",J21>=6),"Y",IF(AND(N20="Y",M21<0),"Y","N")) -> N | O21: =IF(H21="N","0",IF(R20="Y",8,IF(OR(J21=1,J21=2),2,IF(J21=3,4,IF(J21=4,6,IF(J21>=5,8)))))) -> 0 | P21: =IF(G21="W",O20*3,0) -> 0 | Q21: =Q20+P21-O21 -> 6 | R21: =IF(AND(R20="N",J21<>" ",J21>=6),"Y",IF(AND(R20="Y",M21<S20),"Y","N")) -> N | S21: =IF(OR(G21="L",Q21<S20),S20,Q21) -> 6 | T21: =IF(U20="N"," ",IF(OR($F20=1,$F20=4),IF(OR($D20=1,$D20=6),"W","L"),IF(OR($F20=2,$F20=5),IF(OR($D20=2,$D20=5),"W","L"),IF(OR($F20=3,$F20=6),IF(OR($D20=3,$D20=4),"W","L"))))) | U21: =IF(OR($F21=1,T21="L"),"Y","N") -> N | V21: =IF($H21="N"," ",IF(OR($F21=1,$F21=4),"1/6",IF(OR($F21=2,$F21=5),"2/5",IF(OR($F21=3,$F21=6),"3/4",V19)))) | W21: =IF(AND(F21=1,W20=" "),1,IF(U21="N"," ",W20+1)) | X21: =IF(U21="N","0",IF(AA20="Y",8,IF(OR(W21=1,W21=2),2,IF(W21=3,4,IF(W21=4,6,IF(W21>=5,8)))))) -> 0 | Y21: =IF(T21="W",X20*3,0) -> 0 | Z21: =Z20+Y21-X21 -> 6 | AA21: =IF(AND(AA20="N",W21<>" ",W21>=6),"Y",IF(AND(AA20="Y",Z21<0),"Y","N")) -> N | AB21: =IF(U21="N","0",IF(AE20="Y",8,IF(OR(W21=1,W21=2),2,IF(W21=3,4,IF(W21=4,6,IF(W21>=5,8)))))) -> 0 | AC21: =IF(T21="W",AB20*3,0) -> 0 | AD21: =AD20+AC21-AB21 -> 6 | AE21: =IF(AND(AE20="N",W21<>" ",W21>=6),"Y",IF(AND(AE20="Y",Z21<AF20),"Y","N")) -> N | AF21: =IF(OR(T21="L",AD21<AF20),AF20,AD21) -> 6 | AG21: =IF(OR(VALUE(MID(AH20,1,1))=D20,VALUE(MID(AH20,3,1))=D20),"W","L") -> L | AH21: =IF(OR(AI21=1,AI21=6,AI21=7,AI21=12,AI21=13,AI21=18),"1/6",IF(OR(AI21=2,AI21=5,AI21=8,AI21=11,AI21=14,AI21=17),"2/5",IF(OR(AI21=3,AI21=4,AI21=9,AI21=10,AI21=15,AI21=16),"3/4",AH20))) -> 1/6 | AI21: =IF(AG21="W",1,AI20+1) -> 7 | AJ21: =IF(AM20="Y",8,IF(OR(AI21=1,AI21=2),2,IF(AI21=3,4,IF(AI21=4,6,IF(AI21>=5,8))))) -> 8 | AK21: =IF(AG21="W",AJ20*3,0) -> 0 | AL21: =AL20+AK21-AJ21 -> -30 | AM21: =IF(AND(AM20="N",AI21<>" ",AI21>=6),"Y",IF(AND(AM20="Y",AL21<0),"Y","N")) -> Y | AN21: =IF(AQ20="Y",8,IF(OR(AI21=1,AI21=2),2,IF(AI21=3,4,IF(AI21=4,6,IF(AI21>=5,8))))) -> 8 | AO21: =IF(AG21="W",AN20*3,0) -> 0 | AP21: =AP20+AO21-AN21 -> -30 | AQ21: =IF(AND(AQ20="N",AI21<>" ",AI21>=6),"Y",IF(AND(AQ20="Y",AL21<AR20),"Y","N")) -> Y | AR21: =IF(OR(AG21="L",AP21<AR20),AR20,AP21) -> 6 | AS21: =IF(OR(VALUE(MID(AT20,1,1))=D20,VALUE(MID(AT20,3,1))=D20),"W","L") -> L | AT21: =IF(OR(AU21=1,AU21=4,AU21=7,AU21=10,AU21=13,AU21=16),"1/6",IF(OR(AU21=2,AU21=5,AU21=8,AU21=11,AU21=14,AU21=17),"2/5",IF(OR(AU21=3,AU21=6,AU21=9,AU21=12,AU21=15,AU21=18),"3/4",AT20))) -> 1/6 | AU21: =IF(AS21="W",1,AU20+1) -> 7 | AV21: =IF(AY20="Y",8,IF(OR(AU21=1,AU21=2),2,IF(AU21=3,4,IF(AU21=4,6,IF(AU21>=5,8))))) -> 8 | AW21: =IF(AS21="W",AV20*3,0) -> 0 | AX21: =AX20+AW21-AV21 -> -30 | AY21: =IF(AND(AY20="N",AU21<>" ",AU21>=6),"Y",IF(AND(AY20="Y",AX21<0),"Y","N")) -> Y | AZ21: =IF(BC20="Y",8,IF(OR(AU21=1,AU21=2),2,IF(AU21=3,4,IF(AU21=4,6,IF(AU21>=5,8))))) -> 8 | BA21: =IF(AS21="W",AZ20*3,0) -> 0 | BB21: =BB20+BA21-AZ21 -> -30 | BC21: =IF(AND(BC20="N",AU21<>" ",AU21>=6),"Y",IF(AND(BC20="Y",AX21<BD20),"Y","N")) -> Y | BD21: =IF(OR(AS21="L",BB21<BD20),BD20,BB21) -> 6
A22: =A21+1 -> 12 | B22: =Data!B22 -> 32 | D22: =IF($B22=0,0,IF(MOD($B22,6)=0,QUOTIENT($B22,6),QUOTIENT($B22,6)+1)) -> 6 | F22: =IF($F21<=5,F21+1,1) -> 6 | G22: =IF(H21="N"," ",IF(OR($F21=1,$F21=6),IF(OR($D21=1,$D21=6),"W","L"),IF(OR($F21=2,$F21=5),IF(OR($D21=2,$D21=5),"W","L"),IF(OR($F21=3,$F21=4),IF(OR($D21=3,$D21=4),"W","L"))))) | H22: =IF(OR($F22=1,$G22="L"),"Y","N") -> N | I22: =IF($H22="N"," ",IF($F22=1,"1/6",IF($F22=2,"2/5",IF($F22=3,"3/4",IF($F22=4,"4/3",IF($F22=5,"5/2",IF($F22=6,"6/1",I21))))))) | J22: =IF(AND(F22=1,J21=" "),1,IF(H22="N"," ",J21+1)) | K22: =IF(H22="N","0",IF(N21="Y",8,IF(OR(J22=1,J22=2),2,IF(J22=3,4,IF(J22=4,6,IF(J22>=5,8)))))) -> 0 | L22: =IF(G22="W",K21*3,0) -> 0 | M22: =M21+L22-K22 -> 6 | N22: =IF(AND(N21="N",J22<>" ",J22>=6),"Y",IF(AND(N21="Y",M22<0),"Y","N")) -> N | O22: =IF(H22="N","0",IF(R21="Y",8,IF(OR(J22=1,J22=2),2,IF(J22=3,4,IF(J22=4,6,IF(J22>=5,8)))))) -> 0 | P22: =IF(G22="W",O21*3,0) -> 0 | Q22: =Q21+P22-O22 -> 6 | R22: =IF(AND(R21="N",J22<>" ",J22>=6),"Y",IF(AND(R21="Y",M22<S21),"Y","N")) -> N | S22: =IF(OR(G22="L",Q22<S21),S21,Q22) -> 6 | T22: =IF(U21="N"," ",IF(OR($F21=1,$F21=4),IF(OR($D21=1,$D21=6),"W","L"),IF(OR($F21=2,$F21=5),IF(OR($D21=2,$D21=5),"W","L"),IF(OR($F21=3,$F21=6),IF(OR($D21=3,$D21=4),"W","L"))))) | U22: =IF(OR($F22=1,T22="L"),"Y","N") -> N | V22: =IF($H22="N"," ",IF(OR($F22=1,$F22=4),"1/6",IF(OR($F22=2,$F22=5),"2/5",IF(OR($F22=3,$F22=6),"3/4",V20)))) | W22: =IF(AND(F22=1,W21=" "),1,IF(U22="N"," ",W21+1)) | X22: =IF(U22="N","0",IF(AA21="Y",8,IF(OR(W22=1,W22=2),2,IF(W22=3,4,IF(W22=4,6,IF(W22>=5,8)))))) -> 0 | Y22: =IF(T22="W",X21*3,0) -> 0 | Z22: =Z21+Y22-X22 -> 6 | AA22: =IF(AND(AA21="N",W22<>" ",W22>=6),"Y",IF(AND(AA21="Y",Z22<0),"Y","N")) -> N | AB22: =IF(U22="N","0",IF(AE21="Y",8,IF(OR(W22=1,W22=2),2,IF(W22=3,4,IF(W22=4,6,IF(W22>=5,8)))))) -> 0 | AC22: =IF(T22="W",AB21*3,0) -> 0 | AD22: =AD21+AC22-AB22 -> 6 | AE22: =IF(AND(AE21="N",W22<>" ",W22>=6),"Y",IF(AND(AE21="Y",Z22<AF21),"Y","N")) -> N | AF22: =IF(OR(T22="L",AD22<AF21),AF21,AD22) -> 6 | AG22: =IF(OR(VALUE(MID(AH21,1,1))=D21,VALUE(MID(AH21,3,1))=D21),"W","L") -> L | AH22: =IF(OR(AI22=1,AI22=6,AI22=7,AI22=12,AI22=13,AI22=18),"1/6",IF(OR(AI22=2,AI22=5,AI22=8,AI22=11,AI22=14,AI22=17),"2/5",IF(OR(AI22=3,AI22=4,AI22=9,AI22=10,AI22=15,AI22=16),"3/4",AH21))) -> 2/5 | AI22: =IF(AG22="W",1,AI21+1) -> 8 | AJ22: =IF(AM21="Y",8,IF(OR(AI22=1,AI22=2),2,IF(AI22=3,4,IF(AI22=4,6,IF(AI22>=5,8))))) -> 8 | AK22: =IF(AG22="W",AJ21*3,0) -> 0 | AL22: =AL21+AK22-AJ22 -> -38 | AM22: =IF(AND(AM21="N",AI22<>" ",AI22>=6),"Y",IF(AND(AM21="Y",AL22<0),"Y","N")) -> Y | AN22: =IF(AQ21="Y",8,IF(OR(AI22=1,AI22=2),2,IF(AI22=3,4,IF(AI22=4,6,IF(AI22>=5,8))))) -> 8 | AO22: =IF(AG22="W",AN21*3,0) -> 0 | AP22: =AP21+AO22-AN22 -> -38 | AQ22: =IF(AND(AQ21="N",AI22<>" ",AI22>=6),"Y",IF(AND(AQ21="Y",AL22<AR21),"Y","N")) -> Y | AR22: =IF(OR(AG22="L",AP22<AR21),AR21,AP22) -> 6 | AS22: =IF(OR(VALUE(MID(AT21,1,1))=D21,VALUE(MID(AT21,3,1))=D21),"W","L") -> L | AT22: =IF(OR(AU22=1,AU22=4,AU22=7,AU22=10,AU22=13,AU22=16),"1/6",IF(OR(AU22=2,AU22=5,AU22=8,AU22=11,AU22=14,AU22=17),"2/5",IF(OR(AU22=3,AU22=6,AU22=9,AU22=12,AU22=15,AU22=18),"3/4",AT21))) -> 2/5 | AU22: =IF(AS22="W",1,AU21+1) -> 8 | AV22: =IF(AY21="Y",8,IF(OR(AU22=1,AU22=2),2,IF(AU22=3,4,IF(AU22=4,6,IF(AU22>=5,8))))) -> 8 | AW22: =IF(AS22="W",AV21*3,0) -> 0 | AX22: =AX21+AW22-AV22 -> -38 | AY22: =IF(AND(AY21="N",AU22<>" ",AU22>=6),"Y",IF(AND(AY21="Y",AX22<0),"Y","N")) -> Y | AZ22: =IF(BC21="Y",8,IF(OR(AU22=1,AU22=2),2,IF(AU22=3,4,IF(AU22=4,6,IF(AU22>=5,8))))) -> 8 | BA22: =IF(AS22="W",AZ21*3,0) -> 0 | BB22: =BB21+BA22-AZ22 -> -38 | BC22: =IF(AND(BC21="N",AU22<>" ",AU22>=6),"Y",IF(AND(BC21="Y",AX22<BD21),"Y","N")) -> Y | BD22: =IF(OR(AS22="L",BB22<BD21),BD21,BB22) -> 6
A23: =A22+1 -> 13 | B23: =Data!B23 -> 19 | D23: =IF($B23=0,0,IF(MOD($B23,6)=0,QUOTIENT($B23,6),QUOTIENT($B23,6)+1)) -> 4 | F23: =IF($F22<=5,F22+1,1) -> 1 | G23: =IF(H22="N"," ",IF(OR($F22=1,$F22=6),IF(OR($D22=1,$D22=6),"W","L"),IF(OR($F22=2,$F22=5),IF(OR($D22=2,$D22=5),"W","L"),IF(OR($F22=3,$F22=4),IF(OR($D22=3,$D22=4),"W","L"))))) | H23: =IF(OR($F23=1,$G23="L"),"Y","N") -> Y | I23: =IF($H23="N"," ",IF($F23=1,"1/6",IF($F23=2,"2/5",IF($F23=3,"3/4",IF($F23=4,"4/3",IF($F23=5,"5/2",IF($F23=6,"6/1",I22))))))) -> 1/6 | J23: =IF(AND(F23=1,J22=" "),1,IF(H23="N"," ",J22+1)) -> 1 | K23: =IF(H23="N","0",IF(N22="Y",8,IF(OR(J23=1,J23=2),2,IF(J23=3,4,IF(J23=4,6,IF(J23>=5,8)))))) -> 2 | L23: =IF(G23="W",K22*3,0) -> 0 | M23: =M22+L23-K23 -> 4 | N23: =IF(AND(N22="N",J23<>" ",J23>=6),"Y",IF(AND(N22="Y",M23<0),"Y","N")) -> N | O23: =IF(H23="N","0",IF(R22="Y",8,IF(OR(J23=1,J23=2),2,IF(J23=3,4,IF(J23=4,6,IF(J23>=5,8)))))) -> 2 | P23: =IF(G23="W",O22*3,0) -> 0 | Q23: =Q22+P23-O23 -> 4 | R23: =IF(AND(R22="N",J23<>" ",J23>=6),"Y",IF(AND(R22="Y",M23<S22),"Y","N")) -> N | S23: =IF(OR(G23="L",Q23<S22),S22,Q23) -> 6 | T23: =IF(U22="N"," ",IF(OR($F22=1,$F22=4),IF(OR($D22=1,$D22=6),"W","L"),IF(OR($F22=2,$F22=5),IF(OR($D22=2,$D22=5),"W","L"),IF(OR($F22=3,$F22=6),IF(OR($D22=3,$D22=4),"W","L"))))) | U23: =IF(OR($F23=1,T23="L"),"Y","N") -> Y | V23: =IF($H23="N"," ",IF(OR($F23=1,$F23=4),"1/6",IF(OR($F23=2,$F23=5),"2/5",IF(OR($F23=3,$F23=6),"3/4",V21)))) -> 1/6 | W23: =IF(AND(F23=1,W22=" "),1,IF(U23="N"," ",W22+1)) -> 1 | X23: =IF(U23="N","0",IF(AA22="Y",8,IF(OR(W23=1,W23=2),2,IF(W23=3,4,IF(W23=4,6,IF(W23>=5,8)))))) -> 2 | Y23: =IF(T23="W",X22*3,0) -> 0 | Z23: =Z22+Y23-X23 -> 4 | AA23: =IF(AND(AA22="N",W23<>" ",W23>=6),"Y",IF(AND(AA22="Y",Z23<0),"Y","N")) -> N | AB23: =IF(U23="N","0",IF(AE22="Y",8,IF(OR(W23=1,W23=2),2,IF(W23=3,4,IF(W23=4,6,IF(W23>=5,8)))))) -> 2 | AC23: =IF(T23="W",AB22*3,0) -> 0 | AD23: =AD22+AC23-AB23 -> 4 | AE23: =IF(AND(AE22="N",W23<>" ",W23>=6),"Y",IF(AND(AE22="Y",Z23<AF22),"Y","N")) -> N | AF23: =IF(OR(T23="L",AD23<AF22),AF22,AD23) -> 6 | AG23: =IF(OR(VALUE(MID(AH22,1,1))=D22,VALUE(MID(AH22,3,1))=D22),"W","L") -> L | AH23: =IF(OR(AI23=1,AI23=6,AI23=7,AI23=12,AI23=13,AI23=18),"1/6",IF(OR(AI23=2,AI23=5,AI23=8,AI23=11,AI23=14,AI23=17),"2/5",IF(OR(AI23=3,AI23=4,AI23=9,AI23=10,AI23=15,AI23=16),"3/4",AH22))) -> 3/4 | AI23: =IF(AG23="W",1,AI22+1) -> 9 | AJ23: =IF(AM22="Y",8,IF(OR(AI23=1,AI23=2),2,IF(AI23=3,4,IF(AI23=4,6,IF(AI23>=5,8))))) -> 8 | AK23: =IF(AG23="W",AJ22*3,0) -> 0 | AL23: =AL22+AK23-AJ23 -> -46 | AM23: =IF(AND(AM22="N",AI23<>" ",AI23>=6),"Y",IF(AND(AM22="Y",AL23<0),"Y","N")) -> Y | AN23: =IF(AQ22="Y",8,IF(OR(AI23=1,AI23=2),2,IF(AI23=3,4,IF(AI23=4,6,IF(AI23>=5,8))))) -> 8 | AO23: =IF(AG23="W",AN22*3,0) -> 0 | AP23: =AP22+AO23-AN23 -> -46 | AQ23: =IF(AND(AQ22="N",AI23<>" ",AI23>=6),"Y",IF(AND(AQ22="Y",AL23<AR22),"Y","N")) -> Y | AR23: =IF(OR(AG23="L",AP23<AR22),AR22,AP23) -> 6 | AS23: =IF(OR(VALUE(MID(AT22,1,1))=D22,VALUE(MID(AT22,3,1))=D22),"W","L") -> L | AT23: =IF(OR(AU23=1,AU23=4,AU23=7,AU23=10,AU23=13,AU23=16),"1/6",IF(OR(AU23=2,AU23=5,AU23=8,AU23=11,AU23=14,AU23=17),"2/5",IF(OR(AU23=3,AU23=6,AU23=9,AU23=12,AU23=15,AU23=18),"3/4",AT22))) -> 3/4 | AU23: =IF(AS23="W",1,AU22+1) -> 9 | AV23: =IF(AY22="Y",8,IF(OR(AU23=1,AU23=2),2,IF(AU23=3,4,IF(AU23=4,6,IF(AU23>=5,8))))) -> 8 | AW23: =IF(AS23="W",AV22*3,0) -> 0 | AX23: =AX22+AW23-AV23 -> -46 | AY23: =IF(AND(AY22="N",AU23<>" ",AU23>=6),"Y",IF(AND(AY22="Y",AX23<0),"Y","N")) -> Y | AZ23: =IF(BC22="Y",8,IF(OR(AU23=1,AU23=2),2,IF(AU23=3,4,IF(AU23=4,6,IF(AU23>=5,8))))) -> 8 | BA23: =IF(AS23="W",AZ22*3,0) -> 0 | BB23: =BB22+BA23-AZ23 -> -46 | BC23: =IF(AND(BC22="N",AU23<>" ",AU23>=6),"Y",IF(AND(BC22="Y",AX23<BD22),"Y","N")) -> Y | BD23: =IF(OR(AS23="L",BB23<BD22),BD22,BB23) -> 6
... A510: =A509+1 -> 500 | B510: =Data!B510 -> 21 | D510: =IF($B510=0,0,IF(MOD($B510,6)=0,QUOTIENT($B510,6),QUOTIENT($B510,6)+1)) -> 4 | F510: =IF($F509<=5,F509+1,1) -> 2 | G510: =IF(H509="N"," ",IF(OR($F509=1,$F509=6),IF(OR($D509=1,$D509=6),"W","L"),IF(OR($F509=2,$F509=5),IF(OR($D509=2,$D509=5),"W","L"),IF(OR($F509=3,$F509=4),IF(OR($D509=3,$D509=4),"W","L"))))) -> L | H510: =IF(OR($F510=1,$G510="L"),"Y","N") -> Y | I510: =IF($H510="N"," ",IF($F510=1,"1/6",IF($F510=2,"2/5",IF($F510=3,"3/4",IF($F510=4,"4/3",IF($F510=5,"5/2",IF($F510=6,"6/1",I509))))))) -> 2/5 | J510: =IF(AND(F510=1,J509=" "),1,IF(H510="N"," ",J509+1)) -> 8 | K510: =IF(H510="N","0",IF(N509="Y",8,IF(OR(J510=1,J510=2),2,IF(J510=3,4,IF(J510=4,6,IF(J510>=5,8)))))) -> 8 | L510: =IF(G510="W",K509*3,0) -> 0 | M510: =M509+L510-K510 -> 70 | N510: =IF(AND(N509="N",J510<>" ",J510>=6),"Y",IF(AND(N509="Y",M510<0),"Y","N")) -> Y | O510: =IF(H510="N","0",IF(R509="Y",8,IF(OR(J510=1,J510=2),2,IF(J510=3,4,IF(J510=4,6,IF(J510>=5,8)))))) -> 8 | P510: =IF(G510="W",O509*3,0) -> 0 | Q510: =Q509+P510-O510 -> 8 | R510: =IF(AND(R509="N",J510<>" ",J510>=6),"Y",IF(AND(R509="Y",M510<S509),"Y","N")) -> Y | S510: =IF(OR(G510="L",Q510<S509),S509,Q510) -> 56 | T510: =IF(U509="N"," ",IF(OR($F509=1,$F509=4),IF(OR($D509=1,$D509=6),"W","L"),IF(OR($F509=2,$F509=5),IF(OR($D509=2,$D509=5),"W","L"),IF(OR($F509=3,$F509=6),IF(OR($D509=3,$D509=4),"W","L"))))) -> L | U510: =IF(OR($F510=1,T510="L"),"Y","N") -> Y | V510: =IF($H510="N"," ",IF(OR($F510=1,$F510=4),"1/6",IF(OR($F510=2,$F510=5),"2/5",IF(OR($F510=3,$F510=6),"3/4",V508)))) -> 2/5 | W510: =IF(AND(F510=1,W509=" "),1,IF(U510="N"," ",W509+1)) -> 2 | X510: =IF(U510="N","0",IF(AA509="Y",8,IF(OR(W510=1,W510=2),2,IF(W510=3,4,IF(W510=4,6,IF(W510>=5,8)))))) -> 8 | Y510: =IF(T510="W",X509*3,0) -> 0 | Z510: =Z509+Y510-X510 -> -200 | AA510: =IF(AND(AA509="N",W510<>" ",W510>=6),"Y",IF(AND(AA509="Y",Z510<0),"Y","N")) -> Y | AB510: =IF(U510="N","0",IF(AE509="Y",8,IF(OR(W510=1,W510=2),2,IF(W510=3,4,IF(W510=4,6,IF(W510>=5,8)))))) -> 8 | AC510: =IF(T510="W",AB509*3,0) -> 0 | AD510: =AD509+AC510-AB510 -> -200 | AE510: =IF(AND(AE509="N",W510<>" ",W510>=6),"Y",IF(AND(AE509="Y",Z510<AF509),"Y","N")) -> Y | AF510: =IF(OR(T510="L",AD510<AF509),AF509,AD510) -> 54 | AG510: =IF(OR(VALUE(MID(AH509,1,1))=D509,VALUE(MID(AH509,3,1))=D509),"W","L") -> L | AH510: =IF(OR(AI510=1,AI510=6,AI510=7,AI510=12,AI510=13,AI510=18),"1/6",IF(OR(AI510=2,AI510=5,AI510=8,AI510=11,AI510=14,AI510=17),"2/5",IF(OR(AI510=3,AI510=4,AI510=9,AI510=10,AI510=15,AI510=16),"3/4",AH509))) -> 2/5 | AI510: =IF(AG510="W",1,AI509+1) -> 2 | AJ510: =IF(AM509="Y",8,IF(OR(AI510=1,AI510=2),2,IF(AI510=3,4,IF(AI510=4,6,IF(AI510>=5,8))))) -> 2 | AK510: =IF(AG510="W",AJ509*3,0) -> 0 | AL510: =AL509+AK510-AJ510 -> 80 | AM510: =IF(AND(AM509="N",AI510<>" ",AI510>=6),"Y",IF(AND(AM509="Y",AL510<0),"Y","N")) -> N | AN510: =IF(AQ509="Y",8,IF(OR(AI510=1,AI510=2),2,IF(AI510=3,4,IF(AI510=4,6,IF(AI510>=5,8))))) -> 2 | AO510: =IF(AG510="W",AN509*3,0) -> 0 | AP510: =AP509+AO510-AN510 -> -204 | AQ510: =IF(AND(AQ509="N",AI510<>" ",AI510>=6),"Y",IF(AND(AQ509="Y",AL510<AR509),"Y","N")) -> N | AR510: =IF(OR(AG510="L",AP510<AR509),AR509,AP510) -> 66 | AS510: =IF(OR(VALUE(MID(AT509,1,1))=D509,VALUE(MID(AT509,3,1))=D509),"W","L") -> L | AT510: =IF(OR(AU510=1,AU510=4,AU510=7,AU510=10,AU510=13,AU510=16),"1/6",IF(OR(AU510=2,AU510=5,AU510=8,AU510=11,AU510=14,AU510=17),"2/5",IF(OR(AU510=3,AU510=6,AU510=9,AU510=12,AU510=15,AU510=18),"3/4",AT509))) -> 2/5 | AU510: =IF(AS510="W",1,AU509+1) -> 2 | AV510: =IF(AY509="Y",8,IF(OR(AU510=1,AU510=2),2,IF(AU510=3,4,IF(AU510=4,6,IF(AU510>=5,8))))) -> 2 | AW510: =IF(AS510="W",AV509*3,0) -> 0 | AX510: =AX509+AW510-AV510 -> 114 | AY510: =IF(AND(AY509="N",AU510<>" ",AU510>=6),"Y",IF(AND(AY509="Y",AX510<0),"Y","N")) -> N | AZ510: =IF(BC509="Y",8,IF(OR(AU510=1,AU510=2),2,IF(AU510=3,4,IF(AU510=4,6,IF(AU510>=5,8))))) -> 2 | BA510: =IF(AS510="W",AZ509*3,0) -> 0 | BB510: =BB509+BA510-AZ510 -> 64 | BC510: =IF(AND(BC509="N",AU510<>" ",AU510>=6),"Y",IF(AND(BC509="Y",AX510<BD509),"Y","N")) -> N | BD510: =IF(OR(AS510="L",BB510<BD509),BD509,BB510) -> 66
K512: =MAX(M11:M510) -> 116 | L512: =MIN(M11:M510) -> -94 | O512: =MAX(Q11:Q510) -> 56 | P512: =MIN(Q11:Q510) -> -118 | X512: =MAX(Z11:Z510) -> 54 | Y512: =MIN(Z11:Z510) -> -232 | AB512: =MAX(AD11:AD510) -> 54 | AC512: =MIN(AD11:AD510) -> -232 | AJ512: =MAX(AL11:AL510) -> 96 | AK512: =MIN(AL11:AL510) -> -46 | AN512: =MAX(AP11:AP510) -> 66 | AO512: =MIN(AP11:AP510) -> -302 | AV512: =MAX(AX11:AX510) -> 116 | AW512: =MIN(AX11:AX510) -> -136 | AZ512: =MAX(BB11:BB510) -> 66 | BA512: =MIN(BB11:BB510) -> -156

Sheet Back-Back
C2: Betting Numbers : 12, 21, 13, 31, 23, 32
E9: Single Numbers Betting : 6 Nos | M9: Line Betting : 5 Lines
A10: SPINS | B10: NR | C10: ST | E10: R | F10: T | G10: B | H10: # | I10: STEP | J10: BET | K10: WIN | L10: BR | M10: R | N10: T | O10: B | P10: # | Q10: STEP | R10: BET | S10: WIN | T10: BR
A11: 1 | B11: =Data!B11 -> 4 | C11: =IF($B11=0,0,IF(MOD($B11,3)=0,QUOTIENT($B11,3),QUOTIENT($B11,3)+1)) -> 2 | F11: =IF(AND(OR(B11=12,B11=13,B11=21,B11=23,B11=31,B11=32),F10=" ",E11=" "),"T"," ") | I11: 1 | N11: =IF(AND(OR(B11=12,B11=13,B11=21,B11=23,B11=31,B11=32),N10=" ",M11=" "),"T"," ") | Q11: 1
A12: =A11+1 -> 2 | B12: =Data!B12 -> 7 | C12: =IF($B12=0,0,IF(MOD($B12,3)=0,QUOTIENT($B12,3),QUOTIENT($B12,3)+1)) -> 3 | E12: =IF(G11<>"B"," ",IF(OR(B11=12,B11=13,B11=21,B11=23,B11=31,B11=32),"W","L")) | F12: =IF(AND(OR(B12=12,B12=13,B12=21,B12=23,B12=31,B12=32),F11=" ",E12=" "),"T"," ") | G12: =IF(F11="T","B"," ") | I12: =IF(AND(E12="L",H11=6,I11=2),1,IF(AND(E12="L",H11=6,I11=1),I11+1,IF(OR(E12="W",AND(I11=3,E12="L")),1,I11))) -> 1 | K12: =IF(E12="W",J11*6,0) -> 0 | L12: =IF(AND(J12=" ",K12=0),L11,IF(K12<>0, L11+K12,VALUE(L11)-VALUE(J12)+VALUE(K12))) -> 0 | M12: =IF(O11<>"B"," ",IF(OR(C12=4,C12=5,C12=7,C12=8,C12=11),"W","L")) | N12: =IF(AND(OR(B12=12,B12=13,B12=21,B12=23,B12=31,B12=32),N11=" ",M12=" "),"T"," ") | O12: =IF(N11="T","B"," ") | Q12: =IF(AND(M12="L",P11=6,Q11<3),Q11+1,IF(OR(M12="W",AND(Q11=3,M12="L")),1,Q11)) -> 1 | R12: =IF(O12<>"B"," ",IF(OR(P12=1,P12=2),5,IF(P12=3,10,IF(P12=4,20,IF(P12=5,30,IF(P12=6,55," ")))))) | S12: =IF(M12="W",R11*6,0) -> 0 | T12: =IF(AND(R12=" ",S12=0),T11,IF(S12<>0, T11+S12,VALUE(T11)-VALUE(R12)+VALUE(S12))) -> 0
A13: =A12+1 -> 3 | B13: =Data!B13 -> 3 | C13: =IF($B13=0,0,IF(MOD($B13,3)=0,QUOTIENT($B13,3),QUOTIENT($B13,3)+1)) -> 1 | E13: =IF(G12<>"B"," ",IF(OR(B12=12,B12=13,B12=21,B12=23,B12=31,B12=32),"W","L")) | F13: =IF(AND(OR(B13=12,B13=13,B13=21,B13=23,B13=31,B13=32),F12=" ",E13=" "),"T"," ") | G13: =IF(AND(F12="T",E13=" "),"B",IF(AND(E13="L",H12<6),"B",IF(E13="W"," "," "))) | H13: =IF(AND(H12=" ",G13=" ")," ",IF(AND(H12=" ",G13="B"),1,IF(AND(G13="B",H12<=6),H12+1," "))) | I13: =IF(AND(E13="L",H12=6,I12=2),1,IF(AND(E13="L",H12=6,I12=1),I12+1,IF(OR(E13="W",AND(I12=3,E13="L")),1,I12))) -> 1 | J13: =IF(G13="B",I13*6," ") | K13: =IF(E13="W",J12*6,0) -> 0 | L13: =IF(AND(J13=" ",K13=0),L12,IF(K13<>0, L12+K13,VALUE(L12)-VALUE(J13)+VALUE(K13))) -> 0 | M13: =IF(O12<>"B"," ",IF(OR(C12=4,C12=5,C12=7,C12=8,C12=11),"W","L")) | N13: =IF(AND(OR(B13=12,B13=13,B13=21,B13=23,B13=31,B13=32),N12=" ",M13=" "),"T"," ") | O13: =IF(AND(N12="T",M13=" "),"B",IF(AND(M13="L",P12<6),"B",IF(M13="W"," "," "))) | P13: =IF(AND(P12=" ",O13=" ")," ",IF(AND(P12=" ",O13="B"),1,IF(AND(O13="B",P12<=6),P12+1," "))) | Q13: =IF(AND(M13="L",P12=6,Q12<3),Q12+1,IF(OR(M13="W",AND(Q12=3,M13="L")),1,Q12)) -> 1 | R13: =IF(O13<>"B"," ",IF(OR(P13=1,P13=2),5,IF(P13=3,10,IF(P13=4,20,IF(P13=5,30,IF(P13=6,55," ")))))) | S13: =IF(M13="W",R12*6,0) -> 0 | T13: =IF(AND(R13=" ",S13=0),T12,IF(S13<>0, T12+S13,VALUE(T12)-VALUE(R13)+VALUE(S13))) -> 0
A14: =A13+1 -> 4 | B14: =Data!B14 -> 24 | C14: =IF($B14=0,0,IF(MOD($B14,3)=0,QUOTIENT($B14,3),QUOTIENT($B14,3)+1)) -> 8 | E14: =IF(G13<>"B"," ",IF(OR(B13=12,B13=13,B13=21,B13=23,B13=31,B13=32),"W","L")) | F14: =IF(AND(OR(B14=12,B14=13,B14=21,B14=23,B14=31,B14=32),F13=" ",E14=" "),"T"," ") | G14: =IF(AND(F13="T",E14=" "),"B",IF(AND(E14="L",H13<6),"B",IF(E14="W"," "," "))) | H14: =IF(AND(H13=" ",G14=" ")," ",IF(AND(H13=" ",G14="B"),1,IF(AND(G14="B",H13<=6),H13+1," "))) | I14: =IF(AND(E14="L",H13=6,I13=2),1,IF(AND(E14="L",H13=6,I13=1),I13+1,IF(OR(E14="W",AND(I13=3,E14="L")),1,I13))) -> 1 | J14: =IF(G14="B",I14*6," ") | K14: =IF(E14="W",J13*6,0) -> 0 | L14: =IF(AND(J14=" ",K14=0),L13,IF(K14<>0, L13+K14,VALUE(L13)-VALUE(J14)+VALUE(K14))) -> 0 | M14: =IF(O13<>"B"," ",IF(OR(C13=4,C13=5,C13=7,C13=8,C13=11),"W","L")) | N14: =IF(AND(OR(B14=12,B14=13,B14=21,B14=23,B14=31,B14=32),N13=" ",M14=" "),"T"," ") | O14: =IF(AND(N13="T",M14=" "),"B",IF(AND(M14="L",P13<6),"B",IF(M14="W"," "," "))) | P14: =IF(AND(P13=" ",O14=" ")," ",IF(AND(P13=" ",O14="B"),1,IF(AND(O14="B",P13<=6),P13+1," "))) | Q14: =IF(AND(M14="L",P13=6,Q13<3),Q13+1,IF(OR(M14="W",AND(Q13=3,M14="L")),1,Q13)) -> 1 | R14: =IF(O14<>"B"," ",IF(OR(P14=1,P14=2),5,IF(P14=3,10,IF(P14=4,20,IF(P14=5,30,IF(P14=6,55," ")))))) | S14: =IF(M14="W",R13*2.4,0) -> 0 | T14: =IF(AND(R14=" ",S14=0),T13,IF(S14<>0, T13+S14,VALUE(T13)-VALUE(R14)+VALUE(S14))) -> 0
A15: =A14+1 -> 5 | B15: =Data!B15 -> 10 | C15: =IF($B15=0,0,IF(MOD($B15,3)=0,QUOTIENT($B15,3),QUOTIENT($B15,3)+1)) -> 4 | E15: =IF(G14<>"B"," ",IF(OR(B14=12,B14=13,B14=21,B14=23,B14=31,B14=32),"W","L")) | F15: =IF(AND(OR(B15=12,B15=13,B15=21,B15=23,B15=31,B15=32),F14=" ",E15=" "),"T"," ") | G15: =IF(AND(F14="T",E15=" "),"B",IF(AND(E15="L",H14<6),"B",IF(E15="W"," "," "))) | H15: =IF(AND(H14=" ",G15=" ")," ",IF(AND(H14=" ",G15="B"),1,IF(AND(G15="B",H14<=6),H14+1," "))) | I15: =IF(AND(E15="L",H14=6,I14=2),1,IF(AND(E15="L",H14=6,I14=1),I14+1,IF(OR(E15="W",AND(I14=3,E15="L")),1,I14))) -> 1 | J15: =IF(G15="B",I15*6," ") | K15: =IF(E15="W",J14*6,0) -> 0 | L15: =IF(AND(J15=" ",K15=0),L14,IF(K15<>0, L14+K15,VALUE(L14)-VALUE(J15)+VALUE(K15))) -> 0 | M15: =IF(O14<>"B"," ",IF(OR(C14=4,C14=5,C14=7,C14=8,C14=11),"W","L")) | N15: =IF(AND(OR(B15=12,B15=13,B15=21,B15=23,B15=31,B15=32),N14=" ",M15=" "),"T"," ") | O15: =IF(AND(N14="T",M15=" "),"B",IF(AND(M15="L",P14<6),"B",IF(M15="W"," "," "))) | P15: =IF(AND(P14=" ",O15=" ")," ",IF(AND(P14=" ",O15="B"),1,IF(AND(O15="B",P14<=6),P14+1," "))) | Q15: =IF(AND(M15="L",P14=6,Q14<3),Q14+1,IF(OR(M15="W",AND(Q14=3,M15="L")),1,Q14)) -> 1 | R15: =IF(O15<>"B"," ",IF(OR(P15=1,P15=2),5,IF(P15=3,10,IF(P15=4,20,IF(P15=5,30,IF(P15=6,55," ")))))) | S15: =IF(M15="W",R14*2.4,0) -> 0 | T15: =IF(AND(R15=" ",S15=0),T14,IF(S15<>0, T14+S15,VALUE(T14)-VALUE(R15)+VALUE(S15))) -> 0
A16: =A15+1 -> 6 | B16: =Data!B16 -> 34 | C16: =IF($B16=0,0,IF(MOD($B16,3)=0,QUOTIENT($B16,3),QUOTIENT($B16,3)+1)) -> 12 | E16: =IF(G15<>"B"," ",IF(OR(B15=12,B15=13,B15=21,B15=23,B15=31,B15=32),"W","L")) | F16: =IF(AND(OR(B16=12,B16=13,B16=21,B16=23,B16=31,B16=32),F15=" ",E16=" "),"T"," ") | G16: =IF(AND(F15="T",E16=" "),"B",IF(AND(E16="L",H15<6),"B",IF(E16="W"," "," "))) | H16: =IF(AND(H15=" ",G16=" ")," ",IF(AND(H15=" ",G16="B"),1,IF(AND(G16="B",H15<=6),H15+1," "))) | I16: =IF(AND(E16="L",H15=6,I15=2),1,IF(AND(E16="L",H15=6,I15=1),I15+1,IF(OR(E16="W",AND(I15=3,E16="L")),1,I15))) -> 1 | J16: =IF(G16="B",I16*6," ") | K16: =IF(E16="W",J15*6,0) -> 0 | L16: =IF(AND(J16=" ",K16=0),L15,IF(K16<>0, L15+K16,VALUE(L15)-VALUE(J16)+VALUE(K16))) -> 0 | M16: =IF(O15<>"B"," ",IF(OR(C15=4,C15=5,C15=7,C15=8,C15=11),"W","L")) | N16: =IF(AND(OR(B16=12,B16=13,B16=21,B16=23,B16=31,B16=32),N15=" ",M16=" "),"T"," ") | O16: =IF(AND(N15="T",M16=" "),"B",IF(AND(M16="L",P15<6),"B",IF(M16="W"," "," "))) | P16: =IF(AND(P15=" ",O16=" ")," ",IF(AND(P15=" ",O16="B"),1,IF(AND(O16="B",P15<=6),P15+1," "))) | Q16: =IF(AND(M16="L",P15=6,Q15<3),Q15+1,IF(OR(M16="W",AND(Q15=3,M16="L")),1,Q15)) -> 1 | R16: =IF(O16<>"B"," ",IF(OR(P16=1,P16=2),5,IF(P16=3,10,IF(P16=4,20,IF(P16=5,30,IF(P16=6,55," ")))))) | S16: =IF(M16="W",R15*2.4,0) -> 0 | T16: =IF(AND(R16=" ",S16=0),T15,IF(S16<>0, T15+S16,VALUE(T15)-VALUE(R16)+VALUE(S16))) -> 0
A17: =A16+1 -> 7 | B17: =Data!B17 -> 0 | C17: =IF($B17=0,0,IF(MOD($B17,3)=0,QUOTIENT($B17,3),QUOTIENT($B17,3)+1)) -> 0 | E17: =IF(G16<>"B"," ",IF(OR(B16=12,B16=13,B16=21,B16=23,B16=31,B16=32),"W","L")) | F17: =IF(AND(OR(B17=12,B17=13,B17=21,B17=23,B17=31,B17=32),F16=" ",E17=" "),"T"," ") | G17: =IF(AND(F16="T",E17=" "),"B",IF(AND(E17="L",H16<6),"B",IF(E17="W"," "," "))) | H17: =IF(AND(H16=" ",G17=" ")," ",IF(AND(H16=" ",G17="B"),1,IF(AND(G17="B",H16<=6),H16+1," "))) | I17: =IF(AND(E17="L",H16=6,I16=2),1,IF(AND(E17="L",H16=6,I16=1),I16+1,IF(OR(E17="W",AND(I16=3,E17="L")),1,I16))) -> 1 | J17: =IF(G17="B",I17*6," ") | K17: =IF(E17="W",J16*6,0) -> 0 | L17: =IF(AND(J17=" ",K17=0),L16,IF(K17<>0, L16+K17,VALUE(L16)-VALUE(J17)+VALUE(K17))) -> 0 | M17: =IF(O16<>"B"," ",IF(OR(C16=4,C16=5,C16=7,C16=8,C16=11),"W","L")) | N17: =IF(AND(OR(B17=12,B17=13,B17=21,B17=23,B17=31,B17=32),N16=" ",M17=" "),"T"," ") | O17: =IF(AND(N16="T",M17=" "),"B",IF(AND(M17="L",P16<6),"B",IF(M17="W"," "," "))) | P17: =IF(AND(P16=" ",O17=" ")," ",IF(AND(P16=" ",O17="B"),1,IF(AND(O17="B",P16<=6),P16+1," "))) | Q17: =IF(AND(M17="L",P16=6,Q16<3),Q16+1,IF(OR(M17="W",AND(Q16=3,M17="L")),1,Q16)) -> 1 | R17: =IF(O17<>"B"," ",IF(OR(P17=1,P17=2),5,IF(P17=3,10,IF(P17=4,20,IF(P17=5,30,IF(P17=6,55," ")))))) | S17: =IF(M17="W",R16*2.4,0) -> 0 | T17: =IF(AND(R17=" ",S17=0),T16,IF(S17<>0, T16+S17,VALUE(T16)-VALUE(R17)+VALUE(S17))) -> 0
A18: =A17+1 -> 8 | B18: =Data!B18 -> 8 | C18: =IF($B18=0,0,IF(MOD($B18,3)=0,QUOTIENT($B18,3),QUOTIENT($B18,3)+1)) -> 3 | E18: =IF(G17<>"B"," ",IF(OR(B17=12,B17=13,B17=21,B17=23,B17=31,B17=32),"W","L")) | F18: =IF(AND(OR(B18=12,B18=13,B18=21,B18=23,B18=31,B18=32),F17=" ",E18=" "),"T"," ") | G18: =IF(AND(F17="T",E18=" "),"B",IF(AND(E18="L",H17<6),"B",IF(E18="W"," "," "))) | H18: =IF(AND(H17=" ",G18=" ")," ",IF(AND(H17=" ",G18="B"),1,IF(AND(G18="B",H17<=6),H17+1," "))) | I18: =IF(AND(E18="L",H17=6,I17=2),1,IF(AND(E18="L",H17=6,I17=1),I17+1,IF(OR(E18="W",AND(I17=3,E18="L")),1,I17))) -> 1 | J18: =IF(G18="B",I18*6," ") | K18: =IF(E18="W",J17*6,0) -> 0 | L18: =IF(AND(J18=" ",K18=0),L17,IF(K18<>0, L17+K18,VALUE(L17)-VALUE(J18)+VALUE(K18))) -> 0 | M18: =IF(O17<>"B"," ",IF(OR(C17=4,C17=5,C17=7,C17=8,C17=11),"W","L")) | N18: =IF(AND(OR(B18=12,B18=13,B18=21,B18=23,B18=31,B18=32),N17=" ",M18=" "),"T"," ") | O18: =IF(AND(N17="T",M18=" "),"B",IF(AND(M18="L",P17<6),"B",IF(M18="W"," "," "))) | P18: =IF(AND(P17=" ",O18=" ")," ",IF(AND(P17=" ",O18="B"),1,IF(AND(O18="B",P17<=6),P17+1," "))) | Q18: =IF(AND(M18="L",P17=6,Q17<3),Q17+1,IF(OR(M18="W",AND(Q17=3,M18="L")),1,Q17)) -> 1 | R18: =IF(O18<>"B"," ",IF(OR(P18=1,P18=2),5,IF(P18=3,10,IF(P18=4,20,IF(P18=5,30,IF(P18=6,55," ")))))) | S18: =IF(M18="W",R17*2.4,0) -> 0 | T18: =IF(AND(R18=" ",S18=0),T17,IF(S18<>0, T17+S18,VALUE(T17)-VALUE(R18)+VALUE(S18))) -> 0
A19: =A18+1 -> 9 | B19: =Data!B19 -> 17 | C19: =IF($B19=0,0,IF(MOD($B19,3)=0,QUOTIENT($B19,3),QUOTIENT($B19,3)+1)) -> 6 | E19: =IF(G18<>"B"," ",IF(OR(B18=12,B18=13,B18=21,B18=23,B18=31,B18=32),"W","L")) | F19: =IF(AND(OR(B19=12,B19=13,B19=21,B19=23,B19=31,B19=32),F18=" ",E19=" "),"T"," ") | G19: =IF(AND(F18="T",E19=" "),"B",IF(AND(E19="L",H18<6),"B",IF(E19="W"," "," "))) | H19: =IF(AND(H18=" ",G19=" ")," ",IF(AND(H18=" ",G19="B"),1,IF(AND(G19="B",H18<=6),H18+1," "))) | I19: =IF(AND(E19="L",H18=6,I18=2),1,IF(AND(E19="L",H18=6,I18=1),I18+1,IF(OR(E19="W",AND(I18=3,E19="L")),1,I18))) -> 1 | J19: =IF(G19="B",I19*6," ") | K19: =IF(E19="W",J18*6,0) -> 0 | L19: =IF(AND(J19=" ",K19=0),L18,IF(K19<>0, L18+K19,VALUE(L18)-VALUE(J19)+VALUE(K19))) -> 0 | M19: =IF(O18<>"B"," ",IF(OR(C18=4,C18=5,C18=7,C18=8,C18=11),"W","L")) | N19: =IF(AND(OR(B19=12,B19=13,B19=21,B19=23,B19=31,B19=32),N18=" ",M19=" "),"T"," ") | O19: =IF(AND(N18="T",M19=" "),"B",IF(AND(M19="L",P18<6),"B",IF(M19="W"," "," "))) | P19: =IF(AND(P18=" ",O19=" ")," ",IF(AND(P18=" ",O19="B"),1,IF(AND(O19="B",P18<=6),P18+1," "))) | Q19: =IF(AND(M19="L",P18=6,Q18<3),Q18+1,IF(OR(M19="W",AND(Q18=3,M19="L")),1,Q18)) -> 1 | R19: =IF(O19<>"B"," ",IF(OR(P19=1,P19=2),5,IF(P19=3,10,IF(P19=4,20,IF(P19=5,30,IF(P19=6,55," ")))))) | S19: =IF(M19="W",R18*2.4,0) -> 0 | T19: =IF(AND(R19=" ",S19=0),T18,IF(S19<>0, T18+S19,VALUE(T18)-VALUE(R19)+VALUE(S19))) -> 0
A20: =A19+1 -> 10 | B20: =Data!B20 -> 9 | C20: =IF($B20=0,0,IF(MOD($B20,3)=0,QUOTIENT($B20,3),QUOTIENT($B20,3)+1)) -> 3 | E20: =IF(G19<>"B"," ",IF(OR(B19=12,B19=13,B19=21,B19=23,B19=31,B19=32),"W","L")) | F20: =IF(AND(OR(B20=12,B20=13,B20=21,B20=23,B20=31,B20=32),F19=" ",E20=" "),"T"," ") | G20: =IF(AND(F19="T",E20=" "),"B",IF(AND(E20="L",H19<6),"B",IF(E20="W"," "," "))) | H20: =IF(AND(H19=" ",G20=" ")," ",IF(AND(H19=" ",G20="B"),1,IF(AND(G20="B",H19<=6),H19+1," "))) | I20: =IF(AND(E20="L",H19=6,I19=2),1,IF(AND(E20="L",H19=6,I19=1),I19+1,IF(OR(E20="W",AND(I19=3,E20="L")),1,I19))) -> 1 | J20: =IF(G20="B",I20*6," ") | K20: =IF(E20="W",J19*6,0) -> 0 | L20: =IF(AND(J20=" ",K20=0),L19,IF(K20<>0, L19+K20,VALUE(L19)-VALUE(J20)+VALUE(K20))) -> 0 | M20: =IF(O19<>"B"," ",IF(OR(C19=4,C19=5,C19=7,C19=8,C19=11),"W","L")) | N20: =IF(AND(OR(B20=12,B20=13,B20=21,B20=23,B20=31,B20=32),N19=" ",M20=" "),"T"," ") | O20: =IF(AND(N19="T",M20=" "),"B",IF(AND(M20="L",P19<6),"B",IF(M20="W"," "," "))) | P20: =IF(AND(P19=" ",O20=" ")," ",IF(AND(P19=" ",O20="B"),1,IF(AND(O20="B",P19<=6),P19+1," "))) | Q20: =IF(AND(M20="L",P19=6,Q19<3),Q19+1,IF(OR(M20="W",AND(Q19=3,M20="L")),1,Q19)) -> 1 | R20: =IF(O20<>"B"," ",IF(OR(P20=1,P20=2),5,IF(P20=3,10,IF(P20=4,20,IF(P20=5,30,IF(P20=6,55," ")))))) | S20: =IF(M20="W",R19*2.4,0) -> 0 | T20: =IF(AND(R20=" ",S20=0),T19,IF(S20<>0, T19+S20,VALUE(T19)-VALUE(R20)+VALUE(S20))) -> 0
A21: =A20+1 -> 11 | B21: =Data!B21 -> 21 | C21: =IF($B21=0,0,IF(MOD($B21,3)=0,QUOTIENT($B21,3),QUOTIENT($B21,3)+1)) -> 7 | E21: =IF(G20<>"B"," ",IF(OR(B20=12,B20=13,B20=21,B20=23,B20=31,B20=32),"W","L")) | F21: =IF(AND(OR(B21=12,B21=13,B21=21,B21=23,B21=31,B21=32),F20=" ",E21=" "),"T"," ") -> T | G21: =IF(AND(F20="T",E21=" "),"B",IF(AND(E21="L",H20<6),"B",IF(E21="W"," "," "))) | H21: =IF(AND(H20=" ",G21=" ")," ",IF(AND(H20=" ",G21="B"),1,IF(AND(G21="B",H20<=6),H20+1," "))) | I21: =IF(AND(E21="L",H20=6,I20=2),1,IF(AND(E21="L",H20=6,I20=1),I20+1,IF(OR(E21="W",AND(I20=3,E21="L")),1,I20))) -> 1 | J21: =IF(G21="B",I21*6," ") | K21: =IF(E21="W",J20*6,0) -> 0 | L21: =IF(AND(J21=" ",K21=0),L20,IF(K21<>0, L20+K21,VALUE(L20)-VALUE(J21)+VALUE(K21))) -> 0 | M21: =IF(O20<>"B"," ",IF(OR(C20=4,C20=5,C20=7,C20=8,C20=11),"W","L")) | N21: =IF(AND(OR(B21=12,B21=13,B21=21,B21=23,B21=31,B21=32),N20=" ",M21=" "),"T"," ") -> T | O21: =IF(AND(N20="T",M21=" "),"B",IF(AND(M21="L",P20<6),"B",IF(M21="W"," "," "))) | P21: =IF(AND(P20=" ",O21=" ")," ",IF(AND(P20=" ",O21="B"),1,IF(AND(O21="B",P20<=6),P20+1," "))) | Q21: =IF(AND(M21="L",P20=6,Q20<3),Q20+1,IF(OR(M21="W",AND(Q20=3,M21="L")),1,Q20)) -> 1 | R21: =IF(O21<>"B"," ",IF(OR(P21=1,P21=2),5,IF(P21=3,10,IF(P21=4,20,IF(P21=5,30,IF(P21=6,55," ")))))) | S21: =IF(M21="W",R20*2.4,0) -> 0 | T21: =IF(AND(R21=" ",S21=0),T20,IF(S21<>0, T20+S21,VALUE(T20)-VALUE(R21)+VALUE(S21))) -> 0
A22: =A21+1 -> 12 | B22: =Data!B22 -> 32 | C22: =IF($B22=0,0,IF(MOD($B22,3)=0,QUOTIENT($B22,3),QUOTIENT($B22,3)+1)) -> 11 | E22: =IF(G21<>"B"," ",IF(OR(B21=12,B21=13,B21=21,B21=23,B21=31,B21=32),"W","L")) | F22: =IF(AND(OR(B22=12,B22=13,B22=21,B22=23,B22=31,B22=32),F21=" ",E22=" "),"T"," ") | G22: =IF(AND(F21="T",E22=" "),"B",IF(AND(E22="L",H21<6),"B",IF(E22="W"," "," "))) -> B | H22: =IF(AND(H21=" ",G22=" ")," ",IF(AND(H21=" ",G22="B"),1,IF(AND(G22="B",H21<=6),H21+1," "))) -> 1 | I22: =IF(AND(E22="L",H21=6,I21=2),1,IF(AND(E22="L",H21=6,I21=1),I21+1,IF(OR(E22="W",AND(I21=3,E22="L")),1,I21))) -> 1 | J22: =IF(G22="B",I22*6," ") -> 6 | K22: =IF(E22="W",J21*6,0) -> 0 | L22: =IF(AND(J22=" ",K22=0),L21,IF(K22<>0, L21+K22,VALUE(L21)-VALUE(J22)+VALUE(K22))) -> -6 | M22: =IF(O21<>"B"," ",IF(OR(C21=4,C21=5,C21=7,C21=8,C21=11),"W","L")) | N22: =IF(AND(OR(B22=12,B22=13,B22=21,B22=23,B22=31,B22=32),N21=" ",M22=" "),"T"," ") | O22: =IF(AND(N21="T",M22=" "),"B",IF(AND(M22="L",P21<6),"B",IF(M22="W"," "," "))) -> B | P22: =IF(AND(P21=" ",O22=" ")," ",IF(AND(P21=" ",O22="B"),1,IF(AND(O22="B",P21<=6),P21+1," "))) -> 1 | Q22: =IF(AND(M22="L",P21=6,Q21<3),Q21+1,IF(OR(M22="W",AND(Q21=3,M22="L")),1,Q21)) -> 1 | R22: =IF(O22<>"B"," ",IF(OR(P22=1,P22=2),5,IF(P22=3,10,IF(P22=4,20,IF(P22=5,30,IF(P22=6,55," ")))))) -> 5 | S22: =IF(M22="W",R21*2.4,0) -> 0 | T22: =IF(AND(R22=" ",S22=0),T21,IF(S22<>0, T21+S22,VALUE(T21)-VALUE(R22)+VALUE(S22))) -> -5
A23: =A22+1 -> 13 | B23: =Data!B23 -> 19 | C23: =IF($B23=0,0,IF(MOD($B23,3)=0,QUOTIENT($B23,3),QUOTIENT($B23,3)+1)) -> 7 | E23: =IF(G22<>"B"," ",IF(OR(B22=12,B22=13,B22=21,B22=23,B22=31,B22=32),"W","L")) -> W | F23: =IF(AND(OR(B23=12,B23=13,B23=21,B23=23,B23=31,B23=32),F22=" ",E23=" "),"T"," ") | G23: =IF(AND(F22="T",E23=" "),"B",IF(AND(E23="L",H22<6),"B",IF(E23="W"," "," "))) | H23: =IF(AND(H22=" ",G23=" ")," ",IF(AND(H22=" ",G23="B"),1,IF(AND(G23="B",H22<=6),H22+1," "))) | I23: =IF(AND(E23="L",H22=6,I22=2),1,IF(AND(E23="L",H22=6,I22=1),I22+1,IF(OR(E23="W",AND(I22=3,E23="L")),1,I22))) -> 1 | J23: =IF(G23="B",I23*6," ") | K23: =IF(E23="W",J22*6,0) -> 36 | L23: =IF(AND(J23=" ",K23=0),L22,IF(K23<>0, L22+K23,VALUE(L22)-VALUE(J23)+VALUE(K23))) -> 30 | M23: =IF(O22<>"B"," ",IF(OR(C22=4,C22=5,C22=7,C22=8,C22=11),"W","L")) -> W | N23: =IF(AND(OR(B23=12,B23=13,B23=21,B23=23,B23=31,B23=32),N22=" ",M23=" "),"T"," ") | O23: =IF(AND(N22="T",M23=" "),"B",IF(AND(M23="L",P22<6),"B",IF(M23="W"," "," "))) | P23: =IF(AND(P22=" ",O23=" ")," ",IF(AND(P22=" ",O23="B"),1,IF(AND(O23="B",P22<=6),P22+1," "))) | Q23: =IF(AND(M23="L",P22=6,Q22<3),Q22+1,IF(OR(M23="W",AND(Q22=3,M23="L")),1,Q22)) -> 1 | R23: =IF(O23<>"B"," ",IF(OR(P23=1,P23=2),5,IF(P23=3,10,IF(P23=4,20,IF(P23=5,30,IF(P23=6,55," ")))))) | S23: =IF(M23="W",R22*2.4,0) -> 12 | T23: =IF(AND(R23=" ",S23=0),T22,IF(S23<>0, T22+S23,VALUE(T22)-VALUE(R23)+VALUE(S23))) -> 7
A24: =A23+1 -> 14 | B24: =Data!B24 -> 22 | C24: =IF($B24=0,0,IF(MOD($B24,3)=0,QUOTIENT($B24,3),QUOTIENT($B24,3)+1)) -> 8 | E24: =IF(G23<>"B"," ",IF(OR(B23=12,B23=13,B23=21,B23=23,B23=31,B23=32),"W","L")) | F24: =IF(AND(OR(B24=12,B24=13,B24=21,B24=23,B24=31,B24=32),F23=" ",E24=" "),"T"," ") | G24: =IF(AND(F23="T",E24=" "),"B",IF(AND(E24="L",H23<6),"B",IF(E24="W"," "," "))) | H24: =IF(AND(H23=" ",G24=" ")," ",IF(AND(H23=" ",G24="B"),1,IF(AND(G24="B",H23<=6),H23+1," "))) | I24: =IF(AND(E24="L",H23=6,I23=2),1,IF(AND(E24="L",H23=6,I23=1),I23+1,IF(OR(E24="W",AND(I23=3,E24="L")),1,I23))) -> 1 | J24: =IF(G24="B",I24*6," ") | K24: =IF(E24="W",J23*6,0) -> 0 | L24: =IF(AND(J24=" ",K24=0),L23,IF(K24<>0, L23+K24,VALUE(L23)-VALUE(J24)+VALUE(K24))) -> 30 | M24: =IF(O23<>"B"," ",IF(OR(C23=4,C23=5,C23=7,C23=8,C23=11),"W","L")) | N24: =IF(AND(OR(B24=12,B24=13,B24=21,B24=23,B24=31,B24=32),N23=" ",M24=" "),"T"," ") | O24: =IF(AND(N23="T",M24=" "),"B",IF(AND(M24="L",P23<6),"B",IF(M24="W"," "," "))) | P24: =IF(AND(P23=" ",O24=" ")," ",IF(AND(P23=" ",O24="B"),1,IF(AND(O24="B",P23<=6),P23+1," "))) | Q24: =IF(AND(M24="L",P23=6,Q23<3),Q23+1,IF(OR(M24="W",AND(Q23=3,M24="L")),1,Q23)) -> 1 | R24: =IF(O24<>"B"," ",IF(OR(P24=1,P24=2),5,IF(P24=3,10,IF(P24=4,20,IF(P24=5,30,IF(P24=6,55," ")))))) | S24: =IF(M24="W",R23*2.4,0) -> 0 | T24: =IF(AND(R24=" ",S24=0),T23,IF(S24<>0, T23+S24,VALUE(T23)-VALUE(R24)+VALUE(S24))) -> 7
A25: =A24+1 -> 15 | B25: =Data!B25 -> 10 | C25: =IF($B25=0,0,IF(MOD($B25,3)=0,QUOTIENT($B25,3),QUOTIENT($B25,3)+1)) -> 4 | E25: =IF(G24<>"B"," ",IF(OR(B24=12,B24=13,B24=21,B24=23,B24=31,B24=32),"W","L")) | F25: =IF(AND(OR(B25=12,B25=13,B25=21,B25=23,B25=31,B25=32),F24=" ",E25=" "),"T"," ") | G25: =IF(AND(F24="T",E25=" "),"B",IF(AND(E25="L",H24<6),"B",IF(E25="W"," "," "))) | H25: =IF(AND(H24=" ",G25=" ")," ",IF(AND(H24=" ",G25="B"),1,IF(AND(G25="B",H24<=6),H24+1," "))) | I25: =IF(AND(E25="L",H24=6,I24=2),1,IF(AND(E25="L",H24=6,I24=1),I24+1,IF(OR(E25="W",AND(I24=3,E25="L")),1,I24))) -> 1 | J25: =IF(G25="B",I25*6," ") | K25: =IF(E25="W",J24*6,0) -> 0 | L25: =IF(AND(J25=" ",K25=0),L24,IF(K25<>0, L24+K25,VALUE(L24)-VALUE(J25)+VALUE(K25))) -> 30 | M25: =IF(O24<>"B"," ",IF(OR(C24=4,C24=5,C24=7,C24=8,C24=11),"W","L")) | N25: =IF(AND(OR(B25=12,B25=13,B25=21,B25=23,B25=31,B25=32),N24=" ",M25=" "),"T"," ") | O25: =IF(AND(N24="T",M25=" "),"B",IF(AND(M25="L",P24<6),"B",IF(M25="W"," "," "))) | P25: =IF(AND(P24=" ",O25=" ")," ",IF(AND(P24=" ",O25="B"),1,IF(AND(O25="B",P24<=6),P24+1," "))) | Q25: =IF(AND(M25="L",P24=6,Q24<3),Q24+1,IF(OR(M25="W",AND(Q24=3,M25="L")),1,Q24)) -> 1 | R25: =IF(O25<>"B"," ",IF(OR(P25=1,P25=2),5,IF(P25=3,10,IF(P25=4,20,IF(P25=5,30,IF(P25=6,55," ")))))) | S25: =IF(M25="W",R24*2.4,0) -> 0 | T25: =IF(AND(R25=" ",S25=0),T24,IF(S25<>0, T24+S25,VALUE(T24)-VALUE(R25)+VALUE(S25))) -> 7
... A510: =A509+1 -> 500 | B510: =Data!B510 -> 21 | C510: =IF($B510=0,0,IF(MOD($B510,3)=0,QUOTIENT($B510,3),QUOTIENT($B510,3)+1)) -> 7 | E510: =IF(G509<>"B"," ",IF(OR(B509=12,B509=13,B509=21,B509=23,B509=31,B509=32),"W","L")) -> L | F510: =IF(AND(OR(B510=12,B510=13,B510=21,B510=23,B510=31,B510=32),F509=" ",E510=" "),"T"," ") | G510: =IF(AND(F509="T",E510=" "),"B",IF(AND(E510="L",H509<6),"B",IF(E510="W"," "," "))) -> B | H510: =IF(AND(H509=" ",G510=" ")," ",IF(AND(H509=" ",G510="B"),1,IF(AND(G510="B",H509<=6),H509+1," "))) -> 3 | I510: =IF(AND(E510="L",H509=6,I509=2),1,IF(AND(E510="L",H509=6,I509=1),I509+1,IF(OR(E510="W",AND(I509=3,E510="L")),1,I509))) -> 1 | J510: =IF(G510="B",I510*6," ") -> 6 | K510: =IF(E510="W",J509*6,0) -> 0 | L510: =IF(AND(J510=" ",K510=0),L509,IF(K510<>0, L509+K510,VALUE(L509)-VALUE(J510)+VALUE(K510))) -> -366 | M510: =IF(O509<>"B"," ",IF(OR(C509=4,C509=5,C509=7,C509=8,C509=11),"W","L")) -> W | N510: =IF(AND(OR(B510=12,B510=13,B510=21,B510=23,B510=31,B510=32),N509=" ",M510=" "),"T"," ") | O510: =IF(AND(N509="T",M510=" "),"B",IF(AND(M510="L",P509<6),"B",IF(M510="W"," "," "))) | P510: =IF(AND(P509=" ",O510=" ")," ",IF(AND(P509=" ",O510="B"),1,IF(AND(O510="B",P509<=6),P509+1," "))) | Q510: =IF(AND(M510="L",P509=6,Q509<3),Q509+1,IF(OR(M510="W",AND(Q509=3,M510="L")),1,Q509)) -> 1 | R510: =IF(O510<>"B"," ",IF(OR(P510=1,P510=2),5,IF(P510=3,10,IF(P510=4,20,IF(P510=5,30,IF(P510=6,55," ")))))) | S510: =IF(M510="W",R509*2.4,0) -> 12 | T510: =IF(AND(R510=" ",S510=0),T509,IF(S510<>0, T509+S510,VALUE(T509)-VALUE(R510)+VALUE(S510))) -> -128
E513: =COUNTIF(E11:E511,"W") -> 25 | F513: =COUNTIF(E11:E511,"L") -> 154 | J513: =MAX(L11:L510) -> 132 | K513: =MIN(L11:L510) -> -366 | M513: =COUNTIF(M11:M511,"W") -> 50 | N513: =COUNTIF(M11:M511,"L") -> 64 | R513: =MAX(T11:T510) -> 7 | S513: =MIN(T11:T510) -> -239

Sheet Leland-1
G8: Leland One : Original (Loss, Wait for new Trigger) | X8: Leland One : Tweak (Loss, Play Next Two)
G9: D | H9: <= | I9: D for delayed Trigger
A10: SPINS | B10: NR | D10: Dz | E10: Co | G10: Tr | H10: Res | I10: St | J10: Dozen | L10: Amt | M10: Win | N10: BR | O10: Tr | P10: Res | Q10: St | R10: Col | T10: Amt | U10: Win | V10: BR | X10: Tr | Y10: Res | Z10: St | AA10: Dozen | AC10: Amt | AD10: Win | AE10: BR | AF10: Tr | AG10: Res | AH10: St | AI10: Col | AK10: Amt | AL10: Win | AM10: BR
A11: 1 | B11: =Data!B11 -> 4 | D11: =IF($B11=0,0,IF(AND($B11>0,$B11<13),1,IF(AND($B11>12,$B11<25),2,3))) -> 1 | E11: =IF(B11=0,0,IF(MOD(B11,3)=1,"A",IF(MOD(B11,3),"B","C"))) -> A | I11: 1 | L11: =IF(J11=" ",0,IF(OR(I11=1,I11=4,I11=7),2,IF(OR(I11=2,I11=5,I11=8),6,IF(OR(I11=3,I11=6,I11=9),18)))) -> 0 | M11: 0 | N11: 0 | Q11: 1 | T11: =IF(R11=" ",0,IF(OR(Q11=1,Q11=4,Q11=7),2,IF(OR(Q11=2,Q11=5,Q11=8),6,IF(OR(Q11=3,Q11=6,Q11=9),18)))) -> 0 | U11: 0 | V11: 0 | Z11: 1 | AC11: =IF(AA11=" ",0,IF(OR(Z11=1,Z11=4,Z11=7),2,IF(OR(Z11=2,Z11=5,Z11=8),6,IF(OR(Z11=3,Z11=6,Z11=9),18)))) -> 0 | AD11: 0 | AE11: 0 | AH11: 1 | AK11: =IF(AI11=" ",0,IF(OR(AH11=1,AH11=4,AH11=7),2,IF(OR(AH11=2,AH11=5,AH11=8),6,IF(OR(AH11=3,AH11=6,AH11=9),18)))) -> 0 | AL11: 0 | AM11: 0
A12: =A11+1 -> 2 | B12: =Data!B12 -> 7 | D12: =IF($B12=0,0,IF(AND($B12>0,$B12<13),1,IF(AND($B12>12,$B12<25),2,3))) -> 1 | E12: =IF(B12=0,0,IF(MOD(B12,3)=1,"A",IF(MOD(B12,3),"B","C"))) -> A | G12: =IF($G$9="D",IF(AND(D11<>0,D12<>0,D12=D11,J11=" "),"T"," "),IF(AND(D11<>0,D12<>0,D12=D11),"T"," ")) -> T | I12: =IF(H12="W",1,IF(H12="L",I11+1,I11)) -> 1 | L12: =IF(J12=" ",0,IF(OR(I12=1,I12=4,I12=7),2,IF(OR(I12=2,I12=5,I12=8),6,IF(OR(I12=3,I12=6,I12=9),18)))) -> 0 | M12: 0 | N12: =N11-L12+M12 -> 0 | O12: =IF($G$9="D",IF(AND(E11<>0,E12<>0,E12=E11,R11=" "),"T"," "),IF(AND(E11<>0,E12<>0,E12=E11),"T"," ")) -> T | Q12: =IF(P12="W",1,IF(P12="L",Q11+1,Q11)) -> 1 | T12: =IF(R12=" ",0,IF(OR(Q12=1,Q12=4,Q12=7),2,IF(OR(Q12=2,Q12=5,Q12=8),6,IF(OR(Q12=3,Q12=6,Q12=9),18)))) -> 0 | U12: 0 | V12: =V11-T12+U12 -> 0 | X12: =IF($G$9="D",IF(AND(D11<>0,D12<>0,D12=D11,AA11=" "),"T"," "),IF(AND(D11<>0,D12<>0,D12=D11),"T"," ")) -> T | Z12: =IF(Y12="W",1,IF(Y12="L",Z11+1,Z11)) -> 1 | AC12: =IF(AA12=" ",0,IF(OR(Z12=1,Z12=4,Z12=7),2,IF(OR(Z12=2,Z12=5,Z12=8),6,IF(OR(Z12=3,Z12=6,Z12=9),18)))) -> 0 | AD12: 0 | AE12: =AE11-AC12+AD12 -> 0 | AF12: =IF($G$9="D",IF(AND(E11<>0,E12<>0,E12=E11,AI11=" "),"T"," "),IF(AND(E11<>0,E12<>0,E12=E11),"T"," ")) -> T | AH12: =IF(AG12="W",1,IF(AG12="L",AH11+1,AH11)) -> 1 | AK12: =IF(AI12=" ",0,IF(OR(AH12=1,AH12=4,AH12=7),2,IF(OR(AH12=2,AH12=5,AH12=8),6,IF(OR(AH12=3,AH12=6,AH12=9),18)))) -> 0 | AL12: 0 | AM12: =AM11-AK12+AL12 -> 0
A13: =A12+1 -> 3 | B13: =Data!B13 -> 3 | D13: =IF($B13=0,0,IF(AND($B13>0,$B13<13),1,IF(AND($B13>12,$B13<25),2,3))) -> 1 | E13: =IF(B13=0,0,IF(MOD(B13,3)=1,"A",IF(MOD(B13,3),"B","C"))) -> C | G13: =IF($G$9="D",IF(AND(D12<>0,D13<>0,D13=D12,J12=" "),"T"," "),IF(AND(D12<>0,D13<>0,D13=D12),"T"," ")) -> T | I13: =IF(H13="W",1,IF(H13="L",I12+1,I12)) -> 1 | J13: =IF(AND(G12="T",D13<>D12,D13<>0),CONCATENATE(D12," & ",D13)," ") | L13: =IF(J13=" ",0,IF(OR(I13=1,I13=4,I13=7),2,IF(OR(I13=2,I13=5,I13=8),6,IF(OR(I13=3,I13=6,I13=9),18)))) -> 0 | M13: 0 | N13: =N12-L13+M13 -> 0 | O13: =IF($G$9="D",IF(AND(E12<>0,E13<>0,E13=E12,R12=" "),"T"," "),IF(AND(E12<>0,E13<>0,E13=E12),"T"," ")) | Q13: =IF(P13="W",1,IF(P13="L",Q12+1,Q12)) -> 1 | R13: =IF(AND(O12="T",E13<>E12,E13<>0),CONCATENATE(E12," & ",E13)," ") -> A & C | T13: =IF(R13=" ",0,IF(OR(Q13=1,Q13=4,Q13=7),2,IF(OR(Q13=2,Q13=5,Q13=8),6,IF(OR(Q13=3,Q13=6,Q13=9),18)))) -> 2 | U13: 0 | V13: =V12-T13+U13 -> -2 | X13: =IF($G$9="D",IF(AND(D12<>0,D13<>0,D13=D12,AA12=" "),"T"," "),IF(AND(D12<>0,D13<>0,D13=D12),"T"," ")) -> T | Z13: =IF(Y13="W",1,IF(Y13="L",Z12+1,Z12)) -> 1 | AA13: =IF(Y13="L",AA12,IF(AND(X12="T",D13<>D12,D13<>0),CONCATENATE(D12," & ",D13)," ")) | AC13: =IF(AA13=" ",0,IF(OR(Z13=1,Z13=4,Z13=7),2,IF(OR(Z13=2,Z13=5,Z13=8),6,IF(OR(Z13=3,Z13=6,Z13=9),18)))) -> 0 | AD13: 0 | AE13: =AE12-AC13+AD13 -> 0 | AF13: =IF($G$9="D",IF(AND(E12<>0,E13<>0,E13=E12,AI12=" "),"T"," "),IF(AND(E12<>0,E13<>0,E13=E12),"T"," ")) | AH13: =IF(AG13="W",1,IF(AG13="L",AH12+1,AH12)) -> 1 | AI13: =IF(AG13="L",AI12,IF(AND(AF12="T",E13<>E12,E13<>0),CONCATENATE(E12," & ",E13)," ")) -> A & C | AK13: =IF(AI13=" ",0,IF(OR(AH13=1,AH13=4,AH13=7),2,IF(OR(AH13=2,AH13=5,AH13=8),6,IF(OR(AH13=3,AH13=6,AH13=9),18)))) -> 2 | AL13: 0 | AM13: =AM12-AK13+AL13 -> -2
A14: =A13+1 -> 4 | B14: =Data!B14 -> 24 | D14: =IF($B14=0,0,IF(AND($B14>0,$B14<13),1,IF(AND($B14>12,$B14<25),2,3))) -> 2 | E14: =IF(B14=0,0,IF(MOD(B14,3)=1,"A",IF(MOD(B14,3),"B","C"))) -> C | G14: =IF($G$9="D",IF(AND(D13<>0,D14<>0,D14=D13,J13=" "),"T"," "),IF(AND(D13<>0,D14<>0,D14=D13),"T"," ")) | H14: =IF(J13=" "," ",IF(OR(D14=D13,D14=D12),"W","L")) | I14: =IF(H14="W",1,IF(H14="L",I13+1,I13)) -> 1 | J14: =IF(AND(G13="T",D14<>D13,D14<>0),CONCATENATE(D13," & ",D14)," ") -> 1 & 2 | L14: =IF(J14=" ",0,IF(OR(I14=1,I14=4,I14=7),2,IF(OR(I14=2,I14=5,I14=8),6,IF(OR(I14=3,I14=6,I14=9),18)))) -> 2 | M14: =IF(H14=" ",0,IF(H14="W",(L13/2)*3,0)) -> 0 | N14: =N13-L14+M14 -> -2 | O14: =IF($G$9="D",IF(AND(E13<>0,E14<>0,E14=E13,R13=" "),"T"," "),IF(AND(E13<>0,E14<>0,E14=E13),"T"," ")) | P14: =IF(R13=" "," ",IF(OR(E14=E13,E14=E12),"W","L")) -> W | Q14: =IF(P14="W",1,IF(P14="L",Q13+1,Q13)) -> 1 | R14: =IF(AND(O13="T",E14<>E13,E14<>0),CONCATENATE(E13," & ",E14)," ") | T14: =IF(R14=" ",0,IF(OR(Q14=1,Q14=4,Q14=7),2,IF(OR(Q14=2,Q14=5,Q14=8),6,IF(OR(Q14=3,Q14=6,Q14=9),18)))) -> 0 | U14: =IF(P14=" ",0,IF(P14="W",(T13/2)*3,0)) -> 3 | V14: =V13-T14+U14 -> 1 | X14: =IF($G$9="D",IF(AND(D13<>0,D14<>0,D14=D13,AA13=" "),"T"," "),IF(AND(D13<>0,D14<>0,D14=D13),"T"," ")) | Y14: =IF(AA13=" "," ",IF(OR(D14=VALUE(MID(AA13,1,1)),D14=VALUE(MID(AA13,5,1))),"W","L")) | Z14: =IF(Y14="W",1,IF(Y14="L",Z13+1,Z13)) -> 1 | AA14: =IF(Y14="L",AA13,IF(AND(X13="T",D14<>D13,D14<>0),CONCATENATE(D13," & ",D14)," ")) -> 1 & 2 | AC14: =IF(AA14=" ",0,IF(OR(Z14=1,Z14=4,Z14=7),2,IF(OR(Z14=2,Z14=5,Z14=8),6,IF(OR(Z14=3,Z14=6,Z14=9),18)))) -> 2 | AD14: =IF(Y14=" ",0,IF(Y14="W",(AC13/2)*3,0)) -> 0 | AE14: =AE13-AC14+AD14 -> -2 | AF14: =IF($G$9="D",IF(AND(E13<>0,E14<>0,E14=E13,AI13=" "),"T"," "),IF(AND(E13<>0,E14<>0,E14=E13),"T"," ")) | AG14: =IF(AI13=" "," ",IF(OR(E14=MID(AI13,1,1),E14=MID(AI13,5,1)),"W","L")) -> W | AH14: =IF(AG14="W",1,IF(AG14="L",AH13+1,AH13)) -> 1 | AI14: =IF(AG14="L",AI13,IF(AND(AF13="T",E14<>E13,E14<>0),CONCATENATE(E13," & ",E14)," ")) | AK14: =IF(AI14=" ",0,IF(OR(AH14=1,AH14=4,AH14=7),2,IF(OR(AH14=2,AH14=5,AH14=8),6,IF(OR(AH14=3,AH14=6,AH14=9),18)))) -> 0 | AL14: =IF(AG14=" ",0,IF(AG14="W",(AK13/2)*3,0)) -> 3 | AM14: =AM13-AK14+AL14 -> 1
A15: =A14+1 -> 5 | B15: =Data!B15 -> 10 | D15: =IF($B15=0,0,IF(AND($B15>0,$B15<13),1,IF(AND($B15>12,$B15<25),2,3))) -> 1 | E15: =IF(B15=0,0,IF(MOD(B15,3)=1,"A",IF(MOD(B15,3),"B","C"))) -> A | G15: =IF($G$9="D",IF(AND(D14<>0,D15<>0,D15=D14,J14=" "),"T"," "),IF(AND(D14<>0,D15<>0,D15=D14),"T"," ")) | H15: =IF(J14=" "," ",IF(OR(D15=D14,D15=D13),"W","L")) -> W | I15: =IF(H15="W",1,IF(H15="L",I14+1,I14)) -> 1 | J15: =IF(AND(G14="T",D15<>D14,D15<>0),CONCATENATE(D14," & ",D15)," ") | L15: =IF(J15=" ",0,IF(OR(I15=1,I15=4,I15=7),2,IF(OR(I15=2,I15=5,I15=8),6,IF(OR(I15=3,I15=6,I15=9),18)))) -> 0 | M15: =IF(H15=" ",0,IF(H15="W",(L14/2)*3,0)) -> 3 | N15: =N14-L15+M15 -> 1 | O15: =IF($G$9="D",IF(AND(E14<>0,E15<>0,E15=E14,R14=" "),"T"," "),IF(AND(E14<>0,E15<>0,E15=E14),"T"," ")) | P15: =IF(R14=" "," ",IF(OR(E15=E14,E15=E13),"W","L")) | Q15: =IF(P15="W",1,IF(P15="L",Q14+1,Q14)) -> 1 | R15: =IF(AND(O14="T",E15<>E14,E15<>0),CONCATENATE(E14," & ",E15)," ") | T15: =IF(R15=" ",0,IF(OR(Q15=1,Q15=4,Q15=7),2,IF(OR(Q15=2,Q15=5,Q15=8),6,IF(OR(Q15=3,Q15=6,Q15=9),18)))) -> 0 | U15: =IF(P15=" ",0,IF(P15="W",(T14/2)*3,0)) -> 0 | V15: =V14-T15+U15 -> 1 | X15: =IF($G$9="D",IF(AND(D14<>0,D15<>0,D15=D14,AA14=" "),"T"," "),IF(AND(D14<>0,D15<>0,D15=D14),"T"," ")) | Y15: =IF(AA14=" "," ",IF(OR(D15=VALUE(MID(AA14,1,1)),D15=VALUE(MID(AA14,5,1))),"W","L")) -> W | Z15: =IF(Y15="W",1,IF(Y15="L",Z14+1,Z14)) -> 1 | AA15: =IF(Y15="L",AA14,IF(AND(X14="T",D15<>D14,D15<>0),CONCATENATE(D14," & ",D15)," ")) | AC15: =IF(AA15=" ",0,IF(OR(Z15=1,Z15=4,Z15=7),2,IF(OR(Z15=2,Z15=5,Z15=8),6,IF(OR(Z15=3,Z15=6,Z15=9),18)))) -> 0 | AD15: =IF(Y15=" ",0,IF(Y15="W",(AC14/2)*3,0)) -> 3 | AE15: =AE14-AC15+AD15 -> 1 | AF15: =IF($G$9="D",IF(AND(E14<>0,E15<>0,E15=E14,AI14=" "),"T"," "),IF(AND(E14<>0,E15<>0,E15=E14),"T"," ")) | AG15: =IF(AI14=" "," ",IF(OR(E15=MID(AI14,1,1),E15=MID(AI14,5,1)),"W","L")) | AH15: =IF(AG15="W",1,IF(AG15="L",AH14+1,AH14)) -> 1 | AI15: =IF(AG15="L",AI14,IF(AND(AF14="T",E15<>E14,E15<>0),CONCATENATE(E14," & ",E15)," ")) | AK15: =IF(AI15=" ",0,IF(OR(AH15=1,AH15=4,AH15=7),2,IF(OR(AH15=2,AH15=5,AH15=8),6,IF(OR(AH15=3,AH15=6,AH15=9),18)))) -> 0 | AL15: =IF(AG15=" ",0,IF(AG15="W",(AK14/2)*3,0)) -> 0 | AM15: =AM14-AK15+AL15 -> 1
A16: =A15+1 -> 6 | B16: =Data!B16 -> 34 | D16: =IF($B16=0,0,IF(AND($B16>0,$B16<13),1,IF(AND($B16>12,$B16<25),2,3))) -> 3 | E16: =IF(B16=0,0,IF(MOD(B16,3)=1,"A",IF(MOD(B16,3),"B","C"))) -> A | G16: =IF($G$9="D",IF(AND(D15<>0,D16<>0,D16=D15,J15=" "),"T"," "),IF(AND(D15<>0,D16<>0,D16=D15),"T"," ")) | H16: =IF(J15=" "," ",IF(OR(D16=D15,D16=D14),"W","L")) | I16: =IF(H16="W",1,IF(H16="L",I15+1,I15)) -> 1 | J16: =IF(AND(G15="T",D16<>D15,D16<>0),CONCATENATE(D15," & ",D16)," ") | L16: =IF(J16=" ",0,IF(OR(I16=1,I16=4,I16=7),2,IF(OR(I16=2,I16=5,I16=8),6,IF(OR(I16=3,I16=6,I16=9),18)))) -> 0 | M16: =IF(H16=" ",0,IF(H16="W",(L15/2)*3,0)) -> 0 | N16: =N15-L16+M16 -> 1 | O16: =IF($G$9="D",IF(AND(E15<>0,E16<>0,E16=E15,R15=" "),"T"," "),IF(AND(E15<>0,E16<>0,E16=E15),"T"," ")) -> T | P16: =IF(R15=" "," ",IF(OR(E16=E15,E16=E14),"W","L")) | Q16: =IF(P16="W",1,IF(P16="L",Q15+1,Q15)) -> 1 | R16: =IF(AND(O15="T",E16<>E15,E16<>0),CONCATENATE(E15," & ",E16)," ") | T16: =IF(R16=" ",0,IF(OR(Q16=1,Q16=4,Q16=7),2,IF(OR(Q16=2,Q16=5,Q16=8),6,IF(OR(Q16=3,Q16=6,Q16=9),18)))) -> 0 | U16: =IF(P16=" ",0,IF(P16="W",(T15/2)*3,0)) -> 0 | V16: =V15-T16+U16 -> 1 | X16: =IF($G$9="D",IF(AND(D15<>0,D16<>0,D16=D15,AA15=" "),"T"," "),IF(AND(D15<>0,D16<>0,D16=D15),"T"," ")) | Y16: =IF(AA15=" "," ",IF(OR(D16=VALUE(MID(AA15,1,1)),D16=VALUE(MID(AA15,5,1))),"W","L")) | Z16: =IF(Y16="W",1,IF(Y16="L",Z15+1,Z15)) -> 1 | AA16: =IF(Y16="L",AA15,IF(AND(X15="T",D16<>D15,D16<>0),CONCATENATE(D15," & ",D16)," ")) | AC16: =IF(AA16=" ",0,IF(OR(Z16=1,Z16=4,Z16=7),2,IF(OR(Z16=2,Z16=5,Z16=8),6,IF(OR(Z16=3,Z16=6,Z16=9),18)))) -> 0 | AD16: =IF(Y16=" ",0,IF(Y16="W",(AC15/2)*3,0)) -> 0 | AE16: =AE15-AC16+AD16 -> 1 | AF16: =IF($G$9="D",IF(AND(E15<>0,E16<>0,E16=E15,AI15=" "),"T"," "),IF(AND(E15<>0,E16<>0,E16=E15),"T"," ")) -> T | AG16: =IF(AI15=" "," ",IF(OR(E16=MID(AI15,1,1),E16=MID(AI15,5,1)),"W","L")) | AH16: =IF(AG16="W",1,IF(AG16="L",AH15+1,AH15)) -> 1 | AI16: =IF(AG16="L",AI15,IF(AND(AF15="T",E16<>E15,E16<>0),CONCATENATE(E15," & ",E16)," ")) | AK16: =IF(AI16=" ",0,IF(OR(AH16=1,AH16=4,AH16=7),2,IF(OR(AH16=2,AH16=5,AH16=8),6,IF(OR(AH16=3,AH16=6,AH16=9),18)))) -> 0 | AL16: =IF(AG16=" ",0,IF(AG16="W",(AK15/2)*3,0)) -> 0 | AM16: =AM15-AK16+AL16 -> 1
A17: =A16+1 -> 7 | B17: =Data!B17 -> 0 | D17: =IF($B17=0,0,IF(AND($B17>0,$B17<13),1,IF(AND($B17>12,$B17<25),2,3))) -> 0 | E17: =IF(B17=0,0,IF(MOD(B17,3)=1,"A",IF(MOD(B17,3),"B","C"))) -> 0 | G17: =IF($G$9="D",IF(AND(D16<>0,D17<>0,D17=D16,J16=" "),"T"," "),IF(AND(D16<>0,D17<>0,D17=D16),"T"," ")) | H17: =IF(J16=" "," ",IF(OR(D17=D16,D17=D15),"W","L")) | I17: =IF(H17="W",1,IF(H17="L",I16+1,I16)) -> 1 | J17: =IF(AND(G16="T",D17<>D16,D17<>0),CONCATENATE(D16," & ",D17)," ") | L17: =IF(J17=" ",0,IF(OR(I17=1,I17=4,I17=7),2,IF(OR(I17=2,I17=5,I17=8),6,IF(OR(I17=3,I17=6,I17=9),18)))) -> 0 | M17: =IF(H17=" ",0,IF(H17="W",(L16/2)*3,0)) -> 0 | N17: =N16-L17+M17 -> 1 | O17: =IF($G$9="D",IF(AND(E16<>0,E17<>0,E17=E16,R16=" "),"T"," "),IF(AND(E16<>0,E17<>0,E17=E16),"T"," ")) | P17: =IF(R16=" "," ",IF(OR(E17=E16,E17=E15),"W","L")) | Q17: =IF(P17="W",1,IF(P17="L",Q16+1,Q16)) -> 1 | R17: =IF(AND(O16="T",E17<>E16,E17<>0),CONCATENATE(E16," & ",E17)," ") | T17: =IF(R17=" ",0,IF(OR(Q17=1,Q17=4,Q17=7),2,IF(OR(Q17=2,Q17=5,Q17=8),6,IF(OR(Q17=3,Q17=6,Q17=9),18)))) -> 0 | U17: =IF(P17=" ",0,IF(P17="W",(T16/2)*3,0)) -> 0 | V17: =V16-T17+U17 -> 1 | X17: =IF($G$9="D",IF(AND(D16<>0,D17<>0,D17=D16,AA16=" "),"T"," "),IF(AND(D16<>0,D17<>0,D17=D16),"T"," ")) | Y17: =IF(AA16=" "," ",IF(OR(D17=VALUE(MID(AA16,1,1)),D17=VALUE(MID(AA16,5,1))),"W","L")) | Z17: =IF(Y17="W",1,IF(Y17="L",Z16+1,Z16)) -> 1 | AA17: =IF(Y17="L",AA16,IF(AND(X16="T",D17<>D16,D17<>0),CONCATENATE(D16," & ",D17)," ")) | AC17: =IF(AA17=" ",0,IF(OR(Z17=1,Z17=4,Z17=7),2,IF(OR(Z17=2,Z17=5,Z17=8),6,IF(OR(Z17=3,Z17=6,Z17=9),18)))) -> 0 | AD17: =IF(Y17=" ",0,IF(Y17="W",(AC16/2)*3,0)) -> 0 | AE17: =AE16-AC17+AD17 -> 1 | AF17: =IF($G$9="D",IF(AND(E16<>0,E17<>0,E17=E16,AI16=" "),"T"," "),IF(AND(E16<>0,E17<>0,E17=E16),"T"," ")) | AG17: =IF(AI16=" "," ",IF(OR(E17=MID(AI16,1,1),E17=MID(AI16,5,1)),"W","L")) | AH17: =IF(AG17="W",1,IF(AG17="L",AH16+1,AH16)) -> 1 | AI17: =IF(AG17="L",AI16,IF(AND(AF16="T",E17<>E16,E17<>0),CONCATENATE(E16," & ",E17)," ")) | AK17: =IF(AI17=" ",0,IF(OR(AH17=1,AH17=4,AH17=7),2,IF(OR(AH17=2,AH17=5,AH17=8),6,IF(OR(AH17=3,AH17=6,AH17=9),18)))) -> 0 | AL17: =IF(AG17=" ",0,IF(AG17="W",(AK16/2)*3,0)) -> 0 | AM17: =AM16-AK17+AL17 -> 1
A18: =A17+1 -> 8 | B18: =Data!B18 -> 8 | D18: =IF($B18=0,0,IF(AND($B18>0,$B18<13),1,IF(AND($B18>12,$B18<25),2,3))) -> 1 | E18: =IF(B18=0,0,IF(MOD(B18,3)=1,"A",IF(MOD(B18,3),"B","C"))) -> B | G18: =IF($G$9="D",IF(AND(D17<>0,D18<>0,D18=D17,J17=" "),"T"," "),IF(AND(D17<>0,D18<>0,D18=D17),"T"," ")) | H18: =IF(J17=" "," ",IF(OR(D18=D17,D18=D16),"W","L")) | I18: =IF(H18="W",1,IF(H18="L",I17+1,I17)) -> 1 | J18: =IF(AND(G17="T",D18<>D17,D18<>0),CONCATENATE(D17," & ",D18)," ") | L18: =IF(J18=" ",0,IF(OR(I18=1,I18=4,I18=7),2,IF(OR(I18=2,I18=5,I18=8),6,IF(OR(I18=3,I18=6,I18=9),18)))) -> 0 | M18: =IF(H18=" ",0,IF(H18="W",(L17/2)*3,0)) -> 0 | N18: =N17-L18+M18 -> 1 | O18: =IF($G$9="D",IF(AND(E17<>0,E18<>0,E18=E17,R17=" "),"T"," "),IF(AND(E17<>0,E18<>0,E18=E17),"T"," ")) | P18: =IF(R17=" "," ",IF(OR(E18=E17,E18=E16),"W","L")) | Q18: =IF(P18="W",1,IF(P18="L",Q17+1,Q17)) -> 1 | R18: =IF(AND(O17="T",E18<>E17,E18<>0),CONCATENATE(E17," & ",E18)," ") | T18: =IF(R18=" ",0,IF(OR(Q18=1,Q18=4,Q18=7),2,IF(OR(Q18=2,Q18=5,Q18=8),6,IF(OR(Q18=3,Q18=6,Q18=9),18)))) -> 0 | U18: =IF(P18=" ",0,IF(P18="W",(T17/2)*3,0)) -> 0 | V18: =V17-T18+U18 -> 1 | X18: =IF($G$9="D",IF(AND(D17<>0,D18<>0,D18=D17,AA17=" "),"T"," "),IF(AND(D17<>0,D18<>0,D18=D17),"T"," ")) | Y18: =IF(AA17=" "," ",IF(OR(D18=VALUE(MID(AA17,1,1)),D18=VALUE(MID(AA17,5,1))),"W","L")) | Z18: =IF(Y18="W",1,IF(Y18="L",Z17+1,Z17)) -> 1 | AA18: =IF(Y18="L",AA17,IF(AND(X17="T",D18<>D17,D18<>0),CONCATENATE(D17," & ",D18)," ")) | AC18: =IF(AA18=" ",0,IF(OR(Z18=1,Z18=4,Z18=7),2,IF(OR(Z18=2,Z18=5,Z18=8),6,IF(OR(Z18=3,Z18=6,Z18=9),18)))) -> 0 | AD18: =IF(Y18=" ",0,IF(Y18="W",(AC17/2)*3,0)) -> 0 | AE18: =AE17-AC18+AD18 -> 1 | AF18: =IF($G$9="D",IF(AND(E17<>0,E18<>0,E18=E17,AI17=" "),"T"," "),IF(AND(E17<>0,E18<>0,E18=E17),"T"," ")) | AG18: =IF(AI17=" "," ",IF(OR(E18=MID(AI17,1,1),E18=MID(AI17,5,1)),"W","L")) | AH18: =IF(AG18="W",1,IF(AG18="L",AH17+1,AH17)) -> 1 | AI18: =IF(AG18="L",AI17,IF(AND(AF17="T",E18<>E17,E18<>0),CONCATENATE(E17," & ",E18)," ")) | AK18: =IF(AI18=" ",0,IF(OR(AH18=1,AH18=4,AH18=7),2,IF(OR(AH18=2,AH18=5,AH18=8),6,IF(OR(AH18=3,AH18=6,AH18=9),18)))) -> 0 | AL18: =IF(AG18=" ",0,IF(AG18="W",(AK17/2)*3,0)) -> 0 | AM18: =AM17-AK18+AL18 -> 1
A19: =A18+1 -> 9 | B19: =Data!B19 -> 17 | D19: =IF($B19=0,0,IF(AND($B19>0,$B19<13),1,IF(AND($B19>12,$B19<25),2,3))) -> 2 | E19: =IF(B19=0,0,IF(MOD(B19,3)=1,"A",IF(MOD(B19,3),"B","C"))) -> B | G19: =IF($G$9="D",IF(AND(D18<>0,D19<>0,D19=D18,J18=" "),"T"," "),IF(AND(D18<>0,D19<>0,D19=D18),"T"," ")) | H19: =IF(J18=" "," ",IF(OR(D19=D18,D19=D17),"W","L")) | I19: =IF(H19="W",1,IF(H19="L",I18+1,I18)) -> 1 | J19: =IF(AND(G18="T",D19<>D18,D19<>0),CONCATENATE(D18," & ",D19)," ") | L19: =IF(J19=" ",0,IF(OR(I19=1,I19=4,I19=7),2,IF(OR(I19=2,I19=5,I19=8),6,IF(OR(I19=3,I19=6,I19=9),18)))) -> 0 | M19: =IF(H19=" ",0,IF(H19="W",(L18/2)*3,0)) -> 0 | N19: =N18-L19+M19 -> 1 | O19: =IF($G$9="D",IF(AND(E18<>0,E19<>0,E19=E18,R18=" "),"T"," "),IF(AND(E18<>0,E19<>0,E19=E18),"T"," ")) -> T | P19: =IF(R18=" "," ",IF(OR(E19=E18,E19=E17),"W","L")) | Q19: =IF(P19="W",1,IF(P19="L",Q18+1,Q18)) -> 1 | R19: =IF(AND(O18="T",E19<>E18,E19<>0),CONCATENATE(E18," & ",E19)," ") | T19: =IF(R19=" ",0,IF(OR(Q19=1,Q19=4,Q19=7),2,IF(OR(Q19=2,Q19=5,Q19=8),6,IF(OR(Q19=3,Q19=6,Q19=9),18)))) -> 0 | U19: =IF(P19=" ",0,IF(P19="W",(T18/2)*3,0)) -> 0 | V19: =V18-T19+U19 -> 1 | X19: =IF($G$9="D",IF(AND(D18<>0,D19<>0,D19=D18,AA18=" "),"T"," "),IF(AND(D18<>0,D19<>0,D19=D18),"T"," ")) | Y19: =IF(AA18=" "," ",IF(OR(D19=VALUE(MID(AA18,1,1)),D19=VALUE(MID(AA18,5,1))),"W","L")) | Z19: =IF(Y19="W",1,IF(Y19="L",Z18+1,Z18)) -> 1 | AA19: =IF(Y19="L",AA18,IF(AND(X18="T",D19<>D18,D19<>0),CONCATENATE(D18," & ",D19)," ")) | AC19: =IF(AA19=" ",0,IF(OR(Z19=1,Z19=4,Z19=7),2,IF(OR(Z19=2,Z19=5,Z19=8),6,IF(OR(Z19=3,Z19=6,Z19=9),18)))) -> 0 | AD19: =IF(Y19=" ",0,IF(Y19="W",(AC18/2)*3,0)) -> 0 | AE19: =AE18-AC19+AD19 -> 1 | AF19: =IF($G$9="D",IF(AND(E18<>0,E19<>0,E19=E18,AI18=" "),"T"," "),IF(AND(E18<>0,E19<>0,E19=E18),"T"," ")) -> T | AG19: =IF(AI18=" "," ",IF(OR(E19=MID(AI18,1,1),E19=MID(AI18,5,1)),"W","L")) | AH19: =IF(AG19="W",1,IF(AG19="L",AH18+1,AH18)) -> 1 | AI19: =IF(AG19="L",AI18,IF(AND(AF18="T",E19<>E18,E19<>0),CONCATENATE(E18," & ",E19)," ")) | AK19: =IF(AI19=" ",0,IF(OR(AH19=1,AH19=4,AH19=7),2,IF(OR(AH19=2,AH19=5,AH19=8),6,IF(OR(AH19=3,AH19=6,AH19=9),18)))) -> 0 | AL19: =IF(AG19=" ",0,IF(AG19="W",(AK18/2)*3,0)) -> 0 | AM19: =AM18-AK19+AL19 -> 1
A20: =A19+1 -> 10 | B20: =Data!B20 -> 9 | D20: =IF($B20=0,0,IF(AND($B20>0,$B20<13),1,IF(AND($B20>12,$B20<25),2,3))) -> 1 | E20: =IF(B20=0,0,IF(MOD(B20,3)=1,"A",IF(MOD(B20,3),"B","C"))) -> C | G20: =IF($G$9="D",IF(AND(D19<>0,D20<>0,D20=D19,J19=" "),"T"," "),IF(AND(D19<>0,D20<>0,D20=D19),"T"," ")) | H20: =IF(J19=" "," ",IF(OR(D20=D19,D20=D18),"W","L")) | I20: =IF(H20="W",1,IF(H20="L",I19+1,I19)) -> 1 | J20: =IF(AND(G19="T",D20<>D19,D20<>0),CONCATENATE(D19," & ",D20)," ") | L20: =IF(J20=" ",0,IF(OR(I20=1,I20=4,I20=7),2,IF(OR(I20=2,I20=5,I20=8),6,IF(OR(I20=3,I20=6,I20=9),18)))) -> 0 | M20: =IF(H20=" ",0,IF(H20="W",(L19/2)*3,0)) -> 0 | N20: =N19-L20+M20 -> 1 | O20: =IF($G$9="D",IF(AND(E19<>0,E20<>0,E20=E19,R19=" "),"T"," "),IF(AND(E19<>0,E20<>0,E20=E19),"T"," ")) | P20: =IF(R19=" "," ",IF(OR(E20=E19,E20=E18),"W","L")) | Q20: =IF(P20="W",1,IF(P20="L",Q19+1,Q19)) -> 1 | R20: =IF(AND(O19="T",E20<>E19,E20<>0),CONCATENATE(E19," & ",E20)," ") -> B & C | T20: =IF(R20=" ",0,IF(OR(Q20=1,Q20=4,Q20=7),2,IF(OR(Q20=2,Q20=5,Q20=8),6,IF(OR(Q20=3,Q20=6,Q20=9),18)))) -> 2 | U20: =IF(P20=" ",0,IF(P20="W",(T19/2)*3,0)) -> 0 | V20: =V19-T20+U20 -> -1 | X20: =IF($G$9="D",IF(AND(D19<>0,D20<>0,D20=D19,AA19=" "),"T"," "),IF(AND(D19<>0,D20<>0,D20=D19),"T"," ")) | Y20: =IF(AA19=" "," ",IF(OR(D20=VALUE(MID(AA19,1,1)),D20=VALUE(MID(AA19,5,1))),"W","L")) | Z20: =IF(Y20="W",1,IF(Y20="L",Z19+1,Z19)) -> 1 | AA20: =IF(Y20="L",AA19,IF(AND(X19="T",D20<>D19,D20<>0),CONCATENATE(D19," & ",D20)," ")) | AC20: =IF(AA20=" ",0,IF(OR(Z20=1,Z20=4,Z20=7),2,IF(OR(Z20=2,Z20=5,Z20=8),6,IF(OR(Z20=3,Z20=6,Z20=9),18)))) -> 0 | AD20: =IF(Y20=" ",0,IF(Y20="W",(AC19/2)*3,0)) -> 0 | AE20: =AE19-AC20+AD20 -> 1 | AF20: =IF($G$9="D",IF(AND(E19<>0,E20<>0,E20=E19,AI19=" "),"T"," "),IF(AND(E19<>0,E20<>0,E20=E19),"T"," ")) | AG20: =IF(AI19=" "," ",IF(OR(E20=MID(AI19,1,1),E20=MID(AI19,5,1)),"W","L")) | AH20: =IF(AG20="W",1,IF(AG20="L",AH19+1,AH19)) -> 1 | AI20: =IF(AG20="L",AI19,IF(AND(AF19="T",E20<>E19,E20<>0),CONCATENATE(E19," & ",E20)," ")) -> B & C | AK20: =IF(AI20=" ",0,IF(OR(AH20=1,AH20=4,AH20=7),2,IF(OR(AH20=2,AH20=5,AH20=8),6,IF(OR(AH20=3,AH20=6,AH20=9),18)))) -> 2 | AL20: =IF(AG20=" ",0,IF(AG20="W",(AK19/2)*3,0)) -> 0 | AM20: =AM19-AK20+AL20 -> -1
A21: =A20+1 -> 11 | B21: =Data!B21 -> 21 | D21: =IF($B21=0,0,IF(AND($B21>0,$B21<13),1,IF(AND($B21>12,$B21<25),2,3))) -> 2 | E21: =IF(B21=0,0,IF(MOD(B21,3)=1,"A",IF(MOD(B21,3),"B","C"))) -> C | G21: =IF($G$9="D",IF(AND(D20<>0,D21<>0,D21=D20,J20=" "),"T"," "),IF(AND(D20<>0,D21<>0,D21=D20),"T"," ")) | H21: =IF(J20=" "," ",IF(OR(D21=D20,D21=D19),"W","L")) | I21: =IF(H21="W",1,IF(H21="L",I20+1,I20)) -> 1 | J21: =IF(AND(G20="T",D21<>D20,D21<>0),CONCATENATE(D20," & ",D21)," ") | L21: =IF(J21=" ",0,IF(OR(I21=1,I21=4,I21=7),2,IF(OR(I21=2,I21=5,I21=8),6,IF(OR(I21=3,I21=6,I21=9),18)))) -> 0 | M21: =IF(H21=" ",0,IF(H21="W",(L20/2)*3,0)) -> 0 | N21: =N20-L21+M21 -> 1 | O21: =IF($G$9="D",IF(AND(E20<>0,E21<>0,E21=E20,R20=" "),"T"," "),IF(AND(E20<>0,E21<>0,E21=E20),"T"," ")) | P21: =IF(R20=" "," ",IF(OR(E21=E20,E21=E19),"W","L")) -> W | Q21: =IF(P21="W",1,IF(P21="L",Q20+1,Q20)) -> 1 | R21: =IF(AND(O20="T",E21<>E20,E21<>0),CONCATENATE(E20," & ",E21)," ") | T21: =IF(R21=" ",0,IF(OR(Q21=1,Q21=4,Q21=7),2,IF(OR(Q21=2,Q21=5,Q21=8),6,IF(OR(Q21=3,Q21=6,Q21=9),18)))) -> 0 | U21: =IF(P21=" ",0,IF(P21="W",(T20/2)*3,0)) -> 3 | V21: =V20-T21+U21 -> 2 | X21: =IF($G$9="D",IF(AND(D20<>0,D21<>0,D21=D20,AA20=" "),"T"," "),IF(AND(D20<>0,D21<>0,D21=D20),"T"," ")) | Y21: =IF(AA20=" "," ",IF(OR(D21=VALUE(MID(AA20,1,1)),D21=VALUE(MID(AA20,5,1))),"W","L")) | Z21: =IF(Y21="W",1,IF(Y21="L",Z20+1,Z20)) -> 1 | AA21: =IF(Y21="L",AA20,IF(AND(X20="T",D21<>D20,D21<>0),CONCATENATE(D20," & ",D21)," ")) | AC21: =IF(AA21=" ",0,IF(OR(Z21=1,Z21=4,Z21=7),2,IF(OR(Z21=2,Z21=5,Z21=8),6,IF(OR(Z21=3,Z21=6,Z21=9),18)))) -> 0 | AD21: =IF(Y21=" ",0,IF(Y21="W",(AC20/2)*3,0)) -> 0 | AE21: =AE20-AC21+AD21 -> 1 | AF21: =IF($G$9="D",IF(AND(E20<>0,E21<>0,E21=E20,AI20=" "),"T"," "),IF(AND(E20<>0,E21<>0,E21=E20),"T"," ")) | AG21: =IF(AI20=" "," ",IF(OR(E21=MID(AI20,1,1),E21=MID(AI20,5,1)),"W","L")) -> W | AH21: =IF(AG21="W",1,IF(AG21="L",AH20+1,AH20)) -> 1 | AI21: =IF(AG21="L",AI20,IF(AND(AF20="T",E21<>E20,E21<>0),CONCATENATE(E20," & ",E21)," ")) | AK21: =IF(AI21=" ",0,IF(OR(AH21=1,AH21=4,AH21=7),2,IF(OR(AH21=2,AH21=5,AH21=8),6,IF(OR(AH21=3,AH21=6,AH21=9),18)))) -> 0 | AL21: =IF(AG21=" ",0,IF(AG21="W",(AK20/2)*3,0)) -> 3 | AM21: =AM20-AK21+AL21 -> 2
A22: =A21+1 -> 12 | B22: =Data!B22 -> 32 | D22: =IF($B22=0,0,IF(AND($B22>0,$B22<13),1,IF(AND($B22>12,$B22<25),2,3))) -> 3 | E22: =IF(B22=0,0,IF(MOD(B22,3)=1,"A",IF(MOD(B22,3),"B","C"))) -> B | G22: =IF($G$9="D",IF(AND(D21<>0,D22<>0,D22=D21,J21=" "),"T"," "),IF(AND(D21<>0,D22<>0,D22=D21),"T"," ")) | H22: =IF(J21=" "," ",IF(OR(D22=D21,D22=D20),"W","L")) | I22: =IF(H22="W",1,IF(H22="L",I21+1,I21)) -> 1 | J22: =IF(AND(G21="T",D22<>D21,D22<>0),CONCATENATE(D21," & ",D22)," ") | L22: =IF(J22=" ",0,IF(OR(I22=1,I22=4,I22=7),2,IF(OR(I22=2,I22=5,I22=8),6,IF(OR(I22=3,I22=6,I22=9),18)))) -> 0 | M22: =IF(H22=" ",0,IF(H22="W",(L21/2)*3,0)) -> 0 | N22: =N21-L22+M22 -> 1 | O22: =IF($G$9="D",IF(AND(E21<>0,E22<>0,E22=E21,R21=" "),"T"," "),IF(AND(E21<>0,E22<>0,E22=E21),"T"," ")) | P22: =IF(R21=" "," ",IF(OR(E22=E21,E22=E20),"W","L")) | Q22: =IF(P22="W",1,IF(P22="L",Q21+1,Q21)) -> 1 | R22: =IF(AND(O21="T",E22<>E21,E22<>0),CONCATENATE(E21," & ",E22)," ") | T22: =IF(R22=" ",0,IF(OR(Q22=1,Q22=4,Q22=7),2,IF(OR(Q22=2,Q22=5,Q22=8),6,IF(OR(Q22=3,Q22=6,Q22=9),18)))) -> 0 | U22: =IF(P22=" ",0,IF(P22="W",(T21/2)*3,0)) -> 0 | V22: =V21-T22+U22 -> 2 | X22: =IF($G$9="D",IF(AND(D21<>0,D22<>0,D22=D21,AA21=" "),"T"," "),IF(AND(D21<>0,D22<>0,D22=D21),"T"," ")) | Y22: =IF(AA21=" "," ",IF(OR(D22=VALUE(MID(AA21,1,1)),D22=VALUE(MID(AA21,5,1))),"W","L")) | Z22: =IF(Y22="W",1,IF(Y22="L",Z21+1,Z21)) -> 1 | AA22: =IF(Y22="L",AA21,IF(AND(X21="T",D22<>D21,D22<>0),CONCATENATE(D21," & ",D22)," ")) | AC22: =IF(AA22=" ",0,IF(OR(Z22=1,Z22=4,Z22=7),2,IF(OR(Z22=2,Z22=5,Z22=8),6,IF(OR(Z22=3,Z22=6,Z22=9),18)))) -> 0 | AD22: =IF(Y22=" ",0,IF(Y22="W",(AC21/2)*3,0)) -> 0 | AE22: =AE21-AC22+AD22 -> 1 | AF22: =IF($G$9="D",IF(AND(E21<>0,E22<>0,E22=E21,AI21=" "),"T"," "),IF(AND(E21<>0,E22<>0,E22=E21),"T"," ")) | AG22: =IF(AI21=" "," ",IF(OR(E22=MID(AI21,1,1),E22=MID(AI21,5,1)),"W","L")) | AH22: =IF(AG22="W",1,IF(AG22="L",AH21+1,AH21)) -> 1 | AI22: =IF(AG22="L",AI21,IF(AND(AF21="T",E22<>E21,E22<>0),CONCATENATE(E21," & ",E22)," ")) | AK22: =IF(AI22=" ",0,IF(OR(AH22=1,AH22=4,AH22=7),2,IF(OR(AH22=2,AH22=5,AH22=8),6,IF(OR(AH22=3,AH22=6,AH22=9),18)))) -> 0 | AL22: =IF(AG22=" ",0,IF(AG22="W",(AK21/2)*3,0)) -> 0 | AM22: =AM21-AK22+AL22 -> 2
A23: =A22+1 -> 13 | B23: =Data!B23 -> 19 | D23: =IF($B23=0,0,IF(AND($B23>0,$B23<13),1,IF(AND($B23>12,$B23<25),2,3))) -> 2 | E23: =IF(B23=0,0,IF(MOD(B23,3)=1,"A",IF(MOD(B23,3),"B","C"))) -> A | G23: =IF($G$9="D",IF(AND(D22<>0,D23<>0,D23=D22,J22=" "),"T"," "),IF(AND(D22<>0,D23<>0,D23=D22),"T"," ")) | H23: =IF(J22=" "," ",IF(OR(D23=D22,D23=D21),"W","L")) | I23: =IF(H23="W",1,IF(H23="L",I22+1,I22)) -> 1 | J23: =IF(AND(G22="T",D23<>D22,D23<>0),CONCATENATE(D22," & ",D23)," ") | L23: =IF(J23=" ",0,IF(OR(I23=1,I23=4,I23=7),2,IF(OR(I23=2,I23=5,I23=8),6,IF(OR(I23=3,I23=6,I23=9),18)))) -> 0 | M23: =IF(H23=" ",0,IF(H23="W",(L22/2)*3,0)) -> 0 | N23: =N22-L23+M23 -> 1 | O23: =IF($G$9="D",IF(AND(E22<>0,E23<>0,E23=E22,R22=" "),"T"," "),IF(AND(E22<>0,E23<>0,E23=E22),"T"," ")) | P23: =IF(R22=" "," ",IF(OR(E23=E22,E23=E21),"W","L")) | Q23: =IF(P23="W",1,IF(P23="L",Q22+1,Q22)) -> 1 | R23: =IF(AND(O22="T",E23<>E22,E23<>0),CONCATENATE(E22," & ",E23)," ") | T23: =IF(R23=" ",0,IF(OR(Q23=1,Q23=4,Q23=7),2,IF(OR(Q23=2,Q23=5,Q23=8),6,IF(OR(Q23=3,Q23=6,Q23=9),18)))) -> 0 | U23: =IF(P23=" ",0,IF(P23="W",(T22/2)*3,0)) -> 0 | V23: =V22-T23+U23 -> 2 | X23: =IF($G$9="D",IF(AND(D22<>0,D23<>0,D23=D22,AA22=" "),"T"," "),IF(AND(D22<>0,D23<>0,D23=D22),"T"," ")) | Y23: =IF(AA22=" "," ",IF(OR(D23=VALUE(MID(AA22,1,1)),D23=VALUE(MID(AA22,5,1))),"W","L")) | Z23: =IF(Y23="W",1,IF(Y23="L",Z22+1,Z22)) -> 1 | AA23: =IF(Y23="L",AA22,IF(AND(X22="T",D23<>D22,D23<>0),CONCATENATE(D22," & ",D23)," ")) | AC23: =IF(AA23=" ",0,IF(OR(Z23=1,Z23=4,Z23=7),2,IF(OR(Z23=2,Z23=5,Z23=8),6,IF(OR(Z23=3,Z23=6,Z23=9),18)))) -> 0 | AD23: =IF(Y23=" ",0,IF(Y23="W",(AC22/2)*3,0)) -> 0 | AE23: =AE22-AC23+AD23 -> 1 | AF23: =IF($G$9="D",IF(AND(E22<>0,E23<>0,E23=E22,AI22=" "),"T"," "),IF(AND(E22<>0,E23<>0,E23=E22),"T"," ")) | AG23: =IF(AI22=" "," ",IF(OR(E23=MID(AI22,1,1),E23=MID(AI22,5,1)),"W","L")) | AH23: =IF(AG23="W",1,IF(AG23="L",AH22+1,AH22)) -> 1 | AI23: =IF(AG23="L",AI22,IF(AND(AF22="T",E23<>E22,E23<>0),CONCATENATE(E22," & ",E23)," ")) | AK23: =IF(AI23=" ",0,IF(OR(AH23=1,AH23=4,AH23=7),2,IF(OR(AH23=2,AH23=5,AH23=8),6,IF(OR(AH23=3,AH23=6,AH23=9),18)))) -> 0 | AL23: =IF(AG23=" ",0,IF(AG23="W",(AK22/2)*3,0)) -> 0 | AM23: =AM22-AK23+AL23 -> 2
A24: =A23+1 -> 14 | B24: =Data!B24 -> 22 | D24: =IF($B24=0,0,IF(AND($B24>0,$B24<13),1,IF(AND($B24>12,$B24<25),2,3))) -> 2 | E24: =IF(B24=0,0,IF(MOD(B24,3)=1,"A",IF(MOD(B24,3),"B","C"))) -> A | G24: =IF($G$9="D",IF(AND(D23<>0,D24<>0,D24=D23,J23=" "),"T"," "),IF(AND(D23<>0,D24<>0,D24=D23),"T"," ")) -> T | H24: =IF(J23=" "," ",IF(OR(D24=D23,D24=D22),"W","L")) | I24: =IF(H24="W",1,IF(H24="L",I23+1,I23)) -> 1 | J24: =IF(AND(G23="T",D24<>D23,D24<>0),CONCATENATE(D23," & ",D24)," ") | L24: =IF(J24=" ",0,IF(OR(I24=1,I24=4,I24=7),2,IF(OR(I24=2,I24=5,I24=8),6,IF(OR(I24=3,I24=6,I24=9),18)))) -> 0 | M24: =IF(H24=" ",0,IF(H24="W",(L23/2)*3,0)) -> 0 | N24: =N23-L24+M24 -> 1 | O24: =IF($G$9="D",IF(AND(E23<>0,E24<>0,E24=E23,R23=" "),"T"," "),IF(AND(E23<>0,E24<>0,E24=E23),"T"," ")) -> T | P24: =IF(R23=" "," ",IF(OR(E24=E23,E24=E22),"W","L")) | Q24: =IF(P24="W",1,IF(P24="L",Q23+1,Q23)) -> 1 | R24: =IF(AND(O23="T",E24<>E23,E24<>0),CONCATENATE(E23," & ",E24)," ") | T24: =IF(R24=" ",0,IF(OR(Q24=1,Q24=4,Q24=7),2,IF(OR(Q24=2,Q24=5,Q24=8),6,IF(OR(Q24=3,Q24=6,Q24=9),18)))) -> 0 | U24: =IF(P24=" ",0,IF(P24="W",(T23/2)*3,0)) -> 0 | V24: =V23-T24+U24 -> 2 | X24: =IF($G$9="D",IF(AND(D23<>0,D24<>0,D24=D23,AA23=" "),"T"," "),IF(AND(D23<>0,D24<>0,D24=D23),"T"," ")) -> T | Y24: =IF(AA23=" "," ",IF(OR(D24=VALUE(MID(AA23,1,1)),D24=VALUE(MID(AA23,5,1))),"W","L")) | Z24: =IF(Y24="W",1,IF(Y24="L",Z23+1,Z23)) -> 1 | AA24: =IF(Y24="L",AA23,IF(AND(X23="T",D24<>D23,D24<>0),CONCATENATE(D23," & ",D24)," ")) | AC24: =IF(AA24=" ",0,IF(OR(Z24=1,Z24=4,Z24=7),2,IF(OR(Z24=2,Z24=5,Z24=8),6,IF(OR(Z24=3,Z24=6,Z24=9),18)))) -> 0 | AD24: =IF(Y24=" ",0,IF(Y24="W",(AC23/2)*3,0)) -> 0 | AE24: =AE23-AC24+AD24 -> 1 | AF24: =IF($G$9="D",IF(AND(E23<>0,E24<>0,E24=E23,AI23=" "),"T"," "),IF(AND(E23<>0,E24<>0,E24=E23),"T"," ")) -> T | AG24: =IF(AI23=" "," ",IF(OR(E24=MID(AI23,1,1),E24=MID(AI23,5,1)),"W","L")) | AH24: =IF(AG24="W",1,IF(AG24="L",AH23+1,AH23)) -> 1 | AI24: =IF(AG24="L",AI23,IF(AND(AF23="T",E24<>E23,E24<>0),CONCATENATE(E23," & ",E24)," ")) | AK24: =IF(AI24=" ",0,IF(OR(AH24=1,AH24=4,AH24=7),2,IF(OR(AH24=2,AH24=5,AH24=8),6,IF(OR(AH24=3,AH24=6,AH24=9),18)))) -> 0 | AL24: =IF(AG24=" ",0,IF(AG24="W",(AK23/2)*3,0)) -> 0 | AM24: =AM23-AK24+AL24 -> 2
A25: =A24+1 -> 15 | B25: =Data!B25 -> 10 | D25: =IF($B25=0,0,IF(AND($B25>0,$B25<13),1,IF(AND($B25>12,$B25<25),2,3))) -> 1 | E25: =IF(B25=0,0,IF(MOD(B25,3)=1,"A",IF(MOD(B25,3),"B","C"))) -> A | G25: =IF($G$9="D",IF(AND(D24<>0,D25<>0,D25=D24,J24=" "),"T"," "),IF(AND(D24<>0,D25<>0,D25=D24),"T"," ")) | H25: =IF(J24=" "," ",IF(OR(D25=D24,D25=D23),"W","L")) | I25: =IF(H25="W",1,IF(H25="L",I24+1,I24)) -> 1 | J25: =IF(AND(G24="T",D25<>D24,D25<>0),CONCATENATE(D24," & ",D25)," ") -> 2 & 1 | L25: =IF(J25=" ",0,IF(OR(I25=1,I25=4,I25=7),2,IF(OR(I25=2,I25=5,I25=8),6,IF(OR(I25=3,I25=6,I25=9),18)))) -> 2 | M25: =IF(H25=" ",0,IF(H25="W",(L24/2)*3,0)) -> 0 | N25: =N24-L25+M25 -> -1 | O25: =IF($G$9="D",IF(AND(E24<>0,E25<>0,E25=E24,R24=" "),"T"," "),IF(AND(E24<>0,E25<>0,E25=E24),"T"," ")) -> T | P25: =IF(R24=" "," ",IF(OR(E25=E24,E25=E23),"W","L")) | Q25: =IF(P25="W",1,IF(P25="L",Q24+1,Q24)) -> 1 | R25: =IF(AND(O24="T",E25<>E24,E25<>0),CONCATENATE(E24," & ",E25)," ") | T25: =IF(R25=" ",0,IF(OR(Q25=1,Q25=4,Q25=7),2,IF(OR(Q25=2,Q25=5,Q25=8),6,IF(OR(Q25=3,Q25=6,Q25=9),18)))) -> 0 | U25: =IF(P25=" ",0,IF(P25="W",(T24/2)*3,0)) -> 0 | V25: =V24-T25+U25 -> 2 | X25: =IF($G$9="D",IF(AND(D24<>0,D25<>0,D25=D24,AA24=" "),"T"," "),IF(AND(D24<>0,D25<>0,D25=D24),"T"," ")) | Y25: =IF(AA24=" "," ",IF(OR(D25=VALUE(MID(AA24,1,1)),D25=VALUE(MID(AA24,5,1))),"W","L")) | Z25: =IF(Y25="W",1,IF(Y25="L",Z24+1,Z24)) -> 1 | AA25: =IF(Y25="L",AA24,IF(AND(X24="T",D25<>D24,D25<>0),CONCATENATE(D24," & ",D25)," ")) -> 2 & 1 | AC25: =IF(AA25=" ",0,IF(OR(Z25=1,Z25=4,Z25=7),2,IF(OR(Z25=2,Z25=5,Z25=8),6,IF(OR(Z25=3,Z25=6,Z25=9),18)))) -> 2 | AD25: =IF(Y25=" ",0,IF(Y25="W",(AC24/2)*3,0)) -> 0 | AE25: =AE24-AC25+AD25 -> -1 | AF25: =IF($G$9="D",IF(AND(E24<>0,E25<>0,E25=E24,AI24=" "),"T"," "),IF(AND(E24<>0,E25<>0,E25=E24),"T"," ")) -> T | AG25: =IF(AI24=" "," ",IF(OR(E25=MID(AI24,1,1),E25=MID(AI24,5,1)),"W","L")) | AH25: =IF(AG25="W",1,IF(AG25="L",AH24+1,AH24)) -> 1 | AI25: =IF(AG25="L",AI24,IF(AND(AF24="T",E25<>E24,E25<>0),CONCATENATE(E24," & ",E25)," ")) | AK25: =IF(AI25=" ",0,IF(OR(AH25=1,AH25=4,AH25=7),2,IF(OR(AH25=2,AH25=5,AH25=8),6,IF(OR(AH25=3,AH25=6,AH25=9),18)))) -> 0 | AL25: =IF(AG25=" ",0,IF(AG25="W",(AK24/2)*3,0)) -> 0 | AM25: =AM24-AK25+AL25 -> 2
... A510: =A509+1 -> 500 | B510: =Data!B510 -> 21 | D510: =IF($B510=0,0,IF(AND($B510>0,$B510<13),1,IF(AND($B510>12,$B510<25),2,3))) -> 2 | E510: =IF(B510=0,0,IF(MOD(B510,3)=1,"A",IF(MOD(B510,3),"B","C"))) -> C | G510: =IF($G$9="D",IF(AND(D509<>0,D510<>0,D510=D509,J509=" "),"T"," "),IF(AND(D509<>0,D510<>0,D510=D509),"T"," ")) -> T | H510: =IF(J509=" "," ",IF(OR(D510=D509,D510=D508),"W","L")) | I510: =IF(H510="W",1,IF(H510="L",I509+1,I509)) -> 2 | J510: =IF(AND(G509="T",D510<>D509,D510<>0),CONCATENATE(D509," & ",D510)," ") | L510: =IF(J510=" ",0,IF(OR(I510=1,I510=4,I510=7),2,IF(OR(I510=2,I510=5,I510=8),6,IF(OR(I510=3,I510=6,I510=9),18)))) -> 0 | M510: =IF(H510=" ",0,IF(H510="W",(L509/2)*3,0)) -> 0 | N510: =N509-L510+M510 -> -86 | O510: =IF($G$9="D",IF(AND(E509<>0,E510<>0,E510=E509,R509=" "),"T"," "),IF(AND(E509<>0,E510<>0,E510=E509),"T"," ")) | P510: =IF(R509=" "," ",IF(OR(E510=E509,E510=E508),"W","L")) | Q510: =IF(P510="W",1,IF(P510="L",Q509+1,Q509)) -> 1 | R510: =IF(AND(O509="T",E510<>E509,E510<>0),CONCATENATE(E509," & ",E510)," ") | T510: =IF(R510=" ",0,IF(OR(Q510=1,Q510=4,Q510=7),2,IF(OR(Q510=2,Q510=5,Q510=8),6,IF(OR(Q510=3,Q510=6,Q510=9),18)))) -> 0 | U510: =IF(P510=" ",0,IF(P510="W",(T509/2)*3,0)) -> 0 | V510: =V509-T510+U510 -> -21 | X510: =IF($G$9="D",IF(AND(D509<>0,D510<>0,D510=D509,AA509=" "),"T"," "),IF(AND(D509<>0,D510<>0,D510=D509),"T"," ")) -> T | Y510: =IF(AA509=" "," ",IF(OR(D510=VALUE(MID(AA509,1,1)),D510=VALUE(MID(AA509,5,1))),"W","L")) | Z510: =IF(Y510="W",1,IF(Y510="L",Z509+1,Z509)) -> 1 | AA510: =IF(Y510="L",AA509,IF(AND(X509="T",D510<>D509,D510<>0),CONCATENATE(D509," & ",D510)," ")) | AC510: =IF(AA510=" ",0,IF(OR(Z510=1,Z510=4,Z510=7),2,IF(OR(Z510=2,Z510=5,Z510=8),6,IF(OR(Z510=3,Z510=6,Z510=9),18)))) -> 0 | AD510: =IF(Y510=" ",0,IF(Y510="W",(AC509/2)*3,0)) -> 0 | AE510: =AE509-AC510+AD510 -> -32 | AF510: =IF($G$9="D",IF(AND(E509<>0,E510<>0,E510=E509,AI509=" "),"T"," "),IF(AND(E509<>0,E510<>0,E510=E509),"T"," ")) | AG510: =IF(AI509=" "," ",IF(OR(E510=MID(AI509,1,1),E510=MID(AI509,5,1)),"W","L")) -> W | AH510: =IF(AG510="W",1,IF(AG510="L",AH509+1,AH509)) -> 1 | AI510: =IF(AG510="L",AI509,IF(AND(AF509="T",E510<>E509,E510<>0),CONCATENATE(E509," & ",E510)," ")) | AK510: =IF(AI510=" ",0,IF(OR(AH510=1,AH510=4,AH510=7),2,IF(OR(AH510=2,AH510=5,AH510=8),6,IF(OR(AH510=3,AH510=6,AH510=9),18)))) -> 0 | AL510: =IF(AG510=" ",0,IF(AG510="W",(AK509/2)*3,0)) -> 9 | AM510: =AM509-AK510+AL510 -> -78
G512: =COUNTIF(H11:H510,"W") -> 46 | H512: =COUNTIF(H11:H510,"L") -> 35 | I512: =MAX(I11:I510) -> 8 | L512: =MAX(N11:N510) -> 2 | M512: =MIN(N11:N510) -> -93 | O512: =COUNTIF(P11:P510,"W") -> 57 | P512: =COUNTIF(P11:P510,"L") -> 29 | Q512: =MAX(Q11:Q510) -> 4 | T512: =MAX(V11:V510) -> 17 | U512: =MIN(V11:V510) -> -52 | X512: =COUNTIF(Y11:Y510,"W") -> 72 | Y512: =COUNTIF(Y11:Y510,"L") -> 47 | Z512: =MAX(Z11:Z510) -> 7 | AC512: =MAX(AE11:AE510) -> 53 | AD512: =MIN(AE11:AE510) -> -61 | AF512: =COUNTIF(AG11:AG510,"W") -> 78 | AG512: =COUNTIF(AG11:AG510,"L") -> 46 | AH512: =MAX(AH11:AH510) -> 5 | AK512: =MAX(AM11:AM510) -> 32 | AL512: =MIN(AM11:AM510) -> -87

Sheet Clyde-1
G5: Normal Progression : 1,2,3,4,6,9,13,… Stop After 6 losses
G6: Tweak Progression : 1,1,1,2,2,2,3,3,3,4,4,4,5,5,5 : Up 1 step if loss, down 2 step if win
W8: Dozen Tweak Betting
G9: Dozen Betting : Normal Prog | O9: Column Betting : Normal Prog. | W9: 12 | X9: <= | Y9: No of cons. Lost before stop | AF9: Normal | AH9: Tweak
A10: SPINS | B10: NR | D10: Dz | E10: Co | G10: Tr | H10: Res | I10: Doz | J10: ST | K10: Bet | L10: Win | M10: B/R | O10: Tr | P10: Res | Q10: Col | R10: ST | S10: Bet | T10: Win | U10: B/R | W10: Tr | X10: Res | Y10: Doz | Z10: RL | AA10: ST | AB10: Bet | AC10: Win | AD10: B/R | AF10: No. | AG10: Prog. | AH10: No. | AI10: Prog
A11: 1 | B11: =Data!B11 -> 4 | D11: =IF($B11=0,0,IF(AND($B11>0,$B11<13),1,IF(AND($B11>12,$B11<25),2,3))) -> 1 | E11: =IF(B11=0,0,IF(MOD(B11,3)=1,"A",IF(MOD(B11,3),"B","C"))) -> A | M11: 0 | U11: 0 | AD11: 0 | AF11: 1 | AG11: 1 | AH11: 1 | AI11: 1
A12: =A11+1 -> 2 | B12: =Data!B12 -> 7 | D12: =IF($B12=0,0,IF(AND($B12>0,$B12<13),1,IF(AND($B12>12,$B12<25),2,3))) -> 1 | E12: =IF(B12=0,0,IF(MOD(B12,3)=1,"A",IF(MOD(B12,3),"B","C"))) -> A | G12: =IF(AND(D11<>0,D12<>0,D12=D11,H11=" "),"T"," ") | J12: =IF(I12=" ",0,J11+1) -> 0 | K12: =IF(J12=0,0,INDEX($AF$11:$AG$50,J12,2)) -> 0 | L12: =IF(OR(H12=" ",H12="L"),0,K11*3) -> 0 | M12: =M11-K12+L12 -> 0 | O12: =IF(AND(E11<>0,E12<>0,E12=E11,P11=" "),"T"," ") | R12: =IF(Q12=" ",0,R11+1) -> 0 | S12: =IF(R12=0,0,INDEX($AF$11:$AG$50,R12,2)) -> 0 | T12: =IF(OR(P12=" ",P12="L"),0,S11*3) -> 0 | U12: =U11-S12+T12 -> 0 | W12: =IF(AND(D11<>0,D12<>0,D12=D11,H11=" "),"T"," ") | Z12: =IF(AND(X12="L",Z11=" "),1,IF(X12="L",Z11+1,0)) -> 0 | AA12: =IF(AND($W$9>0,$W$9 <28,Z12<$W$9),IF(X12="L",AA11+1,IF(AND(X12="W",AA11>2),AA11-2,IF(AND(X12="W",AA11<=2,),1,AA11))),AA11) -> 0 | AB12: =IF(OR(Y12=" ",Z12>$W$9),0,INDEX($AH$11:$AI$50,AA12,2)) -> 0 | AC12: =IF(OR(X12=" ",X12="L"),0,AB11*3) -> 0 | AD12: =AD11-AB12+AC12 -> 0 | AF12: 2 | AG12: 2 | AH12: 2 | AI12: 1
A13: =A12+1 -> 3 | B13: =Data!B13 -> 3 | D13: =IF($B13=0,0,IF(AND($B13>0,$B13<13),1,IF(AND($B13>12,$B13<25),2,3))) -> 1 | E13: =IF(B13=0,0,IF(MOD(B13,3)=1,"A",IF(MOD(B13,3),"B","C"))) -> C | G13: =IF(AND(D12<>0,D13<>0,D13=D12,H12=" "),"T"," ") | H13: =IF(I12=" "," ",IF(D13=I12,"W","L")) | I13: =IF(AND(G13="T",H13=" "),D13,IF(AND(G13=" ",H13="L"),D13," ")) | J13: =IF(I13=" ",0,J12+1) -> 0 | K13: =IF(J13=0,0,INDEX($AF$11:$AG$50,J13,2)) -> 0 | L13: =IF(OR(H13=" ",H13="L"),0,K12*3) -> 0 | M13: =M12-K13+L13 -> 0 | O13: =IF(AND(E12<>0,E13<>0,E13=E12,P12=" "),"T"," ") | P13: =IF(Q12=" "," ",IF(E13=Q12,"W","L")) | Q13: =IF(AND(O13="T",P13=" "),E13,IF(AND(O13=" ",P13="L"),E13," ")) | R13: =IF(Q13=" ",0,R12+1) -> 0 | S13: =IF(R13=0,0,INDEX($AF$11:$AG$50,R13,2)) -> 0 | T13: =IF(OR(P13=" ",P13="L"),0,S12*3) -> 0 | U13: =U12-S13+T13 -> 0 | W13: =IF(AND(D12<>0,D13<>0,D13=D12,H12=" "),"T"," ") | X13: =IF(Y12=" "," ",IF(D13=Y12,"W","L")) | Y13: =IF(AND(W13="T",X13=" "),D13,IF(AND(W13=" ",X13="L"),D13," ")) | Z13: =IF(AND(X13="L",Z12=" "),1,IF(X13="L",Z12+1,0)) -> 0 | AA13: =IF(AND($W$9>0,$W$9 <28,Z13<$W$9),IF(X13="L",AA12+1,IF(AND(X13="W",AA12>2),AA12-2,IF(AND(X13="W",AA12<=2,),1,AA12))),AA12) -> 0 | AB13: =IF(OR(Y13=" ",Z13>$W$9),0,INDEX($AH$11:$AI$50,AA13,2)) -> 0 | AC13: =IF(OR(X13=" ",X13="L"),0,AB12*3) -> 0 | AD13: =AD12-AB13+AC13 -> 0 | AF13: 3 | AG13: 3 | AH13: 3 | AI13: 1
A14: =A13+1 -> 4 | B14: =Data!B14 -> 24 | D14: =IF($B14=0,0,IF(AND($B14>0,$B14<13),1,IF(AND($B14>12,$B14<25),2,3))) -> 2 | E14: =IF(B14=0,0,IF(MOD(B14,3)=1,"A",IF(MOD(B14,3),"B","C"))) -> C | G14: =IF(AND(D13<>0,D14<>0,D14=D13,H13=" "),"T"," ") | H14: =IF(I13=" "," ",IF(D14=I13,"W","L")) | I14: =IF(AND(G14="T",H14=" "),D14,IF(AND(G14=" ",H14="L"),D14," ")) | J14: =IF(I14=" ",0,J13+1) -> 0 | K14: =IF(J14=0,0,INDEX($AF$11:$AG$50,J14,2)) -> 0 | L14: =IF(OR(H14=" ",H14="L"),0,K13*3) -> 0 | M14: =M13-K14+L14 -> 0 | O14: =IF(AND(E13<>0,E14<>0,E14=E13,P13=" "),"T"," ") -> T | P14: =IF(Q13=" "," ",IF(E14=Q13,"W","L")) | Q14: =IF(AND(O14="T",P14=" "),E14,IF(AND(O14=" ",P14="L"),E14," ")) -> C | R14: =IF(Q14=" ",0,R13+1) -> 1 | S14: =IF(R14=0,0,INDEX($AF$11:$AG$50,R14,2)) -> 1 | T14: =IF(OR(P14=" ",P14="L"),0,S13*3) -> 0 | U14: =U13-S14+T14 -> -1 | W14: =IF(AND(D13<>0,D14<>0,D14=D13,H13=" "),"T"," ") | X14: =IF(Y13=" "," ",IF(D14=Y13,"W","L")) | Y14: =IF(AND(W14="T",X14=" "),D14,IF(AND(W14=" ",X14="L"),D14," ")) | Z14: =IF(AND(X14="L",Z13=" "),1,IF(X14="L",Z13+1,0)) -> 0 | AA14: =IF(AND($W$9>0,$W$9 <28,Z14<$W$9),IF(X14="L",AA13+1,IF(AND(X14="W",AA13>2),AA13-2,IF(AND(X14="W",AA13<=2,),1,AA13))),AA13) -> 0 | AB14: =IF(OR(Y14=" ",Z14>$W$9),0,INDEX($AH$11:$AI$50,AA14,2)) -> 0 | AC14: =IF(OR(X14=" ",X14="L"),0,AB13*3) -> 0 | AD14: =AD13-AB14+AC14 -> 0 | AF14: 4 | AG14: 4 | AH14: 4 | AI14: 2
A15: =A14+1 -> 5 | B15: =Data!B15 -> 10 | D15: =IF($B15=0,0,IF(AND($B15>0,$B15<13),1,IF(AND($B15>12,$B15<25),2,3))) -> 1 | E15: =IF(B15=0,0,IF(MOD(B15,3)=1,"A",IF(MOD(B15,3),"B","C"))) -> A | G15: =IF(AND(D14<>0,D15<>0,D15=D14,H14=" "),"T"," ") | H15: =IF(I14=" "," ",IF(D15=I14,"W","L")) | I15: =IF(AND(G15="T",H15=" "),D15,IF(AND(G15=" ",H15="L"),D15," ")) | J15: =IF(I15=" ",0,J14+1) -> 0 | K15: =IF(J15=0,0,INDEX($AF$11:$AG$50,J15,2)) -> 0 | L15: =IF(OR(H15=" ",H15="L"),0,K14*3) -> 0 | M15: =M14-K15+L15 -> 0 | O15: =IF(AND(E14<>0,E15<>0,E15=E14,P14=" "),"T"," ") | P15: =IF(Q14=" "," ",IF(E15=Q14,"W","L")) -> L | Q15: =IF(AND(O15="T",P15=" "),E15,IF(AND(O15=" ",P15="L"),E15," ")) -> A | R15: =IF(Q15=" ",0,R14+1) -> 2 | S15: =IF(R15=0,0,INDEX($AF$11:$AG$50,R15,2)) -> 2 | T15: =IF(OR(P15=" ",P15="L"),0,S14*3) -> 0 | U15: =U14-S15+T15 -> -3 | W15: =IF(AND(D14<>0,D15<>0,D15=D14,H14=" "),"T"," ") | X15: =IF(Y14=" "," ",IF(D15=Y14,"W","L")) | Y15: =IF(AND(W15="T",X15=" "),D15,IF(AND(W15=" ",X15="L"),D15," ")) | Z15: =IF(AND(X15="L",Z14=" "),1,IF(X15="L",Z14+1,0)) -> 0 | AA15: =IF(AND($W$9>0,$W$9 <28,Z15<$W$9),IF(X15="L",AA14+1,IF(AND(X15="W",AA14>2),AA14-2,IF(AND(X15="W",AA14<=2,),1,AA14))),AA14) -> 0 | AB15: =IF(OR(Y15=" ",Z15>$W$9),0,INDEX($AH$11:$AI$50,AA15,2)) -> 0 | AC15: =IF(OR(X15=" ",X15="L"),0,AB14*3) -> 0 | AD15: =AD14-AB15+AC15 -> 0 | AF15: 5 | AG15: 6 | AH15: 5 | AI15: 2
A16: =A15+1 -> 6 | B16: =Data!B16 -> 34 | D16: =IF($B16=0,0,IF(AND($B16>0,$B16<13),1,IF(AND($B16>12,$B16<25),2,3))) -> 3 | E16: =IF(B16=0,0,IF(MOD(B16,3)=1,"A",IF(MOD(B16,3),"B","C"))) -> A | G16: =IF(AND(D15<>0,D16<>0,D16=D15,H15=" "),"T"," ") | H16: =IF(I15=" "," ",IF(D16=I15,"W","L")) | I16: =IF(AND(G16="T",H16=" "),D16,IF(AND(G16=" ",H16="L"),D16," ")) | J16: =IF(I16=" ",0,J15+1) -> 0 | K16: =IF(J16=0,0,INDEX($AF$11:$AG$50,J16,2)) -> 0 | L16: =IF(OR(H16=" ",H16="L"),0,K15*3) -> 0 | M16: =M15-K16+L16 -> 0 | O16: =IF(AND(E15<>0,E16<>0,E16=E15,P15=" "),"T"," ") | P16: =IF(Q15=" "," ",IF(E16=Q15,"W","L")) -> W | Q16: =IF(AND(O16="T",P16=" "),E16,IF(AND(O16=" ",P16="L"),E16," ")) | R16: =IF(Q16=" ",0,R15+1) -> 0 | S16: =IF(R16=0,0,INDEX($AF$11:$AG$50,R16,2)) -> 0 | T16: =IF(OR(P16=" ",P16="L"),0,S15*3) -> 6 | U16: =U15-S16+T16 -> 3 | W16: =IF(AND(D15<>0,D16<>0,D16=D15,H15=" "),"T"," ") | X16: =IF(Y15=" "," ",IF(D16=Y15,"W","L")) | Y16: =IF(AND(W16="T",X16=" "),D16,IF(AND(W16=" ",X16="L"),D16," ")) | Z16: =IF(AND(X16="L",Z15=" "),1,IF(X16="L",Z15+1,0)) -> 0 | AA16: =IF(AND($W$9>0,$W$9 <28,Z16<$W$9),IF(X16="L",AA15+1,IF(AND(X16="W",AA15>2),AA15-2,IF(AND(X16="W",AA15<=2,),1,AA15))),AA15) -> 0 | AB16: =IF(OR(Y16=" ",Z16>$W$9),0,INDEX($AH$11:$AI$50,AA16,2)) -> 0 | AC16: =IF(OR(X16=" ",X16="L"),0,AB15*3) -> 0 | AD16: =AD15-AB16+AC16 -> 0 | AF16: 6 | AG16: 9 | AH16: 6 | AI16: 2
A17: =A16+1 -> 7 | B17: =Data!B17 -> 0 | D17: =IF($B17=0,0,IF(AND($B17>0,$B17<13),1,IF(AND($B17>12,$B17<25),2,3))) -> 0 | E17: =IF(B17=0,0,IF(MOD(B17,3)=1,"A",IF(MOD(B17,3),"B","C"))) -> 0 | G17: =IF(AND(D16<>0,D17<>0,D17=D16,H16=" "),"T"," ") | H17: =IF(I16=" "," ",IF(D17=I16,"W","L")) | I17: =IF(AND(G17="T",H17=" "),D17,IF(AND(G17=" ",H17="L"),D17," ")) | J17: =IF(I17=" ",0,J16+1) -> 0 | K17: =IF(J17=0,0,INDEX($AF$11:$AG$50,J17,2)) -> 0 | L17: =IF(OR(H17=" ",H17="L"),0,K16*3) -> 0 | M17: =M16-K17+L17 -> 0 | O17: =IF(AND(E16<>0,E17<>0,E17=E16,P16=" "),"T"," ") | P17: =IF(Q16=" "," ",IF(E17=Q16,"W","L")) | Q17: =IF(AND(O17="T",P17=" "),E17,IF(AND(O17=" ",P17="L"),E17," ")) | R17: =IF(Q17=" ",0,R16+1) -> 0 | S17: =IF(R17=0,0,INDEX($AF$11:$AG$50,R17,2)) -> 0 | T17: =IF(OR(P17=" ",P17="L"),0,S16*3) -> 0 | U17: =U16-S17+T17 -> 3 | W17: =IF(AND(D16<>0,D17<>0,D17=D16,H16=" "),"T"," ") | X17: =IF(Y16=" "," ",IF(D17=Y16,"W","L")) | Y17: =IF(AND(W17="T",X17=" "),D17,IF(AND(W17=" ",X17="L"),D17," ")) | Z17: =IF(AND(X17="L",Z16=" "),1,IF(X17="L",Z16+1,0)) -> 0 | AA17: =IF(AND($W$9>0,$W$9 <28,Z17<$W$9),IF(X17="L",AA16+1,IF(AND(X17="W",AA16>2),AA16-2,IF(AND(X17="W",AA16<=2,),1,AA16))),AA16) -> 0 | AB17: =IF(OR(Y17=" ",Z17>$W$9),0,INDEX($AH$11:$AI$50,AA17,2)) -> 0 | AC17: =IF(OR(X17=" ",X17="L"),0,AB16*3) -> 0 | AD17: =AD16-AB17+AC17 -> 0 | AF17: 7 | AG17: 0 | AH17: 7 | AI17: 3
A18: =A17+1 -> 8 | B18: =Data!B18 -> 8 | D18: =IF($B18=0,0,IF(AND($B18>0,$B18<13),1,IF(AND($B18>12,$B18<25),2,3))) -> 1 | E18: =IF(B18=0,0,IF(MOD(B18,3)=1,"A",IF(MOD(B18,3),"B","C"))) -> B | G18: =IF(AND(D17<>0,D18<>0,D18=D17,H17=" "),"T"," ") | H18: =IF(I17=" "," ",IF(D18=I17,"W","L")) | I18: =IF(AND(G18="T",H18=" "),D18,IF(AND(G18=" ",H18="L"),D18," ")) | J18: =IF(I18=" ",0,J17+1) -> 0 | K18: =IF(J18=0,0,INDEX($AF$11:$AG$50,J18,2)) -> 0 | L18: =IF(OR(H18=" ",H18="L"),0,K17*3) -> 0 | M18: =M17-K18+L18 -> 0 | O18: =IF(AND(E17<>0,E18<>0,E18=E17,P17=" "),"T"," ") | P18: =IF(Q17=" "," ",IF(E18=Q17,"W","L")) | Q18: =IF(AND(O18="T",P18=" "),E18,IF(AND(O18=" ",P18="L"),E18," ")) | R18: =IF(Q18=" ",0,R17+1) -> 0 | S18: =IF(R18=0,0,INDEX($AF$11:$AG$50,R18,2)) -> 0 | T18: =IF(OR(P18=" ",P18="L"),0,S17*3) -> 0 | U18: =U17-S18+T18 -> 3 | W18: =IF(AND(D17<>0,D18<>0,D18=D17,H17=" "),"T"," ") | X18: =IF(Y17=" "," ",IF(D18=Y17,"W","L")) | Y18: =IF(AND(W18="T",X18=" "),D18,IF(AND(W18=" ",X18="L"),D18," ")) | Z18: =IF(AND(X18="L",Z17=" "),1,IF(X18="L",Z17+1,0)) -> 0 | AA18: =IF(AND($W$9>0,$W$9 <28,Z18<$W$9),IF(X18="L",AA17+1,IF(AND(X18="W",AA17>2),AA17-2,IF(AND(X18="W",AA17<=2,),1,AA17))),AA17) -> 0 | AB18: =IF(OR(Y18=" ",Z18>$W$9),0,INDEX($AH$11:$AI$50,AA18,2)) -> 0 | AC18: =IF(OR(X18=" ",X18="L"),0,AB17*3) -> 0 | AD18: =AD17-AB18+AC18 -> 0 | AF18: 8 | AG18: 0 | AH18: 8 | AI18: 3
A19: =A18+1 -> 9 | B19: =Data!B19 -> 17 | D19: =IF($B19=0,0,IF(AND($B19>0,$B19<13),1,IF(AND($B19>12,$B19<25),2,3))) -> 2 | E19: =IF(B19=0,0,IF(MOD(B19,3)=1,"A",IF(MOD(B19,3),"B","C"))) -> B | G19: =IF(AND(D18<>0,D19<>0,D19=D18,H18=" "),"T"," ") | H19: =IF(I18=" "," ",IF(D19=I18,"W","L")) | I19: =IF(AND(G19="T",H19=" "),D19,IF(AND(G19=" ",H19="L"),D19," ")) | J19: =IF(I19=" ",0,J18+1) -> 0 | K19: =IF(J19=0,0,INDEX($AF$11:$AG$50,J19,2)) -> 0 | L19: =IF(OR(H19=" ",H19="L"),0,K18*3) -> 0 | M19: =M18-K19+L19 -> 0 | O19: =IF(AND(E18<>0,E19<>0,E19=E18,P18=" "),"T"," ") -> T | P19: =IF(Q18=" "," ",IF(E19=Q18,"W","L")) | Q19: =IF(AND(O19="T",P19=" "),E19,IF(AND(O19=" ",P19="L"),E19," ")) -> B | R19: =IF(Q19=" ",0,R18+1) -> 1 | S19: =IF(R19=0,0,INDEX($AF$11:$AG$50,R19,2)) -> 1 | T19: =IF(OR(P19=" ",P19="L"),0,S18*3) -> 0 | U19: =U18-S19+T19 -> 2 | W19: =IF(AND(D18<>0,D19<>0,D19=D18,H18=" "),"T"," ") | X19: =IF(Y18=" "," ",IF(D19=Y18,"W","L")) | Y19: =IF(AND(W19="T",X19=" "),D19,IF(AND(W19=" ",X19="L"),D19," ")) | Z19: =IF(AND(X19="L",Z18=" "),1,IF(X19="L",Z18+1,0)) -> 0 | AA19: =IF(AND($W$9>0,$W$9 <28,Z19<$W$9),IF(X19="L",AA18+1,IF(AND(X19="W",AA18>2),AA18-2,IF(AND(X19="W",AA18<=2,),1,AA18))),AA18) -> 0 | AB19: =IF(OR(Y19=" ",Z19>$W$9),0,INDEX($AH$11:$AI$50,AA19,2)) -> 0 | AC19: =IF(OR(X19=" ",X19="L"),0,AB18*3) -> 0 | AD19: =AD18-AB19+AC19 -> 0 | AF19: 9 | AG19: 0 | AH19: 9 | AI19: 3
A20: =A19+1 -> 10 | B20: =Data!B20 -> 9 | D20: =IF($B20=0,0,IF(AND($B20>0,$B20<13),1,IF(AND($B20>12,$B20<25),2,3))) -> 1 | E20: =IF(B20=0,0,IF(MOD(B20,3)=1,"A",IF(MOD(B20,3),"B","C"))) -> C | G20: =IF(AND(D19<>0,D20<>0,D20=D19,H19=" "),"T"," ") | H20: =IF(I19=" "," ",IF(D20=I19,"W","L")) | I20: =IF(AND(G20="T",H20=" "),D20,IF(AND(G20=" ",H20="L"),D20," ")) | J20: =IF(I20=" ",0,J19+1) -> 0 | K20: =IF(J20=0,0,INDEX($AF$11:$AG$50,J20,2)) -> 0 | L20: =IF(OR(H20=" ",H20="L"),0,K19*3) -> 0 | M20: =M19-K20+L20 -> 0 | O20: =IF(AND(E19<>0,E20<>0,E20=E19,P19=" "),"T"," ") | P20: =IF(Q19=" "," ",IF(E20=Q19,"W","L")) -> L | Q20: =IF(AND(O20="T",P20=" "),E20,IF(AND(O20=" ",P20="L"),E20," ")) -> C | R20: =IF(Q20=" ",0,R19+1) -> 2 | S20: =IF(R20=0,0,INDEX($AF$11:$AG$50,R20,2)) -> 2 | T20: =IF(OR(P20=" ",P20="L"),0,S19*3) -> 0 | U20: =U19-S20+T20 -> 0 | W20: =IF(AND(D19<>0,D20<>0,D20=D19,H19=" "),"T"," ") | X20: =IF(Y19=" "," ",IF(D20=Y19,"W","L")) | Y20: =IF(AND(W20="T",X20=" "),D20,IF(AND(W20=" ",X20="L"),D20," ")) | Z20: =IF(AND(X20="L",Z19=" "),1,IF(X20="L",Z19+1,0)) -> 0 | AA20: =IF(AND($W$9>0,$W$9 <28,Z20<$W$9),IF(X20="L",AA19+1,IF(AND(X20="W",AA19>2),AA19-2,IF(AND(X20="W",AA19<=2,),1,AA19))),AA19) -> 0 | AB20: =IF(OR(Y20=" ",Z20>$W$9),0,INDEX($AH$11:$AI$50,AA20,2)) -> 0 | AC20: =IF(OR(X20=" ",X20="L"),0,AB19*3) -> 0 | AD20: =AD19-AB20+AC20 -> 0 | AF20: 10 | AG20: 0 | AH20: 10 | AI20: 4
A21: =A20+1 -> 11 | B21: =Data!B21 -> 21 | D21: =IF($B21=0,0,IF(AND($B21>0,$B21<13),1,IF(AND($B21>12,$B21<25),2,3))) -> 2 | E21: =IF(B21=0,0,IF(MOD(B21,3)=1,"A",IF(MOD(B21,3),"B","C"))) -> C | G21: =IF(AND(D20<>0,D21<>0,D21=D20,H20=" "),"T"," ") | H21: =IF(I20=" "," ",IF(D21=I20,"W","L")) | I21: =IF(AND(G21="T",H21=" "),D21,IF(AND(G21=" ",H21="L"),D21," ")) | J21: =IF(I21=" ",0,J20+1) -> 0 | K21: =IF(J21=0,0,INDEX($AF$11:$AG$50,J21,2)) -> 0 | L21: =IF(OR(H21=" ",H21="L"),0,K20*3) -> 0 | M21: =M20-K21+L21 -> 0 | O21: =IF(AND(E20<>0,E21<>0,E21=E20,P20=" "),"T"," ") | P21: =IF(Q20=" "," ",IF(E21=Q20,"W","L")) -> W | Q21: =IF(AND(O21="T",P21=" "),E21,IF(AND(O21=" ",P21="L"),E21," ")) | R21: =IF(Q21=" ",0,R20+1) -> 0 | S21: =IF(R21=0,0,INDEX($AF$11:$AG$50,R21,2)) -> 0 | T21: =IF(OR(P21=" ",P21="L"),0,S20*3) -> 6 | U21: =U20-S21+T21 -> 6 | W21: =IF(AND(D20<>0,D21<>0,D21=D20,H20=" "),"T"," ") | X21: =IF(Y20=" "," ",IF(D21=Y20,"W","L")) | Y21: =IF(AND(W21="T",X21=" "),D21,IF(AND(W21=" ",X21="L"),D21," ")) | Z21: =IF(AND(X21="L",Z20=" "),1,IF(X21="L",Z20+1,0)) -> 0 | AA21: =IF(AND($W$9>0,$W$9 <28,Z21<$W$9),IF(X21="L",AA20+1,IF(AND(X21="W",AA20>2),AA20-2,IF(AND(X21="W",AA20<=2,),1,AA20))),AA20) -> 0 | AB21: =IF(OR(Y21=" ",Z21>$W$9),0,INDEX($AH$11:$AI$50,AA21,2)) -> 0 | AC21: =IF(OR(X21=" ",X21="L"),0,AB20*3) -> 0 | AD21: =AD20-AB21+AC21 -> 0 | AF21: 11 | AG21: 0 | AH21: 11 | AI21: 4
A22: =A21+1 -> 12 | B22: =Data!B22 -> 32 | D22: =IF($B22=0,0,IF(AND($B22>0,$B22<13),1,IF(AND($B22>12,$B22<25),2,3))) -> 3 | E22: =IF(B22=0,0,IF(MOD(B22,3)=1,"A",IF(MOD(B22,3),"B","C"))) -> B | G22: =IF(AND(D21<>0,D22<>0,D22=D21,H21=" "),"T"," ") | H22: =IF(I21=" "," ",IF(D22=I21,"W","L")) | I22: =IF(AND(G22="T",H22=" "),D22,IF(AND(G22=" ",H22="L"),D22," ")) | J22: =IF(I22=" ",0,J21+1) -> 0 | K22: =IF(J22=0,0,INDEX($AF$11:$AG$50,J22,2)) -> 0 | L22: =IF(OR(H22=" ",H22="L"),0,K21*3) -> 0 | M22: =M21-K22+L22 -> 0 | O22: =IF(AND(E21<>0,E22<>0,E22=E21,P21=" "),"T"," ") | P22: =IF(Q21=" "," ",IF(E22=Q21,"W","L")) | Q22: =IF(AND(O22="T",P22=" "),E22,IF(AND(O22=" ",P22="L"),E22," ")) | R22: =IF(Q22=" ",0,R21+1) -> 0 | S22: =IF(R22=0,0,INDEX($AF$11:$AG$50,R22,2)) -> 0 | T22: =IF(OR(P22=" ",P22="L"),0,S21*3) -> 0 | U22: =U21-S22+T22 -> 6 | W22: =IF(AND(D21<>0,D22<>0,D22=D21,H21=" "),"T"," ") | X22: =IF(Y21=" "," ",IF(D22=Y21,"W","L")) | Y22: =IF(AND(W22="T",X22=" "),D22,IF(AND(W22=" ",X22="L"),D22," ")) | Z22: =IF(AND(X22="L",Z21=" "),1,IF(X22="L",Z21+1,0)) -> 0 | AA22: =IF(AND($W$9>0,$W$9 <28,Z22<$W$9),IF(X22="L",AA21+1,IF(AND(X22="W",AA21>2),AA21-2,IF(AND(X22="W",AA21<=2,),1,AA21))),AA21) -> 0 | AB22: =IF(OR(Y22=" ",Z22>$W$9),0,INDEX($AH$11:$AI$50,AA22,2)) -> 0 | AC22: =IF(OR(X22=" ",X22="L"),0,AB21*3) -> 0 | AD22: =AD21-AB22+AC22 -> 0 | AF22: 12 | AG22: 0 | AH22: 12 | AI22: 4
A23: =A22+1 -> 13 | B23: =Data!B23 -> 19 | D23: =IF($B23=0,0,IF(AND($B23>0,$B23<13),1,IF(AND($B23>12,$B23<25),2,3))) -> 2 | E23: =IF(B23=0,0,IF(MOD(B23,3)=1,"A",IF(MOD(B23,3),"B","C"))) -> A | G23: =IF(AND(D22<>0,D23<>0,D23=D22,H22=" "),"T"," ") | H23: =IF(I22=" "," ",IF(D23=I22,"W","L")) | I23: =IF(AND(G23="T",H23=" "),D23,IF(AND(G23=" ",H23="L"),D23," ")) | J23: =IF(I23=" ",0,J22+1) -> 0 | K23: =IF(J23=0,0,INDEX($AF$11:$AG$50,J23,2)) -> 0 | L23: =IF(OR(H23=" ",H23="L"),0,K22*3) -> 0 | M23: =M22-K23+L23 -> 0 | O23: =IF(AND(E22<>0,E23<>0,E23=E22,P22=" "),"T"," ") | P23: =IF(Q22=" "," ",IF(E23=Q22,"W","L")) | Q23: =IF(AND(O23="T",P23=" "),E23,IF(AND(O23=" ",P23="L"),E23," ")) | R23: =IF(Q23=" ",0,R22+1) -> 0 | S23: =IF(R23=0,0,INDEX($AF$11:$AG$50,R23,2)) -> 0 | T23: =IF(OR(P23=" ",P23="L"),0,S22*3) -> 0 | U23: =U22-S23+T23 -> 6 | W23: =IF(AND(D22<>0,D23<>0,D23=D22,H22=" "),"T"," ") | X23: =IF(Y22=" "," ",IF(D23=Y22,"W","L")) | Y23: =IF(AND(W23="T",X23=" "),D23,IF(AND(W23=" ",X23="L"),D23," ")) | Z23: =IF(AND(X23="L",Z22=" "),1,IF(X23="L",Z22+1,0)) -> 0 | AA23: =IF(AND($W$9>0,$W$9 <28,Z23<$W$9),IF(X23="L",AA22+1,IF(AND(X23="W",AA22>2),AA22-2,IF(AND(X23="W",AA22<=2,),1,AA22))),AA22) -> 0 | AB23: =IF(OR(Y23=" ",Z23>$W$9),0,INDEX($AH$11:$AI$50,AA23,2)) -> 0 | AC23: =IF(OR(X23=" ",X23="L"),0,AB22*3) -> 0 | AD23: =AD22-AB23+AC23 -> 0 | AF23: 13 | AG23: 0 | AH23: 13 | AI23: 5
A24: =A23+1 -> 14 | B24: =Data!B24 -> 22 | D24: =IF($B24=0,0,IF(AND($B24>0,$B24<13),1,IF(AND($B24>12,$B24<25),2,3))) -> 2 | E24: =IF(B24=0,0,IF(MOD(B24,3)=1,"A",IF(MOD(B24,3),"B","C"))) -> A | G24: =IF(AND(D23<>0,D24<>0,D24=D23,H23=" "),"T"," ") -> T | H24: =IF(I23=" "," ",IF(D24=I23,"W","L")) | I24: =IF(AND(G24="T",H24=" "),D24,IF(AND(G24=" ",H24="L"),D24," ")) -> 2 | J24: =IF(I24=" ",0,J23+1) -> 1 | K24: =IF(J24=0,0,INDEX($AF$11:$AG$50,J24,2)) -> 1 | L24: =IF(OR(H24=" ",H24="L"),0,K23*3) -> 0 | M24: =M23-K24+L24 -> -1 | O24: =IF(AND(E23<>0,E24<>0,E24=E23,P23=" "),"T"," ") -> T | P24: =IF(Q23=" "," ",IF(E24=Q23,"W","L")) | Q24: =IF(AND(O24="T",P24=" "),E24,IF(AND(O24=" ",P24="L"),E24," ")) -> A | R24: =IF(Q24=" ",0,R23+1) -> 1 | S24: =IF(R24=0,0,INDEX($AF$11:$AG$50,R24,2)) -> 1 | T24: =IF(OR(P24=" ",P24="L"),0,S23*3) -> 0 | U24: =U23-S24+T24 -> 5 | W24: =IF(AND(D23<>0,D24<>0,D24=D23,H23=" "),"T"," ") -> T | X24: =IF(Y23=" "," ",IF(D24=Y23,"W","L")) | Y24: =IF(AND(W24="T",X24=" "),D24,IF(AND(W24=" ",X24="L"),D24," ")) -> 2 | Z24: =IF(AND(X24="L",Z23=" "),1,IF(X24="L",Z23+1,0)) -> 0 | AA24: =IF(AND($W$9>0,$W$9 <28,Z24<$W$9),IF(X24="L",AA23+1,IF(AND(X24="W",AA23>2),AA23-2,IF(AND(X24="W",AA23<=2,),1,AA23))),AA23) -> 0 | AB24: =IF(OR(Y24=" ",Z24>$W$9),0,INDEX($AH$11:$AI$50,AA24,2)) -> 5 | AC24: =IF(OR(X24=" ",X24="L"),0,AB23*3) -> 0 | AD24: =AD23-AB24+AC24 -> -5 | AF24: 14 | AG24: 0 | AH24: 14 | AI24: 5
... A50: =A49+1 -> 40 | B50: =Data!B50 -> 17 | D50: =IF($B50=0,0,IF(AND($B50>0,$B50<13),1,IF(AND($B50>12,$B50<25),2,3))) -> 2 | E50: =IF(B50=0,0,IF(MOD(B50,3)=1,"A",IF(MOD(B50,3),"B","C"))) -> B | G50: =IF(AND(D49<>0,D50<>0,D50=D49,H49=" "),"T"," ") | H50: =IF(I49=" "," ",IF(D50=I49,"W","L")) -> L | I50: =IF(AND(G50="T",H50=" "),D50,IF(AND(G50=" ",H50="L"),D50," ")) -> 2 | J50: =IF(I50=" ",0,J49+1) -> 4 | K50: =IF(J50=0,0,INDEX($AF$11:$AG$50,J50,2)) -> 4 | L50: =IF(OR(H50=" ",H50="L"),0,K49*3) -> 0 | M50: =M49-K50+L50 -> -6 | O50: =IF(AND(E49<>0,E50<>0,E50=E49,P49=" "),"T"," ") | P50: =IF(Q49=" "," ",IF(E50=Q49,"W","L")) | Q50: =IF(AND(O50="T",P50=" "),E50,IF(AND(O50=" ",P50="L"),E50," ")) | R50: =IF(Q50=" ",0,R49+1) -> 0 | S50: =IF(R50=0,0,INDEX($AF$11:$AG$50,R50,2)) -> 0 | T50: =IF(OR(P50=" ",P50="L"),0,S49*3) -> 0 | U50: =U49-S50+T50 -> -12 | W50: =IF(AND(D49<>0,D50<>0,D50=D49,H49=" "),"T"," ") | X50: =IF(Y49=" "," ",IF(D50=Y49,"W","L")) -> L | Y50: =IF(AND(W50="T",X50=" "),D50,IF(AND(W50=" ",X50="L"),D50," ")) -> 2 | Z50: =IF(AND(X50="L",Z49=" "),1,IF(X50="L",Z49+1,0)) -> 3 | AA50: =IF(AND($W$9>0,$W$9 <28,Z50<$W$9),IF(X50="L",AA49+1,IF(AND(X50="W",AA49>2),AA49-2,IF(AND(X50="W",AA49<=2,),1,AA49))),AA49) -> 9 | AB50: =IF(OR(Y50=" ",Z50>$W$9),0,INDEX($AH$11:$AI$50,AA50,2)) -> 3 | AC50: =IF(OR(X50=" ",X50="L"),0,AB49*3) -> 0 | AD50: =AD49-AB50+AC50 -> -21 | AF50: 40 | AG50: 0 | AH50: 40 | AI50: 9
A51: =A50+1 -> 41 | B51: =Data!B51 -> 8 | D51: =IF($B51=0,0,IF(AND($B51>0,$B51<13),1,IF(AND($B51>12,$B51<25),2,3))) -> 1 | E51: =IF(B51=0,0,IF(MOD(B51,3)=1,"A",IF(MOD(B51,3),"B","C"))) -> B | G51: =IF(AND(D50<>0,D51<>0,D51=D50,H50=" "),"T"," ") | H51: =IF(I50=" "," ",IF(D51=I50,"W","L")) -> L | I51: =IF(AND(G51="T",H51=" "),D51,IF(AND(G51=" ",H51="L"),D51," ")) -> 1 | J51: =IF(I51=" ",0,J50+1) -> 5 | K51: =IF(J51=0,0,INDEX($AF$11:$AG$50,J51,2)) -> 6 | L51: =IF(OR(H51=" ",H51="L"),0,K50*3) -> 0 | M51: =M50-K51+L51 -> -12 | O51: =IF(AND(E50<>0,E51<>0,E51=E50,P50=" "),"T"," ") -> T | P51: =IF(Q50=" "," ",IF(E51=Q50,"W","L")) | Q51: =IF(AND(O51="T",P51=" "),E51,IF(AND(O51=" ",P51="L"),E51," ")) -> B | R51: =IF(Q51=" ",0,R50+1) -> 1 | S51: =IF(R51=0,0,INDEX($AF$11:$AG$50,R51,2)) -> 1 | T51: =IF(OR(P51=" ",P51="L"),0,S50*3) -> 0 | U51: =U50-S51+T51 -> -13 | W51: =IF(AND(D50<>0,D51<>0,D51=D50,H50=" "),"T"," ") | X51: =IF(Y50=" "," ",IF(D51=Y50,"W","L")) -> L | Y51: =IF(AND(W51="T",X51=" "),D51,IF(AND(W51=" ",X51="L"),D51," ")) -> 1 | Z51: =IF(AND(X51="L",Z50=" "),1,IF(X51="L",Z50+1,0)) -> 4 | AA51: =IF(AND($W$9>0,$W$9 <28,Z51<$W$9),IF(X51="L",AA50+1,IF(AND(X51="W",AA50>2),AA50-2,IF(AND(X51="W",AA50<=2,),1,AA50))),AA50) -> 10 | AB51: =IF(OR(Y51=" ",Z51>$W$9),0,INDEX($AH$11:$AI$50,AA51,2)) -> 4 | AC51: =IF(OR(X51=" ",X51="L"),0,AB50*3) -> 0 | AD51: =AD50-AB51+AC51 -> -25
A52: =A51+1 -> 42 | B52: =Data!B52 -> 29 | D52: =IF($B52=0,0,IF(AND($B52>0,$B52<13),1,IF(AND($B52>12,$B52<25),2,3))) -> 3 | E52: =IF(B52=0,0,IF(MOD(B52,3)=1,"A",IF(MOD(B52,3),"B","C"))) -> B | G52: =IF(AND(D51<>0,D52<>0,D52=D51,H51=" "),"T"," ") | H52: =IF(I51=" "," ",IF(D52=I51,"W","L")) -> L | I52: =IF(AND(G52="T",H52=" "),D52,IF(AND(G52=" ",H52="L"),D52," ")) -> 3 | J52: =IF(I52=" ",0,J51+1) -> 6 | K52: =IF(J52=0,0,INDEX($AF$11:$AG$50,J52,2)) -> 9 | L52: =IF(OR(H52=" ",H52="L"),0,K51*3) -> 0 | M52: =M51-K52+L52 -> -21 | O52: =IF(AND(E51<>0,E52<>0,E52=E51,P51=" "),"T"," ") -> T | P52: =IF(Q51=" "," ",IF(E52=Q51,"W","L")) -> W | Q52: =IF(AND(O52="T",P52=" "),E52,IF(AND(O52=" ",P52="L"),E52," ")) | R52: =IF(Q52=" ",0,R51+1) -> 0 | S52: =IF(R52=0,0,INDEX($AF$11:$AG$50,R52,2)) -> 0 | T52: =IF(OR(P52=" ",P52="L"),0,S51*3) -> 3 | U52: =U51-S52+T52 -> -10 | W52: =IF(AND(D51<>0,D52<>0,D52=D51,H51=" "),"T"," ") | X52: =IF(Y51=" "," ",IF(D52=Y51,"W","L")) -> L | Y52: =IF(AND(W52="T",X52=" "),D52,IF(AND(W52=" ",X52="L"),D52," ")) -> 3 | Z52: =IF(AND(X52="L",Z51=" "),1,IF(X52="L",Z51+1,0)) -> 5 | AA52: =IF(AND($W$9>0,$W$9 <28,Z52<$W$9),IF(X52="L",AA51+1,IF(AND(X52="W",AA51>2),AA51-2,IF(AND(X52="W",AA51<=2,),1,AA51))),AA51) -> 11 | AB52: =IF(OR(Y52=" ",Z52>$W$9),0,INDEX($AH$11:$AI$50,AA52,2)) -> 4 | AC52: =IF(OR(X52=" ",X52="L"),0,AB51*3) -> 0 | AD52: =AD51-AB52+AC52 -> -29
A53: =A52+1 -> 43 | B53: =Data!B53 -> 24 | D53: =IF($B53=0,0,IF(AND($B53>0,$B53<13),1,IF(AND($B53>12,$B53<25),2,3))) -> 2 | E53: =IF(B53=0,0,IF(MOD(B53,3)=1,"A",IF(MOD(B53,3),"B","C"))) -> C | G53: =IF(AND(D52<>0,D53<>0,D53=D52,H52=" "),"T"," ") | H53: =IF(I52=" "," ",IF(D53=I52,"W","L")) -> L | I53: =IF(AND(G53="T",H53=" "),D53,IF(AND(G53=" ",H53="L"),D53," ")) -> 2 | J53: =IF(I53=" ",0,J52+1) -> 7 | K53: =IF(J53=0,0,INDEX($AF$11:$AG$50,J53,2)) -> 0 | L53: =IF(OR(H53=" ",H53="L"),0,K52*3) -> 0 | M53: =M52-K53+L53 -> -21 | O53: =IF(AND(E52<>0,E53<>0,E53=E52,P52=" "),"T"," ") | P53: =IF(Q52=" "," ",IF(E53=Q52,"W","L")) | Q53: =IF(AND(O53="T",P53=" "),E53,IF(AND(O53=" ",P53="L"),E53," ")) | R53: =IF(Q53=" ",0,R52+1) -> 0 | S53: =IF(R53=0,0,INDEX($AF$11:$AG$50,R53,2)) -> 0 | T53: =IF(OR(P53=" ",P53="L"),0,S52*3) -> 0 | U53: =U52-S53+T53 -> -10 | W53: =IF(AND(D52<>0,D53<>0,D53=D52,H52=" "),"T"," ") | X53: =IF(Y52=" "," ",IF(D53=Y52,"W","L")) -> L | Y53: =IF(AND(W53="T",X53=" "),D53,IF(AND(W53=" ",X53="L"),D53," ")) -> 2 | Z53: =IF(AND(X53="L",Z52=" "),1,IF(X53="L",Z52+1,0)) -> 6 | AA53: =IF(AND($W$9>0,$W$9 <28,Z53<$W$9),IF(X53="L",AA52+1,IF(AND(X53="W",AA52>2),AA52-2,IF(AND(X53="W",AA52<=2,),1,AA52))),AA52) -> 12 | AB53: =IF(OR(Y53=" ",Z53>$W$9),0,INDEX($AH$11:$AI$50,AA53,2)) -> 4 | AC53: =IF(OR(X53=" ",X53="L"),0,AB52*3) -> 0 | AD53: =AD52-AB53+AC53 -> -33
A54: =A53+1 -> 44 | B54: =Data!B54 -> 11 | D54: =IF($B54=0,0,IF(AND($B54>0,$B54<13),1,IF(AND($B54>12,$B54<25),2,3))) -> 1 | E54: =IF(B54=0,0,IF(MOD(B54,3)=1,"A",IF(MOD(B54,3),"B","C"))) -> B | G54: =IF(AND(D53<>0,D54<>0,D54=D53,H53=" "),"T"," ") | H54: =IF(I53=" "," ",IF(D54=I53,"W","L")) -> L | I54: =IF(AND(G54="T",H54=" "),D54,IF(AND(G54=" ",H54="L"),D54," ")) -> 1 | J54: =IF(I54=" ",0,J53+1) -> 8 | K54: =IF(J54=0,0,INDEX($AF$11:$AG$50,J54,2)) -> 0 | L54: =IF(OR(H54=" ",H54="L"),0,K53*3) -> 0 | M54: =M53-K54+L54 -> -21 | O54: =IF(AND(E53<>0,E54<>0,E54=E53,P53=" "),"T"," ") | P54: =IF(Q53=" "," ",IF(E54=Q53,"W","L")) | Q54: =IF(AND(O54="T",P54=" "),E54,IF(AND(O54=" ",P54="L"),E54," ")) | R54: =IF(Q54=" ",0,R53+1) -> 0 | S54: =IF(R54=0,0,INDEX($AF$11:$AG$50,R54,2)) -> 0 | T54: =IF(OR(P54=" ",P54="L"),0,S53*3) -> 0 | U54: =U53-S54+T54 -> -10 | W54: =IF(AND(D53<>0,D54<>0,D54=D53,H53=" "),"T"," ") | X54: =IF(Y53=" "," ",IF(D54=Y53,"W","L")) -> L | Y54: =IF(AND(W54="T",X54=" "),D54,IF(AND(W54=" ",X54="L"),D54," ")) -> 1 | Z54: =IF(AND(X54="L",Z53=" "),1,IF(X54="L",Z53+1,0)) -> 7 | AA54: =IF(AND($W$9>0,$W$9 <28,Z54<$W$9),IF(X54="L",AA53+1,IF(AND(X54="W",AA53>2),AA53-2,IF(AND(X54="W",AA53<=2,),1,AA53))),AA53) -> 13 | AB54: =IF(OR(Y54=" ",Z54>$W$9),0,INDEX($AH$11:$AI$50,AA54,2)) -> 5 | AC54: =IF(OR(X54=" ",X54="L"),0,AB53*3) -> 0 | AD54: =AD53-AB54+AC54 -> -38
A55: =A54+1 -> 45 | B55: =Data!B55 -> 20 | D55: =IF($B55=0,0,IF(AND($B55>0,$B55<13),1,IF(AND($B55>12,$B55<25),2,3))) -> 2 | E55: =IF(B55=0,0,IF(MOD(B55,3)=1,"A",IF(MOD(B55,3),"B","C"))) -> B | G55: =IF(AND(D54<>0,D55<>0,D55=D54,H54=" "),"T"," ") | H55: =IF(I54=" "," ",IF(D55=I54,"W","L")) -> L | I55: =IF(AND(G55="T",H55=" "),D55,IF(AND(G55=" ",H55="L"),D55," ")) -> 2 | J55: =IF(I55=" ",0,J54+1) -> 9 | K55: =IF(J55=0,0,INDEX($AF$11:$AG$50,J55,2)) -> 0 | L55: =IF(OR(H55=" ",H55="L"),0,K54*3) -> 0 | M55: =M54-K55+L55 -> -21 | O55: =IF(AND(E54<>0,E55<>0,E55=E54,P54=" "),"T"," ") -> T | P55: =IF(Q54=" "," ",IF(E55=Q54,"W","L")) | Q55: =IF(AND(O55="T",P55=" "),E55,IF(AND(O55=" ",P55="L"),E55," ")) -> B | R55: =IF(Q55=" ",0,R54+1) -> 1 | S55: =IF(R55=0,0,INDEX($AF$11:$AG$50,R55,2)) -> 1 | T55: =IF(OR(P55=" ",P55="L"),0,S54*3) -> 0 | U55: =U54-S55+T55 -> -11 | W55: =IF(AND(D54<>0,D55<>0,D55=D54,H54=" "),"T"," ") | X55: =IF(Y54=" "," ",IF(D55=Y54,"W","L")) -> L | Y55: =IF(AND(W55="T",X55=" "),D55,IF(AND(W55=" ",X55="L"),D55," ")) -> 2 | Z55: =IF(AND(X55="L",Z54=" "),1,IF(X55="L",Z54+1,0)) -> 8 | AA55: =IF(AND($W$9>0,$W$9 <28,Z55<$W$9),IF(X55="L",AA54+1,IF(AND(X55="W",AA54>2),AA54-2,IF(AND(X55="W",AA54<=2,),1,AA54))),AA54) -> 14 | AB55: =IF(OR(Y55=" ",Z55>$W$9),0,INDEX($AH$11:$AI$50,AA55,2)) -> 5 | AC55: =IF(OR(X55=" ",X55="L"),0,AB54*3) -> 0 | AD55: =AD54-AB55+AC55 -> -43
A56: =A55+1 -> 46 | B56: =Data!B56 -> 35 | D56: =IF($B56=0,0,IF(AND($B56>0,$B56<13),1,IF(AND($B56>12,$B56<25),2,3))) -> 3 | E56: =IF(B56=0,0,IF(MOD(B56,3)=1,"A",IF(MOD(B56,3),"B","C"))) -> B | G56: =IF(AND(D55<>0,D56<>0,D56=D55,H55=" "),"T"," ") | H56: =IF(I55=" "," ",IF(D56=I55,"W","L")) -> L | I56: =IF(AND(G56="T",H56=" "),D56,IF(AND(G56=" ",H56="L"),D56," ")) -> 3 | J56: =IF(I56=" ",0,J55+1) -> 10 | K56: =IF(J56=0,0,INDEX($AF$11:$AG$50,J56,2)) -> 0 | L56: =IF(OR(H56=" ",H56="L"),0,K55*3) -> 0 | M56: =M55-K56+L56 -> -21 | O56: =IF(AND(E55<>0,E56<>0,E56=E55,P55=" "),"T"," ") -> T | P56: =IF(Q55=" "," ",IF(E56=Q55,"W","L")) -> W | Q56: =IF(AND(O56="T",P56=" "),E56,IF(AND(O56=" ",P56="L"),E56," ")) | R56: =IF(Q56=" ",0,R55+1) -> 0 | S56: =IF(R56=0,0,INDEX($AF$11:$AG$50,R56,2)) -> 0 | T56: =IF(OR(P56=" ",P56="L"),0,S55*3) -> 3 | U56: =U55-S56+T56 -> -8 | W56: =IF(AND(D55<>0,D56<>0,D56=D55,H55=" "),"T"," ") | X56: =IF(Y55=" "," ",IF(D56=Y55,"W","L")) -> L | Y56: =IF(AND(W56="T",X56=" "),D56,IF(AND(W56=" ",X56="L"),D56," ")) -> 3 | Z56: =IF(AND(X56="L",Z55=" "),1,IF(X56="L",Z55+1,0)) -> 9 | AA56: =IF(AND($W$9>0,$W$9 <28,Z56<$W$9),IF(X56="L",AA55+1,IF(AND(X56="W",AA55>2),AA55-2,IF(AND(X56="W",AA55<=2,),1,AA55))),AA55) -> 15 | AB56: =IF(OR(Y56=" ",Z56>$W$9),0,INDEX($AH$11:$AI$50,AA56,2)) -> 5 | AC56: =IF(OR(X56=" ",X56="L"),0,AB55*3) -> 0 | AD56: =AD55-AB56+AC56 -> -48
