Workbook

Sheet Sheet1
A1: Spin | C1: Dozen | E1: Dozen 1 | F1: Dozen 2 | G1: Dozen 3
A2: 25 | C2: =IF($A2="","",VLOOKUP($A2,Sheet2!$A$1:$B$38,2,FALSE)) -> 3 | E2: =IF(C2="","",IF(C2=1,"x","")) | F2: =IF(C2="","",IF(C2=2,"x","")) | G2: =IF(C2="","",IF(C2=3,"x","")) -> x
A3: 7 | C3: =IF($A3="","",VLOOKUP($A3,Sheet2!$A$1:$B$38,2,FALSE)) -> 1 | E3: =IF(C3="","",IF(C3=1,"x","")) -> x | F3: =IF(C3="","",IF(C3=2,"x","")) | G3: =IF(C3="","",IF(C3=3,"x",""))
A4: 8 | C4: =IF($A4="","",VLOOKUP($A4,Sheet2!$A$1:$B$38,2,FALSE)) -> 1 | E4: =IF(C4="","",IF(C4=1,"x","")) -> x | F4: =IF(C4="","",IF(C4=2,"x","")) | G4: =IF(C4="","",IF(C4=3,"x",""))
A5: 12 | C5: =IF($A5="","",VLOOKUP($A5,Sheet2!$A$1:$B$38,2,FALSE)) -> 1 | E5: =IF(C5="","",IF(C5=1,"x","")) -> x | F5: =IF(C5="","",IF(C5=2,"x","")) | G5: =IF(C5="","",IF(C5=3,"x",""))
A6: 0 | C6: =IF($A6="","",VLOOKUP($A6,Sheet2!$A$1:$B$38,2,FALSE)) -> 0 | E6: =IF(C6="","",IF(C6=1,"x","")) | F6: =IF(C6="","",IF(C6=2,"x","")) | G6: =IF(C6="","",IF(C6=3,"x",""))
A7: 33 | C7: =IF($A7="","",VLOOKUP($A7,Sheet2!$A$1:$B$38,2,FALSE)) -> 3 | E7: =IF(C7="","",IF(C7=1,"x","")) | F7: =IF(C7="","",IF(C7=2,"x","")) | G7: =IF(C7="","",IF(C7=3,"x","")) -> x
A8: 36 | C8: =IF($A8="","",VLOOKUP($A8,Sheet2!$A$1:$B$38,2,FALSE)) -> 3 | E8: =IF(C8="","",IF(C8=1,"x","")) | F8: =IF(C8="","",IF(C8=2,"x","")) | G8: =IF(C8="","",IF(C8=3,"x","")) -> x
A9: 1 | C9: =IF($A9="","",VLOOKUP($A9,Sheet2!$A$1:$B$38,2,FALSE)) -> 1 | E9: =IF(C9="","",IF(C9=1,"x","")) -> x | F9: =IF(C9="","",IF(C9=2,"x","")) | G9: =IF(C9="","",IF(C9=3,"x",""))
A10: 12 | C10: =IF($A10="","",VLOOKUP($A10,Sheet2!$A$1:$B$38,2,FALSE)) -> 1 | E10: =IF(C10="","",IF(C10=1,"x","")) -> x | F10: =IF(C10="","",IF(C10=2,"x","")) | G10: =IF(C10="","",IF(C10=3,"x",""))
A11: 18 | C11: =IF($A11="","",VLOOKUP($A11,Sheet2!$A$1:$B$38,2,FALSE)) -> 2 | E11: =IF(C11="","",IF(C11=1,"x","")) | F11: =IF(C11="","",IF(C11=2,"x","")) -> x | G11: =IF(C11="","",IF(C11=3,"x",""))
A12: 19 | C12: =IF($A12="","",VLOOKUP($A12,Sheet2!$A$1:$B$38,2,FALSE)) -> 2 | E12: =IF(C12="","",IF(C12=1,"x","")) | F12: =IF(C12="","",IF(C12=2,"x","")) -> x | G12: =IF(C12="","",IF(C12=3,"x",""))
A13: 16 | C13: =IF($A13="","",VLOOKUP($A13,Sheet2!$A$1:$B$38,2,FALSE)) -> 2 | E13: =IF(C13="","",IF(C13=1,"x","")) | F13: =IF(C13="","",IF(C13=2,"x","")) -> x | G13: =IF(C13="","",IF(C13=3,"x",""))
... A21: 11 | C21: =IF($A21="","",VLOOKUP($A21,Sheet2!$A$1:$B$38,2,FALSE)) -> 1 | E21: =IF(C21="","",IF(C21=1,"x","")) -> x | F21: =IF(C21="","",IF(C21=2,"x","")) | G21: =IF(C21="","",IF(C21=3,"x",""))
C22: =IF($A22="","",VLOOKUP($A22,Sheet2!$A$1:$B$38,2,FALSE)) | E22: =IF(C22="","",IF(C22=1,"x","")) | F22: =IF(C22="","",IF(C22=2,"x","")) | G22: =IF(C22="","",IF(C22=3,"x",""))
C23: =IF($A23="","",VLOOKUP($A23,Sheet2!$A$1:$B$38,2,FALSE)) | E23: =IF(C23="","",IF(C23=1,"x","")) | F23: =IF(C23="","",IF(C23=2,"x","")) | G23: =IF(C23="","",IF(C23=3,"x",""))
C24: =IF($A24="","",VLOOKUP($A24,Sheet2!$A$1:$B$38,2,FALSE)) | E24: =IF(C24="","",IF(C24=1,"x","")) | F24: =IF(C24="","",IF(C24=2,"x","")) | G24: =IF(C24="","",IF(C24=3,"x",""))
C25: =IF($A25="","",VLOOKUP($A25,Sheet2!$A$1:$B$38,2,FALSE)) | E25: =IF(C25="","",IF(C25=1,"x","")) | F25: =IF(C25="","",IF(C25=2,"x","")) | G25: =IF(C25="","",IF(C25=3,"x",""))
C26: =IF($A26="","",VLOOKUP($A26,Sheet2!$A$1:$B$38,2,FALSE)) | E26: =IF(C26="","",IF(C26=1,"x","")) | F26: =IF(C26="","",IF(C26=2,"x","")) | G26: =IF(C26="","",IF(C26=3,"x",""))
C27: =IF($A27="","",VLOOKUP($A27,Sheet2!$A$1:$B$38,2,FALSE)) | E27: =IF(C27="","",IF(C27=1,"x","")) | F27: =IF(C27="","",IF(C27=2,"x","")) | G27: =IF(C27="","",IF(C27=3,"x",""))
C28: =IF($A28="","",VLOOKUP($A28,Sheet2!$A$1:$B$38,2,FALSE)) | E28: =IF(C28="","",IF(C28=1,"x","")) | F28: =IF(C28="","",IF(C28=2,"x","")) | G28: =IF(C28="","",IF(C28=3,"x",""))
C29: =IF($A29="","",VLOOKUP($A29,Sheet2!$A$1:$B$38,2,FALSE)) | E29: =IF(C29="","",IF(C29=1,"x","")) | F29: =IF(C29="","",IF(C29=2,"x","")) | G29: =IF(C29="","",IF(C29=3,"x",""))
C30: =IF($A30="","",VLOOKUP($A30,Sheet2!$A$1:$B$38,2,FALSE)) | E30: =IF(C30="","",IF(C30=1,"x","")) | F30: =IF(C30="","",IF(C30=2,"x","")) | G30: =IF(C30="","",IF(C30=3,"x",""))
C31: =IF($A31="","",VLOOKUP($A31,Sheet2!$A$1:$B$38,2,FALSE)) | E31: =IF(C31="","",IF(C31=1,"x","")) | F31: =IF(C31="","",IF(C31=2,"x","")) | G31: =IF(C31="","",IF(C31=3,"x",""))
C32: =IF($A32="","",VLOOKUP($A32,Sheet2!$A$1:$B$38,2,FALSE)) | E32: =IF(C32="","",IF(C32=1,"x","")) | F32: =IF(C32="","",IF(C32=2,"x","")) | G32: =IF(C32="","",IF(C32=3,"x",""))
C33: =IF($A33="","",VLOOKUP($A33,Sheet2!$A$1:$B$38,2,FALSE)) | E33: =IF(C33="","",IF(C33=1,"x","")) | F33: =IF(C33="","",IF(C33=2,"x","")) | G33: =IF(C33="","",IF(C33=3,"x",""))
... C585: =IF($A585="","",VLOOKUP($A585,Sheet2!$A$1:$B$38,2,FALSE)) | E585: =IF(C585="","",IF(C585=1,"x","")) | F585: =IF(C585="","",IF(C585=2,"x","")) | G585: =IF(C585="","",IF(C585=3,"x",""))

Sheet Sheet2
A1: Number | B1: Dozen
A2: 1 | B2: 1
A3: 2 | B3: 1
A4: 3 | B4: 1
A5: 4 | B5: 1
A6: 5 | B6: 1
A7: 6 | B7: 1
A8: 7 | B8: 1
A9: 8 | B9: 1
A10: 9 | B10: 1
A11: 10 | B11: 1
A12: 11 | B12: 1
A13: 12 | B13: 1
... A38: 0 | B38: 0

Sheet Sheet3
